Workbook

Sheet Feuil1
B1: Janv. | C1: Fév. | D1: Mars | E1: Avril | F1: Mai | G1: Juin
A2: A | B2: =IF(VLOOKUP(A2,Feuil2!A1:E14,2,FALSE)="","",VLOOKUP(A2,Feuil2!A1:E14,2,FALSE)) -> 2 | C2: =IF(VLOOKUP(A2,Feuil2!A1:E14,3,FALSE)="","",VLOOKUP(A2,Feuil2!A1:E14,3,FALSE)) | D2: =IF(VLOOKUP(A2,Feuil2!A1:E14,4,FALSE)="","",VLOOKUP(A2,Feuil2!A1:E14,4,FALSE)) | E2: =IF(VLOOKUP(A2,Feuil2!A1:E14,5,FALSE)="","",VLOOKUP(A2,Feuil2!A1:E14,5,FALSE)) | F2: =IF(VLOOKUP(A2,Feuil2!A1:G14,6,FALSE)="","",VLOOKUP(A2,Feuil2!A1:G14,6,FALSE)) | G2: =IF(VLOOKUP(A2,Feuil2!A1:H14,7,FALSE)="","",VLOOKUP(A2,Feuil2!A1:H14,7,FALSE))
A3: B | B3: =IF(VLOOKUP(A3,Feuil2!A2:E15,2,FALSE)="","",VLOOKUP(A3,Feuil2!A2:E15,2,FALSE)) -> 4 | C3: =IF(VLOOKUP(A3,Feuil2!A2:E15,3,FALSE)="","",VLOOKUP(A3,Feuil2!A2:E15,3,FALSE)) | D3: =IF(VLOOKUP(A3,Feuil2!A2:E15,4,FALSE)="","",VLOOKUP(A3,Feuil2!A2:E15,4,FALSE)) | E3: =IF(VLOOKUP(A3,Feuil2!A2:E15,5,FALSE)="","",VLOOKUP(A3,Feuil2!A2:E15,5,FALSE)) -> 6 | F3: =IF(VLOOKUP(A3,Feuil2!A2:G15,6,FALSE)="","",VLOOKUP(A3,Feuil2!A2:G15,6,FALSE)) | G3: =IF(VLOOKUP(A3,Feuil2!A2:H15,7,FALSE)="","",VLOOKUP(A3,Feuil2!A2:H15,7,FALSE))
A4: C | B4: =IF(VLOOKUP(A4,Feuil2!A3:E16,2,FALSE)="","",VLOOKUP(A4,Feuil2!A3:E16,2,FALSE)) -> 5 | C4: =IF(VLOOKUP(A4,Feuil2!A3:E16,3,FALSE)="","",VLOOKUP(A4,Feuil2!A3:E16,3,FALSE)) | D4: =IF(VLOOKUP(A4,Feuil2!A3:E16,4,FALSE)="","",VLOOKUP(A4,Feuil2!A3:E16,4,FALSE)) -> 5 | E4: =IF(VLOOKUP(A4,Feuil2!A3:E16,5,FALSE)="","",VLOOKUP(A4,Feuil2!A3:E16,5,FALSE)) | F4: =IF(VLOOKUP(A4,Feuil2!A3:G16,6,FALSE)="","",VLOOKUP(A4,Feuil2!A3:G16,6,FALSE)) | G4: =IF(VLOOKUP(A4,Feuil2!A3:H16,7,FALSE)="","",VLOOKUP(A4,Feuil2!A3:H16,7,FALSE))
A5: D | B5: =IF(VLOOKUP(A5,Feuil2!A4:E17,2,FALSE)="","",VLOOKUP(A5,Feuil2!A4:E17,2,FALSE)) | C5: =IF(VLOOKUP(A5,Feuil2!A4:E17,3,FALSE)="","",VLOOKUP(A5,Feuil2!A4:E17,3,FALSE)) | D5: =IF(VLOOKUP(A5,Feuil2!A4:E17,4,FALSE)="","",VLOOKUP(A5,Feuil2!A4:E17,4,FALSE)) | E5: =IF(VLOOKUP(A5,Feuil2!A4:E17,5,FALSE)="","",VLOOKUP(A5,Feuil2!A4:E17,5,FALSE)) | F5: =IF(VLOOKUP(A5,Feuil2!A4:G17,6,FALSE)="","",VLOOKUP(A5,Feuil2!A4:G17,6,FALSE)) | G5: =IF(VLOOKUP(A5,Feuil2!A4:H17,7,FALSE)="","",VLOOKUP(A5,Feuil2!A4:H17,7,FALSE))
A6: E | B6: =IF(VLOOKUP(A6,Feuil2!A5:E18,2,FALSE)="","",VLOOKUP(A6,Feuil2!A5:E18,2,FALSE)) | C6: =IF(VLOOKUP(A6,Feuil2!A5:E18,3,FALSE)="","",VLOOKUP(A6,Feuil2!A5:E18,3,FALSE)) | D6: =IF(VLOOKUP(A6,Feuil2!A5:E18,4,FALSE)="","",VLOOKUP(A6,Feuil2!A5:E18,4,FALSE)) | E6: =IF(VLOOKUP(A6,Feuil2!A5:E18,5,FALSE)="","",VLOOKUP(A6,Feuil2!A5:E18,5,FALSE)) -> 7 | F6: =IF(VLOOKUP(A6,Feuil2!A5:G18,6,FALSE)="","",VLOOKUP(A6,Feuil2!A5:G18,6,FALSE)) | G6: =IF(VLOOKUP(A6,Feuil2!A5:H18,7,FALSE)="","",VLOOKUP(A6,Feuil2!A5:H18,7,FALSE))
A7: F | B7: =IF(VLOOKUP(A7,Feuil2!A6:E19,2,FALSE)="","",VLOOKUP(A7,Feuil2!A6:E19,2,FALSE)) | C7: =IF(VLOOKUP(A7,Feuil2!A6:E19,3,FALSE)="","",VLOOKUP(A7,Feuil2!A6:E19,3,FALSE)) | D7: =IF(VLOOKUP(A7,Feuil2!A6:E19,4,FALSE)="","",VLOOKUP(A7,Feuil2!A6:E19,4,FALSE)) | E7: =IF(VLOOKUP(A7,Feuil2!A6:E19,5,FALSE)="","",VLOOKUP(A7,Feuil2!A6:E19,5,FALSE)) | F7: =IF(VLOOKUP(A7,Feuil2!A6:G19,6,FALSE)="","",VLOOKUP(A7,Feuil2!A6:G19,6,FALSE)) | G7: =IF(VLOOKUP(A7,Feuil2!A6:H19,7,FALSE)="","",VLOOKUP(A7,Feuil2!A6:H19,7,FALSE))
A8: G | B8: =IF(VLOOKUP(A8,Feuil2!A7:E20,2,FALSE)="","",VLOOKUP(A8,Feuil2!A7:E20,2,FALSE)) | C8: =IF(VLOOKUP(A8,Feuil2!A7:E20,3,FALSE)="","",VLOOKUP(A8,Feuil2!A7:E20,3,FALSE)) | D8: =IF(VLOOKUP(A8,Feuil2!A7:E20,4,FALSE)="","",VLOOKUP(A8,Feuil2!A7:E20,4,FALSE)) | E8: =IF(VLOOKUP(A8,Feuil2!A7:E20,5,FALSE)="","",VLOOKUP(A8,Feuil2!A7:E20,5,FALSE)) | F8: =IF(VLOOKUP(A8,Feuil2!A7:G20,6,FALSE)="","",VLOOKUP(A8,Feuil2!A7:G20,6,FALSE)) | G8: =IF(VLOOKUP(A8,Feuil2!A7:H20,7,FALSE)="","",VLOOKUP(A8,Feuil2!A7:H20,7,FALSE))
A9: H | B9: =IF(VLOOKUP(A9,Feuil2!A8:E21,2,FALSE)="","",VLOOKUP(A9,Feuil2!A8:E21,2,FALSE)) | C9: =IF(VLOOKUP(A9,Feuil2!A8:E21,3,FALSE)="","",VLOOKUP(A9,Feuil2!A8:E21,3,FALSE)) | D9: =IF(VLOOKUP(A9,Feuil2!A8:E21,4,FALSE)="","",VLOOKUP(A9,Feuil2!A8:E21,4,FALSE)) | E9: =IF(VLOOKUP(A9,Feuil2!A8:E21,5,FALSE)="","",VLOOKUP(A9,Feuil2!A8:E21,5,FALSE)) | F9: =IF(VLOOKUP(A9,Feuil2!A8:G21,6,FALSE)="","",VLOOKUP(A9,Feuil2!A8:G21,6,FALSE)) | G9: =IF(VLOOKUP(A9,Feuil2!A8:H21,7,FALSE)="","",VLOOKUP(A9,Feuil2!A8:H21,7,FALSE))
A10: I | B10: =IF(VLOOKUP(A10,Feuil2!A9:E22,2,FALSE)="","",VLOOKUP(A10,Feuil2!A9:E22,2,FALSE)) | C10: =IF(VLOOKUP(A10,Feuil2!A9:E22,3,FALSE)="","",VLOOKUP(A10,Feuil2!A9:E22,3,FALSE)) | D10: =IF(VLOOKUP(A10,Feuil2!A9:E22,4,FALSE)="","",VLOOKUP(A10,Feuil2!A9:E22,4,FALSE)) | E10: =IF(VLOOKUP(A10,Feuil2!A9:E22,5,FALSE)="","",VLOOKUP(A10,Feuil2!A9:E22,5,FALSE)) | F10: =IF(VLOOKUP(A10,Feuil2!A9:G22,6,FALSE)="","",VLOOKUP(A10,Feuil2!A9:G22,6,FALSE)) | G10: =IF(VLOOKUP(A10,Feuil2!A9:H22,7,FALSE)="","",VLOOKUP(A10,Feuil2!A9:H22,7,FALSE))
A11: J | B11: =IF(VLOOKUP(A11,Feuil2!A10:E23,2,FALSE)="","",VLOOKUP(A11,Feuil2!A10:E23,2,FALSE)) | C11: =IF(VLOOKUP(A11,Feuil2!A10:E23,3,FALSE)="","",VLOOKUP(A11,Feuil2!A10:E23,3,FALSE)) | D11: =IF(VLOOKUP(A11,Feuil2!A10:E23,4,FALSE)="","",VLOOKUP(A11,Feuil2!A10:E23,4,FALSE)) | E11: =IF(VLOOKUP(A11,Feuil2!A10:E23,5,FALSE)="","",VLOOKUP(A11,Feuil2!A10:E23,5,FALSE)) | F11: =IF(VLOOKUP(A11,Feuil2!A10:G23,6,FALSE)="","",VLOOKUP(A11,Feuil2!A10:G23,6,FALSE)) | G11: =IF(VLOOKUP(A11,Feuil2!A10:H23,7,FALSE)="","",VLOOKUP(A11,Feuil2!A10:H23,7,FALSE))
A12: K | B12: =IF(VLOOKUP(A12,Feuil2!A11:E24,2,FALSE)="","",VLOOKUP(A12,Feuil2!A11:E24,2,FALSE)) | C12: =IF(VLOOKUP(A12,Feuil2!A11:E24,3,FALSE)="","",VLOOKUP(A12,Feuil2!A11:E24,3,FALSE)) | D12: =IF(VLOOKUP(A12,Feuil2!A11:E24,4,FALSE)="","",VLOOKUP(A12,Feuil2!A11:E24,4,FALSE)) | E12: =IF(VLOOKUP(A12,Feuil2!A11:E24,5,FALSE)="","",VLOOKUP(A12,Feuil2!A11:E24,5,FALSE)) | F12: =IF(VLOOKUP(A12,Feuil2!A11:G24,6,FALSE)="","",VLOOKUP(A12,Feuil2!A11:G24,6,FALSE)) | G12: =IF(VLOOKUP(A12,Feuil2!A11:H24,7,FALSE)="","",VLOOKUP(A12,Feuil2!A11:H24,7,FALSE))
A13: L | B13: =IF(VLOOKUP(A13,Feuil2!A12:E25,2,FALSE)="","",VLOOKUP(A13,Feuil2!A12:E25,2,FALSE)) | C13: =IF(VLOOKUP(A13,Feuil2!A12:E25,3,FALSE)="","",VLOOKUP(A13,Feuil2!A12:E25,3,FALSE)) | D13: =IF(VLOOKUP(A13,Feuil2!A12:E25,4,FALSE)="","",VLOOKUP(A13,Feuil2!A12:E25,4,FALSE)) | E13: =IF(VLOOKUP(A13,Feuil2!A12:E25,5,FALSE)="","",VLOOKUP(A13,Feuil2!A12:E25,5,FALSE)) | F13: =IF(VLOOKUP(A13,Feuil2!A12:G25,6,FALSE)="","",VLOOKUP(A13,Feuil2!A12:G25,6,FALSE)) | G13: =IF(VLOOKUP(A13,Feuil2!A12:H25,7,FALSE)="","",VLOOKUP(A13,Feuil2!A12:H25,7,FALSE))
A14: M | B14: =IF(VLOOKUP(A14,Feuil2!A13:E26,2,FALSE)="","",VLOOKUP(A14,Feuil2!A13:E26,2,FALSE)) | C14: =IF(VLOOKUP(A14,Feuil2!A13:E26,3,FALSE)="","",VLOOKUP(A14,Feuil2!A13:E26,3,FALSE)) | D14: =IF(VLOOKUP(A14,Feuil2!A13:E26,4,FALSE)="","",VLOOKUP(A14,Feuil2!A13:E26,4,FALSE)) | E14: =IF(VLOOKUP(A14,Feuil2!A13:E26,5,FALSE)="","",VLOOKUP(A14,Feuil2!A13:E26,5,FALSE)) | F14: =IF(VLOOKUP(A14,Feuil2!A13:G26,6,FALSE)="","",VLOOKUP(A14,Feuil2!A13:G26,6,FALSE)) | G14: =IF(VLOOKUP(A14,Feuil2!A13:H26,7,FALSE)="","",VLOOKUP(A14,Feuil2!A13:H26,7,FALSE))
A16: Traitement des déchets (t) | B16: Janv. | C16: Fév. | D16: Mars | E16: Avril | F16: Mai | G16: Juin
A17: Tonnage valorisation matière (t) | B17: =IF(SUM(B2,B4,B6,B8,B10,B12,B14)=0,0,SUM(B2,B4,B6,B8,B10,B12,B14)) -> 7 | C17: =IF(SUM(C2,C4,C6,C8,C10,C12,C14)=0,0,SUM(C2,C4,C6,C8,C10,C12,C14)) -> 0 | D17: =IF(SUM(D2,D4,D6,D8,D10,D12,D14)=0,0,SUM(D2,D4,D6,D8,D10,D12,D14)) -> 5 | E17: =IF(SUM(E2,E4,E6,E8,E10,E12,E14)=0,0,SUM(E2,E4,E6,E8,E10,E12,E14)) -> 7 | F17: =IF(SUM(F2,F4,F6,F8,F10,F12,F14)=0,0,SUM(F2,F4,F6,F8,F10,F12,F14)) -> 0 | G17: =IF(SUM(G2,G4,G6,G8,G10,G12,G14)=0,0,SUM(G2,G4,G6,G8,G10,G12,G14)) -> 0
A18: Tonnage valorisation énergie (t) | B18: =IF(SUM(B3,B5,B7,B9,B11,B13,B15)=0,0,SUM(B3,B5,B7,B9,B11,B13,B15)) -> 4 | C18: =IF(SUM(C3,C5,C7,C9,C11,C13,C15)=0,0,SUM(C3,C5,C7,C9,C11,C13,C15)) -> 0 | D18: =IF(SUM(D3,D5,D7,D9,D11,D13,D15)=0,0,SUM(D3,D5,D7,D9,D11,D13,D15)) -> 0 | E18: =IF(SUM(E3,E5,E7,E9,E11,E13,E15)=0,0,SUM(E3,E5,E7,E9,E11,E13,E15)) -> 6 | F18: =IF(SUM(F3,F5,F7,F9,F11,F13,F15)=0,0,SUM(F3,F5,F7,F9,F11,F13,F15)) -> 0 | G18: =IF(SUM(G3,G5,G7,G9,G11,G13,G15)=0,0,SUM(G3,G5,G7,G9,G11,G13,G15)) -> 0

Sheet Feuil2
B1: Janv. | C1: Fév. | D1: Mars | E1: Avril | F1: Mai | G1: Juin
A2: A | B2: 2
A3: B | B3: 4 | E3: 6
A4: C | B4: 5 | D4: 5
A5: D
A6: E | E6: 7
A7: F
A8: G
A9: H
A10: I
A11: J
A12: K
A13: L
A14: M

Sheet Feuil3
