Workbook

Sheet Sem40
A1: =FeuilPrec(A1) -> #NAME?
C8: 43009
B12: supposons que nous sommes le 1er octobre
B16: Semaine | E16: Mois | H16: Trimestre
B17: Ventes | C17: 4000 | E17: Ventes | F17: =C17 -> 4000 | H17: Ventes | I17: =C17 -> 4000
B18: Achats | C18: 3000 | E18: Achats | F18: =C18 -> 3000 | H18: Achats | I18: =C18 -> 3000
F19: =C19 -> 0 | I19: =C19 -> 0
B20: Bénéf Brut | C20: =C17-C18 -> 1000 | E20: Bénéf Brut | F20: =C20 -> 1000 | H20: Bénéf Brut | I20: =C20 -> 1000
B21: Pourcentage | C21: =(C17-C18)/C18 -> 0.33333333 | E21: Pourcentage | F21: =C21 -> 0.33333333 | H21: Pourcentage | I21: =C21 -> 0.33333333
B24: les montants sont les mêmes car nous sommes en début de mois et en début du 4ième trimestre
B25: passons à l'onglet suivant ====>

Sheet Sem41
A1: =FeuilPrec(A1) -> #NAME?
C8: 43016
B12: supposons que nous sommes le 1er octobre
B16: Semaine | E16: Mois | H16: Trimestre
B17: Ventes | C17: 5000 | E17: Ventes | F17: ='Sem40'!F17+'Sem41'!C17 -> 9000 | H17: Ventes | I17: ='Sem40'!I17+'Sem41'!C17 -> 9000
B18: Achats | C18: 3250 | E18: Achats | F18: ='Sem40'!F18+'Sem41'!C18 -> 6250 | H18: Achats | I18: ='Sem40'!I18+'Sem41'!C18 -> 6250
F19: ='Sem40'!F19+'Sem41'!C19 -> 0 | I19: =C19 -> 0
B20: Bénéf Brut | C20: =C17-C18 -> 1750 | E20: Bénéf Brut | F20: ='Sem40'!F20+'Sem41'!C20 -> 2750 | H20: Bénéf Brut | I20: =I17-I18 -> 2750
B21: Pourcentage | C21: =(C17-C18)/C18 -> 0.53846154 | E21: Pourcentage | F21: =(F17-F18)/F18 -> 0.44 | H21: Pourcentage | I21: =(I17-I18)/I18 -> 0.44
B24: Les montants ont été cumulés. Voyez la formiule employée en F17, c'est cette formule que je voudrais automatiser
