Workbook
Name aerochauffeur: 'Base de donnée'!$A$17:$A$19
Name miseenplace: 'Base de donnée'!$B$27:$B$30
Name miseenservice: 'Base de donnée'!$B$33:$B$36
Name Puissance: 'Base de donnée'!$A$2:$A$8
Name Tuyau: 'Base de donnée'!$A$22:$A$24
Name Uranus: 'Base de donnée'!$A$12:$A$14

Sheet Formulaire
A1: Décompte chaufferie mobile
A2: ot: | D2: rt:
A3: Lieux:
A4: Libellé | C4: Date départ | D4: Date retour | E4: Nb de jours de location
A5: Chaufferie mobile loué | B5: Aucun | C5: 41334 | D5: 41618 | E5: =($D5-$C5)+1 -> 285 | H5: Cases à menu déroulant
A6: uranus loué | B6: Aucun | C6: 41334 | D6: 41366 | E6: =($D6-$C6)+1 -> 33 | H6: Case à modifier
A7: Aérochuaffeur Loué | B7: Aucun | C7: 41334 | D7: 41426 | E7: =($D7-$C7)+1 -> 93 | H7: Case automatique
A8: Tuyau supplémentaire | B8: Aucun | C8: 41334 | D8: 41426 | E8: =$D$5-$C$5 -> 284
A9: Chiffrage Seti | B9: Nb jours | C9: Prix / jours | D9: Rabais | E9: Total
A10: 30 premier jours | B10: =IF($E$5>30,30,$E$5) -> 30 | C10: =VLOOKUP($B$5,'Base de donnée'!A2:D8,2) -> 0 | D10: 0 | E10: =($B10*$C10)*(1-$D10) -> 0
A11: 30 suivant | B11: =IF($E5>60,30,$E5-$B10) -> 30 | C11: =VLOOKUP($B$5,'Base de donnée'!$A$2:$D$8,3) -> 0 | D11: 0 | E11: =($B11*$C11)*(1-$D11) -> 0
A12: solde | B12: =IF($E$5>61,$E$5-$B10-$B11,0) -> 225 | C12: =VLOOKUP($B$5,'Base de donnée'!$A$2:$D$8,4) -> 0 | D12: 0 | E12: =($B12*$C12)*(1-$D12) -> 0
D13: Total 1 | E13: =SUM(E10:E12) -> 0
A14: Chiffrage uranus | B14: Nb jours | C14: Prix / jours | D14: Rabais | E14: Total
A15: 30 premier jours | B15: =IF($E6>30,30,$E6) -> 30 | C15: =VLOOKUP($B$6,'Base de donnée'!A12:D14,2) -> 0 | D15: 0 | E15: =($B15*$C15)*(1-$D15) -> 0
A16: 30 suivant | B16: =IF($E$6>60,30,$E6-$B15) -> 3 | C16: =VLOOKUP($B$6,'Base de donnée'!A12:D14,3) -> 0 | D16: 0 | E16: =($B16*$C16)*(1-$D16) -> 0
A17: solde | B17: =IF($E6>61,$E6-$B15-$B16,0) -> 0 | C17: =VLOOKUP($B$6,'Base de donnée'!A12:D14,4) -> 0 | D17: 0 | E17: =($B17*$C17)*(1-$D17) -> 0
D18: Total 2 | E18: =SUM(E15:E17) -> 0
A19: Chiffrage aérochauffeur | B19: Nb jours | C19: Prix / jours | D19: Rabais | E19: Total
A20: 30 premier jours | B20: =IF($E7>30,30,$E7) -> 30 | C20: =VLOOKUP($B$7,'Base de donnée'!$A$17:$D$19,2) -> 0 | D20: 0 | E20: =($B20*$C20)*(1-$D20) -> 0
A21: 30 suivant | B21: =IF($E$7>60,30,$E7-$B20) -> 30 | C21: =VLOOKUP($B$7,'Base de donnée'!$A$17:$D$19,3) -> 0 | D21: 0 | E21: =($B21*$C21)*(1-$D21) -> 0
A22: solde | B22: =IF($E7>61,$E7-$B20-$B21,0) -> 33 | C22: =VLOOKUP($B$7,'Base de donnée'!$A$17:$D$19,4) -> 0 | D22: 0 | E22: =($B22*$C22)*(1-$D22) -> 0
D23: Total 3 | E23: =SUM(E20:E22) -> 0
A24: Chiffrage tuyau | B24: Nb jours | C24: Prix / jours | D24: Rabais | E24: Total
A25: 30 premier jours | B25: =IF($E8>30,30,$E8) -> 30 | C25: =VLOOKUP($B$8,'Base de donnée'!$A$22:$D$24,2) -> 0 | D25: 0 | E25: =($B25*$C25)*(1-$D25) -> 0
A26: 30 suivant | B26: =IF($E$8>60,30,$E8-$B25) -> 30 | C26: =VLOOKUP($B$8,'Base de donnée'!$A$22:$D$24,3) -> 0 | D26: 0 | E26: =($B26*$C26)*(1-$D26) -> 0
A27: solde | B27: =IF($E8>61,$E8-$B25-$B26,0) -> 224 | C27: =VLOOKUP($B$8,'Base de donnée'!$A$22:$D$24,4) -> 0 | D27: 0 | E27: =($B27*$C27)*(1-$D27) -> 0
D28: Total 4 | E28: =SUM(E25:E27) -> 0
A29: Divers | B29: Nb | C29: Prix / unité | D29: Rabais | E29: Total
A30: Livrison. mazout | B30: 0 | C30: 1.1 | D30: 0 | E30: =B30*C30 -> 0
A31: Reprise de mazout | B31: 0 | C31: -1 | D31: 0 | E31: =B31*C31 -> 0
B32: 0 | C32: 0 | D32: 0 | E32: =B32*C32 -> 0
B33: 0 | C33: 0 | D33: 0 | E33: =B33*C33 -> 0
B34: 0 | C34: 0 | D34: 0 | E34: =B34*C34 -> 0
B35: 0 | C35: 0 | D35: 0 | E35: =B35*C35 -> 0
B36: 0 | C36: 0 | D36: 0 | E36: =B36*C36 -> 0
D37: Total 5 | E37: =SUM(E30:E36) -> 0
A38: Forfait livraison | B38: Nb | C38: Prix / unité | D38: Rabais | E38: Total
A39: Mise en place | B39: 1 | C39: 0 | D39: 0 | E39: =B39*C39 -> 0
A40: Mise en service | B40: 1 | C40: 0 | D40: 0 | E40: =B40*C40 -> 0
D41: Total 6 | E41: =SUM(E39:E40) -> 0
C42: sous-total | E42: =E13+E18+E23+E28+E37+E41 -> 0
C43: Tva | D43: 0.08 | E43: =E42*D43 -> 0
C44: Total | D44: =ROUND((E42+E43),0) -> 0

Sheet Base de donnée
A1: Puissance Seti | B1: Prix/Jours 30PJ | C1: Prix /jours 30 SV | D1: prix7jours solde
A2: Aucun | B2: 0 | C2: 0 | D2: 0
A3: 22 | B3: 100 | C3: 90 | D3: 80
A4: 55 | B4: 100 | C4: 90 | D4: 80
A5: 120 | B5: 100 | C5: 90 | D5: 80
A6: 200 | B6: 100 | C6: 90 | D6: 80
A7: 350 | B7: 100 | C7: 90 | D7: 80
A8: 800 | B8: 100 | C8: 90 | D8: 80
A11: Puissance Uranus | B11: Prix/Jours 30PJ | C11: Prix /jours 30 SV | D11: prix/jours soldé
A12: Aucun | B12: 0 | C12: 0 | D12: 0
A13: 100 | B13: 100 | C13: 90 | D13: 80
A14: 200 | B14: 100 | C14: 90 | D14: 80
A16: aerochauffeur | B16: Prix/Jours 30PJ | C16: Prix /jours 30 SV | D16: prix/jours soldé
A17: Aucun | B17: 0 | C17: 0 | D17: 0
A18: 100 | B18: 100 | C18: 90 | D18: 80
A19: 200 | B19: 100 | C19: 90 | D19: 80
A21: Tuyau par 2x10m | B21: Prix/Jours 30PJ | C21: Prix /jours 30 SV | D21: prix/jours solde
A22: Aucun | B22: 0 | C22: 0 | D22: 0
A23: 1 | B23: 7 | C23: 6 | D23: 5
A24: 2 | B24: 7 | C24: 6 | D24: 5
A26: mise en place | B26: Prix/unité
B27: 0
B28: 100
B29: 200
B30: 300
A32: Mise en service | B32: prix/unité
B33: 0
B34: 100
B35: 200
B36: 300

Sheet Feuil3
