Workbook

Sheet Imputation
A1: OUI/NON | B1: Ordre Emetteur | C1: EOTP Emetteur | D1: Nature comptable | E1: Montant | F1: Ordre Récepteur | G1: EOTP Récepteur | H1: Région
B2: =SAP!AA2 -> YNB350021 | C2: =SAP!AB2 -> R-AJBB-03-BSS3 | D2: =SAP!AC2 -> 604107 | E2: =SAP!AD2 -> 1980 | F2: =SAP!AE2 -> YNB300727 | G2: =SAP!AF2 | H2: =SAP!AG2 -> WST
B3: =SAP!AA3 -> YNB350931 | C3: =SAP!AB3 -> R-AJBB-03-BSS3 | D3: =SAP!AC3 -> 604118 | E3: =SAP!AD3 -> 207 | F3: =SAP!AE3 -> YNB372311 | G3: =SAP!AF3 | H3: =SAP!AG3 -> WST
B4: =SAP!AA4 -> YMC351006 | C4: =SAP!AB4 -> R-AJLL-02-BSS3 | D4: =SAP!AC4 -> 604118 | E4: =SAP!AD4 -> 207 | F4: =SAP!AE4 -> 369128 | G4: =SAP!AF4 | H4: =SAP!AG4 -> WST
B5: =SAP!AA5 -> YMC353219 | C5: =SAP!AB5 -> R-AJLL-02-BSS3 | D5: =SAP!AC5 -> 604118 | E5: =SAP!AD5 -> 207 | F5: =SAP!AE5 -> 368827 | G5: =SAP!AF5 | H5: =SAP!AG5 -> WST

Sheet SAP
A1: Imput | B1: Nat | C1: Dési | D1: Elément | E1: Document | F1: Nom | G1: 315215 | H1: Util | I1: Groupe | J1: Nº | K1: Pér | L1: Article | M1: Texte | N1: Val | O1: Date cpt. | P1: Date | R1: Retraitement | S1: CI | T1: Imputation | U1: Comparaison | V1: cartes | W1: site associée | X1: Typologie d'Ordre | AA1: Ordre Emetteur | AB1: EOTP Emetteur | AC1: Nature Comptable | AD1: Montant | AE1: Ordre Recepteur | AF1: EOTP Récepteur | AG1: Région rattachement
A2: ORD YNB350021 | B2: 604107 | C2: $ | D2: R-AJBB-03-BSS3 | E2: 4501662672 | F2: AXIONE | G2: 340064 | H2: WS_OCR_SR_CR | I2: MOC_MOE | J2: R312170 | K2: 004 | M2: VDR C.1.U MOC DE BASE UNIQUE | N2: 1980 | O2: 41369 | P2: 41369 | R2: R312170 | S2: 300727 | T2: R-AJBB-03-BSS3 | W2: BTS | X2: YNB | AA2: YNB350021 | AB2: R-AJBB-03-BSS3 | AC2: 604107 | AD2: 1980 | AE2: YNB300727 | AG2: WST
A3: ORD YNB350931 | B3: 604118 | C3: $ | D3: R-AJBB-03-BSS3 | E3: 4501674564 | F3: ELAN | G3: 358016 | H3: WS_OCR_SR_CR | I3: HONO_AUT | J3: R312188 | K3: 004 | M3: PP | N3: 207 | O3: 41369 | P3: 41369 | R3: R312188 | S3: 372311 | T3: R-AJBB-03-BSS3 | W3: BTS | X3: YNB | AA3: YNB350931 | AB3: R-AJBB-03-BSS3 | AC3: 604118 | AD3: 207 | AE3: YNB372311 | AG3: WST
A4: ORD YMC351006 | B4: 604118 | C4: $ | D4: R-AJLL-02-BSS3 | E4: 4501671341 | F4: ELAN | G4: 316211 | H4: WS_OCR_SR_CR | I4: HONO_AUT | J4: A288409 | K4: 004 | M4: PP | N4: 207 | O4: 41369 | P4: 41369 | R4: A288409 | S4: 369128 | T4: R-AJLL-02-BSS3 | W4: CEL | AA4: YMC351006 | AB4: R-AJLL-02-BSS3 | AC4: 604118 | AD4: 207 | AE4: 369128 | AG4: WST
A5: ORD YMC353219 | B5: 604118 | C5: $ | D5: R-AJLL-02-BSS3 | E5: 4501671341 | F5: ELAN | G5: 353989 | H5: WS_OCR_SR_CR | I5: HONO_AUT | J5: A288424 | K5: 004 | M5: PP | N5: 207 | O5: 41369 | P5: 41369 | R5: A288424 | S5: 368827 | T5: R-AJLL-02-BSS3 | W5: CEL | AA5: YMC353219 | AB5: R-AJLL-02-BSS3 | AC5: 604118 | AD5: 207 | AE5: 368827 | AG5: WST

Sheet Feuil3
