Workbook

Sheet Mode d'emploi
B2: Ce classeur est un "modèle", et il est enragistré sous ce nom.
B3: La première chose à faire quand on l'ouvre pour l'utiliser, c'est de faire "enregistrer sous", avant toute autre opération : le modèle est ainsi réutilisable
B4: La seconde chose à faire, c'est d'ouvrir la feuille "EMPLOYÉES", et, tout en haut dans la case rouge, inscrire la date du 1er jour du mois que l'on souhaite afficher
B5: Toutes les dates, tous les numéros de semaine, tous les noms des jours s'inscrivent alors automatiquement dans toutes les feuilles du classeur.
B6: Il ne faut jamais les modifier à la main, en aucune manière : effacement de fonctions, classeur inutilisable !

Sheet EMPLOYÉES
C1: PLANNING DU MOIS DE | H1: 41395
N2: =SUM(N5:N35) -> 0 | O2: =SUM(O5:O35) -> 0 | P2: =SUM(P5:P35) -> 0
C3: Jour | E3: Khanh | F3: Thao | I3: Laurence | J3: Hélène | K3: M-Noëlle | L3: Béatrice | M3: Jacqueline | O3: Restauration | Q3: Pique-nique | S3: CHAMBRES
N4: ptdj | O4: Midi | P4: Soir
A5: S | B5: =WEEKNUM(C5,2) -> 18 | C5: =H1 -> 41395 | N5: ='TOTAUX EFFECTIFS'!C13 -> 0 | O5: ='TOTAUX EFFECTIFS'!D13 -> 0 | P5: ='TOTAUX EFFECTIFS'!E13 -> 0
A6: S | B6: =WEEKNUM(C6,2) -> 18 | C6: =C5+1 -> 41396 | N6: ='TOTAUX EFFECTIFS'!F13 -> 0 | O6: ='TOTAUX EFFECTIFS'!G13 -> 0 | P6: ='TOTAUX EFFECTIFS'!H13 -> 0
A7: S | B7: =WEEKNUM(C7,2) -> 18 | C7: =C6+1 -> 41397 | N7: ='TOTAUX EFFECTIFS'!I13 -> 0 | O7: ='TOTAUX EFFECTIFS'!J13 -> 0 | P7: ='TOTAUX EFFECTIFS'!K13 -> 0
A8: S | B8: =WEEKNUM(C8,2) -> 18 | C8: =C7+1 -> 41398 | N8: ='TOTAUX EFFECTIFS'!L13 -> 0 | O8: ='TOTAUX EFFECTIFS'!M13 -> 0 | P8: ='TOTAUX EFFECTIFS'!N13 -> 0
A9: S | B9: =WEEKNUM(C9,2) -> 18 | C9: =C8+1 -> 41399 | N9: ='TOTAUX EFFECTIFS'!O13 -> 0 | O9: ='TOTAUX EFFECTIFS'!P13 -> 0 | P9: ='TOTAUX EFFECTIFS'!Q13 -> 0
A10: S | B10: =WEEKNUM(C10,2) -> 19 | C10: =C9+1 -> 41400 | N10: ='TOTAUX EFFECTIFS'!R13 -> 0 | O10: ='TOTAUX EFFECTIFS'!S13 -> 0 | P10: ='TOTAUX EFFECTIFS'!T13 -> 0
A11: S | B11: =WEEKNUM(C11,2) -> 19 | C11: =C10+1 -> 41401 | N11: ='TOTAUX EFFECTIFS'!U13 -> 0 | O11: ='TOTAUX EFFECTIFS'!V13 -> 0 | P11: ='TOTAUX EFFECTIFS'!W13 -> 0
A12: S | B12: =WEEKNUM(C12,2) -> 19 | C12: =C11+1 -> 41402 | N12: ='TOTAUX EFFECTIFS'!C28 -> 0 | O12: ='TOTAUX EFFECTIFS'!D28 -> 0 | P12: ='TOTAUX EFFECTIFS'!E28 -> 0
A13: S | B13: =WEEKNUM(C13,2) -> 19 | C13: =C12+1 -> 41403 | N13: ='TOTAUX EFFECTIFS'!F28 -> 0 | O13: ='TOTAUX EFFECTIFS'!G28 -> 0 | P13: ='TOTAUX EFFECTIFS'!H28 -> 0
A14: S | B14: =WEEKNUM(C14,2) -> 19 | C14: =C13+1 -> 41404 | N14: ='TOTAUX EFFECTIFS'!I28 -> 0 | O14: ='TOTAUX EFFECTIFS'!J28 -> 0 | P14: ='TOTAUX EFFECTIFS'!K28 -> 0
A15: S | B15: =WEEKNUM(C15,2) -> 19 | C15: =C14+1 -> 41405 | N15: ='TOTAUX EFFECTIFS'!L28 -> 0 | O15: ='TOTAUX EFFECTIFS'!M28 -> 0 | P15: ='TOTAUX EFFECTIFS'!N28 -> 0
A16: S | B16: =WEEKNUM(C16,2) -> 19 | C16: =C15+1 -> 41406 | N16: ='TOTAUX EFFECTIFS'!O28 -> 0 | O16: ='TOTAUX EFFECTIFS'!P28 -> 0 | P16: ='TOTAUX EFFECTIFS'!Q28 -> 0
A17: S | B17: =WEEKNUM(C17,2) -> 20 | C17: =C16+1 -> 41407 | N17: ='TOTAUX EFFECTIFS'!R28 -> 0 | O17: ='TOTAUX EFFECTIFS'!S28 -> 0 | P17: ='TOTAUX EFFECTIFS'!T28 -> 0
A18: S | B18: =WEEKNUM(C18,2) -> 20 | C18: =C17+1 -> 41408 | N18: ='TOTAUX EFFECTIFS'!U28 -> 0 | O18: ='TOTAUX EFFECTIFS'!V28 -> 0 | P18: ='TOTAUX EFFECTIFS'!W28 -> 0
A19: S | B19: =WEEKNUM(C19,2) -> 20 | C19: =C18+1 -> 41409 | N19: ='TOTAUX EFFECTIFS'!C43 -> 0 | O19: ='TOTAUX EFFECTIFS'!D43 -> 0 | P19: ='TOTAUX EFFECTIFS'!E43 -> 0
A20: S | B20: =WEEKNUM(C20,2) -> 20 | C20: =C19+1 -> 41410 | N20: ='TOTAUX EFFECTIFS'!F43 -> 0 | O20: ='TOTAUX EFFECTIFS'!G43 -> 0 | P20: ='TOTAUX EFFECTIFS'!H43 -> 0
A21: S | B21: =WEEKNUM(C21,2) -> 20 | C21: =C20+1 -> 41411 | N21: ='TOTAUX EFFECTIFS'!I43 -> 0 | O21: ='TOTAUX EFFECTIFS'!J43 -> 0 | P21: ='TOTAUX EFFECTIFS'!K43 -> 0
A22: S | B22: =WEEKNUM(C22,2) -> 20 | C22: =C21+1 -> 41412 | N22: ='TOTAUX EFFECTIFS'!L43 -> 0 | O22: ='TOTAUX EFFECTIFS'!M43 -> 0 | P22: ='TOTAUX EFFECTIFS'!N43 -> 0
A23: S | B23: =WEEKNUM(C23,2) -> 20 | C23: =C22+1 -> 41413 | N23: ='TOTAUX EFFECTIFS'!O43 -> 0 | O23: ='TOTAUX EFFECTIFS'!P43 -> 0 | P23: ='TOTAUX EFFECTIFS'!Q43 -> 0
A24: S | B24: =WEEKNUM(C24,2) -> 21 | C24: =C23+1 -> 41414 | N24: ='TOTAUX EFFECTIFS'!R43 -> 0 | O24: ='TOTAUX EFFECTIFS'!S43 -> 0 | P24: ='TOTAUX EFFECTIFS'!T43 -> 0
A25: S | B25: =WEEKNUM(C25,2) -> 21 | C25: =C24+1 -> 41415 | N25: ='TOTAUX EFFECTIFS'!U43 -> 0 | O25: ='TOTAUX EFFECTIFS'!V43 -> 0 | P25: ='TOTAUX EFFECTIFS'!W43 -> 0
A26: S | B26: =WEEKNUM(C26,2) -> 21 | C26: =C25+1 -> 41416 | N26: ='TOTAUX EFFECTIFS'!C58 -> 0 | O26: ='TOTAUX EFFECTIFS'!D58 -> 0 | P26: ='TOTAUX EFFECTIFS'!E58 -> 0
A27: S | B27: =WEEKNUM(C27,2) -> 21 | C27: =C26+1 -> 41417 | N27: ='TOTAUX EFFECTIFS'!F58 -> 0 | O27: ='TOTAUX EFFECTIFS'!G58 -> 0 | P27: ='TOTAUX EFFECTIFS'!H58 -> 0
A28: S | B28: =WEEKNUM(C28,2) -> 21 | C28: =C27+1 -> 41418 | N28: ='TOTAUX EFFECTIFS'!I58 -> 0 | O28: ='TOTAUX EFFECTIFS'!J58 -> 0 | P28: ='TOTAUX EFFECTIFS'!K58 -> 0
A29: S | B29: =WEEKNUM(C29,2) -> 21 | C29: =C28+1 -> 41419 | N29: ='TOTAUX EFFECTIFS'!L58 -> 0 | O29: ='TOTAUX EFFECTIFS'!M58 -> 0 | P29: ='TOTAUX EFFECTIFS'!N58 -> 0
A30: S | B30: =WEEKNUM(C30,2) -> 21 | C30: =C29+1 -> 41420 | N30: ='TOTAUX EFFECTIFS'!O58 -> 0 | O30: ='TOTAUX EFFECTIFS'!P58 -> 0 | P30: ='TOTAUX EFFECTIFS'!Q58 -> 0
A31: S | B31: =WEEKNUM(C31,2) -> 22 | C31: =C30+1 -> 41421 | N31: ='TOTAUX EFFECTIFS'!R58 -> 0 | O31: ='TOTAUX EFFECTIFS'!S58 -> 0 | P31: ='TOTAUX EFFECTIFS'!T58 -> 0
A32: S | B32: =WEEKNUM(C32,2) -> 22 | C32: =C31+1 -> 41422 | N32: ='TOTAUX EFFECTIFS'!U58 -> 0 | O32: ='TOTAUX EFFECTIFS'!V58 -> 0 | P32: ='TOTAUX EFFECTIFS'!W58 -> 0
A33: S | B33: =WEEKNUM(C33,2) -> 22 | C33: =C32+1 -> 41423 | N33: ='TOTAUX EFFECTIFS'!C73 -> 0 | O33: ='TOTAUX EFFECTIFS'!D73 -> 0 | P33: ='TOTAUX EFFECTIFS'!E73 -> 0
A34: S | B34: =WEEKNUM(C34,2) -> 22 | C34: =C33+1 -> 41424 | N34: ='TOTAUX EFFECTIFS'!F73 -> 0 | O34: ='TOTAUX EFFECTIFS'!G73 -> 0 | P34: ='TOTAUX EFFECTIFS'!H73 -> 0
A35: S | B35: =WEEKNUM(C35,2) -> 22 | C35: =C34+1 -> 41425 | N35: ='TOTAUX EFFECTIFS'!I73 -> 0 | O35: ='TOTAUX EFFECTIFS'!J73 -> 0 | P35: ='TOTAUX EFFECTIFS'!K73 -> 0
C37: P | D37: =COUNTIFS(D5:D35,"P") -> 0 | E37: =COUNTIFS(E5:E35,"P") -> 0 | F37: =COUNTIFS(F5:F35,"P") -> 0 | G37: =COUNTIFS(G5:G35,"P") -> 0 | H37: =COUNTIFS(H5:H35,"P") -> 0 | I37: =COUNTIFS(I5:I35,"P") -> 0 | J37: =COUNTIFS(J5:J35,"P") -> 0 | K37: =COUNTIFS(K5:K35,"P") -> 0 | ... M37: =COUNTIFS(M5:M35,"P") -> 0
C38: RH | D38: =COUNTIFS(D5:D35,"RH") -> 0 | E38: =COUNTIFS(E5:E35,"RH") -> 0 | F38: =COUNTIFS(F5:F35,"RH") -> 0 | G38: =COUNTIFS(G5:G35,"RH") -> 0 | H38: =COUNTIFS(H5:H35,"RH") -> 0 | I38: =COUNTIFS(I5:I35,"RH") -> 0 | J38: =COUNTIFS(J5:J35,"RH") -> 0 | K38: =COUNTIFS(K5:K35,"RH") -> 0 | ... M38: =COUNTIFS(M5:M35,"RH") -> 0
C39: P/Ss | D39: =COUNTIFS(D5:D35,"P/Ss") -> 0 | E39: =COUNTIFS(E5:E35,"P/Ss") -> 0 | F39: =COUNTIFS(F5:F35,"P/Ss") -> 0 | G39: =COUNTIFS(G5:G35,"P/Ss") -> 0 | H39: =COUNTIFS(H5:H35,"P/Ss") -> 0 | I39: =COUNTIFS(I5:I35,"P/Ss") -> 0 | J39: =COUNTIFS(J5:J35,"P/Ss") -> 0 | K39: =COUNTIFS(K5:K35,"P/Ss") -> 0 | ... M39: =COUNTIFS(M5:M35,"P/Ss") -> 0
C40: PSm/s | D40: =COUNTIFS(D5:D35,"PSm/S") -> 0 | E40: =COUNTIFS(E5:E35,"PSm/S") -> 0 | F40: =COUNTIFS(F5:F35,"PSm/S") -> 0 | G40: =COUNTIFS(G5:G35,"PSm/S") -> 0 | H40: =COUNTIFS(H5:H35,"PSm/S") -> 0 | I40: =COUNTIFS(I5:I35,"PSm/S") -> 0 | J40: =COUNTIFS(J5:J35,"PSm/S") -> 0 | K40: =COUNTIFS(K5:K35,"PSm/S") -> 0 | ... M40: =COUNTIFS(M5:M35,"PSm/S") -> 0
C41: PSm | D41: =COUNTIFS(D5:D35,"PSm") -> 0 | E41: =COUNTIFS(E5:E35,"PSm") -> 0 | F41: =COUNTIFS(F5:F35,"PSm") -> 0 | G41: =COUNTIFS(G5:G35,"PSm") -> 0 | H41: =COUNTIFS(H5:H35,"PSm") -> 0 | I41: =COUNTIFS(I5:I35,"PSm") -> 0 | J41: =COUNTIFS(J5:J35,"PSm") -> 0 | K41: =COUNTIFS(K5:K35,"PSm") -> 0 | ... M41: =COUNTIFS(M5:M35,"PSm") -> 0
...

Sheet groupes1
B1: Centre Spirituel Providence | R1: La Pommeraye
B3: mois de : | C3: =M3 -> 41395 | K3: date du : | M3: =EMPLOYÉES!H1 -> 41395 | P3: au | R3: =U6 -> 41401
B4: groupes | I4: semaine | M4: =WEEKNUM(M3,2) -> 18
C5: =C6 -> 41395 | F5: =F6 -> 41396 | I5: =I6 -> 41397 | L5: =L6 -> 41398 | O5: =O6 -> 41399 | R5: =R6 -> 41400 | U5: =U6 -> 41401
C6: =M3 -> 41395 | F6: =$M$3+1 -> 41396 | I6: =$M$3+2 -> 41397 | L6: =$M$3+3 -> 41398 | O6: =$M$3+4 -> 41399 | R6: =$M$3+5 -> 41400 | U6: =$M$3+6 -> 41401
B7: nom : | C7: Pd | D7: M | E7: S | F7: Pd | G7: M | H7: S | I7: Pd | J7: M | K7: S | L7: Pd | M7: M | N7: S | O7: Pd | P7: M | Q7: S | R7: Pd | S7: M | T7: S | U7: Pd | V7: M | W7: S
A9: 1
A10: 2
A11: 3
A12: 4
A13: 5
A14: 6
A15: 7
A16: 8
A17: 9
A18: 10
A19: 11
A20: 12
... A24: 16
B27: total : | C27: =SUM(C9:C26) -> 0 | D27: =SUM(D9:D26) -> 0 | E27: =SUM(E9:E26) -> 0 | F27: =SUM(F9:F26) -> 0 | G27: =SUM(G9:G26) -> 0 | H27: =SUM(H9:H26) -> 0 | I27: =SUM(I9:I26) -> 0 | J27: =SUM(J9:J26) -> 0 | ... W27: =SUM(W9:W26) -> 0
B30: Centre Spirituel Providence | R30: La Pommeraye
B32: mois de : | C32: =M32 -> 41402 | K32: date du : | M32: =M3+7 -> 41402 | P32: au | R32: =M32+7 -> 41409
B33: groupes | I33: semaine | M33: =WEEKNUM(M32,2) -> 19
C34: =C35 -> 41402 | F34: =F35 -> 41403 | I34: =I35 -> 41404 | L34: =L35 -> 41405 | O34: =O35 -> 41406 | R34: =R35 -> 41407 | U34: =U35 -> 41408
C35: =M32 -> 41402 | F35: =$M$32+1 -> 41403 | I35: =$M$32+2 -> 41404 | L35: =$M$32+3 -> 41405 | O35: =$M$32+4 -> 41406 | R35: =$M$32+5 -> 41407 | U35: =$M$32+6 -> 41408
B36: nom : | C36: Pd | D36: M | E36: S | F36: Pd | G36: M | H36: S | I36: Pd | J36: M | K36: S | L36: Pd | M36: M | N36: S | O36: Pd | P36: M | Q36: S | R36: Pd | S36: M | T36: S | U36: Pd | V36: M | W36: S
A38: 1
A39: 2
A40: 3
A41: 4
A42: 5
A43: 6
A44: 7
A45: 8
A46: 9
A47: 10
A48: 11
A49: 12
... A53: 16
B56: total : | C56: =SUM(C38:C55) -> 0 | D56: =SUM(D38:D55) -> 0 | E56: =SUM(E38:E55) -> 0 | F56: =SUM(F38:F55) -> 0 | G56: =SUM(G38:G55) -> 0 | H56: =SUM(H38:H55) -> 0 | I56: =SUM(I38:I55) -> 0 | J56: =SUM(J38:J55) -> 0 | ... W56: =SUM(W38:W55) -> 0
...

Sheet permanents2
B1: Centre Spirituel Diocésain | R1: La Pommeraye
B3: mois de : | C3: =M3 -> 41395 | K3: date du : | M3: =EMPLOYÉES!H1 -> 41395 | P3: au : | R3: =$M3+6 -> 41401
B4: permanents | I4: semaine | M4: =WEEKNUM(M3,2) -> 18
C5: =C6 -> 41395 | F5: =F6 -> 41396 | I5: =I6 -> 41397 | L5: =L6 -> 41398 | O5: =O6 -> 41399 | R5: =R6 -> 0 | U5: =U6 -> 41401
C6: =$M$3 -> 41395 | F6: =$M$3+1 -> 41396 | I6: =$M$3+2 -> 41397 | L6: =$M$3+3 -> 41398 | O6: =$M$3+4 -> 41399 | R6: =$M$5 -> 0 | U6: =$M$3+6 -> 41401
B7: nom : | C7: Pd | D7: M | E7: S | F7: Pd | G7: M | H7: S | I7: Pd | J7: M | K7: S | L7: Pd | M7: M | N7: S | O7: Pd | P7: M | Q7: S | R7: Pd | S7: M | T7: S | U7: Pd | V7: M | W7: S
A9: 1 | B9: CANIOU Mariannick
A10: 2 | B10: CHARLOUX Joëlle
A11: 3 | B11: GOMEZ Lizeth (Régime)
A12: 4 | B12: KAFANDO Marie-Sidonie
A13: 6 | B13: MICHEL Lucienne
A14: 8 | B14: CHEHERE Cécile
A15: 7 | B15: GOHIER Marguerite
A16: 5 | B16: GENIN Dominique
A17: 9 | B17: POUGARY Marie-Claude
A18: 11
A19: 12 | B19: BIZOT Marie-Odile
A20: 13 | B20: CHAUVINEAU Bernadette
A21: 14 | B21: HENNO Michèle (sans sel)
A22: 16 | B22: JEANNETEAU Geneviève
A23: 18 | B23: MARY Agnès
A24: 20 | B24: REAU Marie-Elisée
A25: 22
A26: 23
A27: 24
B28: total :
C29: =SUM(C9:C27) -> 0 | D29: =SUM(D9:D27) -> 0 | E29: =SUM(E9:E27) -> 0 | F29: =SUM(F9:F27) -> 0 | G29: =SUM(G9:G27) -> 0 | H29: =SUM(H9:H27) -> 0 | I29: =SUM(I9:I27) -> 0 | J29: =SUM(J9:J27) -> 0 | ... W29: =SUM(W9:W27) -> 0
B32: Centre Spirituel Diocésain | R32: La Pommeraye
B34: mois de : | C34: =M34 -> 41402 | K34: date du : | M34: =$M3+7 -> 41402 | P34: au : | R34: =$M34+6 -> 41408
B35: permanents | I35: semaine | M35: =WEEKNUM(M34,2) -> 19
C36: =C37 -> 41402 | F36: =F37 -> 41403 | I36: =I37 -> 41404 | L36: =L37 -> 41405 | O36: =O37 -> 41406 | R36: =R37 -> 41407 | U36: =U37 -> 41408
C37: =$M$34 -> 41402 | F37: =$M$34+1 -> 41403 | I37: =$M$34+2 -> 41404 | L37: =$M$34+3 -> 41405 | O37: =$M$34+4 -> 41406 | R37: =$M$34+5 -> 41407 | U37: =$M$34+6 -> 41408
B38: nom : | C38: Pd | D38: M | E38: S | F38: Pd | G38: M | H38: S | I38: Pd | J38: M | K38: S | L38: Pd | M38: M | N38: S | O38: Pd | P38: M | Q38: S | R38: Pd | S38: M | T38: S | U38: Pd | V38: M | W38: S
A40: 1 | B40: =B9 -> CANIOU Mariannick
A41: 2 | B41: =B10 -> CHARLOUX Joëlle
A42: 3 | B42: =B11 -> GOMEZ Lizeth (Régime)
A43: 4 | B43: =B12 -> KAFANDO Marie-Sidonie
A44: 6 | B44: =B13 -> MICHEL Lucienne
A45: 8 | B45: =B14 -> CHEHERE Cécile
A46: 7 | B46: =B15 -> GOHIER Marguerite
...

Sheet passages3
B1: Centre Spirituel Providence | R1: La Pommeraye
B3: mois de : | C3: =M3 -> 41395 | K3: date du : | M3: =EMPLOYÉES!H1 -> 41395 | P3: au : | R3: =M3+6 -> 41401
B4: passage | I4: semaine | M4: =WEEKNUM(M3,2) -> 18
C5: =C6 -> 41395 | F5: =F6 -> 41396 | I5: =I6 -> 41397 | L5: =L6 -> 41398 | O5: =O6 -> 41399 | R5: =R6 -> 41400 | U5: =U6 -> 41401
C6: =$M3 -> 41395 | F6: =$M3+1 -> 41396 | I6: =$M3+2 -> 41397 | L6: =$M3+3 -> 41398 | O6: =$M3+4 -> 41399 | R6: =$M3+5 -> 41400 | U6: =$M3+6 -> 41401
B7: nom : | C7: Pd | D7: M | E7: S | F7: Pd | G7: M | H7: S | I7: Pd | J7: M | K7: S | L7: Pd | M7: M | N7: S | O7: Pd | P7: M | Q7: S | R7: Pd | S7: M | T7: S | U7: Pd | V7: M | W7: S
A9: 1
A10: 2
A11: 3
A12: 4
A13: 5
A14: 6
A15: 7
A16: 8
A17: 9
A18: 10
A19: 11
A20: 12
... A65: 57
B68: total : | C68: =SUM(C9:C65) -> 0 | D68: =SUM(D9:D65) -> 0 | E68: =SUM(E9:E65) -> 0 | F68: =SUM(F9:F65) -> 0 | G68: =SUM(G9:G65) -> 0 | H68: =SUM(H9:H65) -> 0 | I68: =SUM(I9:I65) -> 0 | J68: =SUM(J9:J65) -> 0 | ... W68: =SUM(W9:W65) -> 0
B71: Centre Spirituel Providence | R71: La Pommeraye
B73: mois de : | C73: =M73 -> 41402 | K73: date du : | M73: =$M$3+7 -> 41402 | P73: au : | R73: =M73+6 -> 41408
B74: passage | I74: semaine | M74: =WEEKNUM(M73,2) -> 19
C75: =C76 -> 41402 | F75: =F76 -> 41403 | I75: =I76 -> 41404 | L75: =L76 -> 41405 | O75: =O76 -> 41406 | R75: =R76 -> 41407 | U75: =U76 -> 41408
C76: =$M73 -> 41402 | F76: =$M73+1 -> 41403 | I76: =$M73+2 -> 41404 | L76: =$M73+3 -> 41405 | O76: =$M73+4 -> 41406 | R76: =$M73+5 -> 41407 | U76: =$M73+6 -> 41408
B77: nom : | C77: Pd | D77: M | E77: S | F77: Pd | G77: M | H77: S | I77: Pd | J77: M | K77: S | L77: Pd | M77: M | N77: S | O77: Pd | P77: M | Q77: S | R77: Pd | S77: M | T77: S | U77: Pd | V77: M | W77: S
A79: 1
A80: 2
A81: 3
A82: 4
A83: 5
A84: 6
A85: 7
A86: 8
A87: 9
A88: 10
A89: 11
A90: 12
... A135: 57
B138: total : | C138: =SUM(C79:C135) -> 0 | D138: =SUM(D79:D135) -> 0 | E138: =SUM(E79:E135) -> 0 | F138: =SUM(F79:F135) -> 0 | G138: =SUM(G79:G135) -> 0 | H138: =SUM(H79:H135) -> 0 | I138: =SUM(I79:I135) -> 0 | J138: =SUM(J79:J135) -> 0 | ... W138: =SUM(W79:W135) -> 0
...

Sheet service
B1: Centre Spirituel Providence | R1: La Pommeraye
B3: mois de : | C3: =M3 -> 41395 | K3: date du : | M3: =EMPLOYÉES!H1 -> 41395 | P3: au : | R3: =M3+6 -> 41401
B4: service | I4: semaine | M4: =WEEKNUM(M3,2) -> 18
C5: =C6 -> 41395 | F5: =F6 -> 41396 | I5: =I6 -> 41397 | L5: =L6 -> 41398 | O5: =O6 -> 41399 | R5: =R6 -> 41400 | U5: =U6 -> 41401
C6: =M$3 -> 41395 | F6: =$M$3+1 -> 41396 | I6: =$M$3+2 -> 41397 | L6: =$M$3+3 -> 41398 | O6: =$M$3+4 -> 41399 | R6: =$M$3+5 -> 41400 | U6: =$M$3+6 -> 41401
B7: nom : | C7: Pd | D7: M | E7: S | F7: Pd | G7: M | H7: S | I7: Pd | J7: M | K7: S | L7: Pd | M7: M | N7: S | O7: Pd | P7: M | Q7: S | R7: Pd | S7: M | T7: S | U7: Pd | V7: M | W7: S
A9: 1 | B9: FROGER Marie-Noëlle
A10: 2 | B10: TROTTIER Hélène
A11: 3 | B11: PINEAU Béatrice
A12: 4 | B12: MACE Laurence
A13: 5 | B13: BESSONNEAU Jacqueline
A14: 6
A15: 7
A16: 8
A17: 9
A18: 10
A19: 11
A20: 12
A21: 13
A22: 14
A23: 15
A24: 16
A25: 17
... A32: 24
B34: total : | C34: =SUM(C9:C32) -> 0 | D34: =SUM(D9:D32) -> 0 | E34: =SUM(E9:E32) -> 0 | F34: =SUM(F9:F32) -> 0 | G34: =SUM(G9:G32) -> 0 | H34: =SUM(H9:H32) -> 0 | I34: =SUM(I9:I32) -> 0 | J34: =SUM(J9:J32) -> 0 | ... W34: =SUM(W9:W32) -> 0
B37: Centre Spirituel Providence | R37: La Pommeraye
B39: mois de : | C39: =M39 -> 41402 | K39: date du : | M39: =$M$3+7 -> 41402 | P39: au : | R39: =M39+6 -> 41408
B40: service | I40: semaine | M40: =WEEKNUM(M39,2) -> 19
C41: =C42 -> 41402 | F41: =F42 -> 41403 | I41: =I42 -> 41404 | L41: =L42 -> 41405 | O41: =O42 -> 41406 | R41: =R42 -> 41407 | U41: =U42 -> 41408
C42: =$M39 -> 41402 | F42: =$M39+1 -> 41403 | I42: =$M39+2 -> 41404 | L42: =$M39+3 -> 41405 | O42: =$M39+4 -> 41406 | R42: =$M39+5 -> 41407 | U42: =$M39+6 -> 41408
B43: nom : | C43: Pd | D43: M | E43: S | F43: Pd | G43: M | H43: S | I43: Pd | J43: M | K43: S | L43: Pd | M43: M | N43: S | O43: Pd | P43: M | Q43: S | R43: Pd | S43: M | T43: S | U43: Pd | V43: M | W43: S
A45: 1 | B45: FROGER Marie-Noëlle
A46: 2 | B46: TROTTIER Hélène
A47: 3 | B47: PINEAU Béatrice
A48: 4 | B48: MACE Laurence
A49: 5 | B49: BESSONNEAU Jacqueline
A50: 6
A51: 7
A52: 8
A53: 9
...

Sheet autres
B1: Centre Spirituel Providence | R1: La Pommeraye
B3: mois de : | C3: =M3 -> 41395 | K3: date du : | M3: =EMPLOYÉES!H1 -> 41395 | P3: au : | R3: =M3+6 -> 41401
B4: autres | I4: semaine | M4: =WEEKNUM(M3,2) -> 18
C5: =C6 -> 41395 | F5: =F6 -> 41396 | I5: =I6 -> 41397 | L5: =L6 -> 41398 | O5: =O6 -> 41399 | R5: =R6 -> 41400 | U5: =U6 -> 41401
C6: =$M3 -> 41395 | F6: =$M3+1 -> 41396 | I6: =$M3+2 -> 41397 | L6: =$M3+3 -> 41398 | O6: =$M3+4 -> 41399 | R6: =$M3+5 -> 41400 | U6: =$M3+6 -> 41401
B7: nom : | C7: Pd | D7: M | E7: S | F7: Pd | G7: M | H7: S | I7: Pd | J7: M | K7: S | L7: Pd | M7: M | N7: S | O7: Pd | P7: M | Q7: S | R7: Pd | S7: M | T7: S | U7: Pd | V7: M | W7: S
A9: 1
A10: 2
A11: 3
A12: 4
A13: 5
A14: 6
A15: 7
A16: 8
A17: 9
A18: 10
A19: 11
A20: 12
... A32: 24
B34: total : | C34: =SUM(C9:C32) -> 0 | D34: =SUM(D9:D32) -> 0 | E34: =SUM(E9:E32) -> 0 | F34: =SUM(F9:F32) -> 0 | G34: =SUM(G9:G32) -> 0 | H34: =SUM(H9:H32) -> 0 | I34: =SUM(I9:I32) -> 0 | J34: =SUM(J9:J32) -> 0 | ... W34: =SUM(W9:W32) -> 0
B37: Centre Spirituel Providence | R37: La Pommeraye
B39: mois de : | C39: =M39 -> 41402 | K39: date du : | M39: =M3+7 -> 41402 | P39: au : | R39: =M39+6 -> 41408
B40: autres | I40: semaine | M40: =WEEKNUM(M39,2) -> 19
C41: =C42 -> 41402 | F41: =F42 -> 41403 | I41: =I42 -> 41404 | L41: =L42 -> 41405 | O41: =O42 -> 41406 | R41: =R42 -> 41407 | U41: =U42 -> 41408
C42: =$M39 -> 41402 | F42: =$M39+1 -> 41403 | I42: =$M39+2 -> 41404 | L42: =$M39+3 -> 41405 | O42: =$M39+4 -> 41406 | R42: =$M39+5 -> 41407 | U42: =$M39+6 -> 41408
B43: nom : | C43: Pd | D43: M | E43: S | F43: Pd | G43: M | H43: S | I43: Pd | J43: M | K43: S | L43: Pd | M43: M | N43: S | O43: Pd | P43: M | Q43: S | R43: Pd | S43: M | T43: S | U43: Pd | V43: M | W43: S
A45: 1
A46: 2
A47: 3
A48: 4
A49: 5
A50: 6
A51: 7
A52: 8
A53: 9
A54: 10
A55: 11
A56: 12
... A68: 24
B70: total : | C70: =SUM(C45:C68) -> 0 | D70: =SUM(D45:D68) -> 0 | E70: =SUM(E45:E68) -> 0 | F70: =SUM(F45:F68) -> 0 | G70: =SUM(G45:G68) -> 0 | H70: =SUM(H45:H68) -> 0 | I70: =SUM(I45:I68) -> 0 | J70: =SUM(J45:J68) -> 0 | ... W70: =SUM(W45:W68) -> 0
...

Sheet TOTAUX EFFECTIFS
B1: Centre Spirituel Providence | R1: La Pommeraye
B3: mois de : | C3: =M3 -> 41395 | K3: date du : | M3: =EMPLOYÉES!H1 -> 41395 | P3: au : | R3: =M3+6 -> 41401
B4: effectifs | I4: semaine | M4: =WEEKNUM(M3,2) -> 18
C5: =C6 -> 41395 | F5: =F6 -> 41396 | I5: =I6 -> 41397 | L5: =L6 -> 41398 | O5: =O6 -> 41399 | R5: =R6 -> 41400 | U5: =U6 -> 41401
C6: =$M3 -> 41395 | F6: =$M3+1 -> 41396 | I6: =$M3+2 -> 41397 | L6: =$M3+3 -> 41398 | O6: =$M3+4 -> 41399 | R6: =$M3+5 -> 41400 | U6: =$M3+6 -> 41401
C7: Pd | D7: M | E7: S | F7: Pd | G7: M | H7: S | I7: Pd | J7: M | K7: S | L7: Pd | M7: M | N7: S | O7: Pd | P7: M | Q7: S | R7: Pd | S7: M | T7: S | U7: Pd | V7: M | W7: S
B8: Groupes | C8: =groupes1!C27 -> 0 | D8: =groupes1!D27 -> 0 | E8: =groupes1!E27 -> 0 | F8: =groupes1!F27 -> 0 | G8: =groupes1!G27 -> 0 | H8: =groupes1!H27 -> 0 | I8: =groupes1!I27 -> 0 | J8: =groupes1!J27 -> 0 | ... W8: =groupes1!W27 -> 0
B9: Permanents | C9: =permanents2!C29 -> 0 | D9: =permanents2!D29 -> 0 | E9: =permanents2!E29 -> 0 | F9: =permanents2!F29 -> 0 | G9: =permanents2!G29 -> 0 | H9: =permanents2!H29 -> 0 | I9: =permanents2!I29 -> 0 | J9: =permanents2!J29 -> 0 | ... W9: =permanents2!W29 -> 0
B10: Passages | C10: =passages3!C68 -> 0 | D10: =passages3!D68 -> 0 | E10: =passages3!E68 -> 0 | F10: =passages3!F68 -> 0 | G10: =passages3!G68 -> 0 | H10: =passages3!H68 -> 0 | I10: =passages3!I68 -> 0 | J10: =passages3!J68 -> 0 | ... W10: =passages3!W68 -> 0
B11: Service | C11: =service!C34 -> 0 | D11: =service!D34 -> 0 | E11: =service!E34 -> 0 | F11: =service!F34 -> 0 | G11: =service!G34 -> 0 | H11: =service!H34 -> 0 | I11: =service!I34 -> 0 | J11: =service!J34 -> 0 | ... W11: =service!W34 -> 0
B12: autres | C12: =autres!C34 -> 0 | D12: =autres!D34 -> 0 | E12: =autres!E34 -> 0 | F12: =autres!F34 -> 0 | G12: =autres!G34 -> 0 | H12: =autres!H34 -> 0 | I12: =autres!I34 -> 0 | J12: =autres!J34 -> 0 | ... W12: =autres!W34 -> 0
B13: TOTAL | C13: =SUM(C8:C12) -> 0 | D13: =SUM(D8:D12) -> 0 | E13: =SUM(E8:E12) -> 0 | F13: =SUM(F8:F12) -> 0 | G13: =SUM(G8:G12) -> 0 | H13: =SUM(H8:H12) -> 0 | I13: =SUM(I8:I12) -> 0 | J13: =SUM(J8:J12) -> 0 | ... W13: =SUM(W8:W12) -> 0
B16: Centre Spirituel Providence | R16: La Pommeraye
B18: mois de : | C18: =M18 -> 41402 | K18: date du : | M18: =M3+7 -> 41402 | P18: au : | R18: =M18+6 -> 41408
B19: effectifs | I19: semaine | M19: =WEEKNUM(M18,2) -> 19
C20: =C21 -> 41402 | F20: =F21 -> 41403 | I20: =I21 -> 41404 | L20: =L21 -> 41405 | O20: =O21 -> 41406 | R20: =R21 -> 41407 | U20: =U21 -> 41408
C21: =$M18 -> 41402 | F21: =$M18+1 -> 41403 | I21: =$M18+2 -> 41404 | L21: =$M18+3 -> 41405 | O21: =$M18+4 -> 41406 | R21: =$M18+5 -> 41407 | U21: =$M18+6 -> 41408
C22: Pd | D22: M | E22: S | F22: Pd | G22: M | H22: S | I22: Pd | J22: M | K22: S | L22: Pd | M22: M | N22: S | O22: Pd | P22: M | Q22: S | R22: Pd | S22: M | T22: S | U22: Pd | V22: M | W22: S
B23: Groupes | C23: =groupes1!C56 -> 0 | D23: =groupes1!D56 -> 0 | E23: =groupes1!E56 -> 0 | F23: =groupes1!F56 -> 0 | G23: =groupes1!G56 -> 0 | H23: =groupes1!H56 -> 0 | I23: =groupes1!I56 -> 0 | J23: =groupes1!J56 -> 0 | ... W23: =groupes1!W56 -> 0
B24: Permanents | C24: =permanents2!C60 -> 0 | D24: =permanents2!D60 -> 0 | E24: =permanents2!E60 -> 0 | F24: =permanents2!F60 -> 0 | G24: =permanents2!G60 -> 0 | H24: =permanents2!H60 -> 0 | I24: =permanents2!I60 -> 0 | J24: =permanents2!J60 -> 0 | ... W24: =permanents2!W60 -> 0
B25: Passages | C25: =passages3!C138 -> 0 | D25: =passages3!D138 -> 0 | E25: =passages3!E138 -> 0 | F25: =passages3!F138 -> 0 | G25: =passages3!G138 -> 0 | H25: =passages3!H138 -> 0 | I25: =passages3!I138 -> 0 | J25: =passages3!J138 -> 0 | ... W25: =passages3!W138 -> 0
B26: Service | C26: =service!C70 -> 0 | D26: =service!D70 -> 0 | E26: =service!E70 -> 0 | F26: =service!F70 -> 0 | G26: =service!G70 -> 0 | H26: =service!H70 -> 0 | I26: =service!I70 -> 0 | J26: =service!J70 -> 0 | ... W26: =service!W70 -> 0
B27: autres | C27: =autres!C70 -> 0 | D27: =autres!D70 -> 0 | E27: =autres!E70 -> 0 | F27: =autres!F70 -> 0 | G27: =autres!G70 -> 0 | H27: =autres!H70 -> 0 | I27: =autres!I70 -> 0 | J27: =autres!J70 -> 0 | ... W27: =autres!W70 -> 0
B28: TOTAL | C28: =SUM(C23:C27) -> 0 | D28: =SUM(D23:D27) -> 0 | E28: =SUM(E23:E27) -> 0 | F28: =SUM(F23:F27) -> 0 | G28: =SUM(G23:G27) -> 0 | H28: =SUM(H23:H27) -> 0 | I28: =SUM(I23:I27) -> 0 | J28: =SUM(J23:J27) -> 0 | ... W28: =SUM(W23:W27) -> 0
B31: Centre Spirituel Providence | R31: La Pommeraye
B33: mois de : | C33: =M33 -> 41409 | K33: date du : | M33: =M18+7 -> 41409 | P33: au : | R33: =M33+6 -> 41415
B34: effectifs | I34: semaine | M34: =WEEKNUM(M33,2) -> 20
C35: =C36 -> 41409 | F35: =F36 -> 41410 | I35: =I36 -> 41411 | L35: =L36 -> 41412 | O35: =O36 -> 41413 | R35: =R36 -> 41414 | U35: =U36 -> 41415
C36: =$M33 -> 41409 | F36: =$M33+1 -> 41410 | I36: =$M33+2 -> 41411 | L36: =$M33+3 -> 41412 | O36: =$M33+4 -> 41413 | R36: =$M33+5 -> 41414 | U36: =$M33+6 -> 41415
C37: Pd | D37: M | E37: S | F37: Pd | G37: M | H37: S | I37: Pd | J37: M | K37: S | L37: Pd | M37: M | N37: S | O37: Pd | P37: M | Q37: S | R37: Pd | S37: M | T37: S | U37: Pd | V37: M | W37: S
B38: Groupes | C38: =groupes1!C85 -> 0 | D38: =groupes1!D85 -> 0 | E38: =groupes1!E85 -> 0 | F38: =groupes1!F85 -> 0 | G38: =groupes1!G85 -> 0 | H38: =groupes1!H85 -> 0 | I38: =groupes1!I85 -> 0 | J38: =groupes1!J85 -> 0 | ... W38: =groupes1!W85 -> 0
B39: Permanents | C39: =permanents2!C91 -> 0 | D39: =permanents2!D91 -> 0 | E39: =permanents2!E91 -> 0 | F39: =permanents2!F91 -> 0 | G39: =permanents2!G91 -> 0 | H39: =permanents2!H91 -> 0 | I39: =permanents2!I91 -> 0 | J39: =permanents2!J91 -> 0 | ... W39: =permanents2!W91 -> 0
B40: Passages | C40: =passages3!C208 -> 0 | D40: =passages3!D208 -> 0 | E40: =passages3!E208 -> 0 | F40: =passages3!F208 -> 0 | G40: =passages3!G208 -> 0 | H40: =passages3!H208 -> 0 | I40: =passages3!I208 -> 0 | J40: =passages3!J208 -> 0 | ... W40: =passages3!W208 -> 0
B41: Service | C41: =service!C106 -> 0 | D41: =service!D106 -> 0 | E41: =service!E106 -> 0 | F41: =service!F106 -> 0 | G41: =service!G106 -> 0 | H41: =service!H106 -> 0 | I41: =service!I106 -> 0 | J41: =service!J106 -> 0 | ... W41: =service!W106 -> 0
B42: autres | C42: =autres!C106 -> 0 | D42: =autres!D106 -> 0 | E42: =autres!E106 -> 0 | F42: =autres!F106 -> 0 | G42: =autres!G106 -> 0 | H42: =autres!H106 -> 0 | I42: =autres!I106 -> 0 | J42: =autres!J106 -> 0 | ... W42: =autres!W106 -> 0
B43: TOTAL | C43: =SUM(C38:C42) -> 0 | D43: =SUM(D38:D42) -> 0 | E43: =SUM(E38:E42) -> 0 | F43: =SUM(F38:F42) -> 0 | G43: =SUM(G38:G42) -> 0 | H43: =SUM(H38:H42) -> 0 | I43: =SUM(I38:I42) -> 0 | J43: =SUM(J38:J42) -> 0 | ... W43: =SUM(W38:W42) -> 0
B46: Centre Spirituel Providence | R46: La Pommeraye
B48: mois de : | C48: =M48 -> 41416 | K48: date du : | M48: =M33+7 -> 41416 | P48: au : | R48: =M48+6 -> 41422
B49: effectifs | I49: semaine | M49: =WEEKNUM(M48,2) -> 21
C50: =C51 -> 41416 | F50: =F51 -> 41417 | I50: =I51 -> 41418 | L50: =L51 -> 41419 | O50: =O51 -> 41420 | R50: =R51 -> 41421 | U50: =U51 -> 41422
...
