Workbook

Sheet Mode d'emploi
B2: Ce classeur est un "modèle", et il est enragistré sous ce nom.
B3: La première chose à faire quand on l'ouvre pour l'utiliser, c'est de faire "enregistrer sous", avant toute autre opération : le modèle est ainsi réutilisable
B4: La seconde chose à faire, c'est d'ouvrir la feuille "EMPLOYÉES", et, tout en haut dans la case rouge, inscrire la date du 1er jour du mois que l'on souhaite afficher
B5: Toutes les dates, tous les numéros de semaine, tous les noms des jours s'inscrivent alors automatiquement dans toutes les feuilles du classeur.
B6: Il ne faut jamais les modifier à la main, en aucune manière : effacement de fonctions, classeur inutilisable !

Sheet EMPLOYÉES
C1: PLANNING DU MOIS DE | H1: 41395
N2: =SUM(N5:N35) -> 0 | O2: =SUM(O5:O35) -> 0 | P2: =SUM(P5:P35) -> 0
C3: Jour | E3: Khanh | F3: Thao | I3: Laurence | J3: Hélène | K3: M-Noëlle | L3: Béatrice | M3: Jacqueline | O3: Restauration | Q3: Pique-nique | S3: CHAMBRES
N4: ptdj | O4: Midi | P4: Soir
A5: S | B5: =WEEKNUM(C5,2) -> 18 | C5: =H1 -> 41395 | N5: ='TOTAUX EFFECTIFS'!C13 -> 0 | O5: ='TOTAUX EFFECTIFS'!D13 -> 0 | P5: ='TOTAUX EFFECTIFS'!E13 -> 0
A6: S | B6: =WEEKNUM(C6,2) -> 18 | C6: =C5+1 -> 41396 | N6: ='TOTAUX EFFECTIFS'!F13 -> 0 | O6: ='TOTAUX EFFECTIFS'!G13 -> 0 | P6: ='TOTAUX EFFECTIFS'!H13 -> 0
A7: S | B7: =WEEKNUM(C7,2) -> 18 | C7: =C6+1 -> 41397 | N7: ='TOTAUX EFFECTIFS'!I13 -> 0 | O7: ='TOTAUX EFFECTIFS'!J13 -> 0 | P7: ='TOTAUX EFFECTIFS'!K13 -> 0
A8: S | B8: =WEEKNUM(C8,2) -> 18 | C8: =C7+1 -> 41398 | N8: ='TOTAUX EFFECTIFS'!L13 -> 0 | O8: ='TOTAUX EFFECTIFS'!M13 -> 0 | P8: ='TOTAUX EFFECTIFS'!N13 -> 0
A9: S | B9: =WEEKNUM(C9,2) -> 18 | C9: =C8+1 -> 41399 | N9: ='TOTAUX EFFECTIFS'!O13 -> 0 | O9: ='TOTAUX EFFECTIFS'!P13 -> 0 | P9: ='TOTAUX EFFECTIFS'!Q13 -> 0
A10: S | B10: =WEEKNUM(C10,2) -> 19 | C10: =C9+1 -> 41400 | N10: ='TOTAUX EFFECTIFS'!R13 -> 0 | O10: ='TOTAUX EFFECTIFS'!S13 -> 0 | P10: ='TOTAUX EFFECTIFS'!T13 -> 0
A11: S | B11: =WEEKNUM(C11,2) -> 19 | C11: =C10+1 -> 41401 | N11: ='TOTAUX EFFECTIFS'!U13 -> 0 | O11: ='TOTAUX EFFECTIFS'!V13 -> 0 | P11: ='TOTAUX EFFECTIFS'!W13 -> 0
A12: S | B12: =WEEKNUM(C12,2) -> 19 | C12: =C11+1 -> 41402 | N12: ='TOTAUX EFFECTIFS'!C28 -> 0 | O12: ='TOTAUX EFFECTIFS'!D28 -> 0 | P12: ='TOTAUX EFFECTIFS'!E28 -> 0
A13: S | B13: =WEEKNUM(C13,2) -> 19 | C13: =C12+1 -> 41403 | N13: ='TOTAUX EFFECTIFS'!F28 -> 0 | O13: ='TOTAUX EFFECTIFS'!G28 -> 0 | P13: ='TOTAUX EFFECTIFS'!H28 -> 0
A14: S | B14: =WEEKNUM(C14,2) -> 19 | C14: =C13+1 -> 41404 | N14: ='TOTAUX EFFECTIFS'!I28 -> 0 | O14: ='TOTAUX EFFECTIFS'!J28 -> 0 | P14: ='TOTAUX EFFECTIFS'!K28 -> 0
A15: S | B15: =WEEKNUM(C15,2) -> 19 | C15: =C14+1 -> 41405 | N15: ='TOTAUX EFFECTIFS'!L28 -> 0 | O15: ='TOTAUX EFFECTIFS'!M28 -> 0 | P15: ='TOTAUX EFFECTIFS'!N28 -> 0
A16: S | B16: =WEEKNUM(C16,2) -> 19 | C16: =C15+1 -> 41406 | N16: ='TOTAUX EFFECTIFS'!O28 -> 0 | O16: ='TOTAUX EFFECTIFS'!P28 -> 0 | P16: ='TOTAUX EFFECTIFS'!Q28 -> 0
A17: S | B17: =WEEKNUM(C17,2) -> 20 | C17: =C16+1 -> 41407 | N17: ='TOTAUX EFFECTIFS'!R28 -> 0 | O17: ='TOTAUX EFFECTIFS'!S28 -> 0 | P17: ='TOTAUX EFFECTIFS'!T28 -> 0
A18: S | B18: =WEEKNUM(C18,2) -> 20 | C18: =C17+1 -> 41408 | N18: ='TOTAUX EFFECTIFS'!U28 -> 0 | O18: ='TOTAUX EFFECTIFS'!V28 -> 0 | P18: ='TOTAUX EFFECTIFS'!W28 -> 0
A19: S | B19: =WEEKNUM(C19,2) -> 20 | C19: =C18+1 -> 41409 | N19: ='TOTAUX EFFECTIFS'!C43 -> 0 | O19: ='TOTAUX EFFECTIFS'!D43 -> 0 | P19: ='TOTAUX EFFECTIFS'!E43 -> 0
A20: S | B20: =WEEKNUM(C20,2) -> 20 | C20: =C19+1 -> 41410 | N20: ='TOTAUX EFFECTIFS'!F43 -> 0 | O20: ='TOTAUX EFFECTIFS'!G43 -> 0 | P20: ='TOTAUX EFFECTIFS'!H43 -> 0
A21: S | B21: =WEEKNUM(C21,2) -> 20 | C21: =C20+1 -> 41411 | N21: ='TOTAUX EFFECTIFS'!I43 -> 0 | O21: ='TOTAUX EFFECTIFS'!J43 -> 0 | P21: ='TOTAUX EFFECTIFS'!K43 -> 0
A22: S | B22: =WEEKNUM(C22,2) -> 20 | C22: =C21+1 -> 41412 | N22: ='TOTAUX EFFECTIFS'!L43 -> 0 | O22: ='TOTAUX EFFECTIFS'!M43 -> 0 | P22: ='TOTAUX EFFECTIFS'!N43 -> 0
A23: S | B23: =WEEKNUM(C23,2) -> 20 | C23: =C22+1 -> 41413 | N23: ='TOTAUX EFFECTIFS'!O43 -> 0 | O23: ='TOTAUX EFFECTIFS'!P43 -> 0 | P23: ='TOTAUX EFFECTIFS'!Q43 -> 0
A24: S | B24: =WEEKNUM(C24,2) -> 21 | C24: =C23+1 -> 41414 | N24: ='TOTAUX EFFECTIFS'!R43 -> 0 | O24: ='TOTAUX EFFECTIFS'!S43 -> 0 | P24: ='TOTAUX EFFECTIFS'!T43 -> 0
A25: S | B25: =WEEKNUM(C25,2) -> 21 | C25: =C24+1 -> 41415 | N25: ='TOTAUX EFFECTIFS'!U43 -> 0 | O25: ='TOTAUX EFFECTIFS'!V43 -> 0 | P25: ='TOTAUX EFFECTIFS'!W43 -> 0
A26: S | B26: =WEEKNUM(C26,2) -> 21 | C26: =C25+1 -> 41416 | N26: ='TOTAUX EFFECTIFS'!C58 -> 0 | O26: ='TOTAUX EFFECTIFS'!D58 -> 0 | P26: ='TOTAUX EFFECTIFS'!E58 -> 0
A27: S | B27: =WEEKNUM(C27,2) -> 21 | C27: =C26+1 -> 41417 | N27: ='TOTAUX EFFECTIFS'!F58 -> 0 | O27: ='TOTAUX EFFECTIFS'!G58 -> 0 | P27: ='TOTAUX EFFECTIFS'!H58 -> 0
A28: S | B28: =WEEKNUM(C28,2) -> 21 | C28: =C27+1 -> 41418 | N28: ='TOTAUX EFFECTIFS'!I58 -> 0 | O28: ='TOTAUX EFFECTIFS'!J58 -> 0 | P28: ='TOTAUX EFFECTIFS'!K58 -> 0
A29: S | B29: =WEEKNUM(C29,2) -> 21 | C29: =C28+1 -> 41419 | N29: ='TOTAUX EFFECTIFS'!L58 -> 0 | O29: ='TOTAUX EFFECTIFS'!M58 -> 0 | P29: ='TOTAUX EFFECTIFS'!N58 -> 0
A30: S | B30: =WEEKNUM(C30,2) -> 21 | C30: =C29+1 -> 41420 | N30: ='TOTAUX EFFECTIFS'!O58 -> 0 | O30: ='TOTAUX EFFECTIFS'!P58 -> 0 | P30: ='TOTAUX EFFECTIFS'!Q58 -> 0
A31: S | B31: =WEEKNUM(C31,2) -> 22 | C31: =C30+1 -> 41421 | N31: ='TOTAUX EFFECTIFS'!R58 -> 0 | O31: ='TOTAUX EFFECTIFS'!S58 -> 0 | P31: ='TOTAUX EFFECTIFS'!T58 -> 0
A32: S | B32: =WEEKNUM(C32,2) -> 22 | C32: =C31+1 -> 41422 | N32: ='TOTAUX EFFECTIFS'!U58 -> 0 | O32: ='TOTAUX EFFECTIFS'!V58 -> 0 | P32: ='TOTAUX EFFECTIFS'!W58 -> 0
A33: S | B33: =WEEKNUM(C33,2) -> 22 | C33: =C32+1 -> 41423 | N33: ='TOTAUX EFFECTIFS'!C73 -> 0 | O33: ='TOTAUX EFFECTIFS'!D73 -> 0 | P33: ='TOTAUX EFFECTIFS'!E73 -> 0
A34: S | B34: =WEEKNUM(C34,2) -> 22 | C34: =C33+1 -> 41424 | N34: ='TOTAUX EFFECTIFS'!F73 -> 0 | O34: ='TOTAUX EFFECTIFS'!G73 -> 0 | P34: ='TOTAUX EFFECTIFS'!H73 -> 0
A35: S | B35: =WEEKNUM(C35,2) -> 22 | C35: =C34+1 -> 41425 | N35: ='TOTAUX EFFECTIFS'!I73 -> 0 | O35: ='TOTAUX EFFECTIFS'!J73 -> 0 | P35: ='TOTAUX EFFECTIFS'!K73 -> 0
C37: P | D37: =COUNTIFS(D5:D35,"P") -> 0 | E37: =COUNTIFS(E5:E35,"P") -> 0 | F37: =COUNTIFS(F5:F35,"P") -> 0 | G37: =COUNTIFS(G5:G35,"P") -> 0 | H37: =COUNTIFS(H5:H35,"P") -> 0 | I37: =COUNTIFS(I5:I35,"P") -> 0 | J37: =COUNTIFS(J5:J35,"P") -> 0 | K37: =COUNTIFS(K5:K35,"P") -> 0 | ... M37: =COUNTIFS(M5:M35,"P") -> 0
C38: RH | D38: =COUNTIFS(D5:D35,"RH") -> 0 | E38: =COUNTIFS(E5:E35,"RH") -> 0 | F38: =COUNTIFS(F5:F35,"RH") -> 0 | G38: =COUNTIFS(G5:G35,"RH") -> 0 | H38: =COUNTIFS(H5:H35,"RH") -> 0 | I38: =COUNTIFS(I5:I35,"RH") -> 0 | J38: =COUNTIFS(J5:J35,"RH") -> 0 | K38: =COUNTIFS(K5:K35,"RH") -> 0 | ... M38: =COUNTIFS(M5:M35,"RH") -> 0
C39: P/Ss | D39: =COUNTIFS(D5:D35,"P/Ss") -> 0 | E39: =COUNTIFS(E5:E35,"P/Ss") -> 0 | F39: =COUNTIFS(F5:F35,"P/Ss") -> 0 | G39: =COUNTIFS(G5:G35,"P/Ss") -> 0 | H39: =COUNTIFS(H5:H35,"P/Ss") -> 0 | I39: =COUNTIFS(I5:I35,"P/Ss") -> 0 | J39: =COUNTIFS(J5:J35,"P/Ss") -> 0 | K39: =COUNTIFS(K5:K35,"P/Ss") -> 0 | ... M39: =COUNTIFS(M5:M35,"P/Ss") -> 0
C40: PSm/s | D40: =COUNTIFS(D5:D35,"PSm/S") -> 0 | E40: =COUNTIFS(E5:E35,"PSm/S") -> 0 | F40: =COUNTIFS(F5:F35,"PSm/S") -> 0 | G40: =COUNTIFS(G5:G35,"PSm/S") -> 0 | H40: =COUNTIFS(H5:H35,"PSm/S") -> 0 | I40: =COUNTIFS(I5:I35,"PSm/S") -> 0 | J40: =COUNTIFS(J5:J35,"PSm/S") -> 0 | K40: =COUNTIFS(K5:K35,"PSm/S") -> 0 | ... M40: =COUNTIFS(M5:M35,"PSm/S") -> 0
C41: PSm | D41: =COUNTIFS(D5:D35,"PSm") -> 0 | E41: =COUNTIFS(E5:E35,"PSm") -> 0 | F41: =COUNTIFS(F5:F35,"PSm") -> 0 | G41: =COUNTIFS(G5:G35,"PSm") -> 0 | H41: =COUNTIFS(H5:H35,"PSm") -> 0 | I41: =COUNTIFS(I5:I35,"PSm") -> 0 | J41: =COUNTIFS(J5:J35,"PSm") -> 0 | K41: =COUNTIFS(K5:K35,"PSm") -> 0 | ... M41: =COUNTIFS(M5:M35,"PSm") -> 0
C42: CP | D42: =COUNTIFS(D5:D35,"CP") -> 0 | E42: =COUNTIFS(E5:E35,"CP") -> 0 | F42: =COUNTIFS(F5:F35,"CP") -> 0 | G42: =COUNTIFS(G5:G35,"CP") -> 0 | H42: =COUNTIFS(H5:H35,"CP") -> 0 | I42: =COUNTIFS(I5:I35,"CP") -> 0 | J42: =COUNTIFS(J5:J35,"CP") -> 0 | K42: =COUNTIFS(K5:K35,"CP") -> 0 | ... M42: =COUNTIFS(M5:M35,"CP") -> 0
C43: RC | D43: =COUNTIFS(D5:D35,"RC*") -> 0 | E43: =COUNTIFS(E5:E35,"RC*") -> 0 | F43: =COUNTIFS(F5:F35,"RC*") -> 0 | G43: =COUNTIFS(G5:G35,"RC*") -> 0 | H43: =COUNTIFS(H5:H35,"RC*") -> 0 | I43: =COUNTIFS(I5:I35,"RC*") -> 0 | J43: =COUNTIFS(J5:J35,"RC*") -> 0 | K43: =COUNTIFS(K5:K35,"RC*") -> 0 | ... M43: =COUNTIFS(M5:M35,"RC*") -> 0
C44: /
C45: H | D45: =(D37*7)+(D39*7)+(D40*7)+(D41*7) -> 0 | E45: =(E37*7)+(E39*7)+(E40*7)+(E41*7) -> 0 | F45: =(F37*7)+(F39*7)+(F40*7)+(F41*7) -> 0 | G45: =(G37*7)+(G39*7)+(G40*7)+(G41*7) -> 0 | H45: =(H37*7)+(H39*7)+(H40*7)+(H41*7) -> 0 | I45: =(I37*7)+(I39*7)+(I40*7)+(I41*7) -> 0 | J45: =(J37*7)+(J39*7)+(J40*7)+(J41*7) -> 0 | K45: =(K37*7)+(K39*7)+(K40*7)+(K41*7) -> 0 | ... M45: =(M37*7)+(M39*7)+(M40*7)+(M41*7) -> 0

Sheet groupes1
B1: Centre Spirituel Providence | R1: La Pommeraye
B3: mois de : | C3: =M3 -> 41395 | K3: date du : | M3: =EMPLOYÉES!H1 -> 41395 | P3: au | R3: =U6 -> 41401
B4: groupes | I4: semaine | M4: =WEEKNUM(M3,2) -> 18
C5: =C6 -> 41395 | F5: =F6 -> 41396 | I5: =I6 -> 41397 | L5: =L6 -> 41398 | O5: =O6 -> 41399 | R5: =R6 -> 41400 | U5: =U6 -> 41401
C6: =M3 -> 41395 | F6: =$M$3+1 -> 41396 | I6: =$M$3+2 -> 41397 | L6: =$M$3+3 -> 41398 | O6: =$M$3+4 -> 41399 | R6: =$M$3+5 -> 41400 | U6: =$M$3+6 -> 41401
B7: nom : | C7: Pd | D7: M | E7: S | F7: Pd | G7: M | H7: S | I7: Pd | J7: M | K7: S | L7: Pd | M7: M | N7: S | O7: Pd | P7: M | Q7: S | R7: Pd | S7: M | T7: S | U7: Pd | V7: M | W7: S
A9: 1
A10: 2
A11: 3
A12: 4
A13: 5
A14: 6
A15: 7
A16: 8
A17: 9
A18: 10
A19: 11
A20: 12
... A24: 16
B27: total : | C27: =SUM(C9:C26) -> 0 | D27: =SUM(D9:D26) -> 0 | E27: =SUM(E9:E26) -> 0 | F27: =SUM(F9:F26) -> 0 | G27: =SUM(G9:G26) -> 0 | H27: =SUM(H9:H26) -> 0 | I27: =SUM(I9:I26) -> 0 | J27: =SUM(J9:J26) -> 0 | ... W27: =SUM(W9:W26) -> 0
B30: Centre Spirituel Providence | R30: La Pommeraye
B32: mois de : | C32: =M32 -> 41402 | K32: date du : | M32: =M3+7 -> 41402 | P32: au | R32: =M32+7 -> 41409
B33: groupes | I33: semaine | M33: =WEEKNUM(M32,2) -> 19
C34: =C35 -> 41402 | F34: =F35 -> 41403 | I34: =I35 -> 41404 | L34: =L35 -> 41405 | O34: =O35 -> 41406 | R34: =R35 -> 41407 | U34: =U35 -> 41408
C35: =M32 -> 41402 | F35: =$M$32+1 -> 41403 | I35: =$M$32+2 -> 41404 | L35: =$M$32+3 -> 41405 | O35: =$M$32+4 -> 41406 | R35: =$M$32+5 -> 41407 | U35: =$M$32+6 -> 41408
B36: nom : | C36: Pd | D36: M | E36: S | F36: Pd | G36: M | H36: S | I36: Pd | J36: M | K36: S | L36: Pd | M36: M | N36: S | O36: Pd | P36: M | Q36: S | R36: Pd | S36: M | T36: S | U36: Pd | V36: M | W36: S
A38: 1
A39: 2
A40: 3
A41: 4
A42: 5
A43: 6
A44: 7
A45: 8
A46: 9
A47: 10
A48: 11
A49: 12
... A53: 16
B56: total : | C56: =SUM(C38:C55) -> 0 | D56: =SUM(D38:D55) -> 0 | E56: =SUM(E38:E55) -> 0 | F56: =SUM(F38:F55) -> 0 | G56: =SUM(G38:G55) -> 0 | H56: =SUM(H38:H55) -> 0 | I56: =SUM(I38:I55) -> 0 | J56: =SUM(J38:J55) -> 0 | ... W56: =SUM(W38:W55) -> 0
B59: Centre Spirituel Providence | R59: La Pommeraye
B61: mois de : | C61: =M61 -> 41409 | K61: date du : | M61: =M3+14 -> 41409 | P61: au | R61: =M61+7 -> 41416
B62: groupes | I62: semaine | M62: =WEEKNUM(M61,2) -> 20
C63: =C64 -> 41409 | F63: =F64 -> 41410 | I63: =I64 -> 41411 | L63: =L64 -> 41412 | O63: =O64 -> 41413 | R63: =R64 -> 41414 | U63: =U64 -> 41415
C64: =M61 -> 41409 | F64: =$M$61+1 -> 41410 | I64: =$M$61+2 -> 41411 | L64: =$M$61+3 -> 41412 | O64: =$M$61+4 -> 41413 | R64: =$M$61+5 -> 41414 | U64: =$M$61+6 -> 41415
B65: nom : | C65: Pd | D65: M | E65: S | F65: Pd | G65: M | H65: S | I65: Pd | J65: M | K65: S | L65: Pd | M65: M | N65: S | O65: Pd | P65: M | Q65: S | R65: Pd | S65: M | T65: S | U65: Pd | V65: M | W65: S
A67: 1
A68: 2
A69: 3
A70: 4
A71: 5
A72: 6
A73: 7
A74: 8
A75: 9
A76: 10
A77: 11
A78: 12
... A82: 16
B85: total : | C85: =SUM(C67:C84) -> 0 | D85: =SUM(D67:D84) -> 0 | E85: =SUM(E67:E84) -> 0 | F85: =SUM(F67:F84) -> 0 | G85: =SUM(G67:G84) -> 0 | H85: =SUM(H67:H84) -> 0 | I85: =SUM(I67:I84) -> 0 | J85: =SUM(J67:J84) -> 0 | ... W85: =SUM(W67:W84) -> 0
B88: Centre Spirituel Providence | R88: La Pommeraye
B90: mois de : | C90: =M90 -> 41416 | K90: date du : | M90: =M3+21 -> 41416 | P90: au | R90: =M90+7 -> 41423
B91: groupes | I91: semaine | M91: =WEEKNUM(M90,2) -> 21
C92: =C93 -> 41416 | F92: =F93 -> 41417 | I92: =I93 -> 41418 | L92: =L93 -> 41419 | O92: =O93 -> 41420 | R92: =R93 -> 41421 | U92: =U93 -> 41422
C93: =M90 -> 41416 | F93: =$M$90+1 -> 41417 | I93: =$M$90+2 -> 41418 | L93: =$M$90+3 -> 41419 | O93: =$M$90+4 -> 41420 | R93: =$M$90+5 -> 41421 | U93: =$M$90+6 -> 41422
B94: nom : | C94: Pd | D94: M | E94: S | F94: Pd | G94: M | H94: S | I94: Pd | J94: M | K94: S | L94: Pd | M94: M | N94: S | O94: Pd | P94: M | Q94: S | R94: Pd | S94: M | T94: S | U94: Pd | V94: M | W94: S
A96: 1
A97: 2
A98: 3
A99: 4
A100: 5
A101: 6
A102: 7
A103: 8
A104: 9
A105: 10
A106: 11
A107: 12
... A111: 16
B114: total : | C114: =SUM(C96:C113) -> 0 | D114: =SUM(D96:D113) -> 0 | E114: =SUM(E96:E113) -> 0 | F114: =SUM(F96:F113) -> 0 | G114: =SUM(G96:G113) -> 0 | H114: =SUM(H96:H113) -> 0 | I114: =SUM(I96:I113) -> 0 | J114: =SUM(J96:J113) -> 0 | ... W114: =SUM(W96:W113) -> 0
B117: Centre Spirituel Providence | R117: La Pommeraye
B119: mois de : | C119: =M119 -> 41423 | K119: date du : | M119: =M3+28 -> 41423 | P119: au | R119: =M119+7 -> 41430
B120: groupes | I120: semaine | M120: =WEEKNUM(M119,2) -> 22
C121: =C122 -> 41423 | F121: =F122 -> 41424 | I121: =I122 -> 41425 | L121: =L122 -> 41426 | O121: =O122 -> 41427 | R121: =R122 -> 41428 | U121: =U122 -> 41429
C122: =M119 -> 41423 | F122: =$M$119+1 -> 41424 | I122: =$M$119+2 -> 41425 | L122: =$M$119+3 -> 41426 | O122: =$M$119+4 -> 41427 | R122: =$M$119+5 -> 41428 | U122: =$M$119+6 -> 41429
B123: nom : | C123: Pd | D123: M | E123: S | F123: Pd | G123: M | H123: S | I123: Pd | J123: M | K123: S | L123: Pd | M123: M | N123: S | O123: Pd | P123: M | Q123: S | R123: Pd | S123: M | T123: S | U123: Pd | V123: M | W123: S
A125: 1
A126: 2
A127: 3
A128: 4
A129: 5
A130: 6
A131: 7
A132: 8
A133: 9
A134: 10
A135: 11
A136: 12
... A140: 16
B143: total : | C143: =SUM(C125:C142) -> 0 | D143: =SUM(D125:D142) -> 0 | E143: =SUM(E125:E142) -> 0 | F143: =SUM(F125:F142) -> 0 | G143: =SUM(G125:G142) -> 0 | H143: =SUM(H125:H142) -> 0 | I143: =SUM(I125:I142) -> 0 | J143: =SUM(J125:J142) -> 0 | ... W143: =SUM(W125:W142) -> 0
...

Sheet permanents2
B1: Centre Spirituel Diocésain | R1: La Pommeraye
B3: mois de : | C3: =M3 -> 41395 | K3: date du : | M3: =EMPLOYÉES!H1 -> 41395 | P3: au : | R3: =$M3+6 -> 41401
B4: permanents | I4: semaine | M4: =WEEKNUM(M3,2) -> 18
C5: =C6 -> 41395 | F5: =F6 -> 41396 | I5: =I6 -> 41397 | L5: =L6 -> 41398 | O5: =O6 -> 41399 | R5: =R6 -> 0 | U5: =U6 -> 41401
C6: =$M$3 -> 41395 | F6: =$M$3+1 -> 41396 | I6: =$M$3+2 -> 41397 | L6: =$M$3+3 -> 41398 | O6: =$M$3+4 -> 41399 | R6: =$M$5 -> 0 | U6: =$M$3+6 -> 41401
B7: nom : | C7: Pd | D7: M | E7: S | F7: Pd | G7: M | H7: S | I7: Pd | J7: M | K7: S | L7: Pd | M7: M | N7: S | O7: Pd | P7: M | Q7: S | R7: Pd | S7: M | T7: S | U7: Pd | V7: M | W7: S
A9: 1 | B9: CANIOU Mariannick
A10: 2 | B10: CHARLOUX Joëlle
A11: 3 | B11: GOMEZ Lizeth (Régime)
A12: 4 | B12: KAFANDO Marie-Sidonie
A13: 6 | B13: MICHEL Lucienne
A14: 8 | B14: CHEHERE Cécile
A15: 7 | B15: GOHIER Marguerite
A16: 5 | B16: GENIN Dominique
A17: 9 | B17: POUGARY Marie-Claude
A18: 11
A19: 12 | B19: BIZOT Marie-Odile
A20: 13 | B20: CHAUVINEAU Bernadette
A21: 14 | B21: HENNO Michèle (sans sel)
A22: 16 | B22: JEANNETEAU Geneviève
A23: 18 | B23: MARY Agnès
A24: 20 | B24: REAU Marie-Elisée
A25: 22
A26: 23
A27: 24
B28: total :
C29: =SUM(C9:C27) -> 0 | D29: =SUM(D9:D27) -> 0 | E29: =SUM(E9:E27) -> 0 | F29: =SUM(F9:F27) -> 0 | G29: =SUM(G9:G27) -> 0 | H29: =SUM(H9:H27) -> 0 | I29: =SUM(I9:I27) -> 0 | J29: =SUM(J9:J27) -> 0 | ... W29: =SUM(W9:W27) -> 0
B32: Centre Spirituel Diocésain | R32: La Pommeraye
B34: mois de : | C34: =M34 -> 41402 | K34: date du : | M34: =$M3+7 -> 41402 | P34: au : | R34: =$M34+6 -> 41408
B35: permanents | I35: semaine | M35: =WEEKNUM(M34,2) -> 19
C36: =C37 -> 41402 | F36: =F37 -> 41403 | I36: =I37 -> 41404 | L36: =L37 -> 41405 | O36: =O37 -> 41406 | R36: =R37 -> 41407 | U36: =U37 -> 41408
C37: =$M$34 -> 41402 | F37: =$M$34+1 -> 41403 | I37: =$M$34+2 -> 41404 | L37: =$M$34+3 -> 41405 | O37: =$M$34+4 -> 41406 | R37: =$M$34+5 -> 41407 | U37: =$M$34+6 -> 41408
B38: nom : | C38: Pd | D38: M | E38: S | F38: Pd | G38: M | H38: S | I38: Pd | J38: M | K38: S | L38: Pd | M38: M | N38: S | O38: Pd | P38: M | Q38: S | R38: Pd | S38: M | T38: S | U38: Pd | V38: M | W38: S
A40: 1 | B40: =B9 -> CANIOU Mariannick
A41: 2 | B41: =B10 -> CHARLOUX Joëlle
A42: 3 | B42: =B11 -> GOMEZ Lizeth (Régime)
A43: 4 | B43: =B12 -> KAFANDO Marie-Sidonie
A44: 6 | B44: =B13 -> MICHEL Lucienne
A45: 8 | B45: =B14 -> CHEHERE Cécile
A46: 7 | B46: =B15 -> GOHIER Marguerite
A47: 5 | B47: =B16 -> GENIN Dominique
A48: 9 | B48: =B17 -> POUGARY Marie-Claude
A49: 11
A50: 12 | B50: =B19 -> BIZOT Marie-Odile
A51: 13 | B51: =B20 -> CHAUVINEAU Bernadette
A52: 14 | B52: =B21 -> HENNO Michèle (sans sel)
A53: 16 | B53: =B22 -> JEANNETEAU Geneviève
A54: 18 | B54: =B23 -> MARY Agnès
A55: 20 | B55: =B24 -> REAU Marie-Elisée
A56: 22 | B56: =B25 -> 0
A57: 23 | B57: =B26 -> 0
A58: 24 | B58: =B27 -> 0
B59: total :
C60: =SUM(C40:C58) -> 0 | D60: =SUM(D40:D58) -> 0 | E60: =SUM(E40:E58) -> 0 | F60: =SUM(F40:F58) -> 0 | G60: =SUM(G40:G58) -> 0 | H60: =SUM(H40:H58) -> 0 | I60: =SUM(I40:I58) -> 0 | J60: =SUM(J40:J58) -> 0 | ... W60: =SUM(W40:W58) -> 0
B63: Centre Spirituel Diocésain | R63: La Pommeraye
B65: mois de : | C65: =M65 -> 41409 | K65: date du : | M65: =$M34+7 -> 41409 | P65: au : | R65: =$M65+6 -> 41415
B66: permanents | I66: semaine | M66: =WEEKNUM(M65,2) -> 20
C67: =C68 -> 41409 | F67: =F68 -> 41410 | I67: =I68 -> 41411 | L67: =L68 -> 41412 | O67: =O68 -> 41413 | R67: =R68 -> 41414 | U67: =U68 -> 41415
C68: =$M$65 -> 41409 | F68: =$M$65+1 -> 41410 | I68: =$M$65+2 -> 41411 | L68: =$M$65+3 -> 41412 | O68: =$M$65+4 -> 41413 | R68: =$M$65+5 -> 41414 | U68: =$M$65+6 -> 41415
B69: nom : | C69: Pd | D69: M | E69: S | F69: Pd | G69: M | H69: S | I69: Pd | J69: M | K69: S | L69: Pd | M69: M | N69: S | O69: Pd | P69: M | Q69: S | R69: Pd | S69: M | T69: S | U69: Pd | V69: M | W69: S
A71: 1 | B71: =B40 -> CANIOU Mariannick
A72: 2 | B72: =B41 -> CHARLOUX Joëlle
A73: 3 | B73: =B42 -> GOMEZ Lizeth (Régime)
A74: 4 | B74: =B43 -> KAFANDO Marie-Sidonie
A75: 6 | B75: =B44 -> MICHEL Lucienne
A76: 8 | B76: =B45 -> CHEHERE Cécile
A77: 7 | B77: =B46 -> GOHIER Marguerite
A78: 5 | B78: =B47 -> GENIN Dominique
A79: 9 | B79: =B48 -> POUGARY Marie-Claude
A80: 11 | B80: =B49 -> 0
A81: 12 | B81: =B50 -> BIZOT Marie-Odile
A82: 13 | B82: =B51 -> CHAUVINEAU Bernadette
... A89: 24 | B89: =B58 -> 0
B90: total :
C91: =SUM(C71:C89) -> 0 | D91: =SUM(D71:D89) -> 0 | E91: =SUM(E71:E89) -> 0 | F91: =SUM(F71:F89) -> 0 | G91: =SUM(G71:G89) -> 0 | H91: =SUM(H71:H89) -> 0 | I91: =SUM(I71:I89) -> 0 | J91: =SUM(J71:J89) -> 0 | ... W91: =SUM(W71:W89) -> 0
B94: Centre Spirituel Diocésain | R94: La Pommeraye
B96: mois de : | C96: =M96 -> 41416 | K96: date du : | M96: =$M65+7 -> 41416 | P96: au : | R96: =$M96+6 -> 41422
B97: permanents | I97: semaine | M97: =WEEKNUM(M96,2) -> 21
C98: =C99 -> 41416 | F98: =F99 -> 41417 | I98: =I99 -> 41418 | L98: =L99 -> 41419 | O98: =O99 -> 41420 | R98: =R99 -> 41421 | U98: =U99 -> 41422
C99: =$M$96 -> 41416 | F99: =$M$96+1 -> 41417 | I99: =$M$96+2 -> 41418 | L99: =$M$96+3 -> 41419 | O99: =$M$96+4 -> 41420 | R99: =$M$96+5 -> 41421 | U99: =$M$96+6 -> 41422
B100: nom : | C100: Pd | D100: M | E100: S | F100: Pd | G100: M | H100: S | I100: Pd | J100: M | K100: S | L100: Pd | M100: M | N100: S | O100: Pd | P100: M | Q100: S | R100: Pd | S100: M | T100: S | U100: Pd | V100: M | W100: S
A102: 1 | B102: =B40 -> CANIOU Mariannick
A103: 2 | B103: =B41 -> CHARLOUX Joëlle
A104: 3 | B104: =B42 -> GOMEZ Lizeth (Régime)
A105: 4 | B105: =B43 -> KAFANDO Marie-Sidonie
A106: 6 | B106: =B44 -> MICHEL Lucienne
A107: 8 | B107: =B45 -> CHEHERE Cécile
A108: 7 | B108: =B46 -> GOHIER Marguerite
A109: 5 | B109: =B47 -> GENIN Dominique
A110: 9 | B110: =B48 -> POUGARY Marie-Claude
A111: 11 | B111: =B49 -> 0
A112: 12 | B112: =B50 -> BIZOT Marie-Odile
A113: 13 | B113: =B51 -> CHAUVINEAU Bernadette
... A120: 24 | B120: =B58 -> 0
B121: total :
C122: =SUM(C102:C120) -> 0 | D122: =SUM(D102:D120) -> 0 | E122: =SUM(E102:E120) -> 0 | F122: =SUM(F102:F120) -> 0 | G122: =SUM(G102:G120) -> 0 | H122: =SUM(H102:H120) -> 0 | I122: =SUM(I102:I120) -> 0 | J122: =SUM(J102:J120) -> 0 | ... W122: =SUM(W102:W120) -> 0
B125: Centre Spirituel Diocésain | R125: La Pommeraye
B127: mois de : | C127: =M127 -> 41423 | K127: date du : | M127: =$M96+7 -> 41423 | P127: au : | R127: =$M127+6 -> 41429
B128: permanents | I128: semaine | M128: =WEEKNUM(M127,2) -> 22
C129: =C130 -> 41423 | F129: =F130 -> 41424 | I129: =I130 -> 41425 | L129: =L130 -> 41426 | O129: =O130 -> 41427 | R129: =R130 -> 41428 | U129: =U130 -> 41429
...

Sheet passages3
B1: Centre Spirituel Providence | R1: La Pommeraye
B3: mois de : | C3: =M3 -> 41395 | K3: date du : | M3: =EMPLOYÉES!H1 -> 41395 | P3: au : | R3: =M3+6 -> 41401
B4: passage | I4: semaine | M4: =WEEKNUM(M3,2) -> 18
C5: =C6 -> 41395 | F5: =F6 -> 41396 | I5: =I6 -> 41397 | L5: =L6 -> 41398 | O5: =O6 -> 41399 | R5: =R6 -> 41400 | U5: =U6 -> 41401
C6: =$M3 -> 41395 | F6: =$M3+1 -> 41396 | I6: =$M3+2 -> 41397 | L6: =$M3+3 -> 41398 | O6: =$M3+4 -> 41399 | R6: =$M3+5 -> 41400 | U6: =$M3+6 -> 41401
B7: nom : | C7: Pd | D7: M | E7: S | F7: Pd | G7: M | H7: S | I7: Pd | J7: M | K7: S | L7: Pd | M7: M | N7: S | O7: Pd | P7: M | Q7: S | R7: Pd | S7: M | T7: S | U7: Pd | V7: M | W7: S
A9: 1
A10: 2
A11: 3
A12: 4
A13: 5
A14: 6
A15: 7
A16: 8
A17: 9
A18: 10
A19: 11
A20: 12
... A65: 57
B68: total : | C68: =SUM(C9:C65) -> 0 | D68: =SUM(D9:D65) -> 0 | E68: =SUM(E9:E65) -> 0 | F68: =SUM(F9:F65) -> 0 | G68: =SUM(G9:G65) -> 0 | H68: =SUM(H9:H65) -> 0 | I68: =SUM(I9:I65) -> 0 | J68: =SUM(J9:J65) -> 0 | ... W68: =SUM(W9:W65) -> 0
B71: Centre Spirituel Providence | R71: La Pommeraye
B73: mois de : | C73: =M73 -> 41402 | K73: date du : | M73: =$M$3+7 -> 41402 | P73: au : | R73: =M73+6 -> 41408
B74: passage | I74: semaine | M74: =WEEKNUM(M73,2) -> 19
C75: =C76 -> 41402 | F75: =F76 -> 41403 | I75: =I76 -> 41404 | L75: =L76 -> 41405 | O75: =O76 -> 41406 | R75: =R76 -> 41407 | U75: =U76 -> 41408
C76: =$M73 -> 41402 | F76: =$M73+1 -> 41403 | I76: =$M73+2 -> 41404 | L76: =$M73+3 -> 41405 | O76: =$M73+4 -> 41406 | R76: =$M73+5 -> 41407 | U76: =$M73+6 -> 41408
B77: nom : | C77: Pd | D77: M | E77: S | F77: Pd | G77: M | H77: S | I77: Pd | J77: M | K77: S | L77: Pd | M77: M | N77: S | O77: Pd | P77: M | Q77: S | R77: Pd | S77: M | T77: S | U77: Pd | V77: M | W77: S
A79: 1
A80: 2
A81: 3
A82: 4
A83: 5
A84: 6
A85: 7
A86: 8
A87: 9
A88: 10
A89: 11
A90: 12
... A135: 57
B138: total : | C138: =SUM(C79:C135) -> 0 | D138: =SUM(D79:D135) -> 0 | E138: =SUM(E79:E135) -> 0 | F138: =SUM(F79:F135) -> 0 | G138: =SUM(G79:G135) -> 0 | H138: =SUM(H79:H135) -> 0 | I138: =SUM(I79:I135) -> 0 | J138: =SUM(J79:J135) -> 0 | ... W138: =SUM(W79:W135) -> 0
B141: Centre Spirituel Providence | R141: La Pommeraye
B143: mois de : | C143: =M143 -> 41409 | K143: date du : | M143: =$M$3+14 -> 41409 | P143: au : | R143: =M143+6 -> 41415
B144: passage | I144: semaine | M144: =WEEKNUM(M143,2) -> 20
C145: =C146 -> 41409 | F145: =F146 -> 41410 | I145: =I146 -> 41411 | L145: =L146 -> 41412 | O145: =O146 -> 41413 | R145: =R146 -> 41414 | U145: =U146 -> 41415
C146: =$M143 -> 41409 | F146: =$M143+1 -> 41410 | I146: =$M143+2 -> 41411 | L146: =$M143+3 -> 41412 | O146: =$M143+4 -> 41413 | R146: =$M143+5 -> 41414 | U146: =$M143+6 -> 41415
B147: nom : | C147: Pd | D147: M | E147: S | F147: Pd | G147: M | H147: S | I147: Pd | J147: M | K147: S | L147: Pd | M147: M | N147: S | O147: Pd | P147: M | Q147: S | R147: Pd | S147: M | T147: S | U147: Pd | V147: M | W147: S
A149: 1
A150: 2
A151: 3
A152: 4
A153: 5
A154: 6
A155: 7
A156: 8
A157: 9
A158: 10
A159: 11
A160: 12
... A205: 57
B208: total : | C208: =SUM(C149:C205) -> 0 | D208: =SUM(D149:D205) -> 0 | E208: =SUM(E149:E205) -> 0 | F208: =SUM(F149:F205) -> 0 | G208: =SUM(G149:G205) -> 0 | H208: =SUM(H149:H205) -> 0 | I208: =SUM(I149:I205) -> 0 | J208: =SUM(J149:J205) -> 0 | ... W208: =SUM(W149:W205) -> 0
B211: Centre Spirituel Providence | R211: La Pommeraye
B213: mois de : | C213: =M213 -> 41416 | K213: date du : | M213: =$M$3+21 -> 41416 | P213: au : | R213: =M213+6 -> 41422
B214: passage | I214: semaine | M214: =WEEKNUM(M213,2) -> 21
C215: =C216 -> 41416 | F215: =F216 -> 41417 | I215: =I216 -> 41418 | L215: =L216 -> 41419 | O215: =O216 -> 41420 | R215: =R216 -> 41421 | U215: =U216 -> 41422
C216: =$M213 -> 41416 | F216: =$M213+1 -> 41417 | I216: =$M213+2 -> 41418 | L216: =$M213+3 -> 41419 | O216: =$M213+4 -> 41420 | R216: =$M213+5 -> 41421 | U216: =$M213+6 -> 41422
B217: nom : | C217: Pd | D217: M | E217: S | F217: Pd | G217: M | H217: S | I217: Pd | J217: M | K217: S | L217: Pd | M217: M | N217: S | O217: Pd | P217: M | Q217: S | R217: Pd | S217: M | T217: S | U217: Pd | V217: M | W217: S
A219: 1
A220: 2
A221: 3
A222: 4
A223: 5
A224: 6
A225: 7
A226: 8
A227: 9
A228: 10
A229: 11
A230: 12
... A275: 57
B278: total : | C278: =SUM(C219:C275) -> 0 | D278: =SUM(D219:D275) -> 0 | E278: =SUM(E219:E275) -> 0 | F278: =SUM(F219:F275) -> 0 | G278: =SUM(G219:G275) -> 0 | H278: =SUM(H219:H275) -> 0 | I278: =SUM(I219:I275) -> 0 | J278: =SUM(J219:J275) -> 0 | ... W278: =SUM(W219:W275) -> 0
B281: Centre Spirituel Providence | R281: La Pommeraye
B283: mois de : | C283: =M283 -> 41423 | K283: date du : | M283: =$M$3+28 -> 41423 | P283: au : | R283: =M283+6 -> 41429
B284: passage | I284: semaine | M284: =WEEKNUM(M283,2) -> 22
C285: =C286 -> 41423 | F285: =F286 -> 41424 | I285: =I286 -> 41425 | L285: =L286 -> 41426 | O285: =O286 -> 41427 | R285: =R286 -> 41428 | U285: =U286 -> 41429
C286: =$M283 -> 41423 | F286: =$M283+1 -> 41424 | I286: =$M283+2 -> 41425 | L286: =$M283+3 -> 41426 | O286: =$M283+4 -> 41427 | R286: =$M283+5 -> 41428 | U286: =$M283+6 -> 41429
B287: nom : | C287: Pd | D287: M | E287: S | F287: Pd | G287: M | H287: S | I287: Pd | J287: M | K287: S | L287: Pd | M287: M | N287: S | O287: Pd | P287: M | Q287: S | R287: Pd | S287: M | T287: S | U287: Pd | V287: M | W287: S
A289: 1
A290: 2
A291: 3
A292: 4
A293: 5
A294: 6
A295: 7
A296: 8
A297: 9
A298: 10
A299: 11
A300: 12
... A345: 57
B348: total : | C348: =SUM(C289:C345) -> 0 | D348: =SUM(D289:D345) -> 0 | E348: =SUM(E289:E345) -> 0 | F348: =SUM(F289:F345) -> 0 | G348: =SUM(G289:G345) -> 0 | H348: =SUM(H289:H345) -> 0 | I348: =SUM(I289:I345) -> 0 | J348: =SUM(J289:J345) -> 0 | ... W348: =SUM(W289:W345) -> 0
...

Sheet service
B1: Centre Spirituel Providence | R1: La Pommeraye
B3: mois de : | C3: =M3 -> 41395 | K3: date du : | M3: =EMPLOYÉES!H1 -> 41395 | P3: au : | R3: =M3+6 -> 41401
B4: service | I4: semaine | M4: =WEEKNUM(M3,2) -> 18
C5: =C6 -> 41395 | F5: =F6 -> 41396 | I5: =I6 -> 41397 | L5: =L6 -> 41398 | O5: =O6 -> 41399 | R5: =R6 -> 41400 | U5: =U6 -> 41401
C6: =M$3 -> 41395 | F6: =$M$3+1 -> 41396 | I6: =$M$3+2 -> 41397 | L6: =$M$3+3 -> 41398 | O6: =$M$3+4 -> 41399 | R6: =$M$3+5 -> 41400 | U6: =$M$3+6 -> 41401
B7: nom : | C7: Pd | D7: M | E7: S | F7: Pd | G7: M | H7: S | I7: Pd | J7: M | K7: S | L7: Pd | M7: M | N7: S | O7: Pd | P7: M | Q7: S | R7: Pd | S7: M | T7: S | U7: Pd | V7: M | W7: S
A9: 1 | B9: FROGER Marie-Noëlle
A10: 2 | B10: TROTTIER Hélène
A11: 3 | B11: PINEAU Béatrice
A12: 4 | B12: MACE Laurence
A13: 5 | B13: BESSONNEAU Jacqueline
A14: 6
A15: 7
A16: 8
A17: 9
A18: 10
A19: 11
A20: 12
A21: 13
A22: 14
A23: 15
A24: 16
A25: 17
... A32: 24
B34: total : | C34: =SUM(C9:C32) -> 0 | D34: =SUM(D9:D32) -> 0 | E34: =SUM(E9:E32) -> 0 | F34: =SUM(F9:F32) -> 0 | G34: =SUM(G9:G32) -> 0 | H34: =SUM(H9:H32) -> 0 | I34: =SUM(I9:I32) -> 0 | J34: =SUM(J9:J32) -> 0 | ... W34: =SUM(W9:W32) -> 0
B37: Centre Spirituel Providence | R37: La Pommeraye
B39: mois de : | C39: =M39 -> 41402 | K39: date du : | M39: =$M$3+7 -> 41402 | P39: au : | R39: =M39+6 -> 41408
B40: service | I40: semaine | M40: =WEEKNUM(M39,2) -> 19
C41: =C42 -> 41402 | F41: =F42 -> 41403 | I41: =I42 -> 41404 | L41: =L42 -> 41405 | O41: =O42 -> 41406 | R41: =R42 -> 41407 | U41: =U42 -> 41408
C42: =$M39 -> 41402 | F42: =$M39+1 -> 41403 | I42: =$M39+2 -> 41404 | L42: =$M39+3 -> 41405 | O42: =$M39+4 -> 41406 | R42: =$M39+5 -> 41407 | U42: =$M39+6 -> 41408
B43: nom : | C43: Pd | D43: M | E43: S | F43: Pd | G43: M | H43: S | I43: Pd | J43: M | K43: S | L43: Pd | M43: M | N43: S | O43: Pd | P43: M | Q43: S | R43: Pd | S43: M | T43: S | U43: Pd | V43: M | W43: S
A45: 1 | B45: FROGER Marie-Noëlle
A46: 2 | B46: TROTTIER Hélène
A47: 3 | B47: PINEAU Béatrice
A48: 4 | B48: MACE Laurence
A49: 5 | B49: BESSONNEAU Jacqueline
A50: 6
A51: 7
A52: 8
A53: 9
A54: 10
A55: 11
A56: 12
A57: 13
A58: 14
A59: 15
A60: 16
A61: 17
... A68: 24
B70: total : | C70: =SUM(C45:C68) -> 0 | D70: =SUM(D45:D68) -> 0 | E70: =SUM(E45:E68) -> 0 | F70: =SUM(F45:F68) -> 0 | G70: =SUM(G45:G68) -> 0 | H70: =SUM(H45:H68) -> 0 | I70: =SUM(I45:I68) -> 0 | J70: =SUM(J45:J68) -> 0 | ... W70: =SUM(W45:W68) -> 0
B73: Centre Spirituel Providence | R73: La Pommeraye
B75: mois de : | C75: =M75 -> 41409 | K75: date du : | M75: =$M$3+14 -> 41409 | P75: au : | R75: =M75+6 -> 41415
B76: service | I76: semaine | M76: =WEEKNUM(M75,2) -> 20
C77: =C78 -> 41409 | F77: =F78 -> 41410 | I77: =I78 -> 41411 | L77: =L78 -> 41412 | O77: =O78 -> 41413 | R77: =R78 -> 41414 | U77: =U78 -> 41415
C78: =$M75 -> 41409 | F78: =$M75+1 -> 41410 | I78: =$M75+2 -> 41411 | L78: =$M75+3 -> 41412 | O78: =$M75+4 -> 41413 | R78: =$M75+5 -> 41414 | U78: =$M75+6 -> 41415
B79: nom : | C79: Pd | D79: M | E79: S | F79: Pd | G79: M | H79: S | I79: Pd | J79: M | K79: S | L79: Pd | M79: M | N79: S | O79: Pd | P79: M | Q79: S | R79: Pd | S79: M | T79: S | U79: Pd | V79: M | W79: S
A81: 1 | B81: FROGER Marie-Noëlle
A82: 2 | B82: TROTTIER Hélène
A83: 3 | B83: PINEAU Béatrice
A84: 4 | B84: MACE Laurence
A85: 5 | B85: BESSONNEAU Jacqueline
A86: 6
A87: 7
A88: 8
A89: 9
A90: 10
A91: 11
A92: 12
A93: 13
A94: 14
A95: 15
A96: 16
A97: 17
... A104: 24
B106: total : | C106: =SUM(C81:C104) -> 0 | D106: =SUM(D81:D104) -> 0 | E106: =SUM(E81:E104) -> 0 | F106: =SUM(F81:F104) -> 0 | G106: =SUM(G81:G104) -> 0 | H106: =SUM(H81:H104) -> 0 | I106: =SUM(I81:I104) -> 0 | J106: =SUM(J81:J104) -> 0 | ... W106: =SUM(W81:W104) -> 0
B109: Centre Spirituel Providence | R109: La Pommeraye
B111: mois de : | C111: =M111 -> 41416 | K111: date du : | M111: =$M$3+21 -> 41416 | P111: au : | R111: =M111+6 -> 41422
B112: service | I112: semaine | M112: =WEEKNUM(M111,2) -> 21
C113: =C114 -> 41416 | F113: =F114 -> 41417 | I113: =I114 -> 41418 | L113: =L114 -> 41419 | O113: =O114 -> 41420 | R113: =R114 -> 41421 | U113: =U114 -> 41422
C114: =$M111 -> 41416 | F114: =$M111+1 -> 41417 | I114: =$M111+2 -> 41418 | L114: =$M111+3 -> 41419 | O114: =$M111+4 -> 41420 | R114: =$M111+5 -> 41421 | U114: =$M111+6 -> 41422
B115: nom : | C115: Pd | D115: M | E115: S | F115: Pd | G115: M | H115: S | I115: Pd | J115: M | K115: S | L115: Pd | M115: M | N115: S | O115: Pd | P115: M | Q115: S | R115: Pd | S115: M | T115: S | U115: Pd | V115: M | W115: S
A117: 1 | B117: FROGER Marie-Noëlle
A118: 2 | B118: TROTTIER Hélène
A119: 3 | B119: PINEAU Béatrice
A120: 4 | B120: MACE Laurence
A121: 5 | B121: BESSONNEAU Jacqueline
A122: 6
A123: 7
A124: 8
A125: 9
A126: 10
A127: 11
A128: 12
A129: 13
A130: 14
A131: 15
A132: 16
A133: 17
... A140: 24
B142: total : | C142: =SUM(C117:C140) -> 0 | D142: =SUM(D117:D140) -> 0 | E142: =SUM(E117:E140) -> 0 | F142: =SUM(F117:F140) -> 0 | G142: =SUM(G117:G140) -> 0 | H142: =SUM(H117:H140) -> 0 | I142: =SUM(I117:I140) -> 0 | J142: =SUM(J117:J140) -> 0 | ... W142: =SUM(W117:W140) -> 0
...

Sheet autres
B1: Centre Spirituel Providence | R1: La Pommeraye
B3: mois de : | C3: =M3 -> 41395 | K3: date du : | M3: =EMPLOYÉES!H1 -> 41395 | P3: au : | R3: =M3+6 -> 41401
B4: autres | I4: semaine | M4: =WEEKNUM(M3,2) -> 18
C5: =C6 -> 41395 | F5: =F6 -> 41396 | I5: =I6 -> 41397 | L5: =L6 -> 41398 | O5: =O6 -> 41399 | R5: =R6 -> 41400 | U5: =U6 -> 41401
C6: =$M3 -> 41395 | F6: =$M3+1 -> 41396 | I6: =$M3+2 -> 41397 | L6: =$M3+3 -> 41398 | O6: =$M3+4 -> 41399 | R6: =$M3+5 -> 41400 | U6: =$M3+6 -> 41401
B7: nom : | C7: Pd | D7: M | E7: S | F7: Pd | G7: M | H7: S | I7: Pd | J7: M | K7: S | L7: Pd | M7: M | N7: S | O7: Pd | P7: M | Q7: S | R7: Pd | S7: M | T7: S | U7: Pd | V7: M | W7: S
A9: 1
A10: 2
A11: 3
A12: 4
A13: 5
A14: 6
A15: 7
A16: 8
A17: 9
A18: 10
A19: 11
A20: 12
... A32: 24
B34: total : | C34: =SUM(C9:C32) -> 0 | D34: =SUM(D9:D32) -> 0 | E34: =SUM(E9:E32) -> 0 | F34: =SUM(F9:F32) -> 0 | G34: =SUM(G9:G32) -> 0 | H34: =SUM(H9:H32) -> 0 | I34: =SUM(I9:I32) -> 0 | J34: =SUM(J9:J32) -> 0 | ... W34: =SUM(W9:W32) -> 0
B37: Centre Spirituel Providence | R37: La Pommeraye
B39: mois de : | C39: =M39 -> 41402 | K39: date du : | M39: =M3+7 -> 41402 | P39: au : | R39: =M39+6 -> 41408
B40: autres | I40: semaine | M40: =WEEKNUM(M39,2) -> 19
C41: =C42 -> 41402 | F41: =F42 -> 41403 | I41: =I42 -> 41404 | L41: =L42 -> 41405 | O41: =O42 -> 41406 | R41: =R42 -> 41407 | U41: =U42 -> 41408
C42: =$M39 -> 41402 | F42: =$M39+1 -> 41403 | I42: =$M39+2 -> 41404 | L42: =$M39+3 -> 41405 | O42: =$M39+4 -> 41406 | R42: =$M39+5 -> 41407 | U42: =$M39+6 -> 41408
B43: nom : | C43: Pd | D43: M | E43: S | F43: Pd | G43: M | H43: S | I43: Pd | J43: M | K43: S | L43: Pd | M43: M | N43: S | O43: Pd | P43: M | Q43: S | R43: Pd | S43: M | T43: S | U43: Pd | V43: M | W43: S
A45: 1
A46: 2
A47: 3
A48: 4
A49: 5
A50: 6
A51: 7
A52: 8
A53: 9
A54: 10
A55: 11
A56: 12
... A68: 24
B70: total : | C70: =SUM(C45:C68) -> 0 | D70: =SUM(D45:D68) -> 0 | E70: =SUM(E45:E68) -> 0 | F70: =SUM(F45:F68) -> 0 | G70: =SUM(G45:G68) -> 0 | H70: =SUM(H45:H68) -> 0 | I70: =SUM(I45:I68) -> 0 | J70: =SUM(J45:J68) -> 0 | ... W70: =SUM(W45:W68) -> 0
B73: Centre Spirituel Providence | R73: La Pommeraye
B75: mois de : | C75: =M75 -> 41409 | K75: date du : | M75: =M39+7 -> 41409 | P75: au : | R75: =M75+6 -> 41415
B76: autres | I76: semaine | M76: =WEEKNUM(M75,2) -> 20
C77: =C78 -> 41409 | F77: =F78 -> 41410 | I77: =I78 -> 41411 | L77: =L78 -> 41412 | O77: =O78 -> 41413 | R77: =R78 -> 41414 | U77: =U78 -> 41415
C78: =$M75 -> 41409 | F78: =$M75+1 -> 41410 | I78: =$M75+2 -> 41411 | L78: =$M75+3 -> 41412 | O78: =$M75+4 -> 41413 | R78: =$M75+5 -> 41414 | U78: =$M75+6 -> 41415
B79: nom : | C79: Pd | D79: M | E79: S | F79: Pd | G79: M | H79: S | I79: Pd | J79: M | K79: S | L79: Pd | M79: M | N79: S | O79: Pd | P79: M | Q79: S | R79: Pd | S79: M | T79: S | U79: Pd | V79: M | W79: S
A81: 1
A82: 2
A83: 3
A84: 4
A85: 5
A86: 6
A87: 7
A88: 8
A89: 9
A90: 10
A91: 11
A92: 12
... A104: 24
B106: total : | C106: =SUM(C81:C104) -> 0 | D106: =SUM(D81:D104) -> 0 | E106: =SUM(E81:E104) -> 0 | F106: =SUM(F81:F104) -> 0 | G106: =SUM(G81:G104) -> 0 | H106: =SUM(H81:H104) -> 0 | I106: =SUM(I81:I104) -> 0 | J106: =SUM(J81:J104) -> 0 | ... W106: =SUM(W81:W104) -> 0
B109: Centre Spirituel Providence | R109: La Pommeraye
B111: mois de : | C111: =M111 -> 41416 | K111: date du : | M111: =M75+7 -> 41416 | P111: au : | R111: =M111+6 -> 41422
B112: autres | I112: semaine | M112: =WEEKNUM(M111,2) -> 21
C113: =C114 -> 41416 | F113: =F114 -> 41417 | I113: =I114 -> 41418 | L113: =L114 -> 41419 | O113: =O114 -> 41420 | R113: =R114 -> 41421 | U113: =U114 -> 41422
C114: =$M111 -> 41416 | F114: =$M111+1 -> 41417 | I114: =$M111+2 -> 41418 | L114: =$M111+3 -> 41419 | O114: =$M111+4 -> 41420 | R114: =$M111+5 -> 41421 | U114: =$M111+6 -> 41422
B115: nom : | C115: Pd | D115: M | E115: S | F115: Pd | G115: M | H115: S | I115: Pd | J115: M | K115: S | L115: Pd | M115: M | N115: S | O115: Pd | P115: M | Q115: S | R115: Pd | S115: M | T115: S | U115: Pd | V115: M | W115: S
A117: 1
A118: 2
A119: 3
A120: 4
A121: 5
A122: 6
A123: 7
A124: 8
A125: 9
A126: 10
A127: 11
A128: 12
... A140: 24
B142: total : | C142: =SUM(C117:C140) -> 0 | D142: =SUM(D117:D140) -> 0 | E142: =SUM(E117:E140) -> 0 | F142: =SUM(F117:F140) -> 0 | G142: =SUM(G117:G140) -> 0 | H142: =SUM(H117:H140) -> 0 | I142: =SUM(I117:I140) -> 0 | J142: =SUM(J117:J140) -> 0 | ... W142: =SUM(W117:W140) -> 0
B145: Centre Spirituel Providence | R145: La Pommeraye
B147: mois de : | C147: =M147 -> 41423 | K147: date du : | M147: =M111+7 -> 41423 | P147: au : | R147: =M147+6 -> 41429
B148: autres | I148: semaine | M148: =WEEKNUM(M147,2) -> 22
C149: =C150 -> 41423 | F149: =F150 -> 41424 | I149: =I150 -> 41425 | L149: =L150 -> 41426 | O149: =O150 -> 41427 | R149: =R150 -> 41428 | U149: =U150 -> 41429
C150: =$M147 -> 41423 | F150: =$M147+1 -> 41424 | I150: =$M147+2 -> 41425 | L150: =$M147+3 -> 41426 | O150: =$M147+4 -> 41427 | R150: =$M147+5 -> 41428 | U150: =$M147+6 -> 41429
B151: nom : | C151: Pd | D151: M | E151: S | F151: Pd | G151: M | H151: S | I151: Pd | J151: M | K151: S | L151: Pd | M151: M | N151: S | O151: Pd | P151: M | Q151: S | R151: Pd | S151: M | T151: S | U151: Pd | V151: M | W151: S
A153: 1
A154: 2
A155: 3
A156: 4
A157: 5
A158: 6
A159: 7
A160: 8
A161: 9
A162: 10
A163: 11
A164: 12
... A176: 24
B178: total : | C178: =SUM(C153:C176) -> 0 | D178: =SUM(D153:D176) -> 0 | E178: =SUM(E153:E176) -> 0 | F178: =SUM(F153:F176) -> 0 | G178: =SUM(G153:G176) -> 0 | H178: =SUM(H153:H176) -> 0 | I178: =SUM(I153:I176) -> 0 | J178: =SUM(J153:J176) -> 0 | ... W178: =SUM(W153:W176) -> 0
...

Sheet TOTAUX EFFECTIFS
B1: Centre Spirituel Providence | R1: La Pommeraye
B3: mois de : | C3: =M3 -> 41395 | K3: date du : | M3: =EMPLOYÉES!H1 -> 41395 | P3: au : | R3: =M3+6 -> 41401
B4: effectifs | I4: semaine | M4: =WEEKNUM(M3,2) -> 18
C5: =C6 -> 41395 | F5: =F6 -> 41396 | I5: =I6 -> 41397 | L5: =L6 -> 41398 | O5: =O6 -> 41399 | R5: =R6 -> 41400 | U5: =U6 -> 41401
C6: =$M3 -> 41395 | F6: =$M3+1 -> 41396 | I6: =$M3+2 -> 41397 | L6: =$M3+3 -> 41398 | O6: =$M3+4 -> 41399 | R6: =$M3+5 -> 41400 | U6: =$M3+6 -> 41401
C7: Pd | D7: M | E7: S | F7: Pd | G7: M | H7: S | I7: Pd | J7: M | K7: S | L7: Pd | M7: M | N7: S | O7: Pd | P7: M | Q7: S | R7: Pd | S7: M | T7: S | U7: Pd | V7: M | W7: S
B8: Groupes | C8: =groupes1!C27 -> 0 | D8: =groupes1!D27 -> 0 | E8: =groupes1!E27 -> 0 | F8: =groupes1!F27 -> 0 | G8: =groupes1!G27 -> 0 | H8: =groupes1!H27 -> 0 | I8: =groupes1!I27 -> 0 | J8: =groupes1!J27 -> 0 | ... W8: =groupes1!W27 -> 0
B9: Permanents | C9: =permanents2!C29 -> 0 | D9: =permanents2!D29 -> 0 | E9: =permanents2!E29 -> 0 | F9: =permanents2!F29 -> 0 | G9: =permanents2!G29 -> 0 | H9: =permanents2!H29 -> 0 | I9: =permanents2!I29 -> 0 | J9: =permanents2!J29 -> 0 | ... W9: =permanents2!W29 -> 0
B10: Passages | C10: =passages3!C68 -> 0 | D10: =passages3!D68 -> 0 | E10: =passages3!E68 -> 0 | F10: =passages3!F68 -> 0 | G10: =passages3!G68 -> 0 | H10: =passages3!H68 -> 0 | I10: =passages3!I68 -> 0 | J10: =passages3!J68 -> 0 | ... W10: =passages3!W68 -> 0
B11: Service | C11: =service!C34 -> 0 | D11: =service!D34 -> 0 | E11: =service!E34 -> 0 | F11: =service!F34 -> 0 | G11: =service!G34 -> 0 | H11: =service!H34 -> 0 | I11: =service!I34 -> 0 | J11: =service!J34 -> 0 | ... W11: =service!W34 -> 0
B12: autres | C12: =autres!C34 -> 0 | D12: =autres!D34 -> 0 | E12: =autres!E34 -> 0 | F12: =autres!F34 -> 0 | G12: =autres!G34 -> 0 | H12: =autres!H34 -> 0 | I12: =autres!I34 -> 0 | J12: =autres!J34 -> 0 | ... W12: =autres!W34 -> 0
B13: TOTAL | C13: =SUM(C8:C12) -> 0 | D13: =SUM(D8:D12) -> 0 | E13: =SUM(E8:E12) -> 0 | F13: =SUM(F8:F12) -> 0 | G13: =SUM(G8:G12) -> 0 | H13: =SUM(H8:H12) -> 0 | I13: =SUM(I8:I12) -> 0 | J13: =SUM(J8:J12) -> 0 | ... W13: =SUM(W8:W12) -> 0
B16: Centre Spirituel Providence | R16: La Pommeraye
B18: mois de : | C18: =M18 -> 41402 | K18: date du : | M18: =M3+7 -> 41402 | P18: au : | R18: =M18+6 -> 41408
B19: effectifs | I19: semaine | M19: =WEEKNUM(M18,2) -> 19
C20: =C21 -> 41402 | F20: =F21 -> 41403 | I20: =I21 -> 41404 | L20: =L21 -> 41405 | O20: =O21 -> 41406 | R20: =R21 -> 41407 | U20: =U21 -> 41408
C21: =$M18 -> 41402 | F21: =$M18+1 -> 41403 | I21: =$M18+2 -> 41404 | L21: =$M18+3 -> 41405 | O21: =$M18+4 -> 41406 | R21: =$M18+5 -> 41407 | U21: =$M18+6 -> 41408
C22: Pd | D22: M | E22: S | F22: Pd | G22: M | H22: S | I22: Pd | J22: M | K22: S | L22: Pd | M22: M | N22: S | O22: Pd | P22: M | Q22: S | R22: Pd | S22: M | T22: S | U22: Pd | V22: M | W22: S
B23: Groupes | C23: =groupes1!C56 -> 0 | D23: =groupes1!D56 -> 0 | E23: =groupes1!E56 -> 0 | F23: =groupes1!F56 -> 0 | G23: =groupes1!G56 -> 0 | H23: =groupes1!H56 -> 0 | I23: =groupes1!I56 -> 0 | J23: =groupes1!J56 -> 0 | ... W23: =groupes1!W56 -> 0
B24: Permanents | C24: =permanents2!C60 -> 0 | D24: =permanents2!D60 -> 0 | E24: =permanents2!E60 -> 0 | F24: =permanents2!F60 -> 0 | G24: =permanents2!G60 -> 0 | H24: =permanents2!H60 -> 0 | I24: =permanents2!I60 -> 0 | J24: =permanents2!J60 -> 0 | ... W24: =permanents2!W60 -> 0
B25: Passages | C25: =passages3!C138 -> 0 | D25: =passages3!D138 -> 0 | E25: =passages3!E138 -> 0 | F25: =passages3!F138 -> 0 | G25: =passages3!G138 -> 0 | H25: =passages3!H138 -> 0 | I25: =passages3!I138 -> 0 | J25: =passages3!J138 -> 0 | ... W25: =passages3!W138 -> 0
B26: Service | C26: =service!C70 -> 0 | D26: =service!D70 -> 0 | E26: =service!E70 -> 0 | F26: =service!F70 -> 0 | G26: =service!G70 -> 0 | H26: =service!H70 -> 0 | I26: =service!I70 -> 0 | J26: =service!J70 -> 0 | ... W26: =service!W70 -> 0
B27: autres | C27: =autres!C70 -> 0 | D27: =autres!D70 -> 0 | E27: =autres!E70 -> 0 | F27: =autres!F70 -> 0 | G27: =autres!G70 -> 0 | H27: =autres!H70 -> 0 | I27: =autres!I70 -> 0 | J27: =autres!J70 -> 0 | ... W27: =autres!W70 -> 0
B28: TOTAL | C28: =SUM(C23:C27) -> 0 | D28: =SUM(D23:D27) -> 0 | E28: =SUM(E23:E27) -> 0 | F28: =SUM(F23:F27) -> 0 | G28: =SUM(G23:G27) -> 0 | H28: =SUM(H23:H27) -> 0 | I28: =SUM(I23:I27) -> 0 | J28: =SUM(J23:J27) -> 0 | ... W28: =SUM(W23:W27) -> 0
B31: Centre Spirituel Providence | R31: La Pommeraye
B33: mois de : | C33: =M33 -> 41409 | K33: date du : | M33: =M18+7 -> 41409 | P33: au : | R33: =M33+6 -> 41415
B34: effectifs | I34: semaine | M34: =WEEKNUM(M33,2) -> 20
C35: =C36 -> 41409 | F35: =F36 -> 41410 | I35: =I36 -> 41411 | L35: =L36 -> 41412 | O35: =O36 -> 41413 | R35: =R36 -> 41414 | U35: =U36 -> 41415
C36: =$M33 -> 41409 | F36: =$M33+1 -> 41410 | I36: =$M33+2 -> 41411 | L36: =$M33+3 -> 41412 | O36: =$M33+4 -> 41413 | R36: =$M33+5 -> 41414 | U36: =$M33+6 -> 41415
C37: Pd | D37: M | E37: S | F37: Pd | G37: M | H37: S | I37: Pd | J37: M | K37: S | L37: Pd | M37: M | N37: S | O37: Pd | P37: M | Q37: S | R37: Pd | S37: M | T37: S | U37: Pd | V37: M | W37: S
B38: Groupes | C38: =groupes1!C85 -> 0 | D38: =groupes1!D85 -> 0 | E38: =groupes1!E85 -> 0 | F38: =groupes1!F85 -> 0 | G38: =groupes1!G85 -> 0 | H38: =groupes1!H85 -> 0 | I38: =groupes1!I85 -> 0 | J38: =groupes1!J85 -> 0 | ... W38: =groupes1!W85 -> 0
B39: Permanents | C39: =permanents2!C91 -> 0 | D39: =permanents2!D91 -> 0 | E39: =permanents2!E91 -> 0 | F39: =permanents2!F91 -> 0 | G39: =permanents2!G91 -> 0 | H39: =permanents2!H91 -> 0 | I39: =permanents2!I91 -> 0 | J39: =permanents2!J91 -> 0 | ... W39: =permanents2!W91 -> 0
B40: Passages | C40: =passages3!C208 -> 0 | D40: =passages3!D208 -> 0 | E40: =passages3!E208 -> 0 | F40: =passages3!F208 -> 0 | G40: =passages3!G208 -> 0 | H40: =passages3!H208 -> 0 | I40: =passages3!I208 -> 0 | J40: =passages3!J208 -> 0 | ... W40: =passages3!W208 -> 0
B41: Service | C41: =service!C106 -> 0 | D41: =service!D106 -> 0 | E41: =service!E106 -> 0 | F41: =service!F106 -> 0 | G41: =service!G106 -> 0 | H41: =service!H106 -> 0 | I41: =service!I106 -> 0 | J41: =service!J106 -> 0 | ... W41: =service!W106 -> 0
B42: autres | C42: =autres!C106 -> 0 | D42: =autres!D106 -> 0 | E42: =autres!E106 -> 0 | F42: =autres!F106 -> 0 | G42: =autres!G106 -> 0 | H42: =autres!H106 -> 0 | I42: =autres!I106 -> 0 | J42: =autres!J106 -> 0 | ... W42: =autres!W106 -> 0
B43: TOTAL | C43: =SUM(C38:C42) -> 0 | D43: =SUM(D38:D42) -> 0 | E43: =SUM(E38:E42) -> 0 | F43: =SUM(F38:F42) -> 0 | G43: =SUM(G38:G42) -> 0 | H43: =SUM(H38:H42) -> 0 | I43: =SUM(I38:I42) -> 0 | J43: =SUM(J38:J42) -> 0 | ... W43: =SUM(W38:W42) -> 0
B46: Centre Spirituel Providence | R46: La Pommeraye
B48: mois de : | C48: =M48 -> 41416 | K48: date du : | M48: =M33+7 -> 41416 | P48: au : | R48: =M48+6 -> 41422
B49: effectifs | I49: semaine | M49: =WEEKNUM(M48,2) -> 21
C50: =C51 -> 41416 | F50: =F51 -> 41417 | I50: =I51 -> 41418 | L50: =L51 -> 41419 | O50: =O51 -> 41420 | R50: =R51 -> 41421 | U50: =U51 -> 41422
C51: =$M48 -> 41416 | F51: =$M48+1 -> 41417 | I51: =$M48+2 -> 41418 | L51: =$M48+3 -> 41419 | O51: =$M48+4 -> 41420 | R51: =$M48+5 -> 41421 | U51: =$M48+6 -> 41422
C52: Pd | D52: M | E52: S | F52: Pd | G52: M | H52: S | I52: Pd | J52: M | K52: S | L52: Pd | M52: M | N52: S | O52: Pd | P52: M | Q52: S | R52: Pd | S52: M | T52: S | U52: Pd | V52: M | W52: S
B53: Groupes | C53: =groupes1!C114 -> 0 | D53: =groupes1!D114 -> 0 | E53: =groupes1!E114 -> 0 | F53: =groupes1!F114 -> 0 | G53: =groupes1!G114 -> 0 | H53: =groupes1!H114 -> 0 | I53: =groupes1!I114 -> 0 | J53: =groupes1!J114 -> 0 | ... W53: =groupes1!W114 -> 0
B54: Permanents | C54: =permanents2!C122 -> 0 | D54: =permanents2!D122 -> 0 | E54: =permanents2!E122 -> 0 | F54: =permanents2!F122 -> 0 | G54: =permanents2!G122 -> 0 | H54: =permanents2!H122 -> 0 | I54: =permanents2!I122 -> 0 | J54: =permanents2!J122 -> 0 | ... W54: =permanents2!W122 -> 0
B55: Passages | C55: =passages3!C278 -> 0 | D55: =passages3!D278 -> 0 | E55: =passages3!E278 -> 0 | F55: =passages3!F278 -> 0 | G55: =passages3!G278 -> 0 | H55: =passages3!H278 -> 0 | I55: =passages3!I278 -> 0 | J55: =passages3!J278 -> 0 | ... W55: =passages3!W278 -> 0
B56: Service | C56: =service!C142 -> 0 | D56: =service!D142 -> 0 | E56: =service!E142 -> 0 | F56: =service!F142 -> 0 | G56: =service!G142 -> 0 | H56: =service!H142 -> 0 | I56: =service!I142 -> 0 | J56: =service!J142 -> 0 | ... W56: =service!W142 -> 0
B57: autres | C57: =autres!C142 -> 0 | D57: =autres!D142 -> 0 | E57: =autres!E142 -> 0 | F57: =autres!F142 -> 0 | G57: =autres!G142 -> 0 | H57: =autres!H142 -> 0 | I57: =autres!I142 -> 0 | J57: =autres!J142 -> 0 | ... W57: =autres!W142 -> 0
B58: TOTAL | C58: =SUM(C53:C57) -> 0 | D58: =SUM(D53:D57) -> 0 | E58: =SUM(E53:E57) -> 0 | F58: =SUM(F53:F57) -> 0 | G58: =SUM(G53:G57) -> 0 | H58: =SUM(H53:H57) -> 0 | I58: =SUM(I53:I57) -> 0 | J58: =SUM(J53:J57) -> 0 | ... W58: =SUM(W53:W57) -> 0
B61: Centre Spirituel Providence | R61: La Pommeraye
B63: mois de : | C63: =M63 -> 41423 | K63: date du : | M63: =M48+7 -> 41423 | P63: au : | R63: =M63+6 -> 41429
B64: effectifs | I64: semaine | M64: =WEEKNUM(M63,2) -> 22
C65: =C66 -> 41423 | F65: =F66 -> 41424 | I65: =I66 -> 41425 | L65: =L66 -> 41426 | O65: =O66 -> 41427 | R65: =R66 -> 41428 | U65: =U66 -> 41429
C66: =$M63 -> 41423 | F66: =$M63+1 -> 41424 | I66: =$M63+2 -> 41425 | L66: =$M63+3 -> 41426 | O66: =$M63+4 -> 41427 | R66: =$M63+5 -> 41428 | U66: =$M63+6 -> 41429
C67: Pd | D67: M | E67: S | F67: Pd | G67: M | H67: S | I67: Pd | J67: M | K67: S | L67: Pd | M67: M | N67: S | O67: Pd | P67: M | Q67: S | R67: Pd | S67: M | T67: S | U67: Pd | V67: M | W67: S
B68: Groupes | C68: =groupes1!C143 -> 0 | D68: =groupes1!D143 -> 0 | E68: =groupes1!E143 -> 0 | F68: =groupes1!F143 -> 0 | G68: =groupes1!G143 -> 0 | H68: =groupes1!H143 -> 0 | I68: =groupes1!I143 -> 0 | J68: =groupes1!J143 -> 0 | ... W68: =groupes1!W143 -> 0
B69: Permanents | C69: =permanents2!C153 -> 0 | D69: =permanents2!D153 -> 0 | E69: =permanents2!E153 -> 0 | F69: =permanents2!F153 -> 0 | G69: =permanents2!G153 -> 0 | H69: =permanents2!H153 -> 0 | I69: =permanents2!I153 -> 0 | J69: =permanents2!J153 -> 0 | ... W69: =permanents2!W153 -> 0
B70: Passages | C70: =passages3!C348 -> 0 | D70: =passages3!D348 -> 0 | E70: =passages3!E348 -> 0 | F70: =passages3!F348 -> 0 | G70: =passages3!G348 -> 0 | H70: =passages3!H348 -> 0 | I70: =passages3!I348 -> 0 | J70: =passages3!J348 -> 0 | ... W70: =passages3!W348 -> 0
B71: Service | C71: =service!C178 -> 0 | D71: =service!D178 -> 0 | E71: =service!E178 -> 0 | F71: =service!F178 -> 0 | G71: =service!G178 -> 0 | H71: =service!H178 -> 0 | I71: =service!I178 -> 0 | J71: =service!J178 -> 0 | ... W71: =service!W178 -> 0
B72: autres | C72: =autres!C178 -> 0 | D72: =autres!D178 -> 0 | E72: =autres!E178 -> 0 | F72: =autres!F178 -> 0 | G72: =autres!G178 -> 0 | H72: =autres!H178 -> 0 | I72: =autres!I178 -> 0 | J72: =autres!J178 -> 0 | ... W72: =autres!W178 -> 0
B73: TOTAL | C73: =SUM(C68:C72) -> 0 | D73: =SUM(D68:D72) -> 0 | E73: =SUM(E68:E72) -> 0 | F73: =SUM(F68:F72) -> 0 | G73: =SUM(G68:G72) -> 0 | H73: =SUM(H68:H72) -> 0 | I73: =SUM(I68:I72) -> 0 | J73: =SUM(J68:J72) -> 0 | ... W73: =SUM(W68:W72) -> 0
B76: Centre Spirituel Providence | R76: La Pommeraye
B78: mois de : | C78: =M78 -> 41430 | K78: date du : | M78: =M63+7 -> 41430 | P78: au : | R78: =M78+6 -> 41436
B79: effectifs | I79: semaine | M79: =WEEKNUM(M78,2) -> 23
C80: =C81 -> 41430 | F80: =F81 -> 41431 | I80: =I81 -> 41432 | L80: =L81 -> 41433 | O80: =O81 -> 41434 | R80: =R81 -> 41435 | U80: =U81 -> 41436
C81: =$M78 -> 41430 | F81: =$M78+1 -> 41431 | I81: =$M78+2 -> 41432 | L81: =$M78+3 -> 41433 | O81: =$M78+4 -> 41434 | R81: =$M78+5 -> 41435 | U81: =$M78+6 -> 41436
C82: Pd | D82: M | E82: S | F82: Pd | G82: M | H82: S | I82: Pd | J82: M | K82: S | L82: Pd | M82: M | N82: S | O82: Pd | P82: M | Q82: S | R82: Pd | S82: M | T82: S | U82: Pd | V82: M | W82: S
B83: Groupes | C83: =groupes1!C172 -> 0 | D83: =groupes1!D172 -> 0 | E83: =groupes1!E172 -> 0 | F83: =groupes1!F172 -> 0 | G83: =groupes1!G172 -> 0 | H83: =groupes1!H172 -> 0 | I83: =groupes1!I172 -> 0 | J83: =groupes1!J172 -> 0 | ... W83: =groupes1!W172 -> 0
B84: Permanents | C84: =permanents2!C184 -> 0 | D84: =permanents2!D184 -> 0 | E84: =permanents2!E184 -> 0 | F84: =permanents2!F184 -> 0 | G84: =permanents2!G184 -> 0 | H84: =permanents2!H184 -> 0 | I84: =permanents2!I184 -> 0 | J84: =permanents2!J184 -> 0 | ... W84: =permanents2!W184 -> 0
B85: Passages | C85: =passages3!C418 -> 0 | D85: =passages3!D418 -> 0 | E85: =passages3!E418 -> 0 | F85: =passages3!F418 -> 0 | G85: =passages3!G418 -> 0 | H85: =passages3!H418 -> 0 | I85: =passages3!I418 -> 0 | J85: =passages3!J418 -> 0 | ... W85: =passages3!W418 -> 0
B86: Service | C86: =service!C214 -> 0 | D86: =service!D214 -> 0 | E86: =service!E214 -> 0 | F86: =service!F214 -> 0 | G86: =service!G214 -> 0 | H86: =service!H214 -> 0 | I86: =service!I214 -> 0 | J86: =service!J214 -> 0 | ... W86: =service!W214 -> 0
B87: autres | C87: =autres!C214 -> 0 | D87: =autres!D214 -> 0 | E87: =autres!E214 -> 0 | F87: =autres!F214 -> 0 | G87: =autres!G214 -> 0 | H87: =autres!H214 -> 0 | I87: =autres!I214 -> 0 | J87: =autres!J214 -> 0 | ... W87: =autres!W214 -> 0
B88: TOTAL | C88: =SUM(C83:C87) -> 0 | D88: =SUM(D83:D87) -> 0 | E88: =SUM(E83:E87) -> 0 | F88: =SUM(F83:F87) -> 0 | G88: =SUM(G83:G87) -> 0 | H88: =SUM(H83:H87) -> 0 | I88: =SUM(I83:I87) -> 0 | J88: =SUM(J83:J87) -> 0 | ... W88: =SUM(W83:W87) -> 0
