Workbook
Name Champ1: 'Matrice Marketing'!$A$5:$F$25
Name Champ2: 'Matrice Production'!$A$5:$G$25
Name champ3: 'Matrice Production'!$A$5:$F$25

Sheet Matrice de Controle
D1: Note d'Utilisation; Pour l'instant seule la partie Marketing(colorée en vert) est complete et active. Dans l'onglet Matrice Marketing, on peux enregistrer des donnée, donc on attribuera a chaque contrat un code. Il vous suffit de taper ce code dans la partie code contrat au Niveau de l'onglet matrice de controle pour que le reste de la table se met a jour automatiquement.
B4: Macros pour resumé tous contrat
B5: Macros pour tous personnel
B6: Macros pour perfo Individuel
B7: MATRICE DE GESTION | P7: LEGENDE
P8: ='Matrice Marketing'!A5 -> A005 | Q8: ='Matrice Marketing'!H5 -> OCDE | R8: ='Matrice Marketing'!B5 -> 41377
B9: MARKETING | G9: PRODUCTION | L9: MANAGEMENT | P9: ='Matrice Marketing'!A6 -> F006 | Q9: ='Matrice Marketing'!H6 -> MALI | R9: ='Matrice Marketing'!B6 -> 41316
B10: N° Contrat | C10: Nom&Prenom | D10: MONTANT | E10: Contribution | G10: N° Contrat | H10: Nom&Prenom | I10: RAPPORT | J10: Contribution | L10: N° Contrat | M10: Nom&Prenom | N10: MONTANT | O10: Contribution | P10: ='Matrice Marketing'!A7 -> J008 | Q10: ='Matrice Marketing'!H7 -> Fashionlux | R10: ='Matrice Marketing'!B7 -> 41253
B11: F006 | C11: =IF($B11="","",VLOOKUP(B11,Champ1,3,FALSE)) -> Markis Goussou | D11: =IF($B11="","",VLOOKUP(B11,Champ1,6,FALSE)) -> 15000000 | E11: =IF($B11="","",VLOOKUP(B11,Champ1,5,FALSE)) -> 0.55 | G11: =B11 -> F006 | H11: =IF(G11=B11, VLOOKUP(G11, Champ2, 3,FALSE)) -> Markis Goussou | I11: =IF(G11=B11, VLOOKUP(G11,Champ2,4,FALSE)) -> 11 | J11: =IF(G11=B11, VLOOKUP(G11,Champ2,5,FALSE)) -> 0.27 | P11: ='Matrice Marketing'!A8 -> A005 | Q11: ='Matrice Marketing'!H8 -> 0 | R11: ='Matrice Marketing'!B8 -> 41377
B12: j008 | C12: =IF($B12="","",VLOOKUP(B12,Champ1,3,FALSE)) -> Fatima Dasdas | D12: =IF($B12="","",VLOOKUP(B12,Champ1,6,FALSE)) -> 65000000 | E12: =IF($B12="","",VLOOKUP(B12,Champ1,5,FALSE)) -> 0.49 | G12: =B12 -> j008 | H12: =IF(G12=B12, VLOOKUP(G12, Champ2, 3,FALSE)) -> Fatima Dasdas | I12: =IF(G12=B12, VLOOKUP(G12,Champ2,4,FALSE)) -> 10 | J12: =IF(G12=B12, VLOOKUP(G12,Champ2,5,FALSE)) -> 0.45 | P12: ='Matrice Marketing'!A9 -> A005 | Q12: ='Matrice Marketing'!H9 -> 0 | R12: ='Matrice Marketing'!B9 -> 41377
B13: A005 | C13: =IF($B13="","",VLOOKUP(B13,Champ1,3,FALSE)) -> John Kiff | D13: =IF($B13="","",VLOOKUP(B13,Champ1,6,FALSE)) -> 25000000 | E13: =IF($B13="","",VLOOKUP(B13,Champ1,5,FALSE)) -> 0.25 | G13: =B13 -> A005 | H13: =IF(G13=B13, VLOOKUP(G13, Champ2, 3,FALSE)) -> John Kiff | I13: =IF(G13=B13, VLOOKUP(G13,Champ2,4,FALSE)) -> 12 | J13: =IF(G13=B13, VLOOKUP(G13,Champ2,5,FALSE)) -> 0.12 | P13: ='Matrice Marketing'!A10 -> F006 | Q13: ='Matrice Marketing'!H10 -> 0 | R13: ='Matrice Marketing'!B10 -> 41316
C14: =IF($B14="","",VLOOKUP(B14,Champ1,3,FALSE)) | D14: =IF($B14="","",VLOOKUP(B14,Champ1,6,FALSE)) | E14: =IF($B14="","",VLOOKUP(B14,Champ1,5,FALSE)) | G14: =B14 -> 0 | H14: =IF(G14=B14, VLOOKUP(G14, Champ2, 3,FALSE)) -> 0 | I14: =IF(G14=B14, VLOOKUP(G14,Champ2,4,FALSE)) -> 0 | J14: =IF(G14=B14, VLOOKUP(G14,Champ2,5,FALSE)) -> 0 | P14: ='Matrice Marketing'!A11 -> J008 | Q14: ='Matrice Marketing'!H11 -> 0 | R14: ='Matrice Marketing'!B11 -> 41253
C15: =IF($B15="","",VLOOKUP(B15,Champ1,3,FALSE)) | D15: =IF($B15="","",VLOOKUP(B15,Champ1,6,FALSE)) | E15: =IF($B15="","",VLOOKUP(B15,Champ1,5,FALSE)) | G15: =B15 -> 0 | H15: =IF(G15=B15, VLOOKUP(G15, Champ2, 3,FALSE)) -> 0 | I15: =IF(G15=B15, VLOOKUP(G15,Champ2,4,FALSE)) -> 0 | J15: =IF(G15=B15, VLOOKUP(G15,Champ2,5,FALSE)) -> 0 | P15: ='Matrice Marketing'!A12 -> J008 | Q15: ='Matrice Marketing'!H12 -> 0 | R15: ='Matrice Marketing'!B12 -> 41253
C16: =IF($B16="","",VLOOKUP(B16,Champ1,3,FALSE)) | D16: =IF($B16="","",VLOOKUP(B16,Champ1,6,FALSE)) | E16: =IF($B16="","",VLOOKUP(B16,Champ1,5,FALSE)) | G16: =B16 -> 0 | H16: =IF(G16=B16, VLOOKUP(G16, Champ2, 3,FALSE)) -> 0 | I16: =IF(G16=B16, VLOOKUP(G16,Champ2,4,FALSE)) -> 0 | J16: =IF(G16=B16, VLOOKUP(G16,Champ2,5,FALSE)) -> 0 | P16: ='Matrice Marketing'!A13 -> 0 | Q16: ='Matrice Marketing'!H13 -> 0 | R16: ='Matrice Marketing'!B13 -> 0
C17: =IF($B17="","",VLOOKUP(B17,Champ1,3,FALSE)) | D17: =IF($B17="","",VLOOKUP(B17,Champ1,6,FALSE)) | E17: =IF($B17="","",VLOOKUP(B17,Champ1,5,FALSE)) | G17: =B17 -> 0 | H17: =IF(G17=B17, VLOOKUP(G17, Champ2, 3,FALSE)) -> 0 | I17: =IF(G17=B17, VLOOKUP(G17,Champ2,4,FALSE)) -> 0 | J17: =IF(G17=B17, VLOOKUP(G17,Champ2,5,FALSE)) -> 0 | P17: ='Matrice Marketing'!A14 -> 0 | Q17: ='Matrice Marketing'!H14 -> 0 | R17: ='Matrice Marketing'!B14 -> 0
C18: =IF($B18="","",VLOOKUP(B18,Champ1,3,FALSE)) | D18: =IF($B18="","",VLOOKUP(B18,Champ1,6,FALSE)) | E18: =IF($B18="","",VLOOKUP(B18,Champ1,5,FALSE)) | G18: =B18 -> 0 | H18: =IF(G18=B18, VLOOKUP(G18, Champ2, 3,FALSE)) -> 0 | I18: =IF(G18=B18, VLOOKUP(G18,Champ2,4,FALSE)) -> 0 | J18: =IF(G18=B18, VLOOKUP(G18,Champ2,5,FALSE)) -> 0 | P18: ='Matrice Marketing'!A15 -> 0 | Q18: ='Matrice Marketing'!H15 -> 0 | R18: ='Matrice Marketing'!B15 -> 0
C19: =IF($B19="","",VLOOKUP(B19,Champ1,3,FALSE)) | D19: =IF($B19="","",VLOOKUP(B19,Champ1,6,FALSE)) | E19: =IF($B19="","",VLOOKUP(B19,Champ1,5,FALSE)) | G19: =B19 -> 0 | H19: =IF(G19=B19, VLOOKUP(G19, Champ2, 3,FALSE)) -> 0 | I19: =IF(G19=B19, VLOOKUP(G19,Champ2,4,FALSE)) -> 0 | J19: =IF(G19=B19, VLOOKUP(G19,Champ2,5,FALSE)) -> 0 | P19: ='Matrice Marketing'!A16 -> 0 | Q19: ='Matrice Marketing'!H16 -> 0 | R19: ='Matrice Marketing'!B16 -> 0
C20: =IF($B20="","",VLOOKUP(B20,Champ1,3,FALSE)) | D20: =IF($B20="","",VLOOKUP(B20,Champ1,6,FALSE)) | E20: =IF($B20="","",VLOOKUP(B20,Champ1,5,FALSE)) | G20: =B20 -> 0 | H20: =IF(G20=B20, VLOOKUP(G20, Champ2, 3,FALSE)) -> 0 | I20: =IF(G20=B20, VLOOKUP(G20,Champ2,4,FALSE)) -> 0 | J20: =IF(G20=B20, VLOOKUP(G20,Champ2,5,FALSE)) -> 0 | P20: ='Matrice Marketing'!A17 -> 0 | Q20: ='Matrice Marketing'!H17 -> 0 | R20: ='Matrice Marketing'!B17 -> 0
C21: =IF($B21="","",VLOOKUP(B21,Champ1,3,FALSE)) | D21: =IF($B21="","",VLOOKUP(B21,Champ1,6,FALSE)) | E21: =IF($B21="","",VLOOKUP(B21,Champ1,5,FALSE)) | G21: =B21 -> 0 | H21: =IF(G21=B21, VLOOKUP(G21, Champ2, 3,FALSE)) -> 0 | I21: =IF(G21=B21, VLOOKUP(G21,Champ2,4,FALSE)) -> 0 | J21: =IF(G21=B21, VLOOKUP(G21,Champ2,5,FALSE)) -> 0 | P21: ='Matrice Marketing'!A18 -> 0 | Q21: ='Matrice Marketing'!H18 -> 0 | R21: ='Matrice Marketing'!B18 -> 0
C22: =IF($B22="","",VLOOKUP(B22,Champ1,3,FALSE)) | D22: =IF($B22="","",VLOOKUP(B22,Champ1,6,FALSE)) | E22: =IF($B22="","",VLOOKUP(B22,Champ1,5,FALSE)) | G22: =B22 -> 0 | H22: =IF(G22=B22, VLOOKUP(G22, Champ2, 3,FALSE)) -> 0 | I22: =IF(G22=B22, VLOOKUP(G22,Champ2,4,FALSE)) -> 0 | J22: =IF(G22=B22, VLOOKUP(G22,Champ2,5,FALSE)) -> 0 | P22: ='Matrice Marketing'!A19 -> 0 | Q22: ='Matrice Marketing'!H19 -> 0 | R22: ='Matrice Marketing'!B19 -> 0
C23: =IF($B23="","",VLOOKUP(B23,Champ1,3,FALSE)) | D23: =IF($B23="","",VLOOKUP(B23,Champ1,6,FALSE)) | E23: =IF($B23="","",VLOOKUP(B23,Champ1,5,FALSE)) | G23: =B23 -> 0 | H23: =IF(G23=B23, VLOOKUP(G23, Champ2, 3,FALSE)) -> 0 | I23: =IF(G23=B23, VLOOKUP(G23,Champ2,4,FALSE)) -> 0 | J23: =IF(G23=B23, VLOOKUP(G23,Champ2,5,FALSE)) -> 0 | P23: ='Matrice Marketing'!A20 -> 0 | Q23: ='Matrice Marketing'!H20 -> 0 | R23: ='Matrice Marketing'!B20 -> 0
C24: =IF($B24="","",VLOOKUP(B24,Champ1,3,FALSE)) | D24: =IF($B24="","",VLOOKUP(B24,Champ1,6,FALSE)) | E24: =IF($B24="","",VLOOKUP(B24,Champ1,5,FALSE)) | G24: =B24 -> 0 | H24: =IF(G24=B24, VLOOKUP(G24, Champ2, 3,FALSE)) -> 0 | I24: =IF(G24=B24, VLOOKUP(G24,Champ2,4,FALSE)) -> 0 | J24: =IF(G24=B24, VLOOKUP(G24,Champ2,5,FALSE)) -> 0 | P24: ='Matrice Marketing'!A21 -> 0 | Q24: ='Matrice Marketing'!H21 -> 0 | R24: ='Matrice Marketing'!B21 -> 0
C25: =IF($B25="","",VLOOKUP(B25,Champ1,3,FALSE)) | D25: =IF($B25="","",VLOOKUP(B25,Champ1,6,FALSE)) | E25: =IF($B25="","",VLOOKUP(B25,Champ1,5,FALSE)) | G25: =B25 -> 0 | H25: =IF(G25=B25, VLOOKUP(G25, Champ2, 3,FALSE)) -> 0 | I25: =IF(G25=B25, VLOOKUP(G25,Champ2,4,FALSE)) -> 0 | J25: =IF(G25=B25, VLOOKUP(G25,Champ2,5,FALSE)) -> 0 | P25: ='Matrice Marketing'!A22 -> 0 | Q25: ='Matrice Marketing'!H22 -> 0 | R25: ='Matrice Marketing'!B22 -> 0
... C31: =IF($B31="","",VLOOKUP(B31,Champ1,3,FALSE)) | D31: =IF($B31="","",VLOOKUP(B31,Champ1,6,FALSE)) | E31: =IF($B31="","",VLOOKUP(B31,Champ1,5,FALSE)) | G31: =B31 -> 0 | H31: =IF(G31=B31, VLOOKUP(G31, Champ2, 3,FALSE)) -> 0 | I31: =IF(G31=B31, VLOOKUP(G31,Champ2,4,FALSE)) -> 0 | J31: =IF(G31=B31, VLOOKUP(G31,Champ2,5,FALSE)) -> 0 | P31: ='Matrice Marketing'!A28 -> 0 | Q31: ='Matrice Marketing'!H28 -> 0 | R31: ='Matrice Marketing'!B28 -> 0

Sheet Matrice Marketing
A1: MARKETING | I1: LEGENDE
A4: N° CONTRAT | B4: DATE | C4: NOM&PRENOM | D4: CON. SIGNES | E4: CONTRIBUTION | F4: MONTANT DU CONTRAT | G4: Q. SIGNATAIRE | H4: NOMCONTRA
A5: A005 | B5: 41377 | C5: John Kiff | D5: =IF(F5<5000000,"CODE 1",IF(F5<10000000,"CODE 2",IF(F5<20000000,"CODE3",IF(F5<40000000,"CODE 4",IF(F5<80000000,"CODE 5"))))) -> CODE 4 | E5: 0.25 | F5: 25000000 | G5: BAILLEUR | H5: OCDE
A6: F006 | B6: 41316 | C6: Markis Goussou | D6: =IF(F6<5000000,"CODE 1",IF(F6<10000000,"CODE 2",IF(F6<20000000,"CODE3",IF(F6<40000000,"CODE 4",IF(F6<80000000,"CODE 5"))))) -> CODE3 | E6: 0.55 | F6: 15000000 | G6: ETATS | H6: MALI
A7: J008 | B7: 41253 | C7: Fatima Dasdas | D7: =IF(F7<5000000,"CODE 1",IF(F7<10000000,"CODE 2",IF(F7<20000000,"CODE3",IF(F7<40000000,"CODE 4",IF(F7<80000000,"CODE 5"))))) -> CODE 5 | E7: 0.49 | F7: 65000000 | G7: SOCIETE | H7: Fashionlux
A8: A005 | B8: 41377 | C8: Cratus Vlass | D8: =IF(F8<5000000,"CODE 1",IF(F8<10000000,"CODE 2",IF(F8<20000000,"CODE3",IF(F8<40000000,"CODE 4",IF(F8<80000000,"CODE 5"))))) -> CODE 4 | E8: 0.39 | F8: 25000000 | G8: BAILLEUR
A9: A005 | B9: 41377 | C9: Doucous Gaston | D9: =IF(F9<5000000,"CODE 1",IF(F9<10000000,"CODE 2",IF(F9<20000000,"CODE3",IF(F9<40000000,"CODE 4",IF(F9<80000000,"CODE 5"))))) -> CODE 4 | E9: 0.36 | F9: 25000000 | G9: BAILLEUR
A10: F006 | B10: 41316 | C10: Tanquine Bastoss | D10: =IF(F10<5000000,"CODE 1",IF(F10<10000000,"CODE 2",IF(F10<20000000,"CODE3",IF(F10<40000000,"CODE 4",IF(F10<80000000,"CODE 5"))))) -> CODE3 | E10: 0.45 | F10: 15000000 | G10: ETATS
A11: J008 | B11: 41253 | C11: Marina Tosmanian | D11: =IF(F11<5000000,"CODE 1",IF(F11<10000000,"CODE 2",IF(F11<20000000,"CODE3",IF(F11<40000000,"CODE 4",IF(F11<80000000,"CODE 5"))))) -> CODE 5 | E11: 0.21 | F11: 65000000 | G11: SOCIETE
A12: J008 | B12: 41253 | C12: Ascar Moron | D12: =IF(F12<5000000,"CODE 1",IF(F12<10000000,"CODE 2",IF(F12<20000000,"CODE3",IF(F12<40000000,"CODE 4",IF(F12<80000000,"CODE 5"))))) -> CODE 5 | E12: 0.3 | F12: 65000000 | G12: SOCIETE
D13: =IF(F13<5000000,"CODE 1",IF(F13<10000000,"CODE 2",IF(F13<20000000,"CODE3",IF(F13<40000000,"CODE 4",IF(F13<80000000,"CODE 5"))))) -> CODE 1
D14: =IF(F14<5000000,"CODE 1",IF(F14<10000000,"CODE 2",IF(F14<20000000,"CODE3",IF(F14<40000000,"CODE 4",IF(F14<80000000,"CODE 5"))))) -> CODE 1
D15: =IF(F15<5000000,"CODE 1",IF(F15<10000000,"CODE 2",IF(F15<20000000,"CODE3",IF(F15<40000000,"CODE 4",IF(F15<80000000,"CODE 5"))))) -> CODE 1
D16: =IF(F16<5000000,"CODE 1",IF(F16<10000000,"CODE 2",IF(F16<20000000,"CODE3",IF(F16<40000000,"CODE 4",IF(F16<80000000,"CODE 5"))))) -> CODE 1
D17: =IF(F17<5000000,"CODE 1",IF(F17<10000000,"CODE 2",IF(F17<20000000,"CODE3",IF(F17<40000000,"CODE 4",IF(F17<80000000,"CODE 5"))))) -> CODE 1
D18: =IF(F18<5000000,"CODE 1",IF(F18<10000000,"CODE 2",IF(F18<20000000,"CODE3",IF(F18<40000000,"CODE 4",IF(F18<80000000,"CODE 5"))))) -> CODE 1
D19: =IF(F19<5000000,"CODE 1",IF(F19<10000000,"CODE 2",IF(F19<20000000,"CODE3",IF(F19<40000000,"CODE 4",IF(F19<80000000,"CODE 5"))))) -> CODE 1
D20: =IF(F20<5000000,"CODE 1",IF(F20<10000000,"CODE 2",IF(F20<20000000,"CODE3",IF(F20<40000000,"CODE 4",IF(F20<80000000,"CODE 5"))))) -> CODE 1
D21: =IF(F21<5000000,"CODE 1",IF(F21<10000000,"CODE 2",IF(F21<20000000,"CODE3",IF(F21<40000000,"CODE 4",IF(F21<80000000,"CODE 5"))))) -> CODE 1
D22: =IF(F22<5000000,"CODE 1",IF(F22<10000000,"CODE 2",IF(F22<20000000,"CODE3",IF(F22<40000000,"CODE 4",IF(F22<80000000,"CODE 5"))))) -> CODE 1 | K22: BAILLEUR
D23: =IF(F23<5000000,"CODE 1",IF(F23<10000000,"CODE 2",IF(F23<20000000,"CODE3",IF(F23<40000000,"CODE 4",IF(F23<80000000,"CODE 5"))))) -> CODE 1 | K23: ETATS
D24: =IF(F24<5000000,"CODE 1",IF(F24<10000000,"CODE 2",IF(F24<20000000,"CODE3",IF(F24<40000000,"CODE 4",IF(F24<80000000,"CODE 5"))))) -> CODE 1 | K24: SOCIETE
D25: =IF(F25<5000000,"CODE 1",IF(F25<10000000,"CODE 2",IF(F25<20000000,"CODE3",IF(F25<40000000,"CODE 4",IF(F25<80000000,"CODE 5"))))) -> CODE 1 | K25: PARTICULIER

Sheet Matrice Production
A1: PRODUCTION | H1: LEGENDE
A4: N° CONTRAT | B4: DATE | C4: NOM&PRENOM | D4: RAPPORT | E4: CONTRIBUTION | F4: NOT. DU CLIENTS | G4: VOLUME BUSINESS
A5: ='Matrice Marketing'!A5 -> A005 | B5: ='Matrice Marketing'!B5 -> 41377 | C5: ='Matrice Marketing'!C5 -> John Kiff | D5: 12 | E5: 0.12
A6: ='Matrice Marketing'!A6 -> F006 | B6: ='Matrice Marketing'!B6 -> 41316 | C6: ='Matrice Marketing'!C6 -> Markis Goussou | D6: 11 | E6: 0.27
A7: ='Matrice Marketing'!A7 -> J008 | B7: ='Matrice Marketing'!B7 -> 41253 | C7: ='Matrice Marketing'!C7 -> Fatima Dasdas | D7: 10 | E7: 0.45
A8: ='Matrice Marketing'!A8 -> A005 | B8: ='Matrice Marketing'!B8 -> 41377 | C8: ='Matrice Marketing'!C8 -> Cratus Vlass
A9: ='Matrice Marketing'!A9 -> A005 | B9: ='Matrice Marketing'!B9 -> 41377 | C9: ='Matrice Marketing'!C9 -> Doucous Gaston
A10: ='Matrice Marketing'!A10 -> F006 | B10: ='Matrice Marketing'!B10 -> 41316 | C10: ='Matrice Marketing'!C10 -> Tanquine Bastoss
A11: ='Matrice Marketing'!A11 -> J008 | B11: ='Matrice Marketing'!B11 -> 41253 | C11: ='Matrice Marketing'!C11 -> Marina Tosmanian
A12: ='Matrice Marketing'!A12 -> J008 | B12: ='Matrice Marketing'!B12 -> 41253 | C12: ='Matrice Marketing'!C12 -> Ascar Moron
A13: ='Matrice Marketing'!A13 -> 0 | B13: ='Matrice Marketing'!B13 -> 0 | C13: ='Matrice Marketing'!C13 -> 0
A14: ='Matrice Marketing'!A14 -> 0 | B14: ='Matrice Marketing'!B14 -> 0 | C14: ='Matrice Marketing'!C14 -> 0
A15: ='Matrice Marketing'!A15 -> 0 | B15: ='Matrice Marketing'!B15 -> 0 | C15: ='Matrice Marketing'!C15 -> 0
A16: ='Matrice Marketing'!A16 -> 0 | B16: ='Matrice Marketing'!B16 -> 0 | C16: ='Matrice Marketing'!C16 -> 0
A17: ='Matrice Marketing'!A17 -> 0 | B17: ='Matrice Marketing'!B17 -> 0 | C17: ='Matrice Marketing'!C17 -> 0
A18: ='Matrice Marketing'!A18 -> 0 | B18: ='Matrice Marketing'!B18 -> 0 | C18: ='Matrice Marketing'!C18 -> 0
A19: ='Matrice Marketing'!A19 -> 0 | B19: ='Matrice Marketing'!B19 -> 0 | C19: ='Matrice Marketing'!C19 -> 0
... A25: ='Matrice Marketing'!A25 -> 0 | B25: ='Matrice Marketing'!B25 -> 0 | C25: ='Matrice Marketing'!C25 -> 0

Sheet MANAGEMENT
A6: N° CONTRAT | B6: DATE | C6: NOM&PRENOM | D6: RAPPORT | F6: NOT. DU CLIENTS | G6: VOLUME BUSINESS
A7: A005 | B7: 41377 | C7: John Kiff
A8: F006 | B8: 41316 | C8: Markis Goussou
A9: J008 | B9: 41253 | C9: Fatima Dasdas

Sheet TOOLS
A2: Signataire
