Workbook

Sheet Feuil1
A1: Section | B1: Désignation Article CLIPPER | C1: Périodicité vérification générales | D1: Responsable | E1: Date de Mise en service | F1: Date du Prochain Contrôle | G1: Nb Jours | H1: Date Interruption de service | I1: Cause | J1: Date VGP 1 | K1: Date VGP2 | L1: Date VGP3 | M1: Date VGP4
A2: Chantier | B2: Masque de soudeur | C2: =IFERROR(INDEX(Feuil2!$C$2:$D$15,MATCH(Feuil1!B2,Feuil2!D2:D15,0),1),"") -> 2 ans | E2: 43103 | F2: =IF(E2="","",DATE(YEAR(E2),MONTH(E2)+IF(Feuil1!C2="3 mois",3,IF(Feuil1!C2="6 mois",6,IF(Feuil1!C2="1 an",12,IF(Feuil1!C2="2 ans",24)))),DAY(E2))) -> 43833 | G2: =IF(F2="","",F2-TODAY()) -> 694
B3: Casquette de sécurité | C3: =IFERROR(INDEX(Feuil2!$C$2:$D$15,MATCH(Feuil1!B3,Feuil2!D3:D16,0),1),"") -> 1 an | E3: 42865 | F3: =IF(E3="","",DATE(YEAR(E3),MONTH(E3)+IF(Feuil1!C3="3 mois",3,IF(Feuil1!C3="6 mois",6,IF(Feuil1!C3="1 an",12,IF(Feuil1!C3="2 ans",24)))),DAY(E3))) -> 43230 | G3: =IF(F3="","",F3-TODAY()) -> 91
C4: =IFERROR(INDEX(Feuil2!$C$2:$D$15,MATCH(Feuil1!B4,Feuil2!D4:D17,0),1),"") | F4: =IF(E4="","",DATE(YEAR(E4),MONTH(E4)+IF(Feuil1!C4="3 mois",3,IF(Feuil1!C4="6 mois",6,IF(Feuil1!C4="1 an",12,IF(Feuil1!C4="2 ans",24)))),DAY(E4))) | G4: =IF(F4="","",F4-TODAY())
C5: =IFERROR(INDEX(Feuil2!$C$2:$D$15,MATCH(Feuil1!B5,Feuil2!D5:D18,0),1),"") | F5: =IF(E5="","",DATE(YEAR(E5),MONTH(E5)+IF(Feuil1!C5="3 mois",3,IF(Feuil1!C5="6 mois",6,IF(Feuil1!C5="1 an",12,IF(Feuil1!C5="2 ans",24)))),DAY(E5))) | G5: =IF(F5="","",F5-TODAY())
C6: =IFERROR(INDEX(Feuil2!$C$2:$D$15,MATCH(Feuil1!B6,Feuil2!D6:D19,0),1),"") | F6: =IF(E6="","",DATE(YEAR(E6),MONTH(E6)+IF(Feuil1!C6="3 mois",3,IF(Feuil1!C6="6 mois",6,IF(Feuil1!C6="1 an",12,IF(Feuil1!C6="2 ans",24)))),DAY(E6)))
C7: =IFERROR(INDEX(Feuil2!$C$2:$D$15,MATCH(Feuil1!B7,Feuil2!D7:D20,0),1),"") | F7: =IF(E7="","",DATE(YEAR(E7),MONTH(E7)+IF(Feuil1!C7="3 mois",3,IF(Feuil1!C7="6 mois",6,IF(Feuil1!C7="1 an",12,IF(Feuil1!C7="2 ans",24)))),DAY(E7))) | G7: =IF(F7="","",F7-TODAY())
C8: =IFERROR(INDEX(Feuil2!$C$2:$D$15,MATCH(Feuil1!B8,Feuil2!D8:D21,0),1),"") | F8: =IF(E8="","",DATE(YEAR(E8),MONTH(E8)+IF(Feuil1!C8="3 mois",3,IF(Feuil1!C8="6 mois",6,IF(Feuil1!C8="1 an",12,IF(Feuil1!C8="2 ans",24)))),DAY(E8))) | G8: =IF(F8="","",F8-TODAY())
C9: =IFERROR(INDEX(Feuil2!$C$2:$D$15,MATCH(Feuil1!B9,Feuil2!D9:D22,0),1),"") | F9: =IF(E9="","",DATE(YEAR(E9),MONTH(E9)+IF(Feuil1!C9="3 mois",3,IF(Feuil1!C9="6 mois",6,IF(Feuil1!C9="1 an",12,IF(Feuil1!C9="2 ans",24)))),DAY(E9))) | G9: =IF(F9="","",F9-TODAY())
C10: =IFERROR(INDEX(Feuil2!$C$2:$D$15,MATCH(Feuil1!B10,Feuil2!D10:D23,0),1),"") | F10: =IF(E10="","",DATE(YEAR(E10),MONTH(E10)+IF(Feuil1!C10="3 mois",3,IF(Feuil1!C10="6 mois",6,IF(Feuil1!C10="1 an",12,IF(Feuil1!C10="2 ans",24)))),DAY(E10))) | G10: =IF(F10="","",F10-TODAY())
C11: =IFERROR(INDEX(Feuil2!$C$2:$D$15,MATCH(Feuil1!B11,Feuil2!D11:D24,0),1),"") | F11: =IF(E11="","",DATE(YEAR(E11),MONTH(E11)+IF(Feuil1!C11="3 mois",3,IF(Feuil1!C11="6 mois",6,IF(Feuil1!C11="1 an",12,IF(Feuil1!C11="2 ans",24)))),DAY(E11))) | G11: =IF(F11="","",F11-TODAY())
C12: =IFERROR(INDEX(Feuil2!$C$2:$D$15,MATCH(Feuil1!B12,Feuil2!D12:D25,0),1),"") | F12: =IF(E12="","",DATE(YEAR(E12),MONTH(E12)+IF(Feuil1!C12="3 mois",3,IF(Feuil1!C12="6 mois",6,IF(Feuil1!C12="1 an",12,IF(Feuil1!C12="2 ans",24)))),DAY(E12))) | G12: =IF(F12="","",F12-TODAY())
C13: =IFERROR(INDEX(Feuil2!$C$2:$D$15,MATCH(Feuil1!B13,Feuil2!D13:D26,0),1),"") | F13: =IF(E13="","",DATE(YEAR(E13),MONTH(E13)+IF(Feuil1!C13="3 mois",3,IF(Feuil1!C13="6 mois",6,IF(Feuil1!C13="1 an",12,IF(Feuil1!C13="2 ans",24)))),DAY(E13))) | G13: =IF(F13="","",F13-TODAY())
C14: =IFERROR(INDEX(Feuil2!$C$2:$D$15,MATCH(Feuil1!B14,Feuil2!D14:D27,0),1),"") | F14: =IF(E14="","",DATE(YEAR(E14),MONTH(E14)+IF(Feuil1!C14="3 mois",3,IF(Feuil1!C14="6 mois",6,IF(Feuil1!C14="1 an",12,IF(Feuil1!C14="2 ans",24)))),DAY(E14))) | G14: =IF(F14="","",F14-TODAY())
C15: =IFERROR(INDEX(Feuil2!$C$2:$D$15,MATCH(Feuil1!B15,Feuil2!D15:D28,0),1),"") | F15: =IF(E15="","",DATE(YEAR(E15),MONTH(E15)+IF(Feuil1!C15="3 mois",3,IF(Feuil1!C15="6 mois",6,IF(Feuil1!C15="1 an",12,IF(Feuil1!C15="2 ans",24)))),DAY(E15))) | G15: =IF(F15="","",F15-TODAY())
C16: =IFERROR(INDEX(Feuil2!$C$2:$D$15,MATCH(Feuil1!B16,Feuil2!D16:D29,0),1),"") | F16: =IF(E16="","",DATE(YEAR(E16),MONTH(E16)+IF(Feuil1!C16="3 mois",3,IF(Feuil1!C16="6 mois",6,IF(Feuil1!C16="1 an",12,IF(Feuil1!C16="2 ans",24)))),DAY(E16))) | G16: =IF(F16="","",F16-TODAY())
C17: =IFERROR(INDEX(Feuil2!$C$2:$D$15,MATCH(Feuil1!B17,Feuil2!D17:D30,0),1),"") | F17: =IF(E17="","",DATE(YEAR(E17),MONTH(E17)+IF(Feuil1!C17="3 mois",3,IF(Feuil1!C17="6 mois",6,IF(Feuil1!C17="1 an",12,IF(Feuil1!C17="2 ans",24)))),DAY(E17))) | G17: =IF(F17="","",F17-TODAY())
C18: =IFERROR(INDEX(Feuil2!$C$2:$D$15,MATCH(Feuil1!B18,Feuil2!D18:D31,0),1),"") | F18: =IF(E18="","",DATE(YEAR(E18),MONTH(E18)+IF(Feuil1!C18="3 mois",3,IF(Feuil1!C18="6 mois",6,IF(Feuil1!C18="1 an",12,IF(Feuil1!C18="2 ans",24)))),DAY(E18))) | G18: =IF(F18="","",F18-TODAY())
... C51: =IFERROR(INDEX(Feuil2!$C$2:$D$15,MATCH(Feuil1!B51,Feuil2!D51:D64,0),1),"") | F51: =IF(E51="","",DATE(YEAR(E51),MONTH(E51)+IF(Feuil1!C51="3 mois",3,IF(Feuil1!C51="6 mois",6,IF(Feuil1!C51="1 an",12,IF(Feuil1!C51="2 ans",24)))),DAY(E51))) | G51: =IF(F51="","",F51-TODAY())

Sheet Feuil2
A2: Beaurains | C2: 1 an | D2: Casque anti-bruit | F2: ABRASSART L. | H2: 3 mois
A3: Verquin | C3: 1 an | D3: Casque de protection | F3: BALECZNY J.M | H3: 6 mois
A4: Chantier | C4: 1 an | D4: Jugulaire | F4: DECOTTIGNIES C. | H4: 1 an
A5: Aéro | C5: 1 an | D5: Longe simple | F5: DERRICHE K. | H5: 2 ans
C6: 1 an | D6: Casquette de sécurité | F6: DUBOIS C.
C7: 1 an | D7: Chaussures de sécurité soudeur | F7: DUTAILLY C.
C8: 1 an | D8: Harnais anti-chute | F8: GEERINKX O.
C9: 2 ans | D9: Manteau haute visibilité | F9: LASSALLE S.
C10: 2 ans | D10: Masque de soudeur | F10: LEFEBVRE Y.
C11: 3 mois | D11: Gilet haute visilité | F11: LELEU A.
C12: 3 mois | D12: vêtement de travail | F12: LESAGE H.
C13: 6 mois | D13: Chaussures de sécurité basique | F13: PENEL D.
C14: 6 mois | D14: Masque de protection | F14: PENEL E.
C15: 6 mois | D15: Visière de protection | F15: POTIER G
F16: POUILLY V.
F17: ZBOROWSKI F.
