Workbook

Sheet SAMEDI assiduité
B1: Assiduité sur l'année:
B2: Feuille de présence | C2: Trimestre 1
B3: Nom/Prénom | C3: 15h | D3: 17h | E3: Total | F3: Total
A4: 1 | B4: Adam | C4: =IFERROR(VLOOKUP(B4,'Sam_Tr1 15H'!$B$4:$C$73,2,0),"") -> 2 | D4: =IFERROR(VLOOKUP(B4,'Sam_Tr1 17H'!$B$4:$C$70,2,0),"") -> 2 | E4: =SUM(C4:D4) -> 4 | F4: =IFERROR(IFERROR(VLOOKUP(B4,'Sam_Tr1 15H'!$B$4:$C$73,2,0),0)+IFERROR(VLOOKUP(B4,'Sam_Tr1 17H'!$B$4:$C$70,2,0),0),"") -> 4
A5: 2 | B5: Alain | C5: =IFERROR(VLOOKUP(B5,'Sam_Tr1 15H'!$B$4:$C$73,2,0),"") -> 1 | D5: =IFERROR(VLOOKUP(B5,'Sam_Tr1 17H'!$B$4:$C$70,2,0),"") | E5: =SUM(C5:D5) -> 1 | F5: =IFERROR(IFERROR(VLOOKUP(B5,'Sam_Tr1 15H'!$B$4:$C$73,2,0),0)+IFERROR(VLOOKUP(B5,'Sam_Tr1 17H'!$B$4:$C$70,2,0),0),"") -> 1
A6: 3 | B6: Brigitte | C6: =IFERROR(VLOOKUP(B6,'Sam_Tr1 15H'!$B$4:$C$73,2,0),"") -> 2 | D6: =IFERROR(VLOOKUP(B6,'Sam_Tr1 17H'!$B$4:$C$70,2,0),"") -> 1 | E6: =SUM(C6:D6) -> 3 | F6: =IFERROR(IFERROR(VLOOKUP(B6,'Sam_Tr1 15H'!$B$4:$C$73,2,0),0)+IFERROR(VLOOKUP(B6,'Sam_Tr1 17H'!$B$4:$C$70,2,0),0),"") -> 3
A7: 4 | B7: Christelle | C7: =IFERROR(VLOOKUP(B7,'Sam_Tr1 15H'!$B$4:$C$73,2,0),"") -> 2 | D7: =IFERROR(VLOOKUP(B7,'Sam_Tr1 17H'!$B$4:$C$70,2,0),"") -> 3 | E7: =SUM(C7:D7) -> 5 | F7: =IFERROR(IFERROR(VLOOKUP(B7,'Sam_Tr1 15H'!$B$4:$C$73,2,0),0)+IFERROR(VLOOKUP(B7,'Sam_Tr1 17H'!$B$4:$C$70,2,0),0),"") -> 5
A8: 5 | B8: Chritian | C8: =IFERROR(VLOOKUP(B8,'Sam_Tr1 15H'!$B$4:$C$73,2,0),"") -> 3 | D8: =IFERROR(VLOOKUP(B8,'Sam_Tr1 17H'!$B$4:$C$70,2,0),"") | E8: =SUM(C8:D8) -> 3 | F8: =IFERROR(IFERROR(VLOOKUP(B8,'Sam_Tr1 15H'!$B$4:$C$73,2,0),0)+IFERROR(VLOOKUP(B8,'Sam_Tr1 17H'!$B$4:$C$70,2,0),0),"") -> 3
A9: 6 | B9: Cloé | C9: =IFERROR(VLOOKUP(B9,'Sam_Tr1 15H'!$B$4:$C$73,2,0),"") -> 3 | D9: =IFERROR(VLOOKUP(B9,'Sam_Tr1 17H'!$B$4:$C$70,2,0),"") | E9: =SUM(C9:D9) -> 3 | F9: =IFERROR(IFERROR(VLOOKUP(B9,'Sam_Tr1 15H'!$B$4:$C$73,2,0),0)+IFERROR(VLOOKUP(B9,'Sam_Tr1 17H'!$B$4:$C$70,2,0),0),"") -> 3
A10: 7 | B10: Didier | C10: =IFERROR(VLOOKUP(B10,'Sam_Tr1 15H'!$B$4:$C$73,2,0),"") -> 3 | D10: =IFERROR(VLOOKUP(B10,'Sam_Tr1 17H'!$B$4:$C$70,2,0),"") | E10: =SUM(C10:D10) -> 3 | F10: =IFERROR(IFERROR(VLOOKUP(B10,'Sam_Tr1 15H'!$B$4:$C$73,2,0),0)+IFERROR(VLOOKUP(B10,'Sam_Tr1 17H'!$B$4:$C$70,2,0),0),"") -> 3
A11: 8 | B11: Djenna | C11: =IFERROR(VLOOKUP(B11,'Sam_Tr1 15H'!$B$4:$C$73,2,0),"") | D11: =IFERROR(VLOOKUP(B11,'Sam_Tr1 17H'!$B$4:$C$70,2,0),"") -> 1 | E11: =SUM(C11:D11) -> 1 | F11: =IFERROR(IFERROR(VLOOKUP(B11,'Sam_Tr1 15H'!$B$4:$C$73,2,0),0)+IFERROR(VLOOKUP(B11,'Sam_Tr1 17H'!$B$4:$C$70,2,0),0),"") -> 1
A12: 9 | B12: Elisabeth | C12: =IFERROR(VLOOKUP(B12,'Sam_Tr1 15H'!$B$4:$C$73,2,0),"") -> 1 | D12: =IFERROR(VLOOKUP(B12,'Sam_Tr1 17H'!$B$4:$C$70,2,0),"") | E12: =SUM(C12:D12) -> 1 | F12: =IFERROR(IFERROR(VLOOKUP(B12,'Sam_Tr1 15H'!$B$4:$C$73,2,0),0)+IFERROR(VLOOKUP(B12,'Sam_Tr1 17H'!$B$4:$C$70,2,0),0),"") -> 1
A13: 10 | B13: Gabrielle | C13: =IFERROR(VLOOKUP(B13,'Sam_Tr1 15H'!$B$4:$C$73,2,0),"") | D13: =IFERROR(VLOOKUP(B13,'Sam_Tr1 17H'!$B$4:$C$70,2,0),"") -> 3 | E13: =SUM(C13:D13) -> 3 | F13: =IFERROR(IFERROR(VLOOKUP(B13,'Sam_Tr1 15H'!$B$4:$C$73,2,0),0)+IFERROR(VLOOKUP(B13,'Sam_Tr1 17H'!$B$4:$C$70,2,0),0),"") -> 3
A14: 11 | B14: Jean | C14: =IFERROR(VLOOKUP(B14,'Sam_Tr1 15H'!$B$4:$C$73,2,0),"") | D14: =IFERROR(VLOOKUP(B14,'Sam_Tr1 17H'!$B$4:$C$70,2,0),"") -> 3 | E14: =SUM(C14:D14) -> 3 | F14: =IFERROR(IFERROR(VLOOKUP(B14,'Sam_Tr1 15H'!$B$4:$C$73,2,0),0)+IFERROR(VLOOKUP(B14,'Sam_Tr1 17H'!$B$4:$C$70,2,0),0),"") -> 3
A15: 12 | B15: Jeanne | C15: =IFERROR(VLOOKUP(B15,'Sam_Tr1 15H'!$B$4:$C$73,2,0),"") -> 3 | D15: =IFERROR(VLOOKUP(B15,'Sam_Tr1 17H'!$B$4:$C$70,2,0),"") | E15: =SUM(C15:D15) -> 3 | F15: =IFERROR(IFERROR(VLOOKUP(B15,'Sam_Tr1 15H'!$B$4:$C$73,2,0),0)+IFERROR(VLOOKUP(B15,'Sam_Tr1 17H'!$B$4:$C$70,2,0),0),"") -> 3
... A32: 29 | B32: Thierry | C32: =IFERROR(VLOOKUP(B32,'Sam_Tr1 15H'!$B$4:$C$73,2,0),"") -> 3 | D32: =IFERROR(VLOOKUP(B32,'Sam_Tr1 17H'!$B$4:$C$70,2,0),"") | E32: =SUM(C32:D32) -> 3 | F32: =IFERROR(IFERROR(VLOOKUP(B32,'Sam_Tr1 15H'!$B$4:$C$73,2,0),0)+IFERROR(VLOOKUP(B32,'Sam_Tr1 17H'!$B$4:$C$70,2,0),0),"") -> 3
A33: 30 | C33: =IFERROR(VLOOKUP(B33,'Sam_Tr1 15H'!$B$4:$C$73,2,0),"") | D33: =IFERROR(VLOOKUP(B33,'Sam_Tr1 17H'!$B$4:$C$70,2,0),"") | E33: =SUM(C33:D33) -> 0 | F33: =IFERROR(IFERROR(VLOOKUP(B33,'Sam_Tr1 15H'!$B$4:$C$73,2,0),0)+IFERROR(VLOOKUP(B33,'Sam_Tr1 17H'!$B$4:$C$70,2,0),0),"") -> 0
A34: 31 | C34: =IFERROR(VLOOKUP(B34,'Sam_Tr1 15H'!$B$4:$C$73,2,0),"") | D34: =IFERROR(VLOOKUP(B34,'Sam_Tr1 17H'!$B$4:$C$70,2,0),"") | E34: =SUM(C34:D34) -> 0 | F34: =IFERROR(IFERROR(VLOOKUP(B34,'Sam_Tr1 15H'!$B$4:$C$73,2,0),0)+IFERROR(VLOOKUP(B34,'Sam_Tr1 17H'!$B$4:$C$70,2,0),0),"") -> 0
A35: 32 | C35: =IFERROR(VLOOKUP(B35,'Sam_Tr1 15H'!$B$4:$C$73,2,0),"") | D35: =IFERROR(VLOOKUP(B35,'Sam_Tr1 17H'!$B$4:$C$70,2,0),"") | E35: =SUM(C35:D35) -> 0 | F35: =IFERROR(IFERROR(VLOOKUP(B35,'Sam_Tr1 15H'!$B$4:$C$73,2,0),0)+IFERROR(VLOOKUP(B35,'Sam_Tr1 17H'!$B$4:$C$70,2,0),0),"") -> 0
A36: 33 | C36: =IFERROR(VLOOKUP(B36,'Sam_Tr1 15H'!$B$4:$C$73,2,0),"") | D36: =IFERROR(VLOOKUP(B36,'Sam_Tr1 17H'!$B$4:$C$70,2,0),"") | E36: =SUM(C36:D36) -> 0 | F36: =IFERROR(IFERROR(VLOOKUP(B36,'Sam_Tr1 15H'!$B$4:$C$73,2,0),0)+IFERROR(VLOOKUP(B36,'Sam_Tr1 17H'!$B$4:$C$70,2,0),0),"") -> 0
A37: 34 | C37: =IFERROR(VLOOKUP(B37,'Sam_Tr1 15H'!$B$4:$C$73,2,0),"") | D37: =IFERROR(VLOOKUP(B37,'Sam_Tr1 17H'!$B$4:$C$70,2,0),"") | E37: =SUM(C37:D37) -> 0 | F37: =IFERROR(IFERROR(VLOOKUP(B37,'Sam_Tr1 15H'!$B$4:$C$73,2,0),0)+IFERROR(VLOOKUP(B37,'Sam_Tr1 17H'!$B$4:$C$70,2,0),0),"") -> 0
A38: 35 | C38: =IFERROR(VLOOKUP(B38,'Sam_Tr1 15H'!$B$4:$C$73,2,0),"") | D38: =IFERROR(VLOOKUP(B38,'Sam_Tr1 17H'!$B$4:$C$70,2,0),"") | E38: =SUM(C38:D38) -> 0 | F38: =IFERROR(IFERROR(VLOOKUP(B38,'Sam_Tr1 15H'!$B$4:$C$73,2,0),0)+IFERROR(VLOOKUP(B38,'Sam_Tr1 17H'!$B$4:$C$70,2,0),0),"") -> 0
A39: 36 | C39: =IFERROR(VLOOKUP(B39,'Sam_Tr1 15H'!$B$4:$C$73,2,0),"") | D39: =IFERROR(VLOOKUP(B39,'Sam_Tr1 17H'!$B$4:$C$70,2,0),"") | E39: =SUM(C39:D39) -> 0 | F39: =IFERROR(IFERROR(VLOOKUP(B39,'Sam_Tr1 15H'!$B$4:$C$73,2,0),0)+IFERROR(VLOOKUP(B39,'Sam_Tr1 17H'!$B$4:$C$70,2,0),0),"") -> 0
A40: 37 | C40: =IFERROR(VLOOKUP(B40,'Sam_Tr1 15H'!$B$4:$C$73,2,0),"") | D40: =IFERROR(VLOOKUP(B40,'Sam_Tr1 17H'!$B$4:$C$70,2,0),"") | E40: =SUM(C40:D40) -> 0 | F40: =IFERROR(IFERROR(VLOOKUP(B40,'Sam_Tr1 15H'!$B$4:$C$73,2,0),0)+IFERROR(VLOOKUP(B40,'Sam_Tr1 17H'!$B$4:$C$70,2,0),0),"") -> 0
A41: 38 | C41: =IFERROR(VLOOKUP(B41,'Sam_Tr1 15H'!$B$4:$C$73,2,0),"") | D41: =IFERROR(VLOOKUP(B41,'Sam_Tr1 17H'!$B$4:$C$70,2,0),"") | E41: =SUM(C41:D41) -> 0 | F41: =IFERROR(IFERROR(VLOOKUP(B41,'Sam_Tr1 15H'!$B$4:$C$73,2,0),0)+IFERROR(VLOOKUP(B41,'Sam_Tr1 17H'!$B$4:$C$70,2,0),0),"") -> 0
A42: 39 | C42: =IFERROR(VLOOKUP(B42,'Sam_Tr1 15H'!$B$4:$C$73,2,0),"") | D42: =IFERROR(VLOOKUP(B42,'Sam_Tr1 17H'!$B$4:$C$70,2,0),"") | E42: =SUM(C42:D42) -> 0 | F42: =IFERROR(IFERROR(VLOOKUP(B42,'Sam_Tr1 15H'!$B$4:$C$73,2,0),0)+IFERROR(VLOOKUP(B42,'Sam_Tr1 17H'!$B$4:$C$70,2,0),0),"") -> 0
A43: 40 | C43: =IFERROR(VLOOKUP(B43,'Sam_Tr1 15H'!$B$4:$C$73,2,0),"") | D43: =IFERROR(VLOOKUP(B43,'Sam_Tr1 17H'!$B$4:$C$70,2,0),"") | E43: =SUM(C43:D43) -> 0 | F43: =IFERROR(IFERROR(VLOOKUP(B43,'Sam_Tr1 15H'!$B$4:$C$73,2,0),0)+IFERROR(VLOOKUP(B43,'Sam_Tr1 17H'!$B$4:$C$70,2,0),0),"") -> 0
A44: 41 | C44: =IFERROR(VLOOKUP(B44,'Sam_Tr1 15H'!$B$4:$C$73,2,0),"") | D44: =IFERROR(VLOOKUP(B44,'Sam_Tr1 17H'!$B$4:$C$70,2,0),"") | E44: =SUM(C44:D44) -> 0 | F44: =IFERROR(IFERROR(VLOOKUP(B44,'Sam_Tr1 15H'!$B$4:$C$73,2,0),0)+IFERROR(VLOOKUP(B44,'Sam_Tr1 17H'!$B$4:$C$70,2,0),0),"") -> 0
... A47: 44 | C47: =IFERROR(VLOOKUP(B47,'Sam_Tr1 15H'!$B$4:$C$73,2,0),"") | D47: =IFERROR(VLOOKUP(B47,'Sam_Tr1 17H'!$B$4:$C$70,2,0),"") | E47: =SUM(C47:D47) -> 0 | F47: =IFERROR(IFERROR(VLOOKUP(B47,'Sam_Tr1 15H'!$B$4:$C$73,2,0),0)+IFERROR(VLOOKUP(B47,'Sam_Tr1 17H'!$B$4:$C$70,2,0),0),"") -> 0
F48: =IFERROR(IFERROR(VLOOKUP(B48,'Sam_Tr1 15H'!$B$4:$C$73,2,0),0)+IFERROR(VLOOKUP(B48,'Sam_Tr1 17H'!$B$4:$C$70,2,0),0),"") -> 0

Sheet Sam_Tr1 15H
B2: Feuille de présence | C2: Assiduité | D2: Sept | F2: Octobre | I2: Nov | K2: Décembre
B3: Nom/Prénom | D3: 23 | E3: 29 | F3: 7 | G3: 14 | H3: 21 | I3: 18 | J3: 25 | K3: 2 | L3: 9 | M3: 16 | N3: 23
A4: 1 | B4: Adam | C4: =COUNTA(D4:J4) -> 2 | D4: x | E4: x
A5: 2 | B5: Alain | C5: =COUNTA(D5:J5) -> 1 | D5: x
A6: 3 | B6: Brigitte | C6: =COUNTA(D6:J6) -> 2 | E6: x | F6: x
A7: 4 | B7: Christelle | C7: =COUNTA(D7:J7) -> 2 | D7: x | F7: x
A8: 5 | B8: Chritian | C8: =COUNTA(D8:J8) -> 3 | D8: x | E8: x | G8: x
A9: 6 | B9: Cloé | C9: =COUNTA(D9:J9) -> 3 | D9: x | E9: x | F9: x
A10: 7 | B10: Didier | C10: =COUNTA(D10:J10) -> 3 | D10: x | F10: x | G10: x
A11: 8 | B11: Elisabeth | C11: =COUNTA(D11:J11) -> 1 | D11: x
A12: 9 | B12: Jeanne | C12: =COUNTA(D12:J12) -> 3 | E12: x | F12: x | G12: x
A13: 10 | B13: Laura | C13: =COUNTA(D13:J13) -> 2 | D13: x | E13: x
A14: 11 | B14: Léna | C14: =COUNTA(D14:J14) -> 4 | D14: x | E14: x | F14: x | G14: x
A15: 12 | B15: Loriane | C15: =COUNTA(D15:J15) -> 2 | E15: x | F15: x
A16: 13 | B16: Marjane | C16: =COUNTA(D16:J16) -> 3 | D16: x | E16: x | F16: x
A17: 14 | B17: Michael | C17: =COUNTA(D17:J17) -> 3 | E17: x | F17: x | G17: x
A18: 15 | B18: Safiya | C18: =COUNTA(D18:J18) -> 3 | D18: x | F18: x | G18: x
A19: 16 | B19: Sheyma | C19: =COUNTA(D19:J19) -> 4 | D19: x | E19: x | F19: x | G19: x
A20: 17 | B20: Sophie | C20: =COUNTA(D20:J20) -> 3 | D20: x | F20: x | G20: x
A21: 18 | B21: Thierry | C21: =COUNTA(D21:J21) -> 3 | D21: x | F21: x | G21: x
A22: 19 | C22: =COUNTA(D22:J22) -> 0
A23: 20 | C23: =COUNTA(D23:J23) -> 0
A24: 21 | C24: =COUNTA(D24:J24) -> 0
A25: 22 | C25: =COUNTA(D25:J25) -> 0
A26: 23 | C26: =COUNTA(D26:J26) -> 0
A27: 24 | C27: =COUNTA(D27:J27) -> 0
A28: 25 | C28: =COUNTA(D28:J28) -> 0
A29: 26 | C29: =COUNTA(D29:J29) -> 0
A30: 27 | C30: =COUNTA(D30:J30) -> 0
A31: 28 | C31: =COUNTA(D31:J31) -> 0
A32: 29 | C32: =COUNTA(D32:J32) -> 0
A33: 30 | C33: =COUNTA(D33:J33) -> 0
... A70: 67 | C70: =COUNTA(D70:J70) -> 0
D71: =IF(COUNTA(D4:D70)=0,"",COUNTA(D4:D70)) -> 14 | E71: =IF(COUNTA(E4:E70)=0,"",COUNTA(E4:E70)) -> 11 | F71: =IF(COUNTA(F4:F70)=0,"",COUNTA(F4:F70)) -> 13 | G71: =IF(COUNTA(G4:G70)=0,"",COUNTA(G4:G70)) -> 9 | H71: =IF(COUNTA(H4:H70)=0,"",COUNTA(H4:H70)) | I71: =IF(COUNTA(I4:I70)=0,"",COUNTA(I4:I70)) | J71: =IF(COUNTA(J4:J70)=0,"",COUNTA(J4:J70)) | K71: =IF(COUNTA(K4:K70)=0,"",COUNTA(K4:K70)) | ... N71: =IF(COUNTA(N4:N70)=0,"",COUNTA(N4:N70))
A73: =AVERAGE(D71:N71) -> 11.75 | B73: Moyenne trimestre 1 sur les 11 cours.

Sheet Sam_Tr1 17H
B2: Feuille de présence | C2: Assiduité | D2: Sept | F2: Octobre | I2: Nov | K2: Décembre
B3: Nom/Prénom | D3: 23 | E3: 29 | F3: 7 | G3: 14 | H3: 21 | I3: 18 | J3: 25 | K3: 2 | L3: 9 | M3: 16 | N3: 23
A4: 1 | B4: Adam | C4: =COUNTA(D4:N4) -> 2 | D4: x | E4: x
A5: 2 | B5: Brigitte | C5: =COUNTA(D5:N5) -> 1 | G5: x
A6: 3 | B6: Christelle | C6: =COUNTA(D6:N6) -> 3 | D6: x | F6: x | G6: x
A7: 4 | B7: Djenna | C7: =COUNTA(D7:N7) -> 1 | D7: x
A8: 5 | B8: Gabrielle | C8: =COUNTA(D8:N8) -> 3 | D8: x | F8: x | G8: x
A9: 6 | B9: Jean | C9: =COUNTA(D9:N9) -> 3 | D9: x | E9: x | F9: x
A10: 7 | B10: Jules | C10: =COUNTA(D10:N10) -> 3 | D10: x | F10: x | G10: x
A11: 8 | B11: Laura | C11: =COUNTA(D11:N11) -> 2 | F11: x | G11: x
A12: 9 | B12: Lidia | C12: =COUNTA(D12:N12) -> 2 | D12: x | G12: x
A13: 10 | B13: Loriane | C13: =COUNTA(D13:N13) -> 2 | D13: x | G13: x
A14: 11 | B14: Lucie | C14: =COUNTA(D14:N14) -> 2 | F14: x | G14: x
A15: 12 | B15: Manuel | C15: =COUNTA(D15:N15) -> 1 | G15: x
A16: 13 | B16: Michael | C16: =COUNTA(D16:N16) -> 1 | D16: x
A17: 14 | B17: Milan | C17: =COUNTA(D17:N17) -> 4 | D17: x | E17: x | F17: x | G17: x
A18: 15 | B18: Mylena | C18: =COUNTA(D18:N18) -> 4 | D18: x | E18: x | F18: x | G18: x
A19: 16 | B19: Olivier | C19: =COUNTA(D19:N19) -> 2 | F19: x | G19: x
A20: 17 | B20: Sarah | C20: =COUNTA(D20:N20) -> 1 | G20: x
A21: 18 | C21: =COUNTA(D21:N21) -> 0
A22: 19 | C22: =COUNTA(D22:N22) -> 0
A23: 20 | C23: =COUNTA(D23:N23) -> 0
A24: 21 | C24: =COUNTA(D24:N24) -> 0
A25: 22 | C25: =COUNTA(D25:N25) -> 0
A26: 23 | C26: =COUNTA(D26:N26) -> 0
A27: 24 | C27: =COUNTA(D27:N27) -> 0
A28: 25 | C28: =COUNTA(D28:N28) -> 0
A29: 26 | C29: =COUNTA(D29:N29) -> 0
A30: 27 | C30: =COUNTA(D30:N30) -> 0
A31: 28 | C31: =COUNTA(D31:N31) -> 0
A32: 29 | C32: =COUNTA(D32:N32) -> 0
... A73: 73 | C73: =COUNTA(D73:N73) -> 0
D74: =IF(COUNTA(D4:D73)=0,"",COUNTA(D4:D73)) -> 11 | E74: =IF(COUNTA(E4:E73)=0,"",COUNTA(E4:E73)) -> 4 | F74: =IF(COUNTA(F4:F73)=0,"",COUNTA(F4:F73)) -> 9 | G74: =IF(COUNTA(G4:G73)=0,"",COUNTA(G4:G73)) -> 13 | H74: =IF(COUNTA(H4:H73)=0,"",COUNTA(H4:H73)) | I74: =IF(COUNTA(I4:I73)=0,"",COUNTA(I4:I73)) | J74: =IF(COUNTA(J4:J73)=0,"",COUNTA(J4:J73)) | K74: =IF(COUNTA(K4:K73)=0,"",COUNTA(K4:K73)) | L74: =IF(COUNTA(L4:L73)=0,"",COUNTA(L4:L73)) | N74: =IF(COUNTA(N4:N73)=0,"",COUNTA(N4:N73))
A76: =AVERAGE(D74:N74) -> 9.25 | B76: Moyenne trimestre 1 sur les 12 cours.
A77: x | B77: Pas de dossier, ne plus accepter en cours dès le 15 oct.
