Workbook
Name CatBase: OFFSET(Base!$B$5,,,COUNTA(Base!$B$1)-1)
Name TBase: OFFSET(Commande!#REF!,,2,Commande!$A:$A-1)

Sheet Base
A4: Qte | B4: Categorie 1
A5: 1 | B5: X1
B6: X2
A7: 4 | B7: X3
A8: 2 | B8: X4
B10: Categorie 2
B11: Y1
B12: Y2
B14: Categorie 3
B15: Z1
A16: 2 | B16: Z2
B17: Z3
A18: 3 | B18: Z4
B19: Z5
B20: Z6
A21: 10 | B21: Z7

Sheet Commande
A4: Qte en Base | B4: Categorie 1 | C4: Commande
A5: 12 | B5: X1 | C5: 10
A6: 12 | B6: X3 | C6: 4
A7: =IFERROR(INDEX(Base!$A$4:$B$1000,MATCH(Commande!B7,Base!$B$4:$B$1000,0),1),"") -> 2 | B7: x4 | C7: 2
A8: =IFERROR(INDEX(Base!$A$4:$B$1000,MATCH(Commande!B8,Base!$B$4:$B$1000,0),1),"")
A9: =IFERROR(INDEX(Base!$A$4:$B$1000,MATCH(Commande!B9,Base!$B$4:$B$1000,0),1),"") -> 0 | B9: Categorie 3
A10: =IFERROR(INDEX(Base!$A$4:$B$1000,MATCH(Commande!B10,Base!$B$4:$B$1000,0),1),"") -> 2 | B10: Z2
A11: =IFERROR(INDEX(Base!$A$4:$B$1000,MATCH(Commande!B11,Base!$B$4:$B$1000,0),1),"") -> 3 | B11: Z4 | C11: 4
A12: =IFERROR(INDEX(Base!$A$4:$B$1000,MATCH(Commande!B12,Base!$B$4:$B$1000,0),1),"") -> 10 | B12: Z7
A13: =IFERROR(INDEX(Base!$A$4:$B$1000,MATCH(Commande!B13,Base!$B$4:$B$1000,0),1),"")
A14: =IFERROR(INDEX(Base!$A$4:$B$1000,MATCH(Commande!B14,Base!$B$4:$B$1000,0),1),"")
A15: =IFERROR(INDEX(Base!$A$4:$B$1000,MATCH(Commande!B15,Base!$B$4:$B$1000,0),1),"")
A16: =IFERROR(INDEX(Base!$A$4:$B$1000,MATCH(Commande!B16,Base!$B$4:$B$1000,0),1),"")
A17: =IFERROR(INDEX(Base!$A$4:$B$1000,MATCH(Commande!B17,Base!$B$4:$B$1000,0),1),"")
A18: =IFERROR(INDEX(Base!$A$4:$B$1000,MATCH(Commande!B18,Base!$B$4:$B$1000,0),1),"")
A19: =IFERROR(INDEX(Base!$A$4:$B$1000,MATCH(Commande!B19,Base!$B$4:$B$1000,0),1),"")
A20: =IFERROR(INDEX(Base!$A$4:$B$1000,MATCH(Commande!B20,Base!$B$4:$B$1000,0),1),"")
A21: =IFERROR(INDEX(Base!$A$4:$B$1000,MATCH(Commande!B21,Base!$B$4:$B$1000,0),1),"")
A22: =IFERROR(INDEX(Base!$A$4:$B$1000,MATCH(Commande!B22,Base!$B$4:$B$1000,0),1),"")
A23: =IFERROR(INDEX(Base!$A$4:$B$1000,MATCH(Commande!B23,Base!$B$4:$B$1000,0),1),"")
A24: =IFERROR(INDEX(Base!$A$4:$B$1000,MATCH(Commande!B24,Base!$B$4:$B$1000,0),1),"")
... A1100: =IFERROR(INDEX(Base!$A$4:$B$1000,MATCH(Commande!B1100,Base!$B$4:$B$1000,0),1),"")

Sheet Trimestriel
A3: Qte
B4: Categorie 1
A5: 12 | B5: X1
A6: 34 | B6: X2
A7: 16 | B7: X3
A8: 44 | B8: X4
B10: Categorie 2
A11: 8 | B11: Y1
A12: 43 | B12: Y2
B14: Categorie 3
A15: 34 | B15: Z1
A16: 24 | B16: Z2
A17: 56 | B17: Z3
A18: 54 | B18: Z4
A19: 43 | B19: Z5
A20: 32 | B20: Z6
A21: 21 | B21: Z7
