Workbook
Name BOISSONS: Références!$F$1:$F$49
Name REPAS: Références!$B$1:$B$49
Name SPA: Références!$J$1:$J$49
Name TRANSFERTS: Références!$O$1:$O$49

Sheet Références
A1: REPAS | C1: 0 | E1: BOISSONS | G1: 0 | I1: SPA | K1: 0 | M1: TRANSFERT | P1: 0 | R1: CHAMBRE
B2: Pastilla | C2: 60 | F2: Jus d'orange | G2: =SUM(F1)+30 -> 30 | J2: Soin Marocain | K2: 450 | L2: 150 | N2: M | O2: M Transfert 170 | P2: 170 | S2: KOUTOUBIA
B3: Salade Maroc | C3: 60 | F3: The | G3: 20 | J3: Hamamm | K3: 180 | L3: 50 | N3: M | O3: M Transfert 224 | P3: 224 | S3: OURIKA
B4: Salade variée | C4: 60 | F4: Cafe | G4: 20 | J4: Massage 30 | K4: 250 | L4: 50 | N4: M | O4: M Transfert 290 | P4: 290 | S4: VOLUBILIS
B5: Omelette | C5: 60 | F5: Café Nespr | G5: 25 | J5: Massage 1h | K5: 320 | L5: 100 | N5: M | O5: M Transfert 336 | P5: 336 | S5: TOUBKAL
B6: Briouate | C6: 60 | F6: Jus de fruits | G6: 30 | J6: Manucure | K6: 150 | L6: 30 | N6: M | O6: Transfert 1300 | P6: 1300 | S6: IFRANE
B7: briouate enfant | C7: 60 | J7: Pedicure | K7: 150 | L7: 30 | N7: M | O7: M Tr soirée 500 | P7: 500 | S7: M'GOUN
F8: Coca | G8: 20 | J8: Soin visage | K8: 200 | L8: 50 | N8: M | O8: M Tr soirée 700 | P8: 700 | S8: MOUCHARABIEH
B9: Grillades | C9: 150 | F9: Sprit | G9: 20 | N9: M | O9: M Mise dispo 500 | P9: 500 | S9: TICHKA
B10: Kefta aux œufs | C10: 150 | F10: Fanta | G10: 20 | N10: M | O10: M Mise dispo 700 | P10: 700
B11: Poulet citrons | C11: 150 | F11: Eau M | G11: 15
B12: Bœuf au prune | C12: 150 | F12: Eau G | G12: 15 | N12: A | O12: A Guide 1/2 | P12: 400
B13: Couscous | C13: 150 | F13: APB | G13: 35 | N13: A | O13: A Guide journée | P13: 700
F14: GMR | G14: 150 | N14: A | O14: A Guide 1/2 + chauf | P14: 800
B15: Salade fruit | C15: 50 | F15: GMB | G15: 150 | N15: A | O15: A Guide 1 + chauf | P15: 1200
B16: Glace | C16: 50 | F16: GMr | G16: 150 | N16: A | O16: A Transfert 170 | P16: 170
B17: Patisserie | C17: 60 | F17: GMR med | G17: 250 | N17: A | O17: A Transfert 224 | P17: 224
F18: GMB med | G18: 250 | N18: A | O18: A Transfert 290 | P18: 290
F19: GMRV | G19: 35 | N19: A | O19: A Transfert 336 | P19: 336
F20: GMBV | G20: 35 | N20: A | O20: A Transfert 1300 | P20: 1300
F21: GMrV | G21: 35 | N21: A | O21: A Tr soirée 500 | P21: 500
N22: A | O22: A Tr soirée 700 | P22: 700
F23: Pistaches | G23: 30 | N23: A | O23: A Mise dispo 500 | P23: 500
F24: Olives | G24: 30 | N24: A | O24: A Mise dispo 700 | P24: 700
F25: Amandes | G25: 30
F26: Cacahuètes | G26: 30

Sheet FICHE DOSSIER
AE2: CLIENT | AF2: Martin
AE3: N° FACTURE
AE4: FACTURE D'ACOMPTE | AF4: REGLÉ LE | AH4: / | AJ4: / | AK4: 14 | AL4: MONTANT :
AE5: FAX
AE6: ARRIVEE | AF6: 28 | AH6: / | AI6: 04 | AJ6: 15 | AK6: 14
AE7: DEPART | AF7: 9 | AH7: / | AI7: 05 | AJ7: 15 | AK7: 14
AE8: CHAMBRE | AF8: TOUBKAL
AE9: PAX | AF9: ADULTES | AL9: ENFANTS
AE10: TYPE DE LIT | AF10: DOUBLE | AL10: SIMPLE
AE11: CLIENT AU RIAD | AF11: ARRIVEE : | AK11: NUITEE : | AL11: =SUM($AF$7-$AF$6) -> -19 | AM11: TOTAL : | AN11: =SUM(AL11*AG11) -> 0
AE12: VIA
AE13: ORIGINE
AE14: CONDITIONS | AL14: X | AM14: =SUM($AF$7-$AF$6) -> -19 | AN14: = | AO14: =SUM(AF14*AM14) -> 0
AL15: X | AN15: = | AO15: =SUM(AF15*AM15) -> 0
AF17: =SUM(AF14)*11.2 -> 0 | AL17: X | AM17: =SUM(AM14) -> -19 | AN17: = | AO17: =SUM(AF17*AM17) -> 0
AL18: X | AM18: =SUM(AM15) -> 0 | AN18: = | AO18: =SUM(AF18*AM18) -> 0
AM19: TOTAL : | AO19: =SUM(AO17:AO18) -> 0
AE20: TRANSFERT
AE21: HEURE D'ARRIVEE
AE22: N° DE VOL
AE23: PRIX TRANSFERT
AE24: RESTAURATION | AG24: Qté | AH24: REPAS | AL24: Qté | AM24: REPAS | AN24: HEURE
AE31: SPA | AG31: Qté | AH31: DETAILS | AM31: HEURE
AE34: DATE DE RESA | AH34: / | AJ34: / | AK34: 14
AE35: CB

Sheet FICHE CONSOMMATION
A1: CLIENT : | D1: ='FICHE DOSSIER'!AF2 -> Martin | K1: CHAMBRE : | N1: ='FICHE DOSSIER'!AF8 -> TOUBKAL | R1: TRANSFERT : | U1: ='FICHE DOSSIER'!AF20 -> 0
A2: ARRIVEE : | D2: ='FICHE DOSSIER'!AF6 -> 28 | F2: / | G2: ='FICHE DOSSIER'!AI6 -> 04 | I2: / | J2: ='FICHE DOSSIER'!AK6 -> 14 | K2: LANGUE : | N2: ='FICHE DOSSIER'!AF13 -> 0 | R2: HEURE : | U2: ='FICHE DOSSIER'!AF21 -> 0
A3: DEPART : | D3: ='FICHE DOSSIER'!AF7 -> 9 | F3: / | G3: ='FICHE DOSSIER'!AI7 -> 05 | I3: / | J3: ='FICHE DOSSIER'!AK7 -> 14 | K3: VIA : | N3: ='FICHE DOSSIER'!AF12 -> 0 | R3: VOL : | U3: ='FICHE DOSSIER'!AF22 -> 0
A5: DATE | B5: RESTAURATION | L5: BOISSONS | P5: SPA | T5: TRANSPORT | V5: REMARQUES
C6: Qté | D6: DETAILS | I6: Qté | J6: DETAILS | K6: HEURE | L6: Qté | M6: DETAILS | N6: Qté | O6: DETAILS | P6: Qté | Q6: DETAILS | R6: HEURE | T6: DETAILS | U6: HEURE | V6: DETAILS
A7: =D2 -> 28 | B7: REPAS | C7: ='FICHE DOSSIER'!AG25 -> 0 | D7: ='FICHE DOSSIER'!AH25 | I7: ='FICHE DOSSIER'!AL25 -> 0 | J7: ='FICHE DOSSIER'!AM25 | K7: ='FICHE DOSSIER'!AN25 -> 0 | P7: ='FICHE DOSSIER'!AG32 -> 0 | Q7: ='FICHE DOSSIER'!AH32 | R7: ='FICHE DOSSIER'!AM32 -> 0 | T7: ='FICHE DOSSIER'!AF23 | U7: ='FICHE DOSSIER'!AF21 -> 0
C8: ='FICHE DOSSIER'!AG26 -> 0 | D8: ='FICHE DOSSIER'!AH26 | I8: ='FICHE DOSSIER'!AL26 -> 0 | J8: ='FICHE DOSSIER'!AM26 | K8: ='FICHE DOSSIER'!AN26 -> 0 | P8: ='FICHE DOSSIER'!AG33 -> 0 | Q8: ='FICHE DOSSIER'!AH33 | R8: ='FICHE DOSSIER'!AM33 -> 0
C9: ='FICHE DOSSIER'!AG27 -> 0 | D9: ='FICHE DOSSIER'!AH27 | I9: ='FICHE DOSSIER'!AL27 -> 0 | J9: ='FICHE DOSSIER'!AM27 | K9: ='FICHE DOSSIER'!AN27 -> 0
C10: ='FICHE DOSSIER'!AG28 -> 0 | D10: ='FICHE DOSSIER'!AH28 | I10: ='FICHE DOSSIER'!AL28 -> 0 | J10: ='FICHE DOSSIER'!AM28 | K10: ='FICHE DOSSIER'!AN28 -> 0
C11: ='FICHE DOSSIER'!AG29 -> 0 | D11: ='FICHE DOSSIER'!AH29 | I11: ='FICHE DOSSIER'!AL29 -> 0 | J11: ='FICHE DOSSIER'!AM29 | K11: ='FICHE DOSSIER'!AN29 -> 0
D12: ='FICHE DOSSIER'!AH30 | I12: ='FICHE DOSSIER'!AL30 -> 0 | J12: ='FICHE DOSSIER'!AM30 | K12: ='FICHE DOSSIER'!AN30 -> 0
A13: =SUM(A7+1) -> 29 | B13: REPAS
A19: =SUM(A13+1) -> 30 | B19: REPAS
A25: =SUM(A19+1) -> 31 | B25: REPAS
A31: =SUM(A25+1) -> 32 | B31: REPAS
A37: =SUM(A31+1) -> 33 | B37: REPAS
A43: =SUM(A37+1) -> 34 | B43: REPAS

Sheet TOTAL DETAIL
A1: CLIENT : | C1: ='FICHE CONSOMMATION'!D1 -> Martin | G1: CHAMBRE : | I1: ='FICHE CONSOMMATION'!N1 -> TOUBKAL
A2: FACTURE : | C2: ='FICHE DOSSIER'!AF3 -> 0
A3: RESTAURATION | E3: TOTAL | F3: =SUM(F5:F88) -> 0 | H3: BOISSONS | L3: TOTAL | M3: =SUM(M5:M88) -> 0 | O3: SPA | T3: TOTAL | U3: =SUM(U5:U88) -> 0 | W3: TRANSPORT | AA3: =SUM(AA5:AA88) -> 0
A4: DATE | B4: Qté | C4: Details | D4: PX UNITAIRE | E4: TOTAL UNITAIRE | F4: TOTAL / JOUR | H4: DATE | I4: Qté | J4: Details | K4: PX UNITAIRE | L4: TOTAL UNITAIRE | M4: TOTAL / JOUR | O4: DATE | P4: Qté | Q4: DETAILS | R4: HEURE | S4: PX UNITAIRE | T4: TOTAL UNITAIRE | U4: TOTAL / JOUR | W4: DATE | X4: DETAILS | Y4: HEURE | Z4: PX UNITAIRE | AA4: TOTAL / JOUR
A5: ='FICHE CONSOMMATION'!A7 -> 28 | B5: ='FICHE CONSOMMATION'!C7 -> 0 | C5: ='FICHE CONSOMMATION'!D7 | D5: =VLOOKUP(C5,Références!$B:$C,2,0) -> 0 | E5: =SUM(B5*D5) -> 0 | F5: =SUM(E5:E16) -> 0 | H5: =A5 -> 28 | I5: ='FICHE CONSOMMATION'!L7 -> 0 | J5: ='FICHE CONSOMMATION'!M7 | K5: =VLOOKUP(J5,Références!$F:$G,2,0) -> 0 | L5: =SUM(I5*K5) -> 0 | M5: =SUM(L5:L16) -> 0 | O5: =H5 -> 28 | P5: ='FICHE CONSOMMATION'!P7 -> 0 | Q5: ='FICHE CONSOMMATION'!Q7 | R5: ='FICHE CONSOMMATION'!R7 -> 0 | S5: =VLOOKUP(Q5,Références!$J:$K,2,0) -> 0 | T5: =SUM(P5*S5) -> 0 | U5: =SUM(T5:T16) -> 0 | W5: =O5 -> 28 | X5: ='FICHE CONSOMMATION'!T7 | Z5: =VLOOKUP(X5,Références!$O:$P,2,0) -> 0 | AA5: =SUM(Z5:Z16) -> 0
B6: ='FICHE CONSOMMATION'!C8 -> 0 | C6: ='FICHE CONSOMMATION'!D8 | D6: =VLOOKUP(C6,Références!$B:$C,2,0) -> 0 | E6: =SUM(B6*D6) -> 0 | I6: ='FICHE CONSOMMATION'!L8 -> 0 | J6: ='FICHE CONSOMMATION'!M8 | K6: =VLOOKUP(J6,Références!$F:$G,2,0) -> 0 | L6: =SUM(I6*K6) -> 0
B7: ='FICHE CONSOMMATION'!C9 -> 0 | C7: ='FICHE CONSOMMATION'!D9 | D7: =VLOOKUP(C7,Références!$B:$C,2,0) -> 0 | E7: =SUM(B7*D7) -> 0 | I7: ='FICHE CONSOMMATION'!L9 -> 0 | J7: ='FICHE CONSOMMATION'!M9 | K7: =VLOOKUP(J7,Références!$F:$G,2,0) -> 0 | L7: =SUM(I7*K7) -> 0 | P7: ='FICHE CONSOMMATION'!P8 -> 0 | Q7: ='FICHE CONSOMMATION'!Q8 | R7: ='FICHE CONSOMMATION'!R8 -> 0 | S7: =VLOOKUP(Q7,Références!$J:$K,2,0) -> 0 | T7: =SUM(P7*S7) -> 0 | X7: ='FICHE CONSOMMATION'!T8 | Y7: ='FICHE CONSOMMATION'!U8 -> 0 | Z7: =VLOOKUP(X7,Références!$O:$P,2,0) -> 0
B8: ='FICHE CONSOMMATION'!C10 -> 0 | C8: ='FICHE CONSOMMATION'!D10 | D8: =VLOOKUP(C8,Références!$B:$C,2,0) -> 0 | E8: =SUM(B8*D8) -> 0 | I8: ='FICHE CONSOMMATION'!L10 -> 0 | J8: ='FICHE CONSOMMATION'!M10 | K8: =VLOOKUP(J8,Références!$F:$G,2,0) -> 0 | L8: =SUM(I8*K8) -> 0
B9: ='FICHE CONSOMMATION'!C11 -> 0 | C9: ='FICHE CONSOMMATION'!D11 | D9: =VLOOKUP(C9,Références!$B:$C,2,0) -> 0 | E9: =SUM(B9*D9) -> 0 | I9: ='FICHE CONSOMMATION'!L11 -> 0 | J9: ='FICHE CONSOMMATION'!M11 | K9: =VLOOKUP(J9,Références!$F:$G,2,0) -> 0 | L9: =SUM(I9*K9) -> 0 | P9: ='FICHE CONSOMMATION'!P9 -> 0 | Q9: ='FICHE CONSOMMATION'!Q9 | R9: ='FICHE CONSOMMATION'!R9 -> 0 | S9: =VLOOKUP(Q9,Références!$J:$K,2,0) -> 0 | T9: =SUM(P9*S9) -> 0 | X9: ='FICHE CONSOMMATION'!T9 | Y9: ='FICHE CONSOMMATION'!U9 -> 0 | Z9: =VLOOKUP(X9,Références!$O:$P,2,0) -> 0
B10: ='FICHE CONSOMMATION'!C12 -> 0 | C10: ='FICHE CONSOMMATION'!D12 | D10: =VLOOKUP(C10,Références!$B:$C,2,0) -> 0 | E10: =SUM(B10*D10) -> 0 | I10: ='FICHE CONSOMMATION'!L12 -> 0 | J10: ='FICHE CONSOMMATION'!M12 | K10: =VLOOKUP(J10,Références!$F:$G,2,0) -> 0 | L10: =SUM(I10*K10) -> 0
B11: ='FICHE CONSOMMATION'!I7 -> 0 | C11: ='FICHE CONSOMMATION'!J7 | D11: =VLOOKUP(C11,Références!$B:$C,2,0) -> 0 | E11: =SUM(B11*D11) -> 0 | I11: ='FICHE CONSOMMATION'!N7 -> 0 | J11: ='FICHE CONSOMMATION'!O7 | K11: =VLOOKUP(J11,Références!$F:$G,2,0) -> 0 | L11: =SUM(I11*K11) -> 0 | P11: ='FICHE CONSOMMATION'!P10 -> 0 | Q11: ='FICHE CONSOMMATION'!Q11 | R11: ='FICHE CONSOMMATION'!R10 -> 0 | S11: =VLOOKUP(Q11,Références!$J:$K,2,0) -> 0 | T11: =SUM(P11*S11) -> 0 | X11: ='FICHE CONSOMMATION'!T10 | Y11: ='FICHE CONSOMMATION'!U10 -> 0 | Z11: =VLOOKUP(X11,Références!$O:$P,2,0) -> 0
B12: ='FICHE CONSOMMATION'!I8 -> 0 | C12: ='FICHE CONSOMMATION'!J8 | D12: =VLOOKUP(C12,Références!$B:$C,2,0) -> 0 | E12: =SUM(B12*D12) -> 0 | I12: ='FICHE CONSOMMATION'!N8 -> 0 | J12: ='FICHE CONSOMMATION'!O8 | K12: =VLOOKUP(J12,Références!$F:$G,2,0) -> 0 | L12: =SUM(I12*K12) -> 0
B13: ='FICHE CONSOMMATION'!I9 -> 0 | C13: ='FICHE CONSOMMATION'!J9 | D13: =VLOOKUP(C13,Références!$B:$C,2,0) -> 0 | E13: =SUM(B13*D13) -> 0 | I13: ='FICHE CONSOMMATION'!N9 -> 0 | J13: ='FICHE CONSOMMATION'!O9 | K13: =VLOOKUP(J13,Références!$F:$G,2,0) -> 0 | L13: =SUM(I13*K13) -> 0 | P13: ='FICHE CONSOMMATION'!P11 -> 0 | Q13: ='FICHE CONSOMMATION'!Q12 | R13: ='FICHE CONSOMMATION'!R11 -> 0 | S13: =VLOOKUP(Q13,Références!$J:$K,2,0) -> 0 | T13: =SUM(P13*S13) -> 0 | X13: ='FICHE CONSOMMATION'!T11 | Y13: ='FICHE CONSOMMATION'!U11 -> 0 | Z13: =VLOOKUP(X13,Références!$O:$P,2,0) -> 0
B14: ='FICHE CONSOMMATION'!I10 -> 0 | C14: ='FICHE CONSOMMATION'!J10 | D14: =VLOOKUP(C14,Références!$B:$C,2,0) -> 0 | E14: =SUM(B14*D14) -> 0 | I14: ='FICHE CONSOMMATION'!N10 -> 0 | J14: ='FICHE CONSOMMATION'!O10 | K14: =VLOOKUP(J14,Références!$F:$G,2,0) -> 0 | L14: =SUM(I14*K14) -> 0
B15: ='FICHE CONSOMMATION'!I11 -> 0 | C15: ='FICHE CONSOMMATION'!J11 | D15: =VLOOKUP(C15,Références!$B:$C,2,0) -> 0 | E15: =SUM(B15*D15) -> 0 | I15: ='FICHE CONSOMMATION'!N11 -> 0 | J15: ='FICHE CONSOMMATION'!O11 | K15: =VLOOKUP(J15,Références!$F:$G,2,0) -> 0 | L15: =SUM(I15*K15) -> 0 | P15: ='FICHE CONSOMMATION'!P12 -> 0 | Q15: ='FICHE CONSOMMATION'!Q12 | R15: ='FICHE CONSOMMATION'!R12 -> 0 | S15: =VLOOKUP(Q15,Références!$J:$K,2,0) -> 0 | T15: =SUM(P15*S15) -> 0 | X15: ='FICHE CONSOMMATION'!T12 | Y15: ='FICHE CONSOMMATION'!U12 -> 0 | Z15: =VLOOKUP(X15,Références!$O:$P,2,0) -> 0
B16: ='FICHE CONSOMMATION'!I12 -> 0 | C16: ='FICHE CONSOMMATION'!J12 | D16: =VLOOKUP(C16,Références!$B:$C,2,0) -> 0 | E16: =SUM(B16*D16) -> 0 | I16: ='FICHE CONSOMMATION'!N12 -> 0 | J16: ='FICHE CONSOMMATION'!O12 | K16: =VLOOKUP(J16,Références!$F:$G,2,0) -> 0 | L16: =SUM(I16*K16) -> 0
A17: ='FICHE CONSOMMATION'!A13 -> 29 | B17: ='FICHE CONSOMMATION'!C13 -> 0 | C17: ='FICHE CONSOMMATION'!D13 | D17: =VLOOKUP(C17,Références!$B:$C,2,0) -> 0 | E17: =SUM(B17*D17) -> 0 | F17: =SUM(E17:E28) -> 0 | H17: =A17 -> 29 | I17: ='FICHE CONSOMMATION'!L13 -> 0 | J17: ='FICHE CONSOMMATION'!M13 | K17: =VLOOKUP(J17,Références!$F:$G,2,0) -> 0 | L17: =SUM(I17*K17) -> 0 | M17: =SUM(L17:L28) -> 0 | O17: =H17 -> 29 | P17: ='FICHE CONSOMMATION'!P13 -> 0 | Q17: ='FICHE CONSOMMATION'!Q13 | R17: ='FICHE CONSOMMATION'!R13 -> 0 | S17: =VLOOKUP(Q17,Références!$J:$K,2,0) -> 0 | T17: =SUM(P17*S17) -> 0 | U17: =SUM(T17:T28) -> 0 | W17: =O17 -> 29 | X17: ='FICHE CONSOMMATION'!T13 | Y17: ='FICHE CONSOMMATION'!U13 -> 0 | Z17: =VLOOKUP(X17,Références!$O:$P,2,0) -> 0 | AA17: =SUM(Z17:Z28) -> 0
B18: ='FICHE CONSOMMATION'!C14 -> 0 | C18: ='FICHE CONSOMMATION'!D14 | D18: =VLOOKUP(C18,Références!$B:$C,2,0) -> 0 | E18: =SUM(B18*D18) -> 0 | I18: ='FICHE CONSOMMATION'!L14 -> 0 | J18: ='FICHE CONSOMMATION'!M14 | K18: =VLOOKUP(J18,Références!$F:$G,2,0) -> 0 | L18: =SUM(I18*K18) -> 0
B19: ='FICHE CONSOMMATION'!C15 -> 0 | C19: ='FICHE CONSOMMATION'!D15 | D19: =VLOOKUP(C19,Références!$B:$C,2,0) -> 0 | E19: =SUM(B19*D19) -> 0 | I19: ='FICHE CONSOMMATION'!L15 -> 0 | J19: ='FICHE CONSOMMATION'!M15 | K19: =VLOOKUP(J19,Références!$F:$G,2,0) -> 0 | L19: =SUM(I19*K19) -> 0 | P19: ='FICHE CONSOMMATION'!P14 -> 0 | Q19: ='FICHE CONSOMMATION'!Q14 | R19: ='FICHE CONSOMMATION'!R14 -> 0 | S19: =VLOOKUP(Q19,Références!$J:$K,2,0) -> 0 | T19: =SUM(P19*S19) -> 0 | X19: ='FICHE CONSOMMATION'!T14 | Y19: ='FICHE CONSOMMATION'!U14 -> 0 | Z19: =VLOOKUP(X19,Références!$O:$P,2,0) -> 0
B20: ='FICHE CONSOMMATION'!C16 -> 0 | C20: ='FICHE CONSOMMATION'!D16 | D20: =VLOOKUP(C20,Références!$B:$C,2,0) -> 0 | E20: =SUM(B20*D20) -> 0 | I20: ='FICHE CONSOMMATION'!L16 -> 0 | J20: ='FICHE CONSOMMATION'!M16 | K20: =VLOOKUP(J20,Références!$F:$G,2,0) -> 0 | L20: =SUM(I20*K20) -> 0
B21: ='FICHE CONSOMMATION'!C17 -> 0 | C21: ='FICHE CONSOMMATION'!D17 | D21: =VLOOKUP(C21,Références!$B:$C,2,0) -> 0 | E21: =SUM(B21*D21) -> 0 | I21: ='FICHE CONSOMMATION'!L17 -> 0 | J21: ='FICHE CONSOMMATION'!M17 | K21: =VLOOKUP(J21,Références!$F:$G,2,0) -> 0 | L21: =SUM(I21*K21) -> 0 | P21: ='FICHE CONSOMMATION'!P15 -> 0 | Q21: ='FICHE CONSOMMATION'!Q15 | R21: ='FICHE CONSOMMATION'!R15 -> 0 | S21: =VLOOKUP(Q21,Références!$J:$K,2,0) -> 0 | T21: =SUM(P21*S21) -> 0 | X21: ='FICHE CONSOMMATION'!T15 | Y21: ='FICHE CONSOMMATION'!U15 -> 0 | Z21: =VLOOKUP(X21,Références!$O:$P,2,0) -> 0
B22: ='FICHE CONSOMMATION'!C18 -> 0 | C22: ='FICHE CONSOMMATION'!D18 | D22: =VLOOKUP(C22,Références!$B:$C,2,0) -> 0 | E22: =SUM(B22*D22) -> 0 | I22: ='FICHE CONSOMMATION'!L18 -> 0 | J22: ='FICHE CONSOMMATION'!M18 | K22: =VLOOKUP(J22,Références!$F:$G,2,0) -> 0 | L22: =SUM(I22*K22) -> 0
B23: ='FICHE CONSOMMATION'!I13 -> 0 | C23: ='FICHE CONSOMMATION'!J13 | D23: =VLOOKUP(C23,Références!$B:$C,2,0) -> 0 | E23: =SUM(B23*D23) -> 0 | I23: ='FICHE CONSOMMATION'!N13 -> 0 | J23: ='FICHE CONSOMMATION'!O13 | K23: =VLOOKUP(J23,Références!$F:$G,2,0) -> 0 | L23: =SUM(I23*K23) -> 0 | P23: ='FICHE CONSOMMATION'!P16 -> 0 | Q23: ='FICHE CONSOMMATION'!Q16 | R23: ='FICHE CONSOMMATION'!R16 -> 0 | S23: =VLOOKUP(Q23,Références!$J:$K,2,0) -> 0 | T23: =SUM(P23*S23) -> 0 | X23: ='FICHE CONSOMMATION'!T16 | Y23: ='FICHE CONSOMMATION'!U16 -> 0 | Z23: =VLOOKUP(X23,Références!$O:$P,2,0) -> 0
B24: ='FICHE CONSOMMATION'!I14 -> 0 | C24: ='FICHE CONSOMMATION'!J14 | D24: =VLOOKUP(C24,Références!$B:$C,2,0) -> 0 | E24: =SUM(B24*D24) -> 0 | I24: ='FICHE CONSOMMATION'!N14 -> 0 | J24: ='FICHE CONSOMMATION'!O14 | K24: =VLOOKUP(J24,Références!$F:$G,2,0) -> 0 | L24: =SUM(I24*K24) -> 0
B25: ='FICHE CONSOMMATION'!I15 -> 0 | C25: ='FICHE CONSOMMATION'!J15 | D25: =VLOOKUP(C25,Références!$B:$C,2,0) -> 0 | E25: =SUM(B25*D25) -> 0 | I25: ='FICHE CONSOMMATION'!N15 -> 0 | J25: ='FICHE CONSOMMATION'!O15 | K25: =VLOOKUP(J25,Références!$F:$G,2,0) -> 0 | L25: =SUM(I25*K25) -> 0 | P25: ='FICHE CONSOMMATION'!P17 -> 0 | Q25: ='FICHE CONSOMMATION'!Q17 | R25: ='FICHE CONSOMMATION'!R17 -> 0 | S25: =VLOOKUP(Q25,Références!$J:$K,2,0) -> 0 | T25: =SUM(P25*S25) -> 0 | X25: ='FICHE CONSOMMATION'!T17 | Y25: ='FICHE CONSOMMATION'!U17 -> 0 | Z25: =VLOOKUP(X25,Références!$O:$P,2,0) -> 0
B26: ='FICHE CONSOMMATION'!I16 -> 0 | C26: ='FICHE CONSOMMATION'!J16 | D26: =VLOOKUP(C26,Références!$B:$C,2,0) -> 0 | E26: =SUM(B26*D26) -> 0 | I26: ='FICHE CONSOMMATION'!N16 -> 0 | J26: ='FICHE CONSOMMATION'!O16 | K26: =VLOOKUP(J26,Références!$F:$G,2,0) -> 0 | L26: =SUM(I26*K26) -> 0
B27: ='FICHE CONSOMMATION'!I17 -> 0 | C27: ='FICHE CONSOMMATION'!J17 | D27: =VLOOKUP(C27,Références!$B:$C,2,0) -> 0 | E27: =SUM(B27*D27) -> 0 | I27: ='FICHE CONSOMMATION'!N17 -> 0 | J27: ='FICHE CONSOMMATION'!O17 | K27: =VLOOKUP(J27,Références!$F:$G,2,0) -> 0 | L27: =SUM(I27*K27) -> 0 | P27: ='FICHE CONSOMMATION'!P18 -> 0 | Q27: ='FICHE CONSOMMATION'!Q18 | R27: ='FICHE CONSOMMATION'!R18 -> 0 | S27: =VLOOKUP(Q27,Références!$J:$K,2,0) -> 0 | T27: =SUM(P27*S27) -> 0 | X27: ='FICHE CONSOMMATION'!T18 | Y27: ='FICHE CONSOMMATION'!U18 -> 0 | Z27: =VLOOKUP(X27,Références!$O:$P,2,0) -> 0
B28: ='FICHE CONSOMMATION'!I18 -> 0 | C28: ='FICHE CONSOMMATION'!J18 | D28: =VLOOKUP(C28,Références!$B:$C,2,0) -> 0 | E28: =SUM(B28*D28) -> 0 | I28: ='FICHE CONSOMMATION'!N18 -> 0 | J28: ='FICHE CONSOMMATION'!O18 | K28: =VLOOKUP(J28,Références!$F:$G,2,0) -> 0 | L28: =SUM(I28*K28) -> 0
A29: ='FICHE CONSOMMATION'!A19 -> 30 | B29: ='FICHE CONSOMMATION'!C19 -> 0 | C29: ='FICHE CONSOMMATION'!D19 | D29: =VLOOKUP(C29,Références!$B:$C,2,0) -> 0 | E29: =SUM(B29*D29) -> 0 | F29: =SUM(E29:E40) -> 0 | H29: =A29 -> 30 | I29: ='FICHE CONSOMMATION'!L19 -> 0 | J29: ='FICHE CONSOMMATION'!M19 | K29: =VLOOKUP(J29,Références!$F:$G,2,0) -> 0 | L29: =SUM(I29*K29) -> 0 | M29: =SUM(L29:L40) -> 0 | O29: =H29 -> 30 | P29: ='FICHE CONSOMMATION'!P19 -> 0 | Q29: ='FICHE CONSOMMATION'!Q19 | R29: ='FICHE CONSOMMATION'!R19 -> 0 | S29: =VLOOKUP(Q29,Références!$J:$K,2,0) -> 0 | T29: =SUM(P29*S29) -> 0 | U29: =SUM(T29:T40) -> 0 | W29: =O29 -> 30 | X29: ='FICHE CONSOMMATION'!T19 | Y29: ='FICHE CONSOMMATION'!U19 -> 0 | Z29: =VLOOKUP(X29,Références!$O:$P,2,0) -> 0 | AA29: =SUM(Z29:Z40) -> 0
B30: ='FICHE CONSOMMATION'!C20 -> 0 | C30: ='FICHE CONSOMMATION'!D20 | D30: =VLOOKUP(C30,Références!$B:$C,2,0) -> 0 | E30: =SUM(B30*D30) -> 0 | I30: ='FICHE CONSOMMATION'!L20 -> 0 | J30: ='FICHE CONSOMMATION'!M20 | K30: =VLOOKUP(J30,Références!$F:$G,2,0) -> 0 | L30: =SUM(I30*K30) -> 0
B31: ='FICHE CONSOMMATION'!C21 -> 0 | C31: ='FICHE CONSOMMATION'!D21 | D31: =VLOOKUP(C31,Références!$B:$C,2,0) -> 0 | E31: =SUM(B31*D31) -> 0 | I31: ='FICHE CONSOMMATION'!L21 -> 0 | J31: ='FICHE CONSOMMATION'!M21 | K31: =VLOOKUP(J31,Références!$F:$G,2,0) -> 0 | L31: =SUM(I31*K31) -> 0 | P31: ='FICHE CONSOMMATION'!P20 -> 0 | Q31: ='FICHE CONSOMMATION'!Q20 | R31: ='FICHE CONSOMMATION'!R20 -> 0 | S31: =VLOOKUP(Q31,Références!$J:$K,2,0) -> 0 | T31: =SUM(P31*S31) -> 0 | X31: ='FICHE CONSOMMATION'!T20 | Y31: ='FICHE CONSOMMATION'!U20 -> 0 | Z31: =VLOOKUP(X31,Références!$O:$P,2,0) -> 0
B32: ='FICHE CONSOMMATION'!C22 -> 0 | C32: ='FICHE CONSOMMATION'!D22 | D32: =VLOOKUP(C32,Références!$B:$C,2,0) -> 0 | E32: =SUM(B32*D32) -> 0 | I32: ='FICHE CONSOMMATION'!L22 -> 0 | J32: ='FICHE CONSOMMATION'!M22 | K32: =VLOOKUP(J32,Références!$F:$G,2,0) -> 0 | L32: =SUM(I32*K32) -> 0
B33: ='FICHE CONSOMMATION'!C23 -> 0 | C33: ='FICHE CONSOMMATION'!D23 | D33: =VLOOKUP(C33,Références!$B:$C,2,0) -> 0 | E33: =SUM(B33*D33) -> 0 | I33: ='FICHE CONSOMMATION'!L23 -> 0 | J33: ='FICHE CONSOMMATION'!M23 | K33: =VLOOKUP(J33,Références!$F:$G,2,0) -> 0 | L33: =SUM(I33*K33) -> 0 | P33: ='FICHE CONSOMMATION'!P21 -> 0 | Q33: ='FICHE CONSOMMATION'!Q21 | R33: ='FICHE CONSOMMATION'!R27 -> 0 | S33: =VLOOKUP(Q33,Références!$J:$K,2,0) -> 0 | T33: =SUM(P33*S33) -> 0 | X33: ='FICHE CONSOMMATION'!T21 | Y33: ='FICHE CONSOMMATION'!U21 -> 0 | Z33: =VLOOKUP(X33,Références!$O:$P,2,0) -> 0
B34: ='FICHE CONSOMMATION'!C24 -> 0 | C34: ='FICHE CONSOMMATION'!D24 | D34: =VLOOKUP(C34,Références!$B:$C,2,0) -> 0 | E34: =SUM(B34*D34) -> 0 | I34: ='FICHE CONSOMMATION'!L24 -> 0 | J34: ='FICHE CONSOMMATION'!M24 | K34: =VLOOKUP(J34,Références!$F:$G,2,0) -> 0 | L34: =SUM(I34*K34) -> 0
B35: ='FICHE CONSOMMATION'!I19 -> 0 | C35: ='FICHE CONSOMMATION'!J19 | D35: =VLOOKUP(C35,Références!$B:$C,2,0) -> 0 | E35: =SUM(B35*D35) -> 0 | I35: ='FICHE CONSOMMATION'!N19 -> 0 | J35: ='FICHE CONSOMMATION'!O19 | K35: =VLOOKUP(J35,Références!$F:$G,2,0) -> 0 | L35: =SUM(I35*K35) -> 0 | P35: ='FICHE CONSOMMATION'!P22 -> 0 | Q35: ='FICHE CONSOMMATION'!Q22 | R35: ='FICHE CONSOMMATION'!R28 -> 0 | S35: =VLOOKUP(Q35,Références!$J:$K,2,0) -> 0 | T35: =SUM(P35*S35) -> 0 | X35: ='FICHE CONSOMMATION'!T22 | Y35: ='FICHE CONSOMMATION'!U22 -> 0 | Z35: =VLOOKUP(X35,Références!$O:$P,2,0) -> 0
B36: ='FICHE CONSOMMATION'!I20 -> 0 | C36: ='FICHE CONSOMMATION'!J20 | D36: =VLOOKUP(C36,Références!$B:$C,2,0) -> 0 | E36: =SUM(B36*D36) -> 0 | I36: ='FICHE CONSOMMATION'!N20 -> 0 | J36: ='FICHE CONSOMMATION'!O20 | K36: =VLOOKUP(J36,Références!$F:$G,2,0) -> 0 | L36: =SUM(I36*K36) -> 0
B37: ='FICHE CONSOMMATION'!I21 -> 0 | C37: ='FICHE CONSOMMATION'!J21 | D37: =VLOOKUP(C37,Références!$B:$C,2,0) -> 0 | E37: =SUM(B37*D37) -> 0 | I37: ='FICHE CONSOMMATION'!N21 -> 0 | J37: ='FICHE CONSOMMATION'!O21 | K37: =VLOOKUP(J37,Références!$F:$G,2,0) -> 0 | L37: =SUM(I37*K37) -> 0 | P37: ='FICHE CONSOMMATION'!P23 -> 0 | Q37: ='FICHE CONSOMMATION'!Q23 | R37: ='FICHE CONSOMMATION'!R29 -> 0 | S37: =VLOOKUP(Q37,Références!$J:$K,2,0) -> 0 | T37: =SUM(P37*S37) -> 0 | X37: ='FICHE CONSOMMATION'!T23 | Y37: ='FICHE CONSOMMATION'!U23 -> 0 | Z37: =VLOOKUP(X37,Références!$O:$P,2,0) -> 0
B38: ='FICHE CONSOMMATION'!I22 -> 0 | C38: ='FICHE CONSOMMATION'!J22 | D38: =VLOOKUP(C38,Références!$B:$C,2,0) -> 0 | E38: =SUM(B38*D38) -> 0 | I38: ='FICHE CONSOMMATION'!N22 -> 0 | J38: ='FICHE CONSOMMATION'!O22 | K38: =VLOOKUP(J38,Références!$F:$G,2,0) -> 0 | L38: =SUM(I38*K38) -> 0
B39: ='FICHE CONSOMMATION'!I23 -> 0 | C39: ='FICHE CONSOMMATION'!J23 | D39: =VLOOKUP(C39,Références!$B:$C,2,0) -> 0 | E39: =SUM(B39*D39) -> 0 | I39: ='FICHE CONSOMMATION'!N23 -> 0 | J39: ='FICHE CONSOMMATION'!O23 | K39: =VLOOKUP(J39,Références!$F:$G,2,0) -> 0 | L39: =SUM(I39*K39) -> 0 | P39: ='FICHE CONSOMMATION'!P24 -> 0 | Q39: ='FICHE CONSOMMATION'!Q24 | S39: =VLOOKUP(Q39,Références!$J:$K,2,0) -> 0 | T39: =SUM(P39*S39) -> 0 | X39: ='FICHE CONSOMMATION'!T24 | Y39: ='FICHE CONSOMMATION'!U24 -> 0 | Z39: =VLOOKUP(X39,Références!$O:$P,2,0) -> 0
B40: ='FICHE CONSOMMATION'!I24 -> 0 | C40: ='FICHE CONSOMMATION'!J24 | D40: =VLOOKUP(C40,Références!$B:$C,2,0) -> 0 | E40: =SUM(B40*D40) -> 0 | I40: ='FICHE CONSOMMATION'!N24 -> 0 | J40: ='FICHE CONSOMMATION'!O24 | K40: =VLOOKUP(J40,Références!$F:$G,2,0) -> 0 | L40: =SUM(I40*K40) -> 0
...

Sheet FACTURE
O3: Facture
A8: N° FACT | C8: CLIENT
A9: ='FICHE DOSSIER'!AF3 -> 0 | C9: ='FICHE DOSSIER'!AF2 -> Martin
A11: REF | B11: CHAMBRE | C11: PERIODE
B12: ='FICHE DOSSIER'!AF8 -> TOUBKAL | C12: ='FICHE DOSSIER'!AF6 -> 28 | D12: / | E12: ='FICHE DOSSIER'!AI6 -> 04 | F12: / | G12: ='FICHE DOSSIER'!AK6 -> 14 | H12: _ | I12: ='FICHE DOSSIER'!AF7 -> 9 | J12: / | K12: ='FICHE DOSSIER'!AI7 -> 05 | L12: / | M12: ='FICHE DOSSIER'!AK7 -> 14
Q13: en Dirhams
A14: Nbre | B14: DESIGNATION | N14: Prix u HT | O14: TOTAL HT | P14: prix u TTC | Q14: TOTAL TTC
A15: ='FICHE DOSSIER'!AM14 -> -19 | B15: NUIT + PETIT DEJEUNER | N15: =SUM(P15/1.1) -> 0 | O15: =SUM(N15*A15) -> 0 | P15: ='FICHE DOSSIER'!AF17 -> 0 | Q15: =SUM(P15*A15) -> 0
B16: NUIT + PETIT DEJEUNER | N16: =SUM(P16/1.1) -> 0 | O16: =SUM(N16*A16) -> 0 | Q16: =SUM(P16*A16) -> 0
A17: 1 | B17: RESTAURATION | N17: =SUM(P17/1.1) -> 0 | O17: =SUM(N17*A17) -> 0 | P17: ='TOTAL DETAIL'!F3 -> 0 | Q17: =SUM(P17*A17) -> 0
A18: 1 | B18: BOISSONS | N18: =SUM(P18/1.1) -> 0 | O18: =SUM(N18*A18) -> 0 | P18: ='TOTAL DETAIL'!M3 -> 0 | Q18: =SUM(P18*A18) -> 0
A19: 1 | B19: SPA | N19: =SUM(P19/1.1) -> 0 | O19: =SUM(N19*A19) -> 0 | P19: ='TOTAL DETAIL'!U3 -> 0 | Q19: =SUM(P19*A19) -> 0
A20: 1 | B20: TRANSPORT | N20: =SUM(P20/1.1) -> 0 | O20: =SUM(N20*A20) -> 0 | P20: ='TOTAL DETAIL'!AA3 -> 0 | Q20: =SUM(P20*A20) -> 0
N21: =SUM(P21/1.1) -> 0 | O21: =SUM(N21*A21) -> 0 | Q21: =SUM(P21*A21) -> 0
N22: =SUM(P22/1.1) -> 0 | O22: =SUM(N22*A22) -> 0 | Q22: =SUM(P22*A22) -> 0
N23: =SUM(P23/1.1) -> 0 | O23: =SUM(N23*A23) -> 0 | Q23: =SUM(P23*A23) -> 0
N24: =SUM(P24/1.1) -> 0 | O24: =SUM(N24*A24) -> 0 | Q24: =SUM(P24*A24) -> 0
N25: =SUM(P25/1.1) -> 0 | O25: =SUM(N25*A25) -> 0 | Q25: =SUM(P25*A25) -> 0
N26: =SUM(P26/1.1) -> 0 | O26: =SUM(N26*A26) -> 0 | Q26: =SUM(P26*A26) -> 0
N27: =SUM(P27/1.1) -> 0 | O27: =SUM(N27*A27) -> 0 | Q27: =SUM(P27*A27) -> 0
N28: =SUM(P28/1.1) -> 0 | O28: =SUM(N28*A28) -> 0 | Q28: =SUM(P28*A28) -> 0
N29: =SUM(P29/1.1) -> 0 | O29: =SUM(N29*A29) -> 0 | Q29: =SUM(P29*A29) -> 0
P30: TOTAL HT | Q30: =SUM(O15:O29) -> 0
P31: TVA (10%) | Q31: =SUM(Q30*10/100) -> 0
P32: ACOMPTE | Q32: ='FICHE DOSSIER'!AN4 -> 0
P33: TOTAL TTC | Q33: =SUM(Q15:Q29)-Q32 -> 0
B34: ='FICHE DOSSIER'!AN11 -> 0 | C34: TAXES DE SEJOUR | P34: 15 | Q34: =SUM(P34*B34) -> 0
B35: =SUM(B34) -> 0 | C35: TAXES DE PROMOTION TOURISTIQUE | P35: 11 | Q35: =SUM(P35*B35) -> 0
O36: Arrêtée la présente facture à la somme de: | P36: =SUM(Q33+Q34+Q35) -> 0 | Q36: Dirhams
A38: Règlement | B38: CB

Sheet FACTURE D'ACOMPTE
O3: Facture
A8: N° FACT | C8: CLIENT
A9: ='FICHE DOSSIER'!AF3 -> 0 | C9: ='FICHE DOSSIER'!AF2 -> Martin
A11: REF | B11: CHAMBRE | C11: PERIODE
B12: ='FICHE DOSSIER'!AF8 -> TOUBKAL | C12: ='FICHE DOSSIER'!AF6 -> 28 | D12: / | E12: ='FICHE DOSSIER'!AI6 -> 04 | F12: / | G12: ='FICHE DOSSIER'!AK6 -> 14 | H12: _ | I12: ='FICHE DOSSIER'!AF7 -> 9 | J12: / | K12: ='FICHE DOSSIER'!AI7 -> 05 | L12: / | M12: ='FICHE DOSSIER'!AK7 -> 14
T13: en Dirhams
A14: Nbre | B14: DESIGNATION | N14: Prix u HT | O14: TOTAL HT | P14: prix u TTC | T14: TOTAL TTC
A15: 1 | B15: ACOMPTE | N15: =SUM(P15/1.1) -> 0 | O15: =SUM(N15*A15) -> 0 | P15: ='FICHE DOSSIER'!AN4 -> 0 | T15: ='FICHE DOSSIER'!AN4 -> 0
N16: =SUM(P16/1.1) -> 0 | O16: =SUM(N16*A16) -> 0 | T16: =SUM(P16*A16) -> 0
N17: =SUM(P17/1.1) -> 0 | O17: =SUM(N17*A17) -> 0 | T17: =SUM(P17*A17) -> 0
N18: =SUM(P18/1.1) -> 0 | O18: =SUM(N18*A18) -> 0 | T18: =SUM(P18*A18) -> 0
N19: =SUM(P19/1.1) -> 0 | O19: =SUM(N19*A19) -> 0 | T19: =SUM(P19*A19) -> 0
N20: =SUM(P20/1.1) -> 0 | O20: =SUM(N20*A20) -> 0 | T20: =SUM(P20*A20) -> 0
N21: =SUM(P21/1.1) -> 0 | O21: =SUM(N21*A21) -> 0 | T21: =SUM(P21*A21) -> 0
N22: =SUM(P22/1.1) -> 0 | O22: =SUM(N22*A22) -> 0 | T22: =SUM(P22*A22) -> 0
N23: =SUM(P23/1.1) -> 0 | O23: =SUM(N23*A23) -> 0 | T23: =SUM(P23*A23) -> 0
N24: =SUM(P24/1.1) -> 0 | O24: =SUM(N24*A24) -> 0 | T24: =SUM(P24*A24) -> 0
N25: =SUM(P25/1.1) -> 0 | O25: =SUM(N25*A25) -> 0 | T25: =SUM(P25*A25) -> 0
N26: =SUM(P26/1.1) -> 0 | O26: =SUM(N26*A26) -> 0 | T26: =SUM(P26*A26) -> 0
N27: =SUM(P27/1.1) -> 0 | O27: =SUM(N27*A27) -> 0 | T27: =SUM(P27*A27) -> 0
... N29: =SUM(P29/1.1) -> 0 | O29: =SUM(N29*A29) -> 0 | T29: =SUM(P29*A29) -> 0
T30: =SUM(O15:O29) -> 0
P31: TVA (10%) | T31: =SUM(T30*10/100) -> 0
P32: ACOMPTE
P33: TOTAL TTC | T33: =SUM(T15:T29)-T32 -> 0
C34: TAXES DE SEJOUR | P34: 15
C35: TAXES DE PROMOTION TOURISTIQUE | P35: 11
O36: Arrêtée la présente facture à la somme de: | P36: =SUM(T33+T34+T35) -> 0 | T36: Dirhams
A38: Règlement | B38: CB | O38: PAYE LE : | P38: ='FICHE DOSSIER'!AG4 -> 0 | Q38: / | R38: ='FICHE DOSSIER'!AI4 -> 0 | S38: / | T38: ='FICHE DOSSIER'!AK4 -> 14

Sheet FICHE AEROPORT
A1: HOTEL …
A4: ='FICHE DOSSIER'!AF2 -> Martin
D17: ='FICHE DOSSIER'!AF6 -> 28 | E17: / | F17: ='FICHE DOSSIER'!AI6 -> 04 | G17: / | H17: ='FICHE DOSSIER'!AK6 -> 14 | J17: à | K17: ='FICHE DOSSIER'!AF21 -> 0 | M17: VOL | N17: ='FICHE DOSSIER'!AF22 -> 0 | P17: PAX | Q17: ='FICHE DOSSIER'!AJ9+'FICHE DOSSIER'!AN9 -> 0
