Workbook
Name BOISSONS: Références!$F$1:$F$49
Name REPAS: Références!$B$1:$B$49
Name SPA: Références!$J$1:$J$49
Name TRANSFERTS: Références!$O$1:$O$49

Sheet Références
A1: REPAS | C1: 0 | E1: BOISSONS | G1: 0 | I1: SPA | K1: 0 | M1: TRANSFERT | P1: 0 | R1: CHAMBRE
B2: Pastilla | C2: 60 | F2: Jus d'orange | G2: =SUM(F1)+30 -> 30 | J2: Soin Marocain | K2: 450 | L2: 150 | N2: M | O2: M Transfert 170 | P2: 170 | S2: KOUTOUBIA
B3: Salade Maroc | C3: 60 | F3: The | G3: 20 | J3: Hamamm | K3: 180 | L3: 50 | N3: M | O3: M Transfert 224 | P3: 224 | S3: OURIKA
B4: Salade variée | C4: 60 | F4: Cafe | G4: 20 | J4: Massage 30 | K4: 250 | L4: 50 | N4: M | O4: M Transfert 290 | P4: 290 | S4: VOLUBILIS
B5: Omelette | C5: 60 | F5: Café Nespr | G5: 25 | J5: Massage 1h | K5: 320 | L5: 100 | N5: M | O5: M Transfert 336 | P5: 336 | S5: TOUBKAL
B6: Briouate | C6: 60 | F6: Jus de fruits | G6: 30 | J6: Manucure | K6: 150 | L6: 30 | N6: M | O6: Transfert 1300 | P6: 1300 | S6: IFRANE
B7: briouate enfant | C7: 60 | J7: Pedicure | K7: 150 | L7: 30 | N7: M | O7: M Tr soirée 500 | P7: 500 | S7: M'GOUN
F8: Coca | G8: 20 | J8: Soin visage | K8: 200 | L8: 50 | N8: M | O8: M Tr soirée 700 | P8: 700 | S8: MOUCHARABIEH
B9: Grillades | C9: 150 | F9: Sprit | G9: 20 | N9: M | O9: M Mise dispo 500 | P9: 500 | S9: TICHKA
B10: Kefta aux œufs | C10: 150 | F10: Fanta | G10: 20 | N10: M | O10: M Mise dispo 700 | P10: 700
B11: Poulet citrons | C11: 150 | F11: Eau M | G11: 15
B12: Bœuf au prune | C12: 150 | F12: Eau G | G12: 15 | N12: A | O12: A Guide 1/2 | P12: 400
B13: Couscous | C13: 150 | F13: APB | G13: 35 | N13: A | O13: A Guide journée | P13: 700
F14: GMR | G14: 150 | N14: A | O14: A Guide 1/2 + chauf | P14: 800
B15: Salade fruit | C15: 50 | F15: GMB | G15: 150 | N15: A | O15: A Guide 1 + chauf | P15: 1200
B16: Glace | C16: 50 | F16: GMr | G16: 150 | N16: A | O16: A Transfert 170 | P16: 170
B17: Patisserie | C17: 60 | F17: GMR med | G17: 250 | N17: A | O17: A Transfert 224 | P17: 224
F18: GMB med | G18: 250 | N18: A | O18: A Transfert 290 | P18: 290
F19: GMRV | G19: 35 | N19: A | O19: A Transfert 336 | P19: 336
F20: GMBV | G20: 35 | N20: A | O20: A Transfert 1300 | P20: 1300
F21: GMrV | G21: 35 | N21: A | O21: A Tr soirée 500 | P21: 500
N22: A | O22: A Tr soirée 700 | P22: 700
F23: Pistaches | G23: 30 | N23: A | O23: A Mise dispo 500 | P23: 500
F24: Olives | G24: 30 | N24: A | O24: A Mise dispo 700 | P24: 700
F25: Amandes | G25: 30
F26: Cacahuètes | G26: 30

Sheet FICHE DOSSIER
AE2: CLIENT | AF2: Martin
AE3: N° FACTURE
AE4: FACTURE D'ACOMPTE | AF4: REGLÉ LE | AH4: / | AJ4: / | AK4: 14 | AL4: MONTANT :
AE5: FAX
AE6: ARRIVEE | AF6: 28 | AH6: / | AI6: 04 | AJ6: 15 | AK6: 14
AE7: DEPART | AF7: 9 | AH7: / | AI7: 05 | AJ7: 15 | AK7: 14
AE8: CHAMBRE | AF8: TOUBKAL
AE9: PAX | AF9: ADULTES | AL9: ENFANTS
AE10: TYPE DE LIT | AF10: DOUBLE | AL10: SIMPLE
AE11: CLIENT AU RIAD | AF11: ARRIVEE : | AK11: NUITEE : | AL11: =SUM($AF$7-$AF$6) -> -19 | AM11: TOTAL : | AN11: =SUM(AL11*AG11) -> 0
AE12: VIA
AE13: ORIGINE
AE14: CONDITIONS | AL14: X | AM14: =SUM($AF$7-$AF$6) -> -19 | AN14: = | AO14: =SUM(AF14*AM14) -> 0
AL15: X | AN15: = | AO15: =SUM(AF15*AM15) -> 0
AF17: =SUM(AF14)*11.2 -> 0 | AL17: X | AM17: =SUM(AM14) -> -19 | AN17: = | AO17: =SUM(AF17*AM17) -> 0
AL18: X | AM18: =SUM(AM15) -> 0 | AN18: = | AO18: =SUM(AF18*AM18) -> 0
AM19: TOTAL : | AO19: =SUM(AO17:AO18) -> 0
AE20: TRANSFERT
AE21: HEURE D'ARRIVEE
AE22: N° DE VOL
AE23: PRIX TRANSFERT
AE24: RESTAURATION | AG24: Qté | AH24: REPAS | AL24: Qté | AM24: REPAS | AN24: HEURE
AE31: SPA | AG31: Qté | AH31: DETAILS | AM31: HEURE
AE34: DATE DE RESA | AH34: / | AJ34: / | AK34: 14
AE35: CB

Sheet FICHE CONSOMMATION
A1: CLIENT : | D1: ='FICHE DOSSIER'!AF2 -> Martin | K1: CHAMBRE : | N1: ='FICHE DOSSIER'!AF8 -> TOUBKAL | R1: TRANSFERT : | U1: ='FICHE DOSSIER'!AF20 -> 0
A2: ARRIVEE : | D2: ='FICHE DOSSIER'!AF6 -> 28 | F2: / | G2: ='FICHE DOSSIER'!AI6 -> 04 | I2: / | J2: ='FICHE DOSSIER'!AK6 -> 14 | K2: LANGUE : | N2: ='FICHE DOSSIER'!AF13 -> 0 | R2: HEURE : | U2: ='FICHE DOSSIER'!AF21 -> 0
A3: DEPART : | D3: ='FICHE DOSSIER'!AF7 -> 9 | F3: / | G3: ='FICHE DOSSIER'!AI7 -> 05 | I3: / | J3: ='FICHE DOSSIER'!AK7 -> 14 | K3: VIA : | N3: ='FICHE DOSSIER'!AF12 -> 0 | R3: VOL : | U3: ='FICHE DOSSIER'!AF22 -> 0
A5: DATE | B5: RESTAURATION | L5: BOISSONS | P5: SPA | T5: TRANSPORT | V5: REMARQUES
C6: Qté | D6: DETAILS | I6: Qté | J6: DETAILS | K6: HEURE | L6: Qté | M6: DETAILS | N6: Qté | O6: DETAILS | P6: Qté | Q6: DETAILS | R6: HEURE | T6: DETAILS | U6: HEURE | V6: DETAILS
A7: =D2 -> 28 | B7: REPAS | C7: ='FICHE DOSSIER'!AG25 -> 0 | D7: ='FICHE DOSSIER'!AH25 | I7: ='FICHE DOSSIER'!AL25 -> 0 | J7: ='FICHE DOSSIER'!AM25 | K7: ='FICHE DOSSIER'!AN25 -> 0 | P7: ='FICHE DOSSIER'!AG32 -> 0 | Q7: ='FICHE DOSSIER'!AH32 | R7: ='FICHE DOSSIER'!AM32 -> 0 | T7: ='FICHE DOSSIER'!AF23 | U7: ='FICHE DOSSIER'!AF21 -> 0
C8: ='FICHE DOSSIER'!AG26 -> 0 | D8: ='FICHE DOSSIER'!AH26 | I8: ='FICHE DOSSIER'!AL26 -> 0 | J8: ='FICHE DOSSIER'!AM26 | K8: ='FICHE DOSSIER'!AN26 -> 0 | P8: ='FICHE DOSSIER'!AG33 -> 0 | Q8: ='FICHE DOSSIER'!AH33 | R8: ='FICHE DOSSIER'!AM33 -> 0
C9: ='FICHE DOSSIER'!AG27 -> 0 | D9: ='FICHE DOSSIER'!AH27 | I9: ='FICHE DOSSIER'!AL27 -> 0 | J9: ='FICHE DOSSIER'!AM27 | K9: ='FICHE DOSSIER'!AN27 -> 0
C10: ='FICHE DOSSIER'!AG28 -> 0 | D10: ='FICHE DOSSIER'!AH28 | I10: ='FICHE DOSSIER'!AL28 -> 0 | J10: ='FICHE DOSSIER'!AM28 | K10: ='FICHE DOSSIER'!AN28 -> 0
C11: ='FICHE DOSSIER'!AG29 -> 0 | D11: ='FICHE DOSSIER'!AH29 | I11: ='FICHE DOSSIER'!AL29 -> 0 | J11: ='FICHE DOSSIER'!AM29 | K11: ='FICHE DOSSIER'!AN29 -> 0
D12: ='FICHE DOSSIER'!AH30 | I12: ='FICHE DOSSIER'!AL30 -> 0 | J12: ='FICHE DOSSIER'!AM30 | K12: ='FICHE DOSSIER'!AN30 -> 0
A13: =SUM(A7+1) -> 29 | B13: REPAS
A19: =SUM(A13+1) -> 30 | B19: REPAS
A25: =SUM(A19+1) -> 31 | B25: REPAS
A31: =SUM(A25+1) -> 32 | B31: REPAS
A37: =SUM(A31+1) -> 33 | B37: REPAS
A43: =SUM(A37+1) -> 34 | B43: REPAS

Sheet TOTAL DETAIL
A1: CLIENT : | C1: ='FICHE CONSOMMATION'!D1 -> Martin | G1: CHAMBRE : | I1: ='FICHE CONSOMMATION'!N1 -> TOUBKAL
A2: FACTURE : | C2: ='FICHE DOSSIER'!AF3 -> 0
A3: RESTAURATION | E3: TOTAL | F3: =SUM(F5:F88) -> 0 | H3: BOISSONS | L3: TOTAL | M3: =SUM(M5:M88) -> 0 | O3: SPA | T3: TOTAL | U3: =SUM(U5:U88) -> 0 | W3: TRANSPORT | AA3: =SUM(AA5:AA88) -> 0
A4: DATE | B4: Qté | C4: Details | D4: PX UNITAIRE | E4: TOTAL UNITAIRE | F4: TOTAL / JOUR | H4: DATE | I4: Qté | J4: Details | K4: PX UNITAIRE | L4: TOTAL UNITAIRE | M4: TOTAL / JOUR | O4: DATE | P4: Qté | Q4: DETAILS | R4: HEURE | S4: PX UNITAIRE | T4: TOTAL UNITAIRE | U4: TOTAL / JOUR | W4: DATE | X4: DETAILS | Y4: HEURE | Z4: PX UNITAIRE | AA4: TOTAL / JOUR
A5: ='FICHE CONSOMMATION'!A7 -> 28 | B5: ='FICHE CONSOMMATION'!C7 -> 0 | C5: ='FICHE CONSOMMATION'!D7 | D5: =VLOOKUP(C5,Références!$B:$C,2,0) -> 0 | E5: =SUM(B5*D5) -> 0 | F5: =SUM(E5:E16) -> 0 | H5: =A5 -> 28 | I5: ='FICHE CONSOMMATION'!L7 -> 0 | J5: ='FICHE CONSOMMATION'!M7 | K5: =VLOOKUP(J5,Références!$F:$G,2,0) -> 0 | L5: =SUM(I5*K5) -> 0 | M5: =SUM(L5:L16) -> 0 | O5: =H5 -> 28 | P5: ='FICHE CONSOMMATION'!P7 -> 0 | Q5: ='FICHE CONSOMMATION'!Q7 | R5: ='FICHE CONSOMMATION'!R7 -> 0 | S5: =VLOOKUP(Q5,Références!$J:$K,2,0) -> 0 | T5: =SUM(P5*S5) -> 0 | U5: =SUM(T5:T16) -> 0 | W5: =O5 -> 28 | X5: ='FICHE CONSOMMATION'!T7 | Z5: =VLOOKUP(X5,Références!$O:$P,2,0) -> 0 | AA5: =SUM(Z5:Z16) -> 0
B6: ='FICHE CONSOMMATION'!C8 -> 0 | C6: ='FICHE CONSOMMATION'!D8 | D6: =VLOOKUP(C6,Références!$B:$C,2,0) -> 0 | E6: =SUM(B6*D6) -> 0 | I6: ='FICHE CONSOMMATION'!L8 -> 0 | J6: ='FICHE CONSOMMATION'!M8 | K6: =VLOOKUP(J6,Références!$F:$G,2,0) -> 0 | L6: =SUM(I6*K6) -> 0
B7: ='FICHE CONSOMMATION'!C9 -> 0 | C7: ='FICHE CONSOMMATION'!D9 | D7: =VLOOKUP(C7,Références!$B:$C,2,0) -> 0 | E7: =SUM(B7*D7) -> 0 | I7: ='FICHE CONSOMMATION'!L9 -> 0 | J7: ='FICHE CONSOMMATION'!M9 | K7: =VLOOKUP(J7,Références!$F:$G,2,0) -> 0 | L7: =SUM(I7*K7) -> 0 | P7: ='FICHE CONSOMMATION'!P8 -> 0 | Q7: ='FICHE CONSOMMATION'!Q8 | R7: ='FICHE CONSOMMATION'!R8 -> 0 | S7: =VLOOKUP(Q7,Références!$J:$K,2,0) -> 0 | T7: =SUM(P7*S7) -> 0 | X7: ='FICHE CONSOMMATION'!T8 | Y7: ='FICHE CONSOMMATION'!U8 -> 0 | Z7: =VLOOKUP(X7,Références!$O:$P,2,0) -> 0
B8: ='FICHE CONSOMMATION'!C10 -> 0 | C8: ='FICHE CONSOMMATION'!D10 | D8: =VLOOKUP(C8,Références!$B:$C,2,0) -> 0 | E8: =SUM(B8*D8) -> 0 | I8: ='FICHE CONSOMMATION'!L10 -> 0 | J8: ='FICHE CONSOMMATION'!M10 | K8: =VLOOKUP(J8,Références!$F:$G,2,0) -> 0 | L8: =SUM(I8*K8) -> 0
B9: ='FICHE CONSOMMATION'!C11 -> 0 | C9: ='FICHE CONSOMMATION'!D11 | D9: =VLOOKUP(C9,Références!$B:$C,2,0) -> 0 | E9: =SUM(B9*D9) -> 0 | I9: ='FICHE CONSOMMATION'!L11 -> 0 | J9: ='FICHE CONSOMMATION'!M11 | K9: =VLOOKUP(J9,Références!$F:$G,2,0) -> 0 | L9: =SUM(I9*K9) -> 0 | P9: ='FICHE CONSOMMATION'!P9 -> 0 | Q9: ='FICHE CONSOMMATION'!Q9 | R9: ='FICHE CONSOMMATION'!R9 -> 0 | S9: =VLOOKUP(Q9,Références!$J:$K,2,0) -> 0 | T9: =SUM(P9*S9) -> 0 | X9: ='FICHE CONSOMMATION'!T9 | Y9: ='FICHE CONSOMMATION'!U9 -> 0 | Z9: =VLOOKUP(X9,Références!$O:$P,2,0) -> 0
B10: ='FICHE CONSOMMATION'!C12 -> 0 | C10: ='FICHE CONSOMMATION'!D12 | D10: =VLOOKUP(C10,Références!$B:$C,2,0) -> 0 | E10: =SUM(B10*D10) -> 0 | I10: ='FICHE CONSOMMATION'!L12 -> 0 | J10: ='FICHE CONSOMMATION'!M12 | K10: =VLOOKUP(J10,Références!$F:$G,2,0) -> 0 | L10: =SUM(I10*K10) -> 0
B11: ='FICHE CONSOMMATION'!I7 -> 0 | C11: ='FICHE CONSOMMATION'!J7 | D11: =VLOOKUP(C11,Références!$B:$C,2,0) -> 0 | E11: =SUM(B11*D11) -> 0 | I11: ='FICHE CONSOMMATION'!N7 -> 0 | J11: ='FICHE CONSOMMATION'!O7 | K11: =VLOOKUP(J11,Références!$F:$G,2,0) -> 0 | L11: =SUM(I11*K11) -> 0 | P11: ='FICHE CONSOMMATION'!P10 -> 0 | Q11: ='FICHE CONSOMMATION'!Q11 | R11: ='FICHE CONSOMMATION'!R10 -> 0 | S11: =VLOOKUP(Q11,Références!$J:$K,2,0) -> 0 | T11: =SUM(P11*S11) -> 0 | X11: ='FICHE CONSOMMATION'!T10 | Y11: ='FICHE CONSOMMATION'!U10 -> 0 | Z11: =VLOOKUP(X11,Références!$O:$P,2,0) -> 0
B12: ='FICHE CONSOMMATION'!I8 -> 0 | C12: ='FICHE CONSOMMATION'!J8 | D12: =VLOOKUP(C12,Références!$B:$C,2,0) -> 0 | E12: =SUM(B12*D12) -> 0 | I12: ='FICHE CONSOMMATION'!N8 -> 0 | J12: ='FICHE CONSOMMATION'!O8 | K12: =VLOOKUP(J12,Références!$F:$G,2,0) -> 0 | L12: =SUM(I12*K12) -> 0
B13: ='FICHE CONSOMMATION'!I9 -> 0 | C13: ='FICHE CONSOMMATION'!J9 | D13: =VLOOKUP(C13,Références!$B:$C,2,0) -> 0 | E13: =SUM(B13*D13) -> 0 | I13: ='FICHE CONSOMMATION'!N9 -> 0 | J13: ='FICHE CONSOMMATION'!O9 | K13: =VLOOKUP(J13,Références!$F:$G,2,0) -> 0 | L13: =SUM(I13*K13) -> 0 | P13: ='FICHE CONSOMMATION'!P11 -> 0 | Q13: ='FICHE CONSOMMATION'!Q12 | R13: ='FICHE CONSOMMATION'!R11 -> 0 | S13: =VLOOKUP(Q13,Références!$J:$K,2,0) -> 0 | T13: =SUM(P13*S13) -> 0 | X13: ='FICHE CONSOMMATION'!T11 | Y13: ='FICHE CONSOMMATION'!U11 -> 0 | Z13: =VLOOKUP(X13,Références!$O:$P,2,0) -> 0
B14: ='FICHE CONSOMMATION'!I10 -> 0 | C14: ='FICHE CONSOMMATION'!J10 | D14: =VLOOKUP(C14,Références!$B:$C,2,0) -> 0 | E14: =SUM(B14*D14) -> 0 | I14: ='FICHE CONSOMMATION'!N10 -> 0 | J14: ='FICHE CONSOMMATION'!O10 | K14: =VLOOKUP(J14,Références!$F:$G,2,0) -> 0 | L14: =SUM(I14*K14) -> 0
B15: ='FICHE CONSOMMATION'!I11 -> 0 | C15: ='FICHE CONSOMMATION'!J11 | D15: =VLOOKUP(C15,Références!$B:$C,2,0) -> 0 | E15: =SUM(B15*D15) -> 0 | I15: ='FICHE CONSOMMATION'!N11 -> 0 | J15: ='FICHE CONSOMMATION'!O11 | K15: =VLOOKUP(J15,Références!$F:$G,2,0) -> 0 | L15: =SUM(I15*K15) -> 0 | P15: ='FICHE CONSOMMATION'!P12 -> 0 | Q15: ='FICHE CONSOMMATION'!Q12 | R15: ='FICHE CONSOMMATION'!R12 -> 0 | S15: =VLOOKUP(Q15,Références!$J:$K,2,0) -> 0 | T15: =SUM(P15*S15) -> 0 | X15: ='FICHE CONSOMMATION'!T12 | Y15: ='FICHE CONSOMMATION'!U12 -> 0 | Z15: =VLOOKUP(X15,Références!$O:$P,2,0) -> 0
B16: ='FICHE CONSOMMATION'!I12 -> 0 | C16: ='FICHE CONSOMMATION'!J12 | D16: =VLOOKUP(C16,Références!$B:$C,2,0) -> 0 | E16: =SUM(B16*D16) -> 0 | I16: ='FICHE CONSOMMATION'!N12 -> 0 | J16: ='FICHE CONSOMMATION'!O12 | K16: =VLOOKUP(J16,Références!$F:$G,2,0) -> 0 | L16: =SUM(I16*K16) -> 0
A17: ='FICHE CONSOMMATION'!A13 -> 29 | B17: ='FICHE CONSOMMATION'!C13 -> 0 | C17: ='FICHE CONSOMMATION'!D13 | D17: =VLOOKUP(C17,Références!$B:$C,2,0) -> 0 | E17: =SUM(B17*D17) -> 0 | F17: =SUM(E17:E28) -> 0 | H17: =A17 -> 29 | I17: ='FICHE CONSOMMATION'!L13 -> 0 | J17: ='FICHE CONSOMMATION'!M13 | K17: =VLOOKUP(J17,Références!$F:$G,2,0) -> 0 | L17: =SUM(I17*K17) -> 0 | M17: =SUM(L17:L28) -> 0 | O17: =H17 -> 29 | P17: ='FICHE CONSOMMATION'!P13 -> 0 | Q17: ='FICHE CONSOMMATION'!Q13 | R17: ='FICHE CONSOMMATION'!R13 -> 0 | S17: =VLOOKUP(Q17,Références!$J:$K,2,0) -> 0 | T17: =SUM(P17*S17) -> 0 | U17: =SUM(T17:T28) -> 0 | W17: =O17 -> 29 | X17: ='FICHE CONSOMMATION'!T13 | Y17: ='FICHE CONSOMMATION'!U13 -> 0 | Z17: =VLOOKUP(X17,Références!$O:$P,2,0) -> 0 | AA17: =SUM(Z17:Z28) -> 0
B18: ='FICHE CONSOMMATION'!C14 -> 0 | C18: ='FICHE CONSOMMATION'!D14 | D18: =VLOOKUP(C18,Références!$B:$C,2,0) -> 0 | E18: =SUM(B18*D18) -> 0 | I18: ='FICHE CONSOMMATION'!L14 -> 0 | J18: ='FICHE CONSOMMATION'!M14 | K18: =VLOOKUP(J18,Références!$F:$G,2,0) -> 0 | L18: =SUM(I18*K18) -> 0
B19: ='FICHE CONSOMMATION'!C15 -> 0 | C19: ='FICHE CONSOMMATION'!D15 | D19: =VLOOKUP(C19,Références!$B:$C,2,0) -> 0 | E19: =SUM(B19*D19) -> 0 | I19: ='FICHE CONSOMMATION'!L15 -> 0 | J19: ='FICHE CONSOMMATION'!M15 | K19: =VLOOKUP(J19,Références!$F:$G,2,0) -> 0 | L19: =SUM(I19*K19) -> 0 | P19: ='FICHE CONSOMMATION'!P14 -> 0 | Q19: ='FICHE CONSOMMATION'!Q14 | R19: ='FICHE CONSOMMATION'!R14 -> 0 | S19: =VLOOKUP(Q19,Références!$J:$K,2,0) -> 0 | T19: =SUM(P19*S19) -> 0 | X19: ='FICHE CONSOMMATION'!T14 | Y19: ='FICHE CONSOMMATION'!U14 -> 0 | Z19: =VLOOKUP(X19,Références!$O:$P,2,0) -> 0
B20: ='FICHE CONSOMMATION'!C16 -> 0 | C20: ='FICHE CONSOMMATION'!D16 | D20: =VLOOKUP(C20,Références!$B:$C,2,0) -> 0 | E20: =SUM(B20*D20) -> 0 | I20: ='FICHE CONSOMMATION'!L16 -> 0 | J20: ='FICHE CONSOMMATION'!M16 | K20: =VLOOKUP(J20,Références!$F:$G,2,0) -> 0 | L20: =SUM(I20*K20) -> 0
B21: ='FICHE CONSOMMATION'!C17 -> 0 | C21: ='FICHE CONSOMMATION'!D17 | D21: =VLOOKUP(C21,Références!$B:$C,2,0) -> 0 | E21: =SUM(B21*D21) -> 0 | I21: ='FICHE CONSOMMATION'!L17 -> 0 | J21: ='FICHE CONSOMMATION'!M17 | K21: =VLOOKUP(J21,Références!$F:$G,2,0) -> 0 | L21: =SUM(I21*K21) -> 0 | P21: ='FICHE CONSOMMATION'!P15 -> 0 | Q21: ='FICHE CONSOMMATION'!Q15 | R21: ='FICHE CONSOMMATION'!R15 -> 0 | S21: =VLOOKUP(Q21,Références!$J:$K,2,0) -> 0 | T21: =SUM(P21*S21) -> 0 | X21: ='FICHE CONSOMMATION'!T15 | Y21: ='FICHE CONSOMMATION'!U15 -> 0 | Z21: =VLOOKUP(X21,Références!$O:$P,2,0) -> 0
B22: ='FICHE CONSOMMATION'!C18 -> 0 | C22: ='FICHE CONSOMMATION'!D18 | D22: =VLOOKUP(C22,Références!$B:$C,2,0) -> 0 | E22: =SUM(B22*D22) -> 0 | I22: ='FICHE CONSOMMATION'!L18 -> 0 | J22: ='FICHE CONSOMMATION'!M18 | K22: =VLOOKUP(J22,Références!$F:$G,2,0) -> 0 | L22: =SUM(I22*K22) -> 0
B23: ='FICHE CONSOMMATION'!I13 -> 0 | C23: ='FICHE CONSOMMATION'!J13 | D23: =VLOOKUP(C23,Références!$B:$C,2,0) -> 0 | E23: =SUM(B23*D23) -> 0 | I23: ='FICHE CONSOMMATION'!N13 -> 0 | J23: ='FICHE CONSOMMATION'!O13 | K23: =VLOOKUP(J23,Références!$F:$G,2,0) -> 0 | L23: =SUM(I23*K23) -> 0 | P23: ='FICHE CONSOMMATION'!P16 -> 0 | Q23: ='FICHE CONSOMMATION'!Q16 | R23: ='FICHE CONSOMMATION'!R16 -> 0 | S23: =VLOOKUP(Q23,Références!$J:$K,2,0) -> 0 | T23: =SUM(P23*S23) -> 0 | X23: ='FICHE CONSOMMATION'!T16 | Y23: ='FICHE CONSOMMATION'!U16 -> 0 | Z23: =VLOOKUP(X23,Références!$O:$P,2,0) -> 0
B24: ='FICHE CONSOMMATION'!I14 -> 0 | C24: ='FICHE CONSOMMATION'!J14 | D24: =VLOOKUP(C24,Références!$B:$C,2,0) -> 0 | E24: =SUM(B24*D24) -> 0 | I24: ='FICHE CONSOMMATION'!N14 -> 0 | J24: ='FICHE CONSOMMATION'!O14 | K24: =VLOOKUP(J24,Références!$F:$G,2,0) -> 0 | L24: =SUM(I24*K24) -> 0
B25: ='FICHE CONSOMMATION'!I15 -> 0 | C25: ='FICHE CONSOMMATION'!J15 | D25: =VLOOKUP(C25,Références!$B:$C,2,0) -> 0 | E25: =SUM(B25*D25) -> 0 | I25: ='FICHE CONSOMMATION'!N15 -> 0 | J25: ='FICHE CONSOMMATION'!O15 | K25: =VLOOKUP(J25,Références!$F:$G,2,0) -> 0 | L25: =SUM(I25*K25) -> 0 | P25: ='FICHE CONSOMMATION'!P17 -> 0 | Q25: ='FICHE CONSOMMATION'!Q17 | R25: ='FICHE CONSOMMATION'!R17 -> 0 | S25: =VLOOKUP(Q25,Références!$J:$K,2,0) -> 0 | T25: =SUM(P25*S25) -> 0 | X25: ='FICHE CONSOMMATION'!T17 | Y25: ='FICHE CONSOMMATION'!U17 -> 0 | Z25: =VLOOKUP(X25,Références!$O:$P,2,0) -> 0
B26: ='FICHE CONSOMMATION'!I16 -> 0 | C26: ='FICHE CONSOMMATION'!J16 | D26: =VLOOKUP(C26,Références!$B:$C,2,0) -> 0 | E26: =SUM(B26*D26) -> 0 | I26: ='FICHE CONSOMMATION'!N16 -> 0 | J26: ='FICHE CONSOMMATION'!O16 | K26: =VLOOKUP(J26,Références!$F:$G,2,0) -> 0 | L26: =SUM(I26*K26) -> 0
B27: ='FICHE CONSOMMATION'!I17 -> 0 | C27: ='FICHE CONSOMMATION'!J17 | D27: =VLOOKUP(C27,Références!$B:$C,2,0) -> 0 | E27: =SUM(B27*D27) -> 0 | I27: ='FICHE CONSOMMATION'!N17 -> 0 | J27: ='FICHE CONSOMMATION'!O17 | K27: =VLOOKUP(J27,Références!$F:$G,2,0) -> 0 | L27: =SUM(I27*K27) -> 0 | P27: ='FICHE CONSOMMATION'!P18 -> 0 | Q27: ='FICHE CONSOMMATION'!Q18 | R27: ='FICHE CONSOMMATION'!R18 -> 0 | S27: =VLOOKUP(Q27,Références!$J:$K,2,0) -> 0 | T27: =SUM(P27*S27) -> 0 | X27: ='FICHE CONSOMMATION'!T18 | Y27: ='FICHE CONSOMMATION'!U18 -> 0 | Z27: =VLOOKUP(X27,Références!$O:$P,2,0) -> 0
B28: ='FICHE CONSOMMATION'!I18 -> 0 | C28: ='FICHE CONSOMMATION'!J18 | D28: =VLOOKUP(C28,Références!$B:$C,2,0) -> 0 | E28: =SUM(B28*D28) -> 0 | I28: ='FICHE CONSOMMATION'!N18 -> 0 | J28: ='FICHE CONSOMMATION'!O18 | K28: =VLOOKUP(J28,Références!$F:$G,2,0) -> 0 | L28: =SUM(I28*K28) -> 0
A29: ='FICHE CONSOMMATION'!A19 -> 30 | B29: ='FICHE CONSOMMATION'!C19 -> 0 | C29: ='FICHE CONSOMMATION'!D19 | D29: =VLOOKUP(C29,Références!$B:$C,2,0) -> 0 | E29: =SUM(B29*D29) -> 0 | F29: =SUM(E29:E40) -> 0 | H29: =A29 -> 30 | I29: ='FICHE CONSOMMATION'!L19 -> 0 | J29: ='FICHE CONSOMMATION'!M19 | K29: =VLOOKUP(J29,Références!$F:$G,2,0) -> 0 | L29: =SUM(I29*K29) -> 0 | M29: =SUM(L29:L40) -> 0 | O29: =H29 -> 30 | P29: ='FICHE CONSOMMATION'!P19 -> 0 | Q29: ='FICHE CONSOMMATION'!Q19 | R29: ='FICHE CONSOMMATION'!R19 -> 0 | S29: =VLOOKUP(Q29,Références!$J:$K,2,0) -> 0 | T29: =SUM(P29*S29) -> 0 | U29: =SUM(T29:T40) -> 0 | W29: =O29 -> 30 | X29: ='FICHE CONSOMMATION'!T19 | Y29: ='FICHE CONSOMMATION'!U19 -> 0 | Z29: =VLOOKUP(X29,Références!$O:$P,2,0) -> 0 | AA29: =SUM(Z29:Z40) -> 0
B30: ='FICHE CONSOMMATION'!C20 -> 0 | C30: ='FICHE CONSOMMATION'!D20 | D30: =VLOOKUP(C30,Références!$B:$C,2,0) -> 0 | E30: =SUM(B30*D30) -> 0 | I30: ='FICHE CONSOMMATION'!L20 -> 0 | J30: ='FICHE CONSOMMATION'!M20 | K30: =VLOOKUP(J30,Références!$F:$G,2,0) -> 0 | L30: =SUM(I30*K30) -> 0
B31: ='FICHE CONSOMMATION'!C21 -> 0 | C31: ='FICHE CONSOMMATION'!D21 | D31: =VLOOKUP(C31,Références!$B:$C,2,0) -> 0 | E31: =SUM(B31*D31) -> 0 | I31: ='FICHE CONSOMMATION'!L21 -> 0 | J31: ='FICHE CONSOMMATION'!M21 | K31: =VLOOKUP(J31,Références!$F:$G,2,0) -> 0 | L31: =SUM(I31*K31) -> 0 | P31: ='FICHE CONSOMMATION'!P20 -> 0 | Q31: ='FICHE CONSOMMATION'!Q20 | R31: ='FICHE CONSOMMATION'!R20 -> 0 | S31: =VLOOKUP(Q31,Références!$J:$K,2,0) -> 0 | T31: =SUM(P31*S31) -> 0 | X31: ='FICHE CONSOMMATION'!T20 | Y31: ='FICHE CONSOMMATION'!U20 -> 0 | Z31: =VLOOKUP(X31,Références!$O:$P,2,0) -> 0
B32: ='FICHE CONSOMMATION'!C22 -> 0 | C32: ='FICHE CONSOMMATION'!D22 | D32: =VLOOKUP(C32,Références!$B:$C,2,0) -> 0 | E32: =SUM(B32*D32) -> 0 | I32: ='FICHE CONSOMMATION'!L22 -> 0 | J32: ='FICHE CONSOMMATION'!M22 | K32: =VLOOKUP(J32,Références!$F:$G,2,0) -> 0 | L32: =SUM(I32*K32) -> 0
B33: ='FICHE CONSOMMATION'!C23 -> 0 | C33: ='FICHE CONSOMMATION'!D23 | D33: =VLOOKUP(C33,Références!$B:$C,2,0) -> 0 | E33: =SUM(B33*D33) -> 0 | I33: ='FICHE CONSOMMATION'!L23 -> 0 | J33: ='FICHE CONSOMMATION'!M23 | K33: =VLOOKUP(J33,Références!$F:$G,2,0) -> 0 | L33: =SUM(I33*K33) -> 0 | P33: ='FICHE CONSOMMATION'!P21 -> 0 | Q33: ='FICHE CONSOMMATION'!Q21 | R33: ='FICHE CONSOMMATION'!R27 -> 0 | S33: =VLOOKUP(Q33,Références!$J:$K,2,0) -> 0 | T33: =SUM(P33*S33) -> 0 | X33: ='FICHE CONSOMMATION'!T21 | Y33: ='FICHE CONSOMMATION'!U21 -> 0 | Z33: =VLOOKUP(X33,Références!$O:$P,2,0) -> 0
B34: ='FICHE CONSOMMATION'!C24 -> 0 | C34: ='FICHE CONSOMMATION'!D24 | D34: =VLOOKUP(C34,Références!$B:$C,2,0) -> 0 | E34: =SUM(B34*D34) -> 0 | I34: ='FICHE CONSOMMATION'!L24 -> 0 | J34: ='FICHE CONSOMMATION'!M24 | K34: =VLOOKUP(J34,Références!$F:$G,2,0) -> 0 | L34: =SUM(I34*K34) -> 0
B35: ='FICHE CONSOMMATION'!I19 -> 0 | C35: ='FICHE CONSOMMATION'!J19 | D35: =VLOOKUP(C35,Références!$B:$C,2,0) -> 0 | E35: =SUM(B35*D35) -> 0 | I35: ='FICHE CONSOMMATION'!N19 -> 0 | J35: ='FICHE CONSOMMATION'!O19 | K35: =VLOOKUP(J35,Références!$F:$G,2,0) -> 0 | L35: =SUM(I35*K35) -> 0 | P35: ='FICHE CONSOMMATION'!P22 -> 0 | Q35: ='FICHE CONSOMMATION'!Q22 | R35: ='FICHE CONSOMMATION'!R28 -> 0 | S35: =VLOOKUP(Q35,Références!$J:$K,2,0) -> 0 | T35: =SUM(P35*S35) -> 0 | X35: ='FICHE CONSOMMATION'!T22 | Y35: ='FICHE CONSOMMATION'!U22 -> 0 | Z35: =VLOOKUP(X35,Références!$O:$P,2,0) -> 0
B36: ='FICHE CONSOMMATION'!I20 -> 0 | C36: ='FICHE CONSOMMATION'!J20 | D36: =VLOOKUP(C36,Références!$B:$C,2,0) -> 0 | E36: =SUM(B36*D36) -> 0 | I36: ='FICHE CONSOMMATION'!N20 -> 0 | J36: ='FICHE CONSOMMATION'!O20 | K36: =VLOOKUP(J36,Références!$F:$G,2,0) -> 0 | L36: =SUM(I36*K36) -> 0
B37: ='FICHE CONSOMMATION'!I21 -> 0 | C37: ='FICHE CONSOMMATION'!J21 | D37: =VLOOKUP(C37,Références!$B:$C,2,0) -> 0 | E37: =SUM(B37*D37) -> 0 | I37: ='FICHE CONSOMMATION'!N21 -> 0 | J37: ='FICHE CONSOMMATION'!O21 | K37: =VLOOKUP(J37,Références!$F:$G,2,0) -> 0 | L37: =SUM(I37*K37) -> 0 | P37: ='FICHE CONSOMMATION'!P23 -> 0 | Q37: ='FICHE CONSOMMATION'!Q23 | R37: ='FICHE CONSOMMATION'!R29 -> 0 | S37: =VLOOKUP(Q37,Références!$J:$K,2,0) -> 0 | T37: =SUM(P37*S37) -> 0 | X37: ='FICHE CONSOMMATION'!T23 | Y37: ='FICHE CONSOMMATION'!U23 -> 0 | Z37: =VLOOKUP(X37,Références!$O:$P,2,0) -> 0
B38: ='FICHE CONSOMMATION'!I22 -> 0 | C38: ='FICHE CONSOMMATION'!J22 | D38: =VLOOKUP(C38,Références!$B:$C,2,0) -> 0 | E38: =SUM(B38*D38) -> 0 | I38: ='FICHE CONSOMMATION'!N22 -> 0 | J38: ='FICHE CONSOMMATION'!O22 | K38: =VLOOKUP(J38,Références!$F:$G,2,0) -> 0 | L38: =SUM(I38*K38) -> 0
B39: ='FICHE CONSOMMATION'!I23 -> 0 | C39: ='FICHE CONSOMMATION'!J23 | D39: =VLOOKUP(C39,Références!$B:$C,2,0) -> 0 | E39: =SUM(B39*D39) -> 0 | I39: ='FICHE CONSOMMATION'!N23 -> 0 | J39: ='FICHE CONSOMMATION'!O23 | K39: =VLOOKUP(J39,Références!$F:$G,2,0) -> 0 | L39: =SUM(I39*K39) -> 0 | P39: ='FICHE CONSOMMATION'!P24 -> 0 | Q39: ='FICHE CONSOMMATION'!Q24 | S39: =VLOOKUP(Q39,Références!$J:$K,2,0) -> 0 | T39: =SUM(P39*S39) -> 0 | X39: ='FICHE CONSOMMATION'!T24 | Y39: ='FICHE CONSOMMATION'!U24 -> 0 | Z39: =VLOOKUP(X39,Références!$O:$P,2,0) -> 0
B40: ='FICHE CONSOMMATION'!I24 -> 0 | C40: ='FICHE CONSOMMATION'!J24 | D40: =VLOOKUP(C40,Références!$B:$C,2,0) -> 0 | E40: =SUM(B40*D40) -> 0 | I40: ='FICHE CONSOMMATION'!N24 -> 0 | J40: ='FICHE CONSOMMATION'!O24 | K40: =VLOOKUP(J40,Références!$F:$G,2,0) -> 0 | L40: =SUM(I40*K40) -> 0
A41: ='FICHE CONSOMMATION'!A25 -> 31 | B41: ='FICHE CONSOMMATION'!C25 -> 0 | C41: ='FICHE CONSOMMATION'!D25 | D41: =VLOOKUP(C41,Références!$B:$C,2,0) -> 0 | E41: =SUM(B41*D41) -> 0 | F41: =SUM(E41:E52) -> 0 | H41: =A41 -> 31 | I41: ='FICHE CONSOMMATION'!L25 -> 0 | J41: ='FICHE CONSOMMATION'!M25 | K41: =VLOOKUP(J41,Références!$F:$G,2,0) -> 0 | L41: =SUM(I41*K41) -> 0 | M41: =SUM(L41:L52) -> 0 | O41: =H41 -> 31 | P41: ='FICHE CONSOMMATION'!P25 -> 0 | Q41: ='FICHE CONSOMMATION'!Q25 | R41: ='FICHE CONSOMMATION'!R25 -> 0 | S41: =VLOOKUP(Q41,Références!$J:$K,2,0) -> 0 | T41: =SUM(P41*S41) -> 0 | U41: =SUM(T41:T52) -> 0 | W41: =O41 -> 31 | X41: ='FICHE CONSOMMATION'!T25 | Y41: ='FICHE CONSOMMATION'!U25 -> 0 | Z41: =VLOOKUP(X41,Références!$O:$P,2,0) -> 0 | AA41: =SUM(Z41:Z52) -> 0
B42: ='FICHE CONSOMMATION'!C26 -> 0 | C42: ='FICHE CONSOMMATION'!D26 | D42: =VLOOKUP(C42,Références!$B:$C,2,0) -> 0 | E42: =SUM(B42*D42) -> 0 | I42: ='FICHE CONSOMMATION'!L26 -> 0 | J42: ='FICHE CONSOMMATION'!M26 | K42: =VLOOKUP(J42,Références!$F:$G,2,0) -> 0 | L42: =SUM(I42*K42) -> 0
B43: ='FICHE CONSOMMATION'!C27 -> 0 | C43: ='FICHE CONSOMMATION'!D27 | D43: =VLOOKUP(C43,Références!$B:$C,2,0) -> 0 | E43: =SUM(B43*D43) -> 0 | I43: ='FICHE CONSOMMATION'!L27 -> 0 | J43: ='FICHE CONSOMMATION'!M27 | K43: =VLOOKUP(J43,Références!$F:$G,2,0) -> 0 | L43: =SUM(I43*K43) -> 0 | P43: ='FICHE CONSOMMATION'!P26 -> 0 | Q43: ='FICHE CONSOMMATION'!Q26 | R43: ='FICHE CONSOMMATION'!R26 -> 0 | S43: =VLOOKUP(Q43,Références!$J:$K,2,0) -> 0 | T43: =SUM(P43*S43) -> 0 | X43: ='FICHE CONSOMMATION'!T26 | Y43: ='FICHE CONSOMMATION'!U26 -> 0 | Z43: =VLOOKUP(X43,Références!$O:$P,2,0) -> 0
B44: ='FICHE CONSOMMATION'!C28 -> 0 | C44: ='FICHE CONSOMMATION'!D28 | D44: =VLOOKUP(C44,Références!$B:$C,2,0) -> 0 | E44: =SUM(B44*D44) -> 0 | I44: ='FICHE CONSOMMATION'!L28 -> 0 | J44: ='FICHE CONSOMMATION'!M28 | K44: =VLOOKUP(J44,Références!$F:$G,2,0) -> 0 | L44: =SUM(I44*K44) -> 0
B45: ='FICHE CONSOMMATION'!C29 -> 0 | C45: ='FICHE CONSOMMATION'!D29 | D45: =VLOOKUP(C45,Références!$B:$C,2,0) -> 0 | E45: =SUM(B45*D45) -> 0 | I45: ='FICHE CONSOMMATION'!L29 -> 0 | J45: ='FICHE CONSOMMATION'!M29 | K45: =VLOOKUP(J45,Références!$F:$G,2,0) -> 0 | L45: =SUM(I45*K45) -> 0 | P45: ='FICHE CONSOMMATION'!P27 -> 0 | Q45: ='FICHE CONSOMMATION'!Q27 | R45: ='FICHE CONSOMMATION'!R27 -> 0 | S45: =VLOOKUP(Q45,Références!$J:$K,2,0) -> 0 | T45: =SUM(P45*S45) -> 0 | X45: ='FICHE CONSOMMATION'!T27 | Y45: ='FICHE CONSOMMATION'!U27 -> 0 | Z45: =VLOOKUP(X45,Références!$O:$P,2,0) -> 0
B46: ='FICHE CONSOMMATION'!C30 -> 0 | C46: ='FICHE CONSOMMATION'!D30 | D46: =VLOOKUP(C46,Références!$B:$C,2,0) -> 0 | E46: =SUM(B46*D46) -> 0 | I46: ='FICHE CONSOMMATION'!L30 -> 0 | J46: ='FICHE CONSOMMATION'!M30 | K46: =VLOOKUP(J46,Références!$F:$G,2,0) -> 0 | L46: =SUM(I46*K46) -> 0
B47: ='FICHE CONSOMMATION'!I25 -> 0 | C47: ='FICHE CONSOMMATION'!J25 | D47: =VLOOKUP(C47,Références!$B:$C,2,0) -> 0 | E47: =SUM(B47*D47) -> 0 | I47: ='FICHE CONSOMMATION'!N25 -> 0 | J47: ='FICHE CONSOMMATION'!O25 | K47: =VLOOKUP(J47,Références!$F:$G,2,0) -> 0 | L47: =SUM(I47*K47) -> 0 | P47: ='FICHE CONSOMMATION'!P28 -> 0 | Q47: ='FICHE CONSOMMATION'!Q28 | R47: ='FICHE CONSOMMATION'!R28 -> 0 | S47: =VLOOKUP(Q47,Références!$J:$K,2,0) -> 0 | T47: =SUM(P47*S47) -> 0 | X47: ='FICHE CONSOMMATION'!T28 | Y47: ='FICHE CONSOMMATION'!U28 -> 0 | Z47: =VLOOKUP(X47,Références!$O:$P,2,0) -> 0
B48: ='FICHE CONSOMMATION'!I26 -> 0 | C48: ='FICHE CONSOMMATION'!J26 | D48: =VLOOKUP(C48,Références!$B:$C,2,0) -> 0 | E48: =SUM(B48*D48) -> 0 | I48: ='FICHE CONSOMMATION'!N26 -> 0 | J48: ='FICHE CONSOMMATION'!O26 | K48: =VLOOKUP(J48,Références!$F:$G,2,0) -> 0 | L48: =SUM(I48*K48) -> 0
B49: ='FICHE CONSOMMATION'!I27 -> 0 | C49: ='FICHE CONSOMMATION'!J27 | D49: =VLOOKUP(C49,Références!$B:$C,2,0) -> 0 | E49: =SUM(B49*D49) -> 0 | I49: ='FICHE CONSOMMATION'!N27 -> 0 | J49: ='FICHE CONSOMMATION'!O27 | K49: =VLOOKUP(J49,Références!$F:$G,2,0) -> 0 | L49: =SUM(I49*K49) -> 0 | P49: ='FICHE CONSOMMATION'!P29 -> 0 | Q49: ='FICHE CONSOMMATION'!Q29 | R49: ='FICHE CONSOMMATION'!R29 -> 0 | S49: =VLOOKUP(Q49,Références!$J:$K,2,0) -> 0 | T49: =SUM(P49*S49) -> 0 | X49: ='FICHE CONSOMMATION'!T29 | Y49: ='FICHE CONSOMMATION'!U29 -> 0 | Z49: =VLOOKUP(X49,Références!$O:$P,2,0) -> 0
B50: ='FICHE CONSOMMATION'!I28 -> 0 | C50: ='FICHE CONSOMMATION'!J28 | D50: =VLOOKUP(C50,Références!$B:$C,2,0) -> 0 | E50: =SUM(B50*D50) -> 0 | I50: ='FICHE CONSOMMATION'!N28 -> 0 | J50: ='FICHE CONSOMMATION'!O28 | K50: =VLOOKUP(J50,Références!$F:$G,2,0) -> 0 | L50: =SUM(I50*K50) -> 0
B51: ='FICHE CONSOMMATION'!I29 -> 0 | C51: ='FICHE CONSOMMATION'!J29 | D51: =VLOOKUP(C51,Références!$B:$C,2,0) -> 0 | E51: =SUM(B51*D51) -> 0 | I51: ='FICHE CONSOMMATION'!N29 -> 0 | J51: ='FICHE CONSOMMATION'!O29 | K51: =VLOOKUP(J51,Références!$F:$G,2,0) -> 0 | L51: =SUM(I51*K51) -> 0 | P51: ='FICHE CONSOMMATION'!P30 -> 0 | Q51: ='FICHE CONSOMMATION'!Q30 | R51: ='FICHE CONSOMMATION'!R30 -> 0 | S51: =VLOOKUP(Q51,Références!$J:$K,2,0) -> 0 | T51: =SUM(P51*S51) -> 0 | X51: ='FICHE CONSOMMATION'!T30 | Y51: ='FICHE CONSOMMATION'!U30 -> 0 | Z51: =VLOOKUP(X51,Références!$O:$P,2,0) -> 0
B52: ='FICHE CONSOMMATION'!I30 -> 0 | C52: ='FICHE CONSOMMATION'!J30 | D52: =VLOOKUP(C52,Références!$B:$C,2,0) -> 0 | E52: =SUM(B52*D52) -> 0 | I52: ='FICHE CONSOMMATION'!N30 -> 0 | J52: ='FICHE CONSOMMATION'!O30 | K52: =VLOOKUP(J52,Références!$F:$G,2,0) -> 0 | L52: =SUM(I52*K52) -> 0
A53: ='FICHE CONSOMMATION'!A31 -> 32 | B53: ='FICHE CONSOMMATION'!C31 -> 0 | C53: ='FICHE CONSOMMATION'!D31 | D53: =VLOOKUP(C53,Références!$B:$C,2,0) -> 0 | E53: =SUM(B53*D53) -> 0 | F53: =SUM(E53:E64) -> 0 | H53: =A53 -> 32 | I53: ='FICHE CONSOMMATION'!L31 -> 0 | J53: ='FICHE CONSOMMATION'!M31 | K53: =VLOOKUP(J53,Références!$F:$G,2,0) -> 0 | L53: =SUM(I53*K53) -> 0 | M53: =SUM(L53:L64) -> 0 | O53: =H53 -> 32 | P53: ='FICHE CONSOMMATION'!P31 -> 0 | Q53: ='FICHE CONSOMMATION'!Q31 | R53: ='FICHE CONSOMMATION'!R31 -> 0 | S53: =VLOOKUP(Q53,Références!$J:$K,2,0) -> 0 | T53: =SUM(P53*S53) -> 0 | U53: =SUM(T53:T64) -> 0 | W53: =O53 -> 32 | X53: ='FICHE CONSOMMATION'!T31 | Y53: ='FICHE CONSOMMATION'!U31 -> 0 | Z53: =VLOOKUP(X53,Références!$O:$P,2,0) -> 0 | AA53: =SUM(Z53:Z64) -> 0
B54: ='FICHE CONSOMMATION'!C32 -> 0 | C54: ='FICHE CONSOMMATION'!D32 | D54: =VLOOKUP(C54,Références!$B:$C,2,0) -> 0 | E54: =SUM(B54*D54) -> 0 | I54: ='FICHE CONSOMMATION'!L32 -> 0 | J54: ='FICHE CONSOMMATION'!M32 | K54: =VLOOKUP(J54,Références!$F:$G,2,0) -> 0 | L54: =SUM(I54*K54) -> 0
B55: ='FICHE CONSOMMATION'!C33 -> 0 | C55: ='FICHE CONSOMMATION'!D33 | D55: =VLOOKUP(C55,Références!$B:$C,2,0) -> 0 | E55: =SUM(B55*D55) -> 0 | I55: ='FICHE CONSOMMATION'!L33 -> 0 | J55: ='FICHE CONSOMMATION'!M33 | K55: =VLOOKUP(J55,Références!$F:$G,2,0) -> 0 | L55: =SUM(I55*K55) -> 0 | P55: ='FICHE CONSOMMATION'!P32 -> 0 | Q55: ='FICHE CONSOMMATION'!Q32 | R55: ='FICHE CONSOMMATION'!R32 -> 0 | S55: =VLOOKUP(Q55,Références!$J:$K,2,0) -> 0 | T55: =SUM(P55*S55) -> 0 | X55: ='FICHE CONSOMMATION'!T32 | Y55: ='FICHE CONSOMMATION'!U32 -> 0 | Z55: =VLOOKUP(X55,Références!$O:$P,2,0) -> 0
B56: ='FICHE CONSOMMATION'!C34 -> 0 | C56: ='FICHE CONSOMMATION'!D34 | D56: =VLOOKUP(C56,Références!$B:$C,2,0) -> 0 | E56: =SUM(B56*D56) -> 0 | I56: ='FICHE CONSOMMATION'!L34 -> 0 | J56: ='FICHE CONSOMMATION'!M34 | K56: =VLOOKUP(J56,Références!$F:$G,2,0) -> 0 | L56: =SUM(I56*K56) -> 0
B57: ='FICHE CONSOMMATION'!C35 -> 0 | C57: ='FICHE CONSOMMATION'!D35 | D57: =VLOOKUP(C57,Références!$B:$C,2,0) -> 0 | E57: =SUM(B57*D57) -> 0 | I57: ='FICHE CONSOMMATION'!L35 -> 0 | J57: ='FICHE CONSOMMATION'!M35 | K57: =VLOOKUP(J57,Références!$F:$G,2,0) -> 0 | L57: =SUM(I57*K57) -> 0 | P57: ='FICHE CONSOMMATION'!P33 -> 0 | Q57: ='FICHE CONSOMMATION'!Q33 | R57: ='FICHE CONSOMMATION'!R33 -> 0 | S57: =VLOOKUP(Q57,Références!$J:$K,2,0) -> 0 | T57: =SUM(P57*S57) -> 0 | X57: ='FICHE CONSOMMATION'!T33 | Y57: ='FICHE CONSOMMATION'!U33 -> 0 | Z57: =VLOOKUP(X57,Références!$O:$P,2,0) -> 0
B58: ='FICHE CONSOMMATION'!C36 -> 0 | C58: ='FICHE CONSOMMATION'!D36 | D58: =VLOOKUP(C58,Références!$B:$C,2,0) -> 0 | E58: =SUM(B58*D58) -> 0 | I58: ='FICHE CONSOMMATION'!L36 -> 0 | J58: ='FICHE CONSOMMATION'!M36 | K58: =VLOOKUP(J58,Références!$F:$G,2,0) -> 0 | L58: =SUM(I58*K58) -> 0
B59: ='FICHE CONSOMMATION'!I31 -> 0 | C59: ='FICHE CONSOMMATION'!J31 | D59: =VLOOKUP(C59,Références!$B:$C,2,0) -> 0 | E59: =SUM(B59*D59) -> 0 | I59: ='FICHE CONSOMMATION'!N31 -> 0 | J59: ='FICHE CONSOMMATION'!O31 | K59: =VLOOKUP(J59,Références!$F:$G,2,0) -> 0 | L59: =SUM(I59*K59) -> 0 | P59: ='FICHE CONSOMMATION'!P34 -> 0 | Q59: ='FICHE CONSOMMATION'!Q34 | R59: ='FICHE CONSOMMATION'!R34 -> 0 | S59: =VLOOKUP(Q59,Références!$J:$K,2,0) -> 0 | T59: =SUM(P59*S59) -> 0 | X59: ='FICHE CONSOMMATION'!T34 | Y59: ='FICHE CONSOMMATION'!U34 -> 0 | Z59: =VLOOKUP(X59,Références!$O:$P,2,0) -> 0
B60: ='FICHE CONSOMMATION'!I32 -> 0 | C60: ='FICHE CONSOMMATION'!J32 | D60: =VLOOKUP(C60,Références!$B:$C,2,0) -> 0 | E60: =SUM(B60*D60) -> 0 | I60: ='FICHE CONSOMMATION'!N32 -> 0 | J60: ='FICHE CONSOMMATION'!O32 | K60: =VLOOKUP(J60,Références!$F:$G,2,0) -> 0 | L60: =SUM(I60*K60) -> 0
B61: ='FICHE CONSOMMATION'!I33 -> 0 | C61: ='FICHE CONSOMMATION'!J33 | D61: =VLOOKUP(C61,Références!$B:$C,2,0) -> 0 | E61: =SUM(B61*D61) -> 0 | I61: ='FICHE CONSOMMATION'!N33 -> 0 | J61: ='FICHE CONSOMMATION'!O33 | K61: =VLOOKUP(J61,Références!$F:$G,2,0) -> 0 | L61: =SUM(I61*K61) -> 0 | P61: ='FICHE CONSOMMATION'!P35 -> 0 | Q61: ='FICHE CONSOMMATION'!Q35 | R61: ='FICHE CONSOMMATION'!R35 -> 0 | S61: =VLOOKUP(Q61,Références!$J:$K,2,0) -> 0 | T61: =SUM(P61*S61) -> 0 | X61: ='FICHE CONSOMMATION'!T35 | Y61: ='FICHE CONSOMMATION'!U35 -> 0 | Z61: =VLOOKUP(X61,Références!$O:$P,2,0) -> 0
B62: ='FICHE CONSOMMATION'!I34 -> 0 | C62: ='FICHE CONSOMMATION'!J34 | D62: =VLOOKUP(C62,Références!$B:$C,2,0) -> 0 | E62: =SUM(B62*D62) -> 0 | I62: ='FICHE CONSOMMATION'!N34 -> 0 | J62: ='FICHE CONSOMMATION'!O34 | K62: =VLOOKUP(J62,Références!$F:$G,2,0) -> 0 | L62: =SUM(I62*K62) -> 0
B63: ='FICHE CONSOMMATION'!I35 -> 0 | C63: ='FICHE CONSOMMATION'!J35 | D63: =VLOOKUP(C63,Références!$B:$C,2,0) -> 0 | E63: =SUM(B63*D63) -> 0 | I63: ='FICHE CONSOMMATION'!N35 -> 0 | J63: ='FICHE CONSOMMATION'!O35 | K63: =VLOOKUP(J63,Références!$F:$G,2,0) -> 0 | L63: =SUM(I63*K63) -> 0 | P63: ='FICHE CONSOMMATION'!P36 -> 0 | Q63: ='FICHE CONSOMMATION'!Q36 | R63: ='FICHE CONSOMMATION'!R36 -> 0 | S63: =VLOOKUP(Q63,Références!$J:$K,2,0) -> 0 | T63: =SUM(P63*S63) -> 0 | X63: ='FICHE CONSOMMATION'!T36 | Y63: ='FICHE CONSOMMATION'!U36 -> 0 | Z63: =VLOOKUP(X63,Références!$O:$P,2,0) -> 0
B64: ='FICHE CONSOMMATION'!I36 -> 0 | C64: ='FICHE CONSOMMATION'!J36 | D64: =VLOOKUP(C64,Références!$B:$C,2,0) -> 0 | E64: =SUM(B64*D64) -> 0 | I64: ='FICHE CONSOMMATION'!N36 -> 0 | J64: ='FICHE CONSOMMATION'!O36 | K64: =VLOOKUP(J64,Références!$F:$G,2,0) -> 0 | L64: =SUM(I64*K64) -> 0
A65: ='FICHE CONSOMMATION'!A37 -> 33 | B65: ='FICHE CONSOMMATION'!C37 -> 0 | C65: ='FICHE CONSOMMATION'!D37 | D65: =VLOOKUP(C65,Références!$B:$C,2,0) -> 0 | E65: =SUM(B65*D65) -> 0 | F65: =SUM(E65:E76) -> 0 | H65: =A65 -> 33 | I65: ='FICHE CONSOMMATION'!L37 -> 0 | J65: ='FICHE CONSOMMATION'!M37 | K65: =VLOOKUP(J65,Références!$F:$G,2,0) -> 0 | L65: =SUM(I65*K65) -> 0 | M65: =SUM(L65:L76) -> 0 | O65: =H65 -> 33 | P65: ='FICHE CONSOMMATION'!P37 -> 0 | Q65: ='FICHE CONSOMMATION'!Q37 | R65: ='FICHE CONSOMMATION'!R37 -> 0 | S65: =VLOOKUP(Q65,Références!$J:$K,2,0) -> 0 | T65: =SUM(P65*S65) -> 0 | U65: =SUM(T65:T76) -> 0 | W65: =O65 -> 33 | X65: ='FICHE CONSOMMATION'!T37 | Y65: ='FICHE CONSOMMATION'!U37 -> 0 | Z65: =VLOOKUP(X65,Références!$O:$P,2,0) -> 0 | AA65: =SUM(Z65:Z76) -> 0
B66: ='FICHE CONSOMMATION'!C38 -> 0 | C66: ='FICHE CONSOMMATION'!D38 | D66: =VLOOKUP(C66,Références!$B:$C,2,0) -> 0 | E66: =SUM(B66*D66) -> 0 | I66: ='FICHE CONSOMMATION'!L38 -> 0 | J66: ='FICHE CONSOMMATION'!M38 | K66: =VLOOKUP(J66,Références!$F:$G,2,0) -> 0 | L66: =SUM(I66*K66) -> 0
B67: ='FICHE CONSOMMATION'!C39 -> 0 | C67: ='FICHE CONSOMMATION'!D39 | D67: =VLOOKUP(C67,Références!$B:$C,2,0) -> 0 | E67: =SUM(B67*D67) -> 0 | I67: ='FICHE CONSOMMATION'!L39 -> 0 | J67: ='FICHE CONSOMMATION'!M39 | K67: =VLOOKUP(J67,Références!$F:$G,2,0) -> 0 | L67: =SUM(I67*K67) -> 0 | P67: ='FICHE CONSOMMATION'!P38 -> 0 | Q67: ='FICHE CONSOMMATION'!Q38 | R67: ='FICHE CONSOMMATION'!R38 -> 0 | S67: =VLOOKUP(Q67,Références!$J:$K,2,0) -> 0 | T67: =SUM(P67*S67) -> 0 | X67: ='FICHE CONSOMMATION'!T38 | Y67: ='FICHE CONSOMMATION'!U38 -> 0 | Z67: =VLOOKUP(X67,Références!$O:$P,2,0) -> 0
B68: ='FICHE CONSOMMATION'!C40 -> 0 | C68: ='FICHE CONSOMMATION'!D40 | D68: =VLOOKUP(C68,Références!$B:$C,2,0) -> 0 | E68: =SUM(B68*D68) -> 0 | I68: ='FICHE CONSOMMATION'!L40 -> 0 | J68: ='FICHE CONSOMMATION'!M40 | K68: =VLOOKUP(J68,Références!$F:$G,2,0) -> 0 | L68: =SUM(I68*K68) -> 0
B69: ='FICHE CONSOMMATION'!C41 -> 0 | C69: ='FICHE CONSOMMATION'!D41 | D69: =VLOOKUP(C69,Références!$B:$C,2,0) -> 0 | E69: =SUM(B69*D69) -> 0 | I69: ='FICHE CONSOMMATION'!L41 -> 0 | J69: ='FICHE CONSOMMATION'!M41 | K69: =VLOOKUP(J69,Références!$F:$G,2,0) -> 0 | L69: =SUM(I69*K69) -> 0 | P69: ='FICHE CONSOMMATION'!P39 -> 0 | Q69: ='FICHE CONSOMMATION'!Q39 | R69: ='FICHE CONSOMMATION'!R39 -> 0 | S69: =VLOOKUP(Q69,Références!$J:$K,2,0) -> 0 | T69: =SUM(P69*S69) -> 0 | X69: ='FICHE CONSOMMATION'!T39 | Y69: ='FICHE CONSOMMATION'!U39 -> 0 | Z69: =VLOOKUP(X69,Références!$O:$P,2,0) -> 0
B70: ='FICHE CONSOMMATION'!C42 -> 0 | C70: ='FICHE CONSOMMATION'!D42 | D70: =VLOOKUP(C70,Références!$B:$C,2,0) -> 0 | E70: =SUM(B70*D70) -> 0 | I70: ='FICHE CONSOMMATION'!L42 -> 0 | J70: ='FICHE CONSOMMATION'!M42 | K70: =VLOOKUP(J70,Références!$F:$G,2,0) -> 0 | L70: =SUM(I70*K70) -> 0
B71: ='FICHE CONSOMMATION'!I37 -> 0 | C71: ='FICHE CONSOMMATION'!J37 | D71: =VLOOKUP(C71,Références!$B:$C,2,0) -> 0 | E71: =SUM(B71*D71) -> 0 | I71: ='FICHE CONSOMMATION'!N37 -> 0 | J71: ='FICHE CONSOMMATION'!O37 | K71: =VLOOKUP(J71,Références!$F:$G,2,0) -> 0 | L71: =SUM(I71*K71) -> 0 | P71: ='FICHE CONSOMMATION'!P40 -> 0 | Q71: ='FICHE CONSOMMATION'!Q40 | R71: ='FICHE CONSOMMATION'!R40 -> 0 | S71: =VLOOKUP(Q71,Références!$J:$K,2,0) -> 0 | T71: =SUM(P71*S71) -> 0 | X71: ='FICHE CONSOMMATION'!T40 | Y71: ='FICHE CONSOMMATION'!U40 -> 0 | Z71: =VLOOKUP(X71,Références!$O:$P,2,0) -> 0
B72: ='FICHE CONSOMMATION'!I38 -> 0 | C72: ='FICHE CONSOMMATION'!J38 | D72: =VLOOKUP(C72,Références!$B:$C,2,0) -> 0 | E72: =SUM(B72*D72) -> 0 | I72: ='FICHE CONSOMMATION'!N38 -> 0 | J72: ='FICHE CONSOMMATION'!O38 | K72: =VLOOKUP(J72,Références!$F:$G,2,0) -> 0 | L72: =SUM(I72*K72) -> 0
B73: ='FICHE CONSOMMATION'!I39 -> 0 | C73: ='FICHE CONSOMMATION'!J39 | D73: =VLOOKUP(C73,Références!$B:$C,2,0) -> 0 | E73: =SUM(B73*D73) -> 0 | I73: ='FICHE CONSOMMATION'!N39 -> 0 | J73: ='FICHE CONSOMMATION'!O39 | K73: =VLOOKUP(J73,Références!$F:$G,2,0) -> 0 | L73: =SUM(I73*K73) -> 0 | P73: ='FICHE CONSOMMATION'!P41 -> 0 | Q73: ='FICHE CONSOMMATION'!Q41 | R73: ='FICHE CONSOMMATION'!R41 -> 0 | S73: =VLOOKUP(Q73,Références!$J:$K,2,0) -> 0 | T73: =SUM(P73*S73) -> 0 | X73: ='FICHE CONSOMMATION'!T41 | Y73: ='FICHE CONSOMMATION'!U41 -> 0 | Z73: =VLOOKUP(X73,Références!$O:$P,2,0) -> 0
B74: ='FICHE CONSOMMATION'!I40 -> 0 | C74: ='FICHE CONSOMMATION'!J40 | D74: =VLOOKUP(C74,Références!$B:$C,2,0) -> 0 | E74: =SUM(B74*D74) -> 0 | I74: ='FICHE CONSOMMATION'!N40 -> 0 | J74: ='FICHE CONSOMMATION'!O40 | K74: =VLOOKUP(J74,Références!$F:$G,2,0) -> 0 | L74: =SUM(I74*K74) -> 0
B75: ='FICHE CONSOMMATION'!I41 -> 0 | C75: ='FICHE CONSOMMATION'!J41 | D75: =VLOOKUP(C75,Références!$B:$C,2,0) -> 0 | E75: =SUM(B75*D75) -> 0 | I75: ='FICHE CONSOMMATION'!N41 -> 0 | J75: ='FICHE CONSOMMATION'!O41 | K75: =VLOOKUP(J75,Références!$F:$G,2,0) -> 0 | L75: =SUM(I75*K75) -> 0 | P75: ='FICHE CONSOMMATION'!P42 -> 0 | Q75: ='FICHE CONSOMMATION'!Q42 | R75: ='FICHE CONSOMMATION'!R42 -> 0 | S75: =VLOOKUP(Q75,Références!$J:$K,2,0) -> 0 | T75: =SUM(P75*S75) -> 0 | X75: ='FICHE CONSOMMATION'!T42 | Y75: ='FICHE CONSOMMATION'!U42 -> 0 | Z75: =VLOOKUP(X75,Références!$O:$P,2,0) -> 0
B76: ='FICHE CONSOMMATION'!I42 -> 0 | C76: ='FICHE CONSOMMATION'!J42 | D76: =VLOOKUP(C76,Références!$B:$C,2,0) -> 0 | E76: =SUM(B76*D76) -> 0 | I76: ='FICHE CONSOMMATION'!N42 -> 0 | J76: ='FICHE CONSOMMATION'!O42 | K76: =VLOOKUP(J76,Références!$F:$G,2,0) -> 0 | L76: =SUM(I76*K76) -> 0
A77: ='FICHE CONSOMMATION'!A43 -> 34 | B77: ='FICHE CONSOMMATION'!C43 -> 0 | C77: ='FICHE CONSOMMATION'!D43 | D77: =VLOOKUP(C77,Références!$B:$C,2,0) -> 0 | E77: =SUM(B77*D77) -> 0 | F77: =SUM(E77:E88) -> 0 | H77: =A77 -> 34 | I77: ='FICHE CONSOMMATION'!L43 -> 0 | J77: ='FICHE CONSOMMATION'!M43 | K77: =VLOOKUP(J77,Références!$F:$G,2,0) -> 0 | L77: =SUM(I77*K77) -> 0 | M77: =SUM(L77:L88) -> 0 | O77: =H77 -> 34 | P77: ='FICHE CONSOMMATION'!P43 -> 0 | Q77: ='FICHE CONSOMMATION'!Q43 | R77: ='FICHE CONSOMMATION'!R43 -> 0 | S77: =VLOOKUP(Q77,Références!$J:$K,2,0) -> 0 | T77: =SUM(P77*S77) -> 0 | U77: =SUM(T77:T88) -> 0 | W77: =O77 -> 34 | X77: ='FICHE CONSOMMATION'!T43 | Y77: ='FICHE CONSOMMATION'!U43 -> 0 | Z77: =VLOOKUP(X77,Références!$O:$P,2,0) -> 0 | AA77: =SUM(Z77:Z88) -> 0
B78: ='FICHE CONSOMMATION'!C44 -> 0 | C78: ='FICHE CONSOMMATION'!D44 | D78: =VLOOKUP(C78,Références!$B:$C,2,0) -> 0 | E78: =SUM(B78*D78) -> 0 | I78: ='FICHE CONSOMMATION'!L44 -> 0 | J78: ='FICHE CONSOMMATION'!M44 | K78: =VLOOKUP(J78,Références!$F:$G,2,0) -> 0 | L78: =SUM(I78*K78) -> 0
B79: ='FICHE CONSOMMATION'!C45 -> 0 | C79: ='FICHE CONSOMMATION'!D45 | D79: =VLOOKUP(C79,Références!$B:$C,2,0) -> 0 | E79: =SUM(B79*D79) -> 0 | I79: ='FICHE CONSOMMATION'!L45 -> 0 | J79: ='FICHE CONSOMMATION'!M45 | K79: =VLOOKUP(J79,Références!$F:$G,2,0) -> 0 | L79: =SUM(I79*K79) -> 0 | P79: ='FICHE CONSOMMATION'!P44 -> 0 | Q79: ='FICHE CONSOMMATION'!Q44 | R79: ='FICHE CONSOMMATION'!R44 -> 0 | S79: =VLOOKUP(Q79,Références!$J:$K,2,0) -> 0 | T79: =SUM(P79*S79) -> 0 | X79: ='FICHE CONSOMMATION'!T44 | Y79: ='FICHE CONSOMMATION'!U44 -> 0 | Z79: =VLOOKUP(X79,Références!$O:$P,2,0) -> 0
B80: ='FICHE CONSOMMATION'!C46 -> 0 | C80: ='FICHE CONSOMMATION'!D46 | D80: =VLOOKUP(C80,Références!$B:$C,2,0) -> 0 | E80: =SUM(B80*D80) -> 0 | I80: ='FICHE CONSOMMATION'!L46 -> 0 | J80: ='FICHE CONSOMMATION'!M46 | K80: =VLOOKUP(J80,Références!$F:$G,2,0) -> 0 | L80: =SUM(I80*K80) -> 0
B81: ='FICHE CONSOMMATION'!C47 -> 0 | C81: ='FICHE CONSOMMATION'!D47 | D81: =VLOOKUP(C81,Références!$B:$C,2,0) -> 0 | E81: =SUM(B81*D81) -> 0 | I81: ='FICHE CONSOMMATION'!L47 -> 0 | J81: ='FICHE CONSOMMATION'!M47 | K81: =VLOOKUP(J81,Références!$F:$G,2,0) -> 0 | L81: =SUM(I81*K81) -> 0 | P81: ='FICHE CONSOMMATION'!P45 -> 0 | Q81: ='FICHE CONSOMMATION'!Q45 | R81: ='FICHE CONSOMMATION'!R45 -> 0 | S81: =VLOOKUP(Q81,Références!$J:$K,2,0) -> 0 | T81: =SUM(P81*S81) -> 0 | X81: ='FICHE CONSOMMATION'!T45 | Y81: ='FICHE CONSOMMATION'!U45 -> 0 | Z81: =VLOOKUP(X81,Références!$O:$P,2,0) -> 0
B82: ='FICHE CONSOMMATION'!C48 -> 0 | C82: ='FICHE CONSOMMATION'!D48 | D82: =VLOOKUP(C82,Références!$B:$C,2,0) -> 0 | E82: =SUM(B82*D82) -> 0 | I82: ='FICHE CONSOMMATION'!L48 -> 0 | J82: ='FICHE CONSOMMATION'!M48 | K82: =VLOOKUP(J82,Références!$F:$G,2,0) -> 0 | L82: =SUM(I82*K82) -> 0
B83: ='FICHE CONSOMMATION'!I43 -> 0 | C83: ='FICHE CONSOMMATION'!J43 | D83: =VLOOKUP(C83,Références!$B:$C,2,0) -> 0 | E83: =SUM(B83*D83) -> 0 | I83: ='FICHE CONSOMMATION'!N43 -> 0 | J83: ='FICHE CONSOMMATION'!O43 | K83: =VLOOKUP(J83,Références!$F:$G,2,0) -> 0 | L83: =SUM(I83*K83) -> 0 | P83: ='FICHE CONSOMMATION'!P46 -> 0 | Q83: ='FICHE CONSOMMATION'!Q46 | R83: ='FICHE CONSOMMATION'!R46 -> 0 | S83: =VLOOKUP(Q83,Références!$J:$K,2,0) -> 0 | T83: =SUM(P83*S83) -> 0 | X83: ='FICHE CONSOMMATION'!Q46 | Y83: ='FICHE CONSOMMATION'!U46 -> 0 | Z83: =VLOOKUP(X83,Références!$O:$P,2,0) -> 0
B84: ='FICHE CONSOMMATION'!I44 -> 0 | C84: ='FICHE CONSOMMATION'!J44 | D84: =VLOOKUP(C84,Références!$B:$C,2,0) -> 0 | E84: =SUM(B84*D84) -> 0 | I84: ='FICHE CONSOMMATION'!N44 -> 0 | J84: ='FICHE CONSOMMATION'!O44 | K84: =VLOOKUP(J84,Références!$F:$G,2,0) -> 0 | L84: =SUM(I84*K84) -> 0
B85: ='FICHE CONSOMMATION'!I45 -> 0 | C85: ='FICHE CONSOMMATION'!J45 | D85: =VLOOKUP(C85,Références!$B:$C,2,0) -> 0 | E85: =SUM(B85*D85) -> 0 | I85: ='FICHE CONSOMMATION'!N45 -> 0 | J85: ='FICHE CONSOMMATION'!O45 | K85: =VLOOKUP(J85,Références!$F:$G,2,0) -> 0 | L85: =SUM(I85*K85) -> 0 | P85: ='FICHE CONSOMMATION'!P47 -> 0 | Q85: ='FICHE CONSOMMATION'!Q47 | R85: ='FICHE CONSOMMATION'!R47 -> 0 | S85: =VLOOKUP(Q85,Références!$J:$K,2,0) -> 0 | T85: =SUM(P85*S85) -> 0 | X85: ='FICHE CONSOMMATION'!T47 | Y85: ='FICHE CONSOMMATION'!U47 -> 0 | Z85: =VLOOKUP(X85,Références!$O:$P,2,0) -> 0
B86: ='FICHE CONSOMMATION'!I46 -> 0 | C86: ='FICHE CONSOMMATION'!J46 | D86: =VLOOKUP(C86,Références!$B:$C,2,0) -> 0 | E86: =SUM(B86*D86) -> 0 | I86: ='FICHE CONSOMMATION'!N46 -> 0 | J86: ='FICHE CONSOMMATION'!O46 | K86: =VLOOKUP(J86,Références!$F:$G,2,0) -> 0 | L86: =SUM(I86*K86) -> 0
B87: ='FICHE CONSOMMATION'!I47 -> 0 | C87: ='FICHE CONSOMMATION'!J47 | D87: =VLOOKUP(C87,Références!$B:$C,2,0) -> 0 | E87: =SUM(B87*D87) -> 0 | I87: ='FICHE CONSOMMATION'!N47 -> 0 | J87: ='FICHE CONSOMMATION'!O47 | K87: =VLOOKUP(J87,Références!$F:$G,2,0) -> 0 | L87: =SUM(I87*K87) -> 0 | P87: ='FICHE CONSOMMATION'!P48 -> 0 | Q87: ='FICHE CONSOMMATION'!Q48 | R87: ='FICHE CONSOMMATION'!R48 -> 0 | S87: =VLOOKUP(Q87,Références!$J:$K,2,0) -> 0 | T87: =SUM(P87*S87) -> 0 | X87: ='FICHE CONSOMMATION'!T48 | Y87: ='FICHE CONSOMMATION'!U48 -> 0 | Z87: =VLOOKUP(X87,Références!$O:$P,2,0) -> 0
B88: ='FICHE CONSOMMATION'!I48 -> 0 | C88: ='FICHE CONSOMMATION'!J48 | D88: =VLOOKUP(C88,Références!$B:$C,2,0) -> 0 | E88: =SUM(B88*D88) -> 0 | I88: ='FICHE CONSOMMATION'!N48 -> 0 | J88: ='FICHE CONSOMMATION'!O48 | K88: =VLOOKUP(J88,Références!$F:$G,2,0) -> 0 | L88: =SUM(I88*K88) -> 0

Sheet FACTURE
O3: Facture
A8: N° FACT | C8: CLIENT
A9: ='FICHE DOSSIER'!AF3 -> 0 | C9: ='FICHE DOSSIER'!AF2 -> Martin
A11: REF | B11: CHAMBRE | C11: PERIODE
B12: ='FICHE DOSSIER'!AF8 -> TOUBKAL | C12: ='FICHE DOSSIER'!AF6 -> 28 | D12: / | E12: ='FICHE DOSSIER'!AI6 -> 04 | F12: / | G12: ='FICHE DOSSIER'!AK6 -> 14 | H12: _ | I12: ='FICHE DOSSIER'!AF7 -> 9 | J12: / | K12: ='FICHE DOSSIER'!AI7 -> 05 | L12: / | M12: ='FICHE DOSSIER'!AK7 -> 14
Q13: en Dirhams
A14: Nbre | B14: DESIGNATION | N14: Prix u HT | O14: TOTAL HT | P14: prix u TTC | Q14: TOTAL TTC
A15: ='FICHE DOSSIER'!AM14 -> -19 | B15: NUIT + PETIT DEJEUNER | N15: =SUM(P15/1.1) -> 0 | O15: =SUM(N15*A15) -> 0 | P15: ='FICHE DOSSIER'!AF17 -> 0 | Q15: =SUM(P15*A15) -> 0
B16: NUIT + PETIT DEJEUNER | N16: =SUM(P16/1.1) -> 0 | O16: =SUM(N16*A16) -> 0 | Q16: =SUM(P16*A16) -> 0
A17: 1 | B17: RESTAURATION | N17: =SUM(P17/1.1) -> 0 | O17: =SUM(N17*A17) -> 0 | P17: ='TOTAL DETAIL'!F3 -> 0 | Q17: =SUM(P17*A17) -> 0
A18: 1 | B18: BOISSONS | N18: =SUM(P18/1.1) -> 0 | O18: =SUM(N18*A18) -> 0 | P18: ='TOTAL DETAIL'!M3 -> 0 | Q18: =SUM(P18*A18) -> 0
A19: 1 | B19: SPA | N19: =SUM(P19/1.1) -> 0 | O19: =SUM(N19*A19) -> 0 | P19: ='TOTAL DETAIL'!U3 -> 0 | Q19: =SUM(P19*A19) -> 0
A20: 1 | B20: TRANSPORT | N20: =SUM(P20/1.1) -> 0 | O20: =SUM(N20*A20) -> 0 | P20: ='TOTAL DETAIL'!AA3 -> 0 | Q20: =SUM(P20*A20) -> 0
N21: =SUM(P21/1.1) -> 0 | O21: =SUM(N21*A21) -> 0 | Q21: =SUM(P21*A21) -> 0
N22: =SUM(P22/1.1) -> 0 | O22: =SUM(N22*A22) -> 0 | Q22: =SUM(P22*A22) -> 0
N23: =SUM(P23/1.1) -> 0 | O23: =SUM(N23*A23) -> 0 | Q23: =SUM(P23*A23) -> 0
N24: =SUM(P24/1.1) -> 0 | O24: =SUM(N24*A24) -> 0 | Q24: =SUM(P24*A24) -> 0
N25: =SUM(P25/1.1) -> 0 | O25: =SUM(N25*A25) -> 0 | Q25: =SUM(P25*A25) -> 0
N26: =SUM(P26/1.1) -> 0 | O26: =SUM(N26*A26) -> 0 | Q26: =SUM(P26*A26) -> 0
N27: =SUM(P27/1.1) -> 0 | O27: =SUM(N27*A27) -> 0 | Q27: =SUM(P27*A27) -> 0
N28: =SUM(P28/1.1) -> 0 | O28: =SUM(N28*A28) -> 0 | Q28: =SUM(P28*A28) -> 0
N29: =SUM(P29/1.1) -> 0 | O29: =SUM(N29*A29) -> 0 | Q29: =SUM(P29*A29) -> 0
P30: TOTAL HT | Q30: =SUM(O15:O29) -> 0
P31: TVA (10%) | Q31: =SUM(Q30*10/100) -> 0
P32: ACOMPTE | Q32: ='FICHE DOSSIER'!AN4 -> 0
P33: TOTAL TTC | Q33: =SUM(Q15:Q29)-Q32 -> 0
B34: ='FICHE DOSSIER'!AN11 -> 0 | C34: TAXES DE SEJOUR | P34: 15 | Q34: =SUM(P34*B34) -> 0
B35: =SUM(B34) -> 0 | C35: TAXES DE PROMOTION TOURISTIQUE | P35: 11 | Q35: =SUM(P35*B35) -> 0
O36: Arrêtée la présente facture à la somme de: | P36: =SUM(Q33+Q34+Q35) -> 0 | Q36: Dirhams
A38: Règlement | B38: CB

Sheet FACTURE D'ACOMPTE
O3: Facture
A8: N° FACT | C8: CLIENT
A9: ='FICHE DOSSIER'!AF3 -> 0 | C9: ='FICHE DOSSIER'!AF2 -> Martin
A11: REF | B11: CHAMBRE | C11: PERIODE
B12: ='FICHE DOSSIER'!AF8 -> TOUBKAL | C12: ='FICHE DOSSIER'!AF6 -> 28 | D12: / | E12: ='FICHE DOSSIER'!AI6 -> 04 | F12: / | G12: ='FICHE DOSSIER'!AK6 -> 14 | H12: _ | I12: ='FICHE DOSSIER'!AF7 -> 9 | J12: / | K12: ='FICHE DOSSIER'!AI7 -> 05 | L12: / | M12: ='FICHE DOSSIER'!AK7 -> 14
T13: en Dirhams
A14: Nbre | B14: DESIGNATION | N14: Prix u HT | O14: TOTAL HT | P14: prix u TTC | T14: TOTAL TTC
A15: 1 | B15: ACOMPTE | N15: =SUM(P15/1.1) -> 0 | O15: =SUM(N15*A15) -> 0 | P15: ='FICHE DOSSIER'!AN4 -> 0 | T15: ='FICHE DOSSIER'!AN4 -> 0
N16: =SUM(P16/1.1) -> 0 | O16: =SUM(N16*A16) -> 0 | T16: =SUM(P16*A16) -> 0
N17: =SUM(P17/1.1) -> 0 | O17: =SUM(N17*A17) -> 0 | T17: =SUM(P17*A17) -> 0
N18: =SUM(P18/1.1) -> 0 | O18: =SUM(N18*A18) -> 0 | T18: =SUM(P18*A18) -> 0
N19: =SUM(P19/1.1) -> 0 | O19: =SUM(N19*A19) -> 0 | T19: =SUM(P19*A19) -> 0
N20: =SUM(P20/1.1) -> 0 | O20: =SUM(N20*A20) -> 0 | T20: =SUM(P20*A20) -> 0
N21: =SUM(P21/1.1) -> 0 | O21: =SUM(N21*A21) -> 0 | T21: =SUM(P21*A21) -> 0
N22: =SUM(P22/1.1) -> 0 | O22: =SUM(N22*A22) -> 0 | T22: =SUM(P22*A22) -> 0
N23: =SUM(P23/1.1) -> 0 | O23: =SUM(N23*A23) -> 0 | T23: =SUM(P23*A23) -> 0
N24: =SUM(P24/1.1) -> 0 | O24: =SUM(N24*A24) -> 0 | T24: =SUM(P24*A24) -> 0
N25: =SUM(P25/1.1) -> 0 | O25: =SUM(N25*A25) -> 0 | T25: =SUM(P25*A25) -> 0
N26: =SUM(P26/1.1) -> 0 | O26: =SUM(N26*A26) -> 0 | T26: =SUM(P26*A26) -> 0
N27: =SUM(P27/1.1) -> 0 | O27: =SUM(N27*A27) -> 0 | T27: =SUM(P27*A27) -> 0
... N29: =SUM(P29/1.1) -> 0 | O29: =SUM(N29*A29) -> 0 | T29: =SUM(P29*A29) -> 0
T30: =SUM(O15:O29) -> 0
P31: TVA (10%) | T31: =SUM(T30*10/100) -> 0
P32: ACOMPTE
P33: TOTAL TTC | T33: =SUM(T15:T29)-T32 -> 0
C34: TAXES DE SEJOUR | P34: 15
C35: TAXES DE PROMOTION TOURISTIQUE | P35: 11
O36: Arrêtée la présente facture à la somme de: | P36: =SUM(T33+T34+T35) -> 0 | T36: Dirhams
A38: Règlement | B38: CB | O38: PAYE LE : | P38: ='FICHE DOSSIER'!AG4 -> 0 | Q38: / | R38: ='FICHE DOSSIER'!AI4 -> 0 | S38: / | T38: ='FICHE DOSSIER'!AK4 -> 14

Sheet FICHE AEROPORT
A1: HOTEL …
A4: ='FICHE DOSSIER'!AF2 -> Martin
D17: ='FICHE DOSSIER'!AF6 -> 28 | E17: / | F17: ='FICHE DOSSIER'!AI6 -> 04 | G17: / | H17: ='FICHE DOSSIER'!AK6 -> 14 | J17: à | K17: ='FICHE DOSSIER'!AF21 -> 0 | M17: VOL | N17: ='FICHE DOSSIER'!AF22 -> 0 | P17: PAX | Q17: ='FICHE DOSSIER'!AJ9+'FICHE DOSSIER'!AN9 -> 0
