Workbook

Sheet BON COMMANDE
A4: [ Nom de la société ] | H4: 41591
E9: Commande numéro : | H9: 2013/020/190
A12: Référence | B12: Désignation | E12: Cond. | F12: Prix Unit. H.T | G12: Qté | H12: T.V.A | I12: Total T.T.C
A14: =IFERROR(INDEX(DONNEES!A3:B1000,MATCH(B14,DONNEES!B3:B1000,0),1),"") | E14: =IFERROR(VLOOKUP(B14,DONNEES!B3:E1000,2,0),"") | F14: =IFERROR(VLOOKUP(B14,DONNEES!B3:E1000,3,0),"") | H14: =IFERROR(VLOOKUP(B14,DONNEES!B3:E1000,4,0),"")
A15: =IFERROR(INDEX(DONNEES!A4:B1001,MATCH(B15,DONNEES!B4:B1001,0),1),"") | E15: =IFERROR(VLOOKUP(B15,DONNEES!B4:E1001,2,0),"") | F15: =IFERROR(VLOOKUP(B15,DONNEES!B4:E1001,3,0),"") | H15: =IFERROR(VLOOKUP(B15,DONNEES!B4:E1001,4,0),"")
A16: =IFERROR(INDEX(DONNEES!A5:B1002,MATCH(B16,DONNEES!B5:B1002,0),1),"") | E16: =IFERROR(VLOOKUP(B16,DONNEES!B5:E1002,2,0),"") | F16: =IFERROR(VLOOKUP(B16,DONNEES!B5:E1002,3,0),"") | H16: =IFERROR(VLOOKUP(B16,DONNEES!B5:E1002,4,0),"")
A17: =IFERROR(INDEX(DONNEES!A6:B1003,MATCH(B17,DONNEES!B6:B1003,0),1),"") | E17: =IFERROR(VLOOKUP(B17,DONNEES!B6:E1003,2,0),"") | F17: =IFERROR(VLOOKUP(B17,DONNEES!B6:E1003,3,0),"") | H17: =IFERROR(VLOOKUP(B17,DONNEES!B6:E1003,4,0),"")
A18: =IFERROR(INDEX(DONNEES!A7:B1004,MATCH(B18,DONNEES!B7:B1004,0),1),"") | E18: =IFERROR(VLOOKUP(B18,DONNEES!B7:E1004,2,0),"") | F18: =IFERROR(VLOOKUP(B18,DONNEES!B7:E1004,3,0),"") | H18: =IFERROR(VLOOKUP(B18,DONNEES!B7:E1004,4,0),"")
A19: =IFERROR(INDEX(DONNEES!A8:B1005,MATCH(B19,DONNEES!B8:B1005,0),1),"") | E19: =IFERROR(VLOOKUP(B19,DONNEES!B8:E1005,2,0),"") | F19: =IFERROR(VLOOKUP(B19,DONNEES!B8:E1005,3,0),"") | H19: =IFERROR(VLOOKUP(B19,DONNEES!B8:E1005,4,0),"")
A20: =IFERROR(INDEX(DONNEES!A9:B1006,MATCH(B20,DONNEES!B9:B1006,0),1),"") | E20: =IFERROR(VLOOKUP(B20,DONNEES!B9:E1006,2,0),"") | F20: =IFERROR(VLOOKUP(B20,DONNEES!B9:E1006,3,0),"") | H20: =IFERROR(VLOOKUP(B20,DONNEES!B9:E1006,4,0),"")
A21: =IFERROR(INDEX(DONNEES!A10:B1007,MATCH(B21,DONNEES!B10:B1007,0),1),"") | E21: =IFERROR(VLOOKUP(B21,DONNEES!B10:E1007,2,0),"") | F21: =IFERROR(VLOOKUP(B21,DONNEES!B10:E1007,3,0),"") | H21: =IFERROR(VLOOKUP(B21,DONNEES!B10:E1007,4,0),"")
A22: =IFERROR(INDEX(DONNEES!A11:B1008,MATCH(B22,DONNEES!B11:B1008,0),1),"") | E22: =IFERROR(VLOOKUP(B22,DONNEES!B11:E1008,2,0),"") | F22: =IFERROR(VLOOKUP(B22,DONNEES!B11:E1008,3,0),"") | H22: =IFERROR(VLOOKUP(B22,DONNEES!B11:E1008,4,0),"")
A23: =IFERROR(INDEX(DONNEES!A12:B1009,MATCH(B23,DONNEES!B12:B1009,0),1),"") | E23: =IFERROR(VLOOKUP(B23,DONNEES!B12:E1009,2,0),"") | F23: =IFERROR(VLOOKUP(B23,DONNEES!B12:E1009,3,0),"") | H23: =IFERROR(VLOOKUP(B23,DONNEES!B12:E1009,4,0),"")
A24: =IFERROR(INDEX(DONNEES!A13:B1010,MATCH(B24,DONNEES!B13:B1010,0),1),"") | E24: =IFERROR(VLOOKUP(B24,DONNEES!B13:E1010,2,0),"") | F24: =IFERROR(VLOOKUP(B24,DONNEES!B13:E1010,3,0),"") | H24: =IFERROR(VLOOKUP(B24,DONNEES!B13:E1010,4,0),"")
A25: =IFERROR(INDEX(DONNEES!A14:B1011,MATCH(B25,DONNEES!B14:B1011,0),1),"") | E25: =IFERROR(VLOOKUP(B25,DONNEES!B14:E1011,2,0),"") | F25: =IFERROR(VLOOKUP(B25,DONNEES!B14:E1011,3,0),"") | H25: =IFERROR(VLOOKUP(B25,DONNEES!B14:E1011,4,0),"")
... A31: =IFERROR(INDEX(DONNEES!A20:B1017,MATCH(B31,DONNEES!B20:B1017,0),1),"") | E31: =IFERROR(VLOOKUP(B31,DONNEES!B20:E1017,2,0),"") | F31: =IFERROR(VLOOKUP(B31,DONNEES!B20:E1017,3,0),"") | H31: =IFERROR(VLOOKUP(B31,DONNEES!B20:E1017,4,0),"")
A36: Visa Chef de service, | D36: Visa services financiers, | G36: Sous-total HT | I36: =SUM(I14:I31) -> 0
G38: Total TVA | H38: 0.196 | I38: =I36*H38 -> 0
G40: Total TTC | I40: =SUM(I36:I39) -> 0

Sheet DONNEES
A1: BASE DE DONNEES PRODUITS
A2: Référence | B2: Désignation | C2: Cond. | D2: Prix unit H.T | E2: TVA
A3: 101908 | B3: Y. Nature | C3: 125 G | D3: 0.1 | E3: 0.055
A4: 101899 | B4: Y. Nature 0% | C4: 125 G | D4: 0,2 | E4: 0.055
A5: 101915 | B5: Y. Nature au Bifidus | C5: 125 G | D5: 0.177 | E5: 0.055
A6: 101911 | B6: Y. Nature Sucré | C6: 125 G | D6: 0.096 | E6: 0.055
A7: 101896 | B7: Y. Nature L.E. | C7: 125 G | D7: 0.118 | E7: 0.055
A8: 101905 | B8: Y. Aromatisé | C8: 125 G | D8: 0.101 | E8: 0.055
A9: 101910 | B9: Y. Fruits | C9: 125 G | D9: 0.146 | E9: 0.055
A10: 101893 | B10: Y. P.V. Nature | C10: 125 G | D10: 0.185 | E10: 0.055
A11: 105652 | B11: L.G.A. Chocolat | C11: 90 G | D11: 0.102 | E11: 0.055
A12: 101881 | B12: L.G.A. Vanille | C12: 90 G | D12: 0.102 | E12: 0.055
A13: 101878 | B13: Flan nappé | C13: 90 G | D13: 0.102 | E13: 0.055
A14: 105648 | B14: Cr. Dessert Chocolat | C14: 125 G | D14: 0.161 | E14: 0.055
A15: 106591 | B15: Cr. Dessert Vanille | C15: 125 G | D15: 0.161 | E15: 0.055
A16: 122030 | B16: Cr. Dessert Caramel | C16: 125 G | D16: 0.161 | E16: 0.055
A17: 101890 | B17: Cr. Dessert Café | C17: 125 G | D17: 0.25 | E17: 0.055
A18: 104002 | B18: Mousse Chocolat | C18: 12 CL | D18: 0.121 | E18: 0.055
A19: 104001 | B19: Liégeois Chocolat | C19: 100 G | D19: 0.143 | E19: 0.055
A20: 145874 | B20: Liégeois Café | C20: 100 G | D20: 0.143 | E20: 0.055
A21: 105526 | B21: Liégeois Vanille | C21: 100 G | D21: 0.21 | E21: 0.055
A22: 105527 | B22: Fr. Frais 0% Seau | C22: 5 KG | D22: 1.105 | E22: 0.055
A23: 105528 | B23: Fr. Frais 20% Seau | C23: 5 KG | D23: 1.124 | E23: 0.055
A24: 104226 | B24: Fr. Frais 40% Seau | C24: 5 KG | D24: 1.288 | E24: 0.055
A25: 107620 | B25: Faisselle 43% | C25: 100 G | D25: 0.29 | E25: 0.055
A26: 101858 | B26: Crème Fraiche Seau | C26: 5 L | D26: 1.861 | E26: 0.055
A27: 101841 | B27: From d'Api à la pulpe de fruits 30% x 6 | C27: 60 G | D27: 0.673 | E27: 0.055
A28: 101882 | B28: Fr. Frais Fruits 20% | C28: 100 G | D28: 0.195 | E28: 0.055
A29: 101875 | B29: Riz au Lait | C29: 100 G | D29: 0.276 | E29: 0.055
A30: 101883 | B30: Œuf au Lait | C30: 100 G | D30: 0.278 | E30: 0.055
A31: 104393 | B31: Gâteau de Riz | C31: 100 G | D31: 0.276 | E31: 0.055
A32: 103397 | B32: Gâteau de Semoule | C32: 100 G | D32: 0.276 | E32: 0.055
A33: 101875 | B33: Ile Flottante | C33: 100 G | D33: 0.51 | E33: 0.055
A34: 101909 | B34: Crème Dorée | C34: 100 G | D34: 0.278 | E34: 0.055
A35: 100996 | B35: Yaourt aux Fruits 0% | C35: 125 G | D35: 0.186 | E35: 0.055
A36: 105605 | B36: Crème dessert allégée. Vanille | C36: 125 G | D36: 0.353 | E36: 0.055
A37: 101859 | B37: Crème dessert allégée. Chocolat | C37: 125 G | D37: 0.353 | E37: 0.055
A38: 101849 | B38: 40% 6 X 60 G Nature | C38: Unit | D38: 0.682 | E38: 0.055
A39: 321544 | B39: 40 % 6 X 60 G aux Fruits | C39: Unit | D39: 0.61 | E39: 0.055
A40: 108123 | B40: Tartare Afh 70 % 16 gr | C40: Unit | D40: 0.135 | E40: 0.055
A41: 105326 | B41: Tartare 5 variétés (afh noix 3 poivres poivrons basilic) 16 gr | C41: Unit | D41: 0.135 | E41: 0.055
A42: 102727 | B42: Petits louis tartine 16gr | C42: Unit | D42: 0.123 | E42: 0.055
A43: 102718 | B43: Les amis de ptit louis 20 gr | C43: Unit | D43: 0.197 | E43: 0.055
A44: 102719 | B44: les juniors (fromages fondus) 16,66 gr 150mg calcium | C44: Unit | D44: 0.085 | E44: 0.055
A45: 108125 | B45: les juniors (fromages fondus) 25 gr carré 150mg calcium | C45: Unit | D45: 0.129 | E45: 0.055
A46: 108124 | B46: St Moret ligne et plaisir 17,8 gr | C46: Unit | D46: 0.133 | E46: 0.055
A47: 102724 | B47: Tartare Ligne & plaisir 17,8 g | C47: Unit | D47: 0.164 | E47: 0.055
A48: 104121 | B48: Mini caprice en 50gr | C48: Unit | D48: 0.469 | E48: 0.055
A49: 102741 | B49: St Moret 55 % 20 G | C49: Unit | D49: 0.138 | E49: 0.055
A50: 102726 | B50: Tartare Nature 70 % 16 G | C50: Unit | D50: 0.135 | E50: 0.055
A51: 106964 | B51: P'Tit Louis Coque 20 G 65 % + 100 Mg Calcium | C51: Unit | D51: 0.194 | E51: 0.055
... A56: 107237 | B56: Coulommier Port Cœur de Lion | C56: Unit | D56: 1.674 | E56: 0.055
A57: 3012065 | B57: Kidiboo 20 gr | C57: Unit | D57: 0.195 | E57: 0.055
A58: 104978 | B58: Tomme Noire 30 G Pbf | C58: Unit | D58: 0.174 | E58: 0.055
A59: 104972 | B59: St Paulin 30 G Pbf | C59: Unit | D59: 0.178 | E59: 0.055
A60: 104974 | B60: Mimolette 25 G Pbf | C60: Unit | D60: 0.158 | E60: 0.055
A61: 781230 | B61: Emmental 25 G Pbf | C61: Unit | D61: 0.164 | E61: 0.055
A62: 106151 | B62: Lait demi écrémé UHT | C62: L | D62: 0.484 | E62: 0.055
A63: 100356 | B63: Crème liquide UHT | C63: L | D63: 1.894 | E63: 0.055
A64: 103372 | B64: Crème épaisse sceau 5 kg | C64: kg | D64: 2.008 | E64: 0.055
A65: 103361 | B65: Crème sucrée Vanillé | C65: L | D65: 2.725 | E65: 0.055
A66: 102349 | B66: Crème Anglaise en Litre UHT | C66: L | D66: 1.286 | E66: 0.055
A67: 147892 | B67: Crème anglaise en 2 Litres | C67: L | D67: 1.805 | E67: 0.055
A68: 102641 | B68: Beurre plaquette 250 g | C68: KG | D68: 3.536 | E68: 0.055
A69: 101356 | B69: Beurre plaquette 500 g | C69: KG | D69: 3.648 | E69: 0.055
A70: 102642 | B70: Beurre demi sel plaquette 250 g | C70: KG | D70: 3.576 | E70: 0.055
A71: 106183 | B71: Beurre demi sel plaquette 500 g | C71: KG | D71: 3.648 | E71: 0.055
A72: 102688 | B72: Beurre vrac | C72: KG | D72: 3.819 | E72: 0.055
A73: 102687 | B73: Beurre Doux plaquette 10 g | C73: KG | D73: 4.534 | E73: 0.055
A74: 102694 | B74: Beurre Demi sel plaquette 10 g | C74: KG | D74: 4.534 | E74: 0.055
A75: 961245 | B75: Beurre Doux plaquette 8 g | C75: KG | D75: 4.711 | E75: 0.055
A76: 106924 | B76: Beurre Demi sel plaquette 8 g | C76: KG | D76: 0.08 | E76: 0.055
A77: 208741 | B77: Margarine 500 g | C77: KG | D77: 0.781 | E77: 0.055
A78: 100010 | B78: Oeuf dur < 53 - seau x 75 | C78: Unit | D78: 0.144 | E78: 0.055
A79: 100011 | B79: Oeuf dur sous atmosphère | C79: Unit | D79: 0.146 | E79: 0.055
A80: 800010 | B80: Oeuf dur < 53 seau x 150 | C80: Unit | D80: 0.142 | E80: 0.055
A81: 800126 | B81: Oeuf Frais 53/63 X 360 | C81: Unit | D81: 2.2 | E81: 0.055
A82: 104942 | B82: Oeuf Frais 53/63 X 90 | C82: Unit | D82: 2.3 | E82: 0.055
A83: 104371 | B83: Oeufs poches seau x 60 environ | C83: Unit | D83: 0.252 | E83: 0.055
A84: 103407 | B84: Oeufs poches sous atmosphère | C84: Unit | D84: 0.271 | E84: 0.055
A85: 100005 | B85: Blanc en neige barquette | C85: Unit | D85: 1.642 | E85: 0.055
A86: 104934 | B86: Œufs entier liquide en Litre | C86: L | D86: 2.55 | E86: 0.055
A87: 100001 | B87: Œufs entier liquide en 2 Litres | C87: L | D87: 2.6 | E87: 0.055
A88: 100008 | B88: Œufs Blanc liquide en Litre | C88: L | D88: 2.387 | E88: 0.055
A89: 101412 | B89: Œufs jaune liquide en Litre | C89: L | D89: 4.615 | E89: 0.055
A90: 562163 | B90: Mayonnaise 5 Kg | C90: KG | D90: 1.369 | E90: 0.055
A91: 103665 | B91: Bleu auvergne | C91: KG | D91: 4.415 | E91: 0.055
A92: 106966 | B92: Bleu Brique De Belmont 1.9 Kg | C92: KG | D92: 4.271 | E92: 0.055
A93: 800034 | B93: Bresse Bleu 500 G 55 % Rest | C93: KG | D93: 2.728 | E93: 0.055
A94: 800036 | B94: Brie 50 % | C94: KG | D94: 3.671 | E94: 0.055
A95: 103027 | B95: Brie 60 % coupe | C95: KG | D95: 7.138 | E95: 0.055
A96: 103027 | B96: Brie Meaux | C96: KG | D96: 9.482 | E96: 0.055
A97: 105385 | B97: Brie Melun | C97: KG | D97: 9.482 | E97: 0.055
A98: 105387 | B98: Buchette chèvre 175 g | C98: KG | D98: 1.094 | E98: 0.055
A99: 800280 | B99: Buchette Mélange 175 g | C99: KG | D99: 0.775 | E99: 0.055
A100: 106776 | B100: Camembert lait cru | C100: KG | D100: 1.355 | E100: 0.055
A101: 106777 | B101: Camenbert 45 % 240 g sans bte | C101: KG | D101: 0.869 | E101: 0.055
A102: 800037 | B102: Camenbert pasteurisé 45 % 250 g | C102: KG | D102: 0.888 | E102: 0.055
A103: 800143 | B103: Cantal doux | C103: KG | D103: 4.631 | E103: 0.055
A104: 100765 | B104: Cantal Entre Deux | C104: KG | D104: 5.46 | E104: 0.055
...
