Workbook

Sheet BON COMMANDE
A4: [ Nom de la société ] | H4: 41591
E9: Commande numéro : | H9: 2013/020/190
A12: Référence | B12: Désignation | E12: Cond. | F12: Prix Unit. H.T | G12: Qté | H12: T.V.A | I12: Total T.T.C
A14: =IFERROR(INDEX(DONNEES!A3:B1000,MATCH(B14,DONNEES!B3:B1000,0),1),"") | E14: =IFERROR(VLOOKUP(B14,DONNEES!B3:E1000,2,0),"") | F14: =IFERROR(VLOOKUP(B14,DONNEES!B3:E1000,3,0),"") | H14: =IFERROR(VLOOKUP(B14,DONNEES!B3:E1000,4,0),"")
A15: =IFERROR(INDEX(DONNEES!A4:B1001,MATCH(B15,DONNEES!B4:B1001,0),1),"") | E15: =IFERROR(VLOOKUP(B15,DONNEES!B4:E1001,2,0),"") | F15: =IFERROR(VLOOKUP(B15,DONNEES!B4:E1001,3,0),"") | H15: =IFERROR(VLOOKUP(B15,DONNEES!B4:E1001,4,0),"")
A16: =IFERROR(INDEX(DONNEES!A5:B1002,MATCH(B16,DONNEES!B5:B1002,0),1),"") | E16: =IFERROR(VLOOKUP(B16,DONNEES!B5:E1002,2,0),"") | F16: =IFERROR(VLOOKUP(B16,DONNEES!B5:E1002,3,0),"") | H16: =IFERROR(VLOOKUP(B16,DONNEES!B5:E1002,4,0),"")
A17: =IFERROR(INDEX(DONNEES!A6:B1003,MATCH(B17,DONNEES!B6:B1003,0),1),"") | E17: =IFERROR(VLOOKUP(B17,DONNEES!B6:E1003,2,0),"") | F17: =IFERROR(VLOOKUP(B17,DONNEES!B6:E1003,3,0),"") | H17: =IFERROR(VLOOKUP(B17,DONNEES!B6:E1003,4,0),"")
A18: =IFERROR(INDEX(DONNEES!A7:B1004,MATCH(B18,DONNEES!B7:B1004,0),1),"") | E18: =IFERROR(VLOOKUP(B18,DONNEES!B7:E1004,2,0),"") | F18: =IFERROR(VLOOKUP(B18,DONNEES!B7:E1004,3,0),"") | H18: =IFERROR(VLOOKUP(B18,DONNEES!B7:E1004,4,0),"")
A19: =IFERROR(INDEX(DONNEES!A8:B1005,MATCH(B19,DONNEES!B8:B1005,0),1),"") | E19: =IFERROR(VLOOKUP(B19,DONNEES!B8:E1005,2,0),"") | F19: =IFERROR(VLOOKUP(B19,DONNEES!B8:E1005,3,0),"") | H19: =IFERROR(VLOOKUP(B19,DONNEES!B8:E1005,4,0),"")
A20: =IFERROR(INDEX(DONNEES!A9:B1006,MATCH(B20,DONNEES!B9:B1006,0),1),"") | E20: =IFERROR(VLOOKUP(B20,DONNEES!B9:E1006,2,0),"") | F20: =IFERROR(VLOOKUP(B20,DONNEES!B9:E1006,3,0),"") | H20: =IFERROR(VLOOKUP(B20,DONNEES!B9:E1006,4,0),"")
A21: =IFERROR(INDEX(DONNEES!A10:B1007,MATCH(B21,DONNEES!B10:B1007,0),1),"") | E21: =IFERROR(VLOOKUP(B21,DONNEES!B10:E1007,2,0),"") | F21: =IFERROR(VLOOKUP(B21,DONNEES!B10:E1007,3,0),"") | H21: =IFERROR(VLOOKUP(B21,DONNEES!B10:E1007,4,0),"")
A22: =IFERROR(INDEX(DONNEES!A11:B1008,MATCH(B22,DONNEES!B11:B1008,0),1),"") | E22: =IFERROR(VLOOKUP(B22,DONNEES!B11:E1008,2,0),"") | F22: =IFERROR(VLOOKUP(B22,DONNEES!B11:E1008,3,0),"") | H22: =IFERROR(VLOOKUP(B22,DONNEES!B11:E1008,4,0),"")
A23: =IFERROR(INDEX(DONNEES!A12:B1009,MATCH(B23,DONNEES!B12:B1009,0),1),"") | E23: =IFERROR(VLOOKUP(B23,DONNEES!B12:E1009,2,0),"") | F23: =IFERROR(VLOOKUP(B23,DONNEES!B12:E1009,3,0),"") | H23: =IFERROR(VLOOKUP(B23,DONNEES!B12:E1009,4,0),"")
A24: =IFERROR(INDEX(DONNEES!A13:B1010,MATCH(B24,DONNEES!B13:B1010,0),1),"") | E24: =IFERROR(VLOOKUP(B24,DONNEES!B13:E1010,2,0),"") | F24: =IFERROR(VLOOKUP(B24,DONNEES!B13:E1010,3,0),"") | H24: =IFERROR(VLOOKUP(B24,DONNEES!B13:E1010,4,0),"")
A25: =IFERROR(INDEX(DONNEES!A14:B1011,MATCH(B25,DONNEES!B14:B1011,0),1),"") | E25: =IFERROR(VLOOKUP(B25,DONNEES!B14:E1011,2,0),"") | F25: =IFERROR(VLOOKUP(B25,DONNEES!B14:E1011,3,0),"") | H25: =IFERROR(VLOOKUP(B25,DONNEES!B14:E1011,4,0),"")
... A31: =IFERROR(INDEX(DONNEES!A20:B1017,MATCH(B31,DONNEES!B20:B1017,0),1),"") | E31: =IFERROR(VLOOKUP(B31,DONNEES!B20:E1017,2,0),"") | F31: =IFERROR(VLOOKUP(B31,DONNEES!B20:E1017,3,0),"") | H31: =IFERROR(VLOOKUP(B31,DONNEES!B20:E1017,4,0),"")
A36: Visa Chef de service, | D36: Visa services financiers, | G36: Sous-total HT | I36: =SUM(I14:I31) -> 0
G38: Total TVA | H38: 0.196 | I38: =I36*H38 -> 0
G40: Total TTC | I40: =SUM(I36:I39) -> 0

Sheet DONNEES
A1: BASE DE DONNEES PRODUITS
A2: Référence | B2: Désignation | C2: Cond. | D2: Prix unit H.T | E2: TVA
A3: 101908 | B3: Y. Nature | C3: 125 G | D3: 0.1 | E3: 0.055
A4: 101899 | B4: Y. Nature 0% | C4: 125 G | D4: 0,2 | E4: 0.055
A5: 101915 | B5: Y. Nature au Bifidus | C5: 125 G | D5: 0.177 | E5: 0.055
A6: 101911 | B6: Y. Nature Sucré | C6: 125 G | D6: 0.096 | E6: 0.055
A7: 101896 | B7: Y. Nature L.E. | C7: 125 G | D7: 0.118 | E7: 0.055
A8: 101905 | B8: Y. Aromatisé | C8: 125 G | D8: 0.101 | E8: 0.055
A9: 101910 | B9: Y. Fruits | C9: 125 G | D9: 0.146 | E9: 0.055
A10: 101893 | B10: Y. P.V. Nature | C10: 125 G | D10: 0.185 | E10: 0.055
A11: 105652 | B11: L.G.A. Chocolat | C11: 90 G | D11: 0.102 | E11: 0.055
A12: 101881 | B12: L.G.A. Vanille | C12: 90 G | D12: 0.102 | E12: 0.055
A13: 101878 | B13: Flan nappé | C13: 90 G | D13: 0.102 | E13: 0.055
A14: 105648 | B14: Cr. Dessert Chocolat | C14: 125 G | D14: 0.161 | E14: 0.055
A15: 106591 | B15: Cr. Dessert Vanille | C15: 125 G | D15: 0.161 | E15: 0.055
A16: 122030 | B16: Cr. Dessert Caramel | C16: 125 G | D16: 0.161 | E16: 0.055
A17: 101890 | B17: Cr. Dessert Café | C17: 125 G | D17: 0.25 | E17: 0.055
A18: 104002 | B18: Mousse Chocolat | C18: 12 CL | D18: 0.121 | E18: 0.055
A19: 104001 | B19: Liégeois Chocolat | C19: 100 G | D19: 0.143 | E19: 0.055
A20: 145874 | B20: Liégeois Café | C20: 100 G | D20: 0.143 | E20: 0.055
A21: 105526 | B21: Liégeois Vanille | C21: 100 G | D21: 0.21 | E21: 0.055
A22: 105527 | B22: Fr. Frais 0% Seau | C22: 5 KG | D22: 1.105 | E22: 0.055
A23: 105528 | B23: Fr. Frais 20% Seau | C23: 5 KG | D23: 1.124 | E23: 0.055
A24: 104226 | B24: Fr. Frais 40% Seau | C24: 5 KG | D24: 1.288 | E24: 0.055
A25: 107620 | B25: Faisselle 43% | C25: 100 G | D25: 0.29 | E25: 0.055
A26: 101858 | B26: Crème Fraiche Seau | C26: 5 L | D26: 1.861 | E26: 0.055
A27: 101841 | B27: From d'Api à la pulpe de fruits 30% x 6 | C27: 60 G | D27: 0.673 | E27: 0.055
A28: 101882 | B28: Fr. Frais Fruits 20% | C28: 100 G | D28: 0.195 | E28: 0.055
A29: 101875 | B29: Riz au Lait | C29: 100 G | D29: 0.276 | E29: 0.055
A30: 101883 | B30: Œuf au Lait | C30: 100 G | D30: 0.278 | E30: 0.055
A31: 104393 | B31: Gâteau de Riz | C31: 100 G | D31: 0.276 | E31: 0.055
A32: 103397 | B32: Gâteau de Semoule | C32: 100 G | D32: 0.276 | E32: 0.055
A33: 101875 | B33: Ile Flottante | C33: 100 G | D33: 0.51 | E33: 0.055
A34: 101909 | B34: Crème Dorée | C34: 100 G | D34: 0.278 | E34: 0.055
A35: 100996 | B35: Yaourt aux Fruits 0% | C35: 125 G | D35: 0.186 | E35: 0.055
A36: 105605 | B36: Crème dessert allégée. Vanille | C36: 125 G | D36: 0.353 | E36: 0.055
A37: 101859 | B37: Crème dessert allégée. Chocolat | C37: 125 G | D37: 0.353 | E37: 0.055
A38: 101849 | B38: 40% 6 X 60 G Nature | C38: Unit | D38: 0.682 | E38: 0.055
A39: 321544 | B39: 40 % 6 X 60 G aux Fruits | C39: Unit | D39: 0.61 | E39: 0.055
A40: 108123 | B40: Tartare Afh 70 % 16 gr | C40: Unit | D40: 0.135 | E40: 0.055
...
