Workbook

Sheet Classement général
A4: Rang | B4: Joueur | C4: Pts | D4: Victoire | E4: défaite
A5: =RANK(C5,$C$4:$C$11,0) -> 1 | B5: G | C5: =VLOOKUP($B5,'Journée 1'!$B$4:$E$11,2,0)+VLOOKUP($B5,'Journée 2'!$B$4:$E$11,2,0)+VLOOKUP($B5,'Journée 3'!$B$4:$E$11,2,0) -> 21 | D5: =VLOOKUP($B5,'Journée 1'!$B$4:$E$11,3,0)+VLOOKUP($B5,'Journée 2'!$B$4:$E$11,3,0)+VLOOKUP($B5,'Journée 3'!$B$4:$E$11,3,0) -> 21 | E5: =VLOOKUP($B5,'Journée 1'!$B$4:$E$11,4,0)+VLOOKUP($B5,'Journée 2'!$B$4:$E$11,4,0)+VLOOKUP($B5,'Journée 3'!$B$4:$E$11,4,0) -> 6
A6: =RANK(C6,$C$4:$C$11,0) -> 2 | B6: E | C6: =VLOOKUP($B6,'Journée 1'!$B$4:$E$11,2,0)+VLOOKUP($B6,'Journée 2'!$B$4:$E$11,2,0)+VLOOKUP($B6,'Journée 3'!$B$4:$E$11,2,0) -> 17 | D6: =VLOOKUP($B6,'Journée 1'!$B$4:$E$11,3,0)+VLOOKUP($B6,'Journée 2'!$B$4:$E$11,3,0)+VLOOKUP($B6,'Journée 3'!$B$4:$E$11,3,0) -> 17 | E6: =VLOOKUP($B6,'Journée 1'!$B$4:$E$11,4,0)+VLOOKUP($B6,'Journée 2'!$B$4:$E$11,4,0)+VLOOKUP($B6,'Journée 3'!$B$4:$E$11,4,0) -> 10
A7: =RANK(C7,$C$4:$C$11,0) -> 2 | B7: H | C7: =VLOOKUP($B7,'Journée 1'!$B$4:$E$11,2,0)+VLOOKUP($B7,'Journée 2'!$B$4:$E$11,2,0)+VLOOKUP($B7,'Journée 3'!$B$4:$E$11,2,0) -> 17 | D7: =VLOOKUP($B7,'Journée 1'!$B$4:$E$11,3,0)+VLOOKUP($B7,'Journée 2'!$B$4:$E$11,3,0)+VLOOKUP($B7,'Journée 3'!$B$4:$E$11,3,0) -> 17 | E7: =VLOOKUP($B7,'Journée 1'!$B$4:$E$11,4,0)+VLOOKUP($B7,'Journée 2'!$B$4:$E$11,4,0)+VLOOKUP($B7,'Journée 3'!$B$4:$E$11,4,0) -> 10
A8: =RANK(C8,$C$4:$C$11,0) -> 4 | B8: F | C8: =VLOOKUP($B8,'Journée 1'!$B$4:$E$11,2,0)+VLOOKUP($B8,'Journée 2'!$B$4:$E$11,2,0)+VLOOKUP($B8,'Journée 3'!$B$4:$E$11,2,0) -> 15 | D8: =VLOOKUP($B8,'Journée 1'!$B$4:$E$11,3,0)+VLOOKUP($B8,'Journée 2'!$B$4:$E$11,3,0)+VLOOKUP($B8,'Journée 3'!$B$4:$E$11,3,0) -> 15 | E8: =VLOOKUP($B8,'Journée 1'!$B$4:$E$11,4,0)+VLOOKUP($B8,'Journée 2'!$B$4:$E$11,4,0)+VLOOKUP($B8,'Journée 3'!$B$4:$E$11,4,0) -> 12
A9: =RANK(C9,$C$4:$C$11,0) -> 5 | B9: C | C9: =VLOOKUP($B9,'Journée 1'!$B$4:$E$11,2,0)+VLOOKUP($B9,'Journée 2'!$B$4:$E$11,2,0)+VLOOKUP($B9,'Journée 3'!$B$4:$E$11,2,0) -> 12 | D9: =VLOOKUP($B9,'Journée 1'!$B$4:$E$11,3,0)+VLOOKUP($B9,'Journée 2'!$B$4:$E$11,3,0)+VLOOKUP($B9,'Journée 3'!$B$4:$E$11,3,0) -> 12 | E9: =VLOOKUP($B9,'Journée 1'!$B$4:$E$11,4,0)+VLOOKUP($B9,'Journée 2'!$B$4:$E$11,4,0)+VLOOKUP($B9,'Journée 3'!$B$4:$E$11,4,0) -> 15
A10: =RANK(C10,$C$4:$C$11,0) -> 6 | B10: A | C10: =VLOOKUP($B10,'Journée 1'!$B$4:$E$11,2,0)+VLOOKUP($B10,'Journée 2'!$B$4:$E$11,2,0)+VLOOKUP($B10,'Journée 3'!$B$4:$E$11,2,0) -> 10 | D10: =VLOOKUP($B10,'Journée 1'!$B$4:$E$11,3,0)+VLOOKUP($B10,'Journée 2'!$B$4:$E$11,3,0)+VLOOKUP($B10,'Journée 3'!$B$4:$E$11,3,0) -> 10 | E10: =VLOOKUP($B10,'Journée 1'!$B$4:$E$11,4,0)+VLOOKUP($B10,'Journée 2'!$B$4:$E$11,4,0)+VLOOKUP($B10,'Journée 3'!$B$4:$E$11,4,0) -> 17
A11: =RANK(C11,$C$4:$C$11,0) -> 7 | B11: B | C11: =VLOOKUP($B11,'Journée 1'!$B$4:$E$11,2,0)+VLOOKUP($B11,'Journée 2'!$B$4:$E$11,2,0)+VLOOKUP($B11,'Journée 3'!$B$4:$E$11,2,0) -> 8 | D11: =VLOOKUP($B11,'Journée 1'!$B$4:$E$11,3,0)+VLOOKUP($B11,'Journée 2'!$B$4:$E$11,3,0)+VLOOKUP($B11,'Journée 3'!$B$4:$E$11,3,0) -> 8 | E11: =VLOOKUP($B11,'Journée 1'!$B$4:$E$11,4,0)+VLOOKUP($B11,'Journée 2'!$B$4:$E$11,4,0)+VLOOKUP($B11,'Journée 3'!$B$4:$E$11,4,0) -> 19
A12: =RANK(C12,$C$4:$C$11,0) -> 7 | B12: D | C12: =VLOOKUP($B12,'Journée 1'!$B$4:$E$11,2,0)+VLOOKUP($B12,'Journée 2'!$B$4:$E$11,2,0)+VLOOKUP($B12,'Journée 3'!$B$4:$E$11,2,0) -> 8 | D12: =VLOOKUP($B12,'Journée 1'!$B$4:$E$11,3,0)+VLOOKUP($B12,'Journée 2'!$B$4:$E$11,3,0)+VLOOKUP($B12,'Journée 3'!$B$4:$E$11,3,0) -> 8 | E12: =VLOOKUP($B12,'Journée 1'!$B$4:$E$11,4,0)+VLOOKUP($B12,'Journée 2'!$B$4:$E$11,4,0)+VLOOKUP($B12,'Journée 3'!$B$4:$E$11,4,0) -> 19

Sheet Journée 1
A3: Rang | B3: Joueur | C3: Pts | D3: Victoire | E3: défaite
A4: =RANK(C4,$C$4:$C$11,0) -> 1 | B4: H | C4: 8 | D4: 8 | E4: 1
A5: =RANK(C5,$C$4:$C$11,0) -> 2 | B5: G | C5: 7 | D5: 7 | E5: 2
A6: =RANK(C6,$C$4:$C$11,0) -> 3 | B6: F | C6: 6 | D6: 6 | E6: 3
A7: =RANK(C7,$C$4:$C$11,0) -> 4 | B7: E | C7: 5 | D7: 5 | E7: 4
A8: =RANK(C8,$C$4:$C$11,0) -> 5 | B8: D | C8: 4 | D8: 4 | E8: 5
A9: =RANK(C9,$C$4:$C$11,0) -> 6 | B9: C | C9: 3 | D9: 3 | E9: 6
A10: =RANK(C10,$C$4:$C$11,0) -> 7 | B10: B | C10: 2 | D10: 2 | E10: 7
A11: =RANK(C11,$C$4:$C$11,0) -> 8 | B11: A | C11: 1 | D11: 1 | E11: 8

Sheet Journée 2
A3: Rang | B3: Joueur | C3: Pts | D3: Victoire | E3: défaite
A4: =RANK(C4,$C$4:$C$11,0) -> 1 | B4: C | C4: 8 | D4: 8 | E4: 1
A5: =RANK(C5,$C$4:$C$11,0) -> 2 | B5: E | C5: 7 | D5: 7 | E5: 2
A6: =RANK(C6,$C$4:$C$11,0) -> 3 | B6: G | C6: 6 | D6: 6 | E6: 3
A7: =RANK(C7,$C$4:$C$11,0) -> 4 | B7: A | C7: 5 | D7: 5 | E7: 4
A8: =RANK(C8,$C$4:$C$11,0) -> 5 | B8: B | C8: 4 | D8: 4 | E8: 5
A9: =RANK(C9,$C$4:$C$11,0) -> 6 | B9: H | C9: 3 | D9: 3 | E9: 6
A10: =RANK(C10,$C$4:$C$11,0) -> 7 | B10: F | C10: 2 | D10: 2 | E10: 7
A11: =RANK(C11,$C$4:$C$11,0) -> 8 | B11: D | C11: 1 | D11: 1 | E11: 8

Sheet Journée 3
A3: Rang | B3: Joueur | C3: Pts | D3: Victoire | E3: défaite
A4: =RANK(C4,$C$4:$C$11,0) -> 1 | B4: G | C4: 8 | D4: 8 | E4: 1
A5: =RANK(C5,$C$4:$C$11,0) -> 2 | B5: F | C5: 7 | D5: 7 | E5: 2
A6: =RANK(C6,$C$4:$C$11,0) -> 3 | B6: H | C6: 6 | D6: 6 | E6: 3
A7: =RANK(C7,$C$4:$C$11,0) -> 4 | B7: E | C7: 5 | D7: 5 | E7: 4
A8: =RANK(C8,$C$4:$C$11,0) -> 5 | B8: A | C8: 4 | D8: 4 | E8: 5
A9: =RANK(C9,$C$4:$C$11,0) -> 6 | B9: D | C9: 3 | D9: 3 | E9: 6
A10: =RANK(C10,$C$4:$C$11,0) -> 7 | B10: B | C10: 2 | D10: 2 | E10: 7
A11: =RANK(C11,$C$4:$C$11,0) -> 8 | B11: C | C11: 1 | D11: 1 | E11: 8
