Workbook

Sheet BASE
A1: Date de | B1: 0.5 | C1: 1 | D1: 2 | E1: 50 | F1: Total | H1: Date | I1: 01.40.10.20/23 0.5 | J1: 01.40.10.20/23 1.0 | K1: 01.10.10.10/11 | L1: 01.10.10.30/31 2.00 | M1: 01.10.10.30/31 0.00 | N1: Total | O1: 01.10.20.30/33 | P1: 01.10.30.20/23 | Q1: 01.10.40.10/11 | R1: 01.10.40.30/31 | S1: 01.10.40.30/32 | T1: 01.10.40.30/35 | U1: 01.20.10.30/35 | V1: 01.20.20.10/11 | W1: 01.20.30.10/11 | X1: 01.20.30.10/12 | Y1: 01.30.10.10/14 | Z1: 01.30.10.10/15 | AA1: 01.30.10.20/22 | AB1: 01.30.10.20/23 | AC1: 01.30.20.10/211 | AD1: 01.40.10.10/11 | AE1: 01.40.10.10/12 | AF1: 01.40.10.10/13 | AG1: 01.40.10.10/15 | AH1: 01.40.10.10/18 | AI1: 01.40.10.20/23 | AJ1: 01.40.10.20/26 | AK1: 01.40.10.20/28 | AL1: 01.40.10.20/37 | AM1: 01.40.10.20/38 | AN1: 01.40.10.30/35 | AO1: 01.40.10.30/37 | AP1: 01.40.20.10/11 | AQ1: 01.40.20.2022 | AR1: 01.40.20.30/31 | AS1: 01.40.20.30/33 | AT1: 01.50.30.20 | AU1: 01.50.30.40 | AV1: S.M.B | AW1: E.N | AX1: T.S | AY1: Total quittances | AZ1: enregistrement des quittances de decharge | BC1: Bovin n | BD1: Bovin k | BE1: Camlin n | BF1: Camlin k | BG1: Ovin n | BH1: Ovin n | BI1: Caprin n | BJ1: Caprin k
A2: retrait | I2: T0.50 | J2: T1.00 | K2: Lég.Sig | L2: A.E.R | M2: E. civil | P2: 30.20/23 | Q2: 40.10/11 | R2: 40.30/31 | S2: 40.30/32 | T2: 40.30/35 | U2: 10.30/35 | V2: 20.10/11 | W2: 30.10/11 | X2: 30.10/12 | Y2: 10.10/14 | Z2: 10.10/15 | AA2: 10.20/22 | AB2: 10.20/23 | AC2: 20.10/11 | AD2: 10.10/11 | AE2: 10.10/12 | AF2: 10.10/13 | AG2: 10.10/15 | AH2: 10.10/18 | AI2: 10.20/23 | AJ2: 10.20/26 | AK2: 10.20/28 | AL2: 10.20/37 | AM2: 10.20/38 | AN2: 10.30/35 | AO2: 10.30.37 | AP2: 20.10/11 | AQ2: 20,20/22 | AR2: 20.30/31 | AS2: 20.30/33 | AT2: 30.2 | AU2: 30.4 | AZ2: du Receveur Municipal | BC2: Nombre | BD2: Kgs | BE2: Nombre | BF2: Kgs | BG2: Nombre | BH2: Kgs | BI2: Nombre | BJ2: Kgs
F3: 0 | G3: 173 | H3: 41912 | I3: 22 | L3: 2000 | N3: 2022 | O3: 160 | Q3: 206.6 | S3: 50 | Z3: 4100 | AA3: 300 | AH3: 133.4 | AJ3: 1575 | AL3: 720 | AM3: 1800 | AN3: 12 | AO3: 60 | AP3: 1820 | AS3: 1330 | AV3: 53.36 | AW3: 13.34 | AX3: 318.16 | AY3: 12651.86 | BB3: 14673.86 | BC3: 1 | BD3: 131 | BE3: 2 | BF3: 173 | BG3: 14 | BH3: 199 | BI3: 20 | BJ3: 164
G4: 1 | H4: 42737 | K4: 5000 | L4: 7000 | M4: 500 | N4: 12500 | P4: 100 | Q4: 11644.9 | R4: 85.74 | Y4: 16200 | Z4: 34780 | AA4: 8580 | AB4: 6657 | AD4: 1825 | AH4: 1189 | AJ4: 3076.5 | AL4: 1150 | AM4: 1800 | AN4: 93.9 | AO4: 469.5 | AP4: 3840 | AS4: 3150 | AV4: 475.6 | AW4: 118.9 | AX4: 2772.26 | AY4: 98008.3 | BB4: 110508.3 | BC4: 18 | BD4: 2354 | BE4: 18 | BF4: 1649 | BG4: 62 | BH4: 613 | BI4: 179 | BJ4: 1329

Sheet Feuil2
A1: ROYAUME DU MAROC | I1: EXERCICE | J1: 2017
A2: MINISTERE DE L'INTERIEUR
A3: REGION GUELMIM-OUADNOUN
A4: PROVINCE DE TAN TAN
A5: COMMUNE TAN TAN
B7: bordereau de versement des recettes effectées par quittances
B8: pendant la periode du: | E8: 41912 | G8: au: | H8: 42765
B11: Rubrique | C11: Nature des recettes | I11: Montant
B12: Budgetaire
B13: 01.10.20.30/33 | C13: Frais d'enquête de commodo et d'incommodo | I13: 0
B14: 01.10.30.20/23 | C14: Pt.de vente se plans,d'imprimés et de dossiers de concours | I14: 0
B15: 01.10.40.10/11 | C15: Pt.des amendes fiscaleset de transaction en matiére fiscale | I15: 0
B16: 01.10.40.30/31 | C16: Ristourne sur les recettes réalisées pour le compte des tiers | I16: 0
B17: 01.10.40.30/32 | C17: Droit de fourriére | I17: 0
B19: 01.20.30.10/11 | C19: Taxe de séjour | I19: 0
B21: 01.30.10.10/14 | C21: Taxe sur les terrains non battis | I21: 0
B22: 01.30.10.10/15 | C22: Taxe sur les opérations de construction | I22: 0
B23: 01.30.10.20/22 | C23: R.O.T du D.P.C pour usage lié à la construction | I23: 0
B24: 01.30.10.20/23 | C24: Immeuble à usage d'habitaion | I24: 0
B25: 01.30.20.10/11 | C25: Taxe sur la dégradation des chaussées | I25: 0
B27: 01.40.10.10/11 | C27: Taxe sur les debits de boisson | I27: 0
... B41: 01.50.30.40 | C41: Recettes imprévues et diverses | I41: 0
B43: Total…. | I43: 0
E45: Arrêté le présen bordereau à la somme de:
G48: Tan Tan;le:
B50: Le Régisseur | G50: Le President du
B51: communal | G51: Conseil Communal
A60: ROYAUME DU MAROC | C60: 01.40.10.20/23 0.5 | E60: 22 | I60: EXERCICE | J60: 2017
A61: MINISTERE DE L'INTERIEUR | C61: 01.40.10.20/23 1.0 | E61: 100
A62: REGION GUELMIM-OUADNOUN | C62: 01.10.10.30/31 2.00 | E62: 28000
A63: PROVINCE DE TAN TAN | C63: 01.10.10.30/31 0.00 | E63: 1750
A64: COMMUNE TAN TAN | C64: 01.10.10.10/11 | E64: 31000
C71: Bordereau de versement des recettes effectuées
B72: par tickets pendant la peride du : | G72: 41912 | I72: au; | J72: 42765
A77: Nature des recettes | C77: 0.5 | E77: 1 | G77: 2 | I77: 50
C78: nombre | D78: valeur | E78: nombre | F78: valeur | G78: nombre | H78: valeur | I78: nombre | J78: valeur
A79: Droit de marché | B79: 01.40.10.20/23 | C79: 44 | D79: 22 | E79: 100 | F79: 100
A80: Droit d'état civil | B80: 01.10.10.30/31 | G80: 14000 | H80: 28000 | I80: 35 | J80: 1750
A81: Droit de légalisaion | B81: 01.10.10.10/11 | G81: 15500 | H81: 31000
A82: Totaux | C82: 44 | D82: 22 | E82: 100 | F82: 100 | G82: 29500 | H82: 59000 | I82: 35 | J82: 1750
A84: Total général | C84: 60872
D90: Arrêté le présen bordereau à la somme de:
A91: soixante mille huit cent soixante douze DH,
F94: Tan Tan;le:
A96: Le Régisseur | F96: Le President du
A97: communal | F97: Conseil Communal
A122: ROYAUME DU MAROC | C122: S.M.B | E122: 2695.68 | I122: EXERCICE | J122: 2017
A123: MINISTERE DE L'INTERIEUR
A124: REGION GUELMIM-OUED NOUNE
A125: PROVINCE DE TAN TAN
A126: COMMUNE TAN TAN
C133: Etat des recettes de la surtaxe
C134: d'abattage en faveur de la S.M.B.
B135: pendant la peride du : | E135: 41912 | G135: au; | H135: 42765
C143: NOMBRE DE KGS | E143: DROIT | F143: MONANT | H143: MONANT DE LA
E144: DE TAXE | F144: PERCU | H144: SURTAXE 80%
C145: 33696 | E145: 0.1 | F145: 3369.6 | H145: 2695.68
E150: Arrêté le présen bordereau à la somme de:
B151: deux mille six cent quatre-vingt quinze DH, soixante huit centimes
G159: Tan Tan;le:
B161: Le Régésseur | G161: Le President du
B162: communal | G162: Conseil Communal
A184: ROYAUME DU MAROC | C184: E.N | E184: 673.92 | I184: EXERCICE | J184: 2017 | K184: Bovin n | L184: 90
A185: MINISTERE DE L'INTERIEUR
A186: REGION GUELMIM-OUED NOUNE | DJ186: Z
A187: PROVINCE DE TAN TAN
A188: COMMUNE TAN TAN
C197: Etat des recettes de la surtaxe
C198: d'abattage en faveur de la S.M.B.
B199: pendant la peride du : | E199: 41912 | G199: au; | H199: 42765
C204: NOMBRE DE KGS | E204: DROIT | F204: MONANT | H204: MONANT DE LA
E205: DE TAXE | F205: PERCU | H205: SURTAXE 20%
C206: 33696 | E206: 0.1 | F206: 3369.6 | H206: 673.92
E211: Arrêté le présen bordereau à la somme de:
B212: six cent soixante treize DH, quatre-vingt douze centimes
G220: Tan Tan;le:
B222: Le Régésseur | G222: Le President du
B223: communal | G223: Conseil communal
A246: ROYAUME DU MAROC | C246: Bovin n | E246: 90 | I246: Exercice: | J246: 2017 | K246: Bovin k | M246: Camlin k | Q246: Caprin k
A247: MINISTERE DE L'INTERIEUR | C247: Camlin n | E247: 113
A248: REGION GUELMIM-OUADNOUN | C248: Ovin n | E248: 4147
A249: PROVINCE DE TAN TAN | C249: Caprin n | E249: 1004
A250: COMMUNE TAN TAN
C259: TAXE SUR LES ANIMAUX ABATTUS
C260: DANS LES ABATTOIRS CONTROLES
B262: Au livre journal les recees effecuées au compant au titre de l'exercice | I262: 2017
B263: durant la periode du: | D263: 41912 | F263: au: | G263: 42765
B264: exécution de disposition de la circulaire | F264: n° 186/D.F.L du mois d'Aôut 1988.
B268: NATURE DE BETAIL | D268: NOMBRE | E268: DROIT DE | F268: MONTANT | H268: PART DE
E269: TAXE | F269: PERCU | H269: l'ETAT 97%
B270: BOVIN | D270: 90 | E270: 40 | F270: 3600 | H270: 3492
B271: CAMLIN | D271: 113 | E271: 35 | F271: 3955 | H271: 3836.35
B272: CAPRIN | D272: 4147 | E272: 6 | F272: 24882 | H272: 24135.54
B273: OVIN | D273: 1004 | E273: 7 | F273: 7028 | H273: 6817.16
B275: TOTAL | F275: 0
E280: Le present etat est arrêté à la somme de:
E286: Tan Tan;le:
B291: Cerifie exacte par | F291: Le President du
B292: le Régisseur | F292: Conseil Communal

Sheet Feuil3
B1: Etat de versement des recettes effectuées pendant lla periode :
B2: du: | C2: 41334 | D2: au: | E2: 42823
A3: Nature de | B3: Rubrique | C3: Nature des Recettes | I3: Montant
A4: versement | B4: Budgetaire
A5: Ticket | B5: 01.10.10.10/11 | C5: Droit de légalisation des singuatures | I5: =SUMPRODUCT((BASE!H3:H20>Feuil3!C2)*(BASE!H3:H20<Feuil3!E2)*BASE!K3:K20) -> 5000
B6: 01.10.10.30/31 | C6: Droit d'etat civil | I6: =SUMPRODUCT((BASE!H3:H20>Feuil3!C2)*(BASE!H3:H20<Feuil3!E2)*BASE!M3:M20) -> 500
B7: 01-40-10-20/24 | C7: Droit de marché | I7: =SUMPRODUCT((BASE!H3:H20>Feuil3!C2)*(BASE!H3:H20<Feuil3!E2)*BASE!L3:L20) -> 9000
B8: Total (A)…. | I8: =SUM(I5:I7) -> 14500
A9: Quitancier | B9: 01.10.20.30/33 | C9: Frais d'enquête de commodo et d'incommodo | I9: =SUMPRODUCT((BASE!$A$3:$BJ$65000)*(BASE!$A$1:$BJ$1= B9)*(BASE!$H$3:$H$65000>=C6)*(BASE!$H$3:$H$65000<=E6)) -> 0
B10: 01.10.30.20/23 | C10: Pt.de vente se plans,d'imprimés et de dossiers de concours | I10: =SUMPRODUCT((BASE!$A$3:$BJ$65000)*(BASE!$A$1:$BJ$1= B10)*(BASE!$H$3:$H$65000>=C7)*(BASE!$H$3:$H$65000<=E7)) -> 0
B11: 01.10.40.10/11 | C11: Pt.des amendes fiscaleset de transaction en matiére fiscale | I11: =SUMPRODUCT((BASE!$A$3:$BJ$65000)*(BASE!$A$1:$BJ$1= B11)*(BASE!$H$3:$H$65000>=C8)*(BASE!$H$3:$H$65000<=E8)) -> 0
B12: 01.10.40.30/31 | C12: Ristourne sur les recettes réalisées pour le compte des tiers | I12: =SUMPRODUCT((BASE!$A$3:$BJ$65000)*(BASE!$A$1:$BJ$1= B12)*(BASE!$H$3:$H$65000>=C9)*(BASE!$H$3:$H$65000<=E9)) -> 0
B13: 01.10.40.30/32 | C13: Droit de fourriére | I13: =SUMPRODUCT((BASE!$A$3:$BJ$65000)*(BASE!$A$1:$BJ$1= B13)*(BASE!$H$3:$H$65000>=C10)*(BASE!$H$3:$H$65000<=E10)) -> 0
B14: 01.20.30.10/11 | C14: Taxe de séjour | I14: =SUMPRODUCT((BASE!$A$3:$BJ$65000)*(BASE!$A$1:$BJ$1= B14)*(BASE!$H$3:$H$65000>=C11)*(BASE!$H$3:$H$65000<=E11)) -> 0
B15: 01.30.10.10/14 | C15: Taxe sur les terrains non battis | I15: =SUMPRODUCT((BASE!$A$3:$BJ$65000)*(BASE!$A$1:$BJ$1= B15)*(BASE!$H$3:$H$65000>=C12)*(BASE!$H$3:$H$65000<=E12)) -> 0
B16: 01.30.10.10/15 | C16: Taxe sur les opérations de construction | I16: =SUMPRODUCT((BASE!$A$3:$BJ$65000)*(BASE!$A$1:$BJ$1= B16)*(BASE!$H$3:$H$65000>=C13)*(BASE!$H$3:$H$65000<=E13)) -> 0
B17: 01.30.10.20/22 | C17: R.O.T du D.P.C pour usage lié à la construction | I17: =SUMPRODUCT((BASE!$A$3:$BJ$65000)*(BASE!$A$1:$BJ$1= B17)*(BASE!$H$3:$H$65000>=C14)*(BASE!$H$3:$H$65000<=E14)) -> 0
B18: 01.30.10.20/23 | C18: Immeuble à usage d'habitaion | I18: =SUMPRODUCT((BASE!$A$3:$BJ$65000)*(BASE!$A$1:$BJ$1= B18)*(BASE!$H$3:$H$65000>=C15)*(BASE!$H$3:$H$65000<=E15)) -> 0
B19: 01.30.20.10/11 | C19: Taxe sur la dégradation des chaussées | I19: =SUMPRODUCT((BASE!$A$3:$BJ$65000)*(BASE!$A$1:$BJ$1= B19)*(BASE!$H$3:$H$65000>=C16)*(BASE!$H$3:$H$65000<=E16)) -> 0
B20: 01.40.10.10/11 | C20: Taxe sur les debits de boisson | I20: =SUMPRODUCT((BASE!$A$3:$BJ$65000)*(BASE!$A$1:$BJ$1= B20)*(BASE!$H$3:$H$65000>=C17)*(BASE!$H$3:$H$65000<=E17)) -> 0
B21: 01.40.10.10/18 | C21: Taxe principale d'abattage | I21: =SUMPRODUCT((BASE!$A$3:$BJ$65000)*(BASE!$A$1:$BJ$1= B21)*(BASE!$H$3:$H$65000>=C18)*(BASE!$H$3:$H$65000<=E18)) -> 0
... B35: CAS | C35: E.N | I35: =SUMPRODUCT((BASE!$A$3:$BJ$65000)*(BASE!$A$1:$BJ$1= B35)*(BASE!$H$3:$H$65000>=C32)*(BASE!$H$3:$H$65000<=E32)) -> 0
B36: Total (B)…. | I36: =SUM(I9:I35) -> 0
B37: Total (A+B)…. | I37: =+I38 -> 0
B38: CAS | C38: Taxe speciale | I38: =SUMPRODUCT((BASE!$A$3:$BJ$65000)*(BASE!$A$1:$BJ$1= B38)*(BASE!$H$3:$H$65000>=C35)*(BASE!$H$3:$H$65000<=E35)) -> 0
B39: Total…. | I39: =I38+I37 -> 0
