Workbook
Name Ref: OFFSET('Grille tarifs'!$A$3,,,COUNTA('Grille tarifs'!$A:$A)-2)

Sheet Grille tarifs
A1: TARIFS
A2: Réf Produit | B2: Quantité minimum | C2: Prix ht/lot | D2: Bonus/lot
A3: Lampe | B3: 10 | C3: 1000 | D3: 2
A4: Chaise | B4: 20 | C4: 500 | D4: 5
A5: Bureau | B5: 30 | C5: 2000 | D5: 3
A31: TOTAL

Sheet commandes janvier
A1: Commandes janvier
A2: Réf Produit | B2: Quantité minimum | C2: Prix ht/lot | D2: Bonus/lot
B3: =IFERROR(VLOOKUP(A3,'Grille tarifs'!$A$3:$D$29,2),"") | C3: =IFERROR(VLOOKUP(A3,'Grille tarifs'!$A$3:$D$29,3),"") | D3: =IFERROR(VLOOKUP(A3,'Grille tarifs'!$A$3:$D$29,4),"")
B4: =IFERROR(VLOOKUP(A4,'Grille tarifs'!$A$3:$D$29,2),"") | C4: =IFERROR(VLOOKUP(A4,'Grille tarifs'!$A$3:$D$29,3),"") | D4: =IFERROR(VLOOKUP(A4,'Grille tarifs'!$A$3:$D$29,4),"")
B5: =IFERROR(VLOOKUP(A5,'Grille tarifs'!$A$3:$D$29,2),"") | C5: =IFERROR(VLOOKUP(A5,'Grille tarifs'!$A$3:$D$29,3),"") | D5: =IFERROR(VLOOKUP(A5,'Grille tarifs'!$A$3:$D$29,4),"")
B6: =IFERROR(VLOOKUP(A6,'Grille tarifs'!$A$3:$D$29,2),"") | C6: =IFERROR(VLOOKUP(A6,'Grille tarifs'!$A$3:$D$29,3),"") | D6: =IFERROR(VLOOKUP(A6,'Grille tarifs'!$A$3:$D$29,4),"")
B7: =IFERROR(VLOOKUP(A7,'Grille tarifs'!$A$3:$D$29,2),"") | C7: =IFERROR(VLOOKUP(A7,'Grille tarifs'!$A$3:$D$29,3),"") | D7: =IFERROR(VLOOKUP(A7,'Grille tarifs'!$A$3:$D$29,4),"")
B8: =IFERROR(VLOOKUP(A8,'Grille tarifs'!$A$3:$D$29,2),"") | C8: =IFERROR(VLOOKUP(A8,'Grille tarifs'!$A$3:$D$29,3),"") | D8: =IFERROR(VLOOKUP(A8,'Grille tarifs'!$A$3:$D$29,4),"")
B9: =IFERROR(VLOOKUP(A9,'Grille tarifs'!$A$3:$D$29,2),"") | C9: =IFERROR(VLOOKUP(A9,'Grille tarifs'!$A$3:$D$29,3),"") | D9: =IFERROR(VLOOKUP(A9,'Grille tarifs'!$A$3:$D$29,4),"")
B10: =IFERROR(VLOOKUP(A10,'Grille tarifs'!$A$3:$D$29,2),"") | C10: =IFERROR(VLOOKUP(A10,'Grille tarifs'!$A$3:$D$29,3),"") | D10: =IFERROR(VLOOKUP(A10,'Grille tarifs'!$A$3:$D$29,4),"")
B11: =IFERROR(VLOOKUP(A11,'Grille tarifs'!$A$3:$D$29,2),"") | C11: =IFERROR(VLOOKUP(A11,'Grille tarifs'!$A$3:$D$29,3),"") | D11: =IFERROR(VLOOKUP(A11,'Grille tarifs'!$A$3:$D$29,4),"")
B12: =IFERROR(VLOOKUP(A12,'Grille tarifs'!$A$3:$D$29,2),"") | C12: =IFERROR(VLOOKUP(A12,'Grille tarifs'!$A$3:$D$29,3),"") | D12: =IFERROR(VLOOKUP(A12,'Grille tarifs'!$A$3:$D$29,4),"")
B13: =IFERROR(VLOOKUP(A13,'Grille tarifs'!$A$3:$D$29,2),"") | C13: =IFERROR(VLOOKUP(A13,'Grille tarifs'!$A$3:$D$29,3),"") | D13: =IFERROR(VLOOKUP(A13,'Grille tarifs'!$A$3:$D$29,4),"")
B14: =IFERROR(VLOOKUP(A14,'Grille tarifs'!$A$3:$D$29,2),"") | C14: =IFERROR(VLOOKUP(A14,'Grille tarifs'!$A$3:$D$29,3),"") | D14: =IFERROR(VLOOKUP(A14,'Grille tarifs'!$A$3:$D$29,4),"")
... B28: =IFERROR(VLOOKUP(A28,'Grille tarifs'!$A$3:$D$29,2),"") | C28: =IFERROR(VLOOKUP(A28,'Grille tarifs'!$A$3:$D$29,3),"") | D28: =IFERROR(VLOOKUP(A28,'Grille tarifs'!$A$3:$D$29,4),"")
A31: TOTAL | C31: =SUM(C3:C28) -> 0

Sheet comandes février
A1: commandes février
A2: Réf Produit | B2: Quantité minimum | C2: Prix ht/lot | D2: Bonus/lot
A31: TOTAL
