Workbook
Name fer: Feuil1!$E$2:$E$12

Sheet Feuil1
A1: Nombre SP par poste | D1: =E1 -> 2014 | E1: =YEAR(Feuil2!C4) -> 2014
A2: Jour sem | B2: 1 | C2: 2 | D2: Jour de l'an | E2: =DATE(E1,1,1) -> 41640
A3: nuit sem | B3: 2 | C3: 3 | D3: Lundi de Pâques | E3: =G3+1 -> 41750 | F3: Dim. de Pâques | G3: =FLOOR(DATE(E1,5,DAY(MINUTE(E1/38)/2+56)),7)-34 -> 41749
A4: jour we | B4: 3 | C4: 4 | D4: Fête du Travail | E4: =DATE(E1,5,1) -> 41760
A5: nuit we | B5: 4 | C5: 3 | D5: Victoire 39/45 | E5: =DATE(E1,5,8) -> 41767
A6: jour férié | B6: 5 | C6: 4 | D6: Ascension | E6: =G3+39 -> 41788
A7: nuit férié | B7: 6 | C7: 3 | D7: Lun de Pentecôte | E7: =G3+50 -> 41799
D8: Fête Nationale | E8: =DATE(E1,7,14) -> 41834
B9: h h h | D9: Assomption | E9: =DATE(E1,8,15) -> 41866
B10: tableau référence | D10: Toussaint | E10: =DATE(E1,11,1) -> 41944
D11: Armistice 14/18 | E11: =DATE(E1,11,11) -> 41954
D12: Noël | E12: =DATE(E1,12,25) -> 41998

Sheet Feuil2
B3: exemple a | C3: =IF(ISERROR(VLOOKUP(C4,fer,1,FALSE))=TRUE,IF(NETWORKDAYS(C$4,C$4,fer)>0,IF(C5="jour",Feuil1!$B$2,Feuil1!$B$3),IF(C5="jour",Feuil1!$B$4,Feuil1!$B$5)),IF(C5="jour",Feuil1!$B$6,Feuil1!$B$7)) -> 5 | D3: =IF(ISERROR(VLOOKUP(C4,fer,1,FALSE))=TRUE,IF(NETWORKDAYS(C$4,C$4,fer)>0,IF(D5="jour",Feuil1!$B$2,Feuil1!$B$3),IF(D5="jour",Feuil1!$B$4,Feuil1!$B$5)),IF(D5="jour",Feuil1!$B$6,Feuil1!$B$7)) -> 6 | E3: =IF(ISERROR(VLOOKUP(E4,fer,1,FALSE))=TRUE,IF(NETWORKDAYS(E$4,E$4,fer)>0,IF(E5="jour",Feuil1!$B$2,Feuil1!$B$3),IF(E5="jour",Feuil1!$B$4,Feuil1!$B$5)),IF(E5="jour",Feuil1!$B$6,Feuil1!$B$7)) -> 1 | F3: =IF(ISERROR(VLOOKUP(E4,fer,1,FALSE))=TRUE,IF(NETWORKDAYS(E$4,E$4,fer)>0,IF(F5="jour",Feuil1!$B$2,Feuil1!$B$3),IF(F5="jour",Feuil1!$B$4,Feuil1!$B$5)),IF(F5="jour",Feuil1!$B$6,Feuil1!$B$7)) -> 2 | G3: =IF(ISERROR(VLOOKUP(G4,fer,1,FALSE))=TRUE,IF(NETWORKDAYS(G$4,G$4,fer)>0,IF(G5="jour",Feuil1!$B$2,Feuil1!$B$3),IF(G5="jour",Feuil1!$B$4,Feuil1!$B$5)),IF(G5="jour",Feuil1!$B$6,Feuil1!$B$7)) -> 3 | H3: =IF(ISERROR(VLOOKUP(G4,fer,1,FALSE))=TRUE,IF(NETWORKDAYS(G$4,G$4,fer)>0,IF(H5="jour",Feuil1!$B$2,Feuil1!$B$3),IF(H5="jour",Feuil1!$B$4,Feuil1!$B$5)),IF(H5="jour",Feuil1!$B$6,Feuil1!$B$7)) -> 4 | I3: =IF(ISERROR(VLOOKUP(I4,fer,1,FALSE))=TRUE,IF(NETWORKDAYS(I$4,I$4,fer)>0,IF(I5="jour",Feuil1!$B$2,Feuil1!$B$3),IF(I5="jour",Feuil1!$B$4,Feuil1!$B$5)),IF(I5="jour",Feuil1!$B$6,Feuil1!$B$7)) -> 3 | J3: =IF(ISERROR(VLOOKUP(I4,fer,1,FALSE))=TRUE,IF(NETWORKDAYS(I$4,I$4,fer)>0,IF(J5="jour",Feuil1!$B$2,Feuil1!$B$3),IF(J5="jour",Feuil1!$B$4,Feuil1!$B$5)),IF(J5="jour",Feuil1!$B$6,Feuil1!$B$7)) -> 4 | K3: =IF(ISERROR(VLOOKUP(K4,fer,1,FALSE))=TRUE,IF(NETWORKDAYS(K$4,K$4,fer)>0,IF(K5="jour",Feuil1!$B$2,Feuil1!$B$3),IF(K5="jour",Feuil1!$B$4,Feuil1!$B$5)),IF(K5="jour",Feuil1!$B$6,Feuil1!$B$7)) -> 1 | L3: =IF(ISERROR(VLOOKUP(K4,fer,1,FALSE))=TRUE,IF(NETWORKDAYS(K$4,K$4,fer)>0,IF(L5="jour",Feuil1!$B$2,Feuil1!$B$3),IF(L5="jour",Feuil1!$B$4,Feuil1!$B$5)),IF(L5="jour",Feuil1!$B$6,Feuil1!$B$7)) -> 2 | M3: =IF(ISERROR(VLOOKUP(M4,fer,1,FALSE))=TRUE,IF(NETWORKDAYS(M$4,M$4,fer)>0,IF(M5="jour",Feuil1!$B$2,Feuil1!$B$3),IF(M5="jour",Feuil1!$B$4,Feuil1!$B$5)),IF(M5="jour",Feuil1!$B$6,Feuil1!$B$7)) -> 1 | N3: =IF(ISERROR(VLOOKUP(M4,fer,1,FALSE))=TRUE,IF(NETWORKDAYS(M$4,M$4,fer)>0,IF(N5="jour",Feuil1!$B$2,Feuil1!$B$3),IF(N5="jour",Feuil1!$B$4,Feuil1!$B$5)),IF(N5="jour",Feuil1!$B$6,Feuil1!$B$7)) -> 2 | O3: =IF(ISERROR(VLOOKUP(O4,fer,1,FALSE))=TRUE,IF(NETWORKDAYS(O$4,O$4,fer)>0,IF(O5="jour",Feuil1!$B$2,Feuil1!$B$3),IF(O5="jour",Feuil1!$B$4,Feuil1!$B$5)),IF(O5="jour",Feuil1!$B$6,Feuil1!$B$7)) -> 1 | P3: =IF(ISERROR(VLOOKUP(O4,fer,1,FALSE))=TRUE,IF(NETWORKDAYS(O$4,O$4,fer)>0,IF(P5="jour",Feuil1!$B$2,Feuil1!$B$3),IF(P5="jour",Feuil1!$B$4,Feuil1!$B$5)),IF(P5="jour",Feuil1!$B$6,Feuil1!$B$7)) -> 2
C4: 41760 | E4: =C4+1 -> 41761 | G4: =E4+1 -> 41762 | I4: =G4+1 -> 41763 | K4: =I4+1 -> 41764 | M4: =K4+1 -> 41765 | O4: =M4+1 -> 41766
C5: jour | D5: nuit | E5: jour | F5: nuit | G5: jour | H5: nuit | I5: jour | J5: nuit | K5: jour | L5: nuit | M5: jour | N5: nuit | O5: jour | P5: nuit

Sheet Feuil3
