Workbook
Name CLIENT: OFFSET(BDD!$A$2,,,COUNTA(BDD!$A:$A)-6)
Name légumes: OFFSET(Légumes!$B$4,,,COUNTA(Légumes!$B:$B)-3)

Sheet Feuil1
A1: =IF('Bon de livraison'!#REF!=1,'Bon de livraison'!K17,0) -> #REF! | B1: =IF('Bon de livraison'!#REF!=1,'Bon de livraison'!K17*0.055,0) -> #REF! | C1: =IF('Bon de livraison'!#REF!=2,'Bon de livraison'!K17,0) -> #REF! | D1: =IF('Bon de livraison'!#REF!=2,'Bon de livraison'!K17*0.196,0) -> #REF!
A2: =IF('Bon de livraison'!#REF!=1,'Bon de livraison'!K18,0) -> #REF! | B2: =IF('Bon de livraison'!#REF!=1,'Bon de livraison'!K18*0.055,0) -> #REF! | C2: =IF('Bon de livraison'!#REF!=2,'Bon de livraison'!K18,0) -> #REF! | D2: =IF('Bon de livraison'!#REF!=2,'Bon de livraison'!K18*0.2,0) -> #REF!
A3: =IF('Bon de livraison'!#REF!=1,'Bon de livraison'!K19,0) -> #REF! | B3: =IF('Bon de livraison'!#REF!=1,'Bon de livraison'!K19*0.055,0) -> #REF! | C3: =IF('Bon de livraison'!#REF!=2,'Bon de livraison'!K19,0) -> #REF! | D3: =IF('Bon de livraison'!#REF!=2,'Bon de livraison'!K19*0.2,0) -> #REF!
A4: =IF('Bon de livraison'!#REF!=1,'Bon de livraison'!K20,0) -> #REF! | B4: =IF('Bon de livraison'!#REF!=1,'Bon de livraison'!K20*0.055,0) -> #REF! | C4: =IF('Bon de livraison'!#REF!=2,'Bon de livraison'!K20,0) -> #REF! | D4: =IF('Bon de livraison'!#REF!=2,'Bon de livraison'!K20*0.2,0) -> #REF!
A5: =IF('Bon de livraison'!#REF!=1,'Bon de livraison'!K21,0) -> #REF! | B5: =IF('Bon de livraison'!#REF!=1,'Bon de livraison'!K21*0.055,0) -> #REF! | C5: =IF('Bon de livraison'!#REF!=2,'Bon de livraison'!K21,0) -> #REF! | D5: =IF('Bon de livraison'!#REF!=2,'Bon de livraison'!K21*0.2,0) -> #REF!
A6: =IF('Bon de livraison'!#REF!=1,'Bon de livraison'!K22,0) -> #REF! | B6: =IF('Bon de livraison'!#REF!=1,'Bon de livraison'!K22*0.055,0) -> #REF! | C6: =IF('Bon de livraison'!#REF!=2,'Bon de livraison'!K22,0) -> #REF! | D6: =IF('Bon de livraison'!#REF!=2,'Bon de livraison'!K22*0.2,0) -> #REF!
A7: =IF('Bon de livraison'!#REF!=1,'Bon de livraison'!K23,0) -> #REF! | B7: =IF('Bon de livraison'!#REF!=1,'Bon de livraison'!K23*0.055,0) -> #REF! | C7: =IF('Bon de livraison'!#REF!=2,'Bon de livraison'!K23,0) -> #REF! | D7: =IF('Bon de livraison'!#REF!=2,'Bon de livraison'!K23*0.2,0) -> #REF!
A8: =IF('Bon de livraison'!#REF!=1,'Bon de livraison'!K24,0) -> #REF! | B8: =IF('Bon de livraison'!#REF!=1,'Bon de livraison'!K24*0.055,0) -> #REF! | C8: =IF('Bon de livraison'!#REF!=2,'Bon de livraison'!K24,0) -> #REF! | D8: =IF('Bon de livraison'!#REF!=2,'Bon de livraison'!K24*0.2,0) -> #REF!
A9: =IF('Bon de livraison'!#REF!=1,'Bon de livraison'!K25,0) -> #REF! | B9: =IF('Bon de livraison'!#REF!=1,'Bon de livraison'!K25*0.055,0) -> #REF! | C9: =IF('Bon de livraison'!#REF!=2,'Bon de livraison'!K25,0) -> #REF! | D9: =IF('Bon de livraison'!#REF!=2,'Bon de livraison'!K25*0.2,0) -> #REF!
A10: =IF('Bon de livraison'!#REF!=1,'Bon de livraison'!K26,0) -> #REF! | B10: =IF('Bon de livraison'!#REF!=1,'Bon de livraison'!K26*0.055,0) -> #REF! | C10: =IF('Bon de livraison'!#REF!=2,'Bon de livraison'!K26,0) -> #REF! | D10: =IF('Bon de livraison'!#REF!=2,'Bon de livraison'!K26*0.2,0) -> #REF!
A11: =IF('Bon de livraison'!#REF!=1,'Bon de livraison'!K27,0) -> #REF! | B11: =IF('Bon de livraison'!#REF!=1,'Bon de livraison'!K27*0.055,0) -> #REF! | C11: =IF('Bon de livraison'!#REF!=2,'Bon de livraison'!K27,0) -> #REF! | D11: =IF('Bon de livraison'!#REF!=2,'Bon de livraison'!K27*0.2,0) -> #REF!
A12: =IF('Bon de livraison'!#REF!=1,'Bon de livraison'!K28,0) -> #REF! | B12: =IF('Bon de livraison'!#REF!=1,'Bon de livraison'!K28*0.055,0) -> #REF! | C12: =IF('Bon de livraison'!#REF!=2,'Bon de livraison'!K28,0) -> #REF! | D12: =IF('Bon de livraison'!#REF!=2,'Bon de livraison'!K28*0.2,0) -> #REF!
A13: =IF('Bon de livraison'!#REF!=1,'Bon de livraison'!K29,0) -> #REF! | B13: =IF('Bon de livraison'!#REF!=1,'Bon de livraison'!K29*0.055,0) -> #REF! | C13: =IF('Bon de livraison'!#REF!=2,'Bon de livraison'!K29,0) -> #REF! | D13: =IF('Bon de livraison'!#REF!=2,'Bon de livraison'!K29*0.2,0) -> #REF!
... A29: =IF('Bon de livraison'!#REF!=1,'Bon de livraison'!K45,0) -> #REF! | B29: =IF('Bon de livraison'!#REF!=1,'Bon de livraison'!K45*0.055,0) -> #REF! | C29: =IF('Bon de livraison'!#REF!=2,'Bon de livraison'!K45,0) -> #REF! | D29: =IF('Bon de livraison'!#REF!=2,'Bon de livraison'!K45*0.2,0) -> #REF!
A30: =IF('Bon de livraison'!F46=1,'Bon de livraison'!K46,0) -> 0 | B30: =IF('Bon de livraison'!F46=1,'Bon de livraison'!K46*0.055,0) -> 0 | C30: =IF('Bon de livraison'!F46=2,'Bon de livraison'!K46,0) -> 0 | D30: =IF('Bon de livraison'!F46=2,'Bon de livraison'!K46*0.2,0) -> 0
A31: =IF('Bon de livraison'!F47=1,'Bon de livraison'!K47,0) -> 0 | B31: =IF('Bon de livraison'!F47=1,'Bon de livraison'!K47*0.055,0) -> 0 | C31: =IF('Bon de livraison'!F47=2,'Bon de livraison'!K47,0) -> 0 | D31: =IF('Bon de livraison'!F47=2,'Bon de livraison'!K47*0.2,0) -> 0
A32: =IF('Bon de livraison'!F48=1,'Bon de livraison'!K48,0) -> 0 | B32: =IF('Bon de livraison'!F48=1,'Bon de livraison'!K48*0.055,0) -> 0 | C32: =IF('Bon de livraison'!F48=2,'Bon de livraison'!K48,0) -> 0 | D32: =IF('Bon de livraison'!F48=2,'Bon de livraison'!K48*0.2,0) -> 0
A33: =IF('Bon de livraison'!F49=1,'Bon de livraison'!K49,0) -> 0 | B33: =IF('Bon de livraison'!F49=1,'Bon de livraison'!K49*0.055,0) -> 0 | C33: =IF('Bon de livraison'!F49=2,'Bon de livraison'!K49,0) -> 0 | D33: =IF('Bon de livraison'!F49=2,'Bon de livraison'!K49*0.2,0) -> 0
A34: =IF('Bon de livraison'!F50=1,'Bon de livraison'!K50,0) -> 0 | B34: =IF('Bon de livraison'!F50=1,'Bon de livraison'!K50*0.055,0) -> 0 | C34: =IF('Bon de livraison'!F50=2,'Bon de livraison'!K50,0) -> 0 | D34: =IF('Bon de livraison'!F50=2,'Bon de livraison'!K50*0.2,0) -> 0
A35: =IF('Bon de livraison'!F51=1,'Bon de livraison'!K51,0) -> 0 | B35: =IF('Bon de livraison'!F51=1,'Bon de livraison'!K51*0.055,0) -> 0 | C35: =IF('Bon de livraison'!F51=2,'Bon de livraison'!K51,0) -> 0 | D35: =IF('Bon de livraison'!F51=2,'Bon de livraison'!K51*0.2,0) -> 0
A36: =IF('Bon de livraison'!F52=1,'Bon de livraison'!K52,0) -> 0 | B36: =IF('Bon de livraison'!F52=1,'Bon de livraison'!K52*0.055,0) -> 0 | C36: =IF('Bon de livraison'!F52=2,'Bon de livraison'!K52,0) -> 0 | D36: =IF('Bon de livraison'!F52=2,'Bon de livraison'!K52*0.2,0) -> 0
A37: =IF('Bon de livraison'!F53=1,'Bon de livraison'!K53,0) -> 0 | B37: =IF('Bon de livraison'!F53=1,'Bon de livraison'!K53*0.055,0) -> 0 | C37: =IF('Bon de livraison'!F53=2,'Bon de livraison'!K53,0) -> 0 | D37: =IF('Bon de livraison'!F53=2,'Bon de livraison'!K53*0.2,0) -> 0
A38: =IF('Bon de livraison'!F54=1,'Bon de livraison'!K54,0) -> 0 | B38: =IF('Bon de livraison'!F54=1,'Bon de livraison'!K54*0.055,0) -> 0 | C38: =IF('Bon de livraison'!F54=2,'Bon de livraison'!K54,0) -> 0 | D38: =IF('Bon de livraison'!F54=2,'Bon de livraison'!K54*0.2,0) -> 0
A39: =IF('Bon de livraison'!F55=1,'Bon de livraison'!K55,0) -> 0 | B39: =IF('Bon de livraison'!F55=1,'Bon de livraison'!K55*0.055,0) -> 0 | C39: =IF('Bon de livraison'!F55=2,'Bon de livraison'!K55,0) -> 0 | D39: =IF('Bon de livraison'!F55=2,'Bon de livraison'!K55*0.2,0) -> 0
A40: =IF('Bon de livraison'!F56=1,'Bon de livraison'!K56,0) -> 0 | B40: =IF('Bon de livraison'!F56=1,'Bon de livraison'!K56*0.055,0) -> 0 | C40: =IF('Bon de livraison'!F56=2,'Bon de livraison'!K56,0) -> 0 | D40: =IF('Bon de livraison'!F56=2,'Bon de livraison'!K56*0.2,0) -> 0
A41: =IF('Bon de livraison'!F57=1,'Bon de livraison'!K57,0) -> 0 | B41: =IF('Bon de livraison'!F57=1,'Bon de livraison'!K57*0.055,0) -> 0 | C41: =IF('Bon de livraison'!F57=2,'Bon de livraison'!K57,0) -> 0 | D41: =IF('Bon de livraison'!F57=2,'Bon de livraison'!K57*0.2,0) -> 0
... A45: =IF('Bon de livraison'!F61=1,'Bon de livraison'!K61,0) -> 0 | B45: =IF('Bon de livraison'!F61=1,'Bon de livraison'!K61*0.055,0) -> 0 | C45: =IF('Bon de livraison'!F61=2,'Bon de livraison'!K61,0) -> 0 | D45: =IF('Bon de livraison'!F61=2,'Bon de livraison'!K61*0.2,0) -> 0
A47: =SUM(A1:A45) -> #REF! | B47: =SUM(B1:B45) -> #REF! | C47: =SUM(C1:C45) -> #REF! | D47: =SUM(D1:D45) -> #REF!
C50: =C47+A47 -> #REF!

Sheet Légumes
B1: LIVRAISON DU VENDREDI 16/09
C2: Org | D2: Unité | E2: Conv* | F2: Poids net ou Qté | G2: PA | H2: PV | I2: OPSOBIO | J2: BESOIN | K2: STOCKS | L2: PURPAN | M2: LEPERGET (Occitane) | N2: LARAMEE | O2: TERRA FERMA | P2: GRANDEUR NATURE | Q2: VERDIER GILLES | R2: SYNTHIC A CROQUER | S2: LABEGE G.NATURE | T2: BIO QUINT | U2: MONTREDON | V2: JARDIN DU GIROU | W2: FERME DES VIOLETTES | X2: LOU RECANTOU | Y2: BIO JAURES | Z2: TRINITE | AA2: PROXIDELICE | AB2: GARONNE FRUITS | AC2: EPICERIE PAYSANNE | AD2: PANIERS GARONNAIS | AE2: BOURDELLE | AF2: BIOSOL * | AG2: Gorge de l'Aveyron | AH2: SERRE | AI2: SUNNY | AJ2: DAVID | AK2: GUIBOT | AL2: ALAIN | AM2: NOURY | AN2: MARIE BERTILLE | AO2: GRANIER D | AP2: UN GOUT D'ICI Corinne LOUSSERT | AQ2: CHARRIER | AR2: CARBON | AS2: TOTAL | AT2: Poids net | AU2: Marge | AW2: pv
A3: Code | B3: Ail | F3: 5 kg | J3: =AS3-K3 -> 0 | AS3: =SUM(L3:AR3) -> 0 | AT3: 5 | AU3: =(AS3*AT3)*(H3-G3) -> 0 | AV3: Ail
B4: Oignon jaune | F4: 10 | J4: =AS4-K4 -> 0 | AS4: =SUM(L4:AR4) -> 0 | AT4: 10 | AU4: =(AS4*AT4)*(H4-G4) -> 0 | AV4: Oignon jaune
B5: Oignon Rouge | F5: 10 | J5: =AS5-K5 -> 0 | AS5: =SUM(L5:AR5) -> 0 | AT5: 10 | AU5: =(AS5*AT5)*(H5-G5) -> 0 | AV5: Oignon Rouge
B6: Oignon botte | D6: x12 | F6: 1 | J6: =AS6-K6 -> 0 | AS6: =SUM(L6:AR6) -> 0 | AT6: 12 | AU6: =(AS6*AT6)*(H6-G6) -> 0 | AV6: Oignon botte
B7: Echalote | F7: 5 | J7: =AS7-K7 -> 0 | AS7: =SUM(L7:AR7) -> 0 | AT7: 5 | AU7: =(AS7*AT7)*(H7-G7) -> 0 | AV7: Echalote
B8: Aubergine | F8: 6 | J8: =AS8-K8 -> 0 | AS8: =SUM(L8:AR8) -> 0 | AT8: 6 | AU8: =(AS8*AT8)*(H8-G8) -> 0 | AV8: Aubergine
B9: betterave vrac | F9: 5 | J9: =AS9-K9 -> 0 | AS9: =SUM(L9:AR9) -> 0 | AT9: 5 | AU9: =(AS9*AT9)*(H9-G9) -> 0 | AV9: betterave vrac
B10: Carotte Sable | F10: 12 | J10: =AS10-K10 -> 0 | AS10: =SUM(L10:AR10) -> 0 | AT10: 12 | AU10: =(AS10*AT10)*(H10-G10) -> 0 | AV10: Carotte Sable
B11: Carotte lavée | F11: 12 | J11: =AS11-K11 -> 0 | AS11: =SUM(L11:AR11) -> 0 | AT11: 12 | AU11: =(AS11*AT11)*(H11-G11) -> 0 | AV11: Carotte lavée
B12: Choux Chinois | F12: 8 | J12: =AS12-K12 -> 0 | AS12: =SUM(L12:AR12) -> 0 | AT12: 8 | AU12: =(AS12*AT12)*(H12-G12) -> 0 | AV12: Choux Chinois
B13: Choux blanc | D13: x8 | F13: 1 | J13: =AS13-K13 -> 0 | AS13: =SUM(L13:AR13) -> 0 | AT13: 1 | AU13: =(AS13*AT13)*(H13-G13) -> 0 | AV13: Choux blanc
B14: Concombre Long | D14: x12 | F14: 1 | J14: =AS14-K14 -> 0 | AS14: =SUM(L14:AR14) -> 0 | AT14: 1 | AU14: =(AS14*AT14)*(H14-G14) -> 0 | AV14: Concombre Long
B15: Courgette | F15: 6 | J15: =AS15-K15 -> 0 | AS15: =SUM(L15:AR15) -> 0 | AT15: 6 | AU15: =(AS15*AT15)*(H15-G15) -> 0 | AV15: Courgette
A16: 98 | B16: Fenouil | C16: S.O | D16: Kg | E16: Bio** | F16: 7 | H16: 2.9 | J16: =AS16-K16 -> 0 | AS16: =SUM(L16:AR16) -> 0 | AT16: 7 | AU16: =(AS16*AT16)*(H16-G16) -> 0 | AV16: Fenouil
B17: Maïs Doux | D17: x12 | F17: 1 | J17: =AS17-K17 -> 0 | AS17: =SUM(L17:AR17) -> 0 | AT17: 12 | AU17: =(AS17*AT17)*(H17-G17) -> 0 | AV17: Maïs Doux
B18: Patate douce | F18: 6 | J18: =AS18-K18 -> 0 | AS18: =SUM(L18:AR18) -> 0 | AT18: 6 | AU18: =(AS18*AT18)*(H18-G18) -> 0 | AV18: Patate douce
B19: Poireau | F19: 5 | J19: =AS19-K19 -> 0 | AS19: =SUM(L19:AR19) -> 0 | AT19: 5 | AU19: =(AS19*AT19)*(H19-G19) -> 0 | AV19: Poireau
B20: Poivron corne coloré | F20: 5 | J20: =AS20-K20 -> 0 | AS20: =SUM(L20:AR20) -> 0 | AT20: 5 | AU20: =(AS20*AT20)*(H20-G20) -> 0 | AV20: Poivron corne coloré
B21: PdT nouvelle | F21: 10 | J21: =AS21-K21 -> 0 | AS21: =SUM(L21:AR21) -> 0 | AT21: 10 | AU21: =(AS21*AT21)*(H21-G21) -> 0 | AV21: PdT nouvelle
A22: 712 | B22: Tomates ananas | C22: S.O | D22: Kg | E22: Bio** | F22: 5 | H22: 3.6
B23: Tomates cerises | F23: 3 | H23: 3.6 | J23: =AS23-K23 -> 0 | AS23: =SUM(L23:AR23) -> 0 | AT23: 3 | AU23: =(AS23*AT23)*(H23-G23) -> 0 | AV23: Tomates cerises
A24: 712 | B24: Tomates noires de Crimee | C24: S.O | D24: Kg | E24: Bio** | F24: 5 | H24: 3.6
A25: 712 | B25: Tomates rondes jaunes | C25: S | D25: Kg | E25: Bio** | F25: 6 | H25: 3.6 | J25: =AS25-K25 -> 0 | AS25: =SUM(L25:AR25) -> 0 | AT25: 6 | AU25: =(AS25*AT25)*(H25-G25) -> 0 | AV25: Tomates rondes
B26: Tomates allongées | F26: 6 | H26: 3.6 | J26: =AS26-K26 -> 0 | AS26: =SUM(L26:AR26) -> 0 | AT26: 6 | AU26: =(AS26*AT26)*(H26-G26) -> 0 | AV26: Tomates allongées
B27: Tomates grappes | F27: 5 | H27: 3.6 | J27: =AS27-K27 -> 0 | AS27: =SUM(L27:AR27) -> 0 | AT27: 5 | AU27: =(AS27*AT27)*(H27-G27) -> 0 | AV27: Tomates grappes
B28: Cœur de Bœuf | F28: 5 | H28: 3.6 | J28: =AS28-K28 -> 0 | AS28: =SUM(L28:AR28) -> 0 | AT28: 5 | AU28: =(AS28*AT28)*(H28-G28) -> 0 | AV28: Cœur de Bœuf
B29: Tomates Anciennes | F29: 5 | H29: 3.6 | J29: =AS29-K29 -> 0 | AS29: =SUM(L29:AR29) -> 0 | AT29: 5 | AU29: =(AS29*AT29)*(H29-G29) -> 0 | AV29: Tomates Anciennes
B30: Salade | D30: x12 | F30: 1 | J30: =AS30-K30 -> 0 | AS30: =SUM(L30:AR30) -> 0 | AT30: 1 | AU30: =(AS30*AT30)*(H30-G30) -> 0 | AV30: Salade
J31: =AS31-K31 -> 0 | AS31: =SUM(L31:AR31) -> 0 | AU31: =(AS31*AT31)*(H31-G31) -> 0
B32: Citron | F32: 6 | J32: =AS32-K32 -> 0 | AS32: =SUM(L32:AR32) -> 0 | AT32: 6 | AU32: =(AS32*AT32)*(H32-G32) -> 0 | AV32: Citron
B33: Orange | F33: 10 | J33: =AS33-K33 -> 0 | AS33: =SUM(L33:AR33) -> 0 | AT33: 10 | AU33: =(AS33*AT33)*(H33-G33) -> 0 | AV33: Orange
B34: Pasteque | F34: 15 | J34: =AS34-K34 -> 0 | AS34: =SUM(L34:AR34) -> 0 | AT34: 16 | AU34: =(AS34*AT34)*(H34-G34) -> 0 | AV34: Pasteque
B35: Poire William | F35: 13 | J35: =AS35-K35 -> 0 | AS35: =SUM(L35:AR35) -> 0 | AT35: 13 | AU35: =(AS35*AT35)*(H35-G35) -> 0 | AV35: Poire William
B36: Poire Guyot | F36: 13 | J36: =AS36-K36 -> 0 | AS36: =SUM(L36:AR36) -> 0 | AT36: 13 | AU36: =(AS36*AT36)*(H36-G36) -> 0 | AV36: Poire Guyot
B37: Pommes Gala lité | F37: 4 | J37: =AS37-K37 -> 0 | AS37: =SUM(L37:AR37) -> 0 | AT37: 4 | AU37: =(AS37*AT37)*(H37-G37) -> 0 | AV37: Pommes Gala lité
B38: Pommes Crimson | F38: 14 | J38: =AS38-K38 -> 0 | AS38: =SUM(L38:AR38) -> 0 | AT38: 14 | AU38: =(AS38*AT38)*(H38-G38) -> 0 | AV38: Pommes Crimson
B39: Mangues | D39: x12 | F39: 1 | J39: =AS39-K39 -> 0 | AS39: =SUM(L39:AR39) -> 0 | AT39: 12 | AU39: =(AS39*AT39)*(H39-G39) -> 0 | AV39: Mangues
B40: Melon | F40: 12 | J40: =AS40-K40 -> 0 | AS40: =SUM(L40:AR40) -> 0 | AT40: 12 | AU40: =(AS40*AT40)*(H40-G40) -> 0 | AV40: Melon
B41: Prune quetsche | F41: 6 | J41: =AS41-K41 -> 0 | AS41: =SUM(L41:AR41) -> 0 | AT41: 6 | AU41: =(AS41*AT41)*(H41-G41) -> 0 | AV41: Prune quetsche
B42: Raisin centennial | F42: 6 | H42: 3.5 | J42: =AS42-K42 -> 0 | AS42: =SUM(L42:AR42) -> 0 | AT42: 6 | AU42: =(AS42*AT42)*(H42-G42) -> 0 | AV42: Raisin centennial
B43: Raisin Chasselas | F43: 6 | H43: 3.5 | J43: =AS43-K43 -> 0 | AS43: =SUM(L43:AR43) -> 0 | AT43: 6 | AU43: =(AS43*AT43)*(H43-G43) -> 0 | AV43: Raisin Chasselas
A44: 627 | B44: Raisin Chasselas Quercy | C44: S.O | D44: Kg | E44: Bio** | F44: 6 | H44: 3.5
B45: Raisin Exalta | F45: 6 | H45: 3.5 | J45: =AS45-K45 -> 0 | AS45: =SUM(L45:AR45) -> 0 | AT45: 6 | AU45: =(AS45*AT45)*(H45-G45) -> 0 | AV45: Raisin Exalta
A46: 637 | B46: Raisin Muscat | C46: S.O | D46: Kg | E46: Bio** | F46: 6 | H46: 3.5 | J46: =AS46-K46 -> 0 | AS46: =SUM(L46:AR46) -> 0 | AT46: 6 | AU46: =(AS46*AT46)*(H46-G46) -> 0 | AV46: Raisin Muscat
J47: =AS47-K47 -> 0
B48: TOTAL Colis | I48: =SUM(I3:I47) -> 0 | J48: =SUM(J3:J47) -> 0 | K48: =SUM(K3:K47) -> 0 | L48: =SUM(L3:L47) -> 0 | M48: =SUM(M3:M47) -> 0 | N48: =SUM(N3:N47) -> 0 | O48: =SUM(O3:O47) -> 0 | P48: =SUM(P3:P47) -> 0 | Q48: =SUM(Q3:Q47) -> 0 | S48: =SUM(S3:S47) -> 0 | T48: =SUM(T3:T47) -> 0 | U48: =SUM(U3:U47) -> 0 | V48: =SUM(V3:V47) -> 0 | Y48: =SUM(Y3:Y47) -> 0 | Z48: =SUM(Z3:Z47) -> 0 | AA48: =SUM(AA3:AA47) -> 0 | AB48: =SUM(AB3:AB47) -> 0 | AC48: =SUM(AC3:AC47) -> 0 | AD48: =SUM(AD3:AD47) -> 0 | AE48: =SUM(AE3:AE47) -> 0 | AF48: =SUM(AF3:AF47) -> 0 | ... AS48: =SUM(AS3:AS47) -> 0 | AV48: TOTAL Colis
B49: Total Marge Tournée | AU49: =SUM(AU3:AU48) -> 0 | AV49: Total Marge Tournée
F51: Poids net | G51: PA | H51: PV | I51: OPSOBIO | J51: BESOIN | K51: STOCKS | L51: PURPAN | M51: LEPERGET (Occitane) | N51: LARAMEE | O51: TERRA FERMA | P51: GRANDEUR NATURE | Q51: VERDIER GILLES | R51: SYNTHIC A CROQUER | S51: LABEGE G.NATURE | T51: BIO QUINT | U51: MONTREDON | V51: JARDIN DU GIROU | W51: FERME DES VIOLETTES | X51: LOU RECANTOU | Y51: BIO JAURES | Z51: TRINITE | AA51: PROXIDELICE | AB51: GARONNE FRUITS | AC51: EPICERIE PAYSANNE | AD51: PANIERS GARONNAIS | AE51: BOURDELLE | AF51: BIOSOL * | AG51: Gorge de l'Aveyron | AH51: SERRE | AI51: SUNNY | AJ51: DAVID | AK51: CARBON | AL51: ALAIN | AM51: NOURY | AN51: MARIE BERTILLE | AO51: GRANIER D | AP51: UN GOUT D'ICI Corinne LOUSSERT | AQ51: CHARRIER | AR51: steinbach | AS51: TOTAL | AT51: Poids net | AU51: Marge | AW51: pv

Sheet Livraisons
A1: LIVRAISON DU MARDI 26/04
B2: PA | C2: PV | D2: CDE | E2: OPSOBIO | F2: BESOIN | G2: STOCK | H2: BIO PURPAN | I2: LEPERGET | J2: LARAMEE | K2: TERRA FERMA | L2: GRANDEUR NATURE | M2: FERETRA | N2: PANIER | O2: LABEGE G.NATURE | P2: MONTREDON | Q2: GIROU | R2: FERME VIOLETTE | S2: LOU RECANTOU | T2: BIO JAURES | U2: TRINITE | V2: PROXIDELICE | W2: EPICERIE PAYSANNE | X2: BOURDELLE | Y2: GORGES DU 12 | Z2: GARONN FRUITS | AA2: FERETRA | AB2: SYNETIC | AD2: CHARRIER | AE2: CARBON | AF2: YONA | AG2: CAPUS | AH2: TOTAL | AI2: Poids net | AJ2: Marge | AL2: PA | AM2: PV
A3: Citron | E3: 7 | F3: =AH3-G3 -> -2 | G3: 2 | AH3: =SUM(H3:AG3) -> 0 | AI3: 6 | AJ3: =(C3-B3)*AH3*AI3 -> 0 | AK3: Citron
A4: Clémentine | E4: 15 | F4: =AH4-G4 -> -2 | G4: 2 | AH4: =SUM(H4:AG4) -> 0 | AI4: 6 | AJ4: =(C4-B4)*AH4*AI4 -> 0 | AK4: Clémentine
A5: Orange | E5: 6 | F5: =AH5-G5 -> 0 | G5: 0 | AH5: =SUM(H5:AG5) -> 0 | AI5: 10 | AJ5: =(C5-B5)*AH5*AI5 -> 0 | AK5: Orange
A6: Pomelos | F6: =AH6-G6 -> -8 | G6: 8 | AH6: =SUM(H6:AG6) -> 0 | AI6: 10 | AJ6: =(C6-B6)*AH6*AI6 -> 0 | AK6: Pomelos
A7: Fraise Gariguette | F7: =AH7-G7 -> 0 | G7: 0 | AH7: =SUM(H7:AG7) -> 0 | AI7: 8 | AJ7: =(C7-B7)*AH7*AI7 -> 0 | AK7: Fraise Gariguette
A8: Fraise Ronde | F8: =AH8-G8 -> 0 | G8: 0 | AH8: =SUM(H8:AG8) -> 0 | AI8: 8 | AJ8: =(C8-B8)*AH8*AI8 -> 0 | AK8: Fraise Ronde
A9: Kiwi | F9: =AH9-G9 -> 0 | G9: 0 | AH9: =SUM(H9:AG9) -> 0 | AI9: 10 | AJ9: =(C9-B9)*AH9*AI9 -> 0 | AK9: Kiwi
A10: Pomme Canada | F10: =AH10-G10 -> 0 | G10: 0 | AH10: =SUM(H10:AG10) -> 0 | AI10: 14 | AJ10: =(C10-B10)*AH10*AI10 -> 0 | AK10: Pomme Canada
A11: Pomme Dalinette/Ariane | F11: =AH11-G11 -> 0 | G11: 0 | AH11: =SUM(H11:AG11) -> 0 | AI11: 14 | AJ11: =(C11-B11)*AH11*AI11 -> 0 | AK11: Pomme Dalinette/Ariane
A12: Pomme Golden | F12: =AH12-G12 -> 0 | G12: 0 | AH12: =SUM(H12:AG12) -> 0 | AI12: 14 | AJ12: =(C12-B12)*AH12*AI12 -> 0 | AK12: Pomme Golden
A13: Pomme Goldrush | F13: =AH13-G13 -> 0 | G13: 0 | AH13: =SUM(H13:AG13) -> 0 | AI13: 14 | AJ13: =(C13-B13)*AH13*AI13 -> 0 | AK13: Pomme Goldrush
A14: Pomme Reinette d'Armorique | F14: =AH14-G14 -> 0 | G14: 0 | AH14: =SUM(H14:AG14) -> 0 | AI14: 14 | AJ14: =(C14-B14)*AH14*AI14 -> 0 | AK14: Pomme Reinette d'Armorique
A15: 5 Pommes | F15: =AH15-G15 -> 0 | G15: 0 | AH15: =SUM(H15:AG15) -> 0 | AI15: 60 | AJ15: =(C15-B15)*AH15*AI15 -> 0 | AK15: 5 Pommes
A16: Total Colis | D16: =SUM(D3:D15) -> 0 | E16: =SUM(E3:E15) -> 28 | F16: =SUM(F3:F15) -> -12 | G16: =SUM(G3:G15) -> 12 | H16: =SUM(H3:H15) -> 0 | I16: =SUM(I3:I15) -> 0 | J16: =SUM(J3:J15) -> 0 | K16: =SUM(K3:K15) -> 0 | ... AH16: =SUM(AH3:AH15) -> 0 | AK16: Total Colis
A17: Total Marge Tournée | AJ17: =SUM(AJ3:AJ15) -> 0 | AK17: Total Marge Tournée
AD19: 1 CELIRI + 1 EPINARD

Sheet Bon de livraison
A2: S.A.R.L | H2: BON DE LIVRAISON
A4: 82000 MONTAUBAN
A5: TEL. 05. PORT. FAX. 05.63.
A6: RCS
A7: N° SIRET :
A8: N° TVA intracommunautaire : FR | H8: TERRA FERMA
H9: =VLOOKUP(H8,BDD!A:D,2,FALSE) -> Adresse 5
A10: n° | D10: DG-16-09-23/02
H11: =VLOOKUP(H8,BDD!A:D,4,FALSE) -> Adresse 5
A12: Date : | D12: 42636
H13: CLIENT :
A15: Nb | B15: Nb | C15: Code | D15: Désignation Produit | E15: Org | F15: Unité | G15: Conv* | H15: Pds | I15: PN | J15: Prix Unit. | K15: TOTAL H.T.
A16: Colis | B16: modif | C16: artic. | G16: Bio** | H16: U. | I16: Total
A17: 1 | C17: =INDEX(Légumes!A:A,MATCH('Bon de livraison'!D17,Légumes!B:B,0)) -> 98 | D17: Fenouil | E17: =IFERROR(VLOOKUP(D17,Légumes!B:F,2,0),"") -> S.O | F17: =IFERROR(VLOOKUP(D17,Légumes!B:F,3,0),"") -> Kg | G17: =IF(D17="","",VLOOKUP(D17,Légumes!B:F,4,0)) -> Bio** | H17: =IF(D17="","",VLOOKUP(D17,Légumes!B:F,5,0)) -> 7 | I17: 8 | J17: =IF(D17="","",VLOOKUP(D17,Légumes!B:H,7,0)) -> 2.9 | K17: =IFERROR(I17*J17,"") -> 23.2
A18: 1 | C18: =INDEX(Légumes!A:A,MATCH('Bon de livraison'!D18,Légumes!B:B,0)) -> 712 | D18: Tomates ananas | E18: =IFERROR(VLOOKUP(D18,Légumes!B:F,2,0),"") -> S.O | F18: =IFERROR(VLOOKUP(D18,Légumes!B:F,3,0),"") -> Kg | G18: =IF(D18="","",VLOOKUP(D18,Légumes!B:F,4,0)) -> Bio** | H18: =IF(D18="","",VLOOKUP(D18,Légumes!B:F,5,0)) -> 5 | I18: 5 | J18: =IF(D18="","",VLOOKUP(D18,Légumes!B:H,7,0)) -> 3.6 | K18: =IFERROR(I18*J18,"") -> 18
A19: 1 | C19: =INDEX(Légumes!A:A,MATCH('Bon de livraison'!D19,Légumes!B:B,0)) -> 712 | D19: Tomates noires de Crimee | E19: =IFERROR(VLOOKUP(D19,Légumes!B:F,2,0),"") -> S.O | F19: =IFERROR(VLOOKUP(D19,Légumes!B:F,3,0),"") -> Kg | G19: =IF(D19="","",VLOOKUP(D19,Légumes!B:F,4,0)) -> Bio** | H19: =IF(D19="","",VLOOKUP(D19,Légumes!B:F,5,0)) -> 5 | I19: 5 | J19: =IF(D19="","",VLOOKUP(D19,Légumes!B:H,7,0)) -> 3.6 | K19: =IFERROR(I19*J19,"") -> 18
A20: 1 | C20: =INDEX(Légumes!A:A,MATCH('Bon de livraison'!D20,Légumes!B:B,0)) -> 712 | D20: Tomates rondes jaunes | E20: =IFERROR(VLOOKUP(D20,Légumes!B:F,2,0),"") -> S | F20: =IFERROR(VLOOKUP(D20,Légumes!B:F,3,0),"") -> Kg | G20: =IF(D20="","",VLOOKUP(D20,Légumes!B:F,4,0)) -> Bio** | H20: =IF(D20="","",VLOOKUP(D20,Légumes!B:F,5,0)) -> 6 | I20: 5 | J20: =IF(D20="","",VLOOKUP(D20,Légumes!B:H,7,0)) -> 3.6 | K20: =IFERROR(I20*J20,"") -> 18
A21: 6 | C21: =INDEX(Légumes!A:A,MATCH('Bon de livraison'!D21,Légumes!B:B,0)) -> 0 | D21: Raisin Chasselas | E21: =IFERROR(VLOOKUP(D21,Légumes!B:F,2,0),"") -> 0 | F21: =IFERROR(VLOOKUP(D21,Légumes!B:F,3,0),"") -> 0 | G21: =IF(D21="","",VLOOKUP(D21,Légumes!B:F,4,0)) -> 0 | H21: =IF(D21="","",VLOOKUP(D21,Légumes!B:F,5,0)) -> 6 | I21: =A21*H21 -> 36 | J21: =IF(D21="","",VLOOKUP(D21,Légumes!B:H,7,0)) -> 3.5 | K21: =IFERROR(I21*J21,"") -> 126
A22: 5 | C22: =IF(D22<>"",INDEX(Légumes!A:A,MATCH('Bon de livraison'!D22,Légumes!B:B,0)),"") -> 637 | D22: Raisin Muscat | E22: =IFERROR(VLOOKUP(D22,Légumes!B:F,2,0),"") -> S.O | F22: =IFERROR(VLOOKUP(D22,Légumes!B:F,3,0),"") -> Kg | G22: =IF(D22="","",VLOOKUP(D22,Légumes!B:F,4,0)) -> Bio** | H22: =IF(D22="","",VLOOKUP(D22,Légumes!B:F,5,0)) -> 6 | I22: =A22*H22 -> 30 | J22: =IF(D22="","",VLOOKUP(D22,Légumes!B:H,7,0)) -> 3.5 | K22: =IFERROR(I22*J22,"") -> 105
C23: =IF(D23<>"",INDEX(Légumes!A:A,MATCH('Bon de livraison'!D23,Légumes!B:B,0)),"") | E23: =IFERROR(VLOOKUP(D23,Légumes!B:F,2,0),"") | F23: =IFERROR(VLOOKUP(D23,Légumes!B:F,3,0),"") | G23: =IF(D23="","",VLOOKUP(D23,Légumes!B:F,4,0)) | H23: =IF(D23="","",VLOOKUP(D23,Légumes!B:F,5,0)) | J23: =IF(D23="","",VLOOKUP(D23,Légumes!B:H,7,0)) | K23: =IFERROR(I23*J23,"")
C24: =IF(D24<>"",INDEX(Légumes!A:A,MATCH('Bon de livraison'!D24,Légumes!B:B,0)),"") | E24: =IFERROR(VLOOKUP(D24,Légumes!B:F,2,0),"") | F24: =IFERROR(VLOOKUP(D24,Légumes!B:F,3,0),"") | G24: =IF(D24="","",VLOOKUP(D24,Légumes!B:F,4,0)) | H24: =IF(D24="","",VLOOKUP(D24,Légumes!B:F,5,0)) | J24: =IF(D24="","",VLOOKUP(D24,Légumes!B:H,7,0)) | K24: =IFERROR(I24*J24,"")
C25: =IF(D25<>"",INDEX(Légumes!A:A,MATCH('Bon de livraison'!D25,Légumes!B:B,0)),"") | E25: =IFERROR(VLOOKUP(D25,Légumes!B:F,2,0),"") | F25: =IFERROR(VLOOKUP(D25,Légumes!B:F,3,0),"") | G25: =IF(D25="","",VLOOKUP(D25,Légumes!B:F,4,0)) | H25: =IF(D25="","",VLOOKUP(D25,Légumes!B:F,5,0)) | J25: =IF(D25="","",VLOOKUP(D25,Légumes!B:H,7,0)) | K25: =IFERROR(I25*J25,"")
C26: =IF(D26<>"",INDEX(Légumes!A:A,MATCH('Bon de livraison'!D26,Légumes!B:B,0)),"") | E26: =IFERROR(VLOOKUP(D26,Légumes!B:F,2,0),"") | F26: =IFERROR(VLOOKUP(D26,Légumes!B:F,3,0),"") | G26: =IF(D26="","",VLOOKUP(D26,Légumes!B:F,4,0)) | H26: =IF(D26="","",VLOOKUP(D26,Légumes!B:F,5,0)) | J26: =IF(D26="","",VLOOKUP(D26,Légumes!B:H,7,0)) | K26: =IFERROR(I26*J26,"")
C27: =IF(D27<>"",INDEX(Légumes!A:A,MATCH('Bon de livraison'!D27,Légumes!B:B,0)),"") | E27: =IFERROR(VLOOKUP(D27,Légumes!B:F,2,0),"") | F27: =IFERROR(VLOOKUP(D27,Légumes!B:F,3,0),"") | G27: =IF(D27="","",VLOOKUP(D27,Légumes!B:F,4,0)) | H27: =IF(D27="","",VLOOKUP(D27,Légumes!B:F,5,0)) | J27: =IF(D27="","",VLOOKUP(D27,Légumes!B:H,7,0)) | K27: =IFERROR(I27*J27,"")
C28: =IF(D28<>"",INDEX(Légumes!A:A,MATCH('Bon de livraison'!D28,Légumes!B:B,0)),"") | E28: =IFERROR(VLOOKUP(D28,Légumes!B:F,2,0),"") | F28: =IFERROR(VLOOKUP(D28,Légumes!B:F,3,0),"") | G28: =IF(D28="","",VLOOKUP(D28,Légumes!B:F,4,0)) | H28: =IF(D28="","",VLOOKUP(D28,Légumes!B:F,5,0)) | J28: =IF(D28="","",VLOOKUP(D28,Légumes!B:H,7,0)) | K28: =IFERROR(I28*J28,"")
C29: =IF(D29<>"",INDEX(Légumes!A:A,MATCH('Bon de livraison'!D29,Légumes!B:B,0)),"") | E29: =IFERROR(VLOOKUP(D29,Légumes!B:F,2,0),"") | F29: =IFERROR(VLOOKUP(D29,Légumes!B:F,3,0),"") | G29: =IF(D29="","",VLOOKUP(D29,Légumes!B:F,4,0)) | H29: =IF(D29="","",VLOOKUP(D29,Légumes!B:F,5,0)) | J29: =IF(D29="","",VLOOKUP(D29,Légumes!B:H,7,0)) | K29: =IFERROR(I29*J29,"")
C30: =IF(D30<>"",INDEX(Légumes!A:A,MATCH('Bon de livraison'!D30,Légumes!B:B,0)),"") | E30: =IFERROR(VLOOKUP(D30,Légumes!B:F,2,0),"") | F30: =IFERROR(VLOOKUP(D30,Légumes!B:F,3,0),"") | G30: =IF(D30="","",VLOOKUP(D30,Légumes!B:F,4,0)) | H30: =IF(D30="","",VLOOKUP(D30,Légumes!B:F,5,0)) | J30: =IF(D30="","",VLOOKUP(D30,Légumes!B:H,7,0)) | K30: =IFERROR(I30*J30,"")
C31: =IF(D31<>"",INDEX(Légumes!A:A,MATCH('Bon de livraison'!D31,Légumes!B:B,0)),"") | E31: =IFERROR(VLOOKUP(D31,Légumes!B:F,2,0),"") | F31: =IFERROR(VLOOKUP(D31,Légumes!B:F,3,0),"") | G31: =IF(D31="","",VLOOKUP(D31,Légumes!B:F,4,0)) | H31: =IF(D31="","",VLOOKUP(D31,Légumes!B:F,5,0)) | J31: =IF(D31="","",VLOOKUP(D31,Légumes!B:H,7,0)) | K31: =IFERROR(I31*J31,"")
C32: =IF(D32<>"",INDEX(Légumes!A:A,MATCH('Bon de livraison'!D32,Légumes!B:B,0)),"") | E32: =IFERROR(VLOOKUP(D32,Légumes!B:F,2,0),"") | F32: =IFERROR(VLOOKUP(D32,Légumes!B:F,3,0),"") | G32: =IF(D32="","",VLOOKUP(D32,Légumes!B:F,4,0)) | H32: =IF(D32="","",VLOOKUP(D32,Légumes!B:F,5,0)) | J32: =IF(D32="","",VLOOKUP(D32,Légumes!B:H,7,0)) | K32: =IFERROR(I32*J32,"")
C33: =IF(D33<>"",INDEX(Légumes!A:A,MATCH('Bon de livraison'!D33,Légumes!B:B,0)),"") | E33: =IFERROR(VLOOKUP(D33,Légumes!B:F,2,0),"") | F33: =IFERROR(VLOOKUP(D33,Légumes!B:F,3,0),"") | G33: =IF(D33="","",VLOOKUP(D33,Légumes!B:F,4,0)) | H33: =IF(D33="","",VLOOKUP(D33,Légumes!B:F,5,0)) | J33: =IF(D33="","",VLOOKUP(D33,Légumes!B:H,7,0)) | K33: =IFERROR(I33*J33,"")
C34: =IF(D34<>"",INDEX(Légumes!A:A,MATCH('Bon de livraison'!D34,Légumes!B:B,0)),"") | E34: =IFERROR(VLOOKUP(D34,Légumes!B:F,2,0),"") | F34: =IFERROR(VLOOKUP(D34,Légumes!B:F,3,0),"") | G34: =IF(D34="","",VLOOKUP(D34,Légumes!B:F,4,0)) | H34: =IF(D34="","",VLOOKUP(D34,Légumes!B:F,5,0)) | J34: =IF(D34="","",VLOOKUP(D34,Légumes!B:H,7,0)) | K34: =IFERROR(I34*J34,"")
... C44: =IF(D44<>"",INDEX(Légumes!A:A,MATCH('Bon de livraison'!D44,Légumes!B:B,0)),"") | E44: =IFERROR(VLOOKUP(D44,Légumes!B:F,2,0),"") | F44: =IFERROR(VLOOKUP(D44,Légumes!B:F,3,0),"") | G44: =IF(D44="","",VLOOKUP(D44,Légumes!B:F,4,0)) | H44: =IF(D44="","",VLOOKUP(D44,Légumes!B:F,5,0)) | J44: =IF(D44="","",VLOOKUP(D44,Légumes!B:H,7,0)) | K44: =IFERROR(I44*J44,"")
A45: =SUM(A17:A44) -> 15 | B45: total colis
A46: * Conv = en convertion **Bio: produits issus de l'agriculture biologique | I46: T O T A L H. T. | K46: =SUM(K17:K44) -> 308.2
A47: Produit issus de l'agriculture biologique
A49: FR-BIO-01
A51: FRA : France / S.O : Sud Ouest / ESP : Espagne / ITA : Italie
A52: Kg : Kilogramme / PI : Pièce / CO : Colis

Sheet Feuil2
A1: =[1]Feuil1!A1 -> #REF! | B1: =[1]Feuil1!B1 -> #REF!
A2: =[1]Feuil1!A2 -> #REF! | B2: =[1]Feuil1!B2 -> #REF!
A3: =[1]Feuil1!A3 -> #REF! | B3: =[1]Feuil1!B3 -> #REF!
A4: =[1]Feuil1!A4 -> #REF! | B4: =[1]Feuil1!B4 -> #REF!
A5: =[1]Feuil1!A5 -> #REF! | B5: =[1]Feuil1!B5 -> #REF!
A6: =[1]Feuil1!A6 -> #REF! | B6: =[1]Feuil1!B6 -> #REF!
A7: =[1]Feuil1!A7 -> #REF! | B7: =[1]Feuil1!B7 -> #REF!
A8: =[1]Feuil1!A8 -> #REF! | B8: =[1]Feuil1!B8 -> #REF!
A9: =[1]Feuil1!A9 -> #REF! | B9: =[1]Feuil1!B9 -> #REF!
A10: =[1]Feuil1!A10 -> #REF! | B10: =[1]Feuil1!B10 -> #REF!
A11: =[1]Feuil1!A11 -> #REF! | B11: =[1]Feuil1!B11 -> #REF!
A12: =[1]Feuil1!A12 -> #REF! | B12: =[1]Feuil1!B12 -> #REF!
... A1002: =[1]Feuil1!A1002 -> #REF! | B1002: =[1]Feuil1!B1002 -> #REF!

Sheet BDD
A1: Clients | B1: Adresse 1 | C1: Adresse 2 | D1: Adresse 3
A2: BIO PURPAN | B2: 301 avenue de Grande Bretagne | C2: ess | D2: 31300 TOULOUSE
A3: LEPERGET | B3: Adresse 3 | C3: Adresse 3 | D3: Adresse 3
A4: LARAMEE | B4: Adresse 4 | C4: Adresse 4 | D4: Adresse 4
A5: TERRA FERMA | B5: Adresse 5 | C5: Adresse 5 | D5: Adresse 5
A6: GRANDEUR NATURE | B6: Adresse 6 | C6: Adresse 6 | D6: Adresse 6
A7: FERETRA | B7: Adresse 7 | C7: Adresse 7 | D7: Adresse 7
A8: PANIER | B8: Adresse 8 | C8: Adresse 8 | D8: Adresse 8
A9: LABEGE G.NATURE | B9: Adresse 9 | C9: Adresse 9 | D9: Adresse 9
A10: MONTREDON | B10: Adresse 10 | C10: Adresse 10 | D10: Adresse 10
A11: GIROU | B11: Adresse 11 | C11: Adresse 11 | D11: Adresse 11
A12: FERME VIOLETTE | B12: Adresse 12 | C12: Adresse 12 | D12: Adresse 12
... A26: CAPUS | B26: Adresse 26 | C26: Adresse 26 | D26: Adresse 26

Sheet liste BL
A1: N° d'ordre | B1: N° du bon | C1: Client | D1: Date | E1: Montatn HT
A2: 1 | B2: DG-16-09-23/01
A3: 2 | B3: DG-16-09-23/02 | C3: BIO PURPAN | D3: 42636 | E3: 308.2
