Workbook
Name Clients: Référence!$E$1:$E$48
Name Formations: Référence!$C$1:$C$35
Name Rôle: Référence!$B$1:$B$7
Name TRI_SERVICE: Référence!$E$48

Sheet Suivi form
F1: Base de Données Stagiaires
A3: Grade | B3: Nom | C3: Prénom | D3: Département | E3: SDIS | F3: Poste | G3: Formation 1 | H3: date 1 | I3: Formation 2 | J3: date2 | K3: Formation 3 | L3: date3 | M3: Formation 4 | N3: date4 | O3: Formation 5 | P3: date5
A4: Monsieur | B4: XXXXX | C4: XXXXXX | D4: 10 | E4: =IFERROR(VLOOKUP(Tableau1[[#This Row],[Département]],Référence!D1:E47,2,0),"") -> AUBE | F4: Exploit | G4: Administrateur Opérationnel START | H4: 40179 | I4: Administrateur des Modules START | J4: 40183
A5: Madame | B5: YYYYYY | C5: YYYYYYY | D5: 26 | E5: =IFERROR(VLOOKUP(Tableau1[[#This Row],[Département]],Référence!D2:E48,2,0),"") -> DROME | G5: Aide à la Décision | H5: 40210 | I5: Administrateur Portail Web
E6: =IFERROR(VLOOKUP(Tableau1[[#This Row],[Département]],Référence!D3:E49,2,0),"")
E7: =IFERROR(VLOOKUP(Tableau1[[#This Row],[Département]],Référence!D4:E50,2,0),"")
E8: =IFERROR(VLOOKUP(Tableau1[[#This Row],[Département]],Référence!D5:E51,2,0),"")
E9: =IFERROR(VLOOKUP(Tableau1[[#This Row],[Département]],Référence!D6:E52,2,0),"")
E10: =IFERROR(VLOOKUP(Tableau1[[#This Row],[Département]],Référence!D7:E53,2,0),"")
E11: =IFERROR(VLOOKUP(Tableau1[[#This Row],[Département]],Référence!D8:E54,2,0),"")
E12: =IFERROR(VLOOKUP(Tableau1[[#This Row],[Département]],Référence!D9:E55,2,0),"")
E13: =IFERROR(VLOOKUP(Tableau1[[#This Row],[Département]],Référence!D10:E56,2,0),"")
E14: =IFERROR(VLOOKUP(Tableau1[[#This Row],[Département]],Référence!D11:E57,2,0),"")
E15: =IFERROR(VLOOKUP(Tableau1[[#This Row],[Département]],Référence!D12:E58,2,0),"")
E16: =IFERROR(VLOOKUP(Tableau1[[#This Row],[Département]],Référence!D13:E59,2,0),"")
E17: =IFERROR(VLOOKUP(Tableau1[[#This Row],[Département]],Référence!D14:E60,2,0),"")
... E160: =IFERROR(VLOOKUP(Tableau1[[#This Row],[Département]],Référence!D157:E203,2,0),"")

Sheet STAT

Sheet Référence
A1: Madame | B1: Exploit | C1: Aide à la Décision | D1: 2A | E1: CORSE DU SUD
A2: Monsieur | B2: Adm START | C2: Administrateur Portail Web | D2: 2B | E2: HAUTE-CORSE
A3: Lieutenant | B3: Groupe de Pilotage | C3: Administrateur Opérationnel START | D3: 04 | E3: ALPES-DE-HAUTE-PROVENCE
A4: Sergent | B4: Info/Trans. | C4: Administrateur des Modules START | D4: 08 | E4: ARDENNES
A5: Sergent Chef | B5: Ref PW | C5: Administrateur Système | D5: 09 | E5: ARIEGE
A6: Adjudant | B6: CODIS | C6: Assistance | D6: 10 | E6: AUBE
A7: Adjudant Chef | B7: Adm PW | C7: Business Object | D7: 11 | E7: AUDE
A8: Colonel | C8: Chef de Salle START - initiale | D8: 15 | E8: CANTAL
A9: Lieutenant Colonel | C9: Chef de Salle START - complément | D9: 16 | E9: CHARENTE
A10: Caporal | C10: Administrateur AVL | D10: 17 | E10: CHARENTE-MARITIME
A11: Caporal Chef | C11: Exploitant AVL | D11: 26 | E11: DROME
A12: Commandant | C12: Intellisys | D12: 27 | E12: EURE
A13: Capitaine | C13: Bip Dispo. | D13: 28 | E13: EURE-ET-LOIR
C14: Technicien console @Cis | D14: 29 | E14: FINISTERE
C15: Accompagnement fonctionnel à la montée de version | D15: 31 | E15: HAUTE-GARONNE
C16: Présentation / Vernis | D16: 32 | E16: GERS
C17: iCome | D17: 36 | E17: INDRE
C18: L.E.G.O. | D18: 38 | E18: ISERE
C19: Dessinateur SIG - GéoConcept | D19: 40 | E19: LANDES
C20: Solutions Clients/Serveur GCES | D20: 41 | E20: LOIR-ET-CHER
C21: GéoData | D21: 43 | E21: HAUTE-LOIRE
C22: SDACR | D22: 47 | E22: LOT-ET-GARONNE
C23: GéoPrev | D23: 48 | E23: LOZERE
C24: SmartLabel | D24: 50 | E24: MANCHE
C25: Publisher | D25: 51 | E25: MARNE
... C39: Référent Portail Web | D39: 88 | E39: VOSGES
D40: 90 | E40: TERRITOIRE-DE-BELFORT
D41: 95 | E41: VAL D'OISE
D42: 971 | E42: GUADELOUPE
D43: 973 | E43: GUYANNE
D44: 976 | E44: MAYOTTE
D45: BMPM | E45: BATAILLON DES MARINS POMPIERS DE MARSEILLE
D46: WYSY | E46: WYSY
D47: TRI | E47: TRI SERVICE
