Workbook

Sheet Feuil1
A1: Nom de joueur | B1: S1 | C1: S | D1: S2 | E1: p | F1: S3 | G1: p | H1: p | I1: Moyen | J1: PJ | K1: PG
A2: Claudette | B2: 5 | C2: P | D2: 5 | E2: 1 | F2: 5 | G2: 1 | H2: 1 | I2: =AVERAGE(B2+D2+F2)*200 -> 3000 | K2: =SUM(B2+D2+F2) -> 15
A3: marc | B3: 5 | C3: P | D3: 3 | E3: 1 | F3: 2 | G3: 1 | H3: 1 | I3: =AVERAGE(B3+D3+F3)*200 -> 2000 | K3: =SUM(B3+D3+F3) -> 10
A4: eric | B4: 3 | C4: P | D4: 2 | E4: 1 | F4: 2 | G4: 1 | H4: 1 | I4: =AVERAGE(B4+D4+F4)*200 -> 1400 | K4: =SUM(B4+D4+F4) -> 7
A5: alexandra | B5: 4 | C5: P | D5: 1 | E5: 1 | G5: 1 | H5: 1 | I5: =AVERAGE(B5+D5+F5)*200 -> 1000 | K5: =SUM(B5+D5+F5) -> 5
I10: mot de passe : | J10: methos01

Sheet Feuil2
B3: Femmes | C3: PJ | D3: PG | E3: Moy | G3: Homme | H3: PJ | I3: PG | J3: Moy
A4: 1 | B4: =Feuil1!A5 -> alexandra | C4: =SUM(Feuil1!C5*5+Feuil1!E5*5+Feuil1!G5*5) -> #VALUE! | D4: =Feuil1!B5+Feuil1!D5+Feuil1!F5+Feuil1!#REF!+Feuil1!#REF!+Feuil1!#REF!+Feuil1!#REF!+Feuil1!#REF!+Feuil1!#REF!+Feuil1!#REF!+Feuil1!#REF!+Feuil1!#REF!+Feuil1!#REF!+Feuil1!#REF!+Feuil1!#REF!+Feuil1!#REF!+Feuil1!#REF!+Feuil1!#REF!+Feuil1!#REF!+Feuil1!#REF!+Feuil1!#REF!+Feuil1!#REF!+Feuil1!#REF!+Feuil1!#REF!+Feuil1!#REF! -> #REF! | E4: =Feuil1!I5 -> 1000 | F4: 1
A5: 2 | B5: =Feuil1!A2 -> Claudette | C5: =SUM(Feuil1!C2*5+Feuil1!E2*5+Feuil1!G2*5) -> #VALUE! | D5: =Feuil1!B2+Feuil1!D2+Feuil1!F2+Feuil1!#REF!+Feuil1!#REF!+Feuil1!#REF!+Feuil1!#REF!+Feuil1!#REF!+Feuil1!#REF!+Feuil1!#REF!+Feuil1!#REF!+Feuil1!#REF!+Feuil1!#REF!+Feuil1!#REF!+Feuil1!#REF!+Feuil1!#REF!+Feuil1!#REF!+Feuil1!#REF!+Feuil1!#REF!+Feuil1!#REF!+Feuil1!#REF!+Feuil1!#REF!+Feuil1!#REF!+Feuil1!#REF!+Feuil1!#REF! -> #REF! | E5: =Feuil1!I2 -> 3000 | F5: 2
A6: 3 | B6: =Feuil1!A4 -> eric | C6: =SUM(Feuil1!C4*5+Feuil1!E4*5+Feuil1!G4*5) -> #VALUE! | D6: =Feuil1!B4+Feuil1!D4+Feuil1!F4+Feuil1!#REF!+Feuil1!#REF!+Feuil1!#REF!+Feuil1!#REF!+Feuil1!#REF!+Feuil1!#REF!+Feuil1!#REF!+Feuil1!#REF!+Feuil1!#REF!+Feuil1!#REF!+Feuil1!#REF!+Feuil1!#REF!+Feuil1!#REF!+Feuil1!#REF!+Feuil1!#REF!+Feuil1!#REF!+Feuil1!#REF!+Feuil1!#REF!+Feuil1!#REF!+Feuil1!#REF!+Feuil1!#REF!+Feuil1!#REF! -> #REF! | E6: =Feuil1!I4 -> 1400 | F6: 3
A7: 4 | B7: =Feuil1!A3 -> marc | C7: =SUM(Feuil1!C3*5+Feuil1!E3*5+Feuil1!G3*5) -> #VALUE! | D7: =Feuil1!B3+Feuil1!D3+Feuil1!F3+Feuil1!#REF!+Feuil1!#REF!+Feuil1!#REF!+Feuil1!#REF!+Feuil1!#REF!+Feuil1!#REF!+Feuil1!#REF!+Feuil1!#REF!+Feuil1!#REF!+Feuil1!#REF!+Feuil1!#REF!+Feuil1!#REF!+Feuil1!#REF!+Feuil1!#REF!+Feuil1!#REF!+Feuil1!#REF!+Feuil1!#REF!+Feuil1!#REF!+Feuil1!#REF!+Feuil1!#REF!+Feuil1!#REF!+Feuil1!#REF! -> #REF! | E7: =Feuil1!I3 -> 2000 | F7: 4
A8: 5 | B8: =Feuil1!#REF! -> #REF! | C8: =SUM(Feuil1!#REF!*5+Feuil1!#REF!*5+Feuil1!#REF!*5) -> #REF! | F8: 5
A9: 6 | B9: =Feuil1!#REF! -> #REF! | C9: =SUM(Feuil1!#REF!*5+Feuil1!#REF!*5+Feuil1!#REF!*5) -> #REF! | F9: 6
A10: 7 | B10: =Feuil1!#REF! -> #REF! | C10: =SUM(Feuil1!#REF!*5+Feuil1!#REF!*5+Feuil1!#REF!*5) -> #REF! | F10: 7
A11: 8 | B11: =Feuil1!#REF! -> #REF! | F11: 8
A12: 9 | B12: =Feuil1!#REF! -> #REF! | F12: 9
A13: 10 | F13: 10
A14: 11 | F14: 11
A15: 12 | F15: 12
A16: 13 | F16: 13
A17: 14 | F17: 14
A18: 15 | F18: 15
A19: 16 | F19: 16
A20: 17 | F20: 17
A21: 18 | F21: 18
A22: 19 | F22: 19
A23: 20 | F23: 20
B28: Classement d'équipe
A29: Les lous | B29: =SUM(D4+D6+D9+D12+D14) -> #REF!
B34: High Score
