Workbook
Name An: Fériés!$C$3
Name Paques: Fériés!$C$3
Name Saisir_Année: Fériés!$C$1

Sheet Fériés
B1: Jour Fériés | C1: 2013
B2: Jour de l'an | C2: =DATE(Saisir_Année,1,1) -> 41275
B3: Pâques | C3: =ROUND(DATE(Saisir_Année,4,MOD(234-11*MOD(Saisir_Année,19),30))/7,0)*7-6 -> 41364
B4: Lundi de Pâques | C4: =Paques+1 -> 41365
B5: Fête du travail | C5: =DATE(Saisir_Année,5,1) -> 41395
B6: Victoire 1945 | C6: =DATE(Saisir_Année,5,8) -> 41402
B7: Ascension | C7: =Paques+39 -> 41403
B8: Pentecôte | C8: =Paques+49 -> 41413
B9: Lundi de Pentecôte | C9: =Paques+50 -> 41414
B10: Fête Nationale | C10: =DATE(Saisir_Année,7,14) -> 41469
B11: Assomption | C11: =DATE(Saisir_Année,8,15) -> 41501
B12: Toussaint | C12: =DATE(Saisir_Année,11,1) -> 41579
B13: Armistice | C13: =DATE(Saisir_Année,11,11) -> 41589
B14: Noël | C14: =DATE(Saisir_Année,12,25) -> 41633

Sheet Janvier
A1: =YEAR(B1) -> 2013 | B1: 41275 | D1: MATIN | E1: MIDI | F1: APRES MIDI | G1: SOIR | H1: TOTAL
A2: =MONTH(B1) -> 1 | B2: =INT((C11-(DATE(YEAR(C11-WEEKDAY(C11-1)+4),1,3)-WEEKDAY(DATE(YEAR(C11-WEEKDAY(C11-1)+4),1,3)))+5)/7) -> 1 | D2: ="Semaine du "&TEXT(MIN(C5:C9,C5:C9),"jj")&" au "&TEXT(MAX(C5:C9,C5:C9),"jj mmmm aaaa") -> Semaine du 01 au 04 janvier 2013
C3: =IF(MONTH($A$14)<>MONTH($A$14-(WEEKDAY($A$14,1)-($A$6-1))-IF((WEEKDAY($A$14,1)-($A$6-1))<=0,7,0)+(ROW(C5)-ROW($C$5))*7+(COLUMN(C5)-COLUMN($C$5)+1)),"",$A$14-(WEEKDAY($A$14,1)-($A$6-1))-IF((WEEKDAY($A$14,1)-($A$6-1))<=0,7,0)+(ROW(C5)-ROW($C$5))*7+(COLUMN(C5)-COLUMN($C$5)+1))
C4: =IF(MONTH($A$14)<>MONTH($A$14-(WEEKDAY($A$14,1)-($A$6-1))-IF((WEEKDAY($A$14,1)-($A$6-1))<=0,7,0)+(ROW(D5)-ROW($C$5))*7+(COLUMN(D5)-COLUMN($C$5)+1)),"",$A$14-(WEEKDAY($A$14,1)-($A$6-1))-IF((WEEKDAY($A$14,1)-($A$6-1))<=0,7,0)+(ROW(D5)-ROW($C$5))*7+(COLUMN(D5)-COLUMN($C$5)+1))
A5: 7 | B5: =B1-DAY(B1)+9-WEEKDAY(B1-DAY(B1)) -> 41281 | C5: =IF(MONTH($A$14)<>MONTH($A$14-(WEEKDAY($A$14,1)-($A$6-1))-IF((WEEKDAY($A$14,1)-($A$6-1))<=0,7,0)+(ROW(E5)-ROW($C$5))*7+(COLUMN(E5)-COLUMN($C$5)+1)),"",$A$14-(WEEKDAY($A$14,1)-($A$6-1))-IF((WEEKDAY($A$14,1)-($A$6-1))<=0,7,0)+(ROW(E5)-ROW($C$5))*7+(COLUMN(E5)-COLUMN($C$5)+1)) | H5: =K5 -> 0 | I5: =E5-D5 -> 0 | J5: =G5-F5 -> 0 | K5: =J5+I5 -> 0
A6: 7 | B6: =B1-DAY(B1)+10-WEEKDAY(B1-DAY(B1)) -> 41282 | C6: =IF(MONTH($A$14)<>MONTH($A$14-(WEEKDAY($A$14,1)-($A$6-1))-IF((WEEKDAY($A$14,1)-($A$6-1))<=0,7,0)+(ROW(F5)-ROW($C$5))*7+(COLUMN(F5)-COLUMN($C$5)+1)),"",$A$14-(WEEKDAY($A$14,1)-($A$6-1))-IF((WEEKDAY($A$14,1)-($A$6-1))<=0,7,0)+(ROW(F5)-ROW($C$5))*7+(COLUMN(F5)-COLUMN($C$5)+1)) -> 41275 | H6: =K6 -> 0 | I6: =E6-D6 -> 0 | J6: =G6-F6 -> 0 | K6: =J6+I6 -> 0
B7: =B1-DAY(B1)+11-WEEKDAY(B1-DAY(B1)) -> 41283 | C7: =IF(MONTH($A$14)<>MONTH($A$14-(WEEKDAY($A$14,1)-($A$6-1))-IF((WEEKDAY($A$14,1)-($A$6-1))<=0,7,0)+(ROW(G5)-ROW($C$5))*7+(COLUMN(G5)-COLUMN($C$5)+1)),"",$A$14-(WEEKDAY($A$14,1)-($A$6-1))-IF((WEEKDAY($A$14,1)-($A$6-1))<=0,7,0)+(ROW(G5)-ROW($C$5))*7+(COLUMN(G5)-COLUMN($C$5)+1)) -> 41276 | H7: =IF(K7=0,"",K7) | I7: =E7-D7 -> 0 | J7: =G7-F7 -> 0 | K7: =J7+I7 -> 0
B8: =B1-DAY(B1)+12-WEEKDAY(B1-DAY(B1)) -> 41284 | C8: =IF(MONTH($A$14)<>MONTH($A$14-(WEEKDAY($A$14,1)-($A$6-1))-IF((WEEKDAY($A$14,1)-($A$6-1))<=0,7,0)+(ROW(H5)-ROW($C$5))*7+(COLUMN(H5)-COLUMN($C$5)+1)),"",$A$14-(WEEKDAY($A$14,1)-($A$6-1))-IF((WEEKDAY($A$14,1)-($A$6-1))<=0,7,0)+(ROW(H5)-ROW($C$5))*7+(COLUMN(H5)-COLUMN($C$5)+1)) -> 41277 | H8: =K8 -> 0 | I8: =E8-D8 -> 0 | J8: =G8-F8 -> 0 | K8: =J8+I8 -> 0
B9: =B1-DAY(B1)+13-WEEKDAY(B1-DAY(B1)) -> 41285 | C9: =IF(MONTH($A$14)<>MONTH($A$14-(WEEKDAY($A$14,1)-($A$6-1))-IF((WEEKDAY($A$14,1)-($A$6-1))<=0,7,0)+(ROW(I5)-ROW($C$5))*7+(COLUMN(I5)-COLUMN($C$5)+1)),"",$A$14-(WEEKDAY($A$14,1)-($A$6-1))-IF((WEEKDAY($A$14,1)-($A$6-1))<=0,7,0)+(ROW(I5)-ROW($C$5))*7+(COLUMN(I5)-COLUMN($C$5)+1)) -> 41278 | H9: =K9 -> 0 | I9: =E9-D9 -> 0 | J9: =G9-F9 -> 0 | K9: =J9+I9 -> 0
B10: =B1-DAY(B1)+14-WEEKDAY(B1-DAY(B1)) -> 41286 | C10: =IF(MONTH($A$14)<>MONTH($A$14-(WEEKDAY($A$14,1)-($A$6-1))-IF((WEEKDAY($A$14,1)-($A$6-1))<=0,7,0)+(ROW(J5)-ROW($C$5))*7+(COLUMN(J5)-COLUMN($C$5)+1)),"",$A$14-(WEEKDAY($A$14,1)-($A$6-1))-IF((WEEKDAY($A$14,1)-($A$6-1))<=0,7,0)+(ROW(J5)-ROW($C$5))*7+(COLUMN(J5)-COLUMN($C$5)+1)) -> 41279 | H10: =IF(K10=0,"",K10) | I10: =E10-D10 -> 0 | J10: =G10-F10 -> 0 | K10: =J10+I10 -> 0
B11: =B1-DAY(B1)+15-WEEKDAY(B1-DAY(B1)) -> 41287 | C11: =IF(MONTH($A$14)<>MONTH($A$14-(WEEKDAY($A$14,1)-($A$6-1))-IF((WEEKDAY($A$14,1)-($A$6-1))<=0,7,0)+(ROW(K5)-ROW($C$5))*7+(COLUMN(K5)-COLUMN($C$5)+1)),"",$A$14-(WEEKDAY($A$14,1)-($A$6-1))-IF((WEEKDAY($A$14,1)-($A$6-1))<=0,7,0)+(ROW(K5)-ROW($C$5))*7+(COLUMN(K5)-COLUMN($C$5)+1)) -> 41280 | H11: =IF(K11=0,"",K11) | I11: =E11-D11 -> 0 | J11: =G11-F11 -> 0 | K11: =J11+I11 -> 0
B12: TOTAL SEMAINE | H12: =K12 -> 0 | K12: =K5+K6+K7+K8+K9+K10+K11 -> 0
B13: =INT((C20-(DATE(YEAR(C20-WEEKDAY(C20-1)+4),1,3)-WEEKDAY(DATE(YEAR(C20-WEEKDAY(C20-1)+4),1,3)))+5)/7) -> 2 | D13: ="Semaine du "&TEXT(MIN(C14:C18,C14:C18),"jj")&" au "&TEXT(MAX(C14:C18,C14:C18),"jj mmmm aaaa") -> Semaine du 07 au 11 janvier 2013
A14: =DATE(A1,A2,1) -> 41275 | B14: =B10-DAY(B10)+9-WEEKDAY(B10-DAY(B10)) -> 41281 | C14: =IF(MONTH($A$14)<>MONTH($A$14-(WEEKDAY($A$14,1)-($A$6-1))-IF((WEEKDAY($A$14,1)-($A$6-1))<=0,7,0)+(ROW(L5)-ROW($C$5))*7+(COLUMN(L5)-COLUMN($C$5)+1)),"",$A$14-(WEEKDAY($A$14,1)-($A$6-1))-IF((WEEKDAY($A$14,1)-($A$6-1))<=0,7,0)+(ROW(L5)-ROW($C$5))*7+(COLUMN(L5)-COLUMN($C$5)+1)) -> 41281 | H14: =K14 -> 0 | I14: =E14-D14 -> 0 | J14: =G14-F14 -> 0 | K14: =J14+I14 -> 0
B15: =B10-DAY(B10)+10-WEEKDAY(B10-DAY(B10)) -> 41282 | C15: =IF(MONTH($A$14)<>MONTH($A$14-(WEEKDAY($A$14,1)-($A$6-1))-IF((WEEKDAY($A$14,1)-($A$6-1))<=0,7,0)+(ROW(M5)-ROW($C$5))*7+(COLUMN(M5)-COLUMN($C$5)+1)),"",$A$14-(WEEKDAY($A$14,1)-($A$6-1))-IF((WEEKDAY($A$14,1)-($A$6-1))<=0,7,0)+(ROW(M5)-ROW($C$5))*7+(COLUMN(M5)-COLUMN($C$5)+1)) -> 41282 | H15: =K15 -> 0 | I15: =E15-D15 -> 0 | J15: =G15-F15 -> 0 | K15: =J15+I15 -> 0
B16: =B10-DAY(B10)+11-WEEKDAY(B10-DAY(B10)) -> 41283 | C16: =IF(MONTH($A$14)<>MONTH($A$14-(WEEKDAY($A$14,1)-($A$6-1))-IF((WEEKDAY($A$14,1)-($A$6-1))<=0,7,0)+(ROW(N5)-ROW($C$5))*7+(COLUMN(N5)-COLUMN($C$5)+1)),"",$A$14-(WEEKDAY($A$14,1)-($A$6-1))-IF((WEEKDAY($A$14,1)-($A$6-1))<=0,7,0)+(ROW(N5)-ROW($C$5))*7+(COLUMN(N5)-COLUMN($C$5)+1)) -> 41283 | H16: =IF(K16=0,"",K16) | I16: =E16-D16 -> 0 | J16: =G16-F16 -> 0 | K16: =J16+I16 -> 0
B17: =B10-DAY(B10)+12-WEEKDAY(B10-DAY(B10)) -> 41284 | C17: =IF(MONTH($A$14)<>MONTH($A$14-(WEEKDAY($A$14,1)-($A$6-1))-IF((WEEKDAY($A$14,1)-($A$6-1))<=0,7,0)+(ROW(O5)-ROW($C$5))*7+(COLUMN(O5)-COLUMN($C$5)+1)),"",$A$14-(WEEKDAY($A$14,1)-($A$6-1))-IF((WEEKDAY($A$14,1)-($A$6-1))<=0,7,0)+(ROW(O5)-ROW($C$5))*7+(COLUMN(O5)-COLUMN($C$5)+1)) -> 41284 | H17: =K17 -> 0 | I17: =E17-D17 -> 0 | J17: =G17-F17 -> 0 | K17: =J17+I17 -> 0
B18: =B10-DAY(B10)+13-WEEKDAY(B10-DAY(B10)) -> 41285 | C18: =IF(MONTH($A$14)<>MONTH($A$14-(WEEKDAY($A$14,1)-($A$6-1))-IF((WEEKDAY($A$14,1)-($A$6-1))<=0,7,0)+(ROW(P5)-ROW($C$5))*7+(COLUMN(P5)-COLUMN($C$5)+1)),"",$A$14-(WEEKDAY($A$14,1)-($A$6-1))-IF((WEEKDAY($A$14,1)-($A$6-1))<=0,7,0)+(ROW(P5)-ROW($C$5))*7+(COLUMN(P5)-COLUMN($C$5)+1)) -> 41285 | H18: =K18 -> 0 | I18: =E18-D18 -> 0 | J18: =G18-F18 -> 0 | K18: =J18+I18 -> 0
B19: =B10-DAY(B10)+14-WEEKDAY(B10-DAY(B10)) -> 41286 | C19: =IF(MONTH($A$14)<>MONTH($A$14-(WEEKDAY($A$14,1)-($A$6-1))-IF((WEEKDAY($A$14,1)-($A$6-1))<=0,7,0)+(ROW(Q5)-ROW($C$5))*7+(COLUMN(Q5)-COLUMN($C$5)+1)),"",$A$14-(WEEKDAY($A$14,1)-($A$6-1))-IF((WEEKDAY($A$14,1)-($A$6-1))<=0,7,0)+(ROW(Q5)-ROW($C$5))*7+(COLUMN(Q5)-COLUMN($C$5)+1)) -> 41286 | H19: =IF(K19=0,"",K19) | I19: =E19-D19 -> 0 | J19: =G19-F19 -> 0 | K19: =J19+I19 -> 0
B20: =B10-DAY(B10)+15-WEEKDAY(B10-DAY(B10)) -> 41287 | C20: =IF(MONTH($A$14)<>MONTH($A$14-(WEEKDAY($A$14,1)-($A$6-1))-IF((WEEKDAY($A$14,1)-($A$6-1))<=0,7,0)+(ROW(R5)-ROW($C$5))*7+(COLUMN(R5)-COLUMN($C$5)+1)),"",$A$14-(WEEKDAY($A$14,1)-($A$6-1))-IF((WEEKDAY($A$14,1)-($A$6-1))<=0,7,0)+(ROW(R5)-ROW($C$5))*7+(COLUMN(R5)-COLUMN($C$5)+1)) -> 41287 | H20: =IF(K20=0,"",K20) | I20: =E20-D20 -> 0 | J20: =G20-F20 -> 0 | K20: =J20+I20 -> 0
B21: TOTAL SEMAINE | H21: =K21 -> 0 | K21: =K14+K15+K16+K17+K18+K19+K20 -> 0
B22: =INT((C29-(DATE(YEAR(C29-WEEKDAY(C29-1)+4),1,3)-WEEKDAY(DATE(YEAR(C29-WEEKDAY(C29-1)+4),1,3)))+5)/7) -> 3 | D22: ="Semaine du "&TEXT(MIN(C23:C27,C23:C27),"jj")&" au "&TEXT(MAX(C23:C27,C23:C27),"jj mmmm aaaa") -> Semaine du 14 au 18 janvier 2013
B23: =B18-DAY(B18)+9-WEEKDAY(B18-DAY(B18)) -> 41281 | C23: =IF(MONTH($A$14)<>MONTH($A$14-(WEEKDAY($A$14,1)-($A$6-1))-IF((WEEKDAY($A$14,1)-($A$6-1))<=0,7,0)+(ROW(S5)-ROW($C$5))*7+(COLUMN(S5)-COLUMN($C$5)+1)),"",$A$14-(WEEKDAY($A$14,1)-($A$6-1))-IF((WEEKDAY($A$14,1)-($A$6-1))<=0,7,0)+(ROW(S5)-ROW($C$5))*7+(COLUMN(S5)-COLUMN($C$5)+1)) -> 41288 | H23: =K23 -> 0 | I23: =E23-D23 -> 0 | J23: =G23-F23 -> 0 | K23: =J23+I23 -> 0
B24: =B18-DAY(B18)+10-WEEKDAY(B18-DAY(B18)) -> 41282 | C24: =IF(MONTH($A$14)<>MONTH($A$14-(WEEKDAY($A$14,1)-($A$6-1))-IF((WEEKDAY($A$14,1)-($A$6-1))<=0,7,0)+(ROW(T5)-ROW($C$5))*7+(COLUMN(T5)-COLUMN($C$5)+1)),"",$A$14-(WEEKDAY($A$14,1)-($A$6-1))-IF((WEEKDAY($A$14,1)-($A$6-1))<=0,7,0)+(ROW(T5)-ROW($C$5))*7+(COLUMN(T5)-COLUMN($C$5)+1)) -> 41289 | H24: =K24 -> 0 | I24: =E24-D24 -> 0 | J24: =G24-F24 -> 0 | K24: =J24+I24 -> 0
B25: =B18-DAY(B18)+11-WEEKDAY(B18-DAY(B18)) -> 41283 | C25: =IF(MONTH($A$14)<>MONTH($A$14-(WEEKDAY($A$14,1)-($A$6-1))-IF((WEEKDAY($A$14,1)-($A$6-1))<=0,7,0)+(ROW(U5)-ROW($C$5))*7+(COLUMN(U5)-COLUMN($C$5)+1)),"",$A$14-(WEEKDAY($A$14,1)-($A$6-1))-IF((WEEKDAY($A$14,1)-($A$6-1))<=0,7,0)+(ROW(U5)-ROW($C$5))*7+(COLUMN(U5)-COLUMN($C$5)+1)) -> 41290 | H25: =IF(K25=0,"",K25) | I25: =E25-D25 -> 0 | J25: =G25-F25 -> 0 | K25: =J25+I25 -> 0
B26: =B18-DAY(B18)+12-WEEKDAY(B18-DAY(B18)) -> 41284 | C26: =IF(MONTH($A$14)<>MONTH($A$14-(WEEKDAY($A$14,1)-($A$6-1))-IF((WEEKDAY($A$14,1)-($A$6-1))<=0,7,0)+(ROW(V5)-ROW($C$5))*7+(COLUMN(V5)-COLUMN($C$5)+1)),"",$A$14-(WEEKDAY($A$14,1)-($A$6-1))-IF((WEEKDAY($A$14,1)-($A$6-1))<=0,7,0)+(ROW(V5)-ROW($C$5))*7+(COLUMN(V5)-COLUMN($C$5)+1)) -> 41291 | H26: =K26 -> 0 | I26: =E26-D26 -> 0 | J26: =G26-F26 -> 0 | K26: =J26+I26 -> 0
B27: =B18-DAY(B18)+13-WEEKDAY(B18-DAY(B18)) -> 41285 | C27: =IF(MONTH($A$14)<>MONTH($A$14-(WEEKDAY($A$14,1)-($A$6-1))-IF((WEEKDAY($A$14,1)-($A$6-1))<=0,7,0)+(ROW(W5)-ROW($C$5))*7+(COLUMN(W5)-COLUMN($C$5)+1)),"",$A$14-(WEEKDAY($A$14,1)-($A$6-1))-IF((WEEKDAY($A$14,1)-($A$6-1))<=0,7,0)+(ROW(W5)-ROW($C$5))*7+(COLUMN(W5)-COLUMN($C$5)+1)) -> 41292 | H27: =K27 -> 0 | I27: =E27-D27 -> 0 | J27: =G27-F27 -> 0 | K27: =J27+I27 -> 0
B28: =B18-DAY(B18)+14-WEEKDAY(B18-DAY(B18)) -> 41286 | C28: =IF(MONTH($A$14)<>MONTH($A$14-(WEEKDAY($A$14,1)-($A$6-1))-IF((WEEKDAY($A$14,1)-($A$6-1))<=0,7,0)+(ROW(X5)-ROW($C$5))*7+(COLUMN(X5)-COLUMN($C$5)+1)),"",$A$14-(WEEKDAY($A$14,1)-($A$6-1))-IF((WEEKDAY($A$14,1)-($A$6-1))<=0,7,0)+(ROW(X5)-ROW($C$5))*7+(COLUMN(X5)-COLUMN($C$5)+1)) -> 41293 | H28: =IF(K28=0,"",K28) | I28: =E28-D28 -> 0 | J28: =G28-F28 -> 0 | K28: =J28+I28 -> 0
B29: =B18-DAY(B18)+15-WEEKDAY(B18-DAY(B18)) -> 41287 | C29: =IF(MONTH($A$14)<>MONTH($A$14-(WEEKDAY($A$14,1)-($A$6-1))-IF((WEEKDAY($A$14,1)-($A$6-1))<=0,7,0)+(ROW(Y5)-ROW($C$5))*7+(COLUMN(Y5)-COLUMN($C$5)+1)),"",$A$14-(WEEKDAY($A$14,1)-($A$6-1))-IF((WEEKDAY($A$14,1)-($A$6-1))<=0,7,0)+(ROW(Y5)-ROW($C$5))*7+(COLUMN(Y5)-COLUMN($C$5)+1)) -> 41294 | H29: =IF(K29=0,"",K29) | I29: =E29-D29 -> 0 | J29: =G29-F29 -> 0 | K29: =J29+I29 -> 0
B30: TOTAL SEMAINE | H30: =K30 -> 0 | K30: =K23+K24+K25+K26+K27+K28+K29 -> 0
B31: =INT((C38-(DATE(YEAR(C38-WEEKDAY(C38-1)+4),1,3)-WEEKDAY(DATE(YEAR(C38-WEEKDAY(C38-1)+4),1,3)))+5)/7) -> 4 | D31: ="Semaine du "&TEXT(MIN(C32:C36,C32:C36),"jj")&" au "&TEXT(MAX(C32:C36,C32:C36),"jj mmmm aaaa") -> Semaine du 21 au 25 janvier 2013
B32: =B27-DAY(B27)+9-WEEKDAY(B27-DAY(B27)) -> 41281 | C32: =IF(MONTH($A$14)<>MONTH($A$14-(WEEKDAY($A$14,1)-($A$6-1))-IF((WEEKDAY($A$14,1)-($A$6-1))<=0,7,0)+(ROW(Z5)-ROW($C$5))*7+(COLUMN(Z5)-COLUMN($C$5)+1)),"",$A$14-(WEEKDAY($A$14,1)-($A$6-1))-IF((WEEKDAY($A$14,1)-($A$6-1))<=0,7,0)+(ROW(Z5)-ROW($C$5))*7+(COLUMN(Z5)-COLUMN($C$5)+1)) -> 41295 | H32: =K32 -> 0 | I32: =E32-D32 -> 0 | J32: =G32-F32 -> 0 | K32: =J32+I32 -> 0
B33: =B27-DAY(B27)+10-WEEKDAY(B27-DAY(B27)) -> 41282 | C33: =IF(MONTH($A$14)<>MONTH($A$14-(WEEKDAY($A$14,1)-($A$6-1))-IF((WEEKDAY($A$14,1)-($A$6-1))<=0,7,0)+(ROW(AA5)-ROW($C$5))*7+(COLUMN(AA5)-COLUMN($C$5)+1)),"",$A$14-(WEEKDAY($A$14,1)-($A$6-1))-IF((WEEKDAY($A$14,1)-($A$6-1))<=0,7,0)+(ROW(AA5)-ROW($C$5))*7+(COLUMN(AA5)-COLUMN($C$5)+1)) -> 41296 | H33: =K33 -> 0 | I33: =E33-D33 -> 0 | J33: =G33-F33 -> 0 | K33: =J33+I33 -> 0
B34: =B27-DAY(B27)+11-WEEKDAY(B27-DAY(B27)) -> 41283 | C34: =IF(MONTH($A$14)<>MONTH($A$14-(WEEKDAY($A$14,1)-($A$6-1))-IF((WEEKDAY($A$14,1)-($A$6-1))<=0,7,0)+(ROW(AB5)-ROW($C$5))*7+(COLUMN(AB5)-COLUMN($C$5)+1)),"",$A$14-(WEEKDAY($A$14,1)-($A$6-1))-IF((WEEKDAY($A$14,1)-($A$6-1))<=0,7,0)+(ROW(AB5)-ROW($C$5))*7+(COLUMN(AB5)-COLUMN($C$5)+1)) -> 41297 | H34: =IF(K34=0,"",K34) | I34: =E34-D34 -> 0 | J34: =G34-F34 -> 0 | K34: =J34+I34 -> 0
B35: =B27-DAY(B27)+12-WEEKDAY(B27-DAY(B27)) -> 41284 | C35: =IF(MONTH($A$14)<>MONTH($A$14-(WEEKDAY($A$14,1)-($A$6-1))-IF((WEEKDAY($A$14,1)-($A$6-1))<=0,7,0)+(ROW(AC5)-ROW($C$5))*7+(COLUMN(AC5)-COLUMN($C$5)+1)),"",$A$14-(WEEKDAY($A$14,1)-($A$6-1))-IF((WEEKDAY($A$14,1)-($A$6-1))<=0,7,0)+(ROW(AC5)-ROW($C$5))*7+(COLUMN(AC5)-COLUMN($C$5)+1)) -> 41298 | H35: =K35 -> 0 | I35: =E35-D35 -> 0 | J35: =G35-F35 -> 0 | K35: =J35+I35 -> 0
B36: =B27-DAY(B27)+13-WEEKDAY(B27-DAY(B27)) -> 41285 | C36: =IF(MONTH($A$14)<>MONTH($A$14-(WEEKDAY($A$14,1)-($A$6-1))-IF((WEEKDAY($A$14,1)-($A$6-1))<=0,7,0)+(ROW(AD5)-ROW($C$5))*7+(COLUMN(AD5)-COLUMN($C$5)+1)),"",$A$14-(WEEKDAY($A$14,1)-($A$6-1))-IF((WEEKDAY($A$14,1)-($A$6-1))<=0,7,0)+(ROW(AD5)-ROW($C$5))*7+(COLUMN(AD5)-COLUMN($C$5)+1)) -> 41299 | H36: =K36 -> 0 | I36: =E36-D36 -> 0 | J36: =G36-F36 -> 0 | K36: =J36+I36 -> 0
B37: =B27-DAY(B27)+14-WEEKDAY(B27-DAY(B27)) -> 41286 | C37: =IF(MONTH($A$14)<>MONTH($A$14-(WEEKDAY($A$14,1)-($A$6-1))-IF((WEEKDAY($A$14,1)-($A$6-1))<=0,7,0)+(ROW(AE5)-ROW($C$5))*7+(COLUMN(AE5)-COLUMN($C$5)+1)),"",$A$14-(WEEKDAY($A$14,1)-($A$6-1))-IF((WEEKDAY($A$14,1)-($A$6-1))<=0,7,0)+(ROW(AE5)-ROW($C$5))*7+(COLUMN(AE5)-COLUMN($C$5)+1)) -> 41300 | H37: =IF(K37=0,"",K37) | I37: =E37-D37 -> 0 | J37: =G37-F37 -> 0 | K37: =J37+I37 -> 0
B38: =B27-DAY(B27)+15-WEEKDAY(B27-DAY(B27)) -> 41287 | C38: =IF(MONTH($A$14)<>MONTH($A$14-(WEEKDAY($A$14,1)-($A$6-1))-IF((WEEKDAY($A$14,1)-($A$6-1))<=0,7,0)+(ROW(AF5)-ROW($C$5))*7+(COLUMN(AF5)-COLUMN($C$5)+1)),"",$A$14-(WEEKDAY($A$14,1)-($A$6-1))-IF((WEEKDAY($A$14,1)-($A$6-1))<=0,7,0)+(ROW(AF5)-ROW($C$5))*7+(COLUMN(AF5)-COLUMN($C$5)+1)) -> 41301 | H38: =IF(K38=0,"",K38) | I38: =E38-D38 -> 0 | J38: =G38-F38 -> 0 | K38: =J38+I38 -> 0
B39: TOTAL SEMAINE | H39: =K39 -> 0 | K39: =K32+K33+K34+K35+K36+K37+K38 -> 0
B40: =INT((C41-(DATE(YEAR(C41-WEEKDAY(C41-1)+4),1,3)-WEEKDAY(DATE(YEAR(C41-WEEKDAY(C41-1)+4),1,3)))+5)/7) -> 5 | D40: ="Semaine du "&TEXT(MIN(C41:C45,C41:C45),"jj")&" au "&TEXT(MAX(C41:C45,C41:C45),"jj mmmm aaaa") -> Semaine du 28 au 31 janvier 2013
...

Sheet Février
A1: =YEAR(B1) -> 2013 | B1: =DATE(Janvier!A1,(Janvier!A2)+1,1) -> 41306 | D1: MATIN | E1: MIDI | F1: APRES MIDI | G1: SOIR | H1: TOTAL
A2: =MONTH(B1) -> 2 | B2: =INT((C11-(DATE(YEAR(C11-WEEKDAY(C11-1)+4),1,3)-WEEKDAY(DATE(YEAR(C11-WEEKDAY(C11-1)+4),1,3)))+5)/7) -> 5 | D2: ="Semaine du "&TEXT(MIN(C5:C9,C5:C9),"jj")&" au "&TEXT(MAX(C5:C9,C5:C9),"jj mmmm aaaa") -> Semaine du 01 au 01 février 2013
C3: =IF(MONTH($A$14)<>MONTH($A$14-(WEEKDAY($A$14,1)-($A$6-1))-IF((WEEKDAY($A$14,1)-($A$6-1))<=0,7,0)+(ROW(C5)-ROW($C$5))*7+(COLUMN(C5)-COLUMN($C$5)+1)),"",$A$14-(WEEKDAY($A$14,1)-($A$6-1))-IF((WEEKDAY($A$14,1)-($A$6-1))<=0,7,0)+(ROW(C5)-ROW($C$5))*7+(COLUMN(C5)-COLUMN($C$5)+1))
C4: =IF(MONTH($A$14)<>MONTH($A$14-(WEEKDAY($A$14,1)-($A$6-1))-IF((WEEKDAY($A$14,1)-($A$6-1))<=0,7,0)+(ROW(D5)-ROW($C$5))*7+(COLUMN(D5)-COLUMN($C$5)+1)),"",$A$14-(WEEKDAY($A$14,1)-($A$6-1))-IF((WEEKDAY($A$14,1)-($A$6-1))<=0,7,0)+(ROW(D5)-ROW($C$5))*7+(COLUMN(D5)-COLUMN($C$5)+1))
A5: 7 | B5: =B1-DAY(B1)+9-WEEKDAY(B1-DAY(B1)) -> 41309 | C5: =IF(MONTH($A$14)<>MONTH($A$14-(WEEKDAY($A$14,1)-($A$6-1))-IF((WEEKDAY($A$14,1)-($A$6-1))<=0,7,0)+(ROW(E5)-ROW($C$5))*7+(COLUMN(E5)-COLUMN($C$5)+1)),"",$A$14-(WEEKDAY($A$14,1)-($A$6-1))-IF((WEEKDAY($A$14,1)-($A$6-1))<=0,7,0)+(ROW(E5)-ROW($C$5))*7+(COLUMN(E5)-COLUMN($C$5)+1)) | H5: =K5 -> 0 | I5: =E5-D5 -> 0 | J5: =G5-F5 -> 0 | K5: =J5+I5 -> 0
A6: 7 | B6: =B1-DAY(B1)+10-WEEKDAY(B1-DAY(B1)) -> 41310 | C6: =IF(MONTH($A$14)<>MONTH($A$14-(WEEKDAY($A$14,1)-($A$6-1))-IF((WEEKDAY($A$14,1)-($A$6-1))<=0,7,0)+(ROW(F5)-ROW($C$5))*7+(COLUMN(F5)-COLUMN($C$5)+1)),"",$A$14-(WEEKDAY($A$14,1)-($A$6-1))-IF((WEEKDAY($A$14,1)-($A$6-1))<=0,7,0)+(ROW(F5)-ROW($C$5))*7+(COLUMN(F5)-COLUMN($C$5)+1)) | H6: =K6 -> 0 | I6: =E6-D6 -> 0 | J6: =G6-F6 -> 0 | K6: =J6+I6 -> 0
B7: =B1-DAY(B1)+11-WEEKDAY(B1-DAY(B1)) -> 41311 | C7: =IF(MONTH($A$14)<>MONTH($A$14-(WEEKDAY($A$14,1)-($A$6-1))-IF((WEEKDAY($A$14,1)-($A$6-1))<=0,7,0)+(ROW(G5)-ROW($C$5))*7+(COLUMN(G5)-COLUMN($C$5)+1)),"",$A$14-(WEEKDAY($A$14,1)-($A$6-1))-IF((WEEKDAY($A$14,1)-($A$6-1))<=0,7,0)+(ROW(G5)-ROW($C$5))*7+(COLUMN(G5)-COLUMN($C$5)+1)) | H7: =IF(K7=0,"",K7) | I7: =E7-D7 -> 0 | J7: =G7-F7 -> 0 | K7: =J7+I7 -> 0
B8: =B1-DAY(B1)+12-WEEKDAY(B1-DAY(B1)) -> 41312 | C8: =IF(MONTH($A$14)<>MONTH($A$14-(WEEKDAY($A$14,1)-($A$6-1))-IF((WEEKDAY($A$14,1)-($A$6-1))<=0,7,0)+(ROW(H5)-ROW($C$5))*7+(COLUMN(H5)-COLUMN($C$5)+1)),"",$A$14-(WEEKDAY($A$14,1)-($A$6-1))-IF((WEEKDAY($A$14,1)-($A$6-1))<=0,7,0)+(ROW(H5)-ROW($C$5))*7+(COLUMN(H5)-COLUMN($C$5)+1)) | H8: =K8 -> 0 | I8: =E8-D8 -> 0 | J8: =G8-F8 -> 0 | K8: =J8+I8 -> 0
B9: =B1-DAY(B1)+13-WEEKDAY(B1-DAY(B1)) -> 41313 | C9: =IF(MONTH($A$14)<>MONTH($A$14-(WEEKDAY($A$14,1)-($A$6-1))-IF((WEEKDAY($A$14,1)-($A$6-1))<=0,7,0)+(ROW(I5)-ROW($C$5))*7+(COLUMN(I5)-COLUMN($C$5)+1)),"",$A$14-(WEEKDAY($A$14,1)-($A$6-1))-IF((WEEKDAY($A$14,1)-($A$6-1))<=0,7,0)+(ROW(I5)-ROW($C$5))*7+(COLUMN(I5)-COLUMN($C$5)+1)) -> 41306 | H9: =K9 -> 0 | I9: =E9-D9 -> 0 | J9: =G9-F9 -> 0 | K9: =J9+I9 -> 0
B10: =B1-DAY(B1)+14-WEEKDAY(B1-DAY(B1)) -> 41314 | C10: =IF(MONTH($A$14)<>MONTH($A$14-(WEEKDAY($A$14,1)-($A$6-1))-IF((WEEKDAY($A$14,1)-($A$6-1))<=0,7,0)+(ROW(J5)-ROW($C$5))*7+(COLUMN(J5)-COLUMN($C$5)+1)),"",$A$14-(WEEKDAY($A$14,1)-($A$6-1))-IF((WEEKDAY($A$14,1)-($A$6-1))<=0,7,0)+(ROW(J5)-ROW($C$5))*7+(COLUMN(J5)-COLUMN($C$5)+1)) -> 41307 | H10: =IF(K10=0,"",K10) | I10: =E10-D10 -> 0 | J10: =G10-F10 -> 0 | K10: =J10+I10 -> 0
B11: =B1-DAY(B1)+15-WEEKDAY(B1-DAY(B1)) -> 41315 | C11: =IF(MONTH($A$14)<>MONTH($A$14-(WEEKDAY($A$14,1)-($A$6-1))-IF((WEEKDAY($A$14,1)-($A$6-1))<=0,7,0)+(ROW(K5)-ROW($C$5))*7+(COLUMN(K5)-COLUMN($C$5)+1)),"",$A$14-(WEEKDAY($A$14,1)-($A$6-1))-IF((WEEKDAY($A$14,1)-($A$6-1))<=0,7,0)+(ROW(K5)-ROW($C$5))*7+(COLUMN(K5)-COLUMN($C$5)+1)) -> 41308 | H11: =IF(K11=0,"",K11) | I11: =E11-D11 -> 0 | J11: =G11-F11 -> 0 | K11: =J11+I11 -> 0
B12: TOTAL SEMAINE | H12: =K12 -> 0 | K12: =K5+K6+K7+K8+K9+K10+K11 -> 0
B13: =INT((C20-(DATE(YEAR(C20-WEEKDAY(C20-1)+4),1,3)-WEEKDAY(DATE(YEAR(C20-WEEKDAY(C20-1)+4),1,3)))+5)/7) -> 6 | D13: ="Semaine du "&TEXT(MIN(C14:C18,C14:C18),"jj")&" au "&TEXT(MAX(C14:C18,C14:C18),"jj mmmm aaaa") -> Semaine du 04 au 08 février 2013
A14: =DATE(A1,A2,1) -> 41306 | B14: =B10-DAY(B10)+9-WEEKDAY(B10-DAY(B10)) -> 41309 | C14: =IF(MONTH($A$14)<>MONTH($A$14-(WEEKDAY($A$14,1)-($A$6-1))-IF((WEEKDAY($A$14,1)-($A$6-1))<=0,7,0)+(ROW(L5)-ROW($C$5))*7+(COLUMN(L5)-COLUMN($C$5)+1)),"",$A$14-(WEEKDAY($A$14,1)-($A$6-1))-IF((WEEKDAY($A$14,1)-($A$6-1))<=0,7,0)+(ROW(L5)-ROW($C$5))*7+(COLUMN(L5)-COLUMN($C$5)+1)) -> 41309 | H14: =K14 -> 0 | I14: =E14-D14 -> 0 | J14: =G14-F14 -> 0 | K14: =J14+I14 -> 0
B15: =B10-DAY(B10)+10-WEEKDAY(B10-DAY(B10)) -> 41310 | C15: =IF(MONTH($A$14)<>MONTH($A$14-(WEEKDAY($A$14,1)-($A$6-1))-IF((WEEKDAY($A$14,1)-($A$6-1))<=0,7,0)+(ROW(M5)-ROW($C$5))*7+(COLUMN(M5)-COLUMN($C$5)+1)),"",$A$14-(WEEKDAY($A$14,1)-($A$6-1))-IF((WEEKDAY($A$14,1)-($A$6-1))<=0,7,0)+(ROW(M5)-ROW($C$5))*7+(COLUMN(M5)-COLUMN($C$5)+1)) -> 41310 | H15: =K15 -> 0 | I15: =E15-D15 -> 0 | J15: =G15-F15 -> 0 | K15: =J15+I15 -> 0
B16: =B10-DAY(B10)+11-WEEKDAY(B10-DAY(B10)) -> 41311 | C16: =IF(MONTH($A$14)<>MONTH($A$14-(WEEKDAY($A$14,1)-($A$6-1))-IF((WEEKDAY($A$14,1)-($A$6-1))<=0,7,0)+(ROW(N5)-ROW($C$5))*7+(COLUMN(N5)-COLUMN($C$5)+1)),"",$A$14-(WEEKDAY($A$14,1)-($A$6-1))-IF((WEEKDAY($A$14,1)-($A$6-1))<=0,7,0)+(ROW(N5)-ROW($C$5))*7+(COLUMN(N5)-COLUMN($C$5)+1)) -> 41311 | H16: =IF(K16=0,"",K16) | I16: =E16-D16 -> 0 | J16: =G16-F16 -> 0 | K16: =J16+I16 -> 0
B17: =B10-DAY(B10)+12-WEEKDAY(B10-DAY(B10)) -> 41312 | C17: =IF(MONTH($A$14)<>MONTH($A$14-(WEEKDAY($A$14,1)-($A$6-1))-IF((WEEKDAY($A$14,1)-($A$6-1))<=0,7,0)+(ROW(O5)-ROW($C$5))*7+(COLUMN(O5)-COLUMN($C$5)+1)),"",$A$14-(WEEKDAY($A$14,1)-($A$6-1))-IF((WEEKDAY($A$14,1)-($A$6-1))<=0,7,0)+(ROW(O5)-ROW($C$5))*7+(COLUMN(O5)-COLUMN($C$5)+1)) -> 41312 | H17: =K17 -> 0 | I17: =E17-D17 -> 0 | J17: =G17-F17 -> 0 | K17: =J17+I17 -> 0
B18: =B10-DAY(B10)+13-WEEKDAY(B10-DAY(B10)) -> 41313 | C18: =IF(MONTH($A$14)<>MONTH($A$14-(WEEKDAY($A$14,1)-($A$6-1))-IF((WEEKDAY($A$14,1)-($A$6-1))<=0,7,0)+(ROW(P5)-ROW($C$5))*7+(COLUMN(P5)-COLUMN($C$5)+1)),"",$A$14-(WEEKDAY($A$14,1)-($A$6-1))-IF((WEEKDAY($A$14,1)-($A$6-1))<=0,7,0)+(ROW(P5)-ROW($C$5))*7+(COLUMN(P5)-COLUMN($C$5)+1)) -> 41313 | H18: =K18 -> 0 | I18: =E18-D18 -> 0 | J18: =G18-F18 -> 0 | K18: =J18+I18 -> 0
B19: =B10-DAY(B10)+14-WEEKDAY(B10-DAY(B10)) -> 41314 | C19: =IF(MONTH($A$14)<>MONTH($A$14-(WEEKDAY($A$14,1)-($A$6-1))-IF((WEEKDAY($A$14,1)-($A$6-1))<=0,7,0)+(ROW(Q5)-ROW($C$5))*7+(COLUMN(Q5)-COLUMN($C$5)+1)),"",$A$14-(WEEKDAY($A$14,1)-($A$6-1))-IF((WEEKDAY($A$14,1)-($A$6-1))<=0,7,0)+(ROW(Q5)-ROW($C$5))*7+(COLUMN(Q5)-COLUMN($C$5)+1)) -> 41314 | H19: =IF(K19=0,"",K19) | I19: =E19-D19 -> 0 | J19: =G19-F19 -> 0 | K19: =J19+I19 -> 0
B20: =B10-DAY(B10)+15-WEEKDAY(B10-DAY(B10)) -> 41315 | C20: =IF(MONTH($A$14)<>MONTH($A$14-(WEEKDAY($A$14,1)-($A$6-1))-IF((WEEKDAY($A$14,1)-($A$6-1))<=0,7,0)+(ROW(R5)-ROW($C$5))*7+(COLUMN(R5)-COLUMN($C$5)+1)),"",$A$14-(WEEKDAY($A$14,1)-($A$6-1))-IF((WEEKDAY($A$14,1)-($A$6-1))<=0,7,0)+(ROW(R5)-ROW($C$5))*7+(COLUMN(R5)-COLUMN($C$5)+1)) -> 41315 | H20: =IF(K20=0,"",K20) | I20: =E20-D20 -> 0 | J20: =G20-F20 -> 0 | K20: =J20+I20 -> 0
B21: TOTAL SEMAINE | H21: =K21 -> 0 | K21: =K14+K15+K16+K17+K18+K19+K20 -> 0
B22: =INT((C29-(DATE(YEAR(C29-WEEKDAY(C29-1)+4),1,3)-WEEKDAY(DATE(YEAR(C29-WEEKDAY(C29-1)+4),1,3)))+5)/7) -> 7 | D22: ="Semaine du "&TEXT(MIN(C23:C27,C23:C27),"jj")&" au "&TEXT(MAX(C23:C27,C23:C27),"jj mmmm aaaa") -> Semaine du 11 au 15 février 2013
B23: =B18-DAY(B18)+9-WEEKDAY(B18-DAY(B18)) -> 41309 | C23: =IF(MONTH($A$14)<>MONTH($A$14-(WEEKDAY($A$14,1)-($A$6-1))-IF((WEEKDAY($A$14,1)-($A$6-1))<=0,7,0)+(ROW(S5)-ROW($C$5))*7+(COLUMN(S5)-COLUMN($C$5)+1)),"",$A$14-(WEEKDAY($A$14,1)-($A$6-1))-IF((WEEKDAY($A$14,1)-($A$6-1))<=0,7,0)+(ROW(S5)-ROW($C$5))*7+(COLUMN(S5)-COLUMN($C$5)+1)) -> 41316 | H23: =K23 -> 0 | I23: =E23-D23 -> 0 | J23: =G23-F23 -> 0 | K23: =J23+I23 -> 0
B24: =B18-DAY(B18)+10-WEEKDAY(B18-DAY(B18)) -> 41310 | C24: =IF(MONTH($A$14)<>MONTH($A$14-(WEEKDAY($A$14,1)-($A$6-1))-IF((WEEKDAY($A$14,1)-($A$6-1))<=0,7,0)+(ROW(T5)-ROW($C$5))*7+(COLUMN(T5)-COLUMN($C$5)+1)),"",$A$14-(WEEKDAY($A$14,1)-($A$6-1))-IF((WEEKDAY($A$14,1)-($A$6-1))<=0,7,0)+(ROW(T5)-ROW($C$5))*7+(COLUMN(T5)-COLUMN($C$5)+1)) -> 41317 | H24: =K24 -> 0 | I24: =E24-D24 -> 0 | J24: =G24-F24 -> 0 | K24: =J24+I24 -> 0
B25: =B18-DAY(B18)+11-WEEKDAY(B18-DAY(B18)) -> 41311 | C25: =IF(MONTH($A$14)<>MONTH($A$14-(WEEKDAY($A$14,1)-($A$6-1))-IF((WEEKDAY($A$14,1)-($A$6-1))<=0,7,0)+(ROW(U5)-ROW($C$5))*7+(COLUMN(U5)-COLUMN($C$5)+1)),"",$A$14-(WEEKDAY($A$14,1)-($A$6-1))-IF((WEEKDAY($A$14,1)-($A$6-1))<=0,7,0)+(ROW(U5)-ROW($C$5))*7+(COLUMN(U5)-COLUMN($C$5)+1)) -> 41318 | H25: =IF(K25=0,"",K25) | I25: =E25-D25 -> 0 | J25: =G25-F25 -> 0 | K25: =J25+I25 -> 0
B26: =B18-DAY(B18)+12-WEEKDAY(B18-DAY(B18)) -> 41312 | C26: =IF(MONTH($A$14)<>MONTH($A$14-(WEEKDAY($A$14,1)-($A$6-1))-IF((WEEKDAY($A$14,1)-($A$6-1))<=0,7,0)+(ROW(V5)-ROW($C$5))*7+(COLUMN(V5)-COLUMN($C$5)+1)),"",$A$14-(WEEKDAY($A$14,1)-($A$6-1))-IF((WEEKDAY($A$14,1)-($A$6-1))<=0,7,0)+(ROW(V5)-ROW($C$5))*7+(COLUMN(V5)-COLUMN($C$5)+1)) -> 41319 | H26: =K26 -> 0 | I26: =E26-D26 -> 0 | J26: =G26-F26 -> 0 | K26: =J26+I26 -> 0
B27: =B18-DAY(B18)+13-WEEKDAY(B18-DAY(B18)) -> 41313 | C27: =IF(MONTH($A$14)<>MONTH($A$14-(WEEKDAY($A$14,1)-($A$6-1))-IF((WEEKDAY($A$14,1)-($A$6-1))<=0,7,0)+(ROW(W5)-ROW($C$5))*7+(COLUMN(W5)-COLUMN($C$5)+1)),"",$A$14-(WEEKDAY($A$14,1)-($A$6-1))-IF((WEEKDAY($A$14,1)-($A$6-1))<=0,7,0)+(ROW(W5)-ROW($C$5))*7+(COLUMN(W5)-COLUMN($C$5)+1)) -> 41320 | H27: =K27 -> 0 | I27: =E27-D27 -> 0 | J27: =G27-F27 -> 0 | K27: =J27+I27 -> 0
B28: =B18-DAY(B18)+14-WEEKDAY(B18-DAY(B18)) -> 41314 | C28: =IF(MONTH($A$14)<>MONTH($A$14-(WEEKDAY($A$14,1)-($A$6-1))-IF((WEEKDAY($A$14,1)-($A$6-1))<=0,7,0)+(ROW(X5)-ROW($C$5))*7+(COLUMN(X5)-COLUMN($C$5)+1)),"",$A$14-(WEEKDAY($A$14,1)-($A$6-1))-IF((WEEKDAY($A$14,1)-($A$6-1))<=0,7,0)+(ROW(X5)-ROW($C$5))*7+(COLUMN(X5)-COLUMN($C$5)+1)) -> 41321 | H28: =IF(K28=0,"",K28) | I28: =E28-D28 -> 0 | J28: =G28-F28 -> 0 | K28: =J28+I28 -> 0
B29: =B18-DAY(B18)+15-WEEKDAY(B18-DAY(B18)) -> 41315 | C29: =IF(MONTH($A$14)<>MONTH($A$14-(WEEKDAY($A$14,1)-($A$6-1))-IF((WEEKDAY($A$14,1)-($A$6-1))<=0,7,0)+(ROW(Y5)-ROW($C$5))*7+(COLUMN(Y5)-COLUMN($C$5)+1)),"",$A$14-(WEEKDAY($A$14,1)-($A$6-1))-IF((WEEKDAY($A$14,1)-($A$6-1))<=0,7,0)+(ROW(Y5)-ROW($C$5))*7+(COLUMN(Y5)-COLUMN($C$5)+1)) -> 41322 | H29: =IF(K29=0,"",K29) | I29: =E29-D29 -> 0 | J29: =G29-F29 -> 0 | K29: =J29+I29 -> 0
B30: TOTAL SEMAINE | H30: =K30 -> 0 | K30: =K23+K24+K25+K26+K27+K28+K29 -> 0
B31: =INT((C38-(DATE(YEAR(C38-WEEKDAY(C38-1)+4),1,3)-WEEKDAY(DATE(YEAR(C38-WEEKDAY(C38-1)+4),1,3)))+5)/7) -> 8 | D31: ="Semaine du "&TEXT(MIN(C32:C36,C32:C36),"jj")&" au "&TEXT(MAX(C32:C36,C32:C36),"jj mmmm aaaa") -> Semaine du 18 au 22 février 2013
B32: =B27-DAY(B27)+9-WEEKDAY(B27-DAY(B27)) -> 41309 | C32: =IF(MONTH($A$14)<>MONTH($A$14-(WEEKDAY($A$14,1)-($A$6-1))-IF((WEEKDAY($A$14,1)-($A$6-1))<=0,7,0)+(ROW(Z5)-ROW($C$5))*7+(COLUMN(Z5)-COLUMN($C$5)+1)),"",$A$14-(WEEKDAY($A$14,1)-($A$6-1))-IF((WEEKDAY($A$14,1)-($A$6-1))<=0,7,0)+(ROW(Z5)-ROW($C$5))*7+(COLUMN(Z5)-COLUMN($C$5)+1)) -> 41323 | H32: =K32 -> 0 | I32: =E32-D32 -> 0 | J32: =G32-F32 -> 0 | K32: =J32+I32 -> 0
B33: =B27-DAY(B27)+10-WEEKDAY(B27-DAY(B27)) -> 41310 | C33: =IF(MONTH($A$14)<>MONTH($A$14-(WEEKDAY($A$14,1)-($A$6-1))-IF((WEEKDAY($A$14,1)-($A$6-1))<=0,7,0)+(ROW(AA5)-ROW($C$5))*7+(COLUMN(AA5)-COLUMN($C$5)+1)),"",$A$14-(WEEKDAY($A$14,1)-($A$6-1))-IF((WEEKDAY($A$14,1)-($A$6-1))<=0,7,0)+(ROW(AA5)-ROW($C$5))*7+(COLUMN(AA5)-COLUMN($C$5)+1)) -> 41324 | H33: =K33 -> 0 | I33: =E33-D33 -> 0 | J33: =G33-F33 -> 0 | K33: =J33+I33 -> 0
B34: =B27-DAY(B27)+11-WEEKDAY(B27-DAY(B27)) -> 41311 | C34: =IF(MONTH($A$14)<>MONTH($A$14-(WEEKDAY($A$14,1)-($A$6-1))-IF((WEEKDAY($A$14,1)-($A$6-1))<=0,7,0)+(ROW(AB5)-ROW($C$5))*7+(COLUMN(AB5)-COLUMN($C$5)+1)),"",$A$14-(WEEKDAY($A$14,1)-($A$6-1))-IF((WEEKDAY($A$14,1)-($A$6-1))<=0,7,0)+(ROW(AB5)-ROW($C$5))*7+(COLUMN(AB5)-COLUMN($C$5)+1)) -> 41325 | H34: =IF(K34=0,"",K34) | I34: =E34-D34 -> 0 | J34: =G34-F34 -> 0 | K34: =J34+I34 -> 0
B35: =B27-DAY(B27)+12-WEEKDAY(B27-DAY(B27)) -> 41312 | C35: =IF(MONTH($A$14)<>MONTH($A$14-(WEEKDAY($A$14,1)-($A$6-1))-IF((WEEKDAY($A$14,1)-($A$6-1))<=0,7,0)+(ROW(AC5)-ROW($C$5))*7+(COLUMN(AC5)-COLUMN($C$5)+1)),"",$A$14-(WEEKDAY($A$14,1)-($A$6-1))-IF((WEEKDAY($A$14,1)-($A$6-1))<=0,7,0)+(ROW(AC5)-ROW($C$5))*7+(COLUMN(AC5)-COLUMN($C$5)+1)) -> 41326 | H35: =K35 -> 0 | I35: =E35-D35 -> 0 | J35: =G35-F35 -> 0 | K35: =J35+I35 -> 0
B36: =B27-DAY(B27)+13-WEEKDAY(B27-DAY(B27)) -> 41313 | C36: =IF(MONTH($A$14)<>MONTH($A$14-(WEEKDAY($A$14,1)-($A$6-1))-IF((WEEKDAY($A$14,1)-($A$6-1))<=0,7,0)+(ROW(AD5)-ROW($C$5))*7+(COLUMN(AD5)-COLUMN($C$5)+1)),"",$A$14-(WEEKDAY($A$14,1)-($A$6-1))-IF((WEEKDAY($A$14,1)-($A$6-1))<=0,7,0)+(ROW(AD5)-ROW($C$5))*7+(COLUMN(AD5)-COLUMN($C$5)+1)) -> 41327 | H36: =K36 -> 0 | I36: =E36-D36 -> 0 | J36: =G36-F36 -> 0 | K36: =J36+I36 -> 0
B37: =B27-DAY(B27)+14-WEEKDAY(B27-DAY(B27)) -> 41314 | C37: =IF(MONTH($A$14)<>MONTH($A$14-(WEEKDAY($A$14,1)-($A$6-1))-IF((WEEKDAY($A$14,1)-($A$6-1))<=0,7,0)+(ROW(AE5)-ROW($C$5))*7+(COLUMN(AE5)-COLUMN($C$5)+1)),"",$A$14-(WEEKDAY($A$14,1)-($A$6-1))-IF((WEEKDAY($A$14,1)-($A$6-1))<=0,7,0)+(ROW(AE5)-ROW($C$5))*7+(COLUMN(AE5)-COLUMN($C$5)+1)) -> 41328 | H37: =IF(K37=0,"",K37) | I37: =E37-D37 -> 0 | J37: =G37-F37 -> 0 | K37: =J37+I37 -> 0
B38: =B27-DAY(B27)+15-WEEKDAY(B27-DAY(B27)) -> 41315 | C38: =IF(MONTH($A$14)<>MONTH($A$14-(WEEKDAY($A$14,1)-($A$6-1))-IF((WEEKDAY($A$14,1)-($A$6-1))<=0,7,0)+(ROW(AF5)-ROW($C$5))*7+(COLUMN(AF5)-COLUMN($C$5)+1)),"",$A$14-(WEEKDAY($A$14,1)-($A$6-1))-IF((WEEKDAY($A$14,1)-($A$6-1))<=0,7,0)+(ROW(AF5)-ROW($C$5))*7+(COLUMN(AF5)-COLUMN($C$5)+1)) -> 41329 | H38: =IF(K38=0,"",K38) | I38: =E38-D38 -> 0 | J38: =G38-F38 -> 0 | K38: =J38+I38 -> 0
B39: TOTAL SEMAINE | H39: =K39 -> 0 | K39: =K32+K33+K34+K35+K36+K37+K38 -> 0
B40: =INT((C41-(DATE(YEAR(C41-WEEKDAY(C41-1)+4),1,3)-WEEKDAY(DATE(YEAR(C41-WEEKDAY(C41-1)+4),1,3)))+5)/7) -> 9 | D40: ="Semaine du "&TEXT(MIN(C41:C45,C41:C45),"jj")&" au "&TEXT(MAX(C41:C45,C41:C45),"jj mmmm aaaa") -> Semaine du 25 au 28 février 2013
...

Sheet Mars
A1: =YEAR(B1) -> 2013 | B1: =DATE(Février!A1,(Février!A2)+1,1) -> 41334 | D1: MATIN | E1: MIDI | F1: APRES MIDI | G1: SOIR | H1: TOTAL
A2: =MONTH(B1) -> 3 | B2: =INT((C11-(DATE(YEAR(C11-WEEKDAY(C11-1)+4),1,3)-WEEKDAY(DATE(YEAR(C11-WEEKDAY(C11-1)+4),1,3)))+5)/7) -> 9 | D2: ="Semaine du "&TEXT(MIN(C5:C9,C5:C9),"jj")&" au "&TEXT(MAX(C5:C9,C5:C9),"jj mmmm aaaa") -> Semaine du 01 au 01 mars 2013
C3: =IF(MONTH($A$14)<>MONTH($A$14-(WEEKDAY($A$14,1)-($A$6-1))-IF((WEEKDAY($A$14,1)-($A$6-1))<=0,7,0)+(ROW(C5)-ROW($C$5))*7+(COLUMN(C5)-COLUMN($C$5)+1)),"",$A$14-(WEEKDAY($A$14,1)-($A$6-1))-IF((WEEKDAY($A$14,1)-($A$6-1))<=0,7,0)+(ROW(C5)-ROW($C$5))*7+(COLUMN(C5)-COLUMN($C$5)+1))
C4: =IF(MONTH($A$14)<>MONTH($A$14-(WEEKDAY($A$14,1)-($A$6-1))-IF((WEEKDAY($A$14,1)-($A$6-1))<=0,7,0)+(ROW(D5)-ROW($C$5))*7+(COLUMN(D5)-COLUMN($C$5)+1)),"",$A$14-(WEEKDAY($A$14,1)-($A$6-1))-IF((WEEKDAY($A$14,1)-($A$6-1))<=0,7,0)+(ROW(D5)-ROW($C$5))*7+(COLUMN(D5)-COLUMN($C$5)+1))
A5: 7 | B5: =B1-DAY(B1)+9-WEEKDAY(B1-DAY(B1)) -> 41337 | C5: =IF(MONTH($A$14)<>MONTH($A$14-(WEEKDAY($A$14,1)-($A$6-1))-IF((WEEKDAY($A$14,1)-($A$6-1))<=0,7,0)+(ROW(E5)-ROW($C$5))*7+(COLUMN(E5)-COLUMN($C$5)+1)),"",$A$14-(WEEKDAY($A$14,1)-($A$6-1))-IF((WEEKDAY($A$14,1)-($A$6-1))<=0,7,0)+(ROW(E5)-ROW($C$5))*7+(COLUMN(E5)-COLUMN($C$5)+1)) | H5: =K5 -> 0 | I5: =E5-D5 -> 0 | J5: =G5-F5 -> 0 | K5: =J5+I5 -> 0
A6: 7 | B6: =B1-DAY(B1)+10-WEEKDAY(B1-DAY(B1)) -> 41338 | C6: =IF(MONTH($A$14)<>MONTH($A$14-(WEEKDAY($A$14,1)-($A$6-1))-IF((WEEKDAY($A$14,1)-($A$6-1))<=0,7,0)+(ROW(F5)-ROW($C$5))*7+(COLUMN(F5)-COLUMN($C$5)+1)),"",$A$14-(WEEKDAY($A$14,1)-($A$6-1))-IF((WEEKDAY($A$14,1)-($A$6-1))<=0,7,0)+(ROW(F5)-ROW($C$5))*7+(COLUMN(F5)-COLUMN($C$5)+1)) | H6: =K6 -> 0 | I6: =E6-D6 -> 0 | J6: =G6-F6 -> 0 | K6: =J6+I6 -> 0
B7: =B1-DAY(B1)+11-WEEKDAY(B1-DAY(B1)) -> 41339 | C7: =IF(MONTH($A$14)<>MONTH($A$14-(WEEKDAY($A$14,1)-($A$6-1))-IF((WEEKDAY($A$14,1)-($A$6-1))<=0,7,0)+(ROW(G5)-ROW($C$5))*7+(COLUMN(G5)-COLUMN($C$5)+1)),"",$A$14-(WEEKDAY($A$14,1)-($A$6-1))-IF((WEEKDAY($A$14,1)-($A$6-1))<=0,7,0)+(ROW(G5)-ROW($C$5))*7+(COLUMN(G5)-COLUMN($C$5)+1)) | H7: =IF(K7=0,"",K7) | I7: =E7-D7 -> 0 | J7: =G7-F7 -> 0 | K7: =J7+I7 -> 0
B8: =B1-DAY(B1)+12-WEEKDAY(B1-DAY(B1)) -> 41340 | C8: =IF(MONTH($A$14)<>MONTH($A$14-(WEEKDAY($A$14,1)-($A$6-1))-IF((WEEKDAY($A$14,1)-($A$6-1))<=0,7,0)+(ROW(H5)-ROW($C$5))*7+(COLUMN(H5)-COLUMN($C$5)+1)),"",$A$14-(WEEKDAY($A$14,1)-($A$6-1))-IF((WEEKDAY($A$14,1)-($A$6-1))<=0,7,0)+(ROW(H5)-ROW($C$5))*7+(COLUMN(H5)-COLUMN($C$5)+1)) | H8: =K8 -> 0 | I8: =E8-D8 -> 0 | J8: =G8-F8 -> 0 | K8: =J8+I8 -> 0
B9: =B1-DAY(B1)+13-WEEKDAY(B1-DAY(B1)) -> 41341 | C9: =IF(MONTH($A$14)<>MONTH($A$14-(WEEKDAY($A$14,1)-($A$6-1))-IF((WEEKDAY($A$14,1)-($A$6-1))<=0,7,0)+(ROW(I5)-ROW($C$5))*7+(COLUMN(I5)-COLUMN($C$5)+1)),"",$A$14-(WEEKDAY($A$14,1)-($A$6-1))-IF((WEEKDAY($A$14,1)-($A$6-1))<=0,7,0)+(ROW(I5)-ROW($C$5))*7+(COLUMN(I5)-COLUMN($C$5)+1)) -> 41334 | H9: =K9 -> 0 | I9: =E9-D9 -> 0 | J9: =G9-F9 -> 0 | K9: =J9+I9 -> 0
B10: =B1-DAY(B1)+14-WEEKDAY(B1-DAY(B1)) -> 41342 | C10: =IF(MONTH($A$14)<>MONTH($A$14-(WEEKDAY($A$14,1)-($A$6-1))-IF((WEEKDAY($A$14,1)-($A$6-1))<=0,7,0)+(ROW(J5)-ROW($C$5))*7+(COLUMN(J5)-COLUMN($C$5)+1)),"",$A$14-(WEEKDAY($A$14,1)-($A$6-1))-IF((WEEKDAY($A$14,1)-($A$6-1))<=0,7,0)+(ROW(J5)-ROW($C$5))*7+(COLUMN(J5)-COLUMN($C$5)+1)) -> 41335 | H10: =IF(K10=0,"",K10) | I10: =E10-D10 -> 0 | J10: =G10-F10 -> 0 | K10: =J10+I10 -> 0
B11: =B1-DAY(B1)+15-WEEKDAY(B1-DAY(B1)) -> 41343 | C11: =IF(MONTH($A$14)<>MONTH($A$14-(WEEKDAY($A$14,1)-($A$6-1))-IF((WEEKDAY($A$14,1)-($A$6-1))<=0,7,0)+(ROW(K5)-ROW($C$5))*7+(COLUMN(K5)-COLUMN($C$5)+1)),"",$A$14-(WEEKDAY($A$14,1)-($A$6-1))-IF((WEEKDAY($A$14,1)-($A$6-1))<=0,7,0)+(ROW(K5)-ROW($C$5))*7+(COLUMN(K5)-COLUMN($C$5)+1)) -> 41336 | H11: =IF(K11=0,"",K11) | I11: =E11-D11 -> 0 | J11: =G11-F11 -> 0 | K11: =J11+I11 -> 0
B12: TOTAL SEMAINE | H12: =K12 -> 0 | K12: =K5+K6+K7+K8+K9+K10+K11 -> 0
B13: =INT((C20-(DATE(YEAR(C20-WEEKDAY(C20-1)+4),1,3)-WEEKDAY(DATE(YEAR(C20-WEEKDAY(C20-1)+4),1,3)))+5)/7) -> 10 | D13: ="Semaine du "&TEXT(MIN(C14:C18,C14:C18),"jj")&" au "&TEXT(MAX(C14:C18,C14:C18),"jj mmmm aaaa") -> Semaine du 04 au 08 mars 2013
A14: =DATE(A1,A2,1) -> 41334 | B14: =B10-DAY(B10)+9-WEEKDAY(B10-DAY(B10)) -> 41337 | C14: =IF(MONTH($A$14)<>MONTH($A$14-(WEEKDAY($A$14,1)-($A$6-1))-IF((WEEKDAY($A$14,1)-($A$6-1))<=0,7,0)+(ROW(L5)-ROW($C$5))*7+(COLUMN(L5)-COLUMN($C$5)+1)),"",$A$14-(WEEKDAY($A$14,1)-($A$6-1))-IF((WEEKDAY($A$14,1)-($A$6-1))<=0,7,0)+(ROW(L5)-ROW($C$5))*7+(COLUMN(L5)-COLUMN($C$5)+1)) -> 41337 | H14: =K14 -> 0 | I14: =E14-D14 -> 0 | J14: =G14-F14 -> 0 | K14: =J14+I14 -> 0
B15: =B10-DAY(B10)+10-WEEKDAY(B10-DAY(B10)) -> 41338 | C15: =IF(MONTH($A$14)<>MONTH($A$14-(WEEKDAY($A$14,1)-($A$6-1))-IF((WEEKDAY($A$14,1)-($A$6-1))<=0,7,0)+(ROW(M5)-ROW($C$5))*7+(COLUMN(M5)-COLUMN($C$5)+1)),"",$A$14-(WEEKDAY($A$14,1)-($A$6-1))-IF((WEEKDAY($A$14,1)-($A$6-1))<=0,7,0)+(ROW(M5)-ROW($C$5))*7+(COLUMN(M5)-COLUMN($C$5)+1)) -> 41338 | H15: =K15 -> 0 | I15: =E15-D15 -> 0 | J15: =G15-F15 -> 0 | K15: =J15+I15 -> 0
B16: =B10-DAY(B10)+11-WEEKDAY(B10-DAY(B10)) -> 41339 | C16: =IF(MONTH($A$14)<>MONTH($A$14-(WEEKDAY($A$14,1)-($A$6-1))-IF((WEEKDAY($A$14,1)-($A$6-1))<=0,7,0)+(ROW(N5)-ROW($C$5))*7+(COLUMN(N5)-COLUMN($C$5)+1)),"",$A$14-(WEEKDAY($A$14,1)-($A$6-1))-IF((WEEKDAY($A$14,1)-($A$6-1))<=0,7,0)+(ROW(N5)-ROW($C$5))*7+(COLUMN(N5)-COLUMN($C$5)+1)) -> 41339 | H16: =IF(K16=0,"",K16) | I16: =E16-D16 -> 0 | J16: =G16-F16 -> 0 | K16: =J16+I16 -> 0
B17: =B10-DAY(B10)+12-WEEKDAY(B10-DAY(B10)) -> 41340 | C17: =IF(MONTH($A$14)<>MONTH($A$14-(WEEKDAY($A$14,1)-($A$6-1))-IF((WEEKDAY($A$14,1)-($A$6-1))<=0,7,0)+(ROW(O5)-ROW($C$5))*7+(COLUMN(O5)-COLUMN($C$5)+1)),"",$A$14-(WEEKDAY($A$14,1)-($A$6-1))-IF((WEEKDAY($A$14,1)-($A$6-1))<=0,7,0)+(ROW(O5)-ROW($C$5))*7+(COLUMN(O5)-COLUMN($C$5)+1)) -> 41340 | H17: =K17 -> 0 | I17: =E17-D17 -> 0 | J17: =G17-F17 -> 0 | K17: =J17+I17 -> 0
B18: =B10-DAY(B10)+13-WEEKDAY(B10-DAY(B10)) -> 41341 | C18: =IF(MONTH($A$14)<>MONTH($A$14-(WEEKDAY($A$14,1)-($A$6-1))-IF((WEEKDAY($A$14,1)-($A$6-1))<=0,7,0)+(ROW(P5)-ROW($C$5))*7+(COLUMN(P5)-COLUMN($C$5)+1)),"",$A$14-(WEEKDAY($A$14,1)-($A$6-1))-IF((WEEKDAY($A$14,1)-($A$6-1))<=0,7,0)+(ROW(P5)-ROW($C$5))*7+(COLUMN(P5)-COLUMN($C$5)+1)) -> 41341 | H18: =K18 -> 0 | I18: =E18-D18 -> 0 | J18: =G18-F18 -> 0 | K18: =J18+I18 -> 0
B19: =B10-DAY(B10)+14-WEEKDAY(B10-DAY(B10)) -> 41342 | C19: =IF(MONTH($A$14)<>MONTH($A$14-(WEEKDAY($A$14,1)-($A$6-1))-IF((WEEKDAY($A$14,1)-($A$6-1))<=0,7,0)+(ROW(Q5)-ROW($C$5))*7+(COLUMN(Q5)-COLUMN($C$5)+1)),"",$A$14-(WEEKDAY($A$14,1)-($A$6-1))-IF((WEEKDAY($A$14,1)-($A$6-1))<=0,7,0)+(ROW(Q5)-ROW($C$5))*7+(COLUMN(Q5)-COLUMN($C$5)+1)) -> 41342 | H19: =IF(K19=0,"",K19) | I19: =E19-D19 -> 0 | J19: =G19-F19 -> 0 | K19: =J19+I19 -> 0
B20: =B10-DAY(B10)+15-WEEKDAY(B10-DAY(B10)) -> 41343 | C20: =IF(MONTH($A$14)<>MONTH($A$14-(WEEKDAY($A$14,1)-($A$6-1))-IF((WEEKDAY($A$14,1)-($A$6-1))<=0,7,0)+(ROW(R5)-ROW($C$5))*7+(COLUMN(R5)-COLUMN($C$5)+1)),"",$A$14-(WEEKDAY($A$14,1)-($A$6-1))-IF((WEEKDAY($A$14,1)-($A$6-1))<=0,7,0)+(ROW(R5)-ROW($C$5))*7+(COLUMN(R5)-COLUMN($C$5)+1)) -> 41343 | H20: =IF(K20=0,"",K20) | I20: =E20-D20 -> 0 | J20: =G20-F20 -> 0 | K20: =J20+I20 -> 0
B21: TOTAL SEMAINE | H21: =K21 -> 0 | K21: =K14+K15+K16+K17+K18+K19+K20 -> 0
B22: =INT((C29-(DATE(YEAR(C29-WEEKDAY(C29-1)+4),1,3)-WEEKDAY(DATE(YEAR(C29-WEEKDAY(C29-1)+4),1,3)))+5)/7) -> 11 | D22: ="Semaine du "&TEXT(MIN(C23:C27,C23:C27),"jj")&" au "&TEXT(MAX(C23:C27,C23:C27),"jj mmmm aaaa") -> Semaine du 11 au 15 mars 2013
B23: =B18-DAY(B18)+9-WEEKDAY(B18-DAY(B18)) -> 41337 | C23: =IF(MONTH($A$14)<>MONTH($A$14-(WEEKDAY($A$14,1)-($A$6-1))-IF((WEEKDAY($A$14,1)-($A$6-1))<=0,7,0)+(ROW(S5)-ROW($C$5))*7+(COLUMN(S5)-COLUMN($C$5)+1)),"",$A$14-(WEEKDAY($A$14,1)-($A$6-1))-IF((WEEKDAY($A$14,1)-($A$6-1))<=0,7,0)+(ROW(S5)-ROW($C$5))*7+(COLUMN(S5)-COLUMN($C$5)+1)) -> 41344 | D23: 0.41666667 | E23: 0.52083333 | F23: 0.5625 | G23: 0.70833333 | H23: =K23 -> 0.25 | I23: =E23-D23 -> 0.10416667 | J23: =G23-F23 -> 0.14583333 | K23: =J23+I23 -> 0.25
B24: =B18-DAY(B18)+10-WEEKDAY(B18-DAY(B18)) -> 41338 | C24: =IF(MONTH($A$14)<>MONTH($A$14-(WEEKDAY($A$14,1)-($A$6-1))-IF((WEEKDAY($A$14,1)-($A$6-1))<=0,7,0)+(ROW(T5)-ROW($C$5))*7+(COLUMN(T5)-COLUMN($C$5)+1)),"",$A$14-(WEEKDAY($A$14,1)-($A$6-1))-IF((WEEKDAY($A$14,1)-($A$6-1))<=0,7,0)+(ROW(T5)-ROW($C$5))*7+(COLUMN(T5)-COLUMN($C$5)+1)) -> 41345 | D24: 0.375 | E24: 0.52083333 | H24: =K24 -> 0.14583333 | I24: =E24-D24 -> 0.14583333 | J24: =G24-F24 -> 0 | K24: =J24+I24 -> 0.14583333
B25: =B18-DAY(B18)+11-WEEKDAY(B18-DAY(B18)) -> 41339 | C25: =IF(MONTH($A$14)<>MONTH($A$14-(WEEKDAY($A$14,1)-($A$6-1))-IF((WEEKDAY($A$14,1)-($A$6-1))<=0,7,0)+(ROW(U5)-ROW($C$5))*7+(COLUMN(U5)-COLUMN($C$5)+1)),"",$A$14-(WEEKDAY($A$14,1)-($A$6-1))-IF((WEEKDAY($A$14,1)-($A$6-1))<=0,7,0)+(ROW(U5)-ROW($C$5))*7+(COLUMN(U5)-COLUMN($C$5)+1)) -> 41346 | H25: =IF(K25=0,"",K25) | I25: =E25-D25 -> 0 | J25: =G25-F25 -> 0 | K25: =J25+I25 -> 0
B26: =B18-DAY(B18)+12-WEEKDAY(B18-DAY(B18)) -> 41340 | C26: =IF(MONTH($A$14)<>MONTH($A$14-(WEEKDAY($A$14,1)-($A$6-1))-IF((WEEKDAY($A$14,1)-($A$6-1))<=0,7,0)+(ROW(V5)-ROW($C$5))*7+(COLUMN(V5)-COLUMN($C$5)+1)),"",$A$14-(WEEKDAY($A$14,1)-($A$6-1))-IF((WEEKDAY($A$14,1)-($A$6-1))<=0,7,0)+(ROW(V5)-ROW($C$5))*7+(COLUMN(V5)-COLUMN($C$5)+1)) -> 41347 | D26: 0.375 | E26: 0.52083333 | F26: 0.5625 | G26: 0.70833333 | H26: =K26 -> 0.29166667 | I26: =E26-D26 -> 0.14583333 | J26: =G26-F26 -> 0.14583333 | K26: =J26+I26 -> 0.29166667
B27: =B18-DAY(B18)+13-WEEKDAY(B18-DAY(B18)) -> 41341 | C27: =IF(MONTH($A$14)<>MONTH($A$14-(WEEKDAY($A$14,1)-($A$6-1))-IF((WEEKDAY($A$14,1)-($A$6-1))<=0,7,0)+(ROW(W5)-ROW($C$5))*7+(COLUMN(W5)-COLUMN($C$5)+1)),"",$A$14-(WEEKDAY($A$14,1)-($A$6-1))-IF((WEEKDAY($A$14,1)-($A$6-1))<=0,7,0)+(ROW(W5)-ROW($C$5))*7+(COLUMN(W5)-COLUMN($C$5)+1)) -> 41348 | D27: 0.375 | E27: 0.52083333 | H27: =K27 -> 0.14583333 | I27: =E27-D27 -> 0.14583333 | J27: =G27-F27 -> 0 | K27: =J27+I27 -> 0.14583333
B28: =B18-DAY(B18)+14-WEEKDAY(B18-DAY(B18)) -> 41342 | C28: =IF(MONTH($A$14)<>MONTH($A$14-(WEEKDAY($A$14,1)-($A$6-1))-IF((WEEKDAY($A$14,1)-($A$6-1))<=0,7,0)+(ROW(X5)-ROW($C$5))*7+(COLUMN(X5)-COLUMN($C$5)+1)),"",$A$14-(WEEKDAY($A$14,1)-($A$6-1))-IF((WEEKDAY($A$14,1)-($A$6-1))<=0,7,0)+(ROW(X5)-ROW($C$5))*7+(COLUMN(X5)-COLUMN($C$5)+1)) -> 41349 | H28: =IF(K28=0,"",K28) | I28: =E28-D28 -> 0 | J28: =G28-F28 -> 0 | K28: =J28+I28 -> 0
B29: =B18-DAY(B18)+15-WEEKDAY(B18-DAY(B18)) -> 41343 | C29: =IF(MONTH($A$14)<>MONTH($A$14-(WEEKDAY($A$14,1)-($A$6-1))-IF((WEEKDAY($A$14,1)-($A$6-1))<=0,7,0)+(ROW(Y5)-ROW($C$5))*7+(COLUMN(Y5)-COLUMN($C$5)+1)),"",$A$14-(WEEKDAY($A$14,1)-($A$6-1))-IF((WEEKDAY($A$14,1)-($A$6-1))<=0,7,0)+(ROW(Y5)-ROW($C$5))*7+(COLUMN(Y5)-COLUMN($C$5)+1)) -> 41350 | H29: =IF(K29=0,"",K29) | I29: =E29-D29 -> 0 | J29: =G29-F29 -> 0 | K29: =J29+I29 -> 0
B30: TOTAL SEMAINE | H30: =K30 -> 0.83333333 | K30: =K23+K24+K25+K26+K27+K28+K29 -> 0.83333333
B31: =INT((C38-(DATE(YEAR(C38-WEEKDAY(C38-1)+4),1,3)-WEEKDAY(DATE(YEAR(C38-WEEKDAY(C38-1)+4),1,3)))+5)/7) -> 12 | D31: ="Semaine du "&TEXT(MIN(C32:C36,C32:C36),"jj")&" au "&TEXT(MAX(C32:C36,C32:C36),"jj mmmm aaaa") -> Semaine du 18 au 22 mars 2013
B32: =B27-DAY(B27)+9-WEEKDAY(B27-DAY(B27)) -> 41337 | C32: =IF(MONTH($A$14)<>MONTH($A$14-(WEEKDAY($A$14,1)-($A$6-1))-IF((WEEKDAY($A$14,1)-($A$6-1))<=0,7,0)+(ROW(Z5)-ROW($C$5))*7+(COLUMN(Z5)-COLUMN($C$5)+1)),"",$A$14-(WEEKDAY($A$14,1)-($A$6-1))-IF((WEEKDAY($A$14,1)-($A$6-1))<=0,7,0)+(ROW(Z5)-ROW($C$5))*7+(COLUMN(Z5)-COLUMN($C$5)+1)) -> 41351 | D32: 0.375 | E32: 0.52083333 | F32: 0.58333333 | G32: 0.70833333 | H32: =K32 -> 0.27083333 | I32: =E32-D32 -> 0.14583333 | J32: =G32-F32 -> 0.125 | K32: =J32+I32 -> 0.27083333
B33: =B27-DAY(B27)+10-WEEKDAY(B27-DAY(B27)) -> 41338 | C33: =IF(MONTH($A$14)<>MONTH($A$14-(WEEKDAY($A$14,1)-($A$6-1))-IF((WEEKDAY($A$14,1)-($A$6-1))<=0,7,0)+(ROW(AA5)-ROW($C$5))*7+(COLUMN(AA5)-COLUMN($C$5)+1)),"",$A$14-(WEEKDAY($A$14,1)-($A$6-1))-IF((WEEKDAY($A$14,1)-($A$6-1))<=0,7,0)+(ROW(AA5)-ROW($C$5))*7+(COLUMN(AA5)-COLUMN($C$5)+1)) -> 41352 | D33: 0.375 | E33: 0.52083333 | H33: =K33 -> 0.14583333 | I33: =E33-D33 -> 0.14583333 | J33: =G33-F33 -> 0 | K33: =J33+I33 -> 0.14583333
B34: =B27-DAY(B27)+11-WEEKDAY(B27-DAY(B27)) -> 41339 | C34: =IF(MONTH($A$14)<>MONTH($A$14-(WEEKDAY($A$14,1)-($A$6-1))-IF((WEEKDAY($A$14,1)-($A$6-1))<=0,7,0)+(ROW(AB5)-ROW($C$5))*7+(COLUMN(AB5)-COLUMN($C$5)+1)),"",$A$14-(WEEKDAY($A$14,1)-($A$6-1))-IF((WEEKDAY($A$14,1)-($A$6-1))<=0,7,0)+(ROW(AB5)-ROW($C$5))*7+(COLUMN(AB5)-COLUMN($C$5)+1)) -> 41353 | H34: =IF(K34=0,"",K34) | I34: =E34-D34 -> 0 | J34: =G34-F34 -> 0 | K34: =J34+I34 -> 0
B35: =B27-DAY(B27)+12-WEEKDAY(B27-DAY(B27)) -> 41340 | C35: =IF(MONTH($A$14)<>MONTH($A$14-(WEEKDAY($A$14,1)-($A$6-1))-IF((WEEKDAY($A$14,1)-($A$6-1))<=0,7,0)+(ROW(AC5)-ROW($C$5))*7+(COLUMN(AC5)-COLUMN($C$5)+1)),"",$A$14-(WEEKDAY($A$14,1)-($A$6-1))-IF((WEEKDAY($A$14,1)-($A$6-1))<=0,7,0)+(ROW(AC5)-ROW($C$5))*7+(COLUMN(AC5)-COLUMN($C$5)+1)) -> 41354 | D35: 0.375 | E35: 0.52083333 | F35: 0.58333333 | G35: 0.70833333 | H35: =K35 -> 0.27083333 | I35: =E35-D35 -> 0.14583333 | J35: =G35-F35 -> 0.125 | K35: =J35+I35 -> 0.27083333
B36: =B27-DAY(B27)+13-WEEKDAY(B27-DAY(B27)) -> 41341 | C36: =IF(MONTH($A$14)<>MONTH($A$14-(WEEKDAY($A$14,1)-($A$6-1))-IF((WEEKDAY($A$14,1)-($A$6-1))<=0,7,0)+(ROW(AD5)-ROW($C$5))*7+(COLUMN(AD5)-COLUMN($C$5)+1)),"",$A$14-(WEEKDAY($A$14,1)-($A$6-1))-IF((WEEKDAY($A$14,1)-($A$6-1))<=0,7,0)+(ROW(AD5)-ROW($C$5))*7+(COLUMN(AD5)-COLUMN($C$5)+1)) -> 41355 | D36: 0.375 | E36: 0.52083333 | H36: =K36 -> 0.14583333 | I36: =E36-D36 -> 0.14583333 | J36: =G36-F36 -> 0 | K36: =J36+I36 -> 0.14583333
B37: =B27-DAY(B27)+14-WEEKDAY(B27-DAY(B27)) -> 41342 | C37: =IF(MONTH($A$14)<>MONTH($A$14-(WEEKDAY($A$14,1)-($A$6-1))-IF((WEEKDAY($A$14,1)-($A$6-1))<=0,7,0)+(ROW(AE5)-ROW($C$5))*7+(COLUMN(AE5)-COLUMN($C$5)+1)),"",$A$14-(WEEKDAY($A$14,1)-($A$6-1))-IF((WEEKDAY($A$14,1)-($A$6-1))<=0,7,0)+(ROW(AE5)-ROW($C$5))*7+(COLUMN(AE5)-COLUMN($C$5)+1)) -> 41356 | H37: =IF(K37=0,"",K37) | I37: =E37-D37 -> 0 | J37: =G37-F37 -> 0 | K37: =J37+I37 -> 0
B38: =B27-DAY(B27)+15-WEEKDAY(B27-DAY(B27)) -> 41343 | C38: =IF(MONTH($A$14)<>MONTH($A$14-(WEEKDAY($A$14,1)-($A$6-1))-IF((WEEKDAY($A$14,1)-($A$6-1))<=0,7,0)+(ROW(AF5)-ROW($C$5))*7+(COLUMN(AF5)-COLUMN($C$5)+1)),"",$A$14-(WEEKDAY($A$14,1)-($A$6-1))-IF((WEEKDAY($A$14,1)-($A$6-1))<=0,7,0)+(ROW(AF5)-ROW($C$5))*7+(COLUMN(AF5)-COLUMN($C$5)+1)) -> 41357 | H38: =IF(K38=0,"",K38) | I38: =E38-D38 -> 0 | J38: =G38-F38 -> 0 | K38: =J38+I38 -> 0
B39: TOTAL SEMAINE | H39: =K39 -> 0.83333333 | K39: =K32+K33+K34+K35+K36+K37+K38 -> 0.83333333
B40: =INT((C41-(DATE(YEAR(C41-WEEKDAY(C41-1)+4),1,3)-WEEKDAY(DATE(YEAR(C41-WEEKDAY(C41-1)+4),1,3)))+5)/7) -> 13 | D40: ="Semaine du "&TEXT(MIN(C41:C45,C41:C45),"jj")&" au "&TEXT(MAX(C41:C45,C41:C45),"jj mmmm aaaa") -> Semaine du 25 au 29 mars 2013
...

Sheet Avril
A1: =YEAR(B1) -> 2013 | B1: =DATE(Mars!A1,(Mars!A2)+1,1) -> 41365 | D1: MATIN | E1: MIDI | F1: APRES MIDI | G1: SOIR | H1: TOTAL
A2: =MONTH(B1) -> 4 | B2: =INT((C11-(DATE(YEAR(C11-WEEKDAY(C11-1)+4),1,3)-WEEKDAY(DATE(YEAR(C11-WEEKDAY(C11-1)+4),1,3)))+5)/7) -> 14 | D2: ="Semaine du "&TEXT(MIN(C5:C9,C5:C9),"jj")&" au "&TEXT(MAX(C5:C9,C5:C9),"jj mmmm aaaa") -> Semaine du 01 au 05 avril 2013
C3: =IF(MONTH($A$14)<>MONTH($A$14-(WEEKDAY($A$14,1)-($A$6-1))-IF((WEEKDAY($A$14,1)-($A$6-1))<=0,7,0)+(ROW(C5)-ROW($C$5))*7+(COLUMN(C5)-COLUMN($C$5)+1)),"",$A$14-(WEEKDAY($A$14,1)-($A$6-1))-IF((WEEKDAY($A$14,1)-($A$6-1))<=0,7,0)+(ROW(C5)-ROW($C$5))*7+(COLUMN(C5)-COLUMN($C$5)+1))
C4: =IF(MONTH($A$14)<>MONTH($A$14-(WEEKDAY($A$14,1)-($A$6-1))-IF((WEEKDAY($A$14,1)-($A$6-1))<=0,7,0)+(ROW(D5)-ROW($C$5))*7+(COLUMN(D5)-COLUMN($C$5)+1)),"",$A$14-(WEEKDAY($A$14,1)-($A$6-1))-IF((WEEKDAY($A$14,1)-($A$6-1))<=0,7,0)+(ROW(D5)-ROW($C$5))*7+(COLUMN(D5)-COLUMN($C$5)+1))
A5: 7 | B5: =B1-DAY(B1)+9-WEEKDAY(B1-DAY(B1)) -> 41372 | C5: =IF(MONTH($A$14)<>MONTH($A$14-(WEEKDAY($A$14,1)-($A$6-1))-IF((WEEKDAY($A$14,1)-($A$6-1))<=0,7,0)+(ROW(E5)-ROW($C$5))*7+(COLUMN(E5)-COLUMN($C$5)+1)),"",$A$14-(WEEKDAY($A$14,1)-($A$6-1))-IF((WEEKDAY($A$14,1)-($A$6-1))<=0,7,0)+(ROW(E5)-ROW($C$5))*7+(COLUMN(E5)-COLUMN($C$5)+1)) -> 41365 | H5: =K5 -> 0 | I5: =E5-D5 -> 0 | J5: =G5-F5 -> 0 | K5: =J5+I5 -> 0
A6: 7 | B6: =B1-DAY(B1)+10-WEEKDAY(B1-DAY(B1)) -> 41373 | C6: =IF(MONTH($A$14)<>MONTH($A$14-(WEEKDAY($A$14,1)-($A$6-1))-IF((WEEKDAY($A$14,1)-($A$6-1))<=0,7,0)+(ROW(F5)-ROW($C$5))*7+(COLUMN(F5)-COLUMN($C$5)+1)),"",$A$14-(WEEKDAY($A$14,1)-($A$6-1))-IF((WEEKDAY($A$14,1)-($A$6-1))<=0,7,0)+(ROW(F5)-ROW($C$5))*7+(COLUMN(F5)-COLUMN($C$5)+1)) -> 41366 | D6: 0.375 | E6: 0.52083333 | H6: =K6 -> 0.14583333 | I6: =E6-D6 -> 0.14583333 | J6: =G6-F6 -> 0 | K6: =J6+I6 -> 0.14583333
B7: =B1-DAY(B1)+11-WEEKDAY(B1-DAY(B1)) -> 41374 | C7: =IF(MONTH($A$14)<>MONTH($A$14-(WEEKDAY($A$14,1)-($A$6-1))-IF((WEEKDAY($A$14,1)-($A$6-1))<=0,7,0)+(ROW(G5)-ROW($C$5))*7+(COLUMN(G5)-COLUMN($C$5)+1)),"",$A$14-(WEEKDAY($A$14,1)-($A$6-1))-IF((WEEKDAY($A$14,1)-($A$6-1))<=0,7,0)+(ROW(G5)-ROW($C$5))*7+(COLUMN(G5)-COLUMN($C$5)+1)) -> 41367 | H7: =IF(K7=0,"",K7) | I7: =E7-D7 -> 0 | J7: =G7-F7 -> 0 | K7: =J7+I7 -> 0
B8: =B1-DAY(B1)+12-WEEKDAY(B1-DAY(B1)) -> 41375 | C8: =IF(MONTH($A$14)<>MONTH($A$14-(WEEKDAY($A$14,1)-($A$6-1))-IF((WEEKDAY($A$14,1)-($A$6-1))<=0,7,0)+(ROW(H5)-ROW($C$5))*7+(COLUMN(H5)-COLUMN($C$5)+1)),"",$A$14-(WEEKDAY($A$14,1)-($A$6-1))-IF((WEEKDAY($A$14,1)-($A$6-1))<=0,7,0)+(ROW(H5)-ROW($C$5))*7+(COLUMN(H5)-COLUMN($C$5)+1)) -> 41368 | D8: 0.375 | E8: 0.52083333 | F8: 0.5625 | G8: 0.70833333 | H8: =K8 -> 0.29166667 | I8: =E8-D8 -> 0.14583333 | J8: =G8-F8 -> 0.14583333 | K8: =J8+I8 -> 0.29166667
B9: =B1-DAY(B1)+13-WEEKDAY(B1-DAY(B1)) -> 41376 | C9: =IF(MONTH($A$14)<>MONTH($A$14-(WEEKDAY($A$14,1)-($A$6-1))-IF((WEEKDAY($A$14,1)-($A$6-1))<=0,7,0)+(ROW(I5)-ROW($C$5))*7+(COLUMN(I5)-COLUMN($C$5)+1)),"",$A$14-(WEEKDAY($A$14,1)-($A$6-1))-IF((WEEKDAY($A$14,1)-($A$6-1))<=0,7,0)+(ROW(I5)-ROW($C$5))*7+(COLUMN(I5)-COLUMN($C$5)+1)) -> 41369 | D9: 0.375 | E9: 0.52083333 | H9: =K9 -> 0.14583333 | I9: =E9-D9 -> 0.14583333 | J9: =G9-F9 -> 0 | K9: =J9+I9 -> 0.14583333
B10: =B1-DAY(B1)+14-WEEKDAY(B1-DAY(B1)) -> 41377 | C10: =IF(MONTH($A$14)<>MONTH($A$14-(WEEKDAY($A$14,1)-($A$6-1))-IF((WEEKDAY($A$14,1)-($A$6-1))<=0,7,0)+(ROW(J5)-ROW($C$5))*7+(COLUMN(J5)-COLUMN($C$5)+1)),"",$A$14-(WEEKDAY($A$14,1)-($A$6-1))-IF((WEEKDAY($A$14,1)-($A$6-1))<=0,7,0)+(ROW(J5)-ROW($C$5))*7+(COLUMN(J5)-COLUMN($C$5)+1)) -> 41370 | H10: =IF(K10=0,"",K10) | I10: =E10-D10 -> 0 | J10: =G10-F10 -> 0 | K10: =J10+I10 -> 0
B11: =B1-DAY(B1)+15-WEEKDAY(B1-DAY(B1)) -> 41378 | C11: =IF(MONTH($A$14)<>MONTH($A$14-(WEEKDAY($A$14,1)-($A$6-1))-IF((WEEKDAY($A$14,1)-($A$6-1))<=0,7,0)+(ROW(K5)-ROW($C$5))*7+(COLUMN(K5)-COLUMN($C$5)+1)),"",$A$14-(WEEKDAY($A$14,1)-($A$6-1))-IF((WEEKDAY($A$14,1)-($A$6-1))<=0,7,0)+(ROW(K5)-ROW($C$5))*7+(COLUMN(K5)-COLUMN($C$5)+1)) -> 41371 | H11: =IF(K11=0,"",K11) | I11: =E11-D11 -> 0 | J11: =G11-F11 -> 0 | K11: =J11+I11 -> 0
B12: TOTAL SEMAINE | H12: =K12 -> 0.58333333 | K12: =K5+K6+K7+K8+K9+K10+K11 -> 0.58333333
B13: =INT((C20-(DATE(YEAR(C20-WEEKDAY(C20-1)+4),1,3)-WEEKDAY(DATE(YEAR(C20-WEEKDAY(C20-1)+4),1,3)))+5)/7) -> 15 | D13: ="Semaine du "&TEXT(MIN(C14:C18,C14:C18),"jj")&" au "&TEXT(MAX(C14:C18,C14:C18),"jj mmmm aaaa") -> Semaine du 08 au 12 avril 2013
A14: =DATE(A1,A2,1) -> 41365 | B14: =B10-DAY(B10)+9-WEEKDAY(B10-DAY(B10)) -> 41372 | C14: =IF(MONTH($A$14)<>MONTH($A$14-(WEEKDAY($A$14,1)-($A$6-1))-IF((WEEKDAY($A$14,1)-($A$6-1))<=0,7,0)+(ROW(L5)-ROW($C$5))*7+(COLUMN(L5)-COLUMN($C$5)+1)),"",$A$14-(WEEKDAY($A$14,1)-($A$6-1))-IF((WEEKDAY($A$14,1)-($A$6-1))<=0,7,0)+(ROW(L5)-ROW($C$5))*7+(COLUMN(L5)-COLUMN($C$5)+1)) -> 41372 | D14: 0.41666667 | E14: 0.52083333 | F14: 0.5625 | G14: 0.70833333 | H14: =K14 -> 0.25 | I14: =E14-D14 -> 0.10416667 | J14: =G14-F14 -> 0.14583333 | K14: =J14+I14 -> 0.25
B15: =B10-DAY(B10)+10-WEEKDAY(B10-DAY(B10)) -> 41373 | C15: =IF(MONTH($A$14)<>MONTH($A$14-(WEEKDAY($A$14,1)-($A$6-1))-IF((WEEKDAY($A$14,1)-($A$6-1))<=0,7,0)+(ROW(M5)-ROW($C$5))*7+(COLUMN(M5)-COLUMN($C$5)+1)),"",$A$14-(WEEKDAY($A$14,1)-($A$6-1))-IF((WEEKDAY($A$14,1)-($A$6-1))<=0,7,0)+(ROW(M5)-ROW($C$5))*7+(COLUMN(M5)-COLUMN($C$5)+1)) -> 41373 | D15: 0.375 | E15: 0.52083333 | H15: =K15 -> 0.14583333 | I15: =E15-D15 -> 0.14583333 | J15: =G15-F15 -> 0 | K15: =J15+I15 -> 0.14583333
B16: =B10-DAY(B10)+11-WEEKDAY(B10-DAY(B10)) -> 41374 | C16: =IF(MONTH($A$14)<>MONTH($A$14-(WEEKDAY($A$14,1)-($A$6-1))-IF((WEEKDAY($A$14,1)-($A$6-1))<=0,7,0)+(ROW(N5)-ROW($C$5))*7+(COLUMN(N5)-COLUMN($C$5)+1)),"",$A$14-(WEEKDAY($A$14,1)-($A$6-1))-IF((WEEKDAY($A$14,1)-($A$6-1))<=0,7,0)+(ROW(N5)-ROW($C$5))*7+(COLUMN(N5)-COLUMN($C$5)+1)) -> 41374 | H16: =IF(K16=0,"",K16) | I16: =E16-D16 -> 0 | J16: =G16-F16 -> 0 | K16: =J16+I16 -> 0
B17: =B10-DAY(B10)+12-WEEKDAY(B10-DAY(B10)) -> 41375 | C17: =IF(MONTH($A$14)<>MONTH($A$14-(WEEKDAY($A$14,1)-($A$6-1))-IF((WEEKDAY($A$14,1)-($A$6-1))<=0,7,0)+(ROW(O5)-ROW($C$5))*7+(COLUMN(O5)-COLUMN($C$5)+1)),"",$A$14-(WEEKDAY($A$14,1)-($A$6-1))-IF((WEEKDAY($A$14,1)-($A$6-1))<=0,7,0)+(ROW(O5)-ROW($C$5))*7+(COLUMN(O5)-COLUMN($C$5)+1)) -> 41375 | D17: 0.375 | E17: 0.52083333 | F17: 0.5625 | G17: 0.70833333 | H17: =K17 -> 0.29166667 | I17: =E17-D17 -> 0.14583333 | J17: =G17-F17 -> 0.14583333 | K17: =J17+I17 -> 0.29166667
B18: =B10-DAY(B10)+13-WEEKDAY(B10-DAY(B10)) -> 41376 | C18: =IF(MONTH($A$14)<>MONTH($A$14-(WEEKDAY($A$14,1)-($A$6-1))-IF((WEEKDAY($A$14,1)-($A$6-1))<=0,7,0)+(ROW(P5)-ROW($C$5))*7+(COLUMN(P5)-COLUMN($C$5)+1)),"",$A$14-(WEEKDAY($A$14,1)-($A$6-1))-IF((WEEKDAY($A$14,1)-($A$6-1))<=0,7,0)+(ROW(P5)-ROW($C$5))*7+(COLUMN(P5)-COLUMN($C$5)+1)) -> 41376 | D18: 0.375 | E18: 0.52083333 | H18: =K18 -> 0.14583333 | I18: =E18-D18 -> 0.14583333 | J18: =G18-F18 -> 0 | K18: =J18+I18 -> 0.14583333
B19: =B10-DAY(B10)+14-WEEKDAY(B10-DAY(B10)) -> 41377 | C19: =IF(MONTH($A$14)<>MONTH($A$14-(WEEKDAY($A$14,1)-($A$6-1))-IF((WEEKDAY($A$14,1)-($A$6-1))<=0,7,0)+(ROW(Q5)-ROW($C$5))*7+(COLUMN(Q5)-COLUMN($C$5)+1)),"",$A$14-(WEEKDAY($A$14,1)-($A$6-1))-IF((WEEKDAY($A$14,1)-($A$6-1))<=0,7,0)+(ROW(Q5)-ROW($C$5))*7+(COLUMN(Q5)-COLUMN($C$5)+1)) -> 41377 | H19: =IF(K19=0,"",K19) | I19: =E19-D19 -> 0 | J19: =G19-F19 -> 0 | K19: =J19+I19 -> 0
B20: =B10-DAY(B10)+15-WEEKDAY(B10-DAY(B10)) -> 41378 | C20: =IF(MONTH($A$14)<>MONTH($A$14-(WEEKDAY($A$14,1)-($A$6-1))-IF((WEEKDAY($A$14,1)-($A$6-1))<=0,7,0)+(ROW(R5)-ROW($C$5))*7+(COLUMN(R5)-COLUMN($C$5)+1)),"",$A$14-(WEEKDAY($A$14,1)-($A$6-1))-IF((WEEKDAY($A$14,1)-($A$6-1))<=0,7,0)+(ROW(R5)-ROW($C$5))*7+(COLUMN(R5)-COLUMN($C$5)+1)) -> 41378 | H20: =IF(K20=0,"",K20) | I20: =E20-D20 -> 0 | J20: =G20-F20 -> 0 | K20: =J20+I20 -> 0
B21: TOTAL SEMAINE | H21: =K21 -> 0.83333333 | K21: =K14+K15+K16+K17+K18+K19+K20 -> 0.83333333
B22: =INT((C29-(DATE(YEAR(C29-WEEKDAY(C29-1)+4),1,3)-WEEKDAY(DATE(YEAR(C29-WEEKDAY(C29-1)+4),1,3)))+5)/7) -> 16 | D22: ="Semaine du "&TEXT(MIN(C23:C27,C23:C27),"jj")&" au "&TEXT(MAX(C23:C27,C23:C27),"jj mmmm aaaa") -> Semaine du 15 au 19 avril 2013
B23: =B18-DAY(B18)+9-WEEKDAY(B18-DAY(B18)) -> 41372 | C23: =IF(MONTH($A$14)<>MONTH($A$14-(WEEKDAY($A$14,1)-($A$6-1))-IF((WEEKDAY($A$14,1)-($A$6-1))<=0,7,0)+(ROW(S5)-ROW($C$5))*7+(COLUMN(S5)-COLUMN($C$5)+1)),"",$A$14-(WEEKDAY($A$14,1)-($A$6-1))-IF((WEEKDAY($A$14,1)-($A$6-1))<=0,7,0)+(ROW(S5)-ROW($C$5))*7+(COLUMN(S5)-COLUMN($C$5)+1)) -> 41379 | D23: 0.41666667 | E23: 0.52083333 | F23: 0.5625 | G23: 0.70833333 | H23: =K23 -> 0.25 | I23: =E23-D23 -> 0.10416667 | J23: =G23-F23 -> 0.14583333 | K23: =J23+I23 -> 0.25
B24: =B18-DAY(B18)+10-WEEKDAY(B18-DAY(B18)) -> 41373 | C24: =IF(MONTH($A$14)<>MONTH($A$14-(WEEKDAY($A$14,1)-($A$6-1))-IF((WEEKDAY($A$14,1)-($A$6-1))<=0,7,0)+(ROW(T5)-ROW($C$5))*7+(COLUMN(T5)-COLUMN($C$5)+1)),"",$A$14-(WEEKDAY($A$14,1)-($A$6-1))-IF((WEEKDAY($A$14,1)-($A$6-1))<=0,7,0)+(ROW(T5)-ROW($C$5))*7+(COLUMN(T5)-COLUMN($C$5)+1)) -> 41380 | D24: 0.375 | E24: 0.52083333 | H24: =K24 -> 0.14583333 | I24: =E24-D24 -> 0.14583333 | J24: =G24-F24 -> 0 | K24: =J24+I24 -> 0.14583333
B25: =B18-DAY(B18)+11-WEEKDAY(B18-DAY(B18)) -> 41374 | C25: =IF(MONTH($A$14)<>MONTH($A$14-(WEEKDAY($A$14,1)-($A$6-1))-IF((WEEKDAY($A$14,1)-($A$6-1))<=0,7,0)+(ROW(U5)-ROW($C$5))*7+(COLUMN(U5)-COLUMN($C$5)+1)),"",$A$14-(WEEKDAY($A$14,1)-($A$6-1))-IF((WEEKDAY($A$14,1)-($A$6-1))<=0,7,0)+(ROW(U5)-ROW($C$5))*7+(COLUMN(U5)-COLUMN($C$5)+1)) -> 41381 | H25: =IF(K25=0,"",K25) | I25: =E25-D25 -> 0 | J25: =G25-F25 -> 0 | K25: =J25+I25 -> 0
B26: =B18-DAY(B18)+12-WEEKDAY(B18-DAY(B18)) -> 41375 | C26: =IF(MONTH($A$14)<>MONTH($A$14-(WEEKDAY($A$14,1)-($A$6-1))-IF((WEEKDAY($A$14,1)-($A$6-1))<=0,7,0)+(ROW(V5)-ROW($C$5))*7+(COLUMN(V5)-COLUMN($C$5)+1)),"",$A$14-(WEEKDAY($A$14,1)-($A$6-1))-IF((WEEKDAY($A$14,1)-($A$6-1))<=0,7,0)+(ROW(V5)-ROW($C$5))*7+(COLUMN(V5)-COLUMN($C$5)+1)) -> 41382 | D26: 0.375 | E26: 0.52083333 | F26: 0.5625 | G26: 0.70833333 | H26: =K26 -> 0.29166667 | I26: =E26-D26 -> 0.14583333 | J26: =G26-F26 -> 0.14583333 | K26: =J26+I26 -> 0.29166667
B27: =B18-DAY(B18)+13-WEEKDAY(B18-DAY(B18)) -> 41376 | C27: =IF(MONTH($A$14)<>MONTH($A$14-(WEEKDAY($A$14,1)-($A$6-1))-IF((WEEKDAY($A$14,1)-($A$6-1))<=0,7,0)+(ROW(W5)-ROW($C$5))*7+(COLUMN(W5)-COLUMN($C$5)+1)),"",$A$14-(WEEKDAY($A$14,1)-($A$6-1))-IF((WEEKDAY($A$14,1)-($A$6-1))<=0,7,0)+(ROW(W5)-ROW($C$5))*7+(COLUMN(W5)-COLUMN($C$5)+1)) -> 41383 | D27: 0.375 | E27: 0.52083333 | H27: =K27 -> 0.14583333 | I27: =E27-D27 -> 0.14583333 | J27: =G27-F27 -> 0 | K27: =J27+I27 -> 0.14583333
B28: =B18-DAY(B18)+14-WEEKDAY(B18-DAY(B18)) -> 41377 | C28: =IF(MONTH($A$14)<>MONTH($A$14-(WEEKDAY($A$14,1)-($A$6-1))-IF((WEEKDAY($A$14,1)-($A$6-1))<=0,7,0)+(ROW(X5)-ROW($C$5))*7+(COLUMN(X5)-COLUMN($C$5)+1)),"",$A$14-(WEEKDAY($A$14,1)-($A$6-1))-IF((WEEKDAY($A$14,1)-($A$6-1))<=0,7,0)+(ROW(X5)-ROW($C$5))*7+(COLUMN(X5)-COLUMN($C$5)+1)) -> 41384 | H28: =IF(K28=0,"",K28) | I28: =E28-D28 -> 0 | J28: =G28-F28 -> 0 | K28: =J28+I28 -> 0
B29: =B18-DAY(B18)+15-WEEKDAY(B18-DAY(B18)) -> 41378 | C29: =IF(MONTH($A$14)<>MONTH($A$14-(WEEKDAY($A$14,1)-($A$6-1))-IF((WEEKDAY($A$14,1)-($A$6-1))<=0,7,0)+(ROW(Y5)-ROW($C$5))*7+(COLUMN(Y5)-COLUMN($C$5)+1)),"",$A$14-(WEEKDAY($A$14,1)-($A$6-1))-IF((WEEKDAY($A$14,1)-($A$6-1))<=0,7,0)+(ROW(Y5)-ROW($C$5))*7+(COLUMN(Y5)-COLUMN($C$5)+1)) -> 41385 | H29: =IF(K29=0,"",K29) | I29: =E29-D29 -> 0 | J29: =G29-F29 -> 0 | K29: =J29+I29 -> 0
B30: TOTAL SEMAINE | H30: =K30 -> 0.83333333 | K30: =K23+K24+K25+K26+K27+K28+K29 -> 0.83333333
B31: =INT((C38-(DATE(YEAR(C38-WEEKDAY(C38-1)+4),1,3)-WEEKDAY(DATE(YEAR(C38-WEEKDAY(C38-1)+4),1,3)))+5)/7) -> 17 | D31: ="Semaine du "&TEXT(MIN(C32:C36,C32:C36),"jj")&" au "&TEXT(MAX(C32:C36,C32:C36),"jj mmmm aaaa") -> Semaine du 22 au 26 avril 2013
B32: =B27-DAY(B27)+9-WEEKDAY(B27-DAY(B27)) -> 41372 | C32: =IF(MONTH($A$14)<>MONTH($A$14-(WEEKDAY($A$14,1)-($A$6-1))-IF((WEEKDAY($A$14,1)-($A$6-1))<=0,7,0)+(ROW(Z5)-ROW($C$5))*7+(COLUMN(Z5)-COLUMN($C$5)+1)),"",$A$14-(WEEKDAY($A$14,1)-($A$6-1))-IF((WEEKDAY($A$14,1)-($A$6-1))<=0,7,0)+(ROW(Z5)-ROW($C$5))*7+(COLUMN(Z5)-COLUMN($C$5)+1)) -> 41386 | D32: 0.375 | E32: 0.52083333 | F32: 0.58333333 | G32: 0.70833333 | H32: =K32 -> 0.27083333 | I32: =E32-D32 -> 0.14583333 | J32: =G32-F32 -> 0.125 | K32: =J32+I32 -> 0.27083333
B33: =B27-DAY(B27)+10-WEEKDAY(B27-DAY(B27)) -> 41373 | C33: =IF(MONTH($A$14)<>MONTH($A$14-(WEEKDAY($A$14,1)-($A$6-1))-IF((WEEKDAY($A$14,1)-($A$6-1))<=0,7,0)+(ROW(AA5)-ROW($C$5))*7+(COLUMN(AA5)-COLUMN($C$5)+1)),"",$A$14-(WEEKDAY($A$14,1)-($A$6-1))-IF((WEEKDAY($A$14,1)-($A$6-1))<=0,7,0)+(ROW(AA5)-ROW($C$5))*7+(COLUMN(AA5)-COLUMN($C$5)+1)) -> 41387 | D33: 0.375 | E33: 0.52083333 | H33: =K33 -> 0.14583333 | I33: =E33-D33 -> 0.14583333 | J33: =G33-F33 -> 0 | K33: =J33+I33 -> 0.14583333
B34: =B27-DAY(B27)+11-WEEKDAY(B27-DAY(B27)) -> 41374 | C34: =IF(MONTH($A$14)<>MONTH($A$14-(WEEKDAY($A$14,1)-($A$6-1))-IF((WEEKDAY($A$14,1)-($A$6-1))<=0,7,0)+(ROW(AB5)-ROW($C$5))*7+(COLUMN(AB5)-COLUMN($C$5)+1)),"",$A$14-(WEEKDAY($A$14,1)-($A$6-1))-IF((WEEKDAY($A$14,1)-($A$6-1))<=0,7,0)+(ROW(AB5)-ROW($C$5))*7+(COLUMN(AB5)-COLUMN($C$5)+1)) -> 41388 | H34: =IF(K34=0,"",K34) | I34: =E34-D34 -> 0 | J34: =G34-F34 -> 0 | K34: =J34+I34 -> 0
B35: =B27-DAY(B27)+12-WEEKDAY(B27-DAY(B27)) -> 41375 | C35: =IF(MONTH($A$14)<>MONTH($A$14-(WEEKDAY($A$14,1)-($A$6-1))-IF((WEEKDAY($A$14,1)-($A$6-1))<=0,7,0)+(ROW(AC5)-ROW($C$5))*7+(COLUMN(AC5)-COLUMN($C$5)+1)),"",$A$14-(WEEKDAY($A$14,1)-($A$6-1))-IF((WEEKDAY($A$14,1)-($A$6-1))<=0,7,0)+(ROW(AC5)-ROW($C$5))*7+(COLUMN(AC5)-COLUMN($C$5)+1)) -> 41389 | D35: 0.375 | E35: 0.52083333 | F35: 0.58333333 | G35: 0.70833333 | H35: =K35 -> 0.27083333 | I35: =E35-D35 -> 0.14583333 | J35: =G35-F35 -> 0.125 | K35: =J35+I35 -> 0.27083333
B36: =B27-DAY(B27)+13-WEEKDAY(B27-DAY(B27)) -> 41376 | C36: =IF(MONTH($A$14)<>MONTH($A$14-(WEEKDAY($A$14,1)-($A$6-1))-IF((WEEKDAY($A$14,1)-($A$6-1))<=0,7,0)+(ROW(AD5)-ROW($C$5))*7+(COLUMN(AD5)-COLUMN($C$5)+1)),"",$A$14-(WEEKDAY($A$14,1)-($A$6-1))-IF((WEEKDAY($A$14,1)-($A$6-1))<=0,7,0)+(ROW(AD5)-ROW($C$5))*7+(COLUMN(AD5)-COLUMN($C$5)+1)) -> 41390 | D36: 0.375 | E36: 0.52083333 | H36: =K36 -> 0.14583333 | I36: =E36-D36 -> 0.14583333 | J36: =G36-F36 -> 0 | K36: =J36+I36 -> 0.14583333
B37: =B27-DAY(B27)+14-WEEKDAY(B27-DAY(B27)) -> 41377 | C37: =IF(MONTH($A$14)<>MONTH($A$14-(WEEKDAY($A$14,1)-($A$6-1))-IF((WEEKDAY($A$14,1)-($A$6-1))<=0,7,0)+(ROW(AE5)-ROW($C$5))*7+(COLUMN(AE5)-COLUMN($C$5)+1)),"",$A$14-(WEEKDAY($A$14,1)-($A$6-1))-IF((WEEKDAY($A$14,1)-($A$6-1))<=0,7,0)+(ROW(AE5)-ROW($C$5))*7+(COLUMN(AE5)-COLUMN($C$5)+1)) -> 41391 | H37: =IF(K37=0,"",K37) | I37: =E37-D37 -> 0 | J37: =G37-F37 -> 0 | K37: =J37+I37 -> 0
B38: =B27-DAY(B27)+15-WEEKDAY(B27-DAY(B27)) -> 41378 | C38: =IF(MONTH($A$14)<>MONTH($A$14-(WEEKDAY($A$14,1)-($A$6-1))-IF((WEEKDAY($A$14,1)-($A$6-1))<=0,7,0)+(ROW(AF5)-ROW($C$5))*7+(COLUMN(AF5)-COLUMN($C$5)+1)),"",$A$14-(WEEKDAY($A$14,1)-($A$6-1))-IF((WEEKDAY($A$14,1)-($A$6-1))<=0,7,0)+(ROW(AF5)-ROW($C$5))*7+(COLUMN(AF5)-COLUMN($C$5)+1)) -> 41392 | H38: =IF(K38=0,"",K38) | I38: =E38-D38 -> 0 | J38: =G38-F38 -> 0 | K38: =J38+I38 -> 0
B39: TOTAL SEMAINE | H39: =K39 -> 0.83333333 | K39: =K32+K33+K34+K35+K36+K37+K38 -> 0.83333333
B40: =INT((C41-(DATE(YEAR(C41-WEEKDAY(C41-1)+4),1,3)-WEEKDAY(DATE(YEAR(C41-WEEKDAY(C41-1)+4),1,3)))+5)/7) -> 18 | D40: ="Semaine du "&TEXT(MIN(C41:C45,C41:C45),"jj")&" au "&TEXT(MAX(C41:C45,C41:C45),"jj mmmm aaaa") -> Semaine du 29 au 30 avril 2013
...

Sheet Mai
A1: =YEAR(B1) -> 2013 | B1: =DATE(Avril!A1,(Avril!A2)+1,1) -> 41395 | D1: MATIN | E1: MIDI | F1: APRES MIDI | G1: SOIR | H1: TOTAL
A2: =MONTH(B1) -> 5 | B2: =INT((C11-(DATE(YEAR(C11-WEEKDAY(C11-1)+4),1,3)-WEEKDAY(DATE(YEAR(C11-WEEKDAY(C11-1)+4),1,3)))+5)/7) -> 18 | D2: ="Semaine du "&TEXT(MIN(C5:C9,C5:C9),"jj")&" au "&TEXT(MAX(C5:C9,C5:C9),"jj mmmm aaaa") -> Semaine du 01 au 03 mai 2013
