Workbook
Name An: Fériés!$C$3
Name Paques: Fériés!$C$3
Name Saisir_Année: Fériés!$C$1

Sheet Fériés
B1: Jour Fériés | C1: 2013
B2: Jour de l'an | C2: =DATE(Saisir_Année,1,1) -> 41275
B3: Pâques | C3: =ROUND(DATE(Saisir_Année,4,MOD(234-11*MOD(Saisir_Année,19),30))/7,0)*7-6 -> 41364
B4: Lundi de Pâques | C4: =Paques+1 -> 41365
B5: Fête du travail | C5: =DATE(Saisir_Année,5,1) -> 41395
B6: Victoire 1945 | C6: =DATE(Saisir_Année,5,8) -> 41402
B7: Ascension | C7: =Paques+39 -> 41403
B8: Pentecôte | C8: =Paques+49 -> 41413
B9: Lundi de Pentecôte | C9: =Paques+50 -> 41414
B10: Fête Nationale | C10: =DATE(Saisir_Année,7,14) -> 41469
B11: Assomption | C11: =DATE(Saisir_Année,8,15) -> 41501
B12: Toussaint | C12: =DATE(Saisir_Année,11,1) -> 41579
B13: Armistice | C13: =DATE(Saisir_Année,11,11) -> 41589
B14: Noël | C14: =DATE(Saisir_Année,12,25) -> 41633

Sheet Janvier
A1: =YEAR(B1) -> 2013 | B1: 41275 | D1: MATIN | E1: MIDI | F1: APRES MIDI | G1: SOIR | H1: TOTAL
A2: =MONTH(B1) -> 1 | B2: =INT((C11-(DATE(YEAR(C11-WEEKDAY(C11-1)+4),1,3)-WEEKDAY(DATE(YEAR(C11-WEEKDAY(C11-1)+4),1,3)))+5)/7) -> 1 | D2: ="Semaine du "&TEXT(MIN(C5:C9,C5:C9),"jj")&" au "&TEXT(MAX(C5:C9,C5:C9),"jj mmmm aaaa") -> Semaine du 01 au 04 janvier 2013
C3: =IF(MONTH($A$14)<>MONTH($A$14-(WEEKDAY($A$14,1)-($A$6-1))-IF((WEEKDAY($A$14,1)-($A$6-1))<=0,7,0)+(ROW(C5)-ROW($C$5))*7+(COLUMN(C5)-COLUMN($C$5)+1)),"",$A$14-(WEEKDAY($A$14,1)-($A$6-1))-IF((WEEKDAY($A$14,1)-($A$6-1))<=0,7,0)+(ROW(C5)-ROW($C$5))*7+(COLUMN(C5)-COLUMN($C$5)+1))
C4: =IF(MONTH($A$14)<>MONTH($A$14-(WEEKDAY($A$14,1)-($A$6-1))-IF((WEEKDAY($A$14,1)-($A$6-1))<=0,7,0)+(ROW(D5)-ROW($C$5))*7+(COLUMN(D5)-COLUMN($C$5)+1)),"",$A$14-(WEEKDAY($A$14,1)-($A$6-1))-IF((WEEKDAY($A$14,1)-($A$6-1))<=0,7,0)+(ROW(D5)-ROW($C$5))*7+(COLUMN(D5)-COLUMN($C$5)+1))
A5: 7 | B5: =B1-DAY(B1)+9-WEEKDAY(B1-DAY(B1)) -> 41281 | C5: =IF(MONTH($A$14)<>MONTH($A$14-(WEEKDAY($A$14,1)-($A$6-1))-IF((WEEKDAY($A$14,1)-($A$6-1))<=0,7,0)+(ROW(E5)-ROW($C$5))*7+(COLUMN(E5)-COLUMN($C$5)+1)),"",$A$14-(WEEKDAY($A$14,1)-($A$6-1))-IF((WEEKDAY($A$14,1)-($A$6-1))<=0,7,0)+(ROW(E5)-ROW($C$5))*7+(COLUMN(E5)-COLUMN($C$5)+1)) | H5: =K5 -> 0 | I5: =E5-D5 -> 0 | J5: =G5-F5 -> 0 | K5: =J5+I5 -> 0
A6: 7 | B6: =B1-DAY(B1)+10-WEEKDAY(B1-DAY(B1)) -> 41282 | C6: =IF(MONTH($A$14)<>MONTH($A$14-(WEEKDAY($A$14,1)-($A$6-1))-IF((WEEKDAY($A$14,1)-($A$6-1))<=0,7,0)+(ROW(F5)-ROW($C$5))*7+(COLUMN(F5)-COLUMN($C$5)+1)),"",$A$14-(WEEKDAY($A$14,1)-($A$6-1))-IF((WEEKDAY($A$14,1)-($A$6-1))<=0,7,0)+(ROW(F5)-ROW($C$5))*7+(COLUMN(F5)-COLUMN($C$5)+1)) -> 41275 | H6: =K6 -> 0 | I6: =E6-D6 -> 0 | J6: =G6-F6 -> 0 | K6: =J6+I6 -> 0
B7: =B1-DAY(B1)+11-WEEKDAY(B1-DAY(B1)) -> 41283 | C7: =IF(MONTH($A$14)<>MONTH($A$14-(WEEKDAY($A$14,1)-($A$6-1))-IF((WEEKDAY($A$14,1)-($A$6-1))<=0,7,0)+(ROW(G5)-ROW($C$5))*7+(COLUMN(G5)-COLUMN($C$5)+1)),"",$A$14-(WEEKDAY($A$14,1)-($A$6-1))-IF((WEEKDAY($A$14,1)-($A$6-1))<=0,7,0)+(ROW(G5)-ROW($C$5))*7+(COLUMN(G5)-COLUMN($C$5)+1)) -> 41276 | H7: =IF(K7=0,"",K7) | I7: =E7-D7 -> 0 | J7: =G7-F7 -> 0 | K7: =J7+I7 -> 0
B8: =B1-DAY(B1)+12-WEEKDAY(B1-DAY(B1)) -> 41284 | C8: =IF(MONTH($A$14)<>MONTH($A$14-(WEEKDAY($A$14,1)-($A$6-1))-IF((WEEKDAY($A$14,1)-($A$6-1))<=0,7,0)+(ROW(H5)-ROW($C$5))*7+(COLUMN(H5)-COLUMN($C$5)+1)),"",$A$14-(WEEKDAY($A$14,1)-($A$6-1))-IF((WEEKDAY($A$14,1)-($A$6-1))<=0,7,0)+(ROW(H5)-ROW($C$5))*7+(COLUMN(H5)-COLUMN($C$5)+1)) -> 41277 | H8: =K8 -> 0 | I8: =E8-D8 -> 0 | J8: =G8-F8 -> 0 | K8: =J8+I8 -> 0
B9: =B1-DAY(B1)+13-WEEKDAY(B1-DAY(B1)) -> 41285 | C9: =IF(MONTH($A$14)<>MONTH($A$14-(WEEKDAY($A$14,1)-($A$6-1))-IF((WEEKDAY($A$14,1)-($A$6-1))<=0,7,0)+(ROW(I5)-ROW($C$5))*7+(COLUMN(I5)-COLUMN($C$5)+1)),"",$A$14-(WEEKDAY($A$14,1)-($A$6-1))-IF((WEEKDAY($A$14,1)-($A$6-1))<=0,7,0)+(ROW(I5)-ROW($C$5))*7+(COLUMN(I5)-COLUMN($C$5)+1)) -> 41278 | H9: =K9 -> 0 | I9: =E9-D9 -> 0 | J9: =G9-F9 -> 0 | K9: =J9+I9 -> 0
B10: =B1-DAY(B1)+14-WEEKDAY(B1-DAY(B1)) -> 41286 | C10: =IF(MONTH($A$14)<>MONTH($A$14-(WEEKDAY($A$14,1)-($A$6-1))-IF((WEEKDAY($A$14,1)-($A$6-1))<=0,7,0)+(ROW(J5)-ROW($C$5))*7+(COLUMN(J5)-COLUMN($C$5)+1)),"",$A$14-(WEEKDAY($A$14,1)-($A$6-1))-IF((WEEKDAY($A$14,1)-($A$6-1))<=0,7,0)+(ROW(J5)-ROW($C$5))*7+(COLUMN(J5)-COLUMN($C$5)+1)) -> 41279 | H10: =IF(K10=0,"",K10) | I10: =E10-D10 -> 0 | J10: =G10-F10 -> 0 | K10: =J10+I10 -> 0
B11: =B1-DAY(B1)+15-WEEKDAY(B1-DAY(B1)) -> 41287 | C11: =IF(MONTH($A$14)<>MONTH($A$14-(WEEKDAY($A$14,1)-($A$6-1))-IF((WEEKDAY($A$14,1)-($A$6-1))<=0,7,0)+(ROW(K5)-ROW($C$5))*7+(COLUMN(K5)-COLUMN($C$5)+1)),"",$A$14-(WEEKDAY($A$14,1)-($A$6-1))-IF((WEEKDAY($A$14,1)-($A$6-1))<=0,7,0)+(ROW(K5)-ROW($C$5))*7+(COLUMN(K5)-COLUMN($C$5)+1)) -> 41280 | H11: =IF(K11=0,"",K11) | I11: =E11-D11 -> 0 | J11: =G11-F11 -> 0 | K11: =J11+I11 -> 0
B12: TOTAL SEMAINE | H12: =K12 -> 0 | K12: =K5+K6+K7+K8+K9+K10+K11 -> 0
B13: =INT((C20-(DATE(YEAR(C20-WEEKDAY(C20-1)+4),1,3)-WEEKDAY(DATE(YEAR(C20-WEEKDAY(C20-1)+4),1,3)))+5)/7) -> 2 | D13: ="Semaine du "&TEXT(MIN(C14:C18,C14:C18),"jj")&" au "&TEXT(MAX(C14:C18,C14:C18),"jj mmmm aaaa") -> Semaine du 07 au 11 janvier 2013
A14: =DATE(A1,A2,1) -> 41275 | B14: =B10-DAY(B10)+9-WEEKDAY(B10-DAY(B10)) -> 41281 | C14: =IF(MONTH($A$14)<>MONTH($A$14-(WEEKDAY($A$14,1)-($A$6-1))-IF((WEEKDAY($A$14,1)-($A$6-1))<=0,7,0)+(ROW(L5)-ROW($C$5))*7+(COLUMN(L5)-COLUMN($C$5)+1)),"",$A$14-(WEEKDAY($A$14,1)-($A$6-1))-IF((WEEKDAY($A$14,1)-($A$6-1))<=0,7,0)+(ROW(L5)-ROW($C$5))*7+(COLUMN(L5)-COLUMN($C$5)+1)) -> 41281 | H14: =K14 -> 0 | I14: =E14-D14 -> 0 | J14: =G14-F14 -> 0 | K14: =J14+I14 -> 0
B15: =B10-DAY(B10)+10-WEEKDAY(B10-DAY(B10)) -> 41282 | C15: =IF(MONTH($A$14)<>MONTH($A$14-(WEEKDAY($A$14,1)-($A$6-1))-IF((WEEKDAY($A$14,1)-($A$6-1))<=0,7,0)+(ROW(M5)-ROW($C$5))*7+(COLUMN(M5)-COLUMN($C$5)+1)),"",$A$14-(WEEKDAY($A$14,1)-($A$6-1))-IF((WEEKDAY($A$14,1)-($A$6-1))<=0,7,0)+(ROW(M5)-ROW($C$5))*7+(COLUMN(M5)-COLUMN($C$5)+1)) -> 41282 | H15: =K15 -> 0 | I15: =E15-D15 -> 0 | J15: =G15-F15 -> 0 | K15: =J15+I15 -> 0
B16: =B10-DAY(B10)+11-WEEKDAY(B10-DAY(B10)) -> 41283 | C16: =IF(MONTH($A$14)<>MONTH($A$14-(WEEKDAY($A$14,1)-($A$6-1))-IF((WEEKDAY($A$14,1)-($A$6-1))<=0,7,0)+(ROW(N5)-ROW($C$5))*7+(COLUMN(N5)-COLUMN($C$5)+1)),"",$A$14-(WEEKDAY($A$14,1)-($A$6-1))-IF((WEEKDAY($A$14,1)-($A$6-1))<=0,7,0)+(ROW(N5)-ROW($C$5))*7+(COLUMN(N5)-COLUMN($C$5)+1)) -> 41283 | H16: =IF(K16=0,"",K16) | I16: =E16-D16 -> 0 | J16: =G16-F16 -> 0 | K16: =J16+I16 -> 0
B17: =B10-DAY(B10)+12-WEEKDAY(B10-DAY(B10)) -> 41284 | C17: =IF(MONTH($A$14)<>MONTH($A$14-(WEEKDAY($A$14,1)-($A$6-1))-IF((WEEKDAY($A$14,1)-($A$6-1))<=0,7,0)+(ROW(O5)-ROW($C$5))*7+(COLUMN(O5)-COLUMN($C$5)+1)),"",$A$14-(WEEKDAY($A$14,1)-($A$6-1))-IF((WEEKDAY($A$14,1)-($A$6-1))<=0,7,0)+(ROW(O5)-ROW($C$5))*7+(COLUMN(O5)-COLUMN($C$5)+1)) -> 41284 | H17: =K17 -> 0 | I17: =E17-D17 -> 0 | J17: =G17-F17 -> 0 | K17: =J17+I17 -> 0
B18: =B10-DAY(B10)+13-WEEKDAY(B10-DAY(B10)) -> 41285 | C18: =IF(MONTH($A$14)<>MONTH($A$14-(WEEKDAY($A$14,1)-($A$6-1))-IF((WEEKDAY($A$14,1)-($A$6-1))<=0,7,0)+(ROW(P5)-ROW($C$5))*7+(COLUMN(P5)-COLUMN($C$5)+1)),"",$A$14-(WEEKDAY($A$14,1)-($A$6-1))-IF((WEEKDAY($A$14,1)-($A$6-1))<=0,7,0)+(ROW(P5)-ROW($C$5))*7+(COLUMN(P5)-COLUMN($C$5)+1)) -> 41285 | H18: =K18 -> 0 | I18: =E18-D18 -> 0 | J18: =G18-F18 -> 0 | K18: =J18+I18 -> 0
B19: =B10-DAY(B10)+14-WEEKDAY(B10-DAY(B10)) -> 41286 | C19: =IF(MONTH($A$14)<>MONTH($A$14-(WEEKDAY($A$14,1)-($A$6-1))-IF((WEEKDAY($A$14,1)-($A$6-1))<=0,7,0)+(ROW(Q5)-ROW($C$5))*7+(COLUMN(Q5)-COLUMN($C$5)+1)),"",$A$14-(WEEKDAY($A$14,1)-($A$6-1))-IF((WEEKDAY($A$14,1)-($A$6-1))<=0,7,0)+(ROW(Q5)-ROW($C$5))*7+(COLUMN(Q5)-COLUMN($C$5)+1)) -> 41286 | H19: =IF(K19=0,"",K19) | I19: =E19-D19 -> 0 | J19: =G19-F19 -> 0 | K19: =J19+I19 -> 0
B20: =B10-DAY(B10)+15-WEEKDAY(B10-DAY(B10)) -> 41287 | C20: =IF(MONTH($A$14)<>MONTH($A$14-(WEEKDAY($A$14,1)-($A$6-1))-IF((WEEKDAY($A$14,1)-($A$6-1))<=0,7,0)+(ROW(R5)-ROW($C$5))*7+(COLUMN(R5)-COLUMN($C$5)+1)),"",$A$14-(WEEKDAY($A$14,1)-($A$6-1))-IF((WEEKDAY($A$14,1)-($A$6-1))<=0,7,0)+(ROW(R5)-ROW($C$5))*7+(COLUMN(R5)-COLUMN($C$5)+1)) -> 41287 | H20: =IF(K20=0,"",K20) | I20: =E20-D20 -> 0 | J20: =G20-F20 -> 0 | K20: =J20+I20 -> 0
B21: TOTAL SEMAINE | H21: =K21 -> 0 | K21: =K14+K15+K16+K17+K18+K19+K20 -> 0
B22: =INT((C29-(DATE(YEAR(C29-WEEKDAY(C29-1)+4),1,3)-WEEKDAY(DATE(YEAR(C29-WEEKDAY(C29-1)+4),1,3)))+5)/7) -> 3 | D22: ="Semaine du "&TEXT(MIN(C23:C27,C23:C27),"jj")&" au "&TEXT(MAX(C23:C27,C23:C27),"jj mmmm aaaa") -> Semaine du 14 au 18 janvier 2013
B23: =B18-DAY(B18)+9-WEEKDAY(B18-DAY(B18)) -> 41281 | C23: =IF(MONTH($A$14)<>MONTH($A$14-(WEEKDAY($A$14,1)-($A$6-1))-IF((WEEKDAY($A$14,1)-($A$6-1))<=0,7,0)+(ROW(S5)-ROW($C$5))*7+(COLUMN(S5)-COLUMN($C$5)+1)),"",$A$14-(WEEKDAY($A$14,1)-($A$6-1))-IF((WEEKDAY($A$14,1)-($A$6-1))<=0,7,0)+(ROW(S5)-ROW($C$5))*7+(COLUMN(S5)-COLUMN($C$5)+1)) -> 41288 | H23: =K23 -> 0 | I23: =E23-D23 -> 0 | J23: =G23-F23 -> 0 | K23: =J23+I23 -> 0
B24: =B18-DAY(B18)+10-WEEKDAY(B18-DAY(B18)) -> 41282 | C24: =IF(MONTH($A$14)<>MONTH($A$14-(WEEKDAY($A$14,1)-($A$6-1))-IF((WEEKDAY($A$14,1)-($A$6-1))<=0,7,0)+(ROW(T5)-ROW($C$5))*7+(COLUMN(T5)-COLUMN($C$5)+1)),"",$A$14-(WEEKDAY($A$14,1)-($A$6-1))-IF((WEEKDAY($A$14,1)-($A$6-1))<=0,7,0)+(ROW(T5)-ROW($C$5))*7+(COLUMN(T5)-COLUMN($C$5)+1)) -> 41289 | H24: =K24 -> 0 | I24: =E24-D24 -> 0 | J24: =G24-F24 -> 0 | K24: =J24+I24 -> 0
B25: =B18-DAY(B18)+11-WEEKDAY(B18-DAY(B18)) -> 41283 | C25: =IF(MONTH($A$14)<>MONTH($A$14-(WEEKDAY($A$14,1)-($A$6-1))-IF((WEEKDAY($A$14,1)-($A$6-1))<=0,7,0)+(ROW(U5)-ROW($C$5))*7+(COLUMN(U5)-COLUMN($C$5)+1)),"",$A$14-(WEEKDAY($A$14,1)-($A$6-1))-IF((WEEKDAY($A$14,1)-($A$6-1))<=0,7,0)+(ROW(U5)-ROW($C$5))*7+(COLUMN(U5)-COLUMN($C$5)+1)) -> 41290 | H25: =IF(K25=0,"",K25) | I25: =E25-D25 -> 0 | J25: =G25-F25 -> 0 | K25: =J25+I25 -> 0
B26: =B18-DAY(B18)+12-WEEKDAY(B18-DAY(B18)) -> 41284 | C26: =IF(MONTH($A$14)<>MONTH($A$14-(WEEKDAY($A$14,1)-($A$6-1))-IF((WEEKDAY($A$14,1)-($A$6-1))<=0,7,0)+(ROW(V5)-ROW($C$5))*7+(COLUMN(V5)-COLUMN($C$5)+1)),"",$A$14-(WEEKDAY($A$14,1)-($A$6-1))-IF((WEEKDAY($A$14,1)-($A$6-1))<=0,7,0)+(ROW(V5)-ROW($C$5))*7+(COLUMN(V5)-COLUMN($C$5)+1)) -> 41291 | H26: =K26 -> 0 | I26: =E26-D26 -> 0 | J26: =G26-F26 -> 0 | K26: =J26+I26 -> 0
B27: =B18-DAY(B18)+13-WEEKDAY(B18-DAY(B18)) -> 41285 | C27: =IF(MONTH($A$14)<>MONTH($A$14-(WEEKDAY($A$14,1)-($A$6-1))-IF((WEEKDAY($A$14,1)-($A$6-1))<=0,7,0)+(ROW(W5)-ROW($C$5))*7+(COLUMN(W5)-COLUMN($C$5)+1)),"",$A$14-(WEEKDAY($A$14,1)-($A$6-1))-IF((WEEKDAY($A$14,1)-($A$6-1))<=0,7,0)+(ROW(W5)-ROW($C$5))*7+(COLUMN(W5)-COLUMN($C$5)+1)) -> 41292 | H27: =K27 -> 0 | I27: =E27-D27 -> 0 | J27: =G27-F27 -> 0 | K27: =J27+I27 -> 0
B28: =B18-DAY(B18)+14-WEEKDAY(B18-DAY(B18)) -> 41286 | C28: =IF(MONTH($A$14)<>MONTH($A$14-(WEEKDAY($A$14,1)-($A$6-1))-IF((WEEKDAY($A$14,1)-($A$6-1))<=0,7,0)+(ROW(X5)-ROW($C$5))*7+(COLUMN(X5)-COLUMN($C$5)+1)),"",$A$14-(WEEKDAY($A$14,1)-($A$6-1))-IF((WEEKDAY($A$14,1)-($A$6-1))<=0,7,0)+(ROW(X5)-ROW($C$5))*7+(COLUMN(X5)-COLUMN($C$5)+1)) -> 41293 | H28: =IF(K28=0,"",K28) | I28: =E28-D28 -> 0 | J28: =G28-F28 -> 0 | K28: =J28+I28 -> 0
B29: =B18-DAY(B18)+15-WEEKDAY(B18-DAY(B18)) -> 41287 | C29: =IF(MONTH($A$14)<>MONTH($A$14-(WEEKDAY($A$14,1)-($A$6-1))-IF((WEEKDAY($A$14,1)-($A$6-1))<=0,7,0)+(ROW(Y5)-ROW($C$5))*7+(COLUMN(Y5)-COLUMN($C$5)+1)),"",$A$14-(WEEKDAY($A$14,1)-($A$6-1))-IF((WEEKDAY($A$14,1)-($A$6-1))<=0,7,0)+(ROW(Y5)-ROW($C$5))*7+(COLUMN(Y5)-COLUMN($C$5)+1)) -> 41294 | H29: =IF(K29=0,"",K29) | I29: =E29-D29 -> 0 | J29: =G29-F29 -> 0 | K29: =J29+I29 -> 0
B30: TOTAL SEMAINE | H30: =K30 -> 0 | K30: =K23+K24+K25+K26+K27+K28+K29 -> 0
B31: =INT((C38-(DATE(YEAR(C38-WEEKDAY(C38-1)+4),1,3)-WEEKDAY(DATE(YEAR(C38-WEEKDAY(C38-1)+4),1,3)))+5)/7) -> 4 | D31: ="Semaine du "&TEXT(MIN(C32:C36,C32:C36),"jj")&" au "&TEXT(MAX(C32:C36,C32:C36),"jj mmmm aaaa") -> Semaine du 21 au 25 janvier 2013
B32: =B27-DAY(B27)+9-WEEKDAY(B27-DAY(B27)) -> 41281 | C32: =IF(MONTH($A$14)<>MONTH($A$14-(WEEKDAY($A$14,1)-($A$6-1))-IF((WEEKDAY($A$14,1)-($A$6-1))<=0,7,0)+(ROW(Z5)-ROW($C$5))*7+(COLUMN(Z5)-COLUMN($C$5)+1)),"",$A$14-(WEEKDAY($A$14,1)-($A$6-1))-IF((WEEKDAY($A$14,1)-($A$6-1))<=0,7,0)+(ROW(Z5)-ROW($C$5))*7+(COLUMN(Z5)-COLUMN($C$5)+1)) -> 41295 | H32: =K32 -> 0 | I32: =E32-D32 -> 0 | J32: =G32-F32 -> 0 | K32: =J32+I32 -> 0
B33: =B27-DAY(B27)+10-WEEKDAY(B27-DAY(B27)) -> 41282 | C33: =IF(MONTH($A$14)<>MONTH($A$14-(WEEKDAY($A$14,1)-($A$6-1))-IF((WEEKDAY($A$14,1)-($A$6-1))<=0,7,0)+(ROW(AA5)-ROW($C$5))*7+(COLUMN(AA5)-COLUMN($C$5)+1)),"",$A$14-(WEEKDAY($A$14,1)-($A$6-1))-IF((WEEKDAY($A$14,1)-($A$6-1))<=0,7,0)+(ROW(AA5)-ROW($C$5))*7+(COLUMN(AA5)-COLUMN($C$5)+1)) -> 41296 | H33: =K33 -> 0 | I33: =E33-D33 -> 0 | J33: =G33-F33 -> 0 | K33: =J33+I33 -> 0
B34: =B27-DAY(B27)+11-WEEKDAY(B27-DAY(B27)) -> 41283 | C34: =IF(MONTH($A$14)<>MONTH($A$14-(WEEKDAY($A$14,1)-($A$6-1))-IF((WEEKDAY($A$14,1)-($A$6-1))<=0,7,0)+(ROW(AB5)-ROW($C$5))*7+(COLUMN(AB5)-COLUMN($C$5)+1)),"",$A$14-(WEEKDAY($A$14,1)-($A$6-1))-IF((WEEKDAY($A$14,1)-($A$6-1))<=0,7,0)+(ROW(AB5)-ROW($C$5))*7+(COLUMN(AB5)-COLUMN($C$5)+1)) -> 41297 | H34: =IF(K34=0,"",K34) | I34: =E34-D34 -> 0 | J34: =G34-F34 -> 0 | K34: =J34+I34 -> 0
B35: =B27-DAY(B27)+12-WEEKDAY(B27-DAY(B27)) -> 41284 | C35: =IF(MONTH($A$14)<>MONTH($A$14-(WEEKDAY($A$14,1)-($A$6-1))-IF((WEEKDAY($A$14,1)-($A$6-1))<=0,7,0)+(ROW(AC5)-ROW($C$5))*7+(COLUMN(AC5)-COLUMN($C$5)+1)),"",$A$14-(WEEKDAY($A$14,1)-($A$6-1))-IF((WEEKDAY($A$14,1)-($A$6-1))<=0,7,0)+(ROW(AC5)-ROW($C$5))*7+(COLUMN(AC5)-COLUMN($C$5)+1)) -> 41298 | H35: =K35 -> 0 | I35: =E35-D35 -> 0 | J35: =G35-F35 -> 0 | K35: =J35+I35 -> 0
B36: =B27-DAY(B27)+13-WEEKDAY(B27-DAY(B27)) -> 41285 | C36: =IF(MONTH($A$14)<>MONTH($A$14-(WEEKDAY($A$14,1)-($A$6-1))-IF((WEEKDAY($A$14,1)-($A$6-1))<=0,7,0)+(ROW(AD5)-ROW($C$5))*7+(COLUMN(AD5)-COLUMN($C$5)+1)),"",$A$14-(WEEKDAY($A$14,1)-($A$6-1))-IF((WEEKDAY($A$14,1)-($A$6-1))<=0,7,0)+(ROW(AD5)-ROW($C$5))*7+(COLUMN(AD5)-COLUMN($C$5)+1)) -> 41299 | H36: =K36 -> 0 | I36: =E36-D36 -> 0 | J36: =G36-F36 -> 0 | K36: =J36+I36 -> 0
B37: =B27-DAY(B27)+14-WEEKDAY(B27-DAY(B27)) -> 41286 | C37: =IF(MONTH($A$14)<>MONTH($A$14-(WEEKDAY($A$14,1)-($A$6-1))-IF((WEEKDAY($A$14,1)-($A$6-1))<=0,7,0)+(ROW(AE5)-ROW($C$5))*7+(COLUMN(AE5)-COLUMN($C$5)+1)),"",$A$14-(WEEKDAY($A$14,1)-($A$6-1))-IF((WEEKDAY($A$14,1)-($A$6-1))<=0,7,0)+(ROW(AE5)-ROW($C$5))*7+(COLUMN(AE5)-COLUMN($C$5)+1)) -> 41300 | H37: =IF(K37=0,"",K37) | I37: =E37-D37 -> 0 | J37: =G37-F37 -> 0 | K37: =J37+I37 -> 0
B38: =B27-DAY(B27)+15-WEEKDAY(B27-DAY(B27)) -> 41287 | C38: =IF(MONTH($A$14)<>MONTH($A$14-(WEEKDAY($A$14,1)-($A$6-1))-IF((WEEKDAY($A$14,1)-($A$6-1))<=0,7,0)+(ROW(AF5)-ROW($C$5))*7+(COLUMN(AF5)-COLUMN($C$5)+1)),"",$A$14-(WEEKDAY($A$14,1)-($A$6-1))-IF((WEEKDAY($A$14,1)-($A$6-1))<=0,7,0)+(ROW(AF5)-ROW($C$5))*7+(COLUMN(AF5)-COLUMN($C$5)+1)) -> 41301 | H38: =IF(K38=0,"",K38) | I38: =E38-D38 -> 0 | J38: =G38-F38 -> 0 | K38: =J38+I38 -> 0
B39: TOTAL SEMAINE | H39: =K39 -> 0 | K39: =K32+K33+K34+K35+K36+K37+K38 -> 0
B40: =INT((C41-(DATE(YEAR(C41-WEEKDAY(C41-1)+4),1,3)-WEEKDAY(DATE(YEAR(C41-WEEKDAY(C41-1)+4),1,3)))+5)/7) -> 5 | D40: ="Semaine du "&TEXT(MIN(C41:C45,C41:C45),"jj")&" au "&TEXT(MAX(C41:C45,C41:C45),"jj mmmm aaaa") -> Semaine du 28 au 31 janvier 2013
B41: =B36-DAY(B36)+9-WEEKDAY(B36-DAY(B36)) -> 41281 | C41: =IF(MONTH($A$14)<>MONTH($A$14-(WEEKDAY($A$14,1)-($A$6-1))-IF((WEEKDAY($A$14,1)-($A$6-1))<=0,7,0)+(ROW(AG5)-ROW($C$5))*7+(COLUMN(AG5)-COLUMN($C$5)+1)),"",$A$14-(WEEKDAY($A$14,1)-($A$6-1))-IF((WEEKDAY($A$14,1)-($A$6-1))<=0,7,0)+(ROW(AG5)-ROW($C$5))*7+(COLUMN(AG5)-COLUMN($C$5)+1)) -> 41302 | H41: =K41 -> 0 | I41: =E41-D41 -> 0 | J41: =G41-F41 -> 0 | K41: =J41+I41 -> 0
B42: =B36-DAY(B36)+10-WEEKDAY(B36-DAY(B36)) -> 41282 | C42: =IF(MONTH($A$14)<>MONTH($A$14-(WEEKDAY($A$14,1)-($A$6-1))-IF((WEEKDAY($A$14,1)-($A$6-1))<=0,7,0)+(ROW(AH5)-ROW($C$5))*7+(COLUMN(AH5)-COLUMN($C$5)+1)),"",$A$14-(WEEKDAY($A$14,1)-($A$6-1))-IF((WEEKDAY($A$14,1)-($A$6-1))<=0,7,0)+(ROW(AH5)-ROW($C$5))*7+(COLUMN(AH5)-COLUMN($C$5)+1)) -> 41303 | H42: =K42 -> 0 | I42: =E42-D42 -> 0 | J42: =G42-F42 -> 0 | K42: =J42+I42 -> 0
B43: =B36-DAY(B36)+11-WEEKDAY(B36-DAY(B36)) -> 41283 | C43: =IF(MONTH($A$14)<>MONTH($A$14-(WEEKDAY($A$14,1)-($A$6-1))-IF((WEEKDAY($A$14,1)-($A$6-1))<=0,7,0)+(ROW(AI5)-ROW($C$5))*7+(COLUMN(AI5)-COLUMN($C$5)+1)),"",$A$14-(WEEKDAY($A$14,1)-($A$6-1))-IF((WEEKDAY($A$14,1)-($A$6-1))<=0,7,0)+(ROW(AI5)-ROW($C$5))*7+(COLUMN(AI5)-COLUMN($C$5)+1)) -> 41304 | H43: =IF(K43=0,"",K43) | I43: =E43-D43 -> 0 | J43: =G43-F43 -> 0 | K43: =J43+I43 -> 0
B44: =B36-DAY(B36)+12-WEEKDAY(B36-DAY(B36)) -> 41284 | C44: =IF(MONTH($A$14)<>MONTH($A$14-(WEEKDAY($A$14,1)-($A$6-1))-IF((WEEKDAY($A$14,1)-($A$6-1))<=0,7,0)+(ROW(AJ5)-ROW($C$5))*7+(COLUMN(AJ5)-COLUMN($C$5)+1)),"",$A$14-(WEEKDAY($A$14,1)-($A$6-1))-IF((WEEKDAY($A$14,1)-($A$6-1))<=0,7,0)+(ROW(AJ5)-ROW($C$5))*7+(COLUMN(AJ5)-COLUMN($C$5)+1)) -> 41305 | H44: =K44 -> 0 | I44: =E44-D44 -> 0 | J44: =G44-F44 -> 0 | K44: =J44+I44 -> 0
B45: =B36-DAY(B36)+13-WEEKDAY(B36-DAY(B36)) -> 41285 | C45: =IF(MONTH($A$14)<>MONTH($A$14-(WEEKDAY($A$14,1)-($A$6-1))-IF((WEEKDAY($A$14,1)-($A$6-1))<=0,7,0)+(ROW(AK5)-ROW($C$5))*7+(COLUMN(AK5)-COLUMN($C$5)+1)),"",$A$14-(WEEKDAY($A$14,1)-($A$6-1))-IF((WEEKDAY($A$14,1)-($A$6-1))<=0,7,0)+(ROW(AK5)-ROW($C$5))*7+(COLUMN(AK5)-COLUMN($C$5)+1)) | H45: =K45 -> 0 | I45: =E45-D45 -> 0 | J45: =G45-F45 -> 0 | K45: =J45+I45 -> 0
B46: =B36-DAY(B36)+14-WEEKDAY(B36-DAY(B36)) -> 41286 | C46: =IF(MONTH($A$14)<>MONTH($A$14-(WEEKDAY($A$14,1)-($A$6-1))-IF((WEEKDAY($A$14,1)-($A$6-1))<=0,7,0)+(ROW(AL5)-ROW($C$5))*7+(COLUMN(AL5)-COLUMN($C$5)+1)),"",$A$14-(WEEKDAY($A$14,1)-($A$6-1))-IF((WEEKDAY($A$14,1)-($A$6-1))<=0,7,0)+(ROW(AL5)-ROW($C$5))*7+(COLUMN(AL5)-COLUMN($C$5)+1)) | H46: =IF(K46=0,"",K46) | I46: =E46-D46 -> 0 | J46: =G46-F46 -> 0 | K46: =J46+I46 -> 0
B47: =B36-DAY(B36)+15-WEEKDAY(B36-DAY(B36)) -> 41287 | C47: =IF(MONTH($A$14)<>MONTH($A$14-(WEEKDAY($A$14,1)-($A$6-1))-IF((WEEKDAY($A$14,1)-($A$6-1))<=0,7,0)+(ROW(AM5)-ROW($C$5))*7+(COLUMN(AM5)-COLUMN($C$5)+1)),"",$A$14-(WEEKDAY($A$14,1)-($A$6-1))-IF((WEEKDAY($A$14,1)-($A$6-1))<=0,7,0)+(ROW(AM5)-ROW($C$5))*7+(COLUMN(AM5)-COLUMN($C$5)+1)) | H47: =IF(K47=0,"",K47) | I47: =E47-D47 -> 0 | J47: =G47-F47 -> 0 | K47: =J47+I47 -> 0
B48: TOTAL SEMAINE | H48: =K48 -> 0 | K48: =K41+K42+K43+K44+K45+K46+K47 -> 0
B49: Cumul mois | H49: =H12+H21+H30+H39+H48 -> 0

Sheet Février
A1: =YEAR(B1) -> 2013 | B1: =DATE(Janvier!A1,(Janvier!A2)+1,1) -> 41306 | D1: MATIN | E1: MIDI | F1: APRES MIDI | G1: SOIR | H1: TOTAL
A2: =MONTH(B1) -> 2 | B2: =INT((C11-(DATE(YEAR(C11-WEEKDAY(C11-1)+4),1,3)-WEEKDAY(DATE(YEAR(C11-WEEKDAY(C11-1)+4),1,3)))+5)/7) -> 5 | D2: ="Semaine du "&TEXT(MIN(C5:C9,C5:C9),"jj")&" au "&TEXT(MAX(C5:C9,C5:C9),"jj mmmm aaaa") -> Semaine du 01 au 01 février 2013
C3: =IF(MONTH($A$14)<>MONTH($A$14-(WEEKDAY($A$14,1)-($A$6-1))-IF((WEEKDAY($A$14,1)-($A$6-1))<=0,7,0)+(ROW(C5)-ROW($C$5))*7+(COLUMN(C5)-COLUMN($C$5)+1)),"",$A$14-(WEEKDAY($A$14,1)-($A$6-1))-IF((WEEKDAY($A$14,1)-($A$6-1))<=0,7,0)+(ROW(C5)-ROW($C$5))*7+(COLUMN(C5)-COLUMN($C$5)+1))
C4: =IF(MONTH($A$14)<>MONTH($A$14-(WEEKDAY($A$14,1)-($A$6-1))-IF((WEEKDAY($A$14,1)-($A$6-1))<=0,7,0)+(ROW(D5)-ROW($C$5))*7+(COLUMN(D5)-COLUMN($C$5)+1)),"",$A$14-(WEEKDAY($A$14,1)-($A$6-1))-IF((WEEKDAY($A$14,1)-($A$6-1))<=0,7,0)+(ROW(D5)-ROW($C$5))*7+(COLUMN(D5)-COLUMN($C$5)+1))
A5: 7 | B5: =B1-DAY(B1)+9-WEEKDAY(B1-DAY(B1)) -> 41309 | C5: =IF(MONTH($A$14)<>MONTH($A$14-(WEEKDAY($A$14,1)-($A$6-1))-IF((WEEKDAY($A$14,1)-($A$6-1))<=0,7,0)+(ROW(E5)-ROW($C$5))*7+(COLUMN(E5)-COLUMN($C$5)+1)),"",$A$14-(WEEKDAY($A$14,1)-($A$6-1))-IF((WEEKDAY($A$14,1)-($A$6-1))<=0,7,0)+(ROW(E5)-ROW($C$5))*7+(COLUMN(E5)-COLUMN($C$5)+1)) | H5: =K5 -> 0 | I5: =E5-D5 -> 0 | J5: =G5-F5 -> 0 | K5: =J5+I5 -> 0
A6: 7 | B6: =B1-DAY(B1)+10-WEEKDAY(B1-DAY(B1)) -> 41310 | C6: =IF(MONTH($A$14)<>MONTH($A$14-(WEEKDAY($A$14,1)-($A$6-1))-IF((WEEKDAY($A$14,1)-($A$6-1))<=0,7,0)+(ROW(F5)-ROW($C$5))*7+(COLUMN(F5)-COLUMN($C$5)+1)),"",$A$14-(WEEKDAY($A$14,1)-($A$6-1))-IF((WEEKDAY($A$14,1)-($A$6-1))<=0,7,0)+(ROW(F5)-ROW($C$5))*7+(COLUMN(F5)-COLUMN($C$5)+1)) | H6: =K6 -> 0 | I6: =E6-D6 -> 0 | J6: =G6-F6 -> 0 | K6: =J6+I6 -> 0
B7: =B1-DAY(B1)+11-WEEKDAY(B1-DAY(B1)) -> 41311 | C7: =IF(MONTH($A$14)<>MONTH($A$14-(WEEKDAY($A$14,1)-($A$6-1))-IF((WEEKDAY($A$14,1)-($A$6-1))<=0,7,0)+(ROW(G5)-ROW($C$5))*7+(COLUMN(G5)-COLUMN($C$5)+1)),"",$A$14-(WEEKDAY($A$14,1)-($A$6-1))-IF((WEEKDAY($A$14,1)-($A$6-1))<=0,7,0)+(ROW(G5)-ROW($C$5))*7+(COLUMN(G5)-COLUMN($C$5)+1)) | H7: =IF(K7=0,"",K7) | I7: =E7-D7 -> 0 | J7: =G7-F7 -> 0 | K7: =J7+I7 -> 0
B8: =B1-DAY(B1)+12-WEEKDAY(B1-DAY(B1)) -> 41312 | C8: =IF(MONTH($A$14)<>MONTH($A$14-(WEEKDAY($A$14,1)-($A$6-1))-IF((WEEKDAY($A$14,1)-($A$6-1))<=0,7,0)+(ROW(H5)-ROW($C$5))*7+(COLUMN(H5)-COLUMN($C$5)+1)),"",$A$14-(WEEKDAY($A$14,1)-($A$6-1))-IF((WEEKDAY($A$14,1)-($A$6-1))<=0,7,0)+(ROW(H5)-ROW($C$5))*7+(COLUMN(H5)-COLUMN($C$5)+1)) | H8: =K8 -> 0 | I8: =E8-D8 -> 0 | J8: =G8-F8 -> 0 | K8: =J8+I8 -> 0
B9: =B1-DAY(B1)+13-WEEKDAY(B1-DAY(B1)) -> 41313 | C9: =IF(MONTH($A$14)<>MONTH($A$14-(WEEKDAY($A$14,1)-($A$6-1))-IF((WEEKDAY($A$14,1)-($A$6-1))<=0,7,0)+(ROW(I5)-ROW($C$5))*7+(COLUMN(I5)-COLUMN($C$5)+1)),"",$A$14-(WEEKDAY($A$14,1)-($A$6-1))-IF((WEEKDAY($A$14,1)-($A$6-1))<=0,7,0)+(ROW(I5)-ROW($C$5))*7+(COLUMN(I5)-COLUMN($C$5)+1)) -> 41306 | H9: =K9 -> 0 | I9: =E9-D9 -> 0 | J9: =G9-F9 -> 0 | K9: =J9+I9 -> 0
B10: =B1-DAY(B1)+14-WEEKDAY(B1-DAY(B1)) -> 41314 | C10: =IF(MONTH($A$14)<>MONTH($A$14-(WEEKDAY($A$14,1)-($A$6-1))-IF((WEEKDAY($A$14,1)-($A$6-1))<=0,7,0)+(ROW(J5)-ROW($C$5))*7+(COLUMN(J5)-COLUMN($C$5)+1)),"",$A$14-(WEEKDAY($A$14,1)-($A$6-1))-IF((WEEKDAY($A$14,1)-($A$6-1))<=0,7,0)+(ROW(J5)-ROW($C$5))*7+(COLUMN(J5)-COLUMN($C$5)+1)) -> 41307 | H10: =IF(K10=0,"",K10) | I10: =E10-D10 -> 0 | J10: =G10-F10 -> 0 | K10: =J10+I10 -> 0
B11: =B1-DAY(B1)+15-WEEKDAY(B1-DAY(B1)) -> 41315 | C11: =IF(MONTH($A$14)<>MONTH($A$14-(WEEKDAY($A$14,1)-($A$6-1))-IF((WEEKDAY($A$14,1)-($A$6-1))<=0,7,0)+(ROW(K5)-ROW($C$5))*7+(COLUMN(K5)-COLUMN($C$5)+1)),"",$A$14-(WEEKDAY($A$14,1)-($A$6-1))-IF((WEEKDAY($A$14,1)-($A$6-1))<=0,7,0)+(ROW(K5)-ROW($C$5))*7+(COLUMN(K5)-COLUMN($C$5)+1)) -> 41308 | H11: =IF(K11=0,"",K11) | I11: =E11-D11 -> 0 | J11: =G11-F11 -> 0 | K11: =J11+I11 -> 0
B12: TOTAL SEMAINE | H12: =K12 -> 0 | K12: =K5+K6+K7+K8+K9+K10+K11 -> 0
B13: =INT((C20-(DATE(YEAR(C20-WEEKDAY(C20-1)+4),1,3)-WEEKDAY(DATE(YEAR(C20-WEEKDAY(C20-1)+4),1,3)))+5)/7) -> 6 | D13: ="Semaine du "&TEXT(MIN(C14:C18,C14:C18),"jj")&" au "&TEXT(MAX(C14:C18,C14:C18),"jj mmmm aaaa") -> Semaine du 04 au 08 février 2013
A14: =DATE(A1,A2,1) -> 41306 | B14: =B10-DAY(B10)+9-WEEKDAY(B10-DAY(B10)) -> 41309 | C14: =IF(MONTH($A$14)<>MONTH($A$14-(WEEKDAY($A$14,1)-($A$6-1))-IF((WEEKDAY($A$14,1)-($A$6-1))<=0,7,0)+(ROW(L5)-ROW($C$5))*7+(COLUMN(L5)-COLUMN($C$5)+1)),"",$A$14-(WEEKDAY($A$14,1)-($A$6-1))-IF((WEEKDAY($A$14,1)-($A$6-1))<=0,7,0)+(ROW(L5)-ROW($C$5))*7+(COLUMN(L5)-COLUMN($C$5)+1)) -> 41309 | H14: =K14 -> 0 | I14: =E14-D14 -> 0 | J14: =G14-F14 -> 0 | K14: =J14+I14 -> 0
B15: =B10-DAY(B10)+10-WEEKDAY(B10-DAY(B10)) -> 41310 | C15: =IF(MONTH($A$14)<>MONTH($A$14-(WEEKDAY($A$14,1)-($A$6-1))-IF((WEEKDAY($A$14,1)-($A$6-1))<=0,7,0)+(ROW(M5)-ROW($C$5))*7+(COLUMN(M5)-COLUMN($C$5)+1)),"",$A$14-(WEEKDAY($A$14,1)-($A$6-1))-IF((WEEKDAY($A$14,1)-($A$6-1))<=0,7,0)+(ROW(M5)-ROW($C$5))*7+(COLUMN(M5)-COLUMN($C$5)+1)) -> 41310 | H15: =K15 -> 0 | I15: =E15-D15 -> 0 | J15: =G15-F15 -> 0 | K15: =J15+I15 -> 0
B16: =B10-DAY(B10)+11-WEEKDAY(B10-DAY(B10)) -> 41311 | C16: =IF(MONTH($A$14)<>MONTH($A$14-(WEEKDAY($A$14,1)-($A$6-1))-IF((WEEKDAY($A$14,1)-($A$6-1))<=0,7,0)+(ROW(N5)-ROW($C$5))*7+(COLUMN(N5)-COLUMN($C$5)+1)),"",$A$14-(WEEKDAY($A$14,1)-($A$6-1))-IF((WEEKDAY($A$14,1)-($A$6-1))<=0,7,0)+(ROW(N5)-ROW($C$5))*7+(COLUMN(N5)-COLUMN($C$5)+1)) -> 41311 | H16: =IF(K16=0,"",K16) | I16: =E16-D16 -> 0 | J16: =G16-F16 -> 0 | K16: =J16+I16 -> 0
B17: =B10-DAY(B10)+12-WEEKDAY(B10-DAY(B10)) -> 41312 | C17: =IF(MONTH($A$14)<>MONTH($A$14-(WEEKDAY($A$14,1)-($A$6-1))-IF((WEEKDAY($A$14,1)-($A$6-1))<=0,7,0)+(ROW(O5)-ROW($C$5))*7+(COLUMN(O5)-COLUMN($C$5)+1)),"",$A$14-(WEEKDAY($A$14,1)-($A$6-1))-IF((WEEKDAY($A$14,1)-($A$6-1))<=0,7,0)+(ROW(O5)-ROW($C$5))*7+(COLUMN(O5)-COLUMN($C$5)+1)) -> 41312 | H17: =K17 -> 0 | I17: =E17-D17 -> 0 | J17: =G17-F17 -> 0 | K17: =J17+I17 -> 0
B18: =B10-DAY(B10)+13-WEEKDAY(B10-DAY(B10)) -> 41313 | C18: =IF(MONTH($A$14)<>MONTH($A$14-(WEEKDAY($A$14,1)-($A$6-1))-IF((WEEKDAY($A$14,1)-($A$6-1))<=0,7,0)+(ROW(P5)-ROW($C$5))*7+(COLUMN(P5)-COLUMN($C$5)+1)),"",$A$14-(WEEKDAY($A$14,1)-($A$6-1))-IF((WEEKDAY($A$14,1)-($A$6-1))<=0,7,0)+(ROW(P5)-ROW($C$5))*7+(COLUMN(P5)-COLUMN($C$5)+1)) -> 41313 | H18: =K18 -> 0 | I18: =E18-D18 -> 0 | J18: =G18-F18 -> 0 | K18: =J18+I18 -> 0
B19: =B10-DAY(B10)+14-WEEKDAY(B10-DAY(B10)) -> 41314 | C19: =IF(MONTH($A$14)<>MONTH($A$14-(WEEKDAY($A$14,1)-($A$6-1))-IF((WEEKDAY($A$14,1)-($A$6-1))<=0,7,0)+(ROW(Q5)-ROW($C$5))*7+(COLUMN(Q5)-COLUMN($C$5)+1)),"",$A$14-(WEEKDAY($A$14,1)-($A$6-1))-IF((WEEKDAY($A$14,1)-($A$6-1))<=0,7,0)+(ROW(Q5)-ROW($C$5))*7+(COLUMN(Q5)-COLUMN($C$5)+1)) -> 41314 | H19: =IF(K19=0,"",K19) | I19: =E19-D19 -> 0 | J19: =G19-F19 -> 0 | K19: =J19+I19 -> 0
B20: =B10-DAY(B10)+15-WEEKDAY(B10-DAY(B10)) -> 41315 | C20: =IF(MONTH($A$14)<>MONTH($A$14-(WEEKDAY($A$14,1)-($A$6-1))-IF((WEEKDAY($A$14,1)-($A$6-1))<=0,7,0)+(ROW(R5)-ROW($C$5))*7+(COLUMN(R5)-COLUMN($C$5)+1)),"",$A$14-(WEEKDAY($A$14,1)-($A$6-1))-IF((WEEKDAY($A$14,1)-($A$6-1))<=0,7,0)+(ROW(R5)-ROW($C$5))*7+(COLUMN(R5)-COLUMN($C$5)+1)) -> 41315 | H20: =IF(K20=0,"",K20) | I20: =E20-D20 -> 0 | J20: =G20-F20 -> 0 | K20: =J20+I20 -> 0
B21: TOTAL SEMAINE | H21: =K21 -> 0 | K21: =K14+K15+K16+K17+K18+K19+K20 -> 0
B22: =INT((C29-(DATE(YEAR(C29-WEEKDAY(C29-1)+4),1,3)-WEEKDAY(DATE(YEAR(C29-WEEKDAY(C29-1)+4),1,3)))+5)/7) -> 7 | D22: ="Semaine du "&TEXT(MIN(C23:C27,C23:C27),"jj")&" au "&TEXT(MAX(C23:C27,C23:C27),"jj mmmm aaaa") -> Semaine du 11 au 15 février 2013
B23: =B18-DAY(B18)+9-WEEKDAY(B18-DAY(B18)) -> 41309 | C23: =IF(MONTH($A$14)<>MONTH($A$14-(WEEKDAY($A$14,1)-($A$6-1))-IF((WEEKDAY($A$14,1)-($A$6-1))<=0,7,0)+(ROW(S5)-ROW($C$5))*7+(COLUMN(S5)-COLUMN($C$5)+1)),"",$A$14-(WEEKDAY($A$14,1)-($A$6-1))-IF((WEEKDAY($A$14,1)-($A$6-1))<=0,7,0)+(ROW(S5)-ROW($C$5))*7+(COLUMN(S5)-COLUMN($C$5)+1)) -> 41316 | H23: =K23 -> 0 | I23: =E23-D23 -> 0 | J23: =G23-F23 -> 0 | K23: =J23+I23 -> 0
B24: =B18-DAY(B18)+10-WEEKDAY(B18-DAY(B18)) -> 41310 | C24: =IF(MONTH($A$14)<>MONTH($A$14-(WEEKDAY($A$14,1)-($A$6-1))-IF((WEEKDAY($A$14,1)-($A$6-1))<=0,7,0)+(ROW(T5)-ROW($C$5))*7+(COLUMN(T5)-COLUMN($C$5)+1)),"",$A$14-(WEEKDAY($A$14,1)-($A$6-1))-IF((WEEKDAY($A$14,1)-($A$6-1))<=0,7,0)+(ROW(T5)-ROW($C$5))*7+(COLUMN(T5)-COLUMN($C$5)+1)) -> 41317 | H24: =K24 -> 0 | I24: =E24-D24 -> 0 | J24: =G24-F24 -> 0 | K24: =J24+I24 -> 0
B25: =B18-DAY(B18)+11-WEEKDAY(B18-DAY(B18)) -> 41311 | C25: =IF(MONTH($A$14)<>MONTH($A$14-(WEEKDAY($A$14,1)-($A$6-1))-IF((WEEKDAY($A$14,1)-($A$6-1))<=0,7,0)+(ROW(U5)-ROW($C$5))*7+(COLUMN(U5)-COLUMN($C$5)+1)),"",$A$14-(WEEKDAY($A$14,1)-($A$6-1))-IF((WEEKDAY($A$14,1)-($A$6-1))<=0,7,0)+(ROW(U5)-ROW($C$5))*7+(COLUMN(U5)-COLUMN($C$5)+1)) -> 41318 | H25: =IF(K25=0,"",K25) | I25: =E25-D25 -> 0 | J25: =G25-F25 -> 0 | K25: =J25+I25 -> 0
B26: =B18-DAY(B18)+12-WEEKDAY(B18-DAY(B18)) -> 41312 | C26: =IF(MONTH($A$14)<>MONTH($A$14-(WEEKDAY($A$14,1)-($A$6-1))-IF((WEEKDAY($A$14,1)-($A$6-1))<=0,7,0)+(ROW(V5)-ROW($C$5))*7+(COLUMN(V5)-COLUMN($C$5)+1)),"",$A$14-(WEEKDAY($A$14,1)-($A$6-1))-IF((WEEKDAY($A$14,1)-($A$6-1))<=0,7,0)+(ROW(V5)-ROW($C$5))*7+(COLUMN(V5)-COLUMN($C$5)+1)) -> 41319 | H26: =K26 -> 0 | I26: =E26-D26 -> 0 | J26: =G26-F26 -> 0 | K26: =J26+I26 -> 0
B27: =B18-DAY(B18)+13-WEEKDAY(B18-DAY(B18)) -> 41313 | C27: =IF(MONTH($A$14)<>MONTH($A$14-(WEEKDAY($A$14,1)-($A$6-1))-IF((WEEKDAY($A$14,1)-($A$6-1))<=0,7,0)+(ROW(W5)-ROW($C$5))*7+(COLUMN(W5)-COLUMN($C$5)+1)),"",$A$14-(WEEKDAY($A$14,1)-($A$6-1))-IF((WEEKDAY($A$14,1)-($A$6-1))<=0,7,0)+(ROW(W5)-ROW($C$5))*7+(COLUMN(W5)-COLUMN($C$5)+1)) -> 41320 | H27: =K27 -> 0 | I27: =E27-D27 -> 0 | J27: =G27-F27 -> 0 | K27: =J27+I27 -> 0
B28: =B18-DAY(B18)+14-WEEKDAY(B18-DAY(B18)) -> 41314 | C28: =IF(MONTH($A$14)<>MONTH($A$14-(WEEKDAY($A$14,1)-($A$6-1))-IF((WEEKDAY($A$14,1)-($A$6-1))<=0,7,0)+(ROW(X5)-ROW($C$5))*7+(COLUMN(X5)-COLUMN($C$5)+1)),"",$A$14-(WEEKDAY($A$14,1)-($A$6-1))-IF((WEEKDAY($A$14,1)-($A$6-1))<=0,7,0)+(ROW(X5)-ROW($C$5))*7+(COLUMN(X5)-COLUMN($C$5)+1)) -> 41321 | H28: =IF(K28=0,"",K28) | I28: =E28-D28 -> 0 | J28: =G28-F28 -> 0 | K28: =J28+I28 -> 0
B29: =B18-DAY(B18)+15-WEEKDAY(B18-DAY(B18)) -> 41315 | C29: =IF(MONTH($A$14)<>MONTH($A$14-(WEEKDAY($A$14,1)-($A$6-1))-IF((WEEKDAY($A$14,1)-($A$6-1))<=0,7,0)+(ROW(Y5)-ROW($C$5))*7+(COLUMN(Y5)-COLUMN($C$5)+1)),"",$A$14-(WEEKDAY($A$14,1)-($A$6-1))-IF((WEEKDAY($A$14,1)-($A$6-1))<=0,7,0)+(ROW(Y5)-ROW($C$5))*7+(COLUMN(Y5)-COLUMN($C$5)+1)) -> 41322 | H29: =IF(K29=0,"",K29) | I29: =E29-D29 -> 0 | J29: =G29-F29 -> 0 | K29: =J29+I29 -> 0
B30: TOTAL SEMAINE | H30: =K30 -> 0 | K30: =K23+K24+K25+K26+K27+K28+K29 -> 0
B31: =INT((C38-(DATE(YEAR(C38-WEEKDAY(C38-1)+4),1,3)-WEEKDAY(DATE(YEAR(C38-WEEKDAY(C38-1)+4),1,3)))+5)/7) -> 8 | D31: ="Semaine du "&TEXT(MIN(C32:C36,C32:C36),"jj")&" au "&TEXT(MAX(C32:C36,C32:C36),"jj mmmm aaaa") -> Semaine du 18 au 22 février 2013
B32: =B27-DAY(B27)+9-WEEKDAY(B27-DAY(B27)) -> 41309 | C32: =IF(MONTH($A$14)<>MONTH($A$14-(WEEKDAY($A$14,1)-($A$6-1))-IF((WEEKDAY($A$14,1)-($A$6-1))<=0,7,0)+(ROW(Z5)-ROW($C$5))*7+(COLUMN(Z5)-COLUMN($C$5)+1)),"",$A$14-(WEEKDAY($A$14,1)-($A$6-1))-IF((WEEKDAY($A$14,1)-($A$6-1))<=0,7,0)+(ROW(Z5)-ROW($C$5))*7+(COLUMN(Z5)-COLUMN($C$5)+1)) -> 41323 | H32: =K32 -> 0 | I32: =E32-D32 -> 0 | J32: =G32-F32 -> 0 | K32: =J32+I32 -> 0
B33: =B27-DAY(B27)+10-WEEKDAY(B27-DAY(B27)) -> 41310 | C33: =IF(MONTH($A$14)<>MONTH($A$14-(WEEKDAY($A$14,1)-($A$6-1))-IF((WEEKDAY($A$14,1)-($A$6-1))<=0,7,0)+(ROW(AA5)-ROW($C$5))*7+(COLUMN(AA5)-COLUMN($C$5)+1)),"",$A$14-(WEEKDAY($A$14,1)-($A$6-1))-IF((WEEKDAY($A$14,1)-($A$6-1))<=0,7,0)+(ROW(AA5)-ROW($C$5))*7+(COLUMN(AA5)-COLUMN($C$5)+1)) -> 41324 | H33: =K33 -> 0 | I33: =E33-D33 -> 0 | J33: =G33-F33 -> 0 | K33: =J33+I33 -> 0
B34: =B27-DAY(B27)+11-WEEKDAY(B27-DAY(B27)) -> 41311 | C34: =IF(MONTH($A$14)<>MONTH($A$14-(WEEKDAY($A$14,1)-($A$6-1))-IF((WEEKDAY($A$14,1)-($A$6-1))<=0,7,0)+(ROW(AB5)-ROW($C$5))*7+(COLUMN(AB5)-COLUMN($C$5)+1)),"",$A$14-(WEEKDAY($A$14,1)-($A$6-1))-IF((WEEKDAY($A$14,1)-($A$6-1))<=0,7,0)+(ROW(AB5)-ROW($C$5))*7+(COLUMN(AB5)-COLUMN($C$5)+1)) -> 41325 | H34: =IF(K34=0,"",K34) | I34: =E34-D34 -> 0 | J34: =G34-F34 -> 0 | K34: =J34+I34 -> 0
B35: =B27-DAY(B27)+12-WEEKDAY(B27-DAY(B27)) -> 41312 | C35: =IF(MONTH($A$14)<>MONTH($A$14-(WEEKDAY($A$14,1)-($A$6-1))-IF((WEEKDAY($A$14,1)-($A$6-1))<=0,7,0)+(ROW(AC5)-ROW($C$5))*7+(COLUMN(AC5)-COLUMN($C$5)+1)),"",$A$14-(WEEKDAY($A$14,1)-($A$6-1))-IF((WEEKDAY($A$14,1)-($A$6-1))<=0,7,0)+(ROW(AC5)-ROW($C$5))*7+(COLUMN(AC5)-COLUMN($C$5)+1)) -> 41326 | H35: =K35 -> 0 | I35: =E35-D35 -> 0 | J35: =G35-F35 -> 0 | K35: =J35+I35 -> 0
B36: =B27-DAY(B27)+13-WEEKDAY(B27-DAY(B27)) -> 41313 | C36: =IF(MONTH($A$14)<>MONTH($A$14-(WEEKDAY($A$14,1)-($A$6-1))-IF((WEEKDAY($A$14,1)-($A$6-1))<=0,7,0)+(ROW(AD5)-ROW($C$5))*7+(COLUMN(AD5)-COLUMN($C$5)+1)),"",$A$14-(WEEKDAY($A$14,1)-($A$6-1))-IF((WEEKDAY($A$14,1)-($A$6-1))<=0,7,0)+(ROW(AD5)-ROW($C$5))*7+(COLUMN(AD5)-COLUMN($C$5)+1)) -> 41327 | H36: =K36 -> 0 | I36: =E36-D36 -> 0 | J36: =G36-F36 -> 0 | K36: =J36+I36 -> 0
B37: =B27-DAY(B27)+14-WEEKDAY(B27-DAY(B27)) -> 41314 | C37: =IF(MONTH($A$14)<>MONTH($A$14-(WEEKDAY($A$14,1)-($A$6-1))-IF((WEEKDAY($A$14,1)-($A$6-1))<=0,7,0)+(ROW(AE5)-ROW($C$5))*7+(COLUMN(AE5)-COLUMN($C$5)+1)),"",$A$14-(WEEKDAY($A$14,1)-($A$6-1))-IF((WEEKDAY($A$14,1)-($A$6-1))<=0,7,0)+(ROW(AE5)-ROW($C$5))*7+(COLUMN(AE5)-COLUMN($C$5)+1)) -> 41328 | H37: =IF(K37=0,"",K37) | I37: =E37-D37 -> 0 | J37: =G37-F37 -> 0 | K37: =J37+I37 -> 0
B38: =B27-DAY(B27)+15-WEEKDAY(B27-DAY(B27)) -> 41315 | C38: =IF(MONTH($A$14)<>MONTH($A$14-(WEEKDAY($A$14,1)-($A$6-1))-IF((WEEKDAY($A$14,1)-($A$6-1))<=0,7,0)+(ROW(AF5)-ROW($C$5))*7+(COLUMN(AF5)-COLUMN($C$5)+1)),"",$A$14-(WEEKDAY($A$14,1)-($A$6-1))-IF((WEEKDAY($A$14,1)-($A$6-1))<=0,7,0)+(ROW(AF5)-ROW($C$5))*7+(COLUMN(AF5)-COLUMN($C$5)+1)) -> 41329 | H38: =IF(K38=0,"",K38) | I38: =E38-D38 -> 0 | J38: =G38-F38 -> 0 | K38: =J38+I38 -> 0
B39: TOTAL SEMAINE | H39: =K39 -> 0 | K39: =K32+K33+K34+K35+K36+K37+K38 -> 0
B40: =INT((C41-(DATE(YEAR(C41-WEEKDAY(C41-1)+4),1,3)-WEEKDAY(DATE(YEAR(C41-WEEKDAY(C41-1)+4),1,3)))+5)/7) -> 9 | D40: ="Semaine du "&TEXT(MIN(C41:C45,C41:C45),"jj")&" au "&TEXT(MAX(C41:C45,C41:C45),"jj mmmm aaaa") -> Semaine du 25 au 28 février 2013
B41: =B36-DAY(B36)+9-WEEKDAY(B36-DAY(B36)) -> 41309 | C41: =IF(MONTH($A$14)<>MONTH($A$14-(WEEKDAY($A$14,1)-($A$6-1))-IF((WEEKDAY($A$14,1)-($A$6-1))<=0,7,0)+(ROW(AG5)-ROW($C$5))*7+(COLUMN(AG5)-COLUMN($C$5)+1)),"",$A$14-(WEEKDAY($A$14,1)-($A$6-1))-IF((WEEKDAY($A$14,1)-($A$6-1))<=0,7,0)+(ROW(AG5)-ROW($C$5))*7+(COLUMN(AG5)-COLUMN($C$5)+1)) -> 41330 | H41: =K41 -> 0 | I41: =E41-D41 -> 0 | J41: =G41-F41 -> 0 | K41: =J41+I41 -> 0
B42: =B36-DAY(B36)+10-WEEKDAY(B36-DAY(B36)) -> 41310 | C42: =IF(MONTH($A$14)<>MONTH($A$14-(WEEKDAY($A$14,1)-($A$6-1))-IF((WEEKDAY($A$14,1)-($A$6-1))<=0,7,0)+(ROW(AH5)-ROW($C$5))*7+(COLUMN(AH5)-COLUMN($C$5)+1)),"",$A$14-(WEEKDAY($A$14,1)-($A$6-1))-IF((WEEKDAY($A$14,1)-($A$6-1))<=0,7,0)+(ROW(AH5)-ROW($C$5))*7+(COLUMN(AH5)-COLUMN($C$5)+1)) -> 41331 | H42: =K42 -> 0 | I42: =E42-D42 -> 0 | J42: =G42-F42 -> 0 | K42: =J42+I42 -> 0
B43: =B36-DAY(B36)+11-WEEKDAY(B36-DAY(B36)) -> 41311 | C43: =IF(MONTH($A$14)<>MONTH($A$14-(WEEKDAY($A$14,1)-($A$6-1))-IF((WEEKDAY($A$14,1)-($A$6-1))<=0,7,0)+(ROW(AI5)-ROW($C$5))*7+(COLUMN(AI5)-COLUMN($C$5)+1)),"",$A$14-(WEEKDAY($A$14,1)-($A$6-1))-IF((WEEKDAY($A$14,1)-($A$6-1))<=0,7,0)+(ROW(AI5)-ROW($C$5))*7+(COLUMN(AI5)-COLUMN($C$5)+1)) -> 41332 | H43: =IF(K43=0,"",K43) | I43: =E43-D43 -> 0 | J43: =G43-F43 -> 0 | K43: =J43+I43 -> 0
B44: =B36-DAY(B36)+12-WEEKDAY(B36-DAY(B36)) -> 41312 | C44: =IF(MONTH($A$14)<>MONTH($A$14-(WEEKDAY($A$14,1)-($A$6-1))-IF((WEEKDAY($A$14,1)-($A$6-1))<=0,7,0)+(ROW(AJ5)-ROW($C$5))*7+(COLUMN(AJ5)-COLUMN($C$5)+1)),"",$A$14-(WEEKDAY($A$14,1)-($A$6-1))-IF((WEEKDAY($A$14,1)-($A$6-1))<=0,7,0)+(ROW(AJ5)-ROW($C$5))*7+(COLUMN(AJ5)-COLUMN($C$5)+1)) -> 41333 | H44: =K44 -> 0 | I44: =E44-D44 -> 0 | J44: =G44-F44 -> 0 | K44: =J44+I44 -> 0
B45: =B36-DAY(B36)+13-WEEKDAY(B36-DAY(B36)) -> 41313 | C45: =IF(MONTH($A$14)<>MONTH($A$14-(WEEKDAY($A$14,1)-($A$6-1))-IF((WEEKDAY($A$14,1)-($A$6-1))<=0,7,0)+(ROW(AK5)-ROW($C$5))*7+(COLUMN(AK5)-COLUMN($C$5)+1)),"",$A$14-(WEEKDAY($A$14,1)-($A$6-1))-IF((WEEKDAY($A$14,1)-($A$6-1))<=0,7,0)+(ROW(AK5)-ROW($C$5))*7+(COLUMN(AK5)-COLUMN($C$5)+1)) | H45: =K45 -> 0 | I45: =E45-D45 -> 0 | J45: =G45-F45 -> 0 | K45: =J45+I45 -> 0
B46: =B36-DAY(B36)+14-WEEKDAY(B36-DAY(B36)) -> 41314 | C46: =IF(MONTH($A$14)<>MONTH($A$14-(WEEKDAY($A$14,1)-($A$6-1))-IF((WEEKDAY($A$14,1)-($A$6-1))<=0,7,0)+(ROW(AL5)-ROW($C$5))*7+(COLUMN(AL5)-COLUMN($C$5)+1)),"",$A$14-(WEEKDAY($A$14,1)-($A$6-1))-IF((WEEKDAY($A$14,1)-($A$6-1))<=0,7,0)+(ROW(AL5)-ROW($C$5))*7+(COLUMN(AL5)-COLUMN($C$5)+1)) | H46: =IF(K46=0,"",K46) | I46: =E46-D46 -> 0 | J46: =G46-F46 -> 0 | K46: =J46+I46 -> 0
B47: =B36-DAY(B36)+15-WEEKDAY(B36-DAY(B36)) -> 41315 | C47: =IF(MONTH($A$14)<>MONTH($A$14-(WEEKDAY($A$14,1)-($A$6-1))-IF((WEEKDAY($A$14,1)-($A$6-1))<=0,7,0)+(ROW(AM5)-ROW($C$5))*7+(COLUMN(AM5)-COLUMN($C$5)+1)),"",$A$14-(WEEKDAY($A$14,1)-($A$6-1))-IF((WEEKDAY($A$14,1)-($A$6-1))<=0,7,0)+(ROW(AM5)-ROW($C$5))*7+(COLUMN(AM5)-COLUMN($C$5)+1)) | H47: =IF(K47=0,"",K47) | I47: =E47-D47 -> 0 | J47: =G47-F47 -> 0 | K47: =J47+I47 -> 0
B48: TOTAL SEMAINE | H48: =K48 -> 0 | K48: =K41+K42+K43+K44+K45+K46+K47 -> 0
B49: Cumul mois | H49: =H12+H21+H30+H39+H48 -> 0
B50: Cumul Année | H50: =H49+Janvier!H49 -> 0

Sheet Mars
A1: =YEAR(B1) -> 2013 | B1: =DATE(Février!A1,(Février!A2)+1,1) -> 41334 | D1: MATIN | E1: MIDI | F1: APRES MIDI | G1: SOIR | H1: TOTAL
A2: =MONTH(B1) -> 3 | B2: =INT((C11-(DATE(YEAR(C11-WEEKDAY(C11-1)+4),1,3)-WEEKDAY(DATE(YEAR(C11-WEEKDAY(C11-1)+4),1,3)))+5)/7) -> 9 | D2: ="Semaine du "&TEXT(MIN(C5:C9,C5:C9),"jj")&" au "&TEXT(MAX(C5:C9,C5:C9),"jj mmmm aaaa") -> Semaine du 01 au 01 mars 2013
C3: =IF(MONTH($A$14)<>MONTH($A$14-(WEEKDAY($A$14,1)-($A$6-1))-IF((WEEKDAY($A$14,1)-($A$6-1))<=0,7,0)+(ROW(C5)-ROW($C$5))*7+(COLUMN(C5)-COLUMN($C$5)+1)),"",$A$14-(WEEKDAY($A$14,1)-($A$6-1))-IF((WEEKDAY($A$14,1)-($A$6-1))<=0,7,0)+(ROW(C5)-ROW($C$5))*7+(COLUMN(C5)-COLUMN($C$5)+1))
C4: =IF(MONTH($A$14)<>MONTH($A$14-(WEEKDAY($A$14,1)-($A$6-1))-IF((WEEKDAY($A$14,1)-($A$6-1))<=0,7,0)+(ROW(D5)-ROW($C$5))*7+(COLUMN(D5)-COLUMN($C$5)+1)),"",$A$14-(WEEKDAY($A$14,1)-($A$6-1))-IF((WEEKDAY($A$14,1)-($A$6-1))<=0,7,0)+(ROW(D5)-ROW($C$5))*7+(COLUMN(D5)-COLUMN($C$5)+1))
A5: 7 | B5: =B1-DAY(B1)+9-WEEKDAY(B1-DAY(B1)) -> 41337 | C5: =IF(MONTH($A$14)<>MONTH($A$14-(WEEKDAY($A$14,1)-($A$6-1))-IF((WEEKDAY($A$14,1)-($A$6-1))<=0,7,0)+(ROW(E5)-ROW($C$5))*7+(COLUMN(E5)-COLUMN($C$5)+1)),"",$A$14-(WEEKDAY($A$14,1)-($A$6-1))-IF((WEEKDAY($A$14,1)-($A$6-1))<=0,7,0)+(ROW(E5)-ROW($C$5))*7+(COLUMN(E5)-COLUMN($C$5)+1)) | H5: =K5 -> 0 | I5: =E5-D5 -> 0 | J5: =G5-F5 -> 0 | K5: =J5+I5 -> 0
A6: 7 | B6: =B1-DAY(B1)+10-WEEKDAY(B1-DAY(B1)) -> 41338 | C6: =IF(MONTH($A$14)<>MONTH($A$14-(WEEKDAY($A$14,1)-($A$6-1))-IF((WEEKDAY($A$14,1)-($A$6-1))<=0,7,0)+(ROW(F5)-ROW($C$5))*7+(COLUMN(F5)-COLUMN($C$5)+1)),"",$A$14-(WEEKDAY($A$14,1)-($A$6-1))-IF((WEEKDAY($A$14,1)-($A$6-1))<=0,7,0)+(ROW(F5)-ROW($C$5))*7+(COLUMN(F5)-COLUMN($C$5)+1)) | H6: =K6 -> 0 | I6: =E6-D6 -> 0 | J6: =G6-F6 -> 0 | K6: =J6+I6 -> 0
B7: =B1-DAY(B1)+11-WEEKDAY(B1-DAY(B1)) -> 41339 | C7: =IF(MONTH($A$14)<>MONTH($A$14-(WEEKDAY($A$14,1)-($A$6-1))-IF((WEEKDAY($A$14,1)-($A$6-1))<=0,7,0)+(ROW(G5)-ROW($C$5))*7+(COLUMN(G5)-COLUMN($C$5)+1)),"",$A$14-(WEEKDAY($A$14,1)-($A$6-1))-IF((WEEKDAY($A$14,1)-($A$6-1))<=0,7,0)+(ROW(G5)-ROW($C$5))*7+(COLUMN(G5)-COLUMN($C$5)+1)) | H7: =IF(K7=0,"",K7) | I7: =E7-D7 -> 0 | J7: =G7-F7 -> 0 | K7: =J7+I7 -> 0
B8: =B1-DAY(B1)+12-WEEKDAY(B1-DAY(B1)) -> 41340 | C8: =IF(MONTH($A$14)<>MONTH($A$14-(WEEKDAY($A$14,1)-($A$6-1))-IF((WEEKDAY($A$14,1)-($A$6-1))<=0,7,0)+(ROW(H5)-ROW($C$5))*7+(COLUMN(H5)-COLUMN($C$5)+1)),"",$A$14-(WEEKDAY($A$14,1)-($A$6-1))-IF((WEEKDAY($A$14,1)-($A$6-1))<=0,7,0)+(ROW(H5)-ROW($C$5))*7+(COLUMN(H5)-COLUMN($C$5)+1)) | H8: =K8 -> 0 | I8: =E8-D8 -> 0 | J8: =G8-F8 -> 0 | K8: =J8+I8 -> 0
B9: =B1-DAY(B1)+13-WEEKDAY(B1-DAY(B1)) -> 41341 | C9: =IF(MONTH($A$14)<>MONTH($A$14-(WEEKDAY($A$14,1)-($A$6-1))-IF((WEEKDAY($A$14,1)-($A$6-1))<=0,7,0)+(ROW(I5)-ROW($C$5))*7+(COLUMN(I5)-COLUMN($C$5)+1)),"",$A$14-(WEEKDAY($A$14,1)-($A$6-1))-IF((WEEKDAY($A$14,1)-($A$6-1))<=0,7,0)+(ROW(I5)-ROW($C$5))*7+(COLUMN(I5)-COLUMN($C$5)+1)) -> 41334 | H9: =K9 -> 0 | I9: =E9-D9 -> 0 | J9: =G9-F9 -> 0 | K9: =J9+I9 -> 0
B10: =B1-DAY(B1)+14-WEEKDAY(B1-DAY(B1)) -> 41342 | C10: =IF(MONTH($A$14)<>MONTH($A$14-(WEEKDAY($A$14,1)-($A$6-1))-IF((WEEKDAY($A$14,1)-($A$6-1))<=0,7,0)+(ROW(J5)-ROW($C$5))*7+(COLUMN(J5)-COLUMN($C$5)+1)),"",$A$14-(WEEKDAY($A$14,1)-($A$6-1))-IF((WEEKDAY($A$14,1)-($A$6-1))<=0,7,0)+(ROW(J5)-ROW($C$5))*7+(COLUMN(J5)-COLUMN($C$5)+1)) -> 41335 | H10: =IF(K10=0,"",K10) | I10: =E10-D10 -> 0 | J10: =G10-F10 -> 0 | K10: =J10+I10 -> 0
B11: =B1-DAY(B1)+15-WEEKDAY(B1-DAY(B1)) -> 41343 | C11: =IF(MONTH($A$14)<>MONTH($A$14-(WEEKDAY($A$14,1)-($A$6-1))-IF((WEEKDAY($A$14,1)-($A$6-1))<=0,7,0)+(ROW(K5)-ROW($C$5))*7+(COLUMN(K5)-COLUMN($C$5)+1)),"",$A$14-(WEEKDAY($A$14,1)-($A$6-1))-IF((WEEKDAY($A$14,1)-($A$6-1))<=0,7,0)+(ROW(K5)-ROW($C$5))*7+(COLUMN(K5)-COLUMN($C$5)+1)) -> 41336 | H11: =IF(K11=0,"",K11) | I11: =E11-D11 -> 0 | J11: =G11-F11 -> 0 | K11: =J11+I11 -> 0
B12: TOTAL SEMAINE | H12: =K12 -> 0 | K12: =K5+K6+K7+K8+K9+K10+K11 -> 0
B13: =INT((C20-(DATE(YEAR(C20-WEEKDAY(C20-1)+4),1,3)-WEEKDAY(DATE(YEAR(C20-WEEKDAY(C20-1)+4),1,3)))+5)/7) -> 10 | D13: ="Semaine du "&TEXT(MIN(C14:C18,C14:C18),"jj")&" au "&TEXT(MAX(C14:C18,C14:C18),"jj mmmm aaaa") -> Semaine du 04 au 08 mars 2013
A14: =DATE(A1,A2,1) -> 41334 | B14: =B10-DAY(B10)+9-WEEKDAY(B10-DAY(B10)) -> 41337 | C14: =IF(MONTH($A$14)<>MONTH($A$14-(WEEKDAY($A$14,1)-($A$6-1))-IF((WEEKDAY($A$14,1)-($A$6-1))<=0,7,0)+(ROW(L5)-ROW($C$5))*7+(COLUMN(L5)-COLUMN($C$5)+1)),"",$A$14-(WEEKDAY($A$14,1)-($A$6-1))-IF((WEEKDAY($A$14,1)-($A$6-1))<=0,7,0)+(ROW(L5)-ROW($C$5))*7+(COLUMN(L5)-COLUMN($C$5)+1)) -> 41337 | H14: =K14 -> 0 | I14: =E14-D14 -> 0 | J14: =G14-F14 -> 0 | K14: =J14+I14 -> 0
B15: =B10-DAY(B10)+10-WEEKDAY(B10-DAY(B10)) -> 41338 | C15: =IF(MONTH($A$14)<>MONTH($A$14-(WEEKDAY($A$14,1)-($A$6-1))-IF((WEEKDAY($A$14,1)-($A$6-1))<=0,7,0)+(ROW(M5)-ROW($C$5))*7+(COLUMN(M5)-COLUMN($C$5)+1)),"",$A$14-(WEEKDAY($A$14,1)-($A$6-1))-IF((WEEKDAY($A$14,1)-($A$6-1))<=0,7,0)+(ROW(M5)-ROW($C$5))*7+(COLUMN(M5)-COLUMN($C$5)+1)) -> 41338 | H15: =K15 -> 0 | I15: =E15-D15 -> 0 | J15: =G15-F15 -> 0 | K15: =J15+I15 -> 0
B16: =B10-DAY(B10)+11-WEEKDAY(B10-DAY(B10)) -> 41339 | C16: =IF(MONTH($A$14)<>MONTH($A$14-(WEEKDAY($A$14,1)-($A$6-1))-IF((WEEKDAY($A$14,1)-($A$6-1))<=0,7,0)+(ROW(N5)-ROW($C$5))*7+(COLUMN(N5)-COLUMN($C$5)+1)),"",$A$14-(WEEKDAY($A$14,1)-($A$6-1))-IF((WEEKDAY($A$14,1)-($A$6-1))<=0,7,0)+(ROW(N5)-ROW($C$5))*7+(COLUMN(N5)-COLUMN($C$5)+1)) -> 41339 | H16: =IF(K16=0,"",K16) | I16: =E16-D16 -> 0 | J16: =G16-F16 -> 0 | K16: =J16+I16 -> 0
B17: =B10-DAY(B10)+12-WEEKDAY(B10-DAY(B10)) -> 41340 | C17: =IF(MONTH($A$14)<>MONTH($A$14-(WEEKDAY($A$14,1)-($A$6-1))-IF((WEEKDAY($A$14,1)-($A$6-1))<=0,7,0)+(ROW(O5)-ROW($C$5))*7+(COLUMN(O5)-COLUMN($C$5)+1)),"",$A$14-(WEEKDAY($A$14,1)-($A$6-1))-IF((WEEKDAY($A$14,1)-($A$6-1))<=0,7,0)+(ROW(O5)-ROW($C$5))*7+(COLUMN(O5)-COLUMN($C$5)+1)) -> 41340 | H17: =K17 -> 0 | I17: =E17-D17 -> 0 | J17: =G17-F17 -> 0 | K17: =J17+I17 -> 0
B18: =B10-DAY(B10)+13-WEEKDAY(B10-DAY(B10)) -> 41341 | C18: =IF(MONTH($A$14)<>MONTH($A$14-(WEEKDAY($A$14,1)-($A$6-1))-IF((WEEKDAY($A$14,1)-($A$6-1))<=0,7,0)+(ROW(P5)-ROW($C$5))*7+(COLUMN(P5)-COLUMN($C$5)+1)),"",$A$14-(WEEKDAY($A$14,1)-($A$6-1))-IF((WEEKDAY($A$14,1)-($A$6-1))<=0,7,0)+(ROW(P5)-ROW($C$5))*7+(COLUMN(P5)-COLUMN($C$5)+1)) -> 41341 | H18: =K18 -> 0 | I18: =E18-D18 -> 0 | J18: =G18-F18 -> 0 | K18: =J18+I18 -> 0
B19: =B10-DAY(B10)+14-WEEKDAY(B10-DAY(B10)) -> 41342 | C19: =IF(MONTH($A$14)<>MONTH($A$14-(WEEKDAY($A$14,1)-($A$6-1))-IF((WEEKDAY($A$14,1)-($A$6-1))<=0,7,0)+(ROW(Q5)-ROW($C$5))*7+(COLUMN(Q5)-COLUMN($C$5)+1)),"",$A$14-(WEEKDAY($A$14,1)-($A$6-1))-IF((WEEKDAY($A$14,1)-($A$6-1))<=0,7,0)+(ROW(Q5)-ROW($C$5))*7+(COLUMN(Q5)-COLUMN($C$5)+1)) -> 41342 | H19: =IF(K19=0,"",K19) | I19: =E19-D19 -> 0 | J19: =G19-F19 -> 0 | K19: =J19+I19 -> 0
B20: =B10-DAY(B10)+15-WEEKDAY(B10-DAY(B10)) -> 41343 | C20: =IF(MONTH($A$14)<>MONTH($A$14-(WEEKDAY($A$14,1)-($A$6-1))-IF((WEEKDAY($A$14,1)-($A$6-1))<=0,7,0)+(ROW(R5)-ROW($C$5))*7+(COLUMN(R5)-COLUMN($C$5)+1)),"",$A$14-(WEEKDAY($A$14,1)-($A$6-1))-IF((WEEKDAY($A$14,1)-($A$6-1))<=0,7,0)+(ROW(R5)-ROW($C$5))*7+(COLUMN(R5)-COLUMN($C$5)+1)) -> 41343 | H20: =IF(K20=0,"",K20) | I20: =E20-D20 -> 0 | J20: =G20-F20 -> 0 | K20: =J20+I20 -> 0
B21: TOTAL SEMAINE | H21: =K21 -> 0 | K21: =K14+K15+K16+K17+K18+K19+K20 -> 0
B22: =INT((C29-(DATE(YEAR(C29-WEEKDAY(C29-1)+4),1,3)-WEEKDAY(DATE(YEAR(C29-WEEKDAY(C29-1)+4),1,3)))+5)/7) -> 11 | D22: ="Semaine du "&TEXT(MIN(C23:C27,C23:C27),"jj")&" au "&TEXT(MAX(C23:C27,C23:C27),"jj mmmm aaaa") -> Semaine du 11 au 15 mars 2013
B23: =B18-DAY(B18)+9-WEEKDAY(B18-DAY(B18)) -> 41337 | C23: =IF(MONTH($A$14)<>MONTH($A$14-(WEEKDAY($A$14,1)-($A$6-1))-IF((WEEKDAY($A$14,1)-($A$6-1))<=0,7,0)+(ROW(S5)-ROW($C$5))*7+(COLUMN(S5)-COLUMN($C$5)+1)),"",$A$14-(WEEKDAY($A$14,1)-($A$6-1))-IF((WEEKDAY($A$14,1)-($A$6-1))<=0,7,0)+(ROW(S5)-ROW($C$5))*7+(COLUMN(S5)-COLUMN($C$5)+1)) -> 41344 | D23: 0.41666667 | E23: 0.52083333 | F23: 0.5625 | G23: 0.70833333 | H23: =K23 -> 0.25 | I23: =E23-D23 -> 0.10416667 | J23: =G23-F23 -> 0.14583333 | K23: =J23+I23 -> 0.25
B24: =B18-DAY(B18)+10-WEEKDAY(B18-DAY(B18)) -> 41338 | C24: =IF(MONTH($A$14)<>MONTH($A$14-(WEEKDAY($A$14,1)-($A$6-1))-IF((WEEKDAY($A$14,1)-($A$6-1))<=0,7,0)+(ROW(T5)-ROW($C$5))*7+(COLUMN(T5)-COLUMN($C$5)+1)),"",$A$14-(WEEKDAY($A$14,1)-($A$6-1))-IF((WEEKDAY($A$14,1)-($A$6-1))<=0,7,0)+(ROW(T5)-ROW($C$5))*7+(COLUMN(T5)-COLUMN($C$5)+1)) -> 41345 | D24: 0.375 | E24: 0.52083333 | H24: =K24 -> 0.14583333 | I24: =E24-D24 -> 0.14583333 | J24: =G24-F24 -> 0 | K24: =J24+I24 -> 0.14583333
B25: =B18-DAY(B18)+11-WEEKDAY(B18-DAY(B18)) -> 41339 | C25: =IF(MONTH($A$14)<>MONTH($A$14-(WEEKDAY($A$14,1)-($A$6-1))-IF((WEEKDAY($A$14,1)-($A$6-1))<=0,7,0)+(ROW(U5)-ROW($C$5))*7+(COLUMN(U5)-COLUMN($C$5)+1)),"",$A$14-(WEEKDAY($A$14,1)-($A$6-1))-IF((WEEKDAY($A$14,1)-($A$6-1))<=0,7,0)+(ROW(U5)-ROW($C$5))*7+(COLUMN(U5)-COLUMN($C$5)+1)) -> 41346 | H25: =IF(K25=0,"",K25) | I25: =E25-D25 -> 0 | J25: =G25-F25 -> 0 | K25: =J25+I25 -> 0
B26: =B18-DAY(B18)+12-WEEKDAY(B18-DAY(B18)) -> 41340 | C26: =IF(MONTH($A$14)<>MONTH($A$14-(WEEKDAY($A$14,1)-($A$6-1))-IF((WEEKDAY($A$14,1)-($A$6-1))<=0,7,0)+(ROW(V5)-ROW($C$5))*7+(COLUMN(V5)-COLUMN($C$5)+1)),"",$A$14-(WEEKDAY($A$14,1)-($A$6-1))-IF((WEEKDAY($A$14,1)-($A$6-1))<=0,7,0)+(ROW(V5)-ROW($C$5))*7+(COLUMN(V5)-COLUMN($C$5)+1)) -> 41347 | D26: 0.375 | E26: 0.52083333 | F26: 0.5625 | G26: 0.70833333 | H26: =K26 -> 0.29166667 | I26: =E26-D26 -> 0.14583333 | J26: =G26-F26 -> 0.14583333 | K26: =J26+I26 -> 0.29166667
B27: =B18-DAY(B18)+13-WEEKDAY(B18-DAY(B18)) -> 41341 | C27: =IF(MONTH($A$14)<>MONTH($A$14-(WEEKDAY($A$14,1)-($A$6-1))-IF((WEEKDAY($A$14,1)-($A$6-1))<=0,7,0)+(ROW(W5)-ROW($C$5))*7+(COLUMN(W5)-COLUMN($C$5)+1)),"",$A$14-(WEEKDAY($A$14,1)-($A$6-1))-IF((WEEKDAY($A$14,1)-($A$6-1))<=0,7,0)+(ROW(W5)-ROW($C$5))*7+(COLUMN(W5)-COLUMN($C$5)+1)) -> 41348 | D27: 0.375 | E27: 0.52083333 | H27: =K27 -> 0.14583333 | I27: =E27-D27 -> 0.14583333 | J27: =G27-F27 -> 0 | K27: =J27+I27 -> 0.14583333
B28: =B18-DAY(B18)+14-WEEKDAY(B18-DAY(B18)) -> 41342 | C28: =IF(MONTH($A$14)<>MONTH($A$14-(WEEKDAY($A$14,1)-($A$6-1))-IF((WEEKDAY($A$14,1)-($A$6-1))<=0,7,0)+(ROW(X5)-ROW($C$5))*7+(COLUMN(X5)-COLUMN($C$5)+1)),"",$A$14-(WEEKDAY($A$14,1)-($A$6-1))-IF((WEEKDAY($A$14,1)-($A$6-1))<=0,7,0)+(ROW(X5)-ROW($C$5))*7+(COLUMN(X5)-COLUMN($C$5)+1)) -> 41349 | H28: =IF(K28=0,"",K28) | I28: =E28-D28 -> 0 | J28: =G28-F28 -> 0 | K28: =J28+I28 -> 0
B29: =B18-DAY(B18)+15-WEEKDAY(B18-DAY(B18)) -> 41343 | C29: =IF(MONTH($A$14)<>MONTH($A$14-(WEEKDAY($A$14,1)-($A$6-1))-IF((WEEKDAY($A$14,1)-($A$6-1))<=0,7,0)+(ROW(Y5)-ROW($C$5))*7+(COLUMN(Y5)-COLUMN($C$5)+1)),"",$A$14-(WEEKDAY($A$14,1)-($A$6-1))-IF((WEEKDAY($A$14,1)-($A$6-1))<=0,7,0)+(ROW(Y5)-ROW($C$5))*7+(COLUMN(Y5)-COLUMN($C$5)+1)) -> 41350 | H29: =IF(K29=0,"",K29) | I29: =E29-D29 -> 0 | J29: =G29-F29 -> 0 | K29: =J29+I29 -> 0
B30: TOTAL SEMAINE | H30: =K30 -> 0.83333333 | K30: =K23+K24+K25+K26+K27+K28+K29 -> 0.83333333
B31: =INT((C38-(DATE(YEAR(C38-WEEKDAY(C38-1)+4),1,3)-WEEKDAY(DATE(YEAR(C38-WEEKDAY(C38-1)+4),1,3)))+5)/7) -> 12 | D31: ="Semaine du "&TEXT(MIN(C32:C36,C32:C36),"jj")&" au "&TEXT(MAX(C32:C36,C32:C36),"jj mmmm aaaa") -> Semaine du 18 au 22 mars 2013
B32: =B27-DAY(B27)+9-WEEKDAY(B27-DAY(B27)) -> 41337 | C32: =IF(MONTH($A$14)<>MONTH($A$14-(WEEKDAY($A$14,1)-($A$6-1))-IF((WEEKDAY($A$14,1)-($A$6-1))<=0,7,0)+(ROW(Z5)-ROW($C$5))*7+(COLUMN(Z5)-COLUMN($C$5)+1)),"",$A$14-(WEEKDAY($A$14,1)-($A$6-1))-IF((WEEKDAY($A$14,1)-($A$6-1))<=0,7,0)+(ROW(Z5)-ROW($C$5))*7+(COLUMN(Z5)-COLUMN($C$5)+1)) -> 41351 | D32: 0.375 | E32: 0.52083333 | F32: 0.58333333 | G32: 0.70833333 | H32: =K32 -> 0.27083333 | I32: =E32-D32 -> 0.14583333 | J32: =G32-F32 -> 0.125 | K32: =J32+I32 -> 0.27083333
B33: =B27-DAY(B27)+10-WEEKDAY(B27-DAY(B27)) -> 41338 | C33: =IF(MONTH($A$14)<>MONTH($A$14-(WEEKDAY($A$14,1)-($A$6-1))-IF((WEEKDAY($A$14,1)-($A$6-1))<=0,7,0)+(ROW(AA5)-ROW($C$5))*7+(COLUMN(AA5)-COLUMN($C$5)+1)),"",$A$14-(WEEKDAY($A$14,1)-($A$6-1))-IF((WEEKDAY($A$14,1)-($A$6-1))<=0,7,0)+(ROW(AA5)-ROW($C$5))*7+(COLUMN(AA5)-COLUMN($C$5)+1)) -> 41352 | D33: 0.375 | E33: 0.52083333 | H33: =K33 -> 0.14583333 | I33: =E33-D33 -> 0.14583333 | J33: =G33-F33 -> 0 | K33: =J33+I33 -> 0.14583333
B34: =B27-DAY(B27)+11-WEEKDAY(B27-DAY(B27)) -> 41339 | C34: =IF(MONTH($A$14)<>MONTH($A$14-(WEEKDAY($A$14,1)-($A$6-1))-IF((WEEKDAY($A$14,1)-($A$6-1))<=0,7,0)+(ROW(AB5)-ROW($C$5))*7+(COLUMN(AB5)-COLUMN($C$5)+1)),"",$A$14-(WEEKDAY($A$14,1)-($A$6-1))-IF((WEEKDAY($A$14,1)-($A$6-1))<=0,7,0)+(ROW(AB5)-ROW($C$5))*7+(COLUMN(AB5)-COLUMN($C$5)+1)) -> 41353 | H34: =IF(K34=0,"",K34) | I34: =E34-D34 -> 0 | J34: =G34-F34 -> 0 | K34: =J34+I34 -> 0
B35: =B27-DAY(B27)+12-WEEKDAY(B27-DAY(B27)) -> 41340 | C35: =IF(MONTH($A$14)<>MONTH($A$14-(WEEKDAY($A$14,1)-($A$6-1))-IF((WEEKDAY($A$14,1)-($A$6-1))<=0,7,0)+(ROW(AC5)-ROW($C$5))*7+(COLUMN(AC5)-COLUMN($C$5)+1)),"",$A$14-(WEEKDAY($A$14,1)-($A$6-1))-IF((WEEKDAY($A$14,1)-($A$6-1))<=0,7,0)+(ROW(AC5)-ROW($C$5))*7+(COLUMN(AC5)-COLUMN($C$5)+1)) -> 41354 | D35: 0.375 | E35: 0.52083333 | F35: 0.58333333 | G35: 0.70833333 | H35: =K35 -> 0.27083333 | I35: =E35-D35 -> 0.14583333 | J35: =G35-F35 -> 0.125 | K35: =J35+I35 -> 0.27083333
B36: =B27-DAY(B27)+13-WEEKDAY(B27-DAY(B27)) -> 41341 | C36: =IF(MONTH($A$14)<>MONTH($A$14-(WEEKDAY($A$14,1)-($A$6-1))-IF((WEEKDAY($A$14,1)-($A$6-1))<=0,7,0)+(ROW(AD5)-ROW($C$5))*7+(COLUMN(AD5)-COLUMN($C$5)+1)),"",$A$14-(WEEKDAY($A$14,1)-($A$6-1))-IF((WEEKDAY($A$14,1)-($A$6-1))<=0,7,0)+(ROW(AD5)-ROW($C$5))*7+(COLUMN(AD5)-COLUMN($C$5)+1)) -> 41355 | D36: 0.375 | E36: 0.52083333 | H36: =K36 -> 0.14583333 | I36: =E36-D36 -> 0.14583333 | J36: =G36-F36 -> 0 | K36: =J36+I36 -> 0.14583333
B37: =B27-DAY(B27)+14-WEEKDAY(B27-DAY(B27)) -> 41342 | C37: =IF(MONTH($A$14)<>MONTH($A$14-(WEEKDAY($A$14,1)-($A$6-1))-IF((WEEKDAY($A$14,1)-($A$6-1))<=0,7,0)+(ROW(AE5)-ROW($C$5))*7+(COLUMN(AE5)-COLUMN($C$5)+1)),"",$A$14-(WEEKDAY($A$14,1)-($A$6-1))-IF((WEEKDAY($A$14,1)-($A$6-1))<=0,7,0)+(ROW(AE5)-ROW($C$5))*7+(COLUMN(AE5)-COLUMN($C$5)+1)) -> 41356 | H37: =IF(K37=0,"",K37) | I37: =E37-D37 -> 0 | J37: =G37-F37 -> 0 | K37: =J37+I37 -> 0
B38: =B27-DAY(B27)+15-WEEKDAY(B27-DAY(B27)) -> 41343 | C38: =IF(MONTH($A$14)<>MONTH($A$14-(WEEKDAY($A$14,1)-($A$6-1))-IF((WEEKDAY($A$14,1)-($A$6-1))<=0,7,0)+(ROW(AF5)-ROW($C$5))*7+(COLUMN(AF5)-COLUMN($C$5)+1)),"",$A$14-(WEEKDAY($A$14,1)-($A$6-1))-IF((WEEKDAY($A$14,1)-($A$6-1))<=0,7,0)+(ROW(AF5)-ROW($C$5))*7+(COLUMN(AF5)-COLUMN($C$5)+1)) -> 41357 | H38: =IF(K38=0,"",K38) | I38: =E38-D38 -> 0 | J38: =G38-F38 -> 0 | K38: =J38+I38 -> 0
B39: TOTAL SEMAINE | H39: =K39 -> 0.83333333 | K39: =K32+K33+K34+K35+K36+K37+K38 -> 0.83333333
B40: =INT((C41-(DATE(YEAR(C41-WEEKDAY(C41-1)+4),1,3)-WEEKDAY(DATE(YEAR(C41-WEEKDAY(C41-1)+4),1,3)))+5)/7) -> 13 | D40: ="Semaine du "&TEXT(MIN(C41:C45,C41:C45),"jj")&" au "&TEXT(MAX(C41:C45,C41:C45),"jj mmmm aaaa") -> Semaine du 25 au 29 mars 2013
B41: =B36-DAY(B36)+9-WEEKDAY(B36-DAY(B36)) -> 41337 | C41: =IF(MONTH($A$14)<>MONTH($A$14-(WEEKDAY($A$14,1)-($A$6-1))-IF((WEEKDAY($A$14,1)-($A$6-1))<=0,7,0)+(ROW(AG5)-ROW($C$5))*7+(COLUMN(AG5)-COLUMN($C$5)+1)),"",$A$14-(WEEKDAY($A$14,1)-($A$6-1))-IF((WEEKDAY($A$14,1)-($A$6-1))<=0,7,0)+(ROW(AG5)-ROW($C$5))*7+(COLUMN(AG5)-COLUMN($C$5)+1)) -> 41358 | D41: 0.375 | E41: 0.52083333 | F41: 0.58333333 | G41: 0.70833333 | H41: =K41 -> 0.27083333 | I41: =E41-D41 -> 0.14583333 | J41: =G41-F41 -> 0.125 | K41: =J41+I41 -> 0.27083333
B42: =B36-DAY(B36)+10-WEEKDAY(B36-DAY(B36)) -> 41338 | C42: =IF(MONTH($A$14)<>MONTH($A$14-(WEEKDAY($A$14,1)-($A$6-1))-IF((WEEKDAY($A$14,1)-($A$6-1))<=0,7,0)+(ROW(AH5)-ROW($C$5))*7+(COLUMN(AH5)-COLUMN($C$5)+1)),"",$A$14-(WEEKDAY($A$14,1)-($A$6-1))-IF((WEEKDAY($A$14,1)-($A$6-1))<=0,7,0)+(ROW(AH5)-ROW($C$5))*7+(COLUMN(AH5)-COLUMN($C$5)+1)) -> 41359 | D42: 0.375 | E42: 0.52083333 | H42: =K42 -> 0.14583333 | I42: =E42-D42 -> 0.14583333 | J42: =G42-F42 -> 0 | K42: =J42+I42 -> 0.14583333
B43: =B36-DAY(B36)+11-WEEKDAY(B36-DAY(B36)) -> 41339 | C43: =IF(MONTH($A$14)<>MONTH($A$14-(WEEKDAY($A$14,1)-($A$6-1))-IF((WEEKDAY($A$14,1)-($A$6-1))<=0,7,0)+(ROW(AI5)-ROW($C$5))*7+(COLUMN(AI5)-COLUMN($C$5)+1)),"",$A$14-(WEEKDAY($A$14,1)-($A$6-1))-IF((WEEKDAY($A$14,1)-($A$6-1))<=0,7,0)+(ROW(AI5)-ROW($C$5))*7+(COLUMN(AI5)-COLUMN($C$5)+1)) -> 41360 | H43: =IF(K43=0,"",K43) | I43: =E43-D43 -> 0 | J43: =G43-F43 -> 0 | K43: =J43+I43 -> 0
B44: =B36-DAY(B36)+12-WEEKDAY(B36-DAY(B36)) -> 41340 | C44: =IF(MONTH($A$14)<>MONTH($A$14-(WEEKDAY($A$14,1)-($A$6-1))-IF((WEEKDAY($A$14,1)-($A$6-1))<=0,7,0)+(ROW(AJ5)-ROW($C$5))*7+(COLUMN(AJ5)-COLUMN($C$5)+1)),"",$A$14-(WEEKDAY($A$14,1)-($A$6-1))-IF((WEEKDAY($A$14,1)-($A$6-1))<=0,7,0)+(ROW(AJ5)-ROW($C$5))*7+(COLUMN(AJ5)-COLUMN($C$5)+1)) -> 41361 | D44: 0.375 | E44: 0.52083333 | F44: 0.58333333 | G44: 0.70833333 | H44: =K44 -> 0.27083333 | I44: =E44-D44 -> 0.14583333 | J44: =G44-F44 -> 0.125 | K44: =J44+I44 -> 0.27083333
B45: =B36-DAY(B36)+13-WEEKDAY(B36-DAY(B36)) -> 41341 | C45: =IF(MONTH($A$14)<>MONTH($A$14-(WEEKDAY($A$14,1)-($A$6-1))-IF((WEEKDAY($A$14,1)-($A$6-1))<=0,7,0)+(ROW(AK5)-ROW($C$5))*7+(COLUMN(AK5)-COLUMN($C$5)+1)),"",$A$14-(WEEKDAY($A$14,1)-($A$6-1))-IF((WEEKDAY($A$14,1)-($A$6-1))<=0,7,0)+(ROW(AK5)-ROW($C$5))*7+(COLUMN(AK5)-COLUMN($C$5)+1)) -> 41362 | D45: 0.375 | E45: 0.52083333 | H45: =K45 -> 0.14583333 | I45: =E45-D45 -> 0.14583333 | J45: =G45-F45 -> 0 | K45: =J45+I45 -> 0.14583333
B46: =B36-DAY(B36)+14-WEEKDAY(B36-DAY(B36)) -> 41342 | C46: =IF(MONTH($A$14)<>MONTH($A$14-(WEEKDAY($A$14,1)-($A$6-1))-IF((WEEKDAY($A$14,1)-($A$6-1))<=0,7,0)+(ROW(AL5)-ROW($C$5))*7+(COLUMN(AL5)-COLUMN($C$5)+1)),"",$A$14-(WEEKDAY($A$14,1)-($A$6-1))-IF((WEEKDAY($A$14,1)-($A$6-1))<=0,7,0)+(ROW(AL5)-ROW($C$5))*7+(COLUMN(AL5)-COLUMN($C$5)+1)) -> 41363 | H46: =IF(K46=0,"",K46) | I46: =E46-D46 -> 0 | J46: =G46-F46 -> 0 | K46: =J46+I46 -> 0
B47: =B36-DAY(B36)+15-WEEKDAY(B36-DAY(B36)) -> 41343 | C47: =IF(MONTH($A$14)<>MONTH($A$14-(WEEKDAY($A$14,1)-($A$6-1))-IF((WEEKDAY($A$14,1)-($A$6-1))<=0,7,0)+(ROW(AM5)-ROW($C$5))*7+(COLUMN(AM5)-COLUMN($C$5)+1)),"",$A$14-(WEEKDAY($A$14,1)-($A$6-1))-IF((WEEKDAY($A$14,1)-($A$6-1))<=0,7,0)+(ROW(AM5)-ROW($C$5))*7+(COLUMN(AM5)-COLUMN($C$5)+1)) -> 41364 | H47: =IF(K47=0,"",K47) | I47: =E47-D47 -> 0 | J47: =G47-F47 -> 0 | K47: =J47+I47 -> 0
B48: TOTAL SEMAINE | H48: =K48 -> 0.83333333 | K48: =K41+K42+K43+K44+K45+K46+K47 -> 0.83333333
B49: Cumul mois | H49: =H12+H21+H30+H39+H48 -> 2.5
B50: Cumul Année | H50: =H49+Janvier!H49+Février!H49 -> 2.5

Sheet Avril
A1: =YEAR(B1) -> 2013 | B1: =DATE(Mars!A1,(Mars!A2)+1,1) -> 41365 | D1: MATIN | E1: MIDI | F1: APRES MIDI | G1: SOIR | H1: TOTAL
A2: =MONTH(B1) -> 4 | B2: =INT((C11-(DATE(YEAR(C11-WEEKDAY(C11-1)+4),1,3)-WEEKDAY(DATE(YEAR(C11-WEEKDAY(C11-1)+4),1,3)))+5)/7) -> 14 | D2: ="Semaine du "&TEXT(MIN(C5:C9,C5:C9),"jj")&" au "&TEXT(MAX(C5:C9,C5:C9),"jj mmmm aaaa") -> Semaine du 01 au 05 avril 2013
C3: =IF(MONTH($A$14)<>MONTH($A$14-(WEEKDAY($A$14,1)-($A$6-1))-IF((WEEKDAY($A$14,1)-($A$6-1))<=0,7,0)+(ROW(C5)-ROW($C$5))*7+(COLUMN(C5)-COLUMN($C$5)+1)),"",$A$14-(WEEKDAY($A$14,1)-($A$6-1))-IF((WEEKDAY($A$14,1)-($A$6-1))<=0,7,0)+(ROW(C5)-ROW($C$5))*7+(COLUMN(C5)-COLUMN($C$5)+1))
C4: =IF(MONTH($A$14)<>MONTH($A$14-(WEEKDAY($A$14,1)-($A$6-1))-IF((WEEKDAY($A$14,1)-($A$6-1))<=0,7,0)+(ROW(D5)-ROW($C$5))*7+(COLUMN(D5)-COLUMN($C$5)+1)),"",$A$14-(WEEKDAY($A$14,1)-($A$6-1))-IF((WEEKDAY($A$14,1)-($A$6-1))<=0,7,0)+(ROW(D5)-ROW($C$5))*7+(COLUMN(D5)-COLUMN($C$5)+1))
A5: 7 | B5: =B1-DAY(B1)+9-WEEKDAY(B1-DAY(B1)) -> 41372 | C5: =IF(MONTH($A$14)<>MONTH($A$14-(WEEKDAY($A$14,1)-($A$6-1))-IF((WEEKDAY($A$14,1)-($A$6-1))<=0,7,0)+(ROW(E5)-ROW($C$5))*7+(COLUMN(E5)-COLUMN($C$5)+1)),"",$A$14-(WEEKDAY($A$14,1)-($A$6-1))-IF((WEEKDAY($A$14,1)-($A$6-1))<=0,7,0)+(ROW(E5)-ROW($C$5))*7+(COLUMN(E5)-COLUMN($C$5)+1)) -> 41365 | H5: =K5 -> 0 | I5: =E5-D5 -> 0 | J5: =G5-F5 -> 0 | K5: =J5+I5 -> 0
A6: 7 | B6: =B1-DAY(B1)+10-WEEKDAY(B1-DAY(B1)) -> 41373 | C6: =IF(MONTH($A$14)<>MONTH($A$14-(WEEKDAY($A$14,1)-($A$6-1))-IF((WEEKDAY($A$14,1)-($A$6-1))<=0,7,0)+(ROW(F5)-ROW($C$5))*7+(COLUMN(F5)-COLUMN($C$5)+1)),"",$A$14-(WEEKDAY($A$14,1)-($A$6-1))-IF((WEEKDAY($A$14,1)-($A$6-1))<=0,7,0)+(ROW(F5)-ROW($C$5))*7+(COLUMN(F5)-COLUMN($C$5)+1)) -> 41366 | D6: 0.375 | E6: 0.52083333 | H6: =K6 -> 0.14583333 | I6: =E6-D6 -> 0.14583333 | J6: =G6-F6 -> 0 | K6: =J6+I6 -> 0.14583333
B7: =B1-DAY(B1)+11-WEEKDAY(B1-DAY(B1)) -> 41374 | C7: =IF(MONTH($A$14)<>MONTH($A$14-(WEEKDAY($A$14,1)-($A$6-1))-IF((WEEKDAY($A$14,1)-($A$6-1))<=0,7,0)+(ROW(G5)-ROW($C$5))*7+(COLUMN(G5)-COLUMN($C$5)+1)),"",$A$14-(WEEKDAY($A$14,1)-($A$6-1))-IF((WEEKDAY($A$14,1)-($A$6-1))<=0,7,0)+(ROW(G5)-ROW($C$5))*7+(COLUMN(G5)-COLUMN($C$5)+1)) -> 41367 | H7: =IF(K7=0,"",K7) | I7: =E7-D7 -> 0 | J7: =G7-F7 -> 0 | K7: =J7+I7 -> 0
B8: =B1-DAY(B1)+12-WEEKDAY(B1-DAY(B1)) -> 41375 | C8: =IF(MONTH($A$14)<>MONTH($A$14-(WEEKDAY($A$14,1)-($A$6-1))-IF((WEEKDAY($A$14,1)-($A$6-1))<=0,7,0)+(ROW(H5)-ROW($C$5))*7+(COLUMN(H5)-COLUMN($C$5)+1)),"",$A$14-(WEEKDAY($A$14,1)-($A$6-1))-IF((WEEKDAY($A$14,1)-($A$6-1))<=0,7,0)+(ROW(H5)-ROW($C$5))*7+(COLUMN(H5)-COLUMN($C$5)+1)) -> 41368 | D8: 0.375 | E8: 0.52083333 | F8: 0.5625 | G8: 0.70833333 | H8: =K8 -> 0.29166667 | I8: =E8-D8 -> 0.14583333 | J8: =G8-F8 -> 0.14583333 | K8: =J8+I8 -> 0.29166667
B9: =B1-DAY(B1)+13-WEEKDAY(B1-DAY(B1)) -> 41376 | C9: =IF(MONTH($A$14)<>MONTH($A$14-(WEEKDAY($A$14,1)-($A$6-1))-IF((WEEKDAY($A$14,1)-($A$6-1))<=0,7,0)+(ROW(I5)-ROW($C$5))*7+(COLUMN(I5)-COLUMN($C$5)+1)),"",$A$14-(WEEKDAY($A$14,1)-($A$6-1))-IF((WEEKDAY($A$14,1)-($A$6-1))<=0,7,0)+(ROW(I5)-ROW($C$5))*7+(COLUMN(I5)-COLUMN($C$5)+1)) -> 41369 | D9: 0.375 | E9: 0.52083333 | H9: =K9 -> 0.14583333 | I9: =E9-D9 -> 0.14583333 | J9: =G9-F9 -> 0 | K9: =J9+I9 -> 0.14583333
B10: =B1-DAY(B1)+14-WEEKDAY(B1-DAY(B1)) -> 41377 | C10: =IF(MONTH($A$14)<>MONTH($A$14-(WEEKDAY($A$14,1)-($A$6-1))-IF((WEEKDAY($A$14,1)-($A$6-1))<=0,7,0)+(ROW(J5)-ROW($C$5))*7+(COLUMN(J5)-COLUMN($C$5)+1)),"",$A$14-(WEEKDAY($A$14,1)-($A$6-1))-IF((WEEKDAY($A$14,1)-($A$6-1))<=0,7,0)+(ROW(J5)-ROW($C$5))*7+(COLUMN(J5)-COLUMN($C$5)+1)) -> 41370 | H10: =IF(K10=0,"",K10) | I10: =E10-D10 -> 0 | J10: =G10-F10 -> 0 | K10: =J10+I10 -> 0
B11: =B1-DAY(B1)+15-WEEKDAY(B1-DAY(B1)) -> 41378 | C11: =IF(MONTH($A$14)<>MONTH($A$14-(WEEKDAY($A$14,1)-($A$6-1))-IF((WEEKDAY($A$14,1)-($A$6-1))<=0,7,0)+(ROW(K5)-ROW($C$5))*7+(COLUMN(K5)-COLUMN($C$5)+1)),"",$A$14-(WEEKDAY($A$14,1)-($A$6-1))-IF((WEEKDAY($A$14,1)-($A$6-1))<=0,7,0)+(ROW(K5)-ROW($C$5))*7+(COLUMN(K5)-COLUMN($C$5)+1)) -> 41371 | H11: =IF(K11=0,"",K11) | I11: =E11-D11 -> 0 | J11: =G11-F11 -> 0 | K11: =J11+I11 -> 0
B12: TOTAL SEMAINE | H12: =K12 -> 0.58333333 | K12: =K5+K6+K7+K8+K9+K10+K11 -> 0.58333333
B13: =INT((C20-(DATE(YEAR(C20-WEEKDAY(C20-1)+4),1,3)-WEEKDAY(DATE(YEAR(C20-WEEKDAY(C20-1)+4),1,3)))+5)/7) -> 15 | D13: ="Semaine du "&TEXT(MIN(C14:C18,C14:C18),"jj")&" au "&TEXT(MAX(C14:C18,C14:C18),"jj mmmm aaaa") -> Semaine du 08 au 12 avril 2013
A14: =DATE(A1,A2,1) -> 41365 | B14: =B10-DAY(B10)+9-WEEKDAY(B10-DAY(B10)) -> 41372 | C14: =IF(MONTH($A$14)<>MONTH($A$14-(WEEKDAY($A$14,1)-($A$6-1))-IF((WEEKDAY($A$14,1)-($A$6-1))<=0,7,0)+(ROW(L5)-ROW($C$5))*7+(COLUMN(L5)-COLUMN($C$5)+1)),"",$A$14-(WEEKDAY($A$14,1)-($A$6-1))-IF((WEEKDAY($A$14,1)-($A$6-1))<=0,7,0)+(ROW(L5)-ROW($C$5))*7+(COLUMN(L5)-COLUMN($C$5)+1)) -> 41372 | D14: 0.41666667 | E14: 0.52083333 | F14: 0.5625 | G14: 0.70833333 | H14: =K14 -> 0.25 | I14: =E14-D14 -> 0.10416667 | J14: =G14-F14 -> 0.14583333 | K14: =J14+I14 -> 0.25
B15: =B10-DAY(B10)+10-WEEKDAY(B10-DAY(B10)) -> 41373 | C15: =IF(MONTH($A$14)<>MONTH($A$14-(WEEKDAY($A$14,1)-($A$6-1))-IF((WEEKDAY($A$14,1)-($A$6-1))<=0,7,0)+(ROW(M5)-ROW($C$5))*7+(COLUMN(M5)-COLUMN($C$5)+1)),"",$A$14-(WEEKDAY($A$14,1)-($A$6-1))-IF((WEEKDAY($A$14,1)-($A$6-1))<=0,7,0)+(ROW(M5)-ROW($C$5))*7+(COLUMN(M5)-COLUMN($C$5)+1)) -> 41373 | D15: 0.375 | E15: 0.52083333 | H15: =K15 -> 0.14583333 | I15: =E15-D15 -> 0.14583333 | J15: =G15-F15 -> 0 | K15: =J15+I15 -> 0.14583333
B16: =B10-DAY(B10)+11-WEEKDAY(B10-DAY(B10)) -> 41374 | C16: =IF(MONTH($A$14)<>MONTH($A$14-(WEEKDAY($A$14,1)-($A$6-1))-IF((WEEKDAY($A$14,1)-($A$6-1))<=0,7,0)+(ROW(N5)-ROW($C$5))*7+(COLUMN(N5)-COLUMN($C$5)+1)),"",$A$14-(WEEKDAY($A$14,1)-($A$6-1))-IF((WEEKDAY($A$14,1)-($A$6-1))<=0,7,0)+(ROW(N5)-ROW($C$5))*7+(COLUMN(N5)-COLUMN($C$5)+1)) -> 41374 | H16: =IF(K16=0,"",K16) | I16: =E16-D16 -> 0 | J16: =G16-F16 -> 0 | K16: =J16+I16 -> 0
B17: =B10-DAY(B10)+12-WEEKDAY(B10-DAY(B10)) -> 41375 | C17: =IF(MONTH($A$14)<>MONTH($A$14-(WEEKDAY($A$14,1)-($A$6-1))-IF((WEEKDAY($A$14,1)-($A$6-1))<=0,7,0)+(ROW(O5)-ROW($C$5))*7+(COLUMN(O5)-COLUMN($C$5)+1)),"",$A$14-(WEEKDAY($A$14,1)-($A$6-1))-IF((WEEKDAY($A$14,1)-($A$6-1))<=0,7,0)+(ROW(O5)-ROW($C$5))*7+(COLUMN(O5)-COLUMN($C$5)+1)) -> 41375 | D17: 0.375 | E17: 0.52083333 | F17: 0.5625 | G17: 0.70833333 | H17: =K17 -> 0.29166667 | I17: =E17-D17 -> 0.14583333 | J17: =G17-F17 -> 0.14583333 | K17: =J17+I17 -> 0.29166667
B18: =B10-DAY(B10)+13-WEEKDAY(B10-DAY(B10)) -> 41376 | C18: =IF(MONTH($A$14)<>MONTH($A$14-(WEEKDAY($A$14,1)-($A$6-1))-IF((WEEKDAY($A$14,1)-($A$6-1))<=0,7,0)+(ROW(P5)-ROW($C$5))*7+(COLUMN(P5)-COLUMN($C$5)+1)),"",$A$14-(WEEKDAY($A$14,1)-($A$6-1))-IF((WEEKDAY($A$14,1)-($A$6-1))<=0,7,0)+(ROW(P5)-ROW($C$5))*7+(COLUMN(P5)-COLUMN($C$5)+1)) -> 41376 | D18: 0.375 | E18: 0.52083333 | H18: =K18 -> 0.14583333 | I18: =E18-D18 -> 0.14583333 | J18: =G18-F18 -> 0 | K18: =J18+I18 -> 0.14583333
B19: =B10-DAY(B10)+14-WEEKDAY(B10-DAY(B10)) -> 41377 | C19: =IF(MONTH($A$14)<>MONTH($A$14-(WEEKDAY($A$14,1)-($A$6-1))-IF((WEEKDAY($A$14,1)-($A$6-1))<=0,7,0)+(ROW(Q5)-ROW($C$5))*7+(COLUMN(Q5)-COLUMN($C$5)+1)),"",$A$14-(WEEKDAY($A$14,1)-($A$6-1))-IF((WEEKDAY($A$14,1)-($A$6-1))<=0,7,0)+(ROW(Q5)-ROW($C$5))*7+(COLUMN(Q5)-COLUMN($C$5)+1)) -> 41377 | H19: =IF(K19=0,"",K19) | I19: =E19-D19 -> 0 | J19: =G19-F19 -> 0 | K19: =J19+I19 -> 0
B20: =B10-DAY(B10)+15-WEEKDAY(B10-DAY(B10)) -> 41378 | C20: =IF(MONTH($A$14)<>MONTH($A$14-(WEEKDAY($A$14,1)-($A$6-1))-IF((WEEKDAY($A$14,1)-($A$6-1))<=0,7,0)+(ROW(R5)-ROW($C$5))*7+(COLUMN(R5)-COLUMN($C$5)+1)),"",$A$14-(WEEKDAY($A$14,1)-($A$6-1))-IF((WEEKDAY($A$14,1)-($A$6-1))<=0,7,0)+(ROW(R5)-ROW($C$5))*7+(COLUMN(R5)-COLUMN($C$5)+1)) -> 41378 | H20: =IF(K20=0,"",K20) | I20: =E20-D20 -> 0 | J20: =G20-F20 -> 0 | K20: =J20+I20 -> 0
B21: TOTAL SEMAINE | H21: =K21 -> 0.83333333 | K21: =K14+K15+K16+K17+K18+K19+K20 -> 0.83333333
B22: =INT((C29-(DATE(YEAR(C29-WEEKDAY(C29-1)+4),1,3)-WEEKDAY(DATE(YEAR(C29-WEEKDAY(C29-1)+4),1,3)))+5)/7) -> 16 | D22: ="Semaine du "&TEXT(MIN(C23:C27,C23:C27),"jj")&" au "&TEXT(MAX(C23:C27,C23:C27),"jj mmmm aaaa") -> Semaine du 15 au 19 avril 2013
B23: =B18-DAY(B18)+9-WEEKDAY(B18-DAY(B18)) -> 41372 | C23: =IF(MONTH($A$14)<>MONTH($A$14-(WEEKDAY($A$14,1)-($A$6-1))-IF((WEEKDAY($A$14,1)-($A$6-1))<=0,7,0)+(ROW(S5)-ROW($C$5))*7+(COLUMN(S5)-COLUMN($C$5)+1)),"",$A$14-(WEEKDAY($A$14,1)-($A$6-1))-IF((WEEKDAY($A$14,1)-($A$6-1))<=0,7,0)+(ROW(S5)-ROW($C$5))*7+(COLUMN(S5)-COLUMN($C$5)+1)) -> 41379 | D23: 0.41666667 | E23: 0.52083333 | F23: 0.5625 | G23: 0.70833333 | H23: =K23 -> 0.25 | I23: =E23-D23 -> 0.10416667 | J23: =G23-F23 -> 0.14583333 | K23: =J23+I23 -> 0.25
B24: =B18-DAY(B18)+10-WEEKDAY(B18-DAY(B18)) -> 41373 | C24: =IF(MONTH($A$14)<>MONTH($A$14-(WEEKDAY($A$14,1)-($A$6-1))-IF((WEEKDAY($A$14,1)-($A$6-1))<=0,7,0)+(ROW(T5)-ROW($C$5))*7+(COLUMN(T5)-COLUMN($C$5)+1)),"",$A$14-(WEEKDAY($A$14,1)-($A$6-1))-IF((WEEKDAY($A$14,1)-($A$6-1))<=0,7,0)+(ROW(T5)-ROW($C$5))*7+(COLUMN(T5)-COLUMN($C$5)+1)) -> 41380 | D24: 0.375 | E24: 0.52083333 | H24: =K24 -> 0.14583333 | I24: =E24-D24 -> 0.14583333 | J24: =G24-F24 -> 0 | K24: =J24+I24 -> 0.14583333
B25: =B18-DAY(B18)+11-WEEKDAY(B18-DAY(B18)) -> 41374 | C25: =IF(MONTH($A$14)<>MONTH($A$14-(WEEKDAY($A$14,1)-($A$6-1))-IF((WEEKDAY($A$14,1)-($A$6-1))<=0,7,0)+(ROW(U5)-ROW($C$5))*7+(COLUMN(U5)-COLUMN($C$5)+1)),"",$A$14-(WEEKDAY($A$14,1)-($A$6-1))-IF((WEEKDAY($A$14,1)-($A$6-1))<=0,7,0)+(ROW(U5)-ROW($C$5))*7+(COLUMN(U5)-COLUMN($C$5)+1)) -> 41381 | H25: =IF(K25=0,"",K25) | I25: =E25-D25 -> 0 | J25: =G25-F25 -> 0 | K25: =J25+I25 -> 0
B26: =B18-DAY(B18)+12-WEEKDAY(B18-DAY(B18)) -> 41375 | C26: =IF(MONTH($A$14)<>MONTH($A$14-(WEEKDAY($A$14,1)-($A$6-1))-IF((WEEKDAY($A$14,1)-($A$6-1))<=0,7,0)+(ROW(V5)-ROW($C$5))*7+(COLUMN(V5)-COLUMN($C$5)+1)),"",$A$14-(WEEKDAY($A$14,1)-($A$6-1))-IF((WEEKDAY($A$14,1)-($A$6-1))<=0,7,0)+(ROW(V5)-ROW($C$5))*7+(COLUMN(V5)-COLUMN($C$5)+1)) -> 41382 | D26: 0.375 | E26: 0.52083333 | F26: 0.5625 | G26: 0.70833333 | H26: =K26 -> 0.29166667 | I26: =E26-D26 -> 0.14583333 | J26: =G26-F26 -> 0.14583333 | K26: =J26+I26 -> 0.29166667
B27: =B18-DAY(B18)+13-WEEKDAY(B18-DAY(B18)) -> 41376 | C27: =IF(MONTH($A$14)<>MONTH($A$14-(WEEKDAY($A$14,1)-($A$6-1))-IF((WEEKDAY($A$14,1)-($A$6-1))<=0,7,0)+(ROW(W5)-ROW($C$5))*7+(COLUMN(W5)-COLUMN($C$5)+1)),"",$A$14-(WEEKDAY($A$14,1)-($A$6-1))-IF((WEEKDAY($A$14,1)-($A$6-1))<=0,7,0)+(ROW(W5)-ROW($C$5))*7+(COLUMN(W5)-COLUMN($C$5)+1)) -> 41383 | D27: 0.375 | E27: 0.52083333 | H27: =K27 -> 0.14583333 | I27: =E27-D27 -> 0.14583333 | J27: =G27-F27 -> 0 | K27: =J27+I27 -> 0.14583333
B28: =B18-DAY(B18)+14-WEEKDAY(B18-DAY(B18)) -> 41377 | C28: =IF(MONTH($A$14)<>MONTH($A$14-(WEEKDAY($A$14,1)-($A$6-1))-IF((WEEKDAY($A$14,1)-($A$6-1))<=0,7,0)+(ROW(X5)-ROW($C$5))*7+(COLUMN(X5)-COLUMN($C$5)+1)),"",$A$14-(WEEKDAY($A$14,1)-($A$6-1))-IF((WEEKDAY($A$14,1)-($A$6-1))<=0,7,0)+(ROW(X5)-ROW($C$5))*7+(COLUMN(X5)-COLUMN($C$5)+1)) -> 41384 | H28: =IF(K28=0,"",K28) | I28: =E28-D28 -> 0 | J28: =G28-F28 -> 0 | K28: =J28+I28 -> 0
B29: =B18-DAY(B18)+15-WEEKDAY(B18-DAY(B18)) -> 41378 | C29: =IF(MONTH($A$14)<>MONTH($A$14-(WEEKDAY($A$14,1)-($A$6-1))-IF((WEEKDAY($A$14,1)-($A$6-1))<=0,7,0)+(ROW(Y5)-ROW($C$5))*7+(COLUMN(Y5)-COLUMN($C$5)+1)),"",$A$14-(WEEKDAY($A$14,1)-($A$6-1))-IF((WEEKDAY($A$14,1)-($A$6-1))<=0,7,0)+(ROW(Y5)-ROW($C$5))*7+(COLUMN(Y5)-COLUMN($C$5)+1)) -> 41385 | H29: =IF(K29=0,"",K29) | I29: =E29-D29 -> 0 | J29: =G29-F29 -> 0 | K29: =J29+I29 -> 0
B30: TOTAL SEMAINE | H30: =K30 -> 0.83333333 | K30: =K23+K24+K25+K26+K27+K28+K29 -> 0.83333333
B31: =INT((C38-(DATE(YEAR(C38-WEEKDAY(C38-1)+4),1,3)-WEEKDAY(DATE(YEAR(C38-WEEKDAY(C38-1)+4),1,3)))+5)/7) -> 17 | D31: ="Semaine du "&TEXT(MIN(C32:C36,C32:C36),"jj")&" au "&TEXT(MAX(C32:C36,C32:C36),"jj mmmm aaaa") -> Semaine du 22 au 26 avril 2013
B32: =B27-DAY(B27)+9-WEEKDAY(B27-DAY(B27)) -> 41372 | C32: =IF(MONTH($A$14)<>MONTH($A$14-(WEEKDAY($A$14,1)-($A$6-1))-IF((WEEKDAY($A$14,1)-($A$6-1))<=0,7,0)+(ROW(Z5)-ROW($C$5))*7+(COLUMN(Z5)-COLUMN($C$5)+1)),"",$A$14-(WEEKDAY($A$14,1)-($A$6-1))-IF((WEEKDAY($A$14,1)-($A$6-1))<=0,7,0)+(ROW(Z5)-ROW($C$5))*7+(COLUMN(Z5)-COLUMN($C$5)+1)) -> 41386 | D32: 0.375 | E32: 0.52083333 | F32: 0.58333333 | G32: 0.70833333 | H32: =K32 -> 0.27083333 | I32: =E32-D32 -> 0.14583333 | J32: =G32-F32 -> 0.125 | K32: =J32+I32 -> 0.27083333
B33: =B27-DAY(B27)+10-WEEKDAY(B27-DAY(B27)) -> 41373 | C33: =IF(MONTH($A$14)<>MONTH($A$14-(WEEKDAY($A$14,1)-($A$6-1))-IF((WEEKDAY($A$14,1)-($A$6-1))<=0,7,0)+(ROW(AA5)-ROW($C$5))*7+(COLUMN(AA5)-COLUMN($C$5)+1)),"",$A$14-(WEEKDAY($A$14,1)-($A$6-1))-IF((WEEKDAY($A$14,1)-($A$6-1))<=0,7,0)+(ROW(AA5)-ROW($C$5))*7+(COLUMN(AA5)-COLUMN($C$5)+1)) -> 41387 | D33: 0.375 | E33: 0.52083333 | H33: =K33 -> 0.14583333 | I33: =E33-D33 -> 0.14583333 | J33: =G33-F33 -> 0 | K33: =J33+I33 -> 0.14583333
B34: =B27-DAY(B27)+11-WEEKDAY(B27-DAY(B27)) -> 41374 | C34: =IF(MONTH($A$14)<>MONTH($A$14-(WEEKDAY($A$14,1)-($A$6-1))-IF((WEEKDAY($A$14,1)-($A$6-1))<=0,7,0)+(ROW(AB5)-ROW($C$5))*7+(COLUMN(AB5)-COLUMN($C$5)+1)),"",$A$14-(WEEKDAY($A$14,1)-($A$6-1))-IF((WEEKDAY($A$14,1)-($A$6-1))<=0,7,0)+(ROW(AB5)-ROW($C$5))*7+(COLUMN(AB5)-COLUMN($C$5)+1)) -> 41388 | H34: =IF(K34=0,"",K34) | I34: =E34-D34 -> 0 | J34: =G34-F34 -> 0 | K34: =J34+I34 -> 0
B35: =B27-DAY(B27)+12-WEEKDAY(B27-DAY(B27)) -> 41375 | C35: =IF(MONTH($A$14)<>MONTH($A$14-(WEEKDAY($A$14,1)-($A$6-1))-IF((WEEKDAY($A$14,1)-($A$6-1))<=0,7,0)+(ROW(AC5)-ROW($C$5))*7+(COLUMN(AC5)-COLUMN($C$5)+1)),"",$A$14-(WEEKDAY($A$14,1)-($A$6-1))-IF((WEEKDAY($A$14,1)-($A$6-1))<=0,7,0)+(ROW(AC5)-ROW($C$5))*7+(COLUMN(AC5)-COLUMN($C$5)+1)) -> 41389 | D35: 0.375 | E35: 0.52083333 | F35: 0.58333333 | G35: 0.70833333 | H35: =K35 -> 0.27083333 | I35: =E35-D35 -> 0.14583333 | J35: =G35-F35 -> 0.125 | K35: =J35+I35 -> 0.27083333
B36: =B27-DAY(B27)+13-WEEKDAY(B27-DAY(B27)) -> 41376 | C36: =IF(MONTH($A$14)<>MONTH($A$14-(WEEKDAY($A$14,1)-($A$6-1))-IF((WEEKDAY($A$14,1)-($A$6-1))<=0,7,0)+(ROW(AD5)-ROW($C$5))*7+(COLUMN(AD5)-COLUMN($C$5)+1)),"",$A$14-(WEEKDAY($A$14,1)-($A$6-1))-IF((WEEKDAY($A$14,1)-($A$6-1))<=0,7,0)+(ROW(AD5)-ROW($C$5))*7+(COLUMN(AD5)-COLUMN($C$5)+1)) -> 41390 | D36: 0.375 | E36: 0.52083333 | H36: =K36 -> 0.14583333 | I36: =E36-D36 -> 0.14583333 | J36: =G36-F36 -> 0 | K36: =J36+I36 -> 0.14583333
B37: =B27-DAY(B27)+14-WEEKDAY(B27-DAY(B27)) -> 41377 | C37: =IF(MONTH($A$14)<>MONTH($A$14-(WEEKDAY($A$14,1)-($A$6-1))-IF((WEEKDAY($A$14,1)-($A$6-1))<=0,7,0)+(ROW(AE5)-ROW($C$5))*7+(COLUMN(AE5)-COLUMN($C$5)+1)),"",$A$14-(WEEKDAY($A$14,1)-($A$6-1))-IF((WEEKDAY($A$14,1)-($A$6-1))<=0,7,0)+(ROW(AE5)-ROW($C$5))*7+(COLUMN(AE5)-COLUMN($C$5)+1)) -> 41391 | H37: =IF(K37=0,"",K37) | I37: =E37-D37 -> 0 | J37: =G37-F37 -> 0 | K37: =J37+I37 -> 0
B38: =B27-DAY(B27)+15-WEEKDAY(B27-DAY(B27)) -> 41378 | C38: =IF(MONTH($A$14)<>MONTH($A$14-(WEEKDAY($A$14,1)-($A$6-1))-IF((WEEKDAY($A$14,1)-($A$6-1))<=0,7,0)+(ROW(AF5)-ROW($C$5))*7+(COLUMN(AF5)-COLUMN($C$5)+1)),"",$A$14-(WEEKDAY($A$14,1)-($A$6-1))-IF((WEEKDAY($A$14,1)-($A$6-1))<=0,7,0)+(ROW(AF5)-ROW($C$5))*7+(COLUMN(AF5)-COLUMN($C$5)+1)) -> 41392 | H38: =IF(K38=0,"",K38) | I38: =E38-D38 -> 0 | J38: =G38-F38 -> 0 | K38: =J38+I38 -> 0
B39: TOTAL SEMAINE | H39: =K39 -> 0.83333333 | K39: =K32+K33+K34+K35+K36+K37+K38 -> 0.83333333
B40: =INT((C41-(DATE(YEAR(C41-WEEKDAY(C41-1)+4),1,3)-WEEKDAY(DATE(YEAR(C41-WEEKDAY(C41-1)+4),1,3)))+5)/7) -> 18 | D40: ="Semaine du "&TEXT(MIN(C41:C45,C41:C45),"jj")&" au "&TEXT(MAX(C41:C45,C41:C45),"jj mmmm aaaa") -> Semaine du 29 au 30 avril 2013
B41: =B36-DAY(B36)+9-WEEKDAY(B36-DAY(B36)) -> 41372 | C41: =IF(MONTH($A$14)<>MONTH($A$14-(WEEKDAY($A$14,1)-($A$6-1))-IF((WEEKDAY($A$14,1)-($A$6-1))<=0,7,0)+(ROW(AG5)-ROW($C$5))*7+(COLUMN(AG5)-COLUMN($C$5)+1)),"",$A$14-(WEEKDAY($A$14,1)-($A$6-1))-IF((WEEKDAY($A$14,1)-($A$6-1))<=0,7,0)+(ROW(AG5)-ROW($C$5))*7+(COLUMN(AG5)-COLUMN($C$5)+1)) -> 41393 | D41: 0.375 | E41: 0.52083333 | F41: 0.58333333 | G41: 0.70833333 | H41: =K41 -> 0.27083333 | I41: =E41-D41 -> 0.14583333 | J41: =G41-F41 -> 0.125 | K41: =J41+I41 -> 0.27083333
B42: =B36-DAY(B36)+10-WEEKDAY(B36-DAY(B36)) -> 41373 | C42: =IF(MONTH($A$14)<>MONTH($A$14-(WEEKDAY($A$14,1)-($A$6-1))-IF((WEEKDAY($A$14,1)-($A$6-1))<=0,7,0)+(ROW(AH5)-ROW($C$5))*7+(COLUMN(AH5)-COLUMN($C$5)+1)),"",$A$14-(WEEKDAY($A$14,1)-($A$6-1))-IF((WEEKDAY($A$14,1)-($A$6-1))<=0,7,0)+(ROW(AH5)-ROW($C$5))*7+(COLUMN(AH5)-COLUMN($C$5)+1)) -> 41394 | D42: 0.375 | E42: 0.52083333 | H42: =K42 -> 0.14583333 | I42: =E42-D42 -> 0.14583333 | J42: =G42-F42 -> 0 | K42: =J42+I42 -> 0.14583333
B43: =B36-DAY(B36)+11-WEEKDAY(B36-DAY(B36)) -> 41374 | C43: =IF(MONTH($A$14)<>MONTH($A$14-(WEEKDAY($A$14,1)-($A$6-1))-IF((WEEKDAY($A$14,1)-($A$6-1))<=0,7,0)+(ROW(AI5)-ROW($C$5))*7+(COLUMN(AI5)-COLUMN($C$5)+1)),"",$A$14-(WEEKDAY($A$14,1)-($A$6-1))-IF((WEEKDAY($A$14,1)-($A$6-1))<=0,7,0)+(ROW(AI5)-ROW($C$5))*7+(COLUMN(AI5)-COLUMN($C$5)+1)) | H43: =IF(K43=0,"",K43) | I43: =E43-D43 -> 0 | J43: =G43-F43 -> 0 | K43: =J43+I43 -> 0
B44: =B36-DAY(B36)+12-WEEKDAY(B36-DAY(B36)) -> 41375 | C44: =IF(MONTH($A$14)<>MONTH($A$14-(WEEKDAY($A$14,1)-($A$6-1))-IF((WEEKDAY($A$14,1)-($A$6-1))<=0,7,0)+(ROW(AJ5)-ROW($C$5))*7+(COLUMN(AJ5)-COLUMN($C$5)+1)),"",$A$14-(WEEKDAY($A$14,1)-($A$6-1))-IF((WEEKDAY($A$14,1)-($A$6-1))<=0,7,0)+(ROW(AJ5)-ROW($C$5))*7+(COLUMN(AJ5)-COLUMN($C$5)+1)) | D44: 0.375 | E44: 0.52083333 | F44: 0.58333333 | G44: 0.70833333 | H44: =K44 -> 0.27083333 | I44: =E44-D44 -> 0.14583333 | J44: =G44-F44 -> 0.125 | K44: =J44+I44 -> 0.27083333
B45: =B36-DAY(B36)+13-WEEKDAY(B36-DAY(B36)) -> 41376 | C45: =IF(MONTH($A$14)<>MONTH($A$14-(WEEKDAY($A$14,1)-($A$6-1))-IF((WEEKDAY($A$14,1)-($A$6-1))<=0,7,0)+(ROW(AK5)-ROW($C$5))*7+(COLUMN(AK5)-COLUMN($C$5)+1)),"",$A$14-(WEEKDAY($A$14,1)-($A$6-1))-IF((WEEKDAY($A$14,1)-($A$6-1))<=0,7,0)+(ROW(AK5)-ROW($C$5))*7+(COLUMN(AK5)-COLUMN($C$5)+1)) | D45: 0.375 | E45: 0.52083333 | H45: =K45 -> 0.14583333 | I45: =E45-D45 -> 0.14583333 | J45: =G45-F45 -> 0 | K45: =J45+I45 -> 0.14583333
B46: =B36-DAY(B36)+14-WEEKDAY(B36-DAY(B36)) -> 41377 | C46: =IF(MONTH($A$14)<>MONTH($A$14-(WEEKDAY($A$14,1)-($A$6-1))-IF((WEEKDAY($A$14,1)-($A$6-1))<=0,7,0)+(ROW(AL5)-ROW($C$5))*7+(COLUMN(AL5)-COLUMN($C$5)+1)),"",$A$14-(WEEKDAY($A$14,1)-($A$6-1))-IF((WEEKDAY($A$14,1)-($A$6-1))<=0,7,0)+(ROW(AL5)-ROW($C$5))*7+(COLUMN(AL5)-COLUMN($C$5)+1)) | H46: =IF(K46=0,"",K46) | I46: =E46-D46 -> 0 | J46: =G46-F46 -> 0 | K46: =J46+I46 -> 0
B47: =B36-DAY(B36)+15-WEEKDAY(B36-DAY(B36)) -> 41378 | C47: =IF(MONTH($A$14)<>MONTH($A$14-(WEEKDAY($A$14,1)-($A$6-1))-IF((WEEKDAY($A$14,1)-($A$6-1))<=0,7,0)+(ROW(AM5)-ROW($C$5))*7+(COLUMN(AM5)-COLUMN($C$5)+1)),"",$A$14-(WEEKDAY($A$14,1)-($A$6-1))-IF((WEEKDAY($A$14,1)-($A$6-1))<=0,7,0)+(ROW(AM5)-ROW($C$5))*7+(COLUMN(AM5)-COLUMN($C$5)+1)) | H47: =IF(K47=0,"",K47) | I47: =E47-D47 -> 0 | J47: =G47-F47 -> 0 | K47: =J47+I47 -> 0
B48: TOTAL SEMAINE | H48: =K48 -> 0.83333333 | K48: =K41+K42+K43+K44+K45+K46+K47 -> 0.83333333
B49: Cumul mois | H49: =H12+H21+H30+H39+H48 -> 3.9166667
B50: Cumul Année | H50: =H49+Janvier!H49+Février!H49+Mars!H49 -> 6.4166667

Sheet Mai
A1: =YEAR(B1) -> 2013 | B1: =DATE(Avril!A1,(Avril!A2)+1,1) -> 41395 | D1: MATIN | E1: MIDI | F1: APRES MIDI | G1: SOIR | H1: TOTAL
A2: =MONTH(B1) -> 5 | B2: =INT((C11-(DATE(YEAR(C11-WEEKDAY(C11-1)+4),1,3)-WEEKDAY(DATE(YEAR(C11-WEEKDAY(C11-1)+4),1,3)))+5)/7) -> 18 | D2: ="Semaine du "&TEXT(MIN(C5:C9,C5:C9),"jj")&" au "&TEXT(MAX(C5:C9,C5:C9),"jj mmmm aaaa") -> Semaine du 01 au 03 mai 2013
C3: =IF(MONTH($A$14)<>MONTH($A$14-(WEEKDAY($A$14,1)-($A$6-1))-IF((WEEKDAY($A$14,1)-($A$6-1))<=0,7,0)+(ROW(C5)-ROW($C$5))*7+(COLUMN(C5)-COLUMN($C$5)+1)),"",$A$14-(WEEKDAY($A$14,1)-($A$6-1))-IF((WEEKDAY($A$14,1)-($A$6-1))<=0,7,0)+(ROW(C5)-ROW($C$5))*7+(COLUMN(C5)-COLUMN($C$5)+1))
C4: =IF(MONTH($A$14)<>MONTH($A$14-(WEEKDAY($A$14,1)-($A$6-1))-IF((WEEKDAY($A$14,1)-($A$6-1))<=0,7,0)+(ROW(D5)-ROW($C$5))*7+(COLUMN(D5)-COLUMN($C$5)+1)),"",$A$14-(WEEKDAY($A$14,1)-($A$6-1))-IF((WEEKDAY($A$14,1)-($A$6-1))<=0,7,0)+(ROW(D5)-ROW($C$5))*7+(COLUMN(D5)-COLUMN($C$5)+1))
A5: 7 | B5: =B1-DAY(B1)+9-WEEKDAY(B1-DAY(B1)) -> 41400 | C5: =IF(MONTH($A$14)<>MONTH($A$14-(WEEKDAY($A$14,1)-($A$6-1))-IF((WEEKDAY($A$14,1)-($A$6-1))<=0,7,0)+(ROW(E5)-ROW($C$5))*7+(COLUMN(E5)-COLUMN($C$5)+1)),"",$A$14-(WEEKDAY($A$14,1)-($A$6-1))-IF((WEEKDAY($A$14,1)-($A$6-1))<=0,7,0)+(ROW(E5)-ROW($C$5))*7+(COLUMN(E5)-COLUMN($C$5)+1)) | D5: 0.41666667 | E5: 0.52083333 | F5: 0.5625 | G5: 0.70833333 | H5: =K5 -> 0.25 | I5: =E5-D5 -> 0.10416667 | J5: =G5-F5 -> 0.14583333 | K5: =J5+I5 -> 0.25
A6: 7 | B6: =B1-DAY(B1)+10-WEEKDAY(B1-DAY(B1)) -> 41401 | C6: =IF(MONTH($A$14)<>MONTH($A$14-(WEEKDAY($A$14,1)-($A$6-1))-IF((WEEKDAY($A$14,1)-($A$6-1))<=0,7,0)+(ROW(F5)-ROW($C$5))*7+(COLUMN(F5)-COLUMN($C$5)+1)),"",$A$14-(WEEKDAY($A$14,1)-($A$6-1))-IF((WEEKDAY($A$14,1)-($A$6-1))<=0,7,0)+(ROW(F5)-ROW($C$5))*7+(COLUMN(F5)-COLUMN($C$5)+1)) | D6: 0.375 | E6: 0.52083333 | H6: =K6 -> 0.14583333 | I6: =E6-D6 -> 0.14583333 | J6: =G6-F6 -> 0 | K6: =J6+I6 -> 0.14583333
B7: =B1-DAY(B1)+11-WEEKDAY(B1-DAY(B1)) -> 41402 | C7: =IF(MONTH($A$14)<>MONTH($A$14-(WEEKDAY($A$14,1)-($A$6-1))-IF((WEEKDAY($A$14,1)-($A$6-1))<=0,7,0)+(ROW(G5)-ROW($C$5))*7+(COLUMN(G5)-COLUMN($C$5)+1)),"",$A$14-(WEEKDAY($A$14,1)-($A$6-1))-IF((WEEKDAY($A$14,1)-($A$6-1))<=0,7,0)+(ROW(G5)-ROW($C$5))*7+(COLUMN(G5)-COLUMN($C$5)+1)) -> 41395 | H7: =IF(K7=0,"",K7) | I7: =E7-D7 -> 0 | J7: =G7-F7 -> 0 | K7: =J7+I7 -> 0
B8: =B1-DAY(B1)+12-WEEKDAY(B1-DAY(B1)) -> 41403 | C8: =IF(MONTH($A$14)<>MONTH($A$14-(WEEKDAY($A$14,1)-($A$6-1))-IF((WEEKDAY($A$14,1)-($A$6-1))<=0,7,0)+(ROW(H5)-ROW($C$5))*7+(COLUMN(H5)-COLUMN($C$5)+1)),"",$A$14-(WEEKDAY($A$14,1)-($A$6-1))-IF((WEEKDAY($A$14,1)-($A$6-1))<=0,7,0)+(ROW(H5)-ROW($C$5))*7+(COLUMN(H5)-COLUMN($C$5)+1)) -> 41396 | D8: 0.375 | E8: 0.52083333 | F8: 0.5625 | G8: 0.70833333 | H8: =K8 -> 0.29166667 | I8: =E8-D8 -> 0.14583333 | J8: =G8-F8 -> 0.14583333 | K8: =J8+I8 -> 0.29166667
B9: =B1-DAY(B1)+13-WEEKDAY(B1-DAY(B1)) -> 41404 | C9: =IF(MONTH($A$14)<>MONTH($A$14-(WEEKDAY($A$14,1)-($A$6-1))-IF((WEEKDAY($A$14,1)-($A$6-1))<=0,7,0)+(ROW(I5)-ROW($C$5))*7+(COLUMN(I5)-COLUMN($C$5)+1)),"",$A$14-(WEEKDAY($A$14,1)-($A$6-1))-IF((WEEKDAY($A$14,1)-($A$6-1))<=0,7,0)+(ROW(I5)-ROW($C$5))*7+(COLUMN(I5)-COLUMN($C$5)+1)) -> 41397 | D9: 0.375 | E9: 0.52083333 | H9: =K9 -> 0.14583333 | I9: =E9-D9 -> 0.14583333 | J9: =G9-F9 -> 0 | K9: =J9+I9 -> 0.14583333
B10: =B1-DAY(B1)+14-WEEKDAY(B1-DAY(B1)) -> 41405 | C10: =IF(MONTH($A$14)<>MONTH($A$14-(WEEKDAY($A$14,1)-($A$6-1))-IF((WEEKDAY($A$14,1)-($A$6-1))<=0,7,0)+(ROW(J5)-ROW($C$5))*7+(COLUMN(J5)-COLUMN($C$5)+1)),"",$A$14-(WEEKDAY($A$14,1)-($A$6-1))-IF((WEEKDAY($A$14,1)-($A$6-1))<=0,7,0)+(ROW(J5)-ROW($C$5))*7+(COLUMN(J5)-COLUMN($C$5)+1)) -> 41398 | H10: =IF(K10=0,"",K10) | I10: =E10-D10 -> 0 | J10: =G10-F10 -> 0 | K10: =J10+I10 -> 0
B11: =B1-DAY(B1)+15-WEEKDAY(B1-DAY(B1)) -> 41406 | C11: =IF(MONTH($A$14)<>MONTH($A$14-(WEEKDAY($A$14,1)-($A$6-1))-IF((WEEKDAY($A$14,1)-($A$6-1))<=0,7,0)+(ROW(K5)-ROW($C$5))*7+(COLUMN(K5)-COLUMN($C$5)+1)),"",$A$14-(WEEKDAY($A$14,1)-($A$6-1))-IF((WEEKDAY($A$14,1)-($A$6-1))<=0,7,0)+(ROW(K5)-ROW($C$5))*7+(COLUMN(K5)-COLUMN($C$5)+1)) -> 41399 | H11: =IF(K11=0,"",K11) | I11: =E11-D11 -> 0 | J11: =G11-F11 -> 0 | K11: =J11+I11 -> 0
B12: TOTAL SEMAINE | H12: =K12 -> 0.83333333 | K12: =K5+K6+K7+K8+K9+K10+K11 -> 0.83333333
B13: =INT((C20-(DATE(YEAR(C20-WEEKDAY(C20-1)+4),1,3)-WEEKDAY(DATE(YEAR(C20-WEEKDAY(C20-1)+4),1,3)))+5)/7) -> 19 | D13: ="Semaine du "&TEXT(MIN(C14:C18,C14:C18),"jj")&" au "&TEXT(MAX(C14:C18,C14:C18),"jj mmmm aaaa") -> Semaine du 06 au 10 mai 2013
A14: =DATE(A1,A2,1) -> 41395 | B14: =B10-DAY(B10)+9-WEEKDAY(B10-DAY(B10)) -> 41400 | C14: =IF(MONTH($A$14)<>MONTH($A$14-(WEEKDAY($A$14,1)-($A$6-1))-IF((WEEKDAY($A$14,1)-($A$6-1))<=0,7,0)+(ROW(L5)-ROW($C$5))*7+(COLUMN(L5)-COLUMN($C$5)+1)),"",$A$14-(WEEKDAY($A$14,1)-($A$6-1))-IF((WEEKDAY($A$14,1)-($A$6-1))<=0,7,0)+(ROW(L5)-ROW($C$5))*7+(COLUMN(L5)-COLUMN($C$5)+1)) -> 41400 | D14: 0.41666667 | E14: 0.52083333 | F14: 0.5625 | G14: 0.70833333 | H14: =K14 -> 0.25 | I14: =E14-D14 -> 0.10416667 | J14: =G14-F14 -> 0.14583333 | K14: =J14+I14 -> 0.25
B15: =B10-DAY(B10)+10-WEEKDAY(B10-DAY(B10)) -> 41401 | C15: =IF(MONTH($A$14)<>MONTH($A$14-(WEEKDAY($A$14,1)-($A$6-1))-IF((WEEKDAY($A$14,1)-($A$6-1))<=0,7,0)+(ROW(M5)-ROW($C$5))*7+(COLUMN(M5)-COLUMN($C$5)+1)),"",$A$14-(WEEKDAY($A$14,1)-($A$6-1))-IF((WEEKDAY($A$14,1)-($A$6-1))<=0,7,0)+(ROW(M5)-ROW($C$5))*7+(COLUMN(M5)-COLUMN($C$5)+1)) -> 41401 | D15: 0.375 | E15: 0.52083333 | H15: =K15 -> 0.14583333 | I15: =E15-D15 -> 0.14583333 | J15: =G15-F15 -> 0 | K15: =J15+I15 -> 0.14583333
B16: =B10-DAY(B10)+11-WEEKDAY(B10-DAY(B10)) -> 41402 | C16: =IF(MONTH($A$14)<>MONTH($A$14-(WEEKDAY($A$14,1)-($A$6-1))-IF((WEEKDAY($A$14,1)-($A$6-1))<=0,7,0)+(ROW(N5)-ROW($C$5))*7+(COLUMN(N5)-COLUMN($C$5)+1)),"",$A$14-(WEEKDAY($A$14,1)-($A$6-1))-IF((WEEKDAY($A$14,1)-($A$6-1))<=0,7,0)+(ROW(N5)-ROW($C$5))*7+(COLUMN(N5)-COLUMN($C$5)+1)) -> 41402 | H16: =IF(K16=0,"",K16) | I16: =E16-D16 -> 0 | J16: =G16-F16 -> 0 | K16: =J16+I16 -> 0
B17: =B10-DAY(B10)+12-WEEKDAY(B10-DAY(B10)) -> 41403 | C17: =IF(MONTH($A$14)<>MONTH($A$14-(WEEKDAY($A$14,1)-($A$6-1))-IF((WEEKDAY($A$14,1)-($A$6-1))<=0,7,0)+(ROW(O5)-ROW($C$5))*7+(COLUMN(O5)-COLUMN($C$5)+1)),"",$A$14-(WEEKDAY($A$14,1)-($A$6-1))-IF((WEEKDAY($A$14,1)-($A$6-1))<=0,7,0)+(ROW(O5)-ROW($C$5))*7+(COLUMN(O5)-COLUMN($C$5)+1)) -> 41403 | D17: 0.375 | E17: 0.52083333 | F17: 0.5625 | G17: 0.70833333 | H17: =K17 -> 0.29166667 | I17: =E17-D17 -> 0.14583333 | J17: =G17-F17 -> 0.14583333 | K17: =J17+I17 -> 0.29166667
B18: =B10-DAY(B10)+13-WEEKDAY(B10-DAY(B10)) -> 41404 | C18: =IF(MONTH($A$14)<>MONTH($A$14-(WEEKDAY($A$14,1)-($A$6-1))-IF((WEEKDAY($A$14,1)-($A$6-1))<=0,7,0)+(ROW(P5)-ROW($C$5))*7+(COLUMN(P5)-COLUMN($C$5)+1)),"",$A$14-(WEEKDAY($A$14,1)-($A$6-1))-IF((WEEKDAY($A$14,1)-($A$6-1))<=0,7,0)+(ROW(P5)-ROW($C$5))*7+(COLUMN(P5)-COLUMN($C$5)+1)) -> 41404 | D18: 0.375 | E18: 0.52083333 | H18: =K18 -> 0.14583333 | I18: =E18-D18 -> 0.14583333 | J18: =G18-F18 -> 0 | K18: =J18+I18 -> 0.14583333
B19: =B10-DAY(B10)+14-WEEKDAY(B10-DAY(B10)) -> 41405 | C19: =IF(MONTH($A$14)<>MONTH($A$14-(WEEKDAY($A$14,1)-($A$6-1))-IF((WEEKDAY($A$14,1)-($A$6-1))<=0,7,0)+(ROW(Q5)-ROW($C$5))*7+(COLUMN(Q5)-COLUMN($C$5)+1)),"",$A$14-(WEEKDAY($A$14,1)-($A$6-1))-IF((WEEKDAY($A$14,1)-($A$6-1))<=0,7,0)+(ROW(Q5)-ROW($C$5))*7+(COLUMN(Q5)-COLUMN($C$5)+1)) -> 41405 | H19: =IF(K19=0,"",K19) | I19: =E19-D19 -> 0 | J19: =G19-F19 -> 0 | K19: =J19+I19 -> 0
B20: =B10-DAY(B10)+15-WEEKDAY(B10-DAY(B10)) -> 41406 | C20: =IF(MONTH($A$14)<>MONTH($A$14-(WEEKDAY($A$14,1)-($A$6-1))-IF((WEEKDAY($A$14,1)-($A$6-1))<=0,7,0)+(ROW(R5)-ROW($C$5))*7+(COLUMN(R5)-COLUMN($C$5)+1)),"",$A$14-(WEEKDAY($A$14,1)-($A$6-1))-IF((WEEKDAY($A$14,1)-($A$6-1))<=0,7,0)+(ROW(R5)-ROW($C$5))*7+(COLUMN(R5)-COLUMN($C$5)+1)) -> 41406 | H20: =IF(K20=0,"",K20) | I20: =E20-D20 -> 0 | J20: =G20-F20 -> 0 | K20: =J20+I20 -> 0
B21: TOTAL SEMAINE | H21: =K21 -> 0.83333333 | K21: =K14+K15+K16+K17+K18+K19+K20 -> 0.83333333
B22: =INT((C29-(DATE(YEAR(C29-WEEKDAY(C29-1)+4),1,3)-WEEKDAY(DATE(YEAR(C29-WEEKDAY(C29-1)+4),1,3)))+5)/7) -> 20 | D22: ="Semaine du "&TEXT(MIN(C23:C27,C23:C27),"jj")&" au "&TEXT(MAX(C23:C27,C23:C27),"jj mmmm aaaa") -> Semaine du 13 au 17 mai 2013
B23: =B18-DAY(B18)+9-WEEKDAY(B18-DAY(B18)) -> 41400 | C23: =IF(MONTH($A$14)<>MONTH($A$14-(WEEKDAY($A$14,1)-($A$6-1))-IF((WEEKDAY($A$14,1)-($A$6-1))<=0,7,0)+(ROW(S5)-ROW($C$5))*7+(COLUMN(S5)-COLUMN($C$5)+1)),"",$A$14-(WEEKDAY($A$14,1)-($A$6-1))-IF((WEEKDAY($A$14,1)-($A$6-1))<=0,7,0)+(ROW(S5)-ROW($C$5))*7+(COLUMN(S5)-COLUMN($C$5)+1)) -> 41407 | D23: 0.41666667 | E23: 0.52083333 | F23: 0.5625 | G23: 0.70833333 | H23: =K23 -> 0.25 | I23: =E23-D23 -> 0.10416667 | J23: =G23-F23 -> 0.14583333 | K23: =J23+I23 -> 0.25
B24: =B18-DAY(B18)+10-WEEKDAY(B18-DAY(B18)) -> 41401 | C24: =IF(MONTH($A$14)<>MONTH($A$14-(WEEKDAY($A$14,1)-($A$6-1))-IF((WEEKDAY($A$14,1)-($A$6-1))<=0,7,0)+(ROW(T5)-ROW($C$5))*7+(COLUMN(T5)-COLUMN($C$5)+1)),"",$A$14-(WEEKDAY($A$14,1)-($A$6-1))-IF((WEEKDAY($A$14,1)-($A$6-1))<=0,7,0)+(ROW(T5)-ROW($C$5))*7+(COLUMN(T5)-COLUMN($C$5)+1)) -> 41408 | D24: 0.375 | E24: 0.52083333 | H24: =K24 -> 0.14583333 | I24: =E24-D24 -> 0.14583333 | J24: =G24-F24 -> 0 | K24: =J24+I24 -> 0.14583333
B25: =B18-DAY(B18)+11-WEEKDAY(B18-DAY(B18)) -> 41402 | C25: =IF(MONTH($A$14)<>MONTH($A$14-(WEEKDAY($A$14,1)-($A$6-1))-IF((WEEKDAY($A$14,1)-($A$6-1))<=0,7,0)+(ROW(U5)-ROW($C$5))*7+(COLUMN(U5)-COLUMN($C$5)+1)),"",$A$14-(WEEKDAY($A$14,1)-($A$6-1))-IF((WEEKDAY($A$14,1)-($A$6-1))<=0,7,0)+(ROW(U5)-ROW($C$5))*7+(COLUMN(U5)-COLUMN($C$5)+1)) -> 41409 | H25: =IF(K25=0,"",K25) | I25: =E25-D25 -> 0 | J25: =G25-F25 -> 0 | K25: =J25+I25 -> 0
B26: =B18-DAY(B18)+12-WEEKDAY(B18-DAY(B18)) -> 41403 | C26: =IF(MONTH($A$14)<>MONTH($A$14-(WEEKDAY($A$14,1)-($A$6-1))-IF((WEEKDAY($A$14,1)-($A$6-1))<=0,7,0)+(ROW(V5)-ROW($C$5))*7+(COLUMN(V5)-COLUMN($C$5)+1)),"",$A$14-(WEEKDAY($A$14,1)-($A$6-1))-IF((WEEKDAY($A$14,1)-($A$6-1))<=0,7,0)+(ROW(V5)-ROW($C$5))*7+(COLUMN(V5)-COLUMN($C$5)+1)) -> 41410 | D26: 0.375 | E26: 0.52083333 | F26: 0.5625 | G26: 0.70833333 | H26: =K26 -> 0.29166667 | I26: =E26-D26 -> 0.14583333 | J26: =G26-F26 -> 0.14583333 | K26: =J26+I26 -> 0.29166667
B27: =B18-DAY(B18)+13-WEEKDAY(B18-DAY(B18)) -> 41404 | C27: =IF(MONTH($A$14)<>MONTH($A$14-(WEEKDAY($A$14,1)-($A$6-1))-IF((WEEKDAY($A$14,1)-($A$6-1))<=0,7,0)+(ROW(W5)-ROW($C$5))*7+(COLUMN(W5)-COLUMN($C$5)+1)),"",$A$14-(WEEKDAY($A$14,1)-($A$6-1))-IF((WEEKDAY($A$14,1)-($A$6-1))<=0,7,0)+(ROW(W5)-ROW($C$5))*7+(COLUMN(W5)-COLUMN($C$5)+1)) -> 41411 | D27: 0.375 | E27: 0.52083333 | H27: =K27 -> 0.14583333 | I27: =E27-D27 -> 0.14583333 | J27: =G27-F27 -> 0 | K27: =J27+I27 -> 0.14583333
B28: =B18-DAY(B18)+14-WEEKDAY(B18-DAY(B18)) -> 41405 | C28: =IF(MONTH($A$14)<>MONTH($A$14-(WEEKDAY($A$14,1)-($A$6-1))-IF((WEEKDAY($A$14,1)-($A$6-1))<=0,7,0)+(ROW(X5)-ROW($C$5))*7+(COLUMN(X5)-COLUMN($C$5)+1)),"",$A$14-(WEEKDAY($A$14,1)-($A$6-1))-IF((WEEKDAY($A$14,1)-($A$6-1))<=0,7,0)+(ROW(X5)-ROW($C$5))*7+(COLUMN(X5)-COLUMN($C$5)+1)) -> 41412 | H28: =IF(K28=0,"",K28) | I28: =E28-D28 -> 0 | J28: =G28-F28 -> 0 | K28: =J28+I28 -> 0
B29: =B18-DAY(B18)+15-WEEKDAY(B18-DAY(B18)) -> 41406 | C29: =IF(MONTH($A$14)<>MONTH($A$14-(WEEKDAY($A$14,1)-($A$6-1))-IF((WEEKDAY($A$14,1)-($A$6-1))<=0,7,0)+(ROW(Y5)-ROW($C$5))*7+(COLUMN(Y5)-COLUMN($C$5)+1)),"",$A$14-(WEEKDAY($A$14,1)-($A$6-1))-IF((WEEKDAY($A$14,1)-($A$6-1))<=0,7,0)+(ROW(Y5)-ROW($C$5))*7+(COLUMN(Y5)-COLUMN($C$5)+1)) -> 41413 | H29: =IF(K29=0,"",K29) | I29: =E29-D29 -> 0 | J29: =G29-F29 -> 0 | K29: =J29+I29 -> 0
B30: TOTAL SEMAINE | H30: =K30 -> 0.83333333 | K30: =K23+K24+K25+K26+K27+K28+K29 -> 0.83333333
B31: =INT((C38-(DATE(YEAR(C38-WEEKDAY(C38-1)+4),1,3)-WEEKDAY(DATE(YEAR(C38-WEEKDAY(C38-1)+4),1,3)))+5)/7) -> 21 | D31: ="Semaine du "&TEXT(MIN(C32:C36,C32:C36),"jj")&" au "&TEXT(MAX(C32:C36,C32:C36),"jj mmmm aaaa") -> Semaine du 20 au 24 mai 2013
B32: =B27-DAY(B27)+9-WEEKDAY(B27-DAY(B27)) -> 41400 | C32: =IF(MONTH($A$14)<>MONTH($A$14-(WEEKDAY($A$14,1)-($A$6-1))-IF((WEEKDAY($A$14,1)-($A$6-1))<=0,7,0)+(ROW(Z5)-ROW($C$5))*7+(COLUMN(Z5)-COLUMN($C$5)+1)),"",$A$14-(WEEKDAY($A$14,1)-($A$6-1))-IF((WEEKDAY($A$14,1)-($A$6-1))<=0,7,0)+(ROW(Z5)-ROW($C$5))*7+(COLUMN(Z5)-COLUMN($C$5)+1)) -> 41414 | D32: 0.375 | E32: 0.52083333 | F32: 0.58333333 | G32: 0.70833333 | H32: =K32 -> 0.27083333 | I32: =E32-D32 -> 0.14583333 | J32: =G32-F32 -> 0.125 | K32: =J32+I32 -> 0.27083333
B33: =B27-DAY(B27)+10-WEEKDAY(B27-DAY(B27)) -> 41401 | C33: =IF(MONTH($A$14)<>MONTH($A$14-(WEEKDAY($A$14,1)-($A$6-1))-IF((WEEKDAY($A$14,1)-($A$6-1))<=0,7,0)+(ROW(AA5)-ROW($C$5))*7+(COLUMN(AA5)-COLUMN($C$5)+1)),"",$A$14-(WEEKDAY($A$14,1)-($A$6-1))-IF((WEEKDAY($A$14,1)-($A$6-1))<=0,7,0)+(ROW(AA5)-ROW($C$5))*7+(COLUMN(AA5)-COLUMN($C$5)+1)) -> 41415 | D33: 0.375 | E33: 0.52083333 | H33: =K33 -> 0.14583333 | I33: =E33-D33 -> 0.14583333 | J33: =G33-F33 -> 0 | K33: =J33+I33 -> 0.14583333
B34: =B27-DAY(B27)+11-WEEKDAY(B27-DAY(B27)) -> 41402 | C34: =IF(MONTH($A$14)<>MONTH($A$14-(WEEKDAY($A$14,1)-($A$6-1))-IF((WEEKDAY($A$14,1)-($A$6-1))<=0,7,0)+(ROW(AB5)-ROW($C$5))*7+(COLUMN(AB5)-COLUMN($C$5)+1)),"",$A$14-(WEEKDAY($A$14,1)-($A$6-1))-IF((WEEKDAY($A$14,1)-($A$6-1))<=0,7,0)+(ROW(AB5)-ROW($C$5))*7+(COLUMN(AB5)-COLUMN($C$5)+1)) -> 41416 | H34: =IF(K34=0,"",K34) | I34: =E34-D34 -> 0 | J34: =G34-F34 -> 0 | K34: =J34+I34 -> 0
B35: =B27-DAY(B27)+12-WEEKDAY(B27-DAY(B27)) -> 41403 | C35: =IF(MONTH($A$14)<>MONTH($A$14-(WEEKDAY($A$14,1)-($A$6-1))-IF((WEEKDAY($A$14,1)-($A$6-1))<=0,7,0)+(ROW(AC5)-ROW($C$5))*7+(COLUMN(AC5)-COLUMN($C$5)+1)),"",$A$14-(WEEKDAY($A$14,1)-($A$6-1))-IF((WEEKDAY($A$14,1)-($A$6-1))<=0,7,0)+(ROW(AC5)-ROW($C$5))*7+(COLUMN(AC5)-COLUMN($C$5)+1)) -> 41417 | D35: 0.375 | E35: 0.52083333 | F35: 0.58333333 | G35: 0.70833333 | H35: =K35 -> 0.27083333 | I35: =E35-D35 -> 0.14583333 | J35: =G35-F35 -> 0.125 | K35: =J35+I35 -> 0.27083333
B36: =B27-DAY(B27)+13-WEEKDAY(B27-DAY(B27)) -> 41404 | C36: =IF(MONTH($A$14)<>MONTH($A$14-(WEEKDAY($A$14,1)-($A$6-1))-IF((WEEKDAY($A$14,1)-($A$6-1))<=0,7,0)+(ROW(AD5)-ROW($C$5))*7+(COLUMN(AD5)-COLUMN($C$5)+1)),"",$A$14-(WEEKDAY($A$14,1)-($A$6-1))-IF((WEEKDAY($A$14,1)-($A$6-1))<=0,7,0)+(ROW(AD5)-ROW($C$5))*7+(COLUMN(AD5)-COLUMN($C$5)+1)) -> 41418 | D36: 0.375 | E36: 0.52083333 | H36: =K36 -> 0.14583333 | I36: =E36-D36 -> 0.14583333 | J36: =G36-F36 -> 0 | K36: =J36+I36 -> 0.14583333
B37: =B27-DAY(B27)+14-WEEKDAY(B27-DAY(B27)) -> 41405 | C37: =IF(MONTH($A$14)<>MONTH($A$14-(WEEKDAY($A$14,1)-($A$6-1))-IF((WEEKDAY($A$14,1)-($A$6-1))<=0,7,0)+(ROW(AE5)-ROW($C$5))*7+(COLUMN(AE5)-COLUMN($C$5)+1)),"",$A$14-(WEEKDAY($A$14,1)-($A$6-1))-IF((WEEKDAY($A$14,1)-($A$6-1))<=0,7,0)+(ROW(AE5)-ROW($C$5))*7+(COLUMN(AE5)-COLUMN($C$5)+1)) -> 41419 | H37: =IF(K37=0,"",K37) | I37: =E37-D37 -> 0 | J37: =G37-F37 -> 0 | K37: =J37+I37 -> 0
B38: =B27-DAY(B27)+15-WEEKDAY(B27-DAY(B27)) -> 41406 | C38: =IF(MONTH($A$14)<>MONTH($A$14-(WEEKDAY($A$14,1)-($A$6-1))-IF((WEEKDAY($A$14,1)-($A$6-1))<=0,7,0)+(ROW(AF5)-ROW($C$5))*7+(COLUMN(AF5)-COLUMN($C$5)+1)),"",$A$14-(WEEKDAY($A$14,1)-($A$6-1))-IF((WEEKDAY($A$14,1)-($A$6-1))<=0,7,0)+(ROW(AF5)-ROW($C$5))*7+(COLUMN(AF5)-COLUMN($C$5)+1)) -> 41420 | H38: =IF(K38=0,"",K38) | I38: =E38-D38 -> 0 | J38: =G38-F38 -> 0 | K38: =J38+I38 -> 0
B39: TOTAL SEMAINE | H39: =K39 -> 0.83333333 | K39: =K32+K33+K34+K35+K36+K37+K38 -> 0.83333333
B40: =INT((C41-(DATE(YEAR(C41-WEEKDAY(C41-1)+4),1,3)-WEEKDAY(DATE(YEAR(C41-WEEKDAY(C41-1)+4),1,3)))+5)/7) -> 22 | D40: ="Semaine du "&TEXT(MIN(C41:C45,C41:C45),"jj")&" au "&TEXT(MAX(C41:C45,C41:C45),"jj mmmm aaaa") -> Semaine du 27 au 31 mai 2013
B41: =B36-DAY(B36)+9-WEEKDAY(B36-DAY(B36)) -> 41400 | C41: =IF(MONTH($A$14)<>MONTH($A$14-(WEEKDAY($A$14,1)-($A$6-1))-IF((WEEKDAY($A$14,1)-($A$6-1))<=0,7,0)+(ROW(AG5)-ROW($C$5))*7+(COLUMN(AG5)-COLUMN($C$5)+1)),"",$A$14-(WEEKDAY($A$14,1)-($A$6-1))-IF((WEEKDAY($A$14,1)-($A$6-1))<=0,7,0)+(ROW(AG5)-ROW($C$5))*7+(COLUMN(AG5)-COLUMN($C$5)+1)) -> 41421 | D41: 0.375 | E41: 0.52083333 | F41: 0.58333333 | G41: 0.70833333 | H41: =K41 -> 0.27083333 | I41: =E41-D41 -> 0.14583333 | J41: =G41-F41 -> 0.125 | K41: =J41+I41 -> 0.27083333
B42: =B36-DAY(B36)+10-WEEKDAY(B36-DAY(B36)) -> 41401 | C42: =IF(MONTH($A$14)<>MONTH($A$14-(WEEKDAY($A$14,1)-($A$6-1))-IF((WEEKDAY($A$14,1)-($A$6-1))<=0,7,0)+(ROW(AH5)-ROW($C$5))*7+(COLUMN(AH5)-COLUMN($C$5)+1)),"",$A$14-(WEEKDAY($A$14,1)-($A$6-1))-IF((WEEKDAY($A$14,1)-($A$6-1))<=0,7,0)+(ROW(AH5)-ROW($C$5))*7+(COLUMN(AH5)-COLUMN($C$5)+1)) -> 41422 | D42: 0.375 | E42: 0.52083333 | H42: =K42 -> 0.14583333 | I42: =E42-D42 -> 0.14583333 | J42: =G42-F42 -> 0 | K42: =J42+I42 -> 0.14583333
B43: =B36-DAY(B36)+11-WEEKDAY(B36-DAY(B36)) -> 41402 | C43: =IF(MONTH($A$14)<>MONTH($A$14-(WEEKDAY($A$14,1)-($A$6-1))-IF((WEEKDAY($A$14,1)-($A$6-1))<=0,7,0)+(ROW(AI5)-ROW($C$5))*7+(COLUMN(AI5)-COLUMN($C$5)+1)),"",$A$14-(WEEKDAY($A$14,1)-($A$6-1))-IF((WEEKDAY($A$14,1)-($A$6-1))<=0,7,0)+(ROW(AI5)-ROW($C$5))*7+(COLUMN(AI5)-COLUMN($C$5)+1)) -> 41423 | H43: =IF(K43=0,"",K43) | I43: =E43-D43 -> 0 | J43: =G43-F43 -> 0 | K43: =J43+I43 -> 0
B44: =B36-DAY(B36)+12-WEEKDAY(B36-DAY(B36)) -> 41403 | C44: =IF(MONTH($A$14)<>MONTH($A$14-(WEEKDAY($A$14,1)-($A$6-1))-IF((WEEKDAY($A$14,1)-($A$6-1))<=0,7,0)+(ROW(AJ5)-ROW($C$5))*7+(COLUMN(AJ5)-COLUMN($C$5)+1)),"",$A$14-(WEEKDAY($A$14,1)-($A$6-1))-IF((WEEKDAY($A$14,1)-($A$6-1))<=0,7,0)+(ROW(AJ5)-ROW($C$5))*7+(COLUMN(AJ5)-COLUMN($C$5)+1)) -> 41424 | D44: 0.375 | E44: 0.52083333 | F44: 0.58333333 | G44: 0.70833333 | H44: =K44 -> 0.27083333 | I44: =E44-D44 -> 0.14583333 | J44: =G44-F44 -> 0.125 | K44: =J44+I44 -> 0.27083333
B45: =B36-DAY(B36)+13-WEEKDAY(B36-DAY(B36)) -> 41404 | C45: =IF(MONTH($A$14)<>MONTH($A$14-(WEEKDAY($A$14,1)-($A$6-1))-IF((WEEKDAY($A$14,1)-($A$6-1))<=0,7,0)+(ROW(AK5)-ROW($C$5))*7+(COLUMN(AK5)-COLUMN($C$5)+1)),"",$A$14-(WEEKDAY($A$14,1)-($A$6-1))-IF((WEEKDAY($A$14,1)-($A$6-1))<=0,7,0)+(ROW(AK5)-ROW($C$5))*7+(COLUMN(AK5)-COLUMN($C$5)+1)) -> 41425 | D45: 0.375 | E45: 0.52083333 | H45: =K45 -> 0.14583333 | I45: =E45-D45 -> 0.14583333 | J45: =G45-F45 -> 0 | K45: =J45+I45 -> 0.14583333
B46: =B36-DAY(B36)+14-WEEKDAY(B36-DAY(B36)) -> 41405 | C46: =IF(MONTH($A$14)<>MONTH($A$14-(WEEKDAY($A$14,1)-($A$6-1))-IF((WEEKDAY($A$14,1)-($A$6-1))<=0,7,0)+(ROW(AL5)-ROW($C$5))*7+(COLUMN(AL5)-COLUMN($C$5)+1)),"",$A$14-(WEEKDAY($A$14,1)-($A$6-1))-IF((WEEKDAY($A$14,1)-($A$6-1))<=0,7,0)+(ROW(AL5)-ROW($C$5))*7+(COLUMN(AL5)-COLUMN($C$5)+1)) | H46: =IF(K46=0,"",K46) | I46: =E46-D46 -> 0 | J46: =G46-F46 -> 0 | K46: =J46+I46 -> 0
B47: =B36-DAY(B36)+15-WEEKDAY(B36-DAY(B36)) -> 41406 | C47: =IF(MONTH($A$14)<>MONTH($A$14-(WEEKDAY($A$14,1)-($A$6-1))-IF((WEEKDAY($A$14,1)-($A$6-1))<=0,7,0)+(ROW(AM5)-ROW($C$5))*7+(COLUMN(AM5)-COLUMN($C$5)+1)),"",$A$14-(WEEKDAY($A$14,1)-($A$6-1))-IF((WEEKDAY($A$14,1)-($A$6-1))<=0,7,0)+(ROW(AM5)-ROW($C$5))*7+(COLUMN(AM5)-COLUMN($C$5)+1)) | H47: =IF(K47=0,"",K47) | I47: =E47-D47 -> 0 | J47: =G47-F47 -> 0 | K47: =J47+I47 -> 0
B48: TOTAL SEMAINE | H48: =K48 -> 0.83333333 | K48: =K41+K42+K43+K44+K45+K46+K47 -> 0.83333333
B49: Cumul mois | H49: =H12+H21+H30+H39+H48 -> 4.1666667
B50: Cumul Année | H50: =H49+Janvier!H49+Février!H49+Mars!H49+Avril!H49 -> 10.583333

Sheet Juin
A1: =YEAR(B1) -> 2013 | B1: =DATE(Mai!A1,(Mai!A2)+1,1) -> 41426 | D1: MATIN | E1: MIDI | F1: APRES MIDI | G1: SOIR | H1: TOTAL
A2: =MONTH(B1) -> 6 | B2: =INT((C11-(DATE(YEAR(C11-WEEKDAY(C11-1)+4),1,3)-WEEKDAY(DATE(YEAR(C11-WEEKDAY(C11-1)+4),1,3)))+5)/7) -> 23 | D2: ="Semaine du "&TEXT(MIN(C5:C9,C5:C9),"jj")&" au "&TEXT(MAX(C5:C9,C5:C9),"jj mmmm aaaa") -> Semaine du 03 au 07 juin 2013
C3: =IF(MONTH($A$14)<>MONTH($A$14-(WEEKDAY($A$14,1)-($A$6-1))-IF((WEEKDAY($A$14,1)-($A$6-1))<=0,7,0)+(ROW(C5)-ROW($C$5))*7+(COLUMN(C5)-COLUMN($C$5)+1)),"",$A$14-(WEEKDAY($A$14,1)-($A$6-1))-IF((WEEKDAY($A$14,1)-($A$6-1))<=0,7,0)+(ROW(C5)-ROW($C$5))*7+(COLUMN(C5)-COLUMN($C$5)+1)) -> 41426
C4: =IF(MONTH($A$14)<>MONTH($A$14-(WEEKDAY($A$14,1)-($A$6-1))-IF((WEEKDAY($A$14,1)-($A$6-1))<=0,7,0)+(ROW(D5)-ROW($C$5))*7+(COLUMN(D5)-COLUMN($C$5)+1)),"",$A$14-(WEEKDAY($A$14,1)-($A$6-1))-IF((WEEKDAY($A$14,1)-($A$6-1))<=0,7,0)+(ROW(D5)-ROW($C$5))*7+(COLUMN(D5)-COLUMN($C$5)+1)) -> 41427
A5: 7 | B5: =B1-DAY(B1)+9-WEEKDAY(B1-DAY(B1)) -> 41428 | C5: =IF(MONTH($A$14)<>MONTH($A$14-(WEEKDAY($A$14,1)-($A$6-1))-IF((WEEKDAY($A$14,1)-($A$6-1))<=0,7,0)+(ROW(E5)-ROW($C$5))*7+(COLUMN(E5)-COLUMN($C$5)+1)),"",$A$14-(WEEKDAY($A$14,1)-($A$6-1))-IF((WEEKDAY($A$14,1)-($A$6-1))<=0,7,0)+(ROW(E5)-ROW($C$5))*7+(COLUMN(E5)-COLUMN($C$5)+1)) -> 41428 | D5: 0.41666667 | E5: 0.52083333 | F5: 0.5625 | G5: 0.70833333 | H5: =K5 -> 0.25 | I5: =E5-D5 -> 0.10416667 | J5: =G5-F5 -> 0.14583333 | K5: =J5+I5 -> 0.25
A6: 7 | B6: =B1-DAY(B1)+10-WEEKDAY(B1-DAY(B1)) -> 41429 | C6: =IF(MONTH($A$14)<>MONTH($A$14-(WEEKDAY($A$14,1)-($A$6-1))-IF((WEEKDAY($A$14,1)-($A$6-1))<=0,7,0)+(ROW(F5)-ROW($C$5))*7+(COLUMN(F5)-COLUMN($C$5)+1)),"",$A$14-(WEEKDAY($A$14,1)-($A$6-1))-IF((WEEKDAY($A$14,1)-($A$6-1))<=0,7,0)+(ROW(F5)-ROW($C$5))*7+(COLUMN(F5)-COLUMN($C$5)+1)) -> 41429 | D6: 0.375 | E6: 0.52083333 | H6: =K6 -> 0.14583333 | I6: =E6-D6 -> 0.14583333 | J6: =G6-F6 -> 0 | K6: =J6+I6 -> 0.14583333
B7: =B1-DAY(B1)+11-WEEKDAY(B1-DAY(B1)) -> 41430 | C7: =IF(MONTH($A$14)<>MONTH($A$14-(WEEKDAY($A$14,1)-($A$6-1))-IF((WEEKDAY($A$14,1)-($A$6-1))<=0,7,0)+(ROW(G5)-ROW($C$5))*7+(COLUMN(G5)-COLUMN($C$5)+1)),"",$A$14-(WEEKDAY($A$14,1)-($A$6-1))-IF((WEEKDAY($A$14,1)-($A$6-1))<=0,7,0)+(ROW(G5)-ROW($C$5))*7+(COLUMN(G5)-COLUMN($C$5)+1)) -> 41430 | H7: =IF(K7=0,"",K7) | I7: =E7-D7 -> 0 | J7: =G7-F7 -> 0 | K7: =J7+I7 -> 0
B8: =B1-DAY(B1)+12-WEEKDAY(B1-DAY(B1)) -> 41431 | C8: =IF(MONTH($A$14)<>MONTH($A$14-(WEEKDAY($A$14,1)-($A$6-1))-IF((WEEKDAY($A$14,1)-($A$6-1))<=0,7,0)+(ROW(H5)-ROW($C$5))*7+(COLUMN(H5)-COLUMN($C$5)+1)),"",$A$14-(WEEKDAY($A$14,1)-($A$6-1))-IF((WEEKDAY($A$14,1)-($A$6-1))<=0,7,0)+(ROW(H5)-ROW($C$5))*7+(COLUMN(H5)-COLUMN($C$5)+1)) -> 41431 | D8: 0.375 | E8: 0.52083333 | F8: 0.5625 | G8: 0.70833333 | H8: =K8 -> 0.29166667 | I8: =E8-D8 -> 0.14583333 | J8: =G8-F8 -> 0.14583333 | K8: =J8+I8 -> 0.29166667
B9: =B1-DAY(B1)+13-WEEKDAY(B1-DAY(B1)) -> 41432 | C9: =IF(MONTH($A$14)<>MONTH($A$14-(WEEKDAY($A$14,1)-($A$6-1))-IF((WEEKDAY($A$14,1)-($A$6-1))<=0,7,0)+(ROW(I5)-ROW($C$5))*7+(COLUMN(I5)-COLUMN($C$5)+1)),"",$A$14-(WEEKDAY($A$14,1)-($A$6-1))-IF((WEEKDAY($A$14,1)-($A$6-1))<=0,7,0)+(ROW(I5)-ROW($C$5))*7+(COLUMN(I5)-COLUMN($C$5)+1)) -> 41432 | D9: 0.375 | E9: 0.52083333 | H9: =K9 -> 0.14583333 | I9: =E9-D9 -> 0.14583333 | J9: =G9-F9 -> 0 | K9: =J9+I9 -> 0.14583333
B10: =B1-DAY(B1)+14-WEEKDAY(B1-DAY(B1)) -> 41433 | C10: =IF(MONTH($A$14)<>MONTH($A$14-(WEEKDAY($A$14,1)-($A$6-1))-IF((WEEKDAY($A$14,1)-($A$6-1))<=0,7,0)+(ROW(J5)-ROW($C$5))*7+(COLUMN(J5)-COLUMN($C$5)+1)),"",$A$14-(WEEKDAY($A$14,1)-($A$6-1))-IF((WEEKDAY($A$14,1)-($A$6-1))<=0,7,0)+(ROW(J5)-ROW($C$5))*7+(COLUMN(J5)-COLUMN($C$5)+1)) -> 41433 | H10: =IF(K10=0,"",K10) | I10: =E10-D10 -> 0 | J10: =G10-F10 -> 0 | K10: =J10+I10 -> 0
B11: =B1-DAY(B1)+15-WEEKDAY(B1-DAY(B1)) -> 41434 | C11: =IF(MONTH($A$14)<>MONTH($A$14-(WEEKDAY($A$14,1)-($A$6-1))-IF((WEEKDAY($A$14,1)-($A$6-1))<=0,7,0)+(ROW(K5)-ROW($C$5))*7+(COLUMN(K5)-COLUMN($C$5)+1)),"",$A$14-(WEEKDAY($A$14,1)-($A$6-1))-IF((WEEKDAY($A$14,1)-($A$6-1))<=0,7,0)+(ROW(K5)-ROW($C$5))*7+(COLUMN(K5)-COLUMN($C$5)+1)) -> 41434 | H11: =IF(K11=0,"",K11) | I11: =E11-D11 -> 0 | J11: =G11-F11 -> 0 | K11: =J11+I11 -> 0
B12: TOTAL SEMAINE | H12: =K12 -> 0.83333333 | K12: =K5+K6+K7+K8+K9+K10+K11 -> 0.83333333
B13: =INT((C20-(DATE(YEAR(C20-WEEKDAY(C20-1)+4),1,3)-WEEKDAY(DATE(YEAR(C20-WEEKDAY(C20-1)+4),1,3)))+5)/7) -> 24 | D13: ="Semaine du "&TEXT(MIN(C14:C18,C14:C18),"jj")&" au "&TEXT(MAX(C14:C18,C14:C18),"jj mmmm aaaa") -> Semaine du 10 au 14 juin 2013
A14: =DATE(A1,A2,1) -> 41426 | B14: =B10-DAY(B10)+9-WEEKDAY(B10-DAY(B10)) -> 41428 | C14: =IF(MONTH($A$14)<>MONTH($A$14-(WEEKDAY($A$14,1)-($A$6-1))-IF((WEEKDAY($A$14,1)-($A$6-1))<=0,7,0)+(ROW(L5)-ROW($C$5))*7+(COLUMN(L5)-COLUMN($C$5)+1)),"",$A$14-(WEEKDAY($A$14,1)-($A$6-1))-IF((WEEKDAY($A$14,1)-($A$6-1))<=0,7,0)+(ROW(L5)-ROW($C$5))*7+(COLUMN(L5)-COLUMN($C$5)+1)) -> 41435 | D14: 0.41666667 | E14: 0.52083333 | F14: 0.5625 | G14: 0.70833333 | H14: =K14 -> 0.25 | I14: =E14-D14 -> 0.10416667 | J14: =G14-F14 -> 0.14583333 | K14: =J14+I14 -> 0.25
B15: =B10-DAY(B10)+10-WEEKDAY(B10-DAY(B10)) -> 41429 | C15: =IF(MONTH($A$14)<>MONTH($A$14-(WEEKDAY($A$14,1)-($A$6-1))-IF((WEEKDAY($A$14,1)-($A$6-1))<=0,7,0)+(ROW(M5)-ROW($C$5))*7+(COLUMN(M5)-COLUMN($C$5)+1)),"",$A$14-(WEEKDAY($A$14,1)-($A$6-1))-IF((WEEKDAY($A$14,1)-($A$6-1))<=0,7,0)+(ROW(M5)-ROW($C$5))*7+(COLUMN(M5)-COLUMN($C$5)+1)) -> 41436 | D15: 0.375 | E15: 0.52083333 | H15: =K15 -> 0.14583333 | I15: =E15-D15 -> 0.14583333 | J15: =G15-F15 -> 0 | K15: =J15+I15 -> 0.14583333
B16: =B10-DAY(B10)+11-WEEKDAY(B10-DAY(B10)) -> 41430 | C16: =IF(MONTH($A$14)<>MONTH($A$14-(WEEKDAY($A$14,1)-($A$6-1))-IF((WEEKDAY($A$14,1)-($A$6-1))<=0,7,0)+(ROW(N5)-ROW($C$5))*7+(COLUMN(N5)-COLUMN($C$5)+1)),"",$A$14-(WEEKDAY($A$14,1)-($A$6-1))-IF((WEEKDAY($A$14,1)-($A$6-1))<=0,7,0)+(ROW(N5)-ROW($C$5))*7+(COLUMN(N5)-COLUMN($C$5)+1)) -> 41437 | H16: =IF(K16=0,"",K16) | I16: =E16-D16 -> 0 | J16: =G16-F16 -> 0 | K16: =J16+I16 -> 0
B17: =B10-DAY(B10)+12-WEEKDAY(B10-DAY(B10)) -> 41431 | C17: =IF(MONTH($A$14)<>MONTH($A$14-(WEEKDAY($A$14,1)-($A$6-1))-IF((WEEKDAY($A$14,1)-($A$6-1))<=0,7,0)+(ROW(O5)-ROW($C$5))*7+(COLUMN(O5)-COLUMN($C$5)+1)),"",$A$14-(WEEKDAY($A$14,1)-($A$6-1))-IF((WEEKDAY($A$14,1)-($A$6-1))<=0,7,0)+(ROW(O5)-ROW($C$5))*7+(COLUMN(O5)-COLUMN($C$5)+1)) -> 41438 | D17: 0.375 | E17: 0.52083333 | F17: 0.5625 | G17: 0.70833333 | H17: =K17 -> 0.29166667 | I17: =E17-D17 -> 0.14583333 | J17: =G17-F17 -> 0.14583333 | K17: =J17+I17 -> 0.29166667
B18: =B10-DAY(B10)+13-WEEKDAY(B10-DAY(B10)) -> 41432 | C18: =IF(MONTH($A$14)<>MONTH($A$14-(WEEKDAY($A$14,1)-($A$6-1))-IF((WEEKDAY($A$14,1)-($A$6-1))<=0,7,0)+(ROW(P5)-ROW($C$5))*7+(COLUMN(P5)-COLUMN($C$5)+1)),"",$A$14-(WEEKDAY($A$14,1)-($A$6-1))-IF((WEEKDAY($A$14,1)-($A$6-1))<=0,7,0)+(ROW(P5)-ROW($C$5))*7+(COLUMN(P5)-COLUMN($C$5)+1)) -> 41439 | D18: 0.375 | E18: 0.52083333 | H18: =K18 -> 0.14583333 | I18: =E18-D18 -> 0.14583333 | J18: =G18-F18 -> 0 | K18: =J18+I18 -> 0.14583333
B19: =B10-DAY(B10)+14-WEEKDAY(B10-DAY(B10)) -> 41433 | C19: =IF(MONTH($A$14)<>MONTH($A$14-(WEEKDAY($A$14,1)-($A$6-1))-IF((WEEKDAY($A$14,1)-($A$6-1))<=0,7,0)+(ROW(Q5)-ROW($C$5))*7+(COLUMN(Q5)-COLUMN($C$5)+1)),"",$A$14-(WEEKDAY($A$14,1)-($A$6-1))-IF((WEEKDAY($A$14,1)-($A$6-1))<=0,7,0)+(ROW(Q5)-ROW($C$5))*7+(COLUMN(Q5)-COLUMN($C$5)+1)) -> 41440 | H19: =IF(K19=0,"",K19) | I19: =E19-D19 -> 0 | J19: =G19-F19 -> 0 | K19: =J19+I19 -> 0
B20: =B10-DAY(B10)+15-WEEKDAY(B10-DAY(B10)) -> 41434 | C20: =IF(MONTH($A$14)<>MONTH($A$14-(WEEKDAY($A$14,1)-($A$6-1))-IF((WEEKDAY($A$14,1)-($A$6-1))<=0,7,0)+(ROW(R5)-ROW($C$5))*7+(COLUMN(R5)-COLUMN($C$5)+1)),"",$A$14-(WEEKDAY($A$14,1)-($A$6-1))-IF((WEEKDAY($A$14,1)-($A$6-1))<=0,7,0)+(ROW(R5)-ROW($C$5))*7+(COLUMN(R5)-COLUMN($C$5)+1)) -> 41441 | H20: =IF(K20=0,"",K20) | I20: =E20-D20 -> 0 | J20: =G20-F20 -> 0 | K20: =J20+I20 -> 0
B21: TOTAL SEMAINE | H21: =K21 -> 0.83333333 | K21: =K14+K15+K16+K17+K18+K19+K20 -> 0.83333333
B22: =INT((C29-(DATE(YEAR(C29-WEEKDAY(C29-1)+4),1,3)-WEEKDAY(DATE(YEAR(C29-WEEKDAY(C29-1)+4),1,3)))+5)/7) -> 25 | D22: ="Semaine du "&TEXT(MIN(C23:C27,C23:C27),"jj")&" au "&TEXT(MAX(C23:C27,C23:C27),"jj mmmm aaaa") -> Semaine du 17 au 21 juin 2013
B23: =B18-DAY(B18)+9-WEEKDAY(B18-DAY(B18)) -> 41428 | C23: =IF(MONTH($A$14)<>MONTH($A$14-(WEEKDAY($A$14,1)-($A$6-1))-IF((WEEKDAY($A$14,1)-($A$6-1))<=0,7,0)+(ROW(S5)-ROW($C$5))*7+(COLUMN(S5)-COLUMN($C$5)+1)),"",$A$14-(WEEKDAY($A$14,1)-($A$6-1))-IF((WEEKDAY($A$14,1)-($A$6-1))<=0,7,0)+(ROW(S5)-ROW($C$5))*7+(COLUMN(S5)-COLUMN($C$5)+1)) -> 41442 | D23: 0.41666667 | E23: 0.52083333 | F23: 0.5625 | G23: 0.70833333 | H23: =K23 -> 0.25 | I23: =E23-D23 -> 0.10416667 | J23: =G23-F23 -> 0.14583333 | K23: =J23+I23 -> 0.25
B24: =B18-DAY(B18)+10-WEEKDAY(B18-DAY(B18)) -> 41429 | C24: =IF(MONTH($A$14)<>MONTH($A$14-(WEEKDAY($A$14,1)-($A$6-1))-IF((WEEKDAY($A$14,1)-($A$6-1))<=0,7,0)+(ROW(T5)-ROW($C$5))*7+(COLUMN(T5)-COLUMN($C$5)+1)),"",$A$14-(WEEKDAY($A$14,1)-($A$6-1))-IF((WEEKDAY($A$14,1)-($A$6-1))<=0,7,0)+(ROW(T5)-ROW($C$5))*7+(COLUMN(T5)-COLUMN($C$5)+1)) -> 41443 | D24: 0.375 | E24: 0.52083333 | H24: =K24 -> 0.14583333 | I24: =E24-D24 -> 0.14583333 | J24: =G24-F24 -> 0 | K24: =J24+I24 -> 0.14583333
B25: =B18-DAY(B18)+11-WEEKDAY(B18-DAY(B18)) -> 41430 | C25: =IF(MONTH($A$14)<>MONTH($A$14-(WEEKDAY($A$14,1)-($A$6-1))-IF((WEEKDAY($A$14,1)-($A$6-1))<=0,7,0)+(ROW(U5)-ROW($C$5))*7+(COLUMN(U5)-COLUMN($C$5)+1)),"",$A$14-(WEEKDAY($A$14,1)-($A$6-1))-IF((WEEKDAY($A$14,1)-($A$6-1))<=0,7,0)+(ROW(U5)-ROW($C$5))*7+(COLUMN(U5)-COLUMN($C$5)+1)) -> 41444 | H25: =IF(K25=0,"",K25) | I25: =E25-D25 -> 0 | J25: =G25-F25 -> 0 | K25: =J25+I25 -> 0
B26: =B18-DAY(B18)+12-WEEKDAY(B18-DAY(B18)) -> 41431 | C26: =IF(MONTH($A$14)<>MONTH($A$14-(WEEKDAY($A$14,1)-($A$6-1))-IF((WEEKDAY($A$14,1)-($A$6-1))<=0,7,0)+(ROW(V5)-ROW($C$5))*7+(COLUMN(V5)-COLUMN($C$5)+1)),"",$A$14-(WEEKDAY($A$14,1)-($A$6-1))-IF((WEEKDAY($A$14,1)-($A$6-1))<=0,7,0)+(ROW(V5)-ROW($C$5))*7+(COLUMN(V5)-COLUMN($C$5)+1)) -> 41445 | D26: 0.375 | E26: 0.52083333 | F26: 0.5625 | G26: 0.70833333 | H26: =K26 -> 0.29166667 | I26: =E26-D26 -> 0.14583333 | J26: =G26-F26 -> 0.14583333 | K26: =J26+I26 -> 0.29166667
B27: =B18-DAY(B18)+13-WEEKDAY(B18-DAY(B18)) -> 41432 | C27: =IF(MONTH($A$14)<>MONTH($A$14-(WEEKDAY($A$14,1)-($A$6-1))-IF((WEEKDAY($A$14,1)-($A$6-1))<=0,7,0)+(ROW(W5)-ROW($C$5))*7+(COLUMN(W5)-COLUMN($C$5)+1)),"",$A$14-(WEEKDAY($A$14,1)-($A$6-1))-IF((WEEKDAY($A$14,1)-($A$6-1))<=0,7,0)+(ROW(W5)-ROW($C$5))*7+(COLUMN(W5)-COLUMN($C$5)+1)) -> 41446 | D27: 0.375 | E27: 0.52083333 | H27: =K27 -> 0.14583333 | I27: =E27-D27 -> 0.14583333 | J27: =G27-F27 -> 0 | K27: =J27+I27 -> 0.14583333
B28: =B18-DAY(B18)+14-WEEKDAY(B18-DAY(B18)) -> 41433 | C28: =IF(MONTH($A$14)<>MONTH($A$14-(WEEKDAY($A$14,1)-($A$6-1))-IF((WEEKDAY($A$14,1)-($A$6-1))<=0,7,0)+(ROW(X5)-ROW($C$5))*7+(COLUMN(X5)-COLUMN($C$5)+1)),"",$A$14-(WEEKDAY($A$14,1)-($A$6-1))-IF((WEEKDAY($A$14,1)-($A$6-1))<=0,7,0)+(ROW(X5)-ROW($C$5))*7+(COLUMN(X5)-COLUMN($C$5)+1)) -> 41447 | H28: =IF(K28=0,"",K28) | I28: =E28-D28 -> 0 | J28: =G28-F28 -> 0 | K28: =J28+I28 -> 0
B29: =B18-DAY(B18)+15-WEEKDAY(B18-DAY(B18)) -> 41434 | C29: =IF(MONTH($A$14)<>MONTH($A$14-(WEEKDAY($A$14,1)-($A$6-1))-IF((WEEKDAY($A$14,1)-($A$6-1))<=0,7,0)+(ROW(Y5)-ROW($C$5))*7+(COLUMN(Y5)-COLUMN($C$5)+1)),"",$A$14-(WEEKDAY($A$14,1)-($A$6-1))-IF((WEEKDAY($A$14,1)-($A$6-1))<=0,7,0)+(ROW(Y5)-ROW($C$5))*7+(COLUMN(Y5)-COLUMN($C$5)+1)) -> 41448 | H29: =IF(K29=0,"",K29) | I29: =E29-D29 -> 0 | J29: =G29-F29 -> 0 | K29: =J29+I29 -> 0
B30: TOTAL SEMAINE | H30: =K30 -> 0.83333333 | K30: =K23+K24+K25+K26+K27+K28+K29 -> 0.83333333
B31: =INT((C38-(DATE(YEAR(C38-WEEKDAY(C38-1)+4),1,3)-WEEKDAY(DATE(YEAR(C38-WEEKDAY(C38-1)+4),1,3)))+5)/7) -> 26 | D31: ="Semaine du "&TEXT(MIN(C32:C36,C32:C36),"jj")&" au "&TEXT(MAX(C32:C36,C32:C36),"jj mmmm aaaa") -> Semaine du 24 au 28 juin 2013
B32: =B27-DAY(B27)+9-WEEKDAY(B27-DAY(B27)) -> 41428 | C32: =IF(MONTH($A$14)<>MONTH($A$14-(WEEKDAY($A$14,1)-($A$6-1))-IF((WEEKDAY($A$14,1)-($A$6-1))<=0,7,0)+(ROW(Z5)-ROW($C$5))*7+(COLUMN(Z5)-COLUMN($C$5)+1)),"",$A$14-(WEEKDAY($A$14,1)-($A$6-1))-IF((WEEKDAY($A$14,1)-($A$6-1))<=0,7,0)+(ROW(Z5)-ROW($C$5))*7+(COLUMN(Z5)-COLUMN($C$5)+1)) -> 41449 | D32: 0.375 | E32: 0.52083333 | F32: 0.58333333 | G32: 0.70833333 | H32: =K32 -> 0.27083333 | I32: =E32-D32 -> 0.14583333 | J32: =G32-F32 -> 0.125 | K32: =J32+I32 -> 0.27083333
B33: =B27-DAY(B27)+10-WEEKDAY(B27-DAY(B27)) -> 41429 | C33: =IF(MONTH($A$14)<>MONTH($A$14-(WEEKDAY($A$14,1)-($A$6-1))-IF((WEEKDAY($A$14,1)-($A$6-1))<=0,7,0)+(ROW(AA5)-ROW($C$5))*7+(COLUMN(AA5)-COLUMN($C$5)+1)),"",$A$14-(WEEKDAY($A$14,1)-($A$6-1))-IF((WEEKDAY($A$14,1)-($A$6-1))<=0,7,0)+(ROW(AA5)-ROW($C$5))*7+(COLUMN(AA5)-COLUMN($C$5)+1)) -> 41450 | D33: 0.375 | E33: 0.52083333 | H33: =K33 -> 0.14583333 | I33: =E33-D33 -> 0.14583333 | J33: =G33-F33 -> 0 | K33: =J33+I33 -> 0.14583333
B34: =B27-DAY(B27)+11-WEEKDAY(B27-DAY(B27)) -> 41430 | C34: =IF(MONTH($A$14)<>MONTH($A$14-(WEEKDAY($A$14,1)-($A$6-1))-IF((WEEKDAY($A$14,1)-($A$6-1))<=0,7,0)+(ROW(AB5)-ROW($C$5))*7+(COLUMN(AB5)-COLUMN($C$5)+1)),"",$A$14-(WEEKDAY($A$14,1)-($A$6-1))-IF((WEEKDAY($A$14,1)-($A$6-1))<=0,7,0)+(ROW(AB5)-ROW($C$5))*7+(COLUMN(AB5)-COLUMN($C$5)+1)) -> 41451 | H34: =IF(K34=0,"",K34) | I34: =E34-D34 -> 0 | J34: =G34-F34 -> 0 | K34: =J34+I34 -> 0
B35: =B27-DAY(B27)+12-WEEKDAY(B27-DAY(B27)) -> 41431 | C35: =IF(MONTH($A$14)<>MONTH($A$14-(WEEKDAY($A$14,1)-($A$6-1))-IF((WEEKDAY($A$14,1)-($A$6-1))<=0,7,0)+(ROW(AC5)-ROW($C$5))*7+(COLUMN(AC5)-COLUMN($C$5)+1)),"",$A$14-(WEEKDAY($A$14,1)-($A$6-1))-IF((WEEKDAY($A$14,1)-($A$6-1))<=0,7,0)+(ROW(AC5)-ROW($C$5))*7+(COLUMN(AC5)-COLUMN($C$5)+1)) -> 41452 | D35: 0.375 | E35: 0.52083333 | F35: 0.58333333 | G35: 0.70833333 | H35: =K35 -> 0.27083333 | I35: =E35-D35 -> 0.14583333 | J35: =G35-F35 -> 0.125 | K35: =J35+I35 -> 0.27083333
B36: =B27-DAY(B27)+13-WEEKDAY(B27-DAY(B27)) -> 41432 | C36: =IF(MONTH($A$14)<>MONTH($A$14-(WEEKDAY($A$14,1)-($A$6-1))-IF((WEEKDAY($A$14,1)-($A$6-1))<=0,7,0)+(ROW(AD5)-ROW($C$5))*7+(COLUMN(AD5)-COLUMN($C$5)+1)),"",$A$14-(WEEKDAY($A$14,1)-($A$6-1))-IF((WEEKDAY($A$14,1)-($A$6-1))<=0,7,0)+(ROW(AD5)-ROW($C$5))*7+(COLUMN(AD5)-COLUMN($C$5)+1)) -> 41453 | D36: 0.375 | E36: 0.52083333 | H36: =K36 -> 0.14583333 | I36: =E36-D36 -> 0.14583333 | J36: =G36-F36 -> 0 | K36: =J36+I36 -> 0.14583333
B37: =B27-DAY(B27)+14-WEEKDAY(B27-DAY(B27)) -> 41433 | C37: =IF(MONTH($A$14)<>MONTH($A$14-(WEEKDAY($A$14,1)-($A$6-1))-IF((WEEKDAY($A$14,1)-($A$6-1))<=0,7,0)+(ROW(AE5)-ROW($C$5))*7+(COLUMN(AE5)-COLUMN($C$5)+1)),"",$A$14-(WEEKDAY($A$14,1)-($A$6-1))-IF((WEEKDAY($A$14,1)-($A$6-1))<=0,7,0)+(ROW(AE5)-ROW($C$5))*7+(COLUMN(AE5)-COLUMN($C$5)+1)) -> 41454 | H37: =IF(K37=0,"",K37) | I37: =E37-D37 -> 0 | J37: =G37-F37 -> 0 | K37: =J37+I37 -> 0
B38: =B27-DAY(B27)+15-WEEKDAY(B27-DAY(B27)) -> 41434 | C38: =IF(MONTH($A$14)<>MONTH($A$14-(WEEKDAY($A$14,1)-($A$6-1))-IF((WEEKDAY($A$14,1)-($A$6-1))<=0,7,0)+(ROW(AF5)-ROW($C$5))*7+(COLUMN(AF5)-COLUMN($C$5)+1)),"",$A$14-(WEEKDAY($A$14,1)-($A$6-1))-IF((WEEKDAY($A$14,1)-($A$6-1))<=0,7,0)+(ROW(AF5)-ROW($C$5))*7+(COLUMN(AF5)-COLUMN($C$5)+1)) -> 41455 | H38: =IF(K38=0,"",K38) | I38: =E38-D38 -> 0 | J38: =G38-F38 -> 0 | K38: =J38+I38 -> 0
B39: TOTAL SEMAINE | H39: =K39 -> 0.83333333 | K39: =K32+K33+K34+K35+K36+K37+K38 -> 0.83333333
B40: =INT((C41-(DATE(YEAR(C41-WEEKDAY(C41-1)+4),1,3)-WEEKDAY(DATE(YEAR(C41-WEEKDAY(C41-1)+4),1,3)))+5)/7) -> #VALUE! | D40: ="Semaine du "&TEXT(MIN(C41:C45,C41:C45),"jj")&" au "&TEXT(MAX(C41:C45,C41:C45),"jj mmmm aaaa") -> Semaine du 00 au 00 janvier 1900
B41: =B36-DAY(B36)+9-WEEKDAY(B36-DAY(B36)) -> 41428 | C41: =IF(MONTH($A$14)<>MONTH($A$14-(WEEKDAY($A$14,1)-($A$6-1))-IF((WEEKDAY($A$14,1)-($A$6-1))<=0,7,0)+(ROW(AG5)-ROW($C$5))*7+(COLUMN(AG5)-COLUMN($C$5)+1)),"",$A$14-(WEEKDAY($A$14,1)-($A$6-1))-IF((WEEKDAY($A$14,1)-($A$6-1))<=0,7,0)+(ROW(AG5)-ROW($C$5))*7+(COLUMN(AG5)-COLUMN($C$5)+1)) | D41: 0.375 | E41: 0.52083333 | F41: 0.58333333 | G41: 0.70833333 | H41: =K41 -> 0.27083333 | I41: =E41-D41 -> 0.14583333 | J41: =G41-F41 -> 0.125 | K41: =J41+I41 -> 0.27083333
B42: =B36-DAY(B36)+10-WEEKDAY(B36-DAY(B36)) -> 41429 | C42: =IF(MONTH($A$14)<>MONTH($A$14-(WEEKDAY($A$14,1)-($A$6-1))-IF((WEEKDAY($A$14,1)-($A$6-1))<=0,7,0)+(ROW(AH5)-ROW($C$5))*7+(COLUMN(AH5)-COLUMN($C$5)+1)),"",$A$14-(WEEKDAY($A$14,1)-($A$6-1))-IF((WEEKDAY($A$14,1)-($A$6-1))<=0,7,0)+(ROW(AH5)-ROW($C$5))*7+(COLUMN(AH5)-COLUMN($C$5)+1)) | D42: 0.375 | E42: 0.52083333 | H42: =K42 -> 0.14583333 | I42: =E42-D42 -> 0.14583333 | J42: =G42-F42 -> 0 | K42: =J42+I42 -> 0.14583333
B43: =B36-DAY(B36)+11-WEEKDAY(B36-DAY(B36)) -> 41430 | C43: =IF(MONTH($A$14)<>MONTH($A$14-(WEEKDAY($A$14,1)-($A$6-1))-IF((WEEKDAY($A$14,1)-($A$6-1))<=0,7,0)+(ROW(AI5)-ROW($C$5))*7+(COLUMN(AI5)-COLUMN($C$5)+1)),"",$A$14-(WEEKDAY($A$14,1)-($A$6-1))-IF((WEEKDAY($A$14,1)-($A$6-1))<=0,7,0)+(ROW(AI5)-ROW($C$5))*7+(COLUMN(AI5)-COLUMN($C$5)+1)) | H43: =IF(K43=0,"",K43) | I43: =E43-D43 -> 0 | J43: =G43-F43 -> 0 | K43: =J43+I43 -> 0
B44: =B36-DAY(B36)+12-WEEKDAY(B36-DAY(B36)) -> 41431 | C44: =IF(MONTH($A$14)<>MONTH($A$14-(WEEKDAY($A$14,1)-($A$6-1))-IF((WEEKDAY($A$14,1)-($A$6-1))<=0,7,0)+(ROW(AJ5)-ROW($C$5))*7+(COLUMN(AJ5)-COLUMN($C$5)+1)),"",$A$14-(WEEKDAY($A$14,1)-($A$6-1))-IF((WEEKDAY($A$14,1)-($A$6-1))<=0,7,0)+(ROW(AJ5)-ROW($C$5))*7+(COLUMN(AJ5)-COLUMN($C$5)+1)) | D44: 0.375 | E44: 0.52083333 | F44: 0.58333333 | G44: 0.70833333 | H44: =K44 -> 0.27083333 | I44: =E44-D44 -> 0.14583333 | J44: =G44-F44 -> 0.125 | K44: =J44+I44 -> 0.27083333
B45: =B36-DAY(B36)+13-WEEKDAY(B36-DAY(B36)) -> 41432 | C45: =IF(MONTH($A$14)<>MONTH($A$14-(WEEKDAY($A$14,1)-($A$6-1))-IF((WEEKDAY($A$14,1)-($A$6-1))<=0,7,0)+(ROW(AK5)-ROW($C$5))*7+(COLUMN(AK5)-COLUMN($C$5)+1)),"",$A$14-(WEEKDAY($A$14,1)-($A$6-1))-IF((WEEKDAY($A$14,1)-($A$6-1))<=0,7,0)+(ROW(AK5)-ROW($C$5))*7+(COLUMN(AK5)-COLUMN($C$5)+1)) | D45: 0.375 | E45: 0.52083333 | H45: =K45 -> 0.14583333 | I45: =E45-D45 -> 0.14583333 | J45: =G45-F45 -> 0 | K45: =J45+I45 -> 0.14583333
B46: =B36-DAY(B36)+14-WEEKDAY(B36-DAY(B36)) -> 41433 | C46: =IF(MONTH($A$14)<>MONTH($A$14-(WEEKDAY($A$14,1)-($A$6-1))-IF((WEEKDAY($A$14,1)-($A$6-1))<=0,7,0)+(ROW(AL5)-ROW($C$5))*7+(COLUMN(AL5)-COLUMN($C$5)+1)),"",$A$14-(WEEKDAY($A$14,1)-($A$6-1))-IF((WEEKDAY($A$14,1)-($A$6-1))<=0,7,0)+(ROW(AL5)-ROW($C$5))*7+(COLUMN(AL5)-COLUMN($C$5)+1)) | H46: =IF(K46=0,"",K46) | I46: =E46-D46 -> 0 | J46: =G46-F46 -> 0 | K46: =J46+I46 -> 0
B47: =B36-DAY(B36)+15-WEEKDAY(B36-DAY(B36)) -> 41434 | C47: =IF(MONTH($A$14)<>MONTH($A$14-(WEEKDAY($A$14,1)-($A$6-1))-IF((WEEKDAY($A$14,1)-($A$6-1))<=0,7,0)+(ROW(AM5)-ROW($C$5))*7+(COLUMN(AM5)-COLUMN($C$5)+1)),"",$A$14-(WEEKDAY($A$14,1)-($A$6-1))-IF((WEEKDAY($A$14,1)-($A$6-1))<=0,7,0)+(ROW(AM5)-ROW($C$5))*7+(COLUMN(AM5)-COLUMN($C$5)+1)) | H47: =IF(K47=0,"",K47) | I47: =E47-D47 -> 0 | J47: =G47-F47 -> 0 | K47: =J47+I47 -> 0
B48: TOTAL SEMAINE | H48: =K48 -> 0.83333333 | K48: =K41+K42+K43+K44+K45+K46+K47 -> 0.83333333
B49: Cumul mois | H49: =H12+H21+H30+H39+H48 -> 4.1666667
B50: Cumul Année | H50: =H49+Janvier!H49+Février!H49+Mars!H49+Avril!H49+Mai!H49 -> 14.75

Sheet Juillet
A1: =YEAR(B1) -> 2013 | B1: =DATE(Juin!A1,(Juin!A2)+1,1) -> 41456 | D1: MATIN | E1: MIDI | F1: APRES MIDI | G1: SOIR | H1: TOTAL
A2: =MONTH(B1) -> 7 | B2: =INT((C11-(DATE(YEAR(C11-WEEKDAY(C11-1)+4),1,3)-WEEKDAY(DATE(YEAR(C11-WEEKDAY(C11-1)+4),1,3)))+5)/7) -> 27 | D2: ="Semaine du "&TEXT(MIN(C5:C9,C5:C9),"jj")&" au "&TEXT(MAX(C5:C9,C5:C9),"jj mmmm aaaa") -> Semaine du 01 au 05 juillet 2013
C3: =IF(MONTH($A$14)<>MONTH($A$14-(WEEKDAY($A$14,1)-($A$6-1))-IF((WEEKDAY($A$14,1)-($A$6-1))<=0,7,0)+(ROW(C5)-ROW($C$5))*7+(COLUMN(C5)-COLUMN($C$5)+1)),"",$A$14-(WEEKDAY($A$14,1)-($A$6-1))-IF((WEEKDAY($A$14,1)-($A$6-1))<=0,7,0)+(ROW(C5)-ROW($C$5))*7+(COLUMN(C5)-COLUMN($C$5)+1))
C4: =IF(MONTH($A$14)<>MONTH($A$14-(WEEKDAY($A$14,1)-($A$6-1))-IF((WEEKDAY($A$14,1)-($A$6-1))<=0,7,0)+(ROW(D5)-ROW($C$5))*7+(COLUMN(D5)-COLUMN($C$5)+1)),"",$A$14-(WEEKDAY($A$14,1)-($A$6-1))-IF((WEEKDAY($A$14,1)-($A$6-1))<=0,7,0)+(ROW(D5)-ROW($C$5))*7+(COLUMN(D5)-COLUMN($C$5)+1))
A5: 7 | B5: =B1-DAY(B1)+9-WEEKDAY(B1-DAY(B1)) -> 41463 | C5: =IF(MONTH($A$14)<>MONTH($A$14-(WEEKDAY($A$14,1)-($A$6-1))-IF((WEEKDAY($A$14,1)-($A$6-1))<=0,7,0)+(ROW(E5)-ROW($C$5))*7+(COLUMN(E5)-COLUMN($C$5)+1)),"",$A$14-(WEEKDAY($A$14,1)-($A$6-1))-IF((WEEKDAY($A$14,1)-($A$6-1))<=0,7,0)+(ROW(E5)-ROW($C$5))*7+(COLUMN(E5)-COLUMN($C$5)+1)) -> 41456 | D5: 0.41666667 | E5: 0.52083333 | F5: 0.5625 | G5: 0.70833333 | H5: =K5 -> 0.25 | I5: =E5-D5 -> 0.10416667 | J5: =G5-F5 -> 0.14583333 | K5: =J5+I5 -> 0.25
A6: 7 | B6: =B1-DAY(B1)+10-WEEKDAY(B1-DAY(B1)) -> 41464 | C6: =IF(MONTH($A$14)<>MONTH($A$14-(WEEKDAY($A$14,1)-($A$6-1))-IF((WEEKDAY($A$14,1)-($A$6-1))<=0,7,0)+(ROW(F5)-ROW($C$5))*7+(COLUMN(F5)-COLUMN($C$5)+1)),"",$A$14-(WEEKDAY($A$14,1)-($A$6-1))-IF((WEEKDAY($A$14,1)-($A$6-1))<=0,7,0)+(ROW(F5)-ROW($C$5))*7+(COLUMN(F5)-COLUMN($C$5)+1)) -> 41457 | D6: 0.375 | E6: 0.52083333 | H6: =K6 -> 0.14583333 | I6: =E6-D6 -> 0.14583333 | J6: =G6-F6 -> 0 | K6: =J6+I6 -> 0.14583333
B7: =B1-DAY(B1)+11-WEEKDAY(B1-DAY(B1)) -> 41465 | C7: =IF(MONTH($A$14)<>MONTH($A$14-(WEEKDAY($A$14,1)-($A$6-1))-IF((WEEKDAY($A$14,1)-($A$6-1))<=0,7,0)+(ROW(G5)-ROW($C$5))*7+(COLUMN(G5)-COLUMN($C$5)+1)),"",$A$14-(WEEKDAY($A$14,1)-($A$6-1))-IF((WEEKDAY($A$14,1)-($A$6-1))<=0,7,0)+(ROW(G5)-ROW($C$5))*7+(COLUMN(G5)-COLUMN($C$5)+1)) -> 41458 | H7: =IF(K7=0,"",K7) | I7: =E7-D7 -> 0 | J7: =G7-F7 -> 0 | K7: =J7+I7 -> 0
B8: =B1-DAY(B1)+12-WEEKDAY(B1-DAY(B1)) -> 41466 | C8: =IF(MONTH($A$14)<>MONTH($A$14-(WEEKDAY($A$14,1)-($A$6-1))-IF((WEEKDAY($A$14,1)-($A$6-1))<=0,7,0)+(ROW(H5)-ROW($C$5))*7+(COLUMN(H5)-COLUMN($C$5)+1)),"",$A$14-(WEEKDAY($A$14,1)-($A$6-1))-IF((WEEKDAY($A$14,1)-($A$6-1))<=0,7,0)+(ROW(H5)-ROW($C$5))*7+(COLUMN(H5)-COLUMN($C$5)+1)) -> 41459 | D8: 0.375 | E8: 0.52083333 | F8: 0.5625 | G8: 0.70833333 | H8: =K8 -> 0.29166667 | I8: =E8-D8 -> 0.14583333 | J8: =G8-F8 -> 0.14583333 | K8: =J8+I8 -> 0.29166667
B9: =B1-DAY(B1)+13-WEEKDAY(B1-DAY(B1)) -> 41467 | C9: =IF(MONTH($A$14)<>MONTH($A$14-(WEEKDAY($A$14,1)-($A$6-1))-IF((WEEKDAY($A$14,1)-($A$6-1))<=0,7,0)+(ROW(I5)-ROW($C$5))*7+(COLUMN(I5)-COLUMN($C$5)+1)),"",$A$14-(WEEKDAY($A$14,1)-($A$6-1))-IF((WEEKDAY($A$14,1)-($A$6-1))<=0,7,0)+(ROW(I5)-ROW($C$5))*7+(COLUMN(I5)-COLUMN($C$5)+1)) -> 41460 | D9: 0.375 | E9: 0.52083333 | H9: =K9 -> 0.14583333 | I9: =E9-D9 -> 0.14583333 | J9: =G9-F9 -> 0 | K9: =J9+I9 -> 0.14583333
B10: =B1-DAY(B1)+14-WEEKDAY(B1-DAY(B1)) -> 41468 | C10: =IF(MONTH($A$14)<>MONTH($A$14-(WEEKDAY($A$14,1)-($A$6-1))-IF((WEEKDAY($A$14,1)-($A$6-1))<=0,7,0)+(ROW(J5)-ROW($C$5))*7+(COLUMN(J5)-COLUMN($C$5)+1)),"",$A$14-(WEEKDAY($A$14,1)-($A$6-1))-IF((WEEKDAY($A$14,1)-($A$6-1))<=0,7,0)+(ROW(J5)-ROW($C$5))*7+(COLUMN(J5)-COLUMN($C$5)+1)) -> 41461 | H10: =IF(K10=0,"",K10) | I10: =E10-D10 -> 0 | J10: =G10-F10 -> 0 | K10: =J10+I10 -> 0
B11: =B1-DAY(B1)+15-WEEKDAY(B1-DAY(B1)) -> 41469 | C11: =IF(MONTH($A$14)<>MONTH($A$14-(WEEKDAY($A$14,1)-($A$6-1))-IF((WEEKDAY($A$14,1)-($A$6-1))<=0,7,0)+(ROW(K5)-ROW($C$5))*7+(COLUMN(K5)-COLUMN($C$5)+1)),"",$A$14-(WEEKDAY($A$14,1)-($A$6-1))-IF((WEEKDAY($A$14,1)-($A$6-1))<=0,7,0)+(ROW(K5)-ROW($C$5))*7+(COLUMN(K5)-COLUMN($C$5)+1)) -> 41462 | H11: =IF(K11=0,"",K11) | I11: =E11-D11 -> 0 | J11: =G11-F11 -> 0 | K11: =J11+I11 -> 0
B12: TOTAL SEMAINE | H12: =K12 -> 0.83333333 | K12: =K5+K6+K7+K8+K9+K10+K11 -> 0.83333333
B13: =INT((C20-(DATE(YEAR(C20-WEEKDAY(C20-1)+4),1,3)-WEEKDAY(DATE(YEAR(C20-WEEKDAY(C20-1)+4),1,3)))+5)/7) -> 28 | D13: ="Semaine du "&TEXT(MIN(C14:C18,C14:C18),"jj")&" au "&TEXT(MAX(C14:C18,C14:C18),"jj mmmm aaaa") -> Semaine du 08 au 12 juillet 2013
A14: =DATE(A1,A2,1) -> 41456 | B14: =B10-DAY(B10)+9-WEEKDAY(B10-DAY(B10)) -> 41463 | C14: =IF(MONTH($A$14)<>MONTH($A$14-(WEEKDAY($A$14,1)-($A$6-1))-IF((WEEKDAY($A$14,1)-($A$6-1))<=0,7,0)+(ROW(L5)-ROW($C$5))*7+(COLUMN(L5)-COLUMN($C$5)+1)),"",$A$14-(WEEKDAY($A$14,1)-($A$6-1))-IF((WEEKDAY($A$14,1)-($A$6-1))<=0,7,0)+(ROW(L5)-ROW($C$5))*7+(COLUMN(L5)-COLUMN($C$5)+1)) -> 41463 | D14: 0.41666667 | E14: 0.52083333 | F14: 0.5625 | G14: 0.70833333 | H14: =K14 -> 0.25 | I14: =E14-D14 -> 0.10416667 | J14: =G14-F14 -> 0.14583333 | K14: =J14+I14 -> 0.25
B15: =B10-DAY(B10)+10-WEEKDAY(B10-DAY(B10)) -> 41464 | C15: =IF(MONTH($A$14)<>MONTH($A$14-(WEEKDAY($A$14,1)-($A$6-1))-IF((WEEKDAY($A$14,1)-($A$6-1))<=0,7,0)+(ROW(M5)-ROW($C$5))*7+(COLUMN(M5)-COLUMN($C$5)+1)),"",$A$14-(WEEKDAY($A$14,1)-($A$6-1))-IF((WEEKDAY($A$14,1)-($A$6-1))<=0,7,0)+(ROW(M5)-ROW($C$5))*7+(COLUMN(M5)-COLUMN($C$5)+1)) -> 41464 | D15: 0.375 | E15: 0.52083333 | H15: =K15 -> 0.14583333 | I15: =E15-D15 -> 0.14583333 | J15: =G15-F15 -> 0 | K15: =J15+I15 -> 0.14583333
B16: =B10-DAY(B10)+11-WEEKDAY(B10-DAY(B10)) -> 41465 | C16: =IF(MONTH($A$14)<>MONTH($A$14-(WEEKDAY($A$14,1)-($A$6-1))-IF((WEEKDAY($A$14,1)-($A$6-1))<=0,7,0)+(ROW(N5)-ROW($C$5))*7+(COLUMN(N5)-COLUMN($C$5)+1)),"",$A$14-(WEEKDAY($A$14,1)-($A$6-1))-IF((WEEKDAY($A$14,1)-($A$6-1))<=0,7,0)+(ROW(N5)-ROW($C$5))*7+(COLUMN(N5)-COLUMN($C$5)+1)) -> 41465 | H16: =IF(K16=0,"",K16) | I16: =E16-D16 -> 0 | J16: =G16-F16 -> 0 | K16: =J16+I16 -> 0
B17: =B10-DAY(B10)+12-WEEKDAY(B10-DAY(B10)) -> 41466 | C17: =IF(MONTH($A$14)<>MONTH($A$14-(WEEKDAY($A$14,1)-($A$6-1))-IF((WEEKDAY($A$14,1)-($A$6-1))<=0,7,0)+(ROW(O5)-ROW($C$5))*7+(COLUMN(O5)-COLUMN($C$5)+1)),"",$A$14-(WEEKDAY($A$14,1)-($A$6-1))-IF((WEEKDAY($A$14,1)-($A$6-1))<=0,7,0)+(ROW(O5)-ROW($C$5))*7+(COLUMN(O5)-COLUMN($C$5)+1)) -> 41466 | D17: 0.375 | E17: 0.52083333 | F17: 0.5625 | G17: 0.70833333 | H17: =K17 -> 0.29166667 | I17: =E17-D17 -> 0.14583333 | J17: =G17-F17 -> 0.14583333 | K17: =J17+I17 -> 0.29166667
B18: =B10-DAY(B10)+13-WEEKDAY(B10-DAY(B10)) -> 41467 | C18: =IF(MONTH($A$14)<>MONTH($A$14-(WEEKDAY($A$14,1)-($A$6-1))-IF((WEEKDAY($A$14,1)-($A$6-1))<=0,7,0)+(ROW(P5)-ROW($C$5))*7+(COLUMN(P5)-COLUMN($C$5)+1)),"",$A$14-(WEEKDAY($A$14,1)-($A$6-1))-IF((WEEKDAY($A$14,1)-($A$6-1))<=0,7,0)+(ROW(P5)-ROW($C$5))*7+(COLUMN(P5)-COLUMN($C$5)+1)) -> 41467 | D18: 0.375 | E18: 0.52083333 | H18: =K18 -> 0.14583333 | I18: =E18-D18 -> 0.14583333 | J18: =G18-F18 -> 0 | K18: =J18+I18 -> 0.14583333
B19: =B10-DAY(B10)+14-WEEKDAY(B10-DAY(B10)) -> 41468 | C19: =IF(MONTH($A$14)<>MONTH($A$14-(WEEKDAY($A$14,1)-($A$6-1))-IF((WEEKDAY($A$14,1)-($A$6-1))<=0,7,0)+(ROW(Q5)-ROW($C$5))*7+(COLUMN(Q5)-COLUMN($C$5)+1)),"",$A$14-(WEEKDAY($A$14,1)-($A$6-1))-IF((WEEKDAY($A$14,1)-($A$6-1))<=0,7,0)+(ROW(Q5)-ROW($C$5))*7+(COLUMN(Q5)-COLUMN($C$5)+1)) -> 41468 | H19: =IF(K19=0,"",K19) | I19: =E19-D19 -> 0 | J19: =G19-F19 -> 0 | K19: =J19+I19 -> 0
B20: =B10-DAY(B10)+15-WEEKDAY(B10-DAY(B10)) -> 41469 | C20: =IF(MONTH($A$14)<>MONTH($A$14-(WEEKDAY($A$14,1)-($A$6-1))-IF((WEEKDAY($A$14,1)-($A$6-1))<=0,7,0)+(ROW(R5)-ROW($C$5))*7+(COLUMN(R5)-COLUMN($C$5)+1)),"",$A$14-(WEEKDAY($A$14,1)-($A$6-1))-IF((WEEKDAY($A$14,1)-($A$6-1))<=0,7,0)+(ROW(R5)-ROW($C$5))*7+(COLUMN(R5)-COLUMN($C$5)+1)) -> 41469 | H20: =IF(K20=0,"",K20) | I20: =E20-D20 -> 0 | J20: =G20-F20 -> 0 | K20: =J20+I20 -> 0
B21: TOTAL SEMAINE | H21: =K21 -> 0.83333333 | K21: =K14+K15+K16+K17+K18+K19+K20 -> 0.83333333
B22: =INT((C29-(DATE(YEAR(C29-WEEKDAY(C29-1)+4),1,3)-WEEKDAY(DATE(YEAR(C29-WEEKDAY(C29-1)+4),1,3)))+5)/7) -> 29 | D22: ="Semaine du "&TEXT(MIN(C23:C27,C23:C27),"jj")&" au "&TEXT(MAX(C23:C27,C23:C27),"jj mmmm aaaa") -> Semaine du 15 au 19 juillet 2013
B23: =B18-DAY(B18)+9-WEEKDAY(B18-DAY(B18)) -> 41463 | C23: =IF(MONTH($A$14)<>MONTH($A$14-(WEEKDAY($A$14,1)-($A$6-1))-IF((WEEKDAY($A$14,1)-($A$6-1))<=0,7,0)+(ROW(S5)-ROW($C$5))*7+(COLUMN(S5)-COLUMN($C$5)+1)),"",$A$14-(WEEKDAY($A$14,1)-($A$6-1))-IF((WEEKDAY($A$14,1)-($A$6-1))<=0,7,0)+(ROW(S5)-ROW($C$5))*7+(COLUMN(S5)-COLUMN($C$5)+1)) -> 41470 | D23: 0.41666667 | E23: 0.52083333 | F23: 0.5625 | G23: 0.70833333 | H23: =K23 -> 0.25 | I23: =E23-D23 -> 0.10416667 | J23: =G23-F23 -> 0.14583333 | K23: =J23+I23 -> 0.25
B24: =B18-DAY(B18)+10-WEEKDAY(B18-DAY(B18)) -> 41464 | C24: =IF(MONTH($A$14)<>MONTH($A$14-(WEEKDAY($A$14,1)-($A$6-1))-IF((WEEKDAY($A$14,1)-($A$6-1))<=0,7,0)+(ROW(T5)-ROW($C$5))*7+(COLUMN(T5)-COLUMN($C$5)+1)),"",$A$14-(WEEKDAY($A$14,1)-($A$6-1))-IF((WEEKDAY($A$14,1)-($A$6-1))<=0,7,0)+(ROW(T5)-ROW($C$5))*7+(COLUMN(T5)-COLUMN($C$5)+1)) -> 41471 | D24: 0.375 | E24: 0.52083333 | H24: =K24 -> 0.14583333 | I24: =E24-D24 -> 0.14583333 | J24: =G24-F24 -> 0 | K24: =J24+I24 -> 0.14583333
B25: =B18-DAY(B18)+11-WEEKDAY(B18-DAY(B18)) -> 41465 | C25: =IF(MONTH($A$14)<>MONTH($A$14-(WEEKDAY($A$14,1)-($A$6-1))-IF((WEEKDAY($A$14,1)-($A$6-1))<=0,7,0)+(ROW(U5)-ROW($C$5))*7+(COLUMN(U5)-COLUMN($C$5)+1)),"",$A$14-(WEEKDAY($A$14,1)-($A$6-1))-IF((WEEKDAY($A$14,1)-($A$6-1))<=0,7,0)+(ROW(U5)-ROW($C$5))*7+(COLUMN(U5)-COLUMN($C$5)+1)) -> 41472 | H25: =IF(K25=0,"",K25) | I25: =E25-D25 -> 0 | J25: =G25-F25 -> 0 | K25: =J25+I25 -> 0
B26: =B18-DAY(B18)+12-WEEKDAY(B18-DAY(B18)) -> 41466 | C26: =IF(MONTH($A$14)<>MONTH($A$14-(WEEKDAY($A$14,1)-($A$6-1))-IF((WEEKDAY($A$14,1)-($A$6-1))<=0,7,0)+(ROW(V5)-ROW($C$5))*7+(COLUMN(V5)-COLUMN($C$5)+1)),"",$A$14-(WEEKDAY($A$14,1)-($A$6-1))-IF((WEEKDAY($A$14,1)-($A$6-1))<=0,7,0)+(ROW(V5)-ROW($C$5))*7+(COLUMN(V5)-COLUMN($C$5)+1)) -> 41473 | D26: 0.375 | E26: 0.52083333 | F26: 0.5625 | G26: 0.70833333 | H26: =K26 -> 0.29166667 | I26: =E26-D26 -> 0.14583333 | J26: =G26-F26 -> 0.14583333 | K26: =J26+I26 -> 0.29166667
B27: =B18-DAY(B18)+13-WEEKDAY(B18-DAY(B18)) -> 41467 | C27: =IF(MONTH($A$14)<>MONTH($A$14-(WEEKDAY($A$14,1)-($A$6-1))-IF((WEEKDAY($A$14,1)-($A$6-1))<=0,7,0)+(ROW(W5)-ROW($C$5))*7+(COLUMN(W5)-COLUMN($C$5)+1)),"",$A$14-(WEEKDAY($A$14,1)-($A$6-1))-IF((WEEKDAY($A$14,1)-($A$6-1))<=0,7,0)+(ROW(W5)-ROW($C$5))*7+(COLUMN(W5)-COLUMN($C$5)+1)) -> 41474 | D27: 0.375 | E27: 0.52083333 | H27: =K27 -> 0.14583333 | I27: =E27-D27 -> 0.14583333 | J27: =G27-F27 -> 0 | K27: =J27+I27 -> 0.14583333
B28: =B18-DAY(B18)+14-WEEKDAY(B18-DAY(B18)) -> 41468 | C28: =IF(MONTH($A$14)<>MONTH($A$14-(WEEKDAY($A$14,1)-($A$6-1))-IF((WEEKDAY($A$14,1)-($A$6-1))<=0,7,0)+(ROW(X5)-ROW($C$5))*7+(COLUMN(X5)-COLUMN($C$5)+1)),"",$A$14-(WEEKDAY($A$14,1)-($A$6-1))-IF((WEEKDAY($A$14,1)-($A$6-1))<=0,7,0)+(ROW(X5)-ROW($C$5))*7+(COLUMN(X5)-COLUMN($C$5)+1)) -> 41475 | H28: =IF(K28=0,"",K28) | I28: =E28-D28 -> 0 | J28: =G28-F28 -> 0 | K28: =J28+I28 -> 0
B29: =B18-DAY(B18)+15-WEEKDAY(B18-DAY(B18)) -> 41469 | C29: =IF(MONTH($A$14)<>MONTH($A$14-(WEEKDAY($A$14,1)-($A$6-1))-IF((WEEKDAY($A$14,1)-($A$6-1))<=0,7,0)+(ROW(Y5)-ROW($C$5))*7+(COLUMN(Y5)-COLUMN($C$5)+1)),"",$A$14-(WEEKDAY($A$14,1)-($A$6-1))-IF((WEEKDAY($A$14,1)-($A$6-1))<=0,7,0)+(ROW(Y5)-ROW($C$5))*7+(COLUMN(Y5)-COLUMN($C$5)+1)) -> 41476 | H29: =IF(K29=0,"",K29) | I29: =E29-D29 -> 0 | J29: =G29-F29 -> 0 | K29: =J29+I29 -> 0
B30: TOTAL SEMAINE | H30: =K30 -> 0.83333333 | K30: =K23+K24+K25+K26+K27+K28+K29 -> 0.83333333
B31: =INT((C38-(DATE(YEAR(C38-WEEKDAY(C38-1)+4),1,3)-WEEKDAY(DATE(YEAR(C38-WEEKDAY(C38-1)+4),1,3)))+5)/7) -> 30 | D31: ="Semaine du "&TEXT(MIN(C32:C36,C32:C36),"jj")&" au "&TEXT(MAX(C32:C36,C32:C36),"jj mmmm aaaa") -> Semaine du 22 au 26 juillet 2013
B32: =B27-DAY(B27)+9-WEEKDAY(B27-DAY(B27)) -> 41463 | C32: =IF(MONTH($A$14)<>MONTH($A$14-(WEEKDAY($A$14,1)-($A$6-1))-IF((WEEKDAY($A$14,1)-($A$6-1))<=0,7,0)+(ROW(Z5)-ROW($C$5))*7+(COLUMN(Z5)-COLUMN($C$5)+1)),"",$A$14-(WEEKDAY($A$14,1)-($A$6-1))-IF((WEEKDAY($A$14,1)-($A$6-1))<=0,7,0)+(ROW(Z5)-ROW($C$5))*7+(COLUMN(Z5)-COLUMN($C$5)+1)) -> 41477 | D32: 0.375 | E32: 0.52083333 | F32: 0.58333333 | G32: 0.70833333 | H32: =K32 -> 0.27083333 | I32: =E32-D32 -> 0.14583333 | J32: =G32-F32 -> 0.125 | K32: =J32+I32 -> 0.27083333
B33: =B27-DAY(B27)+10-WEEKDAY(B27-DAY(B27)) -> 41464 | C33: =IF(MONTH($A$14)<>MONTH($A$14-(WEEKDAY($A$14,1)-($A$6-1))-IF((WEEKDAY($A$14,1)-($A$6-1))<=0,7,0)+(ROW(AA5)-ROW($C$5))*7+(COLUMN(AA5)-COLUMN($C$5)+1)),"",$A$14-(WEEKDAY($A$14,1)-($A$6-1))-IF((WEEKDAY($A$14,1)-($A$6-1))<=0,7,0)+(ROW(AA5)-ROW($C$5))*7+(COLUMN(AA5)-COLUMN($C$5)+1)) -> 41478 | D33: 0.375 | E33: 0.52083333 | H33: =K33 -> 0.14583333 | I33: =E33-D33 -> 0.14583333 | J33: =G33-F33 -> 0 | K33: =J33+I33 -> 0.14583333
B34: =B27-DAY(B27)+11-WEEKDAY(B27-DAY(B27)) -> 41465 | C34: =IF(MONTH($A$14)<>MONTH($A$14-(WEEKDAY($A$14,1)-($A$6-1))-IF((WEEKDAY($A$14,1)-($A$6-1))<=0,7,0)+(ROW(AB5)-ROW($C$5))*7+(COLUMN(AB5)-COLUMN($C$5)+1)),"",$A$14-(WEEKDAY($A$14,1)-($A$6-1))-IF((WEEKDAY($A$14,1)-($A$6-1))<=0,7,0)+(ROW(AB5)-ROW($C$5))*7+(COLUMN(AB5)-COLUMN($C$5)+1)) -> 41479 | H34: =IF(K34=0,"",K34) | I34: =E34-D34 -> 0 | J34: =G34-F34 -> 0 | K34: =J34+I34 -> 0
B35: =B27-DAY(B27)+12-WEEKDAY(B27-DAY(B27)) -> 41466 | C35: =IF(MONTH($A$14)<>MONTH($A$14-(WEEKDAY($A$14,1)-($A$6-1))-IF((WEEKDAY($A$14,1)-($A$6-1))<=0,7,0)+(ROW(AC5)-ROW($C$5))*7+(COLUMN(AC5)-COLUMN($C$5)+1)),"",$A$14-(WEEKDAY($A$14,1)-($A$6-1))-IF((WEEKDAY($A$14,1)-($A$6-1))<=0,7,0)+(ROW(AC5)-ROW($C$5))*7+(COLUMN(AC5)-COLUMN($C$5)+1)) -> 41480 | D35: 0.375 | E35: 0.52083333 | F35: 0.58333333 | G35: 0.70833333 | H35: =K35 -> 0.27083333 | I35: =E35-D35 -> 0.14583333 | J35: =G35-F35 -> 0.125 | K35: =J35+I35 -> 0.27083333
B36: =B27-DAY(B27)+13-WEEKDAY(B27-DAY(B27)) -> 41467 | C36: =IF(MONTH($A$14)<>MONTH($A$14-(WEEKDAY($A$14,1)-($A$6-1))-IF((WEEKDAY($A$14,1)-($A$6-1))<=0,7,0)+(ROW(AD5)-ROW($C$5))*7+(COLUMN(AD5)-COLUMN($C$5)+1)),"",$A$14-(WEEKDAY($A$14,1)-($A$6-1))-IF((WEEKDAY($A$14,1)-($A$6-1))<=0,7,0)+(ROW(AD5)-ROW($C$5))*7+(COLUMN(AD5)-COLUMN($C$5)+1)) -> 41481 | D36: 0.375 | E36: 0.52083333 | H36: =K36 -> 0.14583333 | I36: =E36-D36 -> 0.14583333 | J36: =G36-F36 -> 0 | K36: =J36+I36 -> 0.14583333
B37: =B27-DAY(B27)+14-WEEKDAY(B27-DAY(B27)) -> 41468 | C37: =IF(MONTH($A$14)<>MONTH($A$14-(WEEKDAY($A$14,1)-($A$6-1))-IF((WEEKDAY($A$14,1)-($A$6-1))<=0,7,0)+(ROW(AE5)-ROW($C$5))*7+(COLUMN(AE5)-COLUMN($C$5)+1)),"",$A$14-(WEEKDAY($A$14,1)-($A$6-1))-IF((WEEKDAY($A$14,1)-($A$6-1))<=0,7,0)+(ROW(AE5)-ROW($C$5))*7+(COLUMN(AE5)-COLUMN($C$5)+1)) -> 41482 | H37: =IF(K37=0,"",K37) | I37: =E37-D37 -> 0 | J37: =G37-F37 -> 0 | K37: =J37+I37 -> 0
B38: =B27-DAY(B27)+15-WEEKDAY(B27-DAY(B27)) -> 41469 | C38: =IF(MONTH($A$14)<>MONTH($A$14-(WEEKDAY($A$14,1)-($A$6-1))-IF((WEEKDAY($A$14,1)-($A$6-1))<=0,7,0)+(ROW(AF5)-ROW($C$5))*7+(COLUMN(AF5)-COLUMN($C$5)+1)),"",$A$14-(WEEKDAY($A$14,1)-($A$6-1))-IF((WEEKDAY($A$14,1)-($A$6-1))<=0,7,0)+(ROW(AF5)-ROW($C$5))*7+(COLUMN(AF5)-COLUMN($C$5)+1)) -> 41483 | H38: =IF(K38=0,"",K38) | I38: =E38-D38 -> 0 | J38: =G38-F38 -> 0 | K38: =J38+I38 -> 0
B39: TOTAL SEMAINE | H39: =K39 -> 0.83333333 | K39: =K32+K33+K34+K35+K36+K37+K38 -> 0.83333333
B40: =INT((C41-(DATE(YEAR(C41-WEEKDAY(C41-1)+4),1,3)-WEEKDAY(DATE(YEAR(C41-WEEKDAY(C41-1)+4),1,3)))+5)/7) -> 31 | D40: ="Semaine du "&TEXT(MIN(C41:C45,C41:C45),"jj")&" au "&TEXT(MAX(C41:C45,C41:C45),"jj mmmm aaaa") -> Semaine du 29 au 31 juillet 2013
B41: =B36-DAY(B36)+9-WEEKDAY(B36-DAY(B36)) -> 41463 | C41: =IF(MONTH($A$14)<>MONTH($A$14-(WEEKDAY($A$14,1)-($A$6-1))-IF((WEEKDAY($A$14,1)-($A$6-1))<=0,7,0)+(ROW(AG5)-ROW($C$5))*7+(COLUMN(AG5)-COLUMN($C$5)+1)),"",$A$14-(WEEKDAY($A$14,1)-($A$6-1))-IF((WEEKDAY($A$14,1)-($A$6-1))<=0,7,0)+(ROW(AG5)-ROW($C$5))*7+(COLUMN(AG5)-COLUMN($C$5)+1)) -> 41484 | D41: 0.375 | E41: 0.52083333 | F41: 0.58333333 | G41: 0.70833333 | H41: =K41 -> 0.27083333 | I41: =E41-D41 -> 0.14583333 | J41: =G41-F41 -> 0.125 | K41: =J41+I41 -> 0.27083333
B42: =B36-DAY(B36)+10-WEEKDAY(B36-DAY(B36)) -> 41464 | C42: =IF(MONTH($A$14)<>MONTH($A$14-(WEEKDAY($A$14,1)-($A$6-1))-IF((WEEKDAY($A$14,1)-($A$6-1))<=0,7,0)+(ROW(AH5)-ROW($C$5))*7+(COLUMN(AH5)-COLUMN($C$5)+1)),"",$A$14-(WEEKDAY($A$14,1)-($A$6-1))-IF((WEEKDAY($A$14,1)-($A$6-1))<=0,7,0)+(ROW(AH5)-ROW($C$5))*7+(COLUMN(AH5)-COLUMN($C$5)+1)) -> 41485 | D42: 0.375 | E42: 0.52083333 | H42: =K42 -> 0.14583333 | I42: =E42-D42 -> 0.14583333 | J42: =G42-F42 -> 0 | K42: =J42+I42 -> 0.14583333
B43: =B36-DAY(B36)+11-WEEKDAY(B36-DAY(B36)) -> 41465 | C43: =IF(MONTH($A$14)<>MONTH($A$14-(WEEKDAY($A$14,1)-($A$6-1))-IF((WEEKDAY($A$14,1)-($A$6-1))<=0,7,0)+(ROW(AI5)-ROW($C$5))*7+(COLUMN(AI5)-COLUMN($C$5)+1)),"",$A$14-(WEEKDAY($A$14,1)-($A$6-1))-IF((WEEKDAY($A$14,1)-($A$6-1))<=0,7,0)+(ROW(AI5)-ROW($C$5))*7+(COLUMN(AI5)-COLUMN($C$5)+1)) -> 41486 | H43: =IF(K43=0,"",K43) | I43: =E43-D43 -> 0 | J43: =G43-F43 -> 0 | K43: =J43+I43 -> 0
B44: =B36-DAY(B36)+12-WEEKDAY(B36-DAY(B36)) -> 41466 | C44: =IF(MONTH($A$14)<>MONTH($A$14-(WEEKDAY($A$14,1)-($A$6-1))-IF((WEEKDAY($A$14,1)-($A$6-1))<=0,7,0)+(ROW(AJ5)-ROW($C$5))*7+(COLUMN(AJ5)-COLUMN($C$5)+1)),"",$A$14-(WEEKDAY($A$14,1)-($A$6-1))-IF((WEEKDAY($A$14,1)-($A$6-1))<=0,7,0)+(ROW(AJ5)-ROW($C$5))*7+(COLUMN(AJ5)-COLUMN($C$5)+1)) | D44: 0.375 | E44: 0.52083333 | F44: 0.58333333 | G44: 0.70833333 | H44: =K44 -> 0.27083333 | I44: =E44-D44 -> 0.14583333 | J44: =G44-F44 -> 0.125 | K44: =J44+I44 -> 0.27083333
B45: =B36-DAY(B36)+13-WEEKDAY(B36-DAY(B36)) -> 41467 | C45: =IF(MONTH($A$14)<>MONTH($A$14-(WEEKDAY($A$14,1)-($A$6-1))-IF((WEEKDAY($A$14,1)-($A$6-1))<=0,7,0)+(ROW(AK5)-ROW($C$5))*7+(COLUMN(AK5)-COLUMN($C$5)+1)),"",$A$14-(WEEKDAY($A$14,1)-($A$6-1))-IF((WEEKDAY($A$14,1)-($A$6-1))<=0,7,0)+(ROW(AK5)-ROW($C$5))*7+(COLUMN(AK5)-COLUMN($C$5)+1)) | D45: 0.375 | E45: 0.52083333 | H45: =K45 -> 0.14583333 | I45: =E45-D45 -> 0.14583333 | J45: =G45-F45 -> 0 | K45: =J45+I45 -> 0.14583333
B46: =B36-DAY(B36)+14-WEEKDAY(B36-DAY(B36)) -> 41468 | C46: =IF(MONTH($A$14)<>MONTH($A$14-(WEEKDAY($A$14,1)-($A$6-1))-IF((WEEKDAY($A$14,1)-($A$6-1))<=0,7,0)+(ROW(AL5)-ROW($C$5))*7+(COLUMN(AL5)-COLUMN($C$5)+1)),"",$A$14-(WEEKDAY($A$14,1)-($A$6-1))-IF((WEEKDAY($A$14,1)-($A$6-1))<=0,7,0)+(ROW(AL5)-ROW($C$5))*7+(COLUMN(AL5)-COLUMN($C$5)+1)) | H46: =IF(K46=0,"",K46) | I46: =E46-D46 -> 0 | J46: =G46-F46 -> 0 | K46: =J46+I46 -> 0
B47: =B36-DAY(B36)+15-WEEKDAY(B36-DAY(B36)) -> 41469 | C47: =IF(MONTH($A$14)<>MONTH($A$14-(WEEKDAY($A$14,1)-($A$6-1))-IF((WEEKDAY($A$14,1)-($A$6-1))<=0,7,0)+(ROW(AM5)-ROW($C$5))*7+(COLUMN(AM5)-COLUMN($C$5)+1)),"",$A$14-(WEEKDAY($A$14,1)-($A$6-1))-IF((WEEKDAY($A$14,1)-($A$6-1))<=0,7,0)+(ROW(AM5)-ROW($C$5))*7+(COLUMN(AM5)-COLUMN($C$5)+1)) | H47: =IF(K47=0,"",K47) | I47: =E47-D47 -> 0 | J47: =G47-F47 -> 0 | K47: =J47+I47 -> 0
B48: TOTAL SEMAINE | H48: =K48 -> 0.83333333 | K48: =K41+K42+K43+K44+K45+K46+K47 -> 0.83333333
B49: Cumul mois | H49: =H12+H21+H30+H39+H48 -> 4.1666667
B50: Cumul Année | H50: =H49+Janvier!H49+Février!H49+Mars!H49+Avril!H49+Mai!H49+Juin!H49 -> 18.916667

Sheet Août
A1: =YEAR(B1) -> 2013 | B1: =DATE(Juillet!A1,(Juillet!A2)+1,1) -> 41487 | D1: MATIN | E1: MIDI | F1: APRES MIDI | G1: SOIR | H1: TOTAL
A2: =MONTH(B1) -> 8 | B2: =INT((C11-(DATE(YEAR(C11-WEEKDAY(C11-1)+4),1,3)-WEEKDAY(DATE(YEAR(C11-WEEKDAY(C11-1)+4),1,3)))+5)/7) -> 31 | D2: ="Semaine du "&TEXT(MIN(C5:C9,C5:C9),"jj")&" au "&TEXT(MAX(C5:C9,C5:C9),"jj mmmm aaaa") -> Semaine du 01 au 02 août 2013
C3: =IF(MONTH($A$14)<>MONTH($A$14-(WEEKDAY($A$14,1)-($A$6-1))-IF((WEEKDAY($A$14,1)-($A$6-1))<=0,7,0)+(ROW(C5)-ROW($C$5))*7+(COLUMN(C5)-COLUMN($C$5)+1)),"",$A$14-(WEEKDAY($A$14,1)-($A$6-1))-IF((WEEKDAY($A$14,1)-($A$6-1))<=0,7,0)+(ROW(C5)-ROW($C$5))*7+(COLUMN(C5)-COLUMN($C$5)+1))
C4: =IF(MONTH($A$14)<>MONTH($A$14-(WEEKDAY($A$14,1)-($A$6-1))-IF((WEEKDAY($A$14,1)-($A$6-1))<=0,7,0)+(ROW(D5)-ROW($C$5))*7+(COLUMN(D5)-COLUMN($C$5)+1)),"",$A$14-(WEEKDAY($A$14,1)-($A$6-1))-IF((WEEKDAY($A$14,1)-($A$6-1))<=0,7,0)+(ROW(D5)-ROW($C$5))*7+(COLUMN(D5)-COLUMN($C$5)+1))
A5: 7 | B5: =B1-DAY(B1)+9-WEEKDAY(B1-DAY(B1)) -> 41491 | C5: =IF(MONTH($A$14)<>MONTH($A$14-(WEEKDAY($A$14,1)-($A$6-1))-IF((WEEKDAY($A$14,1)-($A$6-1))<=0,7,0)+(ROW(E5)-ROW($C$5))*7+(COLUMN(E5)-COLUMN($C$5)+1)),"",$A$14-(WEEKDAY($A$14,1)-($A$6-1))-IF((WEEKDAY($A$14,1)-($A$6-1))<=0,7,0)+(ROW(E5)-ROW($C$5))*7+(COLUMN(E5)-COLUMN($C$5)+1)) | D5: 0.41666667 | E5: 0.52083333 | F5: 0.5625 | G5: 0.70833333 | H5: =K5 -> 0.25 | I5: =E5-D5 -> 0.10416667 | J5: =G5-F5 -> 0.14583333 | K5: =J5+I5 -> 0.25
A6: 7 | B6: =B1-DAY(B1)+10-WEEKDAY(B1-DAY(B1)) -> 41492 | C6: =IF(MONTH($A$14)<>MONTH($A$14-(WEEKDAY($A$14,1)-($A$6-1))-IF((WEEKDAY($A$14,1)-($A$6-1))<=0,7,0)+(ROW(F5)-ROW($C$5))*7+(COLUMN(F5)-COLUMN($C$5)+1)),"",$A$14-(WEEKDAY($A$14,1)-($A$6-1))-IF((WEEKDAY($A$14,1)-($A$6-1))<=0,7,0)+(ROW(F5)-ROW($C$5))*7+(COLUMN(F5)-COLUMN($C$5)+1)) | D6: 0.375 | E6: 0.52083333 | H6: =K6 -> 0.14583333 | I6: =E6-D6 -> 0.14583333 | J6: =G6-F6 -> 0 | K6: =J6+I6 -> 0.14583333
B7: =B1-DAY(B1)+11-WEEKDAY(B1-DAY(B1)) -> 41493 | C7: =IF(MONTH($A$14)<>MONTH($A$14-(WEEKDAY($A$14,1)-($A$6-1))-IF((WEEKDAY($A$14,1)-($A$6-1))<=0,7,0)+(ROW(G5)-ROW($C$5))*7+(COLUMN(G5)-COLUMN($C$5)+1)),"",$A$14-(WEEKDAY($A$14,1)-($A$6-1))-IF((WEEKDAY($A$14,1)-($A$6-1))<=0,7,0)+(ROW(G5)-ROW($C$5))*7+(COLUMN(G5)-COLUMN($C$5)+1)) | H7: =IF(K7=0,"",K7) | I7: =E7-D7 -> 0 | J7: =G7-F7 -> 0 | K7: =J7+I7 -> 0
B8: =B1-DAY(B1)+12-WEEKDAY(B1-DAY(B1)) -> 41494 | C8: =IF(MONTH($A$14)<>MONTH($A$14-(WEEKDAY($A$14,1)-($A$6-1))-IF((WEEKDAY($A$14,1)-($A$6-1))<=0,7,0)+(ROW(H5)-ROW($C$5))*7+(COLUMN(H5)-COLUMN($C$5)+1)),"",$A$14-(WEEKDAY($A$14,1)-($A$6-1))-IF((WEEKDAY($A$14,1)-($A$6-1))<=0,7,0)+(ROW(H5)-ROW($C$5))*7+(COLUMN(H5)-COLUMN($C$5)+1)) -> 41487 | D8: 0.375 | E8: 0.52083333 | F8: 0.5625 | G8: 0.70833333 | H8: =K8 -> 0.29166667 | I8: =E8-D8 -> 0.14583333 | J8: =G8-F8 -> 0.14583333 | K8: =J8+I8 -> 0.29166667
B9: =B1-DAY(B1)+13-WEEKDAY(B1-DAY(B1)) -> 41495 | C9: =IF(MONTH($A$14)<>MONTH($A$14-(WEEKDAY($A$14,1)-($A$6-1))-IF((WEEKDAY($A$14,1)-($A$6-1))<=0,7,0)+(ROW(I5)-ROW($C$5))*7+(COLUMN(I5)-COLUMN($C$5)+1)),"",$A$14-(WEEKDAY($A$14,1)-($A$6-1))-IF((WEEKDAY($A$14,1)-($A$6-1))<=0,7,0)+(ROW(I5)-ROW($C$5))*7+(COLUMN(I5)-COLUMN($C$5)+1)) -> 41488 | D9: 0.375 | E9: 0.52083333 | H9: =K9 -> 0.14583333 | I9: =E9-D9 -> 0.14583333 | J9: =G9-F9 -> 0 | K9: =J9+I9 -> 0.14583333
B10: =B1-DAY(B1)+14-WEEKDAY(B1-DAY(B1)) -> 41496 | C10: =IF(MONTH($A$14)<>MONTH($A$14-(WEEKDAY($A$14,1)-($A$6-1))-IF((WEEKDAY($A$14,1)-($A$6-1))<=0,7,0)+(ROW(J5)-ROW($C$5))*7+(COLUMN(J5)-COLUMN($C$5)+1)),"",$A$14-(WEEKDAY($A$14,1)-($A$6-1))-IF((WEEKDAY($A$14,1)-($A$6-1))<=0,7,0)+(ROW(J5)-ROW($C$5))*7+(COLUMN(J5)-COLUMN($C$5)+1)) -> 41489 | H10: =IF(K10=0,"",K10) | I10: =E10-D10 -> 0 | J10: =G10-F10 -> 0 | K10: =J10+I10 -> 0
B11: =B1-DAY(B1)+15-WEEKDAY(B1-DAY(B1)) -> 41497 | C11: =IF(MONTH($A$14)<>MONTH($A$14-(WEEKDAY($A$14,1)-($A$6-1))-IF((WEEKDAY($A$14,1)-($A$6-1))<=0,7,0)+(ROW(K5)-ROW($C$5))*7+(COLUMN(K5)-COLUMN($C$5)+1)),"",$A$14-(WEEKDAY($A$14,1)-($A$6-1))-IF((WEEKDAY($A$14,1)-($A$6-1))<=0,7,0)+(ROW(K5)-ROW($C$5))*7+(COLUMN(K5)-COLUMN($C$5)+1)) -> 41490 | H11: =IF(K11=0,"",K11) | I11: =E11-D11 -> 0 | J11: =G11-F11 -> 0 | K11: =J11+I11 -> 0
B12: TOTAL SEMAINE | H12: =K12 -> 0.83333333 | K12: =K5+K6+K7+K8+K9+K10+K11 -> 0.83333333
B13: =INT((C20-(DATE(YEAR(C20-WEEKDAY(C20-1)+4),1,3)-WEEKDAY(DATE(YEAR(C20-WEEKDAY(C20-1)+4),1,3)))+5)/7) -> 32 | D13: ="Semaine du "&TEXT(MIN(C14:C18,C14:C18),"jj")&" au "&TEXT(MAX(C14:C18,C14:C18),"jj mmmm aaaa") -> Semaine du 05 au 09 août 2013
A14: =DATE(A1,A2,1) -> 41487 | B14: =B10-DAY(B10)+9-WEEKDAY(B10-DAY(B10)) -> 41491 | C14: =IF(MONTH($A$14)<>MONTH($A$14-(WEEKDAY($A$14,1)-($A$6-1))-IF((WEEKDAY($A$14,1)-($A$6-1))<=0,7,0)+(ROW(L5)-ROW($C$5))*7+(COLUMN(L5)-COLUMN($C$5)+1)),"",$A$14-(WEEKDAY($A$14,1)-($A$6-1))-IF((WEEKDAY($A$14,1)-($A$6-1))<=0,7,0)+(ROW(L5)-ROW($C$5))*7+(COLUMN(L5)-COLUMN($C$5)+1)) -> 41491 | D14: 0.41666667 | E14: 0.52083333 | F14: 0.5625 | G14: 0.70833333 | H14: =K14 -> 0.25 | I14: =E14-D14 -> 0.10416667 | J14: =G14-F14 -> 0.14583333 | K14: =J14+I14 -> 0.25
B15: =B10-DAY(B10)+10-WEEKDAY(B10-DAY(B10)) -> 41492 | C15: =IF(MONTH($A$14)<>MONTH($A$14-(WEEKDAY($A$14,1)-($A$6-1))-IF((WEEKDAY($A$14,1)-($A$6-1))<=0,7,0)+(ROW(M5)-ROW($C$5))*7+(COLUMN(M5)-COLUMN($C$5)+1)),"",$A$14-(WEEKDAY($A$14,1)-($A$6-1))-IF((WEEKDAY($A$14,1)-($A$6-1))<=0,7,0)+(ROW(M5)-ROW($C$5))*7+(COLUMN(M5)-COLUMN($C$5)+1)) -> 41492 | D15: 0.375 | E15: 0.52083333 | H15: =K15 -> 0.14583333 | I15: =E15-D15 -> 0.14583333 | J15: =G15-F15 -> 0 | K15: =J15+I15 -> 0.14583333
B16: =B10-DAY(B10)+11-WEEKDAY(B10-DAY(B10)) -> 41493 | C16: =IF(MONTH($A$14)<>MONTH($A$14-(WEEKDAY($A$14,1)-($A$6-1))-IF((WEEKDAY($A$14,1)-($A$6-1))<=0,7,0)+(ROW(N5)-ROW($C$5))*7+(COLUMN(N5)-COLUMN($C$5)+1)),"",$A$14-(WEEKDAY($A$14,1)-($A$6-1))-IF((WEEKDAY($A$14,1)-($A$6-1))<=0,7,0)+(ROW(N5)-ROW($C$5))*7+(COLUMN(N5)-COLUMN($C$5)+1)) -> 41493 | H16: =IF(K16=0,"",K16) | I16: =E16-D16 -> 0 | J16: =G16-F16 -> 0 | K16: =J16+I16 -> 0
B17: =B10-DAY(B10)+12-WEEKDAY(B10-DAY(B10)) -> 41494 | C17: =IF(MONTH($A$14)<>MONTH($A$14-(WEEKDAY($A$14,1)-($A$6-1))-IF((WEEKDAY($A$14,1)-($A$6-1))<=0,7,0)+(ROW(O5)-ROW($C$5))*7+(COLUMN(O5)-COLUMN($C$5)+1)),"",$A$14-(WEEKDAY($A$14,1)-($A$6-1))-IF((WEEKDAY($A$14,1)-($A$6-1))<=0,7,0)+(ROW(O5)-ROW($C$5))*7+(COLUMN(O5)-COLUMN($C$5)+1)) -> 41494 | D17: 0.375 | E17: 0.52083333 | F17: 0.5625 | G17: 0.70833333 | H17: =K17 -> 0.29166667 | I17: =E17-D17 -> 0.14583333 | J17: =G17-F17 -> 0.14583333 | K17: =J17+I17 -> 0.29166667
B18: =B10-DAY(B10)+13-WEEKDAY(B10-DAY(B10)) -> 41495 | C18: =IF(MONTH($A$14)<>MONTH($A$14-(WEEKDAY($A$14,1)-($A$6-1))-IF((WEEKDAY($A$14,1)-($A$6-1))<=0,7,0)+(ROW(P5)-ROW($C$5))*7+(COLUMN(P5)-COLUMN($C$5)+1)),"",$A$14-(WEEKDAY($A$14,1)-($A$6-1))-IF((WEEKDAY($A$14,1)-($A$6-1))<=0,7,0)+(ROW(P5)-ROW($C$5))*7+(COLUMN(P5)-COLUMN($C$5)+1)) -> 41495 | D18: 0.375 | E18: 0.52083333 | H18: =K18 -> 0.14583333 | I18: =E18-D18 -> 0.14583333 | J18: =G18-F18 -> 0 | K18: =J18+I18 -> 0.14583333
B19: =B10-DAY(B10)+14-WEEKDAY(B10-DAY(B10)) -> 41496 | C19: =IF(MONTH($A$14)<>MONTH($A$14-(WEEKDAY($A$14,1)-($A$6-1))-IF((WEEKDAY($A$14,1)-($A$6-1))<=0,7,0)+(ROW(Q5)-ROW($C$5))*7+(COLUMN(Q5)-COLUMN($C$5)+1)),"",$A$14-(WEEKDAY($A$14,1)-($A$6-1))-IF((WEEKDAY($A$14,1)-($A$6-1))<=0,7,0)+(ROW(Q5)-ROW($C$5))*7+(COLUMN(Q5)-COLUMN($C$5)+1)) -> 41496 | H19: =IF(K19=0,"",K19) | I19: =E19-D19 -> 0 | J19: =G19-F19 -> 0 | K19: =J19+I19 -> 0
B20: =B10-DAY(B10)+15-WEEKDAY(B10-DAY(B10)) -> 41497 | C20: =IF(MONTH($A$14)<>MONTH($A$14-(WEEKDAY($A$14,1)-($A$6-1))-IF((WEEKDAY($A$14,1)-($A$6-1))<=0,7,0)+(ROW(R5)-ROW($C$5))*7+(COLUMN(R5)-COLUMN($C$5)+1)),"",$A$14-(WEEKDAY($A$14,1)-($A$6-1))-IF((WEEKDAY($A$14,1)-($A$6-1))<=0,7,0)+(ROW(R5)-ROW($C$5))*7+(COLUMN(R5)-COLUMN($C$5)+1)) -> 41497 | H20: =IF(K20=0,"",K20) | I20: =E20-D20 -> 0 | J20: =G20-F20 -> 0 | K20: =J20+I20 -> 0
B21: TOTAL SEMAINE | H21: =K21 -> 0.83333333 | K21: =K14+K15+K16+K17+K18+K19+K20 -> 0.83333333
B22: =INT((C29-(DATE(YEAR(C29-WEEKDAY(C29-1)+4),1,3)-WEEKDAY(DATE(YEAR(C29-WEEKDAY(C29-1)+4),1,3)))+5)/7) -> 33 | D22: ="Semaine du "&TEXT(MIN(C23:C27,C23:C27),"jj")&" au "&TEXT(MAX(C23:C27,C23:C27),"jj mmmm aaaa") -> Semaine du 12 au 16 août 2013
B23: =B18-DAY(B18)+9-WEEKDAY(B18-DAY(B18)) -> 41491 | C23: =IF(MONTH($A$14)<>MONTH($A$14-(WEEKDAY($A$14,1)-($A$6-1))-IF((WEEKDAY($A$14,1)-($A$6-1))<=0,7,0)+(ROW(S5)-ROW($C$5))*7+(COLUMN(S5)-COLUMN($C$5)+1)),"",$A$14-(WEEKDAY($A$14,1)-($A$6-1))-IF((WEEKDAY($A$14,1)-($A$6-1))<=0,7,0)+(ROW(S5)-ROW($C$5))*7+(COLUMN(S5)-COLUMN($C$5)+1)) -> 41498 | D23: 0.41666667 | E23: 0.52083333 | F23: 0.5625 | G23: 0.70833333 | H23: =K23 -> 0.25 | I23: =E23-D23 -> 0.10416667 | J23: =G23-F23 -> 0.14583333 | K23: =J23+I23 -> 0.25
B24: =B18-DAY(B18)+10-WEEKDAY(B18-DAY(B18)) -> 41492 | C24: =IF(MONTH($A$14)<>MONTH($A$14-(WEEKDAY($A$14,1)-($A$6-1))-IF((WEEKDAY($A$14,1)-($A$6-1))<=0,7,0)+(ROW(T5)-ROW($C$5))*7+(COLUMN(T5)-COLUMN($C$5)+1)),"",$A$14-(WEEKDAY($A$14,1)-($A$6-1))-IF((WEEKDAY($A$14,1)-($A$6-1))<=0,7,0)+(ROW(T5)-ROW($C$5))*7+(COLUMN(T5)-COLUMN($C$5)+1)) -> 41499 | D24: 0.375 | E24: 0.52083333 | H24: =K24 -> 0.14583333 | I24: =E24-D24 -> 0.14583333 | J24: =G24-F24 -> 0 | K24: =J24+I24 -> 0.14583333
B25: =B18-DAY(B18)+11-WEEKDAY(B18-DAY(B18)) -> 41493 | C25: =IF(MONTH($A$14)<>MONTH($A$14-(WEEKDAY($A$14,1)-($A$6-1))-IF((WEEKDAY($A$14,1)-($A$6-1))<=0,7,0)+(ROW(U5)-ROW($C$5))*7+(COLUMN(U5)-COLUMN($C$5)+1)),"",$A$14-(WEEKDAY($A$14,1)-($A$6-1))-IF((WEEKDAY($A$14,1)-($A$6-1))<=0,7,0)+(ROW(U5)-ROW($C$5))*7+(COLUMN(U5)-COLUMN($C$5)+1)) -> 41500 | H25: =IF(K25=0,"",K25) | I25: =E25-D25 -> 0 | J25: =G25-F25 -> 0 | K25: =J25+I25 -> 0
B26: =B18-DAY(B18)+12-WEEKDAY(B18-DAY(B18)) -> 41494 | C26: =IF(MONTH($A$14)<>MONTH($A$14-(WEEKDAY($A$14,1)-($A$6-1))-IF((WEEKDAY($A$14,1)-($A$6-1))<=0,7,0)+(ROW(V5)-ROW($C$5))*7+(COLUMN(V5)-COLUMN($C$5)+1)),"",$A$14-(WEEKDAY($A$14,1)-($A$6-1))-IF((WEEKDAY($A$14,1)-($A$6-1))<=0,7,0)+(ROW(V5)-ROW($C$5))*7+(COLUMN(V5)-COLUMN($C$5)+1)) -> 41501 | D26: 0.375 | E26: 0.52083333 | F26: 0.5625 | G26: 0.70833333 | H26: =K26 -> 0.29166667 | I26: =E26-D26 -> 0.14583333 | J26: =G26-F26 -> 0.14583333 | K26: =J26+I26 -> 0.29166667
B27: =B18-DAY(B18)+13-WEEKDAY(B18-DAY(B18)) -> 41495 | C27: =IF(MONTH($A$14)<>MONTH($A$14-(WEEKDAY($A$14,1)-($A$6-1))-IF((WEEKDAY($A$14,1)-($A$6-1))<=0,7,0)+(ROW(W5)-ROW($C$5))*7+(COLUMN(W5)-COLUMN($C$5)+1)),"",$A$14-(WEEKDAY($A$14,1)-($A$6-1))-IF((WEEKDAY($A$14,1)-($A$6-1))<=0,7,0)+(ROW(W5)-ROW($C$5))*7+(COLUMN(W5)-COLUMN($C$5)+1)) -> 41502 | D27: 0.375 | E27: 0.52083333 | H27: =K27 -> 0.14583333 | I27: =E27-D27 -> 0.14583333 | J27: =G27-F27 -> 0 | K27: =J27+I27 -> 0.14583333
B28: =B18-DAY(B18)+14-WEEKDAY(B18-DAY(B18)) -> 41496 | C28: =IF(MONTH($A$14)<>MONTH($A$14-(WEEKDAY($A$14,1)-($A$6-1))-IF((WEEKDAY($A$14,1)-($A$6-1))<=0,7,0)+(ROW(X5)-ROW($C$5))*7+(COLUMN(X5)-COLUMN($C$5)+1)),"",$A$14-(WEEKDAY($A$14,1)-($A$6-1))-IF((WEEKDAY($A$14,1)-($A$6-1))<=0,7,0)+(ROW(X5)-ROW($C$5))*7+(COLUMN(X5)-COLUMN($C$5)+1)) -> 41503 | H28: =IF(K28=0,"",K28) | I28: =E28-D28 -> 0 | J28: =G28-F28 -> 0 | K28: =J28+I28 -> 0
B29: =B18-DAY(B18)+15-WEEKDAY(B18-DAY(B18)) -> 41497 | C29: =IF(MONTH($A$14)<>MONTH($A$14-(WEEKDAY($A$14,1)-($A$6-1))-IF((WEEKDAY($A$14,1)-($A$6-1))<=0,7,0)+(ROW(Y5)-ROW($C$5))*7+(COLUMN(Y5)-COLUMN($C$5)+1)),"",$A$14-(WEEKDAY($A$14,1)-($A$6-1))-IF((WEEKDAY($A$14,1)-($A$6-1))<=0,7,0)+(ROW(Y5)-ROW($C$5))*7+(COLUMN(Y5)-COLUMN($C$5)+1)) -> 41504 | H29: =IF(K29=0,"",K29) | I29: =E29-D29 -> 0 | J29: =G29-F29 -> 0 | K29: =J29+I29 -> 0
B30: TOTAL SEMAINE | H30: =K30 -> 0.83333333 | K30: =K23+K24+K25+K26+K27+K28+K29 -> 0.83333333
B31: =INT((C38-(DATE(YEAR(C38-WEEKDAY(C38-1)+4),1,3)-WEEKDAY(DATE(YEAR(C38-WEEKDAY(C38-1)+4),1,3)))+5)/7) -> 34 | D31: ="Semaine du "&TEXT(MIN(C32:C36,C32:C36),"jj")&" au "&TEXT(MAX(C32:C36,C32:C36),"jj mmmm aaaa") -> Semaine du 19 au 23 août 2013
B32: =B27-DAY(B27)+9-WEEKDAY(B27-DAY(B27)) -> 41491 | C32: =IF(MONTH($A$14)<>MONTH($A$14-(WEEKDAY($A$14,1)-($A$6-1))-IF((WEEKDAY($A$14,1)-($A$6-1))<=0,7,0)+(ROW(Z5)-ROW($C$5))*7+(COLUMN(Z5)-COLUMN($C$5)+1)),"",$A$14-(WEEKDAY($A$14,1)-($A$6-1))-IF((WEEKDAY($A$14,1)-($A$6-1))<=0,7,0)+(ROW(Z5)-ROW($C$5))*7+(COLUMN(Z5)-COLUMN($C$5)+1)) -> 41505 | D32: 0.375 | E32: 0.52083333 | F32: 0.58333333 | G32: 0.70833333 | H32: =K32 -> 0.27083333 | I32: =E32-D32 -> 0.14583333 | J32: =G32-F32 -> 0.125 | K32: =J32+I32 -> 0.27083333
B33: =B27-DAY(B27)+10-WEEKDAY(B27-DAY(B27)) -> 41492 | C33: =IF(MONTH($A$14)<>MONTH($A$14-(WEEKDAY($A$14,1)-($A$6-1))-IF((WEEKDAY($A$14,1)-($A$6-1))<=0,7,0)+(ROW(AA5)-ROW($C$5))*7+(COLUMN(AA5)-COLUMN($C$5)+1)),"",$A$14-(WEEKDAY($A$14,1)-($A$6-1))-IF((WEEKDAY($A$14,1)-($A$6-1))<=0,7,0)+(ROW(AA5)-ROW($C$5))*7+(COLUMN(AA5)-COLUMN($C$5)+1)) -> 41506 | D33: 0.375 | E33: 0.52083333 | H33: =K33 -> 0.14583333 | I33: =E33-D33 -> 0.14583333 | J33: =G33-F33 -> 0 | K33: =J33+I33 -> 0.14583333
B34: =B27-DAY(B27)+11-WEEKDAY(B27-DAY(B27)) -> 41493 | C34: =IF(MONTH($A$14)<>MONTH($A$14-(WEEKDAY($A$14,1)-($A$6-1))-IF((WEEKDAY($A$14,1)-($A$6-1))<=0,7,0)+(ROW(AB5)-ROW($C$5))*7+(COLUMN(AB5)-COLUMN($C$5)+1)),"",$A$14-(WEEKDAY($A$14,1)-($A$6-1))-IF((WEEKDAY($A$14,1)-($A$6-1))<=0,7,0)+(ROW(AB5)-ROW($C$5))*7+(COLUMN(AB5)-COLUMN($C$5)+1)) -> 41507 | H34: =IF(K34=0,"",K34) | I34: =E34-D34 -> 0 | J34: =G34-F34 -> 0 | K34: =J34+I34 -> 0
B35: =B27-DAY(B27)+12-WEEKDAY(B27-DAY(B27)) -> 41494 | C35: =IF(MONTH($A$14)<>MONTH($A$14-(WEEKDAY($A$14,1)-($A$6-1))-IF((WEEKDAY($A$14,1)-($A$6-1))<=0,7,0)+(ROW(AC5)-ROW($C$5))*7+(COLUMN(AC5)-COLUMN($C$5)+1)),"",$A$14-(WEEKDAY($A$14,1)-($A$6-1))-IF((WEEKDAY($A$14,1)-($A$6-1))<=0,7,0)+(ROW(AC5)-ROW($C$5))*7+(COLUMN(AC5)-COLUMN($C$5)+1)) -> 41508 | D35: 0.375 | E35: 0.52083333 | F35: 0.58333333 | G35: 0.70833333 | H35: =K35 -> 0.27083333 | I35: =E35-D35 -> 0.14583333 | J35: =G35-F35 -> 0.125 | K35: =J35+I35 -> 0.27083333
B36: =B27-DAY(B27)+13-WEEKDAY(B27-DAY(B27)) -> 41495 | C36: =IF(MONTH($A$14)<>MONTH($A$14-(WEEKDAY($A$14,1)-($A$6-1))-IF((WEEKDAY($A$14,1)-($A$6-1))<=0,7,0)+(ROW(AD5)-ROW($C$5))*7+(COLUMN(AD5)-COLUMN($C$5)+1)),"",$A$14-(WEEKDAY($A$14,1)-($A$6-1))-IF((WEEKDAY($A$14,1)-($A$6-1))<=0,7,0)+(ROW(AD5)-ROW($C$5))*7+(COLUMN(AD5)-COLUMN($C$5)+1)) -> 41509 | D36: 0.375 | E36: 0.52083333 | H36: =K36 -> 0.14583333 | I36: =E36-D36 -> 0.14583333 | J36: =G36-F36 -> 0 | K36: =J36+I36 -> 0.14583333
B37: =B27-DAY(B27)+14-WEEKDAY(B27-DAY(B27)) -> 41496 | C37: =IF(MONTH($A$14)<>MONTH($A$14-(WEEKDAY($A$14,1)-($A$6-1))-IF((WEEKDAY($A$14,1)-($A$6-1))<=0,7,0)+(ROW(AE5)-ROW($C$5))*7+(COLUMN(AE5)-COLUMN($C$5)+1)),"",$A$14-(WEEKDAY($A$14,1)-($A$6-1))-IF((WEEKDAY($A$14,1)-($A$6-1))<=0,7,0)+(ROW(AE5)-ROW($C$5))*7+(COLUMN(AE5)-COLUMN($C$5)+1)) -> 41510 | H37: =IF(K37=0,"",K37) | I37: =E37-D37 -> 0 | J37: =G37-F37 -> 0 | K37: =J37+I37 -> 0
B38: =B27-DAY(B27)+15-WEEKDAY(B27-DAY(B27)) -> 41497 | C38: =IF(MONTH($A$14)<>MONTH($A$14-(WEEKDAY($A$14,1)-($A$6-1))-IF((WEEKDAY($A$14,1)-($A$6-1))<=0,7,0)+(ROW(AF5)-ROW($C$5))*7+(COLUMN(AF5)-COLUMN($C$5)+1)),"",$A$14-(WEEKDAY($A$14,1)-($A$6-1))-IF((WEEKDAY($A$14,1)-($A$6-1))<=0,7,0)+(ROW(AF5)-ROW($C$5))*7+(COLUMN(AF5)-COLUMN($C$5)+1)) -> 41511 | H38: =IF(K38=0,"",K38) | I38: =E38-D38 -> 0 | J38: =G38-F38 -> 0 | K38: =J38+I38 -> 0
B39: TOTAL SEMAINE | H39: =K39 -> 0.83333333 | K39: =K32+K33+K34+K35+K36+K37+K38 -> 0.83333333
B40: =INT((C41-(DATE(YEAR(C41-WEEKDAY(C41-1)+4),1,3)-WEEKDAY(DATE(YEAR(C41-WEEKDAY(C41-1)+4),1,3)))+5)/7) -> 35 | D40: ="Semaine du "&TEXT(MIN(C41:C45,C41:C45),"jj")&" au "&TEXT(MAX(C41:C45,C41:C45),"jj mmmm aaaa") -> Semaine du 26 au 30 août 2013
B41: =B36-DAY(B36)+9-WEEKDAY(B36-DAY(B36)) -> 41491 | C41: =IF(MONTH($A$14)<>MONTH($A$14-(WEEKDAY($A$14,1)-($A$6-1))-IF((WEEKDAY($A$14,1)-($A$6-1))<=0,7,0)+(ROW(AG5)-ROW($C$5))*7+(COLUMN(AG5)-COLUMN($C$5)+1)),"",$A$14-(WEEKDAY($A$14,1)-($A$6-1))-IF((WEEKDAY($A$14,1)-($A$6-1))<=0,7,0)+(ROW(AG5)-ROW($C$5))*7+(COLUMN(AG5)-COLUMN($C$5)+1)) -> 41512 | D41: 0.375 | E41: 0.52083333 | F41: 0.58333333 | G41: 0.70833333 | H41: =K41 -> 0.27083333 | I41: =E41-D41 -> 0.14583333 | J41: =G41-F41 -> 0.125 | K41: =J41+I41 -> 0.27083333
B42: =B36-DAY(B36)+10-WEEKDAY(B36-DAY(B36)) -> 41492 | C42: =IF(MONTH($A$14)<>MONTH($A$14-(WEEKDAY($A$14,1)-($A$6-1))-IF((WEEKDAY($A$14,1)-($A$6-1))<=0,7,0)+(ROW(AH5)-ROW($C$5))*7+(COLUMN(AH5)-COLUMN($C$5)+1)),"",$A$14-(WEEKDAY($A$14,1)-($A$6-1))-IF((WEEKDAY($A$14,1)-($A$6-1))<=0,7,0)+(ROW(AH5)-ROW($C$5))*7+(COLUMN(AH5)-COLUMN($C$5)+1)) -> 41513 | D42: 0.375 | E42: 0.52083333 | H42: =K42 -> 0.14583333 | I42: =E42-D42 -> 0.14583333 | J42: =G42-F42 -> 0 | K42: =J42+I42 -> 0.14583333
B43: =B36-DAY(B36)+11-WEEKDAY(B36-DAY(B36)) -> 41493 | C43: =IF(MONTH($A$14)<>MONTH($A$14-(WEEKDAY($A$14,1)-($A$6-1))-IF((WEEKDAY($A$14,1)-($A$6-1))<=0,7,0)+(ROW(AI5)-ROW($C$5))*7+(COLUMN(AI5)-COLUMN($C$5)+1)),"",$A$14-(WEEKDAY($A$14,1)-($A$6-1))-IF((WEEKDAY($A$14,1)-($A$6-1))<=0,7,0)+(ROW(AI5)-ROW($C$5))*7+(COLUMN(AI5)-COLUMN($C$5)+1)) -> 41514 | H43: =IF(K43=0,"",K43) | I43: =E43-D43 -> 0 | J43: =G43-F43 -> 0 | K43: =J43+I43 -> 0
B44: =B36-DAY(B36)+12-WEEKDAY(B36-DAY(B36)) -> 41494 | C44: =IF(MONTH($A$14)<>MONTH($A$14-(WEEKDAY($A$14,1)-($A$6-1))-IF((WEEKDAY($A$14,1)-($A$6-1))<=0,7,0)+(ROW(AJ5)-ROW($C$5))*7+(COLUMN(AJ5)-COLUMN($C$5)+1)),"",$A$14-(WEEKDAY($A$14,1)-($A$6-1))-IF((WEEKDAY($A$14,1)-($A$6-1))<=0,7,0)+(ROW(AJ5)-ROW($C$5))*7+(COLUMN(AJ5)-COLUMN($C$5)+1)) -> 41515 | D44: 0.375 | E44: 0.52083333 | F44: 0.58333333 | G44: 0.70833333 | H44: =K44 -> 0.27083333 | I44: =E44-D44 -> 0.14583333 | J44: =G44-F44 -> 0.125 | K44: =J44+I44 -> 0.27083333
B45: =B36-DAY(B36)+13-WEEKDAY(B36-DAY(B36)) -> 41495 | C45: =IF(MONTH($A$14)<>MONTH($A$14-(WEEKDAY($A$14,1)-($A$6-1))-IF((WEEKDAY($A$14,1)-($A$6-1))<=0,7,0)+(ROW(AK5)-ROW($C$5))*7+(COLUMN(AK5)-COLUMN($C$5)+1)),"",$A$14-(WEEKDAY($A$14,1)-($A$6-1))-IF((WEEKDAY($A$14,1)-($A$6-1))<=0,7,0)+(ROW(AK5)-ROW($C$5))*7+(COLUMN(AK5)-COLUMN($C$5)+1)) -> 41516 | D45: 0.375 | E45: 0.52083333 | H45: =K45 -> 0.14583333 | I45: =E45-D45 -> 0.14583333 | J45: =G45-F45 -> 0 | K45: =J45+I45 -> 0.14583333
B46: =B36-DAY(B36)+14-WEEKDAY(B36-DAY(B36)) -> 41496 | C46: =IF(MONTH($A$14)<>MONTH($A$14-(WEEKDAY($A$14,1)-($A$6-1))-IF((WEEKDAY($A$14,1)-($A$6-1))<=0,7,0)+(ROW(AL5)-ROW($C$5))*7+(COLUMN(AL5)-COLUMN($C$5)+1)),"",$A$14-(WEEKDAY($A$14,1)-($A$6-1))-IF((WEEKDAY($A$14,1)-($A$6-1))<=0,7,0)+(ROW(AL5)-ROW($C$5))*7+(COLUMN(AL5)-COLUMN($C$5)+1)) -> 41517 | H46: =IF(K46=0,"",K46) | I46: =E46-D46 -> 0 | J46: =G46-F46 -> 0 | K46: =J46+I46 -> 0
B47: =B36-DAY(B36)+15-WEEKDAY(B36-DAY(B36)) -> 41497 | C47: =IF(MONTH($A$14)<>MONTH($A$14-(WEEKDAY($A$14,1)-($A$6-1))-IF((WEEKDAY($A$14,1)-($A$6-1))<=0,7,0)+(ROW(AM5)-ROW($C$5))*7+(COLUMN(AM5)-COLUMN($C$5)+1)),"",$A$14-(WEEKDAY($A$14,1)-($A$6-1))-IF((WEEKDAY($A$14,1)-($A$6-1))<=0,7,0)+(ROW(AM5)-ROW($C$5))*7+(COLUMN(AM5)-COLUMN($C$5)+1)) | H47: =IF(K47=0,"",K47) | I47: =E47-D47 -> 0 | J47: =G47-F47 -> 0 | K47: =J47+I47 -> 0
B48: TOTAL SEMAINE | H48: =K48 -> 0.83333333 | K48: =K41+K42+K43+K44+K45+K46+K47 -> 0.83333333
B49: Cumul mois | H49: =H12+H21+H30+H39+H48 -> 4.1666667
B50: Cumul Année | H50: =H49+Janvier!H49+Février!H49+Mars!H49+Avril!H49+Mai!H49+Juin!H49+Juillet!H49 -> 23.083333

Sheet Septembre
A1: =YEAR(B1) -> 2013 | B1: =DATE(Août!A1,(Août!A2)+1,1) -> 41518 | D1: MATIN | E1: MIDI | F1: APRES MIDI | G1: SOIR | H1: TOTAL
A2: =MONTH(B1) -> 9 | B2: =INT((C11-(DATE(YEAR(C11-WEEKDAY(C11-1)+4),1,3)-WEEKDAY(DATE(YEAR(C11-WEEKDAY(C11-1)+4),1,3)))+5)/7) -> 36 | D2: ="Semaine du "&TEXT(MIN(C5:C9,C5:C9),"jj")&" au "&TEXT(MAX(C5:C9,C5:C9),"jj mmmm aaaa") -> Semaine du 02 au 06 septembre 2013
C3: =IF(MONTH($A$14)<>MONTH($A$14-(WEEKDAY($A$14,1)-($A$6-1))-IF((WEEKDAY($A$14,1)-($A$6-1))<=0,7,0)+(ROW(C5)-ROW($C$5))*7+(COLUMN(C5)-COLUMN($C$5)+1)),"",$A$14-(WEEKDAY($A$14,1)-($A$6-1))-IF((WEEKDAY($A$14,1)-($A$6-1))<=0,7,0)+(ROW(C5)-ROW($C$5))*7+(COLUMN(C5)-COLUMN($C$5)+1))
C4: =IF(MONTH($A$14)<>MONTH($A$14-(WEEKDAY($A$14,1)-($A$6-1))-IF((WEEKDAY($A$14,1)-($A$6-1))<=0,7,0)+(ROW(D5)-ROW($C$5))*7+(COLUMN(D5)-COLUMN($C$5)+1)),"",$A$14-(WEEKDAY($A$14,1)-($A$6-1))-IF((WEEKDAY($A$14,1)-($A$6-1))<=0,7,0)+(ROW(D5)-ROW($C$5))*7+(COLUMN(D5)-COLUMN($C$5)+1)) -> 41518
A5: 7 | B5: =B1-DAY(B1)+9-WEEKDAY(B1-DAY(B1)) -> 41519 | C5: =IF(MONTH($A$14)<>MONTH($A$14-(WEEKDAY($A$14,1)-($A$6-1))-IF((WEEKDAY($A$14,1)-($A$6-1))<=0,7,0)+(ROW(E5)-ROW($C$5))*7+(COLUMN(E5)-COLUMN($C$5)+1)),"",$A$14-(WEEKDAY($A$14,1)-($A$6-1))-IF((WEEKDAY($A$14,1)-($A$6-1))<=0,7,0)+(ROW(E5)-ROW($C$5))*7+(COLUMN(E5)-COLUMN($C$5)+1)) -> 41519 | D5: 0.41666667 | E5: 0.52083333 | F5: 0.5625 | G5: 0.70833333 | H5: =K5 -> 0.25 | I5: =E5-D5 -> 0.10416667 | J5: =G5-F5 -> 0.14583333 | K5: =J5+I5 -> 0.25
A6: 7 | B6: =B1-DAY(B1)+10-WEEKDAY(B1-DAY(B1)) -> 41520 | C6: =IF(MONTH($A$14)<>MONTH($A$14-(WEEKDAY($A$14,1)-($A$6-1))-IF((WEEKDAY($A$14,1)-($A$6-1))<=0,7,0)+(ROW(F5)-ROW($C$5))*7+(COLUMN(F5)-COLUMN($C$5)+1)),"",$A$14-(WEEKDAY($A$14,1)-($A$6-1))-IF((WEEKDAY($A$14,1)-($A$6-1))<=0,7,0)+(ROW(F5)-ROW($C$5))*7+(COLUMN(F5)-COLUMN($C$5)+1)) -> 41520 | D6: 0.375 | E6: 0.52083333 | H6: =K6 -> 0.14583333 | I6: =E6-D6 -> 0.14583333 | J6: =G6-F6 -> 0 | K6: =J6+I6 -> 0.14583333
B7: =B1-DAY(B1)+11-WEEKDAY(B1-DAY(B1)) -> 41521 | C7: =IF(MONTH($A$14)<>MONTH($A$14-(WEEKDAY($A$14,1)-($A$6-1))-IF((WEEKDAY($A$14,1)-($A$6-1))<=0,7,0)+(ROW(G5)-ROW($C$5))*7+(COLUMN(G5)-COLUMN($C$5)+1)),"",$A$14-(WEEKDAY($A$14,1)-($A$6-1))-IF((WEEKDAY($A$14,1)-($A$6-1))<=0,7,0)+(ROW(G5)-ROW($C$5))*7+(COLUMN(G5)-COLUMN($C$5)+1)) -> 41521 | H7: =IF(K7=0,"",K7) | I7: =E7-D7 -> 0 | J7: =G7-F7 -> 0 | K7: =J7+I7 -> 0
B8: =B1-DAY(B1)+12-WEEKDAY(B1-DAY(B1)) -> 41522 | C8: =IF(MONTH($A$14)<>MONTH($A$14-(WEEKDAY($A$14,1)-($A$6-1))-IF((WEEKDAY($A$14,1)-($A$6-1))<=0,7,0)+(ROW(H5)-ROW($C$5))*7+(COLUMN(H5)-COLUMN($C$5)+1)),"",$A$14-(WEEKDAY($A$14,1)-($A$6-1))-IF((WEEKDAY($A$14,1)-($A$6-1))<=0,7,0)+(ROW(H5)-ROW($C$5))*7+(COLUMN(H5)-COLUMN($C$5)+1)) -> 41522 | D8: 0.375 | E8: 0.52083333 | F8: 0.5625 | G8: 0.70833333 | H8: =K8 -> 0.29166667 | I8: =E8-D8 -> 0.14583333 | J8: =G8-F8 -> 0.14583333 | K8: =J8+I8 -> 0.29166667
B9: =B1-DAY(B1)+13-WEEKDAY(B1-DAY(B1)) -> 41523 | C9: =IF(MONTH($A$14)<>MONTH($A$14-(WEEKDAY($A$14,1)-($A$6-1))-IF((WEEKDAY($A$14,1)-($A$6-1))<=0,7,0)+(ROW(I5)-ROW($C$5))*7+(COLUMN(I5)-COLUMN($C$5)+1)),"",$A$14-(WEEKDAY($A$14,1)-($A$6-1))-IF((WEEKDAY($A$14,1)-($A$6-1))<=0,7,0)+(ROW(I5)-ROW($C$5))*7+(COLUMN(I5)-COLUMN($C$5)+1)) -> 41523 | D9: 0.375 | E9: 0.52083333 | H9: =K9 -> 0.14583333 | I9: =E9-D9 -> 0.14583333 | J9: =G9-F9 -> 0 | K9: =J9+I9 -> 0.14583333
B10: =B1-DAY(B1)+14-WEEKDAY(B1-DAY(B1)) -> 41524 | C10: =IF(MONTH($A$14)<>MONTH($A$14-(WEEKDAY($A$14,1)-($A$6-1))-IF((WEEKDAY($A$14,1)-($A$6-1))<=0,7,0)+(ROW(J5)-ROW($C$5))*7+(COLUMN(J5)-COLUMN($C$5)+1)),"",$A$14-(WEEKDAY($A$14,1)-($A$6-1))-IF((WEEKDAY($A$14,1)-($A$6-1))<=0,7,0)+(ROW(J5)-ROW($C$5))*7+(COLUMN(J5)-COLUMN($C$5)+1)) -> 41524 | H10: =IF(K10=0,"",K10) | I10: =E10-D10 -> 0 | J10: =G10-F10 -> 0 | K10: =J10+I10 -> 0
B11: =B1-DAY(B1)+15-WEEKDAY(B1-DAY(B1)) -> 41525 | C11: =IF(MONTH($A$14)<>MONTH($A$14-(WEEKDAY($A$14,1)-($A$6-1))-IF((WEEKDAY($A$14,1)-($A$6-1))<=0,7,0)+(ROW(K5)-ROW($C$5))*7+(COLUMN(K5)-COLUMN($C$5)+1)),"",$A$14-(WEEKDAY($A$14,1)-($A$6-1))-IF((WEEKDAY($A$14,1)-($A$6-1))<=0,7,0)+(ROW(K5)-ROW($C$5))*7+(COLUMN(K5)-COLUMN($C$5)+1)) -> 41525 | H11: =IF(K11=0,"",K11) | I11: =E11-D11 -> 0 | J11: =G11-F11 -> 0 | K11: =J11+I11 -> 0
B12: TOTAL SEMAINE | H12: =K12 -> 0.83333333 | K12: =K5+K6+K7+K8+K9+K10+K11 -> 0.83333333
B13: =INT((C20-(DATE(YEAR(C20-WEEKDAY(C20-1)+4),1,3)-WEEKDAY(DATE(YEAR(C20-WEEKDAY(C20-1)+4),1,3)))+5)/7) -> 37 | D13: ="Semaine du "&TEXT(MIN(C14:C18,C14:C18),"jj")&" au "&TEXT(MAX(C14:C18,C14:C18),"jj mmmm aaaa") -> Semaine du 09 au 13 septembre 2013
A14: =DATE(A1,A2,1) -> 41518 | B14: =B10-DAY(B10)+9-WEEKDAY(B10-DAY(B10)) -> 41519 | C14: =IF(MONTH($A$14)<>MONTH($A$14-(WEEKDAY($A$14,1)-($A$6-1))-IF((WEEKDAY($A$14,1)-($A$6-1))<=0,7,0)+(ROW(L5)-ROW($C$5))*7+(COLUMN(L5)-COLUMN($C$5)+1)),"",$A$14-(WEEKDAY($A$14,1)-($A$6-1))-IF((WEEKDAY($A$14,1)-($A$6-1))<=0,7,0)+(ROW(L5)-ROW($C$5))*7+(COLUMN(L5)-COLUMN($C$5)+1)) -> 41526 | D14: 0.41666667 | E14: 0.52083333 | F14: 0.5625 | G14: 0.70833333 | H14: =K14 -> 0.25 | I14: =E14-D14 -> 0.10416667 | J14: =G14-F14 -> 0.14583333 | K14: =J14+I14 -> 0.25
B15: =B10-DAY(B10)+10-WEEKDAY(B10-DAY(B10)) -> 41520 | C15: =IF(MONTH($A$14)<>MONTH($A$14-(WEEKDAY($A$14,1)-($A$6-1))-IF((WEEKDAY($A$14,1)-($A$6-1))<=0,7,0)+(ROW(M5)-ROW($C$5))*7+(COLUMN(M5)-COLUMN($C$5)+1)),"",$A$14-(WEEKDAY($A$14,1)-($A$6-1))-IF((WEEKDAY($A$14,1)-($A$6-1))<=0,7,0)+(ROW(M5)-ROW($C$5))*7+(COLUMN(M5)-COLUMN($C$5)+1)) -> 41527 | D15: 0.375 | E15: 0.52083333 | H15: =K15 -> 0.14583333 | I15: =E15-D15 -> 0.14583333 | J15: =G15-F15 -> 0 | K15: =J15+I15 -> 0.14583333
B16: =B10-DAY(B10)+11-WEEKDAY(B10-DAY(B10)) -> 41521 | C16: =IF(MONTH($A$14)<>MONTH($A$14-(WEEKDAY($A$14,1)-($A$6-1))-IF((WEEKDAY($A$14,1)-($A$6-1))<=0,7,0)+(ROW(N5)-ROW($C$5))*7+(COLUMN(N5)-COLUMN($C$5)+1)),"",$A$14-(WEEKDAY($A$14,1)-($A$6-1))-IF((WEEKDAY($A$14,1)-($A$6-1))<=0,7,0)+(ROW(N5)-ROW($C$5))*7+(COLUMN(N5)-COLUMN($C$5)+1)) -> 41528 | H16: =IF(K16=0,"",K16) | I16: =E16-D16 -> 0 | J16: =G16-F16 -> 0 | K16: =J16+I16 -> 0
B17: =B10-DAY(B10)+12-WEEKDAY(B10-DAY(B10)) -> 41522 | C17: =IF(MONTH($A$14)<>MONTH($A$14-(WEEKDAY($A$14,1)-($A$6-1))-IF((WEEKDAY($A$14,1)-($A$6-1))<=0,7,0)+(ROW(O5)-ROW($C$5))*7+(COLUMN(O5)-COLUMN($C$5)+1)),"",$A$14-(WEEKDAY($A$14,1)-($A$6-1))-IF((WEEKDAY($A$14,1)-($A$6-1))<=0,7,0)+(ROW(O5)-ROW($C$5))*7+(COLUMN(O5)-COLUMN($C$5)+1)) -> 41529 | D17: 0.375 | E17: 0.52083333 | F17: 0.5625 | G17: 0.70833333 | H17: =K17 -> 0.29166667 | I17: =E17-D17 -> 0.14583333 | J17: =G17-F17 -> 0.14583333 | K17: =J17+I17 -> 0.29166667
B18: =B10-DAY(B10)+13-WEEKDAY(B10-DAY(B10)) -> 41523 | C18: =IF(MONTH($A$14)<>MONTH($A$14-(WEEKDAY($A$14,1)-($A$6-1))-IF((WEEKDAY($A$14,1)-($A$6-1))<=0,7,0)+(ROW(P5)-ROW($C$5))*7+(COLUMN(P5)-COLUMN($C$5)+1)),"",$A$14-(WEEKDAY($A$14,1)-($A$6-1))-IF((WEEKDAY($A$14,1)-($A$6-1))<=0,7,0)+(ROW(P5)-ROW($C$5))*7+(COLUMN(P5)-COLUMN($C$5)+1)) -> 41530 | D18: 0.375 | E18: 0.52083333 | H18: =K18 -> 0.14583333 | I18: =E18-D18 -> 0.14583333 | J18: =G18-F18 -> 0 | K18: =J18+I18 -> 0.14583333
B19: =B10-DAY(B10)+14-WEEKDAY(B10-DAY(B10)) -> 41524 | C19: =IF(MONTH($A$14)<>MONTH($A$14-(WEEKDAY($A$14,1)-($A$6-1))-IF((WEEKDAY($A$14,1)-($A$6-1))<=0,7,0)+(ROW(Q5)-ROW($C$5))*7+(COLUMN(Q5)-COLUMN($C$5)+1)),"",$A$14-(WEEKDAY($A$14,1)-($A$6-1))-IF((WEEKDAY($A$14,1)-($A$6-1))<=0,7,0)+(ROW(Q5)-ROW($C$5))*7+(COLUMN(Q5)-COLUMN($C$5)+1)) -> 41531 | H19: =IF(K19=0,"",K19) | I19: =E19-D19 -> 0 | J19: =G19-F19 -> 0 | K19: =J19+I19 -> 0
B20: =B10-DAY(B10)+15-WEEKDAY(B10-DAY(B10)) -> 41525 | C20: =IF(MONTH($A$14)<>MONTH($A$14-(WEEKDAY($A$14,1)-($A$6-1))-IF((WEEKDAY($A$14,1)-($A$6-1))<=0,7,0)+(ROW(R5)-ROW($C$5))*7+(COLUMN(R5)-COLUMN($C$5)+1)),"",$A$14-(WEEKDAY($A$14,1)-($A$6-1))-IF((WEEKDAY($A$14,1)-($A$6-1))<=0,7,0)+(ROW(R5)-ROW($C$5))*7+(COLUMN(R5)-COLUMN($C$5)+1)) -> 41532 | H20: =IF(K20=0,"",K20) | I20: =E20-D20 -> 0 | J20: =G20-F20 -> 0 | K20: =J20+I20 -> 0
B21: TOTAL SEMAINE | H21: =K21 -> 0.83333333 | K21: =K14+K15+K16+K17+K18+K19+K20 -> 0.83333333
B22: =INT((C29-(DATE(YEAR(C29-WEEKDAY(C29-1)+4),1,3)-WEEKDAY(DATE(YEAR(C29-WEEKDAY(C29-1)+4),1,3)))+5)/7) -> 38 | D22: ="Semaine du "&TEXT(MIN(C23:C27,C23:C27),"jj")&" au "&TEXT(MAX(C23:C27,C23:C27),"jj mmmm aaaa") -> Semaine du 16 au 20 septembre 2013
B23: =B18-DAY(B18)+9-WEEKDAY(B18-DAY(B18)) -> 41519 | C23: =IF(MONTH($A$14)<>MONTH($A$14-(WEEKDAY($A$14,1)-($A$6-1))-IF((WEEKDAY($A$14,1)-($A$6-1))<=0,7,0)+(ROW(S5)-ROW($C$5))*7+(COLUMN(S5)-COLUMN($C$5)+1)),"",$A$14-(WEEKDAY($A$14,1)-($A$6-1))-IF((WEEKDAY($A$14,1)-($A$6-1))<=0,7,0)+(ROW(S5)-ROW($C$5))*7+(COLUMN(S5)-COLUMN($C$5)+1)) -> 41533 | D23: 0.41666667 | E23: 0.52083333 | F23: 0.5625 | G23: 0.70833333 | H23: =K23 -> 0.25 | I23: =E23-D23 -> 0.10416667 | J23: =G23-F23 -> 0.14583333 | K23: =J23+I23 -> 0.25
B24: =B18-DAY(B18)+10-WEEKDAY(B18-DAY(B18)) -> 41520 | C24: =IF(MONTH($A$14)<>MONTH($A$14-(WEEKDAY($A$14,1)-($A$6-1))-IF((WEEKDAY($A$14,1)-($A$6-1))<=0,7,0)+(ROW(T5)-ROW($C$5))*7+(COLUMN(T5)-COLUMN($C$5)+1)),"",$A$14-(WEEKDAY($A$14,1)-($A$6-1))-IF((WEEKDAY($A$14,1)-($A$6-1))<=0,7,0)+(ROW(T5)-ROW($C$5))*7+(COLUMN(T5)-COLUMN($C$5)+1)) -> 41534 | D24: 0.375 | E24: 0.52083333 | H24: =K24 -> 0.14583333 | I24: =E24-D24 -> 0.14583333 | J24: =G24-F24 -> 0 | K24: =J24+I24 -> 0.14583333
B25: =B18-DAY(B18)+11-WEEKDAY(B18-DAY(B18)) -> 41521 | C25: =IF(MONTH($A$14)<>MONTH($A$14-(WEEKDAY($A$14,1)-($A$6-1))-IF((WEEKDAY($A$14,1)-($A$6-1))<=0,7,0)+(ROW(U5)-ROW($C$5))*7+(COLUMN(U5)-COLUMN($C$5)+1)),"",$A$14-(WEEKDAY($A$14,1)-($A$6-1))-IF((WEEKDAY($A$14,1)-($A$6-1))<=0,7,0)+(ROW(U5)-ROW($C$5))*7+(COLUMN(U5)-COLUMN($C$5)+1)) -> 41535 | H25: =IF(K25=0,"",K25) | I25: =E25-D25 -> 0 | J25: =G25-F25 -> 0 | K25: =J25+I25 -> 0
B26: =B18-DAY(B18)+12-WEEKDAY(B18-DAY(B18)) -> 41522 | C26: =IF(MONTH($A$14)<>MONTH($A$14-(WEEKDAY($A$14,1)-($A$6-1))-IF((WEEKDAY($A$14,1)-($A$6-1))<=0,7,0)+(ROW(V5)-ROW($C$5))*7+(COLUMN(V5)-COLUMN($C$5)+1)),"",$A$14-(WEEKDAY($A$14,1)-($A$6-1))-IF((WEEKDAY($A$14,1)-($A$6-1))<=0,7,0)+(ROW(V5)-ROW($C$5))*7+(COLUMN(V5)-COLUMN($C$5)+1)) -> 41536 | D26: 0.375 | E26: 0.52083333 | F26: 0.5625 | G26: 0.70833333 | H26: =K26 -> 0.29166667 | I26: =E26-D26 -> 0.14583333 | J26: =G26-F26 -> 0.14583333 | K26: =J26+I26 -> 0.29166667
B27: =B18-DAY(B18)+13-WEEKDAY(B18-DAY(B18)) -> 41523 | C27: =IF(MONTH($A$14)<>MONTH($A$14-(WEEKDAY($A$14,1)-($A$6-1))-IF((WEEKDAY($A$14,1)-($A$6-1))<=0,7,0)+(ROW(W5)-ROW($C$5))*7+(COLUMN(W5)-COLUMN($C$5)+1)),"",$A$14-(WEEKDAY($A$14,1)-($A$6-1))-IF((WEEKDAY($A$14,1)-($A$6-1))<=0,7,0)+(ROW(W5)-ROW($C$5))*7+(COLUMN(W5)-COLUMN($C$5)+1)) -> 41537 | D27: 0.375 | E27: 0.52083333 | H27: =K27 -> 0.14583333 | I27: =E27-D27 -> 0.14583333 | J27: =G27-F27 -> 0 | K27: =J27+I27 -> 0.14583333
B28: =B18-DAY(B18)+14-WEEKDAY(B18-DAY(B18)) -> 41524 | C28: =IF(MONTH($A$14)<>MONTH($A$14-(WEEKDAY($A$14,1)-($A$6-1))-IF((WEEKDAY($A$14,1)-($A$6-1))<=0,7,0)+(ROW(X5)-ROW($C$5))*7+(COLUMN(X5)-COLUMN($C$5)+1)),"",$A$14-(WEEKDAY($A$14,1)-($A$6-1))-IF((WEEKDAY($A$14,1)-($A$6-1))<=0,7,0)+(ROW(X5)-ROW($C$5))*7+(COLUMN(X5)-COLUMN($C$5)+1)) -> 41538 | H28: =IF(K28=0,"",K28) | I28: =E28-D28 -> 0 | J28: =G28-F28 -> 0 | K28: =J28+I28 -> 0
B29: =B18-DAY(B18)+15-WEEKDAY(B18-DAY(B18)) -> 41525 | C29: =IF(MONTH($A$14)<>MONTH($A$14-(WEEKDAY($A$14,1)-($A$6-1))-IF((WEEKDAY($A$14,1)-($A$6-1))<=0,7,0)+(ROW(Y5)-ROW($C$5))*7+(COLUMN(Y5)-COLUMN($C$5)+1)),"",$A$14-(WEEKDAY($A$14,1)-($A$6-1))-IF((WEEKDAY($A$14,1)-($A$6-1))<=0,7,0)+(ROW(Y5)-ROW($C$5))*7+(COLUMN(Y5)-COLUMN($C$5)+1)) -> 41539 | H29: =IF(K29=0,"",K29) | I29: =E29-D29 -> 0 | J29: =G29-F29 -> 0 | K29: =J29+I29 -> 0
B30: TOTAL SEMAINE | H30: =K30 -> 0.83333333 | K30: =K23+K24+K25+K26+K27+K28+K29 -> 0.83333333
B31: =INT((C38-(DATE(YEAR(C38-WEEKDAY(C38-1)+4),1,3)-WEEKDAY(DATE(YEAR(C38-WEEKDAY(C38-1)+4),1,3)))+5)/7) -> 39 | D31: ="Semaine du "&TEXT(MIN(C32:C36,C32:C36),"jj")&" au "&TEXT(MAX(C32:C36,C32:C36),"jj mmmm aaaa") -> Semaine du 23 au 27 septembre 2013
B32: =B27-DAY(B27)+9-WEEKDAY(B27-DAY(B27)) -> 41519 | C32: =IF(MONTH($A$14)<>MONTH($A$14-(WEEKDAY($A$14,1)-($A$6-1))-IF((WEEKDAY($A$14,1)-($A$6-1))<=0,7,0)+(ROW(Z5)-ROW($C$5))*7+(COLUMN(Z5)-COLUMN($C$5)+1)),"",$A$14-(WEEKDAY($A$14,1)-($A$6-1))-IF((WEEKDAY($A$14,1)-($A$6-1))<=0,7,0)+(ROW(Z5)-ROW($C$5))*7+(COLUMN(Z5)-COLUMN($C$5)+1)) -> 41540 | D32: 0.375 | E32: 0.52083333 | F32: 0.58333333 | G32: 0.70833333 | H32: =K32 -> 0.27083333 | I32: =E32-D32 -> 0.14583333 | J32: =G32-F32 -> 0.125 | K32: =J32+I32 -> 0.27083333
B33: =B27-DAY(B27)+10-WEEKDAY(B27-DAY(B27)) -> 41520 | C33: =IF(MONTH($A$14)<>MONTH($A$14-(WEEKDAY($A$14,1)-($A$6-1))-IF((WEEKDAY($A$14,1)-($A$6-1))<=0,7,0)+(ROW(AA5)-ROW($C$5))*7+(COLUMN(AA5)-COLUMN($C$5)+1)),"",$A$14-(WEEKDAY($A$14,1)-($A$6-1))-IF((WEEKDAY($A$14,1)-($A$6-1))<=0,7,0)+(ROW(AA5)-ROW($C$5))*7+(COLUMN(AA5)-COLUMN($C$5)+1)) -> 41541 | D33: 0.375 | E33: 0.52083333 | H33: =K33 -> 0.14583333 | I33: =E33-D33 -> 0.14583333 | J33: =G33-F33 -> 0 | K33: =J33+I33 -> 0.14583333
B34: =B27-DAY(B27)+11-WEEKDAY(B27-DAY(B27)) -> 41521 | C34: =IF(MONTH($A$14)<>MONTH($A$14-(WEEKDAY($A$14,1)-($A$6-1))-IF((WEEKDAY($A$14,1)-($A$6-1))<=0,7,0)+(ROW(AB5)-ROW($C$5))*7+(COLUMN(AB5)-COLUMN($C$5)+1)),"",$A$14-(WEEKDAY($A$14,1)-($A$6-1))-IF((WEEKDAY($A$14,1)-($A$6-1))<=0,7,0)+(ROW(AB5)-ROW($C$5))*7+(COLUMN(AB5)-COLUMN($C$5)+1)) -> 41542 | H34: =IF(K34=0,"",K34) | I34: =E34-D34 -> 0 | J34: =G34-F34 -> 0 | K34: =J34+I34 -> 0
B35: =B27-DAY(B27)+12-WEEKDAY(B27-DAY(B27)) -> 41522 | C35: =IF(MONTH($A$14)<>MONTH($A$14-(WEEKDAY($A$14,1)-($A$6-1))-IF((WEEKDAY($A$14,1)-($A$6-1))<=0,7,0)+(ROW(AC5)-ROW($C$5))*7+(COLUMN(AC5)-COLUMN($C$5)+1)),"",$A$14-(WEEKDAY($A$14,1)-($A$6-1))-IF((WEEKDAY($A$14,1)-($A$6-1))<=0,7,0)+(ROW(AC5)-ROW($C$5))*7+(COLUMN(AC5)-COLUMN($C$5)+1)) -> 41543 | D35: 0.375 | E35: 0.52083333 | F35: 0.58333333 | G35: 0.70833333 | H35: =K35 -> 0.27083333 | I35: =E35-D35 -> 0.14583333 | J35: =G35-F35 -> 0.125 | K35: =J35+I35 -> 0.27083333
B36: =B27-DAY(B27)+13-WEEKDAY(B27-DAY(B27)) -> 41523 | C36: =IF(MONTH($A$14)<>MONTH($A$14-(WEEKDAY($A$14,1)-($A$6-1))-IF((WEEKDAY($A$14,1)-($A$6-1))<=0,7,0)+(ROW(AD5)-ROW($C$5))*7+(COLUMN(AD5)-COLUMN($C$5)+1)),"",$A$14-(WEEKDAY($A$14,1)-($A$6-1))-IF((WEEKDAY($A$14,1)-($A$6-1))<=0,7,0)+(ROW(AD5)-ROW($C$5))*7+(COLUMN(AD5)-COLUMN($C$5)+1)) -> 41544 | D36: 0.375 | E36: 0.52083333 | H36: =K36 -> 0.14583333 | I36: =E36-D36 -> 0.14583333 | J36: =G36-F36 -> 0 | K36: =J36+I36 -> 0.14583333
B37: =B27-DAY(B27)+14-WEEKDAY(B27-DAY(B27)) -> 41524 | C37: =IF(MONTH($A$14)<>MONTH($A$14-(WEEKDAY($A$14,1)-($A$6-1))-IF((WEEKDAY($A$14,1)-($A$6-1))<=0,7,0)+(ROW(AE5)-ROW($C$5))*7+(COLUMN(AE5)-COLUMN($C$5)+1)),"",$A$14-(WEEKDAY($A$14,1)-($A$6-1))-IF((WEEKDAY($A$14,1)-($A$6-1))<=0,7,0)+(ROW(AE5)-ROW($C$5))*7+(COLUMN(AE5)-COLUMN($C$5)+1)) -> 41545 | H37: =IF(K37=0,"",K37) | I37: =E37-D37 -> 0 | J37: =G37-F37 -> 0 | K37: =J37+I37 -> 0
B38: =B27-DAY(B27)+15-WEEKDAY(B27-DAY(B27)) -> 41525 | C38: =IF(MONTH($A$14)<>MONTH($A$14-(WEEKDAY($A$14,1)-($A$6-1))-IF((WEEKDAY($A$14,1)-($A$6-1))<=0,7,0)+(ROW(AF5)-ROW($C$5))*7+(COLUMN(AF5)-COLUMN($C$5)+1)),"",$A$14-(WEEKDAY($A$14,1)-($A$6-1))-IF((WEEKDAY($A$14,1)-($A$6-1))<=0,7,0)+(ROW(AF5)-ROW($C$5))*7+(COLUMN(AF5)-COLUMN($C$5)+1)) -> 41546 | H38: =IF(K38=0,"",K38) | I38: =E38-D38 -> 0 | J38: =G38-F38 -> 0 | K38: =J38+I38 -> 0
B39: TOTAL SEMAINE | H39: =K39 -> 0.83333333 | K39: =K32+K33+K34+K35+K36+K37+K38 -> 0.83333333
B40: =INT((C41-(DATE(YEAR(C41-WEEKDAY(C41-1)+4),1,3)-WEEKDAY(DATE(YEAR(C41-WEEKDAY(C41-1)+4),1,3)))+5)/7) -> 40 | D40: ="Semaine du "&TEXT(MIN(C41:C45,C41:C45),"jj")&" au "&TEXT(MAX(C41:C45,C41:C45),"jj mmmm aaaa") -> Semaine du 30 au 30 septembre 2013
B41: =B36-DAY(B36)+9-WEEKDAY(B36-DAY(B36)) -> 41519 | C41: =IF(MONTH($A$14)<>MONTH($A$14-(WEEKDAY($A$14,1)-($A$6-1))-IF((WEEKDAY($A$14,1)-($A$6-1))<=0,7,0)+(ROW(AG5)-ROW($C$5))*7+(COLUMN(AG5)-COLUMN($C$5)+1)),"",$A$14-(WEEKDAY($A$14,1)-($A$6-1))-IF((WEEKDAY($A$14,1)-($A$6-1))<=0,7,0)+(ROW(AG5)-ROW($C$5))*7+(COLUMN(AG5)-COLUMN($C$5)+1)) -> 41547 | D41: 0.375 | E41: 0.52083333 | F41: 0.58333333 | G41: 0.70833333 | H41: =K41 -> 0.27083333 | I41: =E41-D41 -> 0.14583333 | J41: =G41-F41 -> 0.125 | K41: =J41+I41 -> 0.27083333
B42: =B36-DAY(B36)+10-WEEKDAY(B36-DAY(B36)) -> 41520 | C42: =IF(MONTH($A$14)<>MONTH($A$14-(WEEKDAY($A$14,1)-($A$6-1))-IF((WEEKDAY($A$14,1)-($A$6-1))<=0,7,0)+(ROW(AH5)-ROW($C$5))*7+(COLUMN(AH5)-COLUMN($C$5)+1)),"",$A$14-(WEEKDAY($A$14,1)-($A$6-1))-IF((WEEKDAY($A$14,1)-($A$6-1))<=0,7,0)+(ROW(AH5)-ROW($C$5))*7+(COLUMN(AH5)-COLUMN($C$5)+1)) | D42: 0.375 | E42: 0.52083333 | H42: =K42 -> 0.14583333 | I42: =E42-D42 -> 0.14583333 | J42: =G42-F42 -> 0 | K42: =J42+I42 -> 0.14583333
B43: =B36-DAY(B36)+11-WEEKDAY(B36-DAY(B36)) -> 41521 | C43: =IF(MONTH($A$14)<>MONTH($A$14-(WEEKDAY($A$14,1)-($A$6-1))-IF((WEEKDAY($A$14,1)-($A$6-1))<=0,7,0)+(ROW(AI5)-ROW($C$5))*7+(COLUMN(AI5)-COLUMN($C$5)+1)),"",$A$14-(WEEKDAY($A$14,1)-($A$6-1))-IF((WEEKDAY($A$14,1)-($A$6-1))<=0,7,0)+(ROW(AI5)-ROW($C$5))*7+(COLUMN(AI5)-COLUMN($C$5)+1)) | H43: =IF(K43=0,"",K43) | I43: =E43-D43 -> 0 | J43: =G43-F43 -> 0 | K43: =J43+I43 -> 0
B44: =B36-DAY(B36)+12-WEEKDAY(B36-DAY(B36)) -> 41522 | C44: =IF(MONTH($A$14)<>MONTH($A$14-(WEEKDAY($A$14,1)-($A$6-1))-IF((WEEKDAY($A$14,1)-($A$6-1))<=0,7,0)+(ROW(AJ5)-ROW($C$5))*7+(COLUMN(AJ5)-COLUMN($C$5)+1)),"",$A$14-(WEEKDAY($A$14,1)-($A$6-1))-IF((WEEKDAY($A$14,1)-($A$6-1))<=0,7,0)+(ROW(AJ5)-ROW($C$5))*7+(COLUMN(AJ5)-COLUMN($C$5)+1)) | D44: 0.375 | E44: 0.52083333 | F44: 0.58333333 | G44: 0.70833333 | H44: =K44 -> 0.27083333 | I44: =E44-D44 -> 0.14583333 | J44: =G44-F44 -> 0.125 | K44: =J44+I44 -> 0.27083333
B45: =B36-DAY(B36)+13-WEEKDAY(B36-DAY(B36)) -> 41523 | C45: =IF(MONTH($A$14)<>MONTH($A$14-(WEEKDAY($A$14,1)-($A$6-1))-IF((WEEKDAY($A$14,1)-($A$6-1))<=0,7,0)+(ROW(AK5)-ROW($C$5))*7+(COLUMN(AK5)-COLUMN($C$5)+1)),"",$A$14-(WEEKDAY($A$14,1)-($A$6-1))-IF((WEEKDAY($A$14,1)-($A$6-1))<=0,7,0)+(ROW(AK5)-ROW($C$5))*7+(COLUMN(AK5)-COLUMN($C$5)+1)) | D45: 0.375 | E45: 0.52083333 | H45: =K45 -> 0.14583333 | I45: =E45-D45 -> 0.14583333 | J45: =G45-F45 -> 0 | K45: =J45+I45 -> 0.14583333
B46: =B36-DAY(B36)+14-WEEKDAY(B36-DAY(B36)) -> 41524 | C46: =IF(MONTH($A$14)<>MONTH($A$14-(WEEKDAY($A$14,1)-($A$6-1))-IF((WEEKDAY($A$14,1)-($A$6-1))<=0,7,0)+(ROW(AL5)-ROW($C$5))*7+(COLUMN(AL5)-COLUMN($C$5)+1)),"",$A$14-(WEEKDAY($A$14,1)-($A$6-1))-IF((WEEKDAY($A$14,1)-($A$6-1))<=0,7,0)+(ROW(AL5)-ROW($C$5))*7+(COLUMN(AL5)-COLUMN($C$5)+1)) | H46: =IF(K46=0,"",K46) | I46: =E46-D46 -> 0 | J46: =G46-F46 -> 0 | K46: =J46+I46 -> 0
B47: =B36-DAY(B36)+15-WEEKDAY(B36-DAY(B36)) -> 41525 | C47: =IF(MONTH($A$14)<>MONTH($A$14-(WEEKDAY($A$14,1)-($A$6-1))-IF((WEEKDAY($A$14,1)-($A$6-1))<=0,7,0)+(ROW(AM5)-ROW($C$5))*7+(COLUMN(AM5)-COLUMN($C$5)+1)),"",$A$14-(WEEKDAY($A$14,1)-($A$6-1))-IF((WEEKDAY($A$14,1)-($A$6-1))<=0,7,0)+(ROW(AM5)-ROW($C$5))*7+(COLUMN(AM5)-COLUMN($C$5)+1)) | H47: =IF(K47=0,"",K47) | I47: =E47-D47 -> 0 | J47: =G47-F47 -> 0 | K47: =J47+I47 -> 0
B48: TOTAL SEMAINE | H48: =K48 -> 0.83333333 | K48: =K41+K42+K43+K44+K45+K46+K47 -> 0.83333333
B49: Cumul mois | H49: =H12+H21+H30+H39+H48 -> 4.1666667
B50: Cumul Année | H50: =H49+Janvier!H49+Février!H49+Mars!H49+Avril!H49+Mai!H49+Juin!H49+Juillet!H49+Août!H49 -> 27.25

Sheet Octobre
A1: =YEAR(B1) -> 2013 | B1: =DATE(Septembre!A1,(Septembre!A2)+1,1) -> 41548 | D1: MATIN | E1: MIDI | F1: APRES MIDI | G1: SOIR | H1: TOTAL
A2: =MONTH(B1) -> 10 | B2: =INT((C11-(DATE(YEAR(C11-WEEKDAY(C11-1)+4),1,3)-WEEKDAY(DATE(YEAR(C11-WEEKDAY(C11-1)+4),1,3)))+5)/7) -> 40 | D2: ="Semaine du "&TEXT(MIN(C5:C9,C5:C9),"jj")&" au "&TEXT(MAX(C5:C9,C5:C9),"jj mmmm aaaa") -> Semaine du 01 au 04 octobre 2013
C3: =IF(MONTH($A$14)<>MONTH($A$14-(WEEKDAY($A$14,1)-($A$6-1))-IF((WEEKDAY($A$14,1)-($A$6-1))<=0,7,0)+(ROW(C5)-ROW($C$5))*7+(COLUMN(C5)-COLUMN($C$5)+1)),"",$A$14-(WEEKDAY($A$14,1)-($A$6-1))-IF((WEEKDAY($A$14,1)-($A$6-1))<=0,7,0)+(ROW(C5)-ROW($C$5))*7+(COLUMN(C5)-COLUMN($C$5)+1))
C4: =IF(MONTH($A$14)<>MONTH($A$14-(WEEKDAY($A$14,1)-($A$6-1))-IF((WEEKDAY($A$14,1)-($A$6-1))<=0,7,0)+(ROW(D5)-ROW($C$5))*7+(COLUMN(D5)-COLUMN($C$5)+1)),"",$A$14-(WEEKDAY($A$14,1)-($A$6-1))-IF((WEEKDAY($A$14,1)-($A$6-1))<=0,7,0)+(ROW(D5)-ROW($C$5))*7+(COLUMN(D5)-COLUMN($C$5)+1))
A5: 7 | B5: =B1-DAY(B1)+9-WEEKDAY(B1-DAY(B1)) -> 41554 | C5: =IF(MONTH($A$14)<>MONTH($A$14-(WEEKDAY($A$14,1)-($A$6-1))-IF((WEEKDAY($A$14,1)-($A$6-1))<=0,7,0)+(ROW(E5)-ROW($C$5))*7+(COLUMN(E5)-COLUMN($C$5)+1)),"",$A$14-(WEEKDAY($A$14,1)-($A$6-1))-IF((WEEKDAY($A$14,1)-($A$6-1))<=0,7,0)+(ROW(E5)-ROW($C$5))*7+(COLUMN(E5)-COLUMN($C$5)+1)) | D5: 0.41666667 | E5: 0.52083333 | F5: 0.5625 | G5: 0.70833333 | H5: =K5 -> 0.25 | I5: =E5-D5 -> 0.10416667 | J5: =G5-F5 -> 0.14583333 | K5: =J5+I5 -> 0.25
A6: 7 | B6: =B1-DAY(B1)+10-WEEKDAY(B1-DAY(B1)) -> 41555 | C6: =IF(MONTH($A$14)<>MONTH($A$14-(WEEKDAY($A$14,1)-($A$6-1))-IF((WEEKDAY($A$14,1)-($A$6-1))<=0,7,0)+(ROW(F5)-ROW($C$5))*7+(COLUMN(F5)-COLUMN($C$5)+1)),"",$A$14-(WEEKDAY($A$14,1)-($A$6-1))-IF((WEEKDAY($A$14,1)-($A$6-1))<=0,7,0)+(ROW(F5)-ROW($C$5))*7+(COLUMN(F5)-COLUMN($C$5)+1)) -> 41548 | D6: 0.375 | E6: 0.52083333 | H6: =K6 -> 0.14583333 | I6: =E6-D6 -> 0.14583333 | J6: =G6-F6 -> 0 | K6: =J6+I6 -> 0.14583333
B7: =B1-DAY(B1)+11-WEEKDAY(B1-DAY(B1)) -> 41556 | C7: =IF(MONTH($A$14)<>MONTH($A$14-(WEEKDAY($A$14,1)-($A$6-1))-IF((WEEKDAY($A$14,1)-($A$6-1))<=0,7,0)+(ROW(G5)-ROW($C$5))*7+(COLUMN(G5)-COLUMN($C$5)+1)),"",$A$14-(WEEKDAY($A$14,1)-($A$6-1))-IF((WEEKDAY($A$14,1)-($A$6-1))<=0,7,0)+(ROW(G5)-ROW($C$5))*7+(COLUMN(G5)-COLUMN($C$5)+1)) -> 41549 | H7: =IF(K7=0,"",K7) | I7: =E7-D7 -> 0 | J7: =G7-F7 -> 0 | K7: =J7+I7 -> 0
B8: =B1-DAY(B1)+12-WEEKDAY(B1-DAY(B1)) -> 41557 | C8: =IF(MONTH($A$14)<>MONTH($A$14-(WEEKDAY($A$14,1)-($A$6-1))-IF((WEEKDAY($A$14,1)-($A$6-1))<=0,7,0)+(ROW(H5)-ROW($C$5))*7+(COLUMN(H5)-COLUMN($C$5)+1)),"",$A$14-(WEEKDAY($A$14,1)-($A$6-1))-IF((WEEKDAY($A$14,1)-($A$6-1))<=0,7,0)+(ROW(H5)-ROW($C$5))*7+(COLUMN(H5)-COLUMN($C$5)+1)) -> 41550 | D8: 0.375 | E8: 0.52083333 | F8: 0.5625 | G8: 0.70833333 | H8: =K8 -> 0.29166667 | I8: =E8-D8 -> 0.14583333 | J8: =G8-F8 -> 0.14583333 | K8: =J8+I8 -> 0.29166667
B9: =B1-DAY(B1)+13-WEEKDAY(B1-DAY(B1)) -> 41558 | C9: =IF(MONTH($A$14)<>MONTH($A$14-(WEEKDAY($A$14,1)-($A$6-1))-IF((WEEKDAY($A$14,1)-($A$6-1))<=0,7,0)+(ROW(I5)-ROW($C$5))*7+(COLUMN(I5)-COLUMN($C$5)+1)),"",$A$14-(WEEKDAY($A$14,1)-($A$6-1))-IF((WEEKDAY($A$14,1)-($A$6-1))<=0,7,0)+(ROW(I5)-ROW($C$5))*7+(COLUMN(I5)-COLUMN($C$5)+1)) -> 41551 | D9: 0.375 | E9: 0.52083333 | H9: =K9 -> 0.14583333 | I9: =E9-D9 -> 0.14583333 | J9: =G9-F9 -> 0 | K9: =J9+I9 -> 0.14583333
B10: =B1-DAY(B1)+14-WEEKDAY(B1-DAY(B1)) -> 41559 | C10: =IF(MONTH($A$14)<>MONTH($A$14-(WEEKDAY($A$14,1)-($A$6-1))-IF((WEEKDAY($A$14,1)-($A$6-1))<=0,7,0)+(ROW(J5)-ROW($C$5))*7+(COLUMN(J5)-COLUMN($C$5)+1)),"",$A$14-(WEEKDAY($A$14,1)-($A$6-1))-IF((WEEKDAY($A$14,1)-($A$6-1))<=0,7,0)+(ROW(J5)-ROW($C$5))*7+(COLUMN(J5)-COLUMN($C$5)+1)) -> 41552 | H10: =IF(K10=0,"",K10) | I10: =E10-D10 -> 0 | J10: =G10-F10 -> 0 | K10: =J10+I10 -> 0
B11: =B1-DAY(B1)+15-WEEKDAY(B1-DAY(B1)) -> 41560 | C11: =IF(MONTH($A$14)<>MONTH($A$14-(WEEKDAY($A$14,1)-($A$6-1))-IF((WEEKDAY($A$14,1)-($A$6-1))<=0,7,0)+(ROW(K5)-ROW($C$5))*7+(COLUMN(K5)-COLUMN($C$5)+1)),"",$A$14-(WEEKDAY($A$14,1)-($A$6-1))-IF((WEEKDAY($A$14,1)-($A$6-1))<=0,7,0)+(ROW(K5)-ROW($C$5))*7+(COLUMN(K5)-COLUMN($C$5)+1)) -> 41553 | H11: =IF(K11=0,"",K11) | I11: =E11-D11 -> 0 | J11: =G11-F11 -> 0 | K11: =J11+I11 -> 0
B12: TOTAL SEMAINE | H12: =K12 -> 0.83333333 | K12: =K5+K6+K7+K8+K9+K10+K11 -> 0.83333333
B13: =INT((C20-(DATE(YEAR(C20-WEEKDAY(C20-1)+4),1,3)-WEEKDAY(DATE(YEAR(C20-WEEKDAY(C20-1)+4),1,3)))+5)/7) -> 41 | D13: ="Semaine du "&TEXT(MIN(C14:C18,C14:C18),"jj")&" au "&TEXT(MAX(C14:C18,C14:C18),"jj mmmm aaaa") -> Semaine du 07 au 11 octobre 2013
A14: =DATE(A1,A2,1) -> 41548 | B14: =B10-DAY(B10)+9-WEEKDAY(B10-DAY(B10)) -> 41554 | C14: =IF(MONTH($A$14)<>MONTH($A$14-(WEEKDAY($A$14,1)-($A$6-1))-IF((WEEKDAY($A$14,1)-($A$6-1))<=0,7,0)+(ROW(L5)-ROW($C$5))*7+(COLUMN(L5)-COLUMN($C$5)+1)),"",$A$14-(WEEKDAY($A$14,1)-($A$6-1))-IF((WEEKDAY($A$14,1)-($A$6-1))<=0,7,0)+(ROW(L5)-ROW($C$5))*7+(COLUMN(L5)-COLUMN($C$5)+1)) -> 41554 | D14: 0.41666667 | E14: 0.52083333 | F14: 0.5625 | G14: 0.70833333 | H14: =K14 -> 0.25 | I14: =E14-D14 -> 0.10416667 | J14: =G14-F14 -> 0.14583333 | K14: =J14+I14 -> 0.25
B15: =B10-DAY(B10)+10-WEEKDAY(B10-DAY(B10)) -> 41555 | C15: =IF(MONTH($A$14)<>MONTH($A$14-(WEEKDAY($A$14,1)-($A$6-1))-IF((WEEKDAY($A$14,1)-($A$6-1))<=0,7,0)+(ROW(M5)-ROW($C$5))*7+(COLUMN(M5)-COLUMN($C$5)+1)),"",$A$14-(WEEKDAY($A$14,1)-($A$6-1))-IF((WEEKDAY($A$14,1)-($A$6-1))<=0,7,0)+(ROW(M5)-ROW($C$5))*7+(COLUMN(M5)-COLUMN($C$5)+1)) -> 41555 | D15: 0.375 | E15: 0.52083333 | H15: =K15 -> 0.14583333 | I15: =E15-D15 -> 0.14583333 | J15: =G15-F15 -> 0 | K15: =J15+I15 -> 0.14583333
B16: =B10-DAY(B10)+11-WEEKDAY(B10-DAY(B10)) -> 41556 | C16: =IF(MONTH($A$14)<>MONTH($A$14-(WEEKDAY($A$14,1)-($A$6-1))-IF((WEEKDAY($A$14,1)-($A$6-1))<=0,7,0)+(ROW(N5)-ROW($C$5))*7+(COLUMN(N5)-COLUMN($C$5)+1)),"",$A$14-(WEEKDAY($A$14,1)-($A$6-1))-IF((WEEKDAY($A$14,1)-($A$6-1))<=0,7,0)+(ROW(N5)-ROW($C$5))*7+(COLUMN(N5)-COLUMN($C$5)+1)) -> 41556 | H16: =IF(K16=0,"",K16) | I16: =E16-D16 -> 0 | J16: =G16-F16 -> 0 | K16: =J16+I16 -> 0
B17: =B10-DAY(B10)+12-WEEKDAY(B10-DAY(B10)) -> 41557 | C17: =IF(MONTH($A$14)<>MONTH($A$14-(WEEKDAY($A$14,1)-($A$6-1))-IF((WEEKDAY($A$14,1)-($A$6-1))<=0,7,0)+(ROW(O5)-ROW($C$5))*7+(COLUMN(O5)-COLUMN($C$5)+1)),"",$A$14-(WEEKDAY($A$14,1)-($A$6-1))-IF((WEEKDAY($A$14,1)-($A$6-1))<=0,7,0)+(ROW(O5)-ROW($C$5))*7+(COLUMN(O5)-COLUMN($C$5)+1)) -> 41557 | D17: 0.375 | E17: 0.52083333 | F17: 0.5625 | G17: 0.70833333 | H17: =K17 -> 0.29166667 | I17: =E17-D17 -> 0.14583333 | J17: =G17-F17 -> 0.14583333 | K17: =J17+I17 -> 0.29166667
B18: =B10-DAY(B10)+13-WEEKDAY(B10-DAY(B10)) -> 41558 | C18: =IF(MONTH($A$14)<>MONTH($A$14-(WEEKDAY($A$14,1)-($A$6-1))-IF((WEEKDAY($A$14,1)-($A$6-1))<=0,7,0)+(ROW(P5)-ROW($C$5))*7+(COLUMN(P5)-COLUMN($C$5)+1)),"",$A$14-(WEEKDAY($A$14,1)-($A$6-1))-IF((WEEKDAY($A$14,1)-($A$6-1))<=0,7,0)+(ROW(P5)-ROW($C$5))*7+(COLUMN(P5)-COLUMN($C$5)+1)) -> 41558 | D18: 0.375 | E18: 0.52083333 | H18: =K18 -> 0.14583333 | I18: =E18-D18 -> 0.14583333 | J18: =G18-F18 -> 0 | K18: =J18+I18 -> 0.14583333
B19: =B10-DAY(B10)+14-WEEKDAY(B10-DAY(B10)) -> 41559 | C19: =IF(MONTH($A$14)<>MONTH($A$14-(WEEKDAY($A$14,1)-($A$6-1))-IF((WEEKDAY($A$14,1)-($A$6-1))<=0,7,0)+(ROW(Q5)-ROW($C$5))*7+(COLUMN(Q5)-COLUMN($C$5)+1)),"",$A$14-(WEEKDAY($A$14,1)-($A$6-1))-IF((WEEKDAY($A$14,1)-($A$6-1))<=0,7,0)+(ROW(Q5)-ROW($C$5))*7+(COLUMN(Q5)-COLUMN($C$5)+1)) -> 41559 | H19: =IF(K19=0,"",K19) | I19: =E19-D19 -> 0 | J19: =G19-F19 -> 0 | K19: =J19+I19 -> 0
B20: =B10-DAY(B10)+15-WEEKDAY(B10-DAY(B10)) -> 41560 | C20: =IF(MONTH($A$14)<>MONTH($A$14-(WEEKDAY($A$14,1)-($A$6-1))-IF((WEEKDAY($A$14,1)-($A$6-1))<=0,7,0)+(ROW(R5)-ROW($C$5))*7+(COLUMN(R5)-COLUMN($C$5)+1)),"",$A$14-(WEEKDAY($A$14,1)-($A$6-1))-IF((WEEKDAY($A$14,1)-($A$6-1))<=0,7,0)+(ROW(R5)-ROW($C$5))*7+(COLUMN(R5)-COLUMN($C$5)+1)) -> 41560 | H20: =IF(K20=0,"",K20) | I20: =E20-D20 -> 0 | J20: =G20-F20 -> 0 | K20: =J20+I20 -> 0
B21: TOTAL SEMAINE | H21: =K21 -> 0.83333333 | K21: =K14+K15+K16+K17+K18+K19+K20 -> 0.83333333
B22: =INT((C29-(DATE(YEAR(C29-WEEKDAY(C29-1)+4),1,3)-WEEKDAY(DATE(YEAR(C29-WEEKDAY(C29-1)+4),1,3)))+5)/7) -> 42 | D22: ="Semaine du "&TEXT(MIN(C23:C27,C23:C27),"jj")&" au "&TEXT(MAX(C23:C27,C23:C27),"jj mmmm aaaa") -> Semaine du 14 au 18 octobre 2013
B23: =B18-DAY(B18)+9-WEEKDAY(B18-DAY(B18)) -> 41554 | C23: =IF(MONTH($A$14)<>MONTH($A$14-(WEEKDAY($A$14,1)-($A$6-1))-IF((WEEKDAY($A$14,1)-($A$6-1))<=0,7,0)+(ROW(S5)-ROW($C$5))*7+(COLUMN(S5)-COLUMN($C$5)+1)),"",$A$14-(WEEKDAY($A$14,1)-($A$6-1))-IF((WEEKDAY($A$14,1)-($A$6-1))<=0,7,0)+(ROW(S5)-ROW($C$5))*7+(COLUMN(S5)-COLUMN($C$5)+1)) -> 41561 | D23: 0.41666667 | E23: 0.52083333 | F23: 0.5625 | G23: 0.70833333 | H23: =K23 -> 0.25 | I23: =E23-D23 -> 0.10416667 | J23: =G23-F23 -> 0.14583333 | K23: =J23+I23 -> 0.25
B24: =B18-DAY(B18)+10-WEEKDAY(B18-DAY(B18)) -> 41555 | C24: =IF(MONTH($A$14)<>MONTH($A$14-(WEEKDAY($A$14,1)-($A$6-1))-IF((WEEKDAY($A$14,1)-($A$6-1))<=0,7,0)+(ROW(T5)-ROW($C$5))*7+(COLUMN(T5)-COLUMN($C$5)+1)),"",$A$14-(WEEKDAY($A$14,1)-($A$6-1))-IF((WEEKDAY($A$14,1)-($A$6-1))<=0,7,0)+(ROW(T5)-ROW($C$5))*7+(COLUMN(T5)-COLUMN($C$5)+1)) -> 41562 | D24: 0.375 | E24: 0.52083333 | H24: =K24 -> 0.14583333 | I24: =E24-D24 -> 0.14583333 | J24: =G24-F24 -> 0 | K24: =J24+I24 -> 0.14583333
B25: =B18-DAY(B18)+11-WEEKDAY(B18-DAY(B18)) -> 41556 | C25: =IF(MONTH($A$14)<>MONTH($A$14-(WEEKDAY($A$14,1)-($A$6-1))-IF((WEEKDAY($A$14,1)-($A$6-1))<=0,7,0)+(ROW(U5)-ROW($C$5))*7+(COLUMN(U5)-COLUMN($C$5)+1)),"",$A$14-(WEEKDAY($A$14,1)-($A$6-1))-IF((WEEKDAY($A$14,1)-($A$6-1))<=0,7,0)+(ROW(U5)-ROW($C$5))*7+(COLUMN(U5)-COLUMN($C$5)+1)) -> 41563 | H25: =IF(K25=0,"",K25) | I25: =E25-D25 -> 0 | J25: =G25-F25 -> 0 | K25: =J25+I25 -> 0
B26: =B18-DAY(B18)+12-WEEKDAY(B18-DAY(B18)) -> 41557 | C26: =IF(MONTH($A$14)<>MONTH($A$14-(WEEKDAY($A$14,1)-($A$6-1))-IF((WEEKDAY($A$14,1)-($A$6-1))<=0,7,0)+(ROW(V5)-ROW($C$5))*7+(COLUMN(V5)-COLUMN($C$5)+1)),"",$A$14-(WEEKDAY($A$14,1)-($A$6-1))-IF((WEEKDAY($A$14,1)-($A$6-1))<=0,7,0)+(ROW(V5)-ROW($C$5))*7+(COLUMN(V5)-COLUMN($C$5)+1)) -> 41564 | D26: 0.375 | E26: 0.52083333 | F26: 0.5625 | G26: 0.70833333 | H26: =K26 -> 0.29166667 | I26: =E26-D26 -> 0.14583333 | J26: =G26-F26 -> 0.14583333 | K26: =J26+I26 -> 0.29166667
B27: =B18-DAY(B18)+13-WEEKDAY(B18-DAY(B18)) -> 41558 | C27: =IF(MONTH($A$14)<>MONTH($A$14-(WEEKDAY($A$14,1)-($A$6-1))-IF((WEEKDAY($A$14,1)-($A$6-1))<=0,7,0)+(ROW(W5)-ROW($C$5))*7+(COLUMN(W5)-COLUMN($C$5)+1)),"",$A$14-(WEEKDAY($A$14,1)-($A$6-1))-IF((WEEKDAY($A$14,1)-($A$6-1))<=0,7,0)+(ROW(W5)-ROW($C$5))*7+(COLUMN(W5)-COLUMN($C$5)+1)) -> 41565 | D27: 0.375 | E27: 0.52083333 | H27: =K27 -> 0.14583333 | I27: =E27-D27 -> 0.14583333 | J27: =G27-F27 -> 0 | K27: =J27+I27 -> 0.14583333
B28: =B18-DAY(B18)+14-WEEKDAY(B18-DAY(B18)) -> 41559 | C28: =IF(MONTH($A$14)<>MONTH($A$14-(WEEKDAY($A$14,1)-($A$6-1))-IF((WEEKDAY($A$14,1)-($A$6-1))<=0,7,0)+(ROW(X5)-ROW($C$5))*7+(COLUMN(X5)-COLUMN($C$5)+1)),"",$A$14-(WEEKDAY($A$14,1)-($A$6-1))-IF((WEEKDAY($A$14,1)-($A$6-1))<=0,7,0)+(ROW(X5)-ROW($C$5))*7+(COLUMN(X5)-COLUMN($C$5)+1)) -> 41566 | H28: =IF(K28=0,"",K28) | I28: =E28-D28 -> 0 | J28: =G28-F28 -> 0 | K28: =J28+I28 -> 0
B29: =B18-DAY(B18)+15-WEEKDAY(B18-DAY(B18)) -> 41560 | C29: =IF(MONTH($A$14)<>MONTH($A$14-(WEEKDAY($A$14,1)-($A$6-1))-IF((WEEKDAY($A$14,1)-($A$6-1))<=0,7,0)+(ROW(Y5)-ROW($C$5))*7+(COLUMN(Y5)-COLUMN($C$5)+1)),"",$A$14-(WEEKDAY($A$14,1)-($A$6-1))-IF((WEEKDAY($A$14,1)-($A$6-1))<=0,7,0)+(ROW(Y5)-ROW($C$5))*7+(COLUMN(Y5)-COLUMN($C$5)+1)) -> 41567 | H29: =IF(K29=0,"",K29) | I29: =E29-D29 -> 0 | J29: =G29-F29 -> 0 | K29: =J29+I29 -> 0
B30: TOTAL SEMAINE | H30: =K30 -> 0.83333333 | K30: =K23+K24+K25+K26+K27+K28+K29 -> 0.83333333
B31: =INT((C38-(DATE(YEAR(C38-WEEKDAY(C38-1)+4),1,3)-WEEKDAY(DATE(YEAR(C38-WEEKDAY(C38-1)+4),1,3)))+5)/7) -> 43 | D31: ="Semaine du "&TEXT(MIN(C32:C36,C32:C36),"jj")&" au "&TEXT(MAX(C32:C36,C32:C36),"jj mmmm aaaa") -> Semaine du 21 au 25 octobre 2013
B32: =B27-DAY(B27)+9-WEEKDAY(B27-DAY(B27)) -> 41554 | C32: =IF(MONTH($A$14)<>MONTH($A$14-(WEEKDAY($A$14,1)-($A$6-1))-IF((WEEKDAY($A$14,1)-($A$6-1))<=0,7,0)+(ROW(Z5)-ROW($C$5))*7+(COLUMN(Z5)-COLUMN($C$5)+1)),"",$A$14-(WEEKDAY($A$14,1)-($A$6-1))-IF((WEEKDAY($A$14,1)-($A$6-1))<=0,7,0)+(ROW(Z5)-ROW($C$5))*7+(COLUMN(Z5)-COLUMN($C$5)+1)) -> 41568 | D32: 0.375 | E32: 0.52083333 | F32: 0.58333333 | G32: 0.70833333 | H32: =K32 -> 0.27083333 | I32: =E32-D32 -> 0.14583333 | J32: =G32-F32 -> 0.125 | K32: =J32+I32 -> 0.27083333
B33: =B27-DAY(B27)+10-WEEKDAY(B27-DAY(B27)) -> 41555 | C33: =IF(MONTH($A$14)<>MONTH($A$14-(WEEKDAY($A$14,1)-($A$6-1))-IF((WEEKDAY($A$14,1)-($A$6-1))<=0,7,0)+(ROW(AA5)-ROW($C$5))*7+(COLUMN(AA5)-COLUMN($C$5)+1)),"",$A$14-(WEEKDAY($A$14,1)-($A$6-1))-IF((WEEKDAY($A$14,1)-($A$6-1))<=0,7,0)+(ROW(AA5)-ROW($C$5))*7+(COLUMN(AA5)-COLUMN($C$5)+1)) -> 41569 | D33: 0.375 | E33: 0.52083333 | H33: =K33 -> 0.14583333 | I33: =E33-D33 -> 0.14583333 | J33: =G33-F33 -> 0 | K33: =J33+I33 -> 0.14583333
B34: =B27-DAY(B27)+11-WEEKDAY(B27-DAY(B27)) -> 41556 | C34: =IF(MONTH($A$14)<>MONTH($A$14-(WEEKDAY($A$14,1)-($A$6-1))-IF((WEEKDAY($A$14,1)-($A$6-1))<=0,7,0)+(ROW(AB5)-ROW($C$5))*7+(COLUMN(AB5)-COLUMN($C$5)+1)),"",$A$14-(WEEKDAY($A$14,1)-($A$6-1))-IF((WEEKDAY($A$14,1)-($A$6-1))<=0,7,0)+(ROW(AB5)-ROW($C$5))*7+(COLUMN(AB5)-COLUMN($C$5)+1)) -> 41570 | H34: =IF(K34=0,"",K34) | I34: =E34-D34 -> 0 | J34: =G34-F34 -> 0 | K34: =J34+I34 -> 0
B35: =B27-DAY(B27)+12-WEEKDAY(B27-DAY(B27)) -> 41557 | C35: =IF(MONTH($A$14)<>MONTH($A$14-(WEEKDAY($A$14,1)-($A$6-1))-IF((WEEKDAY($A$14,1)-($A$6-1))<=0,7,0)+(ROW(AC5)-ROW($C$5))*7+(COLUMN(AC5)-COLUMN($C$5)+1)),"",$A$14-(WEEKDAY($A$14,1)-($A$6-1))-IF((WEEKDAY($A$14,1)-($A$6-1))<=0,7,0)+(ROW(AC5)-ROW($C$5))*7+(COLUMN(AC5)-COLUMN($C$5)+1)) -> 41571 | D35: 0.375 | E35: 0.52083333 | F35: 0.58333333 | G35: 0.70833333 | H35: =K35 -> 0.27083333 | I35: =E35-D35 -> 0.14583333 | J35: =G35-F35 -> 0.125 | K35: =J35+I35 -> 0.27083333
B36: =B27-DAY(B27)+13-WEEKDAY(B27-DAY(B27)) -> 41558 | C36: =IF(MONTH($A$14)<>MONTH($A$14-(WEEKDAY($A$14,1)-($A$6-1))-IF((WEEKDAY($A$14,1)-($A$6-1))<=0,7,0)+(ROW(AD5)-ROW($C$5))*7+(COLUMN(AD5)-COLUMN($C$5)+1)),"",$A$14-(WEEKDAY($A$14,1)-($A$6-1))-IF((WEEKDAY($A$14,1)-($A$6-1))<=0,7,0)+(ROW(AD5)-ROW($C$5))*7+(COLUMN(AD5)-COLUMN($C$5)+1)) -> 41572 | D36: 0.375 | E36: 0.52083333 | H36: =K36 -> 0.14583333 | I36: =E36-D36 -> 0.14583333 | J36: =G36-F36 -> 0 | K36: =J36+I36 -> 0.14583333
B37: =B27-DAY(B27)+14-WEEKDAY(B27-DAY(B27)) -> 41559 | C37: =IF(MONTH($A$14)<>MONTH($A$14-(WEEKDAY($A$14,1)-($A$6-1))-IF((WEEKDAY($A$14,1)-($A$6-1))<=0,7,0)+(ROW(AE5)-ROW($C$5))*7+(COLUMN(AE5)-COLUMN($C$5)+1)),"",$A$14-(WEEKDAY($A$14,1)-($A$6-1))-IF((WEEKDAY($A$14,1)-($A$6-1))<=0,7,0)+(ROW(AE5)-ROW($C$5))*7+(COLUMN(AE5)-COLUMN($C$5)+1)) -> 41573 | H37: =IF(K37=0,"",K37) | I37: =E37-D37 -> 0 | J37: =G37-F37 -> 0 | K37: =J37+I37 -> 0
B38: =B27-DAY(B27)+15-WEEKDAY(B27-DAY(B27)) -> 41560 | C38: =IF(MONTH($A$14)<>MONTH($A$14-(WEEKDAY($A$14,1)-($A$6-1))-IF((WEEKDAY($A$14,1)-($A$6-1))<=0,7,0)+(ROW(AF5)-ROW($C$5))*7+(COLUMN(AF5)-COLUMN($C$5)+1)),"",$A$14-(WEEKDAY($A$14,1)-($A$6-1))-IF((WEEKDAY($A$14,1)-($A$6-1))<=0,7,0)+(ROW(AF5)-ROW($C$5))*7+(COLUMN(AF5)-COLUMN($C$5)+1)) -> 41574 | H38: =IF(K38=0,"",K38) | I38: =E38-D38 -> 0 | J38: =G38-F38 -> 0 | K38: =J38+I38 -> 0
B39: TOTAL SEMAINE | H39: =K39 -> 0.83333333 | K39: =K32+K33+K34+K35+K36+K37+K38 -> 0.83333333
B40: =INT((C41-(DATE(YEAR(C41-WEEKDAY(C41-1)+4),1,3)-WEEKDAY(DATE(YEAR(C41-WEEKDAY(C41-1)+4),1,3)))+5)/7) -> 44 | D40: ="Semaine du "&TEXT(MIN(C41:C45,C41:C45),"jj")&" au "&TEXT(MAX(C41:C45,C41:C45),"jj mmmm aaaa") -> Semaine du 28 au 31 octobre 2013
B41: =B36-DAY(B36)+9-WEEKDAY(B36-DAY(B36)) -> 41554 | C41: =IF(MONTH($A$14)<>MONTH($A$14-(WEEKDAY($A$14,1)-($A$6-1))-IF((WEEKDAY($A$14,1)-($A$6-1))<=0,7,0)+(ROW(AG5)-ROW($C$5))*7+(COLUMN(AG5)-COLUMN($C$5)+1)),"",$A$14-(WEEKDAY($A$14,1)-($A$6-1))-IF((WEEKDAY($A$14,1)-($A$6-1))<=0,7,0)+(ROW(AG5)-ROW($C$5))*7+(COLUMN(AG5)-COLUMN($C$5)+1)) -> 41575 | D41: 0.375 | E41: 0.52083333 | F41: 0.58333333 | G41: 0.70833333 | H41: =K41 -> 0.27083333 | I41: =E41-D41 -> 0.14583333 | J41: =G41-F41 -> 0.125 | K41: =J41+I41 -> 0.27083333
B42: =B36-DAY(B36)+10-WEEKDAY(B36-DAY(B36)) -> 41555 | C42: =IF(MONTH($A$14)<>MONTH($A$14-(WEEKDAY($A$14,1)-($A$6-1))-IF((WEEKDAY($A$14,1)-($A$6-1))<=0,7,0)+(ROW(AH5)-ROW($C$5))*7+(COLUMN(AH5)-COLUMN($C$5)+1)),"",$A$14-(WEEKDAY($A$14,1)-($A$6-1))-IF((WEEKDAY($A$14,1)-($A$6-1))<=0,7,0)+(ROW(AH5)-ROW($C$5))*7+(COLUMN(AH5)-COLUMN($C$5)+1)) -> 41576 | D42: 0.375 | E42: 0.52083333 | H42: =K42 -> 0.14583333 | I42: =E42-D42 -> 0.14583333 | J42: =G42-F42 -> 0 | K42: =J42+I42 -> 0.14583333
B43: =B36-DAY(B36)+11-WEEKDAY(B36-DAY(B36)) -> 41556 | C43: =IF(MONTH($A$14)<>MONTH($A$14-(WEEKDAY($A$14,1)-($A$6-1))-IF((WEEKDAY($A$14,1)-($A$6-1))<=0,7,0)+(ROW(AI5)-ROW($C$5))*7+(COLUMN(AI5)-COLUMN($C$5)+1)),"",$A$14-(WEEKDAY($A$14,1)-($A$6-1))-IF((WEEKDAY($A$14,1)-($A$6-1))<=0,7,0)+(ROW(AI5)-ROW($C$5))*7+(COLUMN(AI5)-COLUMN($C$5)+1)) -> 41577 | H43: =IF(K43=0,"",K43) | I43: =E43-D43 -> 0 | J43: =G43-F43 -> 0 | K43: =J43+I43 -> 0
B44: =B36-DAY(B36)+12-WEEKDAY(B36-DAY(B36)) -> 41557 | C44: =IF(MONTH($A$14)<>MONTH($A$14-(WEEKDAY($A$14,1)-($A$6-1))-IF((WEEKDAY($A$14,1)-($A$6-1))<=0,7,0)+(ROW(AJ5)-ROW($C$5))*7+(COLUMN(AJ5)-COLUMN($C$5)+1)),"",$A$14-(WEEKDAY($A$14,1)-($A$6-1))-IF((WEEKDAY($A$14,1)-($A$6-1))<=0,7,0)+(ROW(AJ5)-ROW($C$5))*7+(COLUMN(AJ5)-COLUMN($C$5)+1)) -> 41578 | D44: 0.375 | E44: 0.52083333 | F44: 0.58333333 | G44: 0.70833333 | H44: =K44 -> 0.27083333 | I44: =E44-D44 -> 0.14583333 | J44: =G44-F44 -> 0.125 | K44: =J44+I44 -> 0.27083333
B45: =B36-DAY(B36)+13-WEEKDAY(B36-DAY(B36)) -> 41558 | C45: =IF(MONTH($A$14)<>MONTH($A$14-(WEEKDAY($A$14,1)-($A$6-1))-IF((WEEKDAY($A$14,1)-($A$6-1))<=0,7,0)+(ROW(AK5)-ROW($C$5))*7+(COLUMN(AK5)-COLUMN($C$5)+1)),"",$A$14-(WEEKDAY($A$14,1)-($A$6-1))-IF((WEEKDAY($A$14,1)-($A$6-1))<=0,7,0)+(ROW(AK5)-ROW($C$5))*7+(COLUMN(AK5)-COLUMN($C$5)+1)) | D45: 0.375 | E45: 0.52083333 | H45: =K45 -> 0.14583333 | I45: =E45-D45 -> 0.14583333 | J45: =G45-F45 -> 0 | K45: =J45+I45 -> 0.14583333
B46: =B36-DAY(B36)+14-WEEKDAY(B36-DAY(B36)) -> 41559 | C46: =IF(MONTH($A$14)<>MONTH($A$14-(WEEKDAY($A$14,1)-($A$6-1))-IF((WEEKDAY($A$14,1)-($A$6-1))<=0,7,0)+(ROW(AL5)-ROW($C$5))*7+(COLUMN(AL5)-COLUMN($C$5)+1)),"",$A$14-(WEEKDAY($A$14,1)-($A$6-1))-IF((WEEKDAY($A$14,1)-($A$6-1))<=0,7,0)+(ROW(AL5)-ROW($C$5))*7+(COLUMN(AL5)-COLUMN($C$5)+1)) | H46: =IF(K46=0,"",K46) | I46: =E46-D46 -> 0 | J46: =G46-F46 -> 0 | K46: =J46+I46 -> 0
B47: =B36-DAY(B36)+15-WEEKDAY(B36-DAY(B36)) -> 41560 | C47: =IF(MONTH($A$14)<>MONTH($A$14-(WEEKDAY($A$14,1)-($A$6-1))-IF((WEEKDAY($A$14,1)-($A$6-1))<=0,7,0)+(ROW(AM5)-ROW($C$5))*7+(COLUMN(AM5)-COLUMN($C$5)+1)),"",$A$14-(WEEKDAY($A$14,1)-($A$6-1))-IF((WEEKDAY($A$14,1)-($A$6-1))<=0,7,0)+(ROW(AM5)-ROW($C$5))*7+(COLUMN(AM5)-COLUMN($C$5)+1)) | H47: =IF(K47=0,"",K47) | I47: =E47-D47 -> 0 | J47: =G47-F47 -> 0 | K47: =J47+I47 -> 0
B48: TOTAL SEMAINE | H48: =K48 -> 0.83333333 | K48: =K41+K42+K43+K44+K45+K46+K47 -> 0.83333333
B49: Cumul mois | H49: =H12+H21+H30+H39+H48 -> 4.1666667
B50: Cumul Année | H50: =H49+Janvier!H49+Février!H49+Mars!H49+Avril!H49+Mai!H49+Juin!H49+Juillet!H49+Août!H49+Septembre!H49 -> 31.416667

Sheet Novembre
A1: =YEAR(B1) -> 2013 | B1: =DATE(Octobre!A1,(Octobre!A2)+1,1) -> 41579 | D1: MATIN | E1: MIDI | F1: APRES MIDI | G1: SOIR | H1: TOTAL
A2: =MONTH(B1) -> 11 | B2: =INT((C11-(DATE(YEAR(C11-WEEKDAY(C11-1)+4),1,3)-WEEKDAY(DATE(YEAR(C11-WEEKDAY(C11-1)+4),1,3)))+5)/7) -> 44 | D2: ="Semaine du "&TEXT(MIN(C5:C9,C5:C9),"jj")&" au "&TEXT(MAX(C5:C9,C5:C9),"jj mmmm aaaa") -> Semaine du 01 au 01 novembre 2013
C3: =IF(MONTH($A$14)<>MONTH($A$14-(WEEKDAY($A$14,1)-($A$6-1))-IF((WEEKDAY($A$14,1)-($A$6-1))<=0,7,0)+(ROW(C5)-ROW($C$5))*7+(COLUMN(C5)-COLUMN($C$5)+1)),"",$A$14-(WEEKDAY($A$14,1)-($A$6-1))-IF((WEEKDAY($A$14,1)-($A$6-1))<=0,7,0)+(ROW(C5)-ROW($C$5))*7+(COLUMN(C5)-COLUMN($C$5)+1))
C4: =IF(MONTH($A$14)<>MONTH($A$14-(WEEKDAY($A$14,1)-($A$6-1))-IF((WEEKDAY($A$14,1)-($A$6-1))<=0,7,0)+(ROW(D5)-ROW($C$5))*7+(COLUMN(D5)-COLUMN($C$5)+1)),"",$A$14-(WEEKDAY($A$14,1)-($A$6-1))-IF((WEEKDAY($A$14,1)-($A$6-1))<=0,7,0)+(ROW(D5)-ROW($C$5))*7+(COLUMN(D5)-COLUMN($C$5)+1))
A5: 7 | B5: =B1-DAY(B1)+9-WEEKDAY(B1-DAY(B1)) -> 41582 | C5: =IF(MONTH($A$14)<>MONTH($A$14-(WEEKDAY($A$14,1)-($A$6-1))-IF((WEEKDAY($A$14,1)-($A$6-1))<=0,7,0)+(ROW(E5)-ROW($C$5))*7+(COLUMN(E5)-COLUMN($C$5)+1)),"",$A$14-(WEEKDAY($A$14,1)-($A$6-1))-IF((WEEKDAY($A$14,1)-($A$6-1))<=0,7,0)+(ROW(E5)-ROW($C$5))*7+(COLUMN(E5)-COLUMN($C$5)+1)) | D5: 0.41666667 | E5: 0.52083333 | F5: 0.5625 | G5: 0.70833333 | H5: =K5 -> 0.25 | I5: =E5-D5 -> 0.10416667 | J5: =G5-F5 -> 0.14583333 | K5: =J5+I5 -> 0.25
A6: 7 | B6: =B1-DAY(B1)+10-WEEKDAY(B1-DAY(B1)) -> 41583 | C6: =IF(MONTH($A$14)<>MONTH($A$14-(WEEKDAY($A$14,1)-($A$6-1))-IF((WEEKDAY($A$14,1)-($A$6-1))<=0,7,0)+(ROW(F5)-ROW($C$5))*7+(COLUMN(F5)-COLUMN($C$5)+1)),"",$A$14-(WEEKDAY($A$14,1)-($A$6-1))-IF((WEEKDAY($A$14,1)-($A$6-1))<=0,7,0)+(ROW(F5)-ROW($C$5))*7+(COLUMN(F5)-COLUMN($C$5)+1)) | D6: 0.375 | E6: 0.52083333 | H6: =K6 -> 0.14583333 | I6: =E6-D6 -> 0.14583333 | J6: =G6-F6 -> 0 | K6: =J6+I6 -> 0.14583333
B7: =B1-DAY(B1)+11-WEEKDAY(B1-DAY(B1)) -> 41584 | C7: =IF(MONTH($A$14)<>MONTH($A$14-(WEEKDAY($A$14,1)-($A$6-1))-IF((WEEKDAY($A$14,1)-($A$6-1))<=0,7,0)+(ROW(G5)-ROW($C$5))*7+(COLUMN(G5)-COLUMN($C$5)+1)),"",$A$14-(WEEKDAY($A$14,1)-($A$6-1))-IF((WEEKDAY($A$14,1)-($A$6-1))<=0,7,0)+(ROW(G5)-ROW($C$5))*7+(COLUMN(G5)-COLUMN($C$5)+1)) | H7: =IF(K7=0,"",K7) | I7: =E7-D7 -> 0 | J7: =G7-F7 -> 0 | K7: =J7+I7 -> 0
B8: =B1-DAY(B1)+12-WEEKDAY(B1-DAY(B1)) -> 41585 | C8: =IF(MONTH($A$14)<>MONTH($A$14-(WEEKDAY($A$14,1)-($A$6-1))-IF((WEEKDAY($A$14,1)-($A$6-1))<=0,7,0)+(ROW(H5)-ROW($C$5))*7+(COLUMN(H5)-COLUMN($C$5)+1)),"",$A$14-(WEEKDAY($A$14,1)-($A$6-1))-IF((WEEKDAY($A$14,1)-($A$6-1))<=0,7,0)+(ROW(H5)-ROW($C$5))*7+(COLUMN(H5)-COLUMN($C$5)+1)) | D8: 0.375 | E8: 0.52083333 | F8: 0.5625 | G8: 0.70833333 | H8: =K8 -> 0.29166667 | I8: =E8-D8 -> 0.14583333 | J8: =G8-F8 -> 0.14583333 | K8: =J8+I8 -> 0.29166667
B9: =B1-DAY(B1)+13-WEEKDAY(B1-DAY(B1)) -> 41586 | C9: =IF(MONTH($A$14)<>MONTH($A$14-(WEEKDAY($A$14,1)-($A$6-1))-IF((WEEKDAY($A$14,1)-($A$6-1))<=0,7,0)+(ROW(I5)-ROW($C$5))*7+(COLUMN(I5)-COLUMN($C$5)+1)),"",$A$14-(WEEKDAY($A$14,1)-($A$6-1))-IF((WEEKDAY($A$14,1)-($A$6-1))<=0,7,0)+(ROW(I5)-ROW($C$5))*7+(COLUMN(I5)-COLUMN($C$5)+1)) -> 41579 | D9: 0.375 | E9: 0.52083333 | H9: =K9 -> 0.14583333 | I9: =E9-D9 -> 0.14583333 | J9: =G9-F9 -> 0 | K9: =J9+I9 -> 0.14583333
B10: =B1-DAY(B1)+14-WEEKDAY(B1-DAY(B1)) -> 41587 | C10: =IF(MONTH($A$14)<>MONTH($A$14-(WEEKDAY($A$14,1)-($A$6-1))-IF((WEEKDAY($A$14,1)-($A$6-1))<=0,7,0)+(ROW(J5)-ROW($C$5))*7+(COLUMN(J5)-COLUMN($C$5)+1)),"",$A$14-(WEEKDAY($A$14,1)-($A$6-1))-IF((WEEKDAY($A$14,1)-($A$6-1))<=0,7,0)+(ROW(J5)-ROW($C$5))*7+(COLUMN(J5)-COLUMN($C$5)+1)) -> 41580 | H10: =IF(K10=0,"",K10) | I10: =E10-D10 -> 0 | J10: =G10-F10 -> 0 | K10: =J10+I10 -> 0
B11: =B1-DAY(B1)+15-WEEKDAY(B1-DAY(B1)) -> 41588 | C11: =IF(MONTH($A$14)<>MONTH($A$14-(WEEKDAY($A$14,1)-($A$6-1))-IF((WEEKDAY($A$14,1)-($A$6-1))<=0,7,0)+(ROW(K5)-ROW($C$5))*7+(COLUMN(K5)-COLUMN($C$5)+1)),"",$A$14-(WEEKDAY($A$14,1)-($A$6-1))-IF((WEEKDAY($A$14,1)-($A$6-1))<=0,7,0)+(ROW(K5)-ROW($C$5))*7+(COLUMN(K5)-COLUMN($C$5)+1)) -> 41581 | H11: =IF(K11=0,"",K11) | I11: =E11-D11 -> 0 | J11: =G11-F11 -> 0 | K11: =J11+I11 -> 0
B12: TOTAL SEMAINE | H12: =K12 -> 0.83333333 | K12: =K5+K6+K7+K8+K9+K10+K11 -> 0.83333333
B13: =INT((C20-(DATE(YEAR(C20-WEEKDAY(C20-1)+4),1,3)-WEEKDAY(DATE(YEAR(C20-WEEKDAY(C20-1)+4),1,3)))+5)/7) -> 45 | D13: ="Semaine du "&TEXT(MIN(C14:C18,C14:C18),"jj")&" au "&TEXT(MAX(C14:C18,C14:C18),"jj mmmm aaaa") -> Semaine du 04 au 08 novembre 2013
A14: =DATE(A1,A2,1) -> 41579 | B14: =B10-DAY(B10)+9-WEEKDAY(B10-DAY(B10)) -> 41582 | C14: =IF(MONTH($A$14)<>MONTH($A$14-(WEEKDAY($A$14,1)-($A$6-1))-IF((WEEKDAY($A$14,1)-($A$6-1))<=0,7,0)+(ROW(L5)-ROW($C$5))*7+(COLUMN(L5)-COLUMN($C$5)+1)),"",$A$14-(WEEKDAY($A$14,1)-($A$6-1))-IF((WEEKDAY($A$14,1)-($A$6-1))<=0,7,0)+(ROW(L5)-ROW($C$5))*7+(COLUMN(L5)-COLUMN($C$5)+1)) -> 41582 | D14: 0.41666667 | E14: 0.52083333 | F14: 0.5625 | G14: 0.70833333 | H14: =K14 -> 0.25 | I14: =E14-D14 -> 0.10416667 | J14: =G14-F14 -> 0.14583333 | K14: =J14+I14 -> 0.25
B15: =B10-DAY(B10)+10-WEEKDAY(B10-DAY(B10)) -> 41583 | C15: =IF(MONTH($A$14)<>MONTH($A$14-(WEEKDAY($A$14,1)-($A$6-1))-IF((WEEKDAY($A$14,1)-($A$6-1))<=0,7,0)+(ROW(M5)-ROW($C$5))*7+(COLUMN(M5)-COLUMN($C$5)+1)),"",$A$14-(WEEKDAY($A$14,1)-($A$6-1))-IF((WEEKDAY($A$14,1)-($A$6-1))<=0,7,0)+(ROW(M5)-ROW($C$5))*7+(COLUMN(M5)-COLUMN($C$5)+1)) -> 41583 | D15: 0.375 | E15: 0.52083333 | H15: =K15 -> 0.14583333 | I15: =E15-D15 -> 0.14583333 | J15: =G15-F15 -> 0 | K15: =J15+I15 -> 0.14583333
B16: =B10-DAY(B10)+11-WEEKDAY(B10-DAY(B10)) -> 41584 | C16: =IF(MONTH($A$14)<>MONTH($A$14-(WEEKDAY($A$14,1)-($A$6-1))-IF((WEEKDAY($A$14,1)-($A$6-1))<=0,7,0)+(ROW(N5)-ROW($C$5))*7+(COLUMN(N5)-COLUMN($C$5)+1)),"",$A$14-(WEEKDAY($A$14,1)-($A$6-1))-IF((WEEKDAY($A$14,1)-($A$6-1))<=0,7,0)+(ROW(N5)-ROW($C$5))*7+(COLUMN(N5)-COLUMN($C$5)+1)) -> 41584 | H16: =IF(K16=0,"",K16) | I16: =E16-D16 -> 0 | J16: =G16-F16 -> 0 | K16: =J16+I16 -> 0
B17: =B10-DAY(B10)+12-WEEKDAY(B10-DAY(B10)) -> 41585 | C17: =IF(MONTH($A$14)<>MONTH($A$14-(WEEKDAY($A$14,1)-($A$6-1))-IF((WEEKDAY($A$14,1)-($A$6-1))<=0,7,0)+(ROW(O5)-ROW($C$5))*7+(COLUMN(O5)-COLUMN($C$5)+1)),"",$A$14-(WEEKDAY($A$14,1)-($A$6-1))-IF((WEEKDAY($A$14,1)-($A$6-1))<=0,7,0)+(ROW(O5)-ROW($C$5))*7+(COLUMN(O5)-COLUMN($C$5)+1)) -> 41585 | D17: 0.375 | E17: 0.52083333 | F17: 0.5625 | G17: 0.70833333 | H17: =K17 -> 0.29166667 | I17: =E17-D17 -> 0.14583333 | J17: =G17-F17 -> 0.14583333 | K17: =J17+I17 -> 0.29166667
B18: =B10-DAY(B10)+13-WEEKDAY(B10-DAY(B10)) -> 41586 | C18: =IF(MONTH($A$14)<>MONTH($A$14-(WEEKDAY($A$14,1)-($A$6-1))-IF((WEEKDAY($A$14,1)-($A$6-1))<=0,7,0)+(ROW(P5)-ROW($C$5))*7+(COLUMN(P5)-COLUMN($C$5)+1)),"",$A$14-(WEEKDAY($A$14,1)-($A$6-1))-IF((WEEKDAY($A$14,1)-($A$6-1))<=0,7,0)+(ROW(P5)-ROW($C$5))*7+(COLUMN(P5)-COLUMN($C$5)+1)) -> 41586 | D18: 0.375 | E18: 0.52083333 | H18: =K18 -> 0.14583333 | I18: =E18-D18 -> 0.14583333 | J18: =G18-F18 -> 0 | K18: =J18+I18 -> 0.14583333
B19: =B10-DAY(B10)+14-WEEKDAY(B10-DAY(B10)) -> 41587 | C19: =IF(MONTH($A$14)<>MONTH($A$14-(WEEKDAY($A$14,1)-($A$6-1))-IF((WEEKDAY($A$14,1)-($A$6-1))<=0,7,0)+(ROW(Q5)-ROW($C$5))*7+(COLUMN(Q5)-COLUMN($C$5)+1)),"",$A$14-(WEEKDAY($A$14,1)-($A$6-1))-IF((WEEKDAY($A$14,1)-($A$6-1))<=0,7,0)+(ROW(Q5)-ROW($C$5))*7+(COLUMN(Q5)-COLUMN($C$5)+1)) -> 41587 | H19: =IF(K19=0,"",K19) | I19: =E19-D19 -> 0 | J19: =G19-F19 -> 0 | K19: =J19+I19 -> 0
B20: =B10-DAY(B10)+15-WEEKDAY(B10-DAY(B10)) -> 41588 | C20: =IF(MONTH($A$14)<>MONTH($A$14-(WEEKDAY($A$14,1)-($A$6-1))-IF((WEEKDAY($A$14,1)-($A$6-1))<=0,7,0)+(ROW(R5)-ROW($C$5))*7+(COLUMN(R5)-COLUMN($C$5)+1)),"",$A$14-(WEEKDAY($A$14,1)-($A$6-1))-IF((WEEKDAY($A$14,1)-($A$6-1))<=0,7,0)+(ROW(R5)-ROW($C$5))*7+(COLUMN(R5)-COLUMN($C$5)+1)) -> 41588 | H20: =IF(K20=0,"",K20) | I20: =E20-D20 -> 0 | J20: =G20-F20 -> 0 | K20: =J20+I20 -> 0
B21: TOTAL SEMAINE | H21: =K21 -> 0.83333333 | K21: =K14+K15+K16+K17+K18+K19+K20 -> 0.83333333
B22: =INT((C29-(DATE(YEAR(C29-WEEKDAY(C29-1)+4),1,3)-WEEKDAY(DATE(YEAR(C29-WEEKDAY(C29-1)+4),1,3)))+5)/7) -> 46 | D22: ="Semaine du "&TEXT(MIN(C23:C27,C23:C27),"jj")&" au "&TEXT(MAX(C23:C27,C23:C27),"jj mmmm aaaa") -> Semaine du 11 au 15 novembre 2013
B23: =B18-DAY(B18)+9-WEEKDAY(B18-DAY(B18)) -> 41582 | C23: =IF(MONTH($A$14)<>MONTH($A$14-(WEEKDAY($A$14,1)-($A$6-1))-IF((WEEKDAY($A$14,1)-($A$6-1))<=0,7,0)+(ROW(S5)-ROW($C$5))*7+(COLUMN(S5)-COLUMN($C$5)+1)),"",$A$14-(WEEKDAY($A$14,1)-($A$6-1))-IF((WEEKDAY($A$14,1)-($A$6-1))<=0,7,0)+(ROW(S5)-ROW($C$5))*7+(COLUMN(S5)-COLUMN($C$5)+1)) -> 41589 | D23: 0.41666667 | E23: 0.52083333 | F23: 0.5625 | G23: 0.70833333 | H23: =K23 -> 0.25 | I23: =E23-D23 -> 0.10416667 | J23: =G23-F23 -> 0.14583333 | K23: =J23+I23 -> 0.25
B24: =B18-DAY(B18)+10-WEEKDAY(B18-DAY(B18)) -> 41583 | C24: =IF(MONTH($A$14)<>MONTH($A$14-(WEEKDAY($A$14,1)-($A$6-1))-IF((WEEKDAY($A$14,1)-($A$6-1))<=0,7,0)+(ROW(T5)-ROW($C$5))*7+(COLUMN(T5)-COLUMN($C$5)+1)),"",$A$14-(WEEKDAY($A$14,1)-($A$6-1))-IF((WEEKDAY($A$14,1)-($A$6-1))<=0,7,0)+(ROW(T5)-ROW($C$5))*7+(COLUMN(T5)-COLUMN($C$5)+1)) -> 41590 | D24: 0.375 | E24: 0.52083333 | H24: =K24 -> 0.14583333 | I24: =E24-D24 -> 0.14583333 | J24: =G24-F24 -> 0 | K24: =J24+I24 -> 0.14583333
B25: =B18-DAY(B18)+11-WEEKDAY(B18-DAY(B18)) -> 41584 | C25: =IF(MONTH($A$14)<>MONTH($A$14-(WEEKDAY($A$14,1)-($A$6-1))-IF((WEEKDAY($A$14,1)-($A$6-1))<=0,7,0)+(ROW(U5)-ROW($C$5))*7+(COLUMN(U5)-COLUMN($C$5)+1)),"",$A$14-(WEEKDAY($A$14,1)-($A$6-1))-IF((WEEKDAY($A$14,1)-($A$6-1))<=0,7,0)+(ROW(U5)-ROW($C$5))*7+(COLUMN(U5)-COLUMN($C$5)+1)) -> 41591 | H25: =IF(K25=0,"",K25) | I25: =E25-D25 -> 0 | J25: =G25-F25 -> 0 | K25: =J25+I25 -> 0
B26: =B18-DAY(B18)+12-WEEKDAY(B18-DAY(B18)) -> 41585 | C26: =IF(MONTH($A$14)<>MONTH($A$14-(WEEKDAY($A$14,1)-($A$6-1))-IF((WEEKDAY($A$14,1)-($A$6-1))<=0,7,0)+(ROW(V5)-ROW($C$5))*7+(COLUMN(V5)-COLUMN($C$5)+1)),"",$A$14-(WEEKDAY($A$14,1)-($A$6-1))-IF((WEEKDAY($A$14,1)-($A$6-1))<=0,7,0)+(ROW(V5)-ROW($C$5))*7+(COLUMN(V5)-COLUMN($C$5)+1)) -> 41592 | D26: 0.375 | E26: 0.52083333 | F26: 0.5625 | G26: 0.70833333 | H26: =K26 -> 0.29166667 | I26: =E26-D26 -> 0.14583333 | J26: =G26-F26 -> 0.14583333 | K26: =J26+I26 -> 0.29166667
B27: =B18-DAY(B18)+13-WEEKDAY(B18-DAY(B18)) -> 41586 | C27: =IF(MONTH($A$14)<>MONTH($A$14-(WEEKDAY($A$14,1)-($A$6-1))-IF((WEEKDAY($A$14,1)-($A$6-1))<=0,7,0)+(ROW(W5)-ROW($C$5))*7+(COLUMN(W5)-COLUMN($C$5)+1)),"",$A$14-(WEEKDAY($A$14,1)-($A$6-1))-IF((WEEKDAY($A$14,1)-($A$6-1))<=0,7,0)+(ROW(W5)-ROW($C$5))*7+(COLUMN(W5)-COLUMN($C$5)+1)) -> 41593 | D27: 0.375 | E27: 0.52083333 | H27: =K27 -> 0.14583333 | I27: =E27-D27 -> 0.14583333 | J27: =G27-F27 -> 0 | K27: =J27+I27 -> 0.14583333
B28: =B18-DAY(B18)+14-WEEKDAY(B18-DAY(B18)) -> 41587 | C28: =IF(MONTH($A$14)<>MONTH($A$14-(WEEKDAY($A$14,1)-($A$6-1))-IF((WEEKDAY($A$14,1)-($A$6-1))<=0,7,0)+(ROW(X5)-ROW($C$5))*7+(COLUMN(X5)-COLUMN($C$5)+1)),"",$A$14-(WEEKDAY($A$14,1)-($A$6-1))-IF((WEEKDAY($A$14,1)-($A$6-1))<=0,7,0)+(ROW(X5)-ROW($C$5))*7+(COLUMN(X5)-COLUMN($C$5)+1)) -> 41594 | H28: =IF(K28=0,"",K28) | I28: =E28-D28 -> 0 | J28: =G28-F28 -> 0 | K28: =J28+I28 -> 0
B29: =B18-DAY(B18)+15-WEEKDAY(B18-DAY(B18)) -> 41588 | C29: =IF(MONTH($A$14)<>MONTH($A$14-(WEEKDAY($A$14,1)-($A$6-1))-IF((WEEKDAY($A$14,1)-($A$6-1))<=0,7,0)+(ROW(Y5)-ROW($C$5))*7+(COLUMN(Y5)-COLUMN($C$5)+1)),"",$A$14-(WEEKDAY($A$14,1)-($A$6-1))-IF((WEEKDAY($A$14,1)-($A$6-1))<=0,7,0)+(ROW(Y5)-ROW($C$5))*7+(COLUMN(Y5)-COLUMN($C$5)+1)) -> 41595 | H29: =IF(K29=0,"",K29) | I29: =E29-D29 -> 0 | J29: =G29-F29 -> 0 | K29: =J29+I29 -> 0
B30: TOTAL SEMAINE | H30: =K30 -> 0.83333333 | K30: =K23+K24+K25+K26+K27+K28+K29 -> 0.83333333
B31: =INT((C38-(DATE(YEAR(C38-WEEKDAY(C38-1)+4),1,3)-WEEKDAY(DATE(YEAR(C38-WEEKDAY(C38-1)+4),1,3)))+5)/7) -> 47 | D31: ="Semaine du "&TEXT(MIN(C32:C36,C32:C36),"jj")&" au "&TEXT(MAX(C32:C36,C32:C36),"jj mmmm aaaa") -> Semaine du 18 au 22 novembre 2013
B32: =B27-DAY(B27)+9-WEEKDAY(B27-DAY(B27)) -> 41582 | C32: =IF(MONTH($A$14)<>MONTH($A$14-(WEEKDAY($A$14,1)-($A$6-1))-IF((WEEKDAY($A$14,1)-($A$6-1))<=0,7,0)+(ROW(Z5)-ROW($C$5))*7+(COLUMN(Z5)-COLUMN($C$5)+1)),"",$A$14-(WEEKDAY($A$14,1)-($A$6-1))-IF((WEEKDAY($A$14,1)-($A$6-1))<=0,7,0)+(ROW(Z5)-ROW($C$5))*7+(COLUMN(Z5)-COLUMN($C$5)+1)) -> 41596 | D32: 0.375 | E32: 0.52083333 | F32: 0.58333333 | G32: 0.70833333 | H32: =K32 -> 0.27083333 | I32: =E32-D32 -> 0.14583333 | J32: =G32-F32 -> 0.125 | K32: =J32+I32 -> 0.27083333
B33: =B27-DAY(B27)+10-WEEKDAY(B27-DAY(B27)) -> 41583 | C33: =IF(MONTH($A$14)<>MONTH($A$14-(WEEKDAY($A$14,1)-($A$6-1))-IF((WEEKDAY($A$14,1)-($A$6-1))<=0,7,0)+(ROW(AA5)-ROW($C$5))*7+(COLUMN(AA5)-COLUMN($C$5)+1)),"",$A$14-(WEEKDAY($A$14,1)-($A$6-1))-IF((WEEKDAY($A$14,1)-($A$6-1))<=0,7,0)+(ROW(AA5)-ROW($C$5))*7+(COLUMN(AA5)-COLUMN($C$5)+1)) -> 41597 | D33: 0.375 | E33: 0.52083333 | H33: =K33 -> 0.14583333 | I33: =E33-D33 -> 0.14583333 | J33: =G33-F33 -> 0 | K33: =J33+I33 -> 0.14583333
