Workbook

Sheet Coeff
A1: Nom | B1: Prénom | D1: Ligne | E1: 76 | F1: 84 | G1: 92 | H1: 100 | I1: 108 | J1: 114 | K1: 120 | L1: 125 | M1: 130 | N1: 135 | O1: 180 | P1: 240 | S1: Tableau de passage | T1: Année avant passage automatique
A2: Blip | B2: Bla | C2: =A2&" "&B2 -> Blip Bla | D2: =ROW(C2) -> 2 | H2: 38908 | I2: 40026 | J2: 41122 | K2: =IF(J2="","",(DATE((YEAR(J2)+(VLOOKUP(J1,$S$2:$T$13,2,FALSE))),MONTH(J2),DAY(J2)))) -> 42217 | L2: =IF(K2="","",(DATE((YEAR(K2)+(VLOOKUP(K1,$S$2:$T$13,2,FALSE))),MONTH(K2),DAY(K2)))) -> 43313 | M2: =IF(L2="","",(DATE((YEAR(L2)+(VLOOKUP(L1,$S$2:$T$13,2,FALSE))),MONTH(L2),DAY(L2)))) -> 44409 | N2: =IF(M2="","",(DATE((YEAR(M2)+(VLOOKUP(M1,$S$2:$T$13,2,FALSE))),MONTH(M2),DAY(M2)))) -> 45505 | S2: 76 | T2: 1
A3: Bloup | B3: bou | C3: =A3&" "&B3 -> Bloup bou | D3: =ROW(C3) -> 3 | H3: 39600 | I3: 40695 | J3: =IF(I3="","",(DATE((YEAR(I3)+(VLOOKUP($I$1,$S$2:$T$13,2,FALSE))),MONTH(I3),DAY(I3)))) -> 41791 | K3: =IF(J3="","",(DATE((YEAR(J3)+(VLOOKUP($J$1,$S$2:$T$13,2,FALSE))),MONTH(J3),DAY(J3)))) -> 42887 | L3: =IF(K3="","",(DATE((YEAR(K3)+(VLOOKUP($K$1,$S$2:$T$13,2,FALSE))),MONTH(K3),DAY(K3)))) -> 43983 | M3: =IF(L3="","",(DATE((YEAR(L3)+(VLOOKUP($L$1,$S$2:$T$13,2,FALSE))),MONTH(L3),DAY(L3)))) -> 45078 | N3: =IF(M3="","",(DATE((YEAR(M3)+(VLOOKUP($M$1,$S$2:$T$13,2,FALSE))),MONTH(M3),DAY(M3)))) -> 46174 | S3: 84 | T3: 1
A4: Blap | B4: bi | C4: =A4&" "&B4 -> Blap bi | D4: =ROW(C4) -> 4 | F4: =IF(E4="","",(DATE((YEAR(E4)+(VLOOKUP($E$1,$S$2:$T$13,2,FALSE))),MONTH(E4),DAY(E4)))) | G4: =IF(F4="","",(DATE((YEAR(F4)+(VLOOKUP($F$1,$S$2:$T$13,2,FALSE))),MONTH(F4),DAY(F4)))) | H4: =IF(G4="","",(DATE((YEAR(G4)+(VLOOKUP($G$1,$S$2:$T$13,2,FALSE))),MONTH(G4),DAY(G4)))) | I4: =IF(H4="","",(DATE((YEAR(H4)+(VLOOKUP($H$1,$S$2:$T$13,2,FALSE))),MONTH(H4),DAY(H4)))) | J4: =IF(I4="","",(DATE((YEAR(I4)+(VLOOKUP($I$1,$S$2:$T$13,2,FALSE))),MONTH(I4),DAY(I4)))) | K4: =IF(J4="","",(DATE((YEAR(J4)+(VLOOKUP($J$1,$S$2:$T$13,2,FALSE))),MONTH(J4),DAY(J4)))) | L4: =IF(K4="","",(DATE((YEAR(K4)+(VLOOKUP($K$1,$S$2:$T$13,2,FALSE))),MONTH(K4),DAY(K4)))) | M4: =IF(L4="","",(DATE((YEAR(L4)+(VLOOKUP($L$1,$S$2:$T$13,2,FALSE))),MONTH(L4),DAY(L4)))) | N4: 40481 | S4: 92 | T4: 1
A5: bibou | B5: blabli | C5: =A5&" "&B5 -> bibou blabli | D5: =ROW(C5) -> 5 | F5: =IF(E5="","",(DATE((YEAR(E5)+(VLOOKUP($E$1,$S$2:$T$13,2,FALSE))),MONTH(E5),DAY(E5)))) | G5: =IF(F5="","",(DATE((YEAR(F5)+(VLOOKUP($F$1,$S$2:$T$13,2,FALSE))),MONTH(F5),DAY(F5)))) | H5: 38663 | I5: 39783 | J5: 40878 | K5: =IF(J5="","",(DATE((YEAR(J5)+(VLOOKUP($J$1,$S$2:$T$13,2,FALSE))),MONTH(J5),DAY(J5)))) -> 41974 | L5: =IF(K5="","",(DATE((YEAR(K5)+(VLOOKUP($K$1,$S$2:$T$13,2,FALSE))),MONTH(K5),DAY(K5)))) -> 43070 | M5: =IF(L5="","",(DATE((YEAR(L5)+(VLOOKUP($L$1,$S$2:$T$13,2,FALSE))),MONTH(L5),DAY(L5)))) -> 44166 | N5: =IF(M5="","",(DATE((YEAR(M5)+(VLOOKUP($M$1,$S$2:$T$13,2,FALSE))),MONTH(M5),DAY(M5)))) -> 45261 | S5: 100 | T5: 3
A6: AB | B6: GERARD | C6: =A6&" "&B6 -> AB GERARD | D6: =ROW(C6) -> 6 | F6: =IF(E6="","",(DATE((YEAR(E6)+(VLOOKUP($E$1,$S$2:$T$13,2,FALSE))),MONTH(E6),DAY(E6)))) | G6: =IF(F6="","",(DATE((YEAR(F6)+(VLOOKUP($F$1,$S$2:$T$13,2,FALSE))),MONTH(F6),DAY(F6)))) | H6: 36465 | I6: 37561 | J6: 38657 | K6: 39753 | L6: 40848 | M6: =IF(L6="","",(DATE((YEAR(L6)+(VLOOKUP($L$1,$S$2:$T$13,2,FALSE))),MONTH(L6),DAY(L6)))) -> 41944 | N6: =IF(M6="","",(DATE((YEAR(M6)+(VLOOKUP($M$1,$S$2:$T$13,2,FALSE))),MONTH(M6),DAY(M6)))) -> 43040 | S6: 108 | T6: 3
A7: AC | B7: JEAN LUC | C7: =A7&" "&B7 -> AC JEAN LUC | D7: =ROW(C7) -> 7 | F7: =IF(E7="","",(DATE((YEAR(E7)+(VLOOKUP($E$1,$S$2:$T$13,2,FALSE))),MONTH(E7),DAY(E7)))) | G7: =IF(F7="","",(DATE((YEAR(F7)+(VLOOKUP($F$1,$S$2:$T$13,2,FALSE))),MONTH(F7),DAY(F7)))) | H7: 37438 | I7: 38534 | J7: 39630 | K7: 40725 | L7: =IF(K7="","",(DATE((YEAR(K7)+(VLOOKUP($K$1,$S$2:$T$13,2,FALSE))),MONTH(K7),DAY(K7)))) -> 41821 | M7: =IF(L7="","",(DATE((YEAR(L7)+(VLOOKUP($L$1,$S$2:$T$13,2,FALSE))),MONTH(L7),DAY(L7)))) -> 42917 | N7: =IF(M7="","",(DATE((YEAR(M7)+(VLOOKUP($M$1,$S$2:$T$13,2,FALSE))),MONTH(M7),DAY(M7)))) -> 44013 | S7: 114 | T7: 3
A8: CHA | B8: GILLES | C8: =A8&" "&B8 -> CHA GILLES | D8: =ROW(C8) -> 8 | F8: =IF(E8="","",(DATE((YEAR(E8)+(VLOOKUP($E$1,$S$2:$T$13,2,FALSE))),MONTH(E8),DAY(E8)))) | G8: =IF(F8="","",(DATE((YEAR(F8)+(VLOOKUP($F$1,$S$2:$T$13,2,FALSE))),MONTH(F8),DAY(F8)))) | H8: 36899 | I8: 38018 | J8: 39114 | K8: 40210 | L8: =IF(K8="","",(DATE((YEAR(K8)+(VLOOKUP($K$1,$S$2:$T$13,2,FALSE))),MONTH(K8),DAY(K8)))) -> 41306 | M8: =IF(L8="","",(DATE((YEAR(L8)+(VLOOKUP($L$1,$S$2:$T$13,2,FALSE))),MONTH(L8),DAY(L8)))) -> 42401 | N8: =IF(M8="","",(DATE((YEAR(M8)+(VLOOKUP($M$1,$S$2:$T$13,2,FALSE))),MONTH(M8),DAY(M8)))) -> 43497 | S8: 120 | T8: 3
A9: AA | B9: MARC | C9: =A9&" "&B9 -> AA MARC | D9: =ROW(C9) -> 9 | S9: 125 | T9: 3
A10: BB | B10: CHRISTINE | C10: =A10&" "&B10 -> BB CHRISTINE | D10: =ROW(C10) -> 10 | F10: =IF(E10="","",(DATE((YEAR(E10)+(VLOOKUP($E$1,$S$2:$T$13,2,FALSE))),MONTH(E10),DAY(E10)))) | G10: =IF(F10="","",(DATE((YEAR(F10)+(VLOOKUP($F$1,$S$2:$T$13,2,FALSE))),MONTH(F10),DAY(F10)))) | H10: 40664 | I10: =IF(H10="","",(DATE((YEAR(H10)+(VLOOKUP($H$1,$S$2:$T$13,2,FALSE))),MONTH(H10),DAY(H10)))) -> 41760 | J10: =IF(I10="","",(DATE((YEAR(I10)+(VLOOKUP($I$1,$S$2:$T$13,2,FALSE))),MONTH(I10),DAY(I10)))) -> 42856 | K10: =IF(J10="","",(DATE((YEAR(J10)+(VLOOKUP($J$1,$S$2:$T$13,2,FALSE))),MONTH(J10),DAY(J10)))) -> 43952 | L10: =IF(K10="","",(DATE((YEAR(K10)+(VLOOKUP($K$1,$S$2:$T$13,2,FALSE))),MONTH(K10),DAY(K10)))) -> 45047 | M10: =IF(L10="","",(DATE((YEAR(L10)+(VLOOKUP($L$1,$S$2:$T$13,2,FALSE))),MONTH(L10),DAY(L10)))) -> 46143 | N10: =IF(M10="","",(DATE((YEAR(M10)+(VLOOKUP($M$1,$S$2:$T$13,2,FALSE))),MONTH(M10),DAY(M10)))) -> 47239 | S10: 130 | T10: 3
A11: CC | B11: MARTINE | C11: =A11&" "&B11 -> CC MARTINE | D11: =ROW(C11) -> 11 | F11: =IF(E11="","",(DATE((YEAR(E11)+(VLOOKUP($E$1,$S$2:$T$13,2,FALSE))),MONTH(E11),DAY(E11)))) | G11: =IF(F11="","",(DATE((YEAR(F11)+(VLOOKUP($F$1,$S$2:$T$13,2,FALSE))),MONTH(F11),DAY(F11)))) | H11: =IF(G11="","",(DATE((YEAR(G11)+(VLOOKUP($G$1,$S$2:$T$13,2,FALSE))),MONTH(G11),DAY(G11)))) | I11: =IF(H11="","",(DATE((YEAR(H11)+(VLOOKUP($H$1,$S$2:$T$13,2,FALSE))),MONTH(H11),DAY(H11)))) | J11: =IF(I11="","",(DATE((YEAR(I11)+(VLOOKUP($I$1,$S$2:$T$13,2,FALSE))),MONTH(I11),DAY(I11)))) | K11: =IF(J11="","",(DATE((YEAR(J11)+(VLOOKUP($J$1,$S$2:$T$13,2,FALSE))),MONTH(J11),DAY(J11)))) | L11: =IF(K11="","",(DATE((YEAR(K11)+(VLOOKUP($K$1,$S$2:$T$13,2,FALSE))),MONTH(K11),DAY(K11)))) | M11: =IF(L11="","",(DATE((YEAR(L11)+(VLOOKUP($L$1,$S$2:$T$13,2,FALSE))),MONTH(L11),DAY(L11)))) | N11: =IF(M11="","",(DATE((YEAR(M11)+(VLOOKUP($M$1,$S$2:$T$13,2,FALSE))),MONTH(M11),DAY(M11)))) | S11: 135 | T11: 0
A12: DD | B12: DOMINIQUE | C12: =A12&" "&B12 -> DD DOMINIQUE | D12: =ROW(C12) -> 12 | F12: =IF(E12="","",(DATE((YEAR(E12)+(VLOOKUP($E$1,$S$2:$T$13,2,FALSE))),MONTH(E12),DAY(E12)))) | G12: =IF(F12="","",(DATE((YEAR(F12)+(VLOOKUP($F$1,$S$2:$T$13,2,FALSE))),MONTH(F12),DAY(F12)))) | H12: =IF(G12="","",(DATE((YEAR(G12)+(VLOOKUP($G$1,$S$2:$T$13,2,FALSE))),MONTH(G12),DAY(G12)))) | I12: =IF(H12="","",(DATE((YEAR(H12)+(VLOOKUP($H$1,$S$2:$T$13,2,FALSE))),MONTH(H12),DAY(H12)))) | J12: =IF(I12="","",(DATE((YEAR(I12)+(VLOOKUP($I$1,$S$2:$T$13,2,FALSE))),MONTH(I12),DAY(I12)))) | K12: =IF(J12="","",(DATE((YEAR(J12)+(VLOOKUP($J$1,$S$2:$T$13,2,FALSE))),MONTH(J12),DAY(J12)))) | L12: =IF(K12="","",(DATE((YEAR(K12)+(VLOOKUP($K$1,$S$2:$T$13,2,FALSE))),MONTH(K12),DAY(K12)))) | M12: =IF(L12="","",(DATE((YEAR(L12)+(VLOOKUP($L$1,$S$2:$T$13,2,FALSE))),MONTH(L12),DAY(L12)))) | N12: 40481 | S12: 180 | T12: 0
A13: EE | B13: OLIVIER | C13: =A13&" "&B13 -> EE OLIVIER | D13: =ROW(C13) -> 13 | F13: =IF(E13="","",(DATE((YEAR(E13)+(VLOOKUP($E$1,$S$2:$T$13,2,FALSE))),MONTH(E13),DAY(E13)))) | G13: =IF(F13="","",(DATE((YEAR(F13)+(VLOOKUP($F$1,$S$2:$T$13,2,FALSE))),MONTH(F13),DAY(F13)))) | H13: 39995 | I13: 41091 | J13: =IF(I13="","",(DATE((YEAR(I13)+(VLOOKUP($I$1,$S$2:$T$13,2,FALSE))),MONTH(I13),DAY(I13)))) -> 42186 | K13: =IF(J13="","",(DATE((YEAR(J13)+(VLOOKUP($J$1,$S$2:$T$13,2,FALSE))),MONTH(J13),DAY(J13)))) -> 43282 | L13: =IF(K13="","",(DATE((YEAR(K13)+(VLOOKUP($K$1,$S$2:$T$13,2,FALSE))),MONTH(K13),DAY(K13)))) -> 44378 | M13: =IF(L13="","",(DATE((YEAR(L13)+(VLOOKUP($L$1,$S$2:$T$13,2,FALSE))),MONTH(L13),DAY(L13)))) -> 45474 | N13: =IF(M13="","",(DATE((YEAR(M13)+(VLOOKUP($M$1,$S$2:$T$13,2,FALSE))),MONTH(M13),DAY(M13)))) -> 46569 | S13: 240 | T13: 0
A14: FF | B14: GUILLAUME | C14: =A14&" "&B14 -> FF GUILLAUME | D14: =ROW(C14) -> 14 | F14: 40708 | G14: 41091 | H14: =IF(G14="","",(DATE((YEAR(G14)+(VLOOKUP($G$1,$S$2:$T$13,2,FALSE))),MONTH(G14),DAY(G14)))) -> 41456 | I14: =IF(H14="","",(DATE((YEAR(H14)+(VLOOKUP($H$1,$S$2:$T$13,2,FALSE))),MONTH(H14),DAY(H14)))) -> 42552 | J14: =IF(I14="","",(DATE((YEAR(I14)+(VLOOKUP($I$1,$S$2:$T$13,2,FALSE))),MONTH(I14),DAY(I14)))) -> 43647 | K14: =IF(J14="","",(DATE((YEAR(J14)+(VLOOKUP($J$1,$S$2:$T$13,2,FALSE))),MONTH(J14),DAY(J14)))) -> 44743 | L14: =IF(K14="","",(DATE((YEAR(K14)+(VLOOKUP($K$1,$S$2:$T$13,2,FALSE))),MONTH(K14),DAY(K14)))) -> 45839 | M14: =IF(L14="","",(DATE((YEAR(L14)+(VLOOKUP($L$1,$S$2:$T$13,2,FALSE))),MONTH(L14),DAY(L14)))) -> 46935 | N14: =IF(M14="","",(DATE((YEAR(M14)+(VLOOKUP($M$1,$S$2:$T$13,2,FALSE))),MONTH(M14),DAY(M14)))) -> 48030
A15: GG | B15: RAFAEL | C15: =A15&" "&B15 -> GG RAFAEL | D15: =ROW(C15) -> 15 | F15: =IF(E15="","",(DATE((YEAR(E15)+(VLOOKUP($E$1,$S$2:$T$13,2,FALSE))),MONTH(E15),DAY(E15)))) | G15: =IF(F15="","",(DATE((YEAR(F15)+(VLOOKUP($F$1,$S$2:$T$13,2,FALSE))),MONTH(F15),DAY(F15)))) | H15: =IF(G15="","",(DATE((YEAR(G15)+(VLOOKUP($G$1,$S$2:$T$13,2,FALSE))),MONTH(G15),DAY(G15)))) | I15: =IF(H15="","",(DATE((YEAR(H15)+(VLOOKUP($H$1,$S$2:$T$13,2,FALSE))),MONTH(H15),DAY(H15)))) | J15: =IF(I15="","",(DATE((YEAR(I15)+(VLOOKUP($I$1,$S$2:$T$13,2,FALSE))),MONTH(I15),DAY(I15)))) | K15: =IF(J15="","",(DATE((YEAR(J15)+(VLOOKUP($J$1,$S$2:$T$13,2,FALSE))),MONTH(J15),DAY(J15)))) | L15: =IF(K15="","",(DATE((YEAR(K15)+(VLOOKUP($K$1,$S$2:$T$13,2,FALSE))),MONTH(K15),DAY(K15)))) | M15: =IF(L15="","",(DATE((YEAR(L15)+(VLOOKUP($L$1,$S$2:$T$13,2,FALSE))),MONTH(L15),DAY(L15)))) | N15: 39904
A16: HH | B16: EMMANUELLE | C16: =A16&" "&B16 -> HH EMMANUELLE | D16: =ROW(C16) -> 16 | F16: =IF(E16="","",(DATE((YEAR(E16)+(VLOOKUP($E$1,$S$2:$T$13,2,FALSE))),MONTH(E16),DAY(E16)))) | G16: =IF(F16="","",(DATE((YEAR(F16)+(VLOOKUP($F$1,$S$2:$T$13,2,FALSE))),MONTH(F16),DAY(F16)))) | H16: 39965 | I16: 41061 | J16: =IF(I16="","",(DATE((YEAR(I16)+(VLOOKUP($I$1,$S$2:$T$13,2,FALSE))),MONTH(I16),DAY(I16)))) -> 42156 | K16: =IF(J16="","",(DATE((YEAR(J16)+(VLOOKUP($J$1,$S$2:$T$13,2,FALSE))),MONTH(J16),DAY(J16)))) -> 43252 | L16: =IF(K16="","",(DATE((YEAR(K16)+(VLOOKUP($K$1,$S$2:$T$13,2,FALSE))),MONTH(K16),DAY(K16)))) -> 44348 | M16: =IF(L16="","",(DATE((YEAR(L16)+(VLOOKUP($L$1,$S$2:$T$13,2,FALSE))),MONTH(L16),DAY(L16)))) -> 45444 | N16: =IF(M16="","",(DATE((YEAR(M16)+(VLOOKUP($M$1,$S$2:$T$13,2,FALSE))),MONTH(M16),DAY(M16)))) -> 46539
A17: II | B17: LAURENT | C17: =A17&" "&B17 -> II LAURENT | D17: =ROW(C17) -> 17 | F17: =IF(E17="","",(DATE((YEAR(E17)+(VLOOKUP($E$1,$S$2:$T$13,2,FALSE))),MONTH(E17),DAY(E17)))) | G17: =IF(F17="","",(DATE((YEAR(F17)+(VLOOKUP($F$1,$S$2:$T$13,2,FALSE))),MONTH(F17),DAY(F17)))) | H17: =IF(G17="","",(DATE((YEAR(G17)+(VLOOKUP($G$1,$S$2:$T$13,2,FALSE))),MONTH(G17),DAY(G17)))) | I17: =IF(H17="","",(DATE((YEAR(H17)+(VLOOKUP($H$1,$S$2:$T$13,2,FALSE))),MONTH(H17),DAY(H17)))) | J17: =IF(I17="","",(DATE((YEAR(I17)+(VLOOKUP($I$1,$S$2:$T$13,2,FALSE))),MONTH(I17),DAY(I17)))) | K17: =IF(J17="","",(DATE((YEAR(J17)+(VLOOKUP($J$1,$S$2:$T$13,2,FALSE))),MONTH(J17),DAY(J17)))) | L17: =IF(K17="","",(DATE((YEAR(K17)+(VLOOKUP($K$1,$S$2:$T$13,2,FALSE))),MONTH(K17),DAY(K17)))) | M17: =IF(L17="","",(DATE((YEAR(L17)+(VLOOKUP($L$1,$S$2:$T$13,2,FALSE))),MONTH(L17),DAY(L17)))) | N17: 40481
A18: JJ | B18: ANTHONY | C18: =A18&" "&B18 -> JJ ANTHONY | D18: =ROW(C18) -> 18 | F18: =IF(E18="","",(DATE((YEAR(E18)+(VLOOKUP($E$1,$S$2:$T$13,2,FALSE))),MONTH(E18),DAY(E18)))) | G18: =IF(F18="","",(DATE((YEAR(F18)+(VLOOKUP($F$1,$S$2:$T$13,2,FALSE))),MONTH(F18),DAY(F18)))) | H18: 40183 | I18: =IF(H18="","",(DATE((YEAR(H18)+(VLOOKUP($H$1,$S$2:$T$13,2,FALSE))),MONTH(H18),DAY(H18)))) -> 41279 | J18: =IF(I18="","",(DATE((YEAR(I18)+(VLOOKUP($I$1,$S$2:$T$13,2,FALSE))),MONTH(I18),DAY(I18)))) -> 42374 | K18: =IF(J18="","",(DATE((YEAR(J18)+(VLOOKUP($J$1,$S$2:$T$13,2,FALSE))),MONTH(J18),DAY(J18)))) -> 43470 | L18: =IF(K18="","",(DATE((YEAR(K18)+(VLOOKUP($K$1,$S$2:$T$13,2,FALSE))),MONTH(K18),DAY(K18)))) -> 44566 | M18: =IF(L18="","",(DATE((YEAR(L18)+(VLOOKUP($L$1,$S$2:$T$13,2,FALSE))),MONTH(L18),DAY(L18)))) -> 45662 | N18: =IF(M18="","",(DATE((YEAR(M18)+(VLOOKUP($M$1,$S$2:$T$13,2,FALSE))),MONTH(M18),DAY(M18)))) -> 46757
A19: 1 | B19: AU | C19: =A19&" "&B19 -> 1 AU | D19: =ROW(C19) -> 19 | F19: =IF(E19="","",(DATE((YEAR(E19)+(VLOOKUP($E$1,$S$2:$T$13,2,FALSE))),MONTH(E19),DAY(E19)))) | G19: =IF(F19="","",(DATE((YEAR(F19)+(VLOOKUP($F$1,$S$2:$T$13,2,FALSE))),MONTH(F19),DAY(F19)))) | H19: 39264 | I19: 40360 | J19: =IF(I19="","",(DATE((YEAR(I19)+(VLOOKUP($I$1,$S$2:$T$13,2,FALSE))),MONTH(I19),DAY(I19)))) -> 41456 | K19: =IF(J19="","",(DATE((YEAR(J19)+(VLOOKUP($J$1,$S$2:$T$13,2,FALSE))),MONTH(J19),DAY(J19)))) -> 42552 | L19: =IF(K19="","",(DATE((YEAR(K19)+(VLOOKUP($K$1,$S$2:$T$13,2,FALSE))),MONTH(K19),DAY(K19)))) -> 43647 | M19: =IF(L19="","",(DATE((YEAR(L19)+(VLOOKUP($L$1,$S$2:$T$13,2,FALSE))),MONTH(L19),DAY(L19)))) -> 44743 | N19: =IF(M19="","",(DATE((YEAR(M19)+(VLOOKUP($M$1,$S$2:$T$13,2,FALSE))),MONTH(M19),DAY(M19)))) -> 45839
A20: 2 | B20: HUB | C20: =A20&" "&B20 -> 2 HUB | D20: =ROW(C20) -> 20 | F20: =IF(E20="","",(DATE((YEAR(E20)+(VLOOKUP($E$1,$S$2:$T$13,2,FALSE))),MONTH(E20),DAY(E20)))) | G20: =IF(F20="","",(DATE((YEAR(F20)+(VLOOKUP($F$1,$S$2:$T$13,2,FALSE))),MONTH(F20),DAY(F20)))) | H20: 39090 | I20: 40210 | J20: =IF(I20="","",(DATE((YEAR(I20)+(VLOOKUP($I$1,$S$2:$T$13,2,FALSE))),MONTH(I20),DAY(I20)))) -> 41306 | K20: =IF(J20="","",(DATE((YEAR(J20)+(VLOOKUP($J$1,$S$2:$T$13,2,FALSE))),MONTH(J20),DAY(J20)))) -> 42401 | L20: =IF(K20="","",(DATE((YEAR(K20)+(VLOOKUP($K$1,$S$2:$T$13,2,FALSE))),MONTH(K20),DAY(K20)))) -> 43497 | M20: =IF(L20="","",(DATE((YEAR(L20)+(VLOOKUP($L$1,$S$2:$T$13,2,FALSE))),MONTH(L20),DAY(L20)))) -> 44593 | N20: =IF(M20="","",(DATE((YEAR(M20)+(VLOOKUP($M$1,$S$2:$T$13,2,FALSE))),MONTH(M20),DAY(M20)))) -> 45689
A21: 3 | B21: FLO | C21: =A21&" "&B21 -> 3 FLO | D21: =ROW(C21) -> 21 | F21: =IF(E21="","",(DATE((YEAR(E21)+(VLOOKUP($E$1,$S$2:$T$13,2,FALSE))),MONTH(E21),DAY(E21)))) | G21: =IF(F21="","",(DATE((YEAR(F21)+(VLOOKUP($F$1,$S$2:$T$13,2,FALSE))),MONTH(F21),DAY(F21)))) | H21: 39237 | I21: 40360 | J21: =IF(I21="","",(DATE((YEAR(I21)+(VLOOKUP($I$1,$S$2:$T$13,2,FALSE))),MONTH(I21),DAY(I21)))) -> 41456 | K21: =IF(J21="","",(DATE((YEAR(J21)+(VLOOKUP($J$1,$S$2:$T$13,2,FALSE))),MONTH(J21),DAY(J21)))) -> 42552 | L21: =IF(K21="","",(DATE((YEAR(K21)+(VLOOKUP($K$1,$S$2:$T$13,2,FALSE))),MONTH(K21),DAY(K21)))) -> 43647 | M21: =IF(L21="","",(DATE((YEAR(L21)+(VLOOKUP($L$1,$S$2:$T$13,2,FALSE))),MONTH(L21),DAY(L21)))) -> 44743 | N21: =IF(M21="","",(DATE((YEAR(M21)+(VLOOKUP($M$1,$S$2:$T$13,2,FALSE))),MONTH(M21),DAY(M21)))) -> 45839
A22: 4 | B22: CHRI | C22: =A22&" "&B22 -> 4 CHRI | D22: =ROW(C22) -> 22 | F22: =IF(E22="","",(DATE((YEAR(E22)+(VLOOKUP($E$1,$S$2:$T$13,2,FALSE))),MONTH(E22),DAY(E22)))) | G22: =IF(F22="","",(DATE((YEAR(F22)+(VLOOKUP($F$1,$S$2:$T$13,2,FALSE))),MONTH(F22),DAY(F22)))) | H22: =IF(G22="","",(DATE((YEAR(G22)+(VLOOKUP($G$1,$S$2:$T$13,2,FALSE))),MONTH(G22),DAY(G22)))) | I22: =IF(H22="","",(DATE((YEAR(H22)+(VLOOKUP($H$1,$S$2:$T$13,2,FALSE))),MONTH(H22),DAY(H22)))) | J22: =IF(I22="","",(DATE((YEAR(I22)+(VLOOKUP($I$1,$S$2:$T$13,2,FALSE))),MONTH(I22),DAY(I22)))) | K22: =IF(J22="","",(DATE((YEAR(J22)+(VLOOKUP($J$1,$S$2:$T$13,2,FALSE))),MONTH(J22),DAY(J22)))) | L22: =IF(K22="","",(DATE((YEAR(K22)+(VLOOKUP($K$1,$S$2:$T$13,2,FALSE))),MONTH(K22),DAY(K22)))) | M22: =IF(L22="","",(DATE((YEAR(L22)+(VLOOKUP($L$1,$S$2:$T$13,2,FALSE))),MONTH(L22),DAY(L22)))) | N22: 39661
A23: 5 | B23: THI | C23: =A23&" "&B23 -> 5 THI | D23: =ROW(C23) -> 23 | F23: =IF(E23="","",(DATE((YEAR(E23)+(VLOOKUP($E$1,$S$2:$T$13,2,FALSE))),MONTH(E23),DAY(E23)))) | G23: =IF(F23="","",(DATE((YEAR(F23)+(VLOOKUP($F$1,$S$2:$T$13,2,FALSE))),MONTH(F23),DAY(F23)))) | H23: 35796 | I23: 36892 | J23: 37987 | K23: 39083 | L23: 40179 | M23: =IF(L23="","",(DATE((YEAR(L23)+(VLOOKUP($L$1,$S$2:$T$13,2,FALSE))),MONTH(L23),DAY(L23)))) -> 41275 | N23: =IF(M23="","",(DATE((YEAR(M23)+(VLOOKUP($M$1,$S$2:$T$13,2,FALSE))),MONTH(M23),DAY(M23)))) -> 42370
A24: 6 | B24: EDI | C24: =A24&" "&B24 -> 6 EDI | D24: =ROW(C24) -> 24 | F24: =IF(E24="","",(DATE((YEAR(E24)+(VLOOKUP($E$1,$S$2:$T$13,2,FALSE))),MONTH(E24),DAY(E24)))) | G24: =IF(F24="","",(DATE((YEAR(F24)+(VLOOKUP($F$1,$S$2:$T$13,2,FALSE))),MONTH(F24),DAY(F24)))) | H24: 41153 | I24: =IF(H24="","",(DATE((YEAR(H24)+(VLOOKUP($H$1,$S$2:$T$13,2,FALSE))),MONTH(H24),DAY(H24)))) -> 42248 | J24: =IF(I24="","",(DATE((YEAR(I24)+(VLOOKUP($I$1,$S$2:$T$13,2,FALSE))),MONTH(I24),DAY(I24)))) -> 43344 | K24: =IF(J24="","",(DATE((YEAR(J24)+(VLOOKUP($J$1,$S$2:$T$13,2,FALSE))),MONTH(J24),DAY(J24)))) -> 44440 | L24: =IF(K24="","",(DATE((YEAR(K24)+(VLOOKUP($K$1,$S$2:$T$13,2,FALSE))),MONTH(K24),DAY(K24)))) -> 45536 | M24: =IF(L24="","",(DATE((YEAR(L24)+(VLOOKUP($L$1,$S$2:$T$13,2,FALSE))),MONTH(L24),DAY(L24)))) -> 46631 | N24: =IF(M24="","",(DATE((YEAR(M24)+(VLOOKUP($M$1,$S$2:$T$13,2,FALSE))),MONTH(M24),DAY(M24)))) -> 47727
A25: 7 | B25: BRU | C25: =A25&" "&B25 -> 7 BRU | D25: =ROW(C25) -> 25 | F25: =IF(E25="","",(DATE((YEAR(E25)+(VLOOKUP($E$1,$S$2:$T$13,2,FALSE))),MONTH(E25),DAY(E25)))) | G25: =IF(F25="","",(DATE((YEAR(F25)+(VLOOKUP($F$1,$S$2:$T$13,2,FALSE))),MONTH(F25),DAY(F25)))) | H25: 39539 | I25: 40634 | J25: =IF(I25="","",(DATE((YEAR(I25)+(VLOOKUP($I$1,$S$2:$T$13,2,FALSE))),MONTH(I25),DAY(I25)))) -> 41730 | K25: =IF(J25="","",(DATE((YEAR(J25)+(VLOOKUP($J$1,$S$2:$T$13,2,FALSE))),MONTH(J25),DAY(J25)))) -> 42826 | L25: =IF(K25="","",(DATE((YEAR(K25)+(VLOOKUP($K$1,$S$2:$T$13,2,FALSE))),MONTH(K25),DAY(K25)))) -> 43922 | M25: =IF(L25="","",(DATE((YEAR(L25)+(VLOOKUP($L$1,$S$2:$T$13,2,FALSE))),MONTH(L25),DAY(L25)))) -> 45017 | N25: =IF(M25="","",(DATE((YEAR(M25)+(VLOOKUP($M$1,$S$2:$T$13,2,FALSE))),MONTH(M25),DAY(M25)))) -> 46113
A26: 8 | B26: JEA BRU | C26: =A26&" "&B26 -> 8 JEA BRU | D26: =ROW(C26) -> 26 | F26: =IF(E26="","",(DATE((YEAR(E26)+(VLOOKUP($E$1,$S$2:$T$13,2,FALSE))),MONTH(E26),DAY(E26)))) | G26: =IF(F26="","",(DATE((YEAR(F26)+(VLOOKUP($F$1,$S$2:$T$13,2,FALSE))),MONTH(F26),DAY(F26)))) | H26: =IF(G26="","",(DATE((YEAR(G26)+(VLOOKUP($G$1,$S$2:$T$13,2,FALSE))),MONTH(G26),DAY(G26)))) | I26: =IF(H26="","",(DATE((YEAR(H26)+(VLOOKUP($H$1,$S$2:$T$13,2,FALSE))),MONTH(H26),DAY(H26)))) | J26: =IF(I26="","",(DATE((YEAR(I26)+(VLOOKUP($I$1,$S$2:$T$13,2,FALSE))),MONTH(I26),DAY(I26)))) | K26: =IF(J26="","",(DATE((YEAR(J26)+(VLOOKUP($J$1,$S$2:$T$13,2,FALSE))),MONTH(J26),DAY(J26)))) | L26: =IF(K26="","",(DATE((YEAR(K26)+(VLOOKUP($K$1,$S$2:$T$13,2,FALSE))),MONTH(K26),DAY(K26)))) | M26: =IF(L26="","",(DATE((YEAR(L26)+(VLOOKUP($L$1,$S$2:$T$13,2,FALSE))),MONTH(L26),DAY(L26)))) | N26: 38684
A27: 9 | B27: EM | C27: =A27&" "&B27 -> 9 EM | D27: =ROW(C27) -> 27 | E27: 40791 | F27: 41183 | G27: =IF(F27="","",(DATE((YEAR(F27)+(VLOOKUP($F$1,$S$2:$T$13,2,FALSE))),MONTH(F27),DAY(F27)))) -> 41548 | H27: =IF(G27="","",(DATE((YEAR(G27)+(VLOOKUP($G$1,$S$2:$T$13,2,FALSE))),MONTH(G27),DAY(G27)))) -> 41913 | I27: =IF(H27="","",(DATE((YEAR(H27)+(VLOOKUP($H$1,$S$2:$T$13,2,FALSE))),MONTH(H27),DAY(H27)))) -> 43009 | J27: =IF(I27="","",(DATE((YEAR(I27)+(VLOOKUP($I$1,$S$2:$T$13,2,FALSE))),MONTH(I27),DAY(I27)))) -> 44105 | K27: =IF(J27="","",(DATE((YEAR(J27)+(VLOOKUP($J$1,$S$2:$T$13,2,FALSE))),MONTH(J27),DAY(J27)))) -> 45200 | L27: =IF(K27="","",(DATE((YEAR(K27)+(VLOOKUP($K$1,$S$2:$T$13,2,FALSE))),MONTH(K27),DAY(K27)))) -> 46296 | M27: =IF(L27="","",(DATE((YEAR(L27)+(VLOOKUP($L$1,$S$2:$T$13,2,FALSE))),MONTH(L27),DAY(L27)))) -> 47392 | N27: =IF(M27="","",(DATE((YEAR(M27)+(VLOOKUP($M$1,$S$2:$T$13,2,FALSE))),MONTH(M27),DAY(M27)))) -> 48488
A28: 10 | B28: NAD | C28: =A28&" "&B28 -> 10 NAD | D28: =ROW(C28) -> 28 | F28: =IF(E28="","",(DATE((YEAR(E28)+(VLOOKUP($E$1,$S$2:$T$13,2,FALSE))),MONTH(E28),DAY(E28)))) | G28: =IF(F28="","",(DATE((YEAR(F28)+(VLOOKUP($F$1,$S$2:$T$13,2,FALSE))),MONTH(F28),DAY(F28)))) | H28: 39090 | I28: 40210 | J28: =IF(I28="","",(DATE((YEAR(I28)+(VLOOKUP($I$1,$S$2:$T$13,2,FALSE))),MONTH(I28),DAY(I28)))) -> 41306 | K28: =IF(J28="","",(DATE((YEAR(J28)+(VLOOKUP($J$1,$S$2:$T$13,2,FALSE))),MONTH(J28),DAY(J28)))) -> 42401 | L28: =IF(K28="","",(DATE((YEAR(K28)+(VLOOKUP($K$1,$S$2:$T$13,2,FALSE))),MONTH(K28),DAY(K28)))) -> 43497 | M28: =IF(L28="","",(DATE((YEAR(L28)+(VLOOKUP($L$1,$S$2:$T$13,2,FALSE))),MONTH(L28),DAY(L28)))) -> 44593 | N28: =IF(M28="","",(DATE((YEAR(M28)+(VLOOKUP($M$1,$S$2:$T$13,2,FALSE))),MONTH(M28),DAY(M28)))) -> 45689
A29: 11 | B29: FA | C29: =A29&" "&B29 -> 11 FA | D29: =ROW(C29) -> 29 | F29: =IF(E29="","",(DATE((YEAR(E29)+(VLOOKUP($E$1,$S$2:$T$13,2,FALSE))),MONTH(E29),DAY(E29)))) | G29: =IF(F29="","",(DATE((YEAR(F29)+(VLOOKUP($F$1,$S$2:$T$13,2,FALSE))),MONTH(F29),DAY(F29)))) | H29: 39083 | I29: 40179 | J29: =IF(I29="","",(DATE((YEAR(I29)+(VLOOKUP($I$1,$S$2:$T$13,2,FALSE))),MONTH(I29),DAY(I29)))) -> 41275 | K29: =IF(J29="","",(DATE((YEAR(J29)+(VLOOKUP($J$1,$S$2:$T$13,2,FALSE))),MONTH(J29),DAY(J29)))) -> 42370 | L29: =IF(K29="","",(DATE((YEAR(K29)+(VLOOKUP($K$1,$S$2:$T$13,2,FALSE))),MONTH(K29),DAY(K29)))) -> 43466 | M29: =IF(L29="","",(DATE((YEAR(L29)+(VLOOKUP($L$1,$S$2:$T$13,2,FALSE))),MONTH(L29),DAY(L29)))) -> 44562 | N29: =IF(M29="","",(DATE((YEAR(M29)+(VLOOKUP($M$1,$S$2:$T$13,2,FALSE))),MONTH(M29),DAY(M29)))) -> 45658
A30: 12 | B30: BEN | C30: =A30&" "&B30 -> 12 BEN | D30: =ROW(C30) -> 30 | F30: =IF(E30="","",(DATE((YEAR(E30)+(VLOOKUP($E$1,$S$2:$T$13,2,FALSE))),MONTH(E30),DAY(E30)))) | G30: =IF(F30="","",(DATE((YEAR(F30)+(VLOOKUP($F$1,$S$2:$T$13,2,FALSE))),MONTH(F30),DAY(F30)))) | H30: 38414 | I30: 39539 | J30: 40634 | K30: =IF(J30="","",(DATE((YEAR(J30)+(VLOOKUP($J$1,$S$2:$T$13,2,FALSE))),MONTH(J30),DAY(J30)))) -> 41730 | L30: =IF(K30="","",(DATE((YEAR(K30)+(VLOOKUP($K$1,$S$2:$T$13,2,FALSE))),MONTH(K30),DAY(K30)))) -> 42826 | M30: =IF(L30="","",(DATE((YEAR(L30)+(VLOOKUP($L$1,$S$2:$T$13,2,FALSE))),MONTH(L30),DAY(L30)))) -> 43922 | N30: =IF(M30="","",(DATE((YEAR(M30)+(VLOOKUP($M$1,$S$2:$T$13,2,FALSE))),MONTH(M30),DAY(M30)))) -> 45017
A31: 13 | B31: MAR | C31: =A31&" "&B31 -> 13 MAR | D31: =ROW(C31) -> 31 | E31: 40700 | F31: 41091 | G31: =IF(F31="","",(DATE((YEAR(F31)+(VLOOKUP($F$1,$S$2:$T$13,2,FALSE))),MONTH(F31),DAY(F31)))) -> 41456 | H31: =IF(G31="","",(DATE((YEAR(G31)+(VLOOKUP($G$1,$S$2:$T$13,2,FALSE))),MONTH(G31),DAY(G31)))) -> 41821 | I31: =IF(H31="","",(DATE((YEAR(H31)+(VLOOKUP($H$1,$S$2:$T$13,2,FALSE))),MONTH(H31),DAY(H31)))) -> 42917 | J31: =IF(I31="","",(DATE((YEAR(I31)+(VLOOKUP($I$1,$S$2:$T$13,2,FALSE))),MONTH(I31),DAY(I31)))) -> 44013 | K31: =IF(J31="","",(DATE((YEAR(J31)+(VLOOKUP($J$1,$S$2:$T$13,2,FALSE))),MONTH(J31),DAY(J31)))) -> 45108 | L31: =IF(K31="","",(DATE((YEAR(K31)+(VLOOKUP($K$1,$S$2:$T$13,2,FALSE))),MONTH(K31),DAY(K31)))) -> 46204 | M31: =IF(L31="","",(DATE((YEAR(L31)+(VLOOKUP($L$1,$S$2:$T$13,2,FALSE))),MONTH(L31),DAY(L31)))) -> 47300 | N31: =IF(M31="","",(DATE((YEAR(M31)+(VLOOKUP($M$1,$S$2:$T$13,2,FALSE))),MONTH(M31),DAY(M31)))) -> 48396
A32: 14 | B32: MON | C32: =A32&" "&B32 -> 14 MON | D32: =ROW(C32) -> 32 | F32: =IF(E32="","",(DATE((YEAR(E32)+(VLOOKUP($E$1,$S$2:$T$13,2,FALSE))),MONTH(E32),DAY(E32)))) | G32: =IF(F32="","",(DATE((YEAR(F32)+(VLOOKUP($F$1,$S$2:$T$13,2,FALSE))),MONTH(F32),DAY(F32)))) | H32: 34335 | I32: 35431 | J32: 36526 | K32: 37622 | L32: 38718 | M32: 39814 | N32: 40909
A33: 15 | B33: HE | C33: =A33&" "&B33 -> 15 HE | D33: =ROW(C33) -> 33 | F33: =IF(E33="","",(DATE((YEAR(E33)+(VLOOKUP($E$1,$S$2:$T$13,2,FALSE))),MONTH(E33),DAY(E33)))) | G33: =IF(F33="","",(DATE((YEAR(F33)+(VLOOKUP($F$1,$S$2:$T$13,2,FALSE))),MONTH(F33),DAY(F33)))) | H33: 39401 | I33: 40513 | J33: =IF(I33="","",(DATE((YEAR(I33)+(VLOOKUP($I$1,$S$2:$T$13,2,FALSE))),MONTH(I33),DAY(I33)))) -> 41609 | K33: =IF(J33="","",(DATE((YEAR(J33)+(VLOOKUP($J$1,$S$2:$T$13,2,FALSE))),MONTH(J33),DAY(J33)))) -> 42705 | L33: =IF(K33="","",(DATE((YEAR(K33)+(VLOOKUP($K$1,$S$2:$T$13,2,FALSE))),MONTH(K33),DAY(K33)))) -> 43800 | M33: =IF(L33="","",(DATE((YEAR(L33)+(VLOOKUP($L$1,$S$2:$T$13,2,FALSE))),MONTH(L33),DAY(L33)))) -> 44896 | N33: =IF(M33="","",(DATE((YEAR(M33)+(VLOOKUP($M$1,$S$2:$T$13,2,FALSE))),MONTH(M33),DAY(M33)))) -> 45992
A34: 16 | B34: PHI | C34: =A34&" "&B34 -> 16 PHI | D34: =ROW(C34) -> 34 | F34: =IF(E34="","",(DATE((YEAR(E34)+(VLOOKUP($E$1,$S$2:$T$13,2,FALSE))),MONTH(E34),DAY(E34)))) | G34: =IF(F34="","",(DATE((YEAR(F34)+(VLOOKUP($F$1,$S$2:$T$13,2,FALSE))),MONTH(F34),DAY(F34)))) | H34: 34516 | I34: 35612 | J34: 36708 | K34: 37803 | L34: 38899 | M34: 39995 | N34: 41091
A35: 17 | B35: ADE | C35: =A35&" "&B35 -> 17 ADE | D35: =ROW(C35) -> 35 | F35: =IF(E35="","",(DATE((YEAR(E35)+(VLOOKUP($E$1,$S$2:$T$13,2,FALSE))),MONTH(E35),DAY(E35)))) | G35: =IF(F35="","",(DATE((YEAR(F35)+(VLOOKUP($F$1,$S$2:$T$13,2,FALSE))),MONTH(F35),DAY(F35)))) | H35: 37987 | I35: 39083 | J35: 40179 | K35: =IF(J35="","",(DATE((YEAR(J35)+(VLOOKUP($J$1,$S$2:$T$13,2,FALSE))),MONTH(J35),DAY(J35)))) -> 41275 | L35: =IF(K35="","",(DATE((YEAR(K35)+(VLOOKUP($K$1,$S$2:$T$13,2,FALSE))),MONTH(K35),DAY(K35)))) -> 42370 | M35: =IF(L35="","",(DATE((YEAR(L35)+(VLOOKUP($L$1,$S$2:$T$13,2,FALSE))),MONTH(L35),DAY(L35)))) -> 43466 | N35: =IF(M35="","",(DATE((YEAR(M35)+(VLOOKUP($M$1,$S$2:$T$13,2,FALSE))),MONTH(M35),DAY(M35)))) -> 44562
A36: 18 | B36: BA | C36: =A36&" "&B36 -> 18 BA | D36: =ROW(C36) -> 36 | F36: =IF(E36="","",(DATE((YEAR(E36)+(VLOOKUP($E$1,$S$2:$T$13,2,FALSE))),MONTH(E36),DAY(E36)))) | G36: =IF(F36="","",(DATE((YEAR(F36)+(VLOOKUP($F$1,$S$2:$T$13,2,FALSE))),MONTH(F36),DAY(F36)))) | H36: 39448 | I36: 40544 | J36: =IF(I36="","",(DATE((YEAR(I36)+(VLOOKUP($I$1,$S$2:$T$13,2,FALSE))),MONTH(I36),DAY(I36)))) -> 41640 | K36: =IF(J36="","",(DATE((YEAR(J36)+(VLOOKUP($J$1,$S$2:$T$13,2,FALSE))),MONTH(J36),DAY(J36)))) -> 42736 | L36: =IF(K36="","",(DATE((YEAR(K36)+(VLOOKUP($K$1,$S$2:$T$13,2,FALSE))),MONTH(K36),DAY(K36)))) -> 43831 | M36: =IF(L36="","",(DATE((YEAR(L36)+(VLOOKUP($L$1,$S$2:$T$13,2,FALSE))),MONTH(L36),DAY(L36)))) -> 44927 | N36: =IF(M36="","",(DATE((YEAR(M36)+(VLOOKUP($M$1,$S$2:$T$13,2,FALSE))),MONTH(M36),DAY(M36)))) -> 46023
A37: 19 | B37: KARI | C37: =A37&" "&B37 -> 19 KARI | D37: =ROW(C37) -> 37 | F37: =IF(E37="","",(DATE((YEAR(E37)+(VLOOKUP($E$1,$S$2:$T$13,2,FALSE))),MONTH(E37),DAY(E37)))) | G37: =IF(F37="","",(DATE((YEAR(F37)+(VLOOKUP($F$1,$S$2:$T$13,2,FALSE))),MONTH(F37),DAY(F37)))) | H37: 39083 | I37: 40179 | J37: =IF(I37="","",(DATE((YEAR(I37)+(VLOOKUP($I$1,$S$2:$T$13,2,FALSE))),MONTH(I37),DAY(I37)))) -> 41275 | K37: =IF(J37="","",(DATE((YEAR(J37)+(VLOOKUP($J$1,$S$2:$T$13,2,FALSE))),MONTH(J37),DAY(J37)))) -> 42370 | L37: =IF(K37="","",(DATE((YEAR(K37)+(VLOOKUP($K$1,$S$2:$T$13,2,FALSE))),MONTH(K37),DAY(K37)))) -> 43466 | M37: =IF(L37="","",(DATE((YEAR(L37)+(VLOOKUP($L$1,$S$2:$T$13,2,FALSE))),MONTH(L37),DAY(L37)))) -> 44562 | N37: =IF(M37="","",(DATE((YEAR(M37)+(VLOOKUP($M$1,$S$2:$T$13,2,FALSE))),MONTH(M37),DAY(M37)))) -> 45658
A38: 20 | B38: ROBER | C38: =A38&" "&B38 -> 20 ROBER | D38: =ROW(C38) -> 38 | F38: =IF(E38="","",(DATE((YEAR(E38)+(VLOOKUP($E$1,$S$2:$T$13,2,FALSE))),MONTH(E38),DAY(E38)))) | G38: =IF(F38="","",(DATE((YEAR(F38)+(VLOOKUP($F$1,$S$2:$T$13,2,FALSE))),MONTH(F38),DAY(F38)))) | H38: =IF(G38="","",(DATE((YEAR(G38)+(VLOOKUP($G$1,$S$2:$T$13,2,FALSE))),MONTH(G38),DAY(G38)))) | I38: =IF(H38="","",(DATE((YEAR(H38)+(VLOOKUP($H$1,$S$2:$T$13,2,FALSE))),MONTH(H38),DAY(H38)))) | J38: =IF(I38="","",(DATE((YEAR(I38)+(VLOOKUP($I$1,$S$2:$T$13,2,FALSE))),MONTH(I38),DAY(I38)))) | K38: =IF(J38="","",(DATE((YEAR(J38)+(VLOOKUP($J$1,$S$2:$T$13,2,FALSE))),MONTH(J38),DAY(J38)))) | L38: =IF(K38="","",(DATE((YEAR(K38)+(VLOOKUP($K$1,$S$2:$T$13,2,FALSE))),MONTH(K38),DAY(K38)))) | M38: =IF(L38="","",(DATE((YEAR(L38)+(VLOOKUP($L$1,$S$2:$T$13,2,FALSE))),MONTH(L38),DAY(L38)))) | N38: =IF(M38="","",(DATE((YEAR(M38)+(VLOOKUP($M$1,$S$2:$T$13,2,FALSE))),MONTH(M38),DAY(M38)))) | O38: 38718 | P38: 39083
A39: 21 | B39: CHRISTIAN | C39: =A39&" "&B39 -> 21 CHRISTIAN | D39: =ROW(C39) -> 39 | F39: =IF(E39="","",(DATE((YEAR(E39)+(VLOOKUP($E$1,$S$2:$T$13,2,FALSE))),MONTH(E39),DAY(E39)))) | G39: =IF(F39="","",(DATE((YEAR(F39)+(VLOOKUP($F$1,$S$2:$T$13,2,FALSE))),MONTH(F39),DAY(F39)))) | H39: 36647 | I39: 37773 | J39: 38869 | K39: 39965 | L39: 41061 | M39: =IF(L39="","",(DATE((YEAR(L39)+(VLOOKUP($L$1,$S$2:$T$13,2,FALSE))),MONTH(L39),DAY(L39)))) -> 42156 | N39: =IF(M39="","",(DATE((YEAR(M39)+(VLOOKUP($M$1,$S$2:$T$13,2,FALSE))),MONTH(M39),DAY(M39)))) -> 43252
A40: 22 | B40: SEBAS | C40: =A40&" "&B40 -> 22 SEBAS | D40: =ROW(C40) -> 40 | F40: =IF(E40="","",(DATE((YEAR(E40)+(VLOOKUP($E$1,$S$2:$T$13,2,FALSE))),MONTH(E40),DAY(E40)))) | G40: =IF(F40="","",(DATE((YEAR(F40)+(VLOOKUP($F$1,$S$2:$T$13,2,FALSE))),MONTH(F40),DAY(F40)))) | H40: 38874 | I40: 39995 | J40: 41091 | K40: =IF(J40="","",(DATE((YEAR(J40)+(VLOOKUP($J$1,$S$2:$T$13,2,FALSE))),MONTH(J40),DAY(J40)))) -> 42186 | L40: =IF(K40="","",(DATE((YEAR(K40)+(VLOOKUP($K$1,$S$2:$T$13,2,FALSE))),MONTH(K40),DAY(K40)))) -> 43282 | M40: =IF(L40="","",(DATE((YEAR(L40)+(VLOOKUP($L$1,$S$2:$T$13,2,FALSE))),MONTH(L40),DAY(L40)))) -> 44378 | N40: =IF(M40="","",(DATE((YEAR(M40)+(VLOOKUP($M$1,$S$2:$T$13,2,FALSE))),MONTH(M40),DAY(M40)))) -> 45474
A41: 23 | B41: BER | C41: =A41&" "&B41 -> 23 BER | D41: =ROW(C41) -> 41 | F41: =IF(E41="","",(DATE((YEAR(E41)+(VLOOKUP($E$1,$S$2:$T$13,2,FALSE))),MONTH(E41),DAY(E41)))) | G41: =IF(F41="","",(DATE((YEAR(F41)+(VLOOKUP($F$1,$S$2:$T$13,2,FALSE))),MONTH(F41),DAY(F41)))) | H41: 38749 | I41: 39845 | J41: 40940 | K41: =IF(J41="","",(DATE((YEAR(J41)+(VLOOKUP($J$1,$S$2:$T$13,2,FALSE))),MONTH(J41),DAY(J41)))) -> 42036 | L41: =IF(K41="","",(DATE((YEAR(K41)+(VLOOKUP($K$1,$S$2:$T$13,2,FALSE))),MONTH(K41),DAY(K41)))) -> 43132 | M41: =IF(L41="","",(DATE((YEAR(L41)+(VLOOKUP($L$1,$S$2:$T$13,2,FALSE))),MONTH(L41),DAY(L41)))) -> 44228 | N41: =IF(M41="","",(DATE((YEAR(M41)+(VLOOKUP($M$1,$S$2:$T$13,2,FALSE))),MONTH(M41),DAY(M41)))) -> 45323
A42: 24 | B42: CLA | C42: =A42&" "&B42 -> 24 CLA | D42: =ROW(C42) -> 42 | F42: =IF(E42="","",(DATE((YEAR(E42)+(VLOOKUP($E$1,$S$2:$T$13,2,FALSE))),MONTH(E42),DAY(E42)))) | G42: =IF(F42="","",(DATE((YEAR(F42)+(VLOOKUP($F$1,$S$2:$T$13,2,FALSE))),MONTH(F42),DAY(F42)))) | H42: =IF(G42="","",(DATE((YEAR(G42)+(VLOOKUP($G$1,$S$2:$T$13,2,FALSE))),MONTH(G42),DAY(G42)))) | I42: =IF(H42="","",(DATE((YEAR(H42)+(VLOOKUP($H$1,$S$2:$T$13,2,FALSE))),MONTH(H42),DAY(H42)))) | J42: =IF(I42="","",(DATE((YEAR(I42)+(VLOOKUP($I$1,$S$2:$T$13,2,FALSE))),MONTH(I42),DAY(I42)))) | K42: =IF(J42="","",(DATE((YEAR(J42)+(VLOOKUP($J$1,$S$2:$T$13,2,FALSE))),MONTH(J42),DAY(J42)))) | L42: =IF(K42="","",(DATE((YEAR(K42)+(VLOOKUP($K$1,$S$2:$T$13,2,FALSE))),MONTH(K42),DAY(K42)))) | M42: =IF(L42="","",(DATE((YEAR(L42)+(VLOOKUP($L$1,$S$2:$T$13,2,FALSE))),MONTH(L42),DAY(L42)))) | N42: =IF(M42="","",(DATE((YEAR(M42)+(VLOOKUP($M$1,$S$2:$T$13,2,FALSE))),MONTH(M42),DAY(M42))))
A43: 25 | B43: PASC | C43: =A43&" "&B43 -> 25 PASC | D43: =ROW(C43) -> 43 | F43: =IF(E43="","",(DATE((YEAR(E43)+(VLOOKUP($E$1,$S$2:$T$13,2,FALSE))),MONTH(E43),DAY(E43)))) | G43: =IF(F43="","",(DATE((YEAR(F43)+(VLOOKUP($F$1,$S$2:$T$13,2,FALSE))),MONTH(F43),DAY(F43)))) | H43: 39692 | I43: 40787 | J43: =IF(I43="","",(DATE((YEAR(I43)+(VLOOKUP($I$1,$S$2:$T$13,2,FALSE))),MONTH(I43),DAY(I43)))) -> 41883 | K43: =IF(J43="","",(DATE((YEAR(J43)+(VLOOKUP($J$1,$S$2:$T$13,2,FALSE))),MONTH(J43),DAY(J43)))) -> 42979 | L43: =IF(K43="","",(DATE((YEAR(K43)+(VLOOKUP($K$1,$S$2:$T$13,2,FALSE))),MONTH(K43),DAY(K43)))) -> 44075 | M43: =IF(L43="","",(DATE((YEAR(L43)+(VLOOKUP($L$1,$S$2:$T$13,2,FALSE))),MONTH(L43),DAY(L43)))) -> 45170 | N43: =IF(M43="","",(DATE((YEAR(M43)+(VLOOKUP($M$1,$S$2:$T$13,2,FALSE))),MONTH(M43),DAY(M43)))) -> 46266
A44: 26 | B44: OLIV | C44: =A44&" "&B44 -> 26 OLIV | D44: =ROW(C44) -> 44 | F44: =IF(E44="","",(DATE((YEAR(E44)+(VLOOKUP($E$1,$S$2:$T$13,2,FALSE))),MONTH(E44),DAY(E44)))) | G44: =IF(F44="","",(DATE((YEAR(F44)+(VLOOKUP($F$1,$S$2:$T$13,2,FALSE))),MONTH(F44),DAY(F44)))) | H44: 38838 | I44: 39934 | J44: 41030 | K44: =IF(J44="","",(DATE((YEAR(J44)+(VLOOKUP($J$1,$S$2:$T$13,2,FALSE))),MONTH(J44),DAY(J44)))) -> 42125 | L44: =IF(K44="","",(DATE((YEAR(K44)+(VLOOKUP($K$1,$S$2:$T$13,2,FALSE))),MONTH(K44),DAY(K44)))) -> 43221 | M44: =IF(L44="","",(DATE((YEAR(L44)+(VLOOKUP($L$1,$S$2:$T$13,2,FALSE))),MONTH(L44),DAY(L44)))) -> 44317 | N44: =IF(M44="","",(DATE((YEAR(M44)+(VLOOKUP($M$1,$S$2:$T$13,2,FALSE))),MONTH(M44),DAY(M44)))) -> 45413
A45: 27 | B45: JEAN MICHEL | C45: =A45&" "&B45 -> 27 JEAN MICHEL | D45: =ROW(C45) -> 45 | F45: =IF(E45="","",(DATE((YEAR(E45)+(VLOOKUP($E$1,$S$2:$T$13,2,FALSE))),MONTH(E45),DAY(E45)))) | G45: =IF(F45="","",(DATE((YEAR(F45)+(VLOOKUP($F$1,$S$2:$T$13,2,FALSE))),MONTH(F45),DAY(F45)))) | H45: =IF(G45="","",(DATE((YEAR(G45)+(VLOOKUP($G$1,$S$2:$T$13,2,FALSE))),MONTH(G45),DAY(G45)))) | I45: =IF(H45="","",(DATE((YEAR(H45)+(VLOOKUP($H$1,$S$2:$T$13,2,FALSE))),MONTH(H45),DAY(H45)))) | J45: =IF(I45="","",(DATE((YEAR(I45)+(VLOOKUP($I$1,$S$2:$T$13,2,FALSE))),MONTH(I45),DAY(I45)))) | K45: =IF(J45="","",(DATE((YEAR(J45)+(VLOOKUP($J$1,$S$2:$T$13,2,FALSE))),MONTH(J45),DAY(J45)))) | L45: =IF(K45="","",(DATE((YEAR(K45)+(VLOOKUP($K$1,$S$2:$T$13,2,FALSE))),MONTH(K45),DAY(K45)))) | M45: =IF(L45="","",(DATE((YEAR(L45)+(VLOOKUP($L$1,$S$2:$T$13,2,FALSE))),MONTH(L45),DAY(L45)))) | N45: 30/102/2010
A46: 28 | B46: PAS | C46: =A46&" "&B46 -> 28 PAS | D46: =ROW(C46) -> 46 | F46: =IF(E46="","",(DATE((YEAR(E46)+(VLOOKUP($E$1,$S$2:$T$13,2,FALSE))),MONTH(E46),DAY(E46)))) | G46: =IF(F46="","",(DATE((YEAR(F46)+(VLOOKUP($F$1,$S$2:$T$13,2,FALSE))),MONTH(F46),DAY(F46)))) | H46: 37653 | I46: 38749 | J46: 39845 | K46: 40940 | L46: =IF(K46="","",(DATE((YEAR(K46)+(VLOOKUP($K$1,$S$2:$T$13,2,FALSE))),MONTH(K46),DAY(K46)))) -> 42036 | M46: =IF(L46="","",(DATE((YEAR(L46)+(VLOOKUP($L$1,$S$2:$T$13,2,FALSE))),MONTH(L46),DAY(L46)))) -> 43132 | N46: =IF(M46="","",(DATE((YEAR(M46)+(VLOOKUP($M$1,$S$2:$T$13,2,FALSE))),MONTH(M46),DAY(M46)))) -> 44228
A47: 29 | B47: ANT | C47: =A47&" "&B47 -> 29 ANT | D47: =ROW(C47) -> 47 | E47: 40940 | F47: 41306 | G47: =IF(F47="","",(DATE((YEAR(F47)+(VLOOKUP($F$1,$S$2:$T$13,2,FALSE))),MONTH(F47),DAY(F47)))) -> 41671 | H47: =IF(G47="","",(DATE((YEAR(G47)+(VLOOKUP($G$1,$S$2:$T$13,2,FALSE))),MONTH(G47),DAY(G47)))) -> 42036 | I47: =IF(H47="","",(DATE((YEAR(H47)+(VLOOKUP($H$1,$S$2:$T$13,2,FALSE))),MONTH(H47),DAY(H47)))) -> 43132 | J47: =IF(I47="","",(DATE((YEAR(I47)+(VLOOKUP($I$1,$S$2:$T$13,2,FALSE))),MONTH(I47),DAY(I47)))) -> 44228 | K47: =IF(J47="","",(DATE((YEAR(J47)+(VLOOKUP($J$1,$S$2:$T$13,2,FALSE))),MONTH(J47),DAY(J47)))) -> 45323 | L47: =IF(K47="","",(DATE((YEAR(K47)+(VLOOKUP($K$1,$S$2:$T$13,2,FALSE))),MONTH(K47),DAY(K47)))) -> 46419 | M47: =IF(L47="","",(DATE((YEAR(L47)+(VLOOKUP($L$1,$S$2:$T$13,2,FALSE))),MONTH(L47),DAY(L47)))) -> 47515 | N47: =IF(M47="","",(DATE((YEAR(M47)+(VLOOKUP($M$1,$S$2:$T$13,2,FALSE))),MONTH(M47),DAY(M47)))) -> 48611
A48: 30 | B48: BR | C48: =A48&" "&B48 -> 30 BR | D48: =ROW(C48) -> 48 | F48: =IF(E48="","",(DATE((YEAR(E48)+(VLOOKUP($E$1,$S$2:$T$13,2,FALSE))),MONTH(E48),DAY(E48)))) | G48: =IF(F48="","",(DATE((YEAR(F48)+(VLOOKUP($F$1,$S$2:$T$13,2,FALSE))),MONTH(F48),DAY(F48)))) | H48: 37043 | I48: 38139 | J48: 39234 | K48: 40330 | L48: =IF(K48="","",(DATE((YEAR(K48)+(VLOOKUP($K$1,$S$2:$T$13,2,FALSE))),MONTH(K48),DAY(K48)))) -> 41426 | M48: =IF(L48="","",(DATE((YEAR(L48)+(VLOOKUP($L$1,$S$2:$T$13,2,FALSE))),MONTH(L48),DAY(L48)))) -> 42522 | N48: =IF(M48="","",(DATE((YEAR(M48)+(VLOOKUP($M$1,$S$2:$T$13,2,FALSE))),MONTH(M48),DAY(M48)))) -> 43617
A49: 31 | B49: YV | C49: =A49&" "&B49 -> 31 YV | D49: =ROW(C49) -> 49 | F49: =IF(E49="","",(DATE((YEAR(E49)+(VLOOKUP($E$1,$S$2:$T$13,2,FALSE))),MONTH(E49),DAY(E49)))) | G49: =IF(F49="","",(DATE((YEAR(F49)+(VLOOKUP($F$1,$S$2:$T$13,2,FALSE))),MONTH(F49),DAY(F49)))) | H49: =IF(G49="","",(DATE((YEAR(G49)+(VLOOKUP($G$1,$S$2:$T$13,2,FALSE))),MONTH(G49),DAY(G49)))) | I49: =IF(H49="","",(DATE((YEAR(H49)+(VLOOKUP($H$1,$S$2:$T$13,2,FALSE))),MONTH(H49),DAY(H49)))) | J49: =IF(I49="","",(DATE((YEAR(I49)+(VLOOKUP($I$1,$S$2:$T$13,2,FALSE))),MONTH(I49),DAY(I49)))) | K49: =IF(J49="","",(DATE((YEAR(J49)+(VLOOKUP($J$1,$S$2:$T$13,2,FALSE))),MONTH(J49),DAY(J49)))) | L49: =IF(K49="","",(DATE((YEAR(K49)+(VLOOKUP($K$1,$S$2:$T$13,2,FALSE))),MONTH(K49),DAY(K49)))) | M49: =IF(L49="","",(DATE((YEAR(L49)+(VLOOKUP($L$1,$S$2:$T$13,2,FALSE))),MONTH(L49),DAY(L49)))) | N49: 39661
A50: 32 | B50: GIL | C50: =A50&" "&B50 -> 32 GIL | D50: =ROW(C50) -> 50 | F50: =IF(E50="","",(DATE((YEAR(E50)+(VLOOKUP($E$1,$S$2:$T$13,2,FALSE))),MONTH(E50),DAY(E50)))) | G50: =IF(F50="","",(DATE((YEAR(F50)+(VLOOKUP($F$1,$S$2:$T$13,2,FALSE))),MONTH(F50),DAY(F50)))) | H50: 38657 | I50: 39753 | J50: 40848 | K50: =IF(J50="","",(DATE((YEAR(J50)+(VLOOKUP($J$1,$S$2:$T$13,2,FALSE))),MONTH(J50),DAY(J50)))) -> 41944 | L50: =IF(K50="","",(DATE((YEAR(K50)+(VLOOKUP($K$1,$S$2:$T$13,2,FALSE))),MONTH(K50),DAY(K50)))) -> 43040 | M50: =IF(L50="","",(DATE((YEAR(L50)+(VLOOKUP($L$1,$S$2:$T$13,2,FALSE))),MONTH(L50),DAY(L50)))) -> 44136 | N50: =IF(M50="","",(DATE((YEAR(M50)+(VLOOKUP($M$1,$S$2:$T$13,2,FALSE))),MONTH(M50),DAY(M50)))) -> 45231
A51: 33 | B51: ETI | C51: =A51&" "&B51 -> 33 ETI | D51: =ROW(C51) -> 51 | F51: =IF(E51="","",(DATE((YEAR(E51)+(VLOOKUP($E$1,$S$2:$T$13,2,FALSE))),MONTH(E51),DAY(E51)))) | G51: =IF(F51="","",(DATE((YEAR(F51)+(VLOOKUP($F$1,$S$2:$T$13,2,FALSE))),MONTH(F51),DAY(F51)))) | H51: 37653 | I51: 38749 | J51: 39845 | K51: 40940 | L51: =IF(K51="","",(DATE((YEAR(K51)+(VLOOKUP($K$1,$S$2:$T$13,2,FALSE))),MONTH(K51),DAY(K51)))) -> 42036 | M51: =IF(L51="","",(DATE((YEAR(L51)+(VLOOKUP($L$1,$S$2:$T$13,2,FALSE))),MONTH(L51),DAY(L51)))) -> 43132 | N51: =IF(M51="","",(DATE((YEAR(M51)+(VLOOKUP($M$1,$S$2:$T$13,2,FALSE))),MONTH(M51),DAY(M51)))) -> 44228
A52: 34 | B52: VINC | C52: =A52&" "&B52 -> 34 VINC | D52: =ROW(C52) -> 52 | F52: =IF(E52="","",(DATE((YEAR(E52)+(VLOOKUP($E$1,$S$2:$T$13,2,FALSE))),MONTH(E52),DAY(E52)))) | G52: =IF(F52="","",(DATE((YEAR(F52)+(VLOOKUP($F$1,$S$2:$T$13,2,FALSE))),MONTH(F52),DAY(F52)))) | H52: 37561 | I52: 38657 | J52: 39753 | K52: 40848 | L52: =IF(K52="","",(DATE((YEAR(K52)+(VLOOKUP($K$1,$S$2:$T$13,2,FALSE))),MONTH(K52),DAY(K52)))) -> 41944 | M52: =IF(L52="","",(DATE((YEAR(L52)+(VLOOKUP($L$1,$S$2:$T$13,2,FALSE))),MONTH(L52),DAY(L52)))) -> 43040 | N52: =IF(M52="","",(DATE((YEAR(M52)+(VLOOKUP($M$1,$S$2:$T$13,2,FALSE))),MONTH(M52),DAY(M52)))) -> 44136
A53: 35 | B53: STEP | C53: =A53&" "&B53 -> 35 STEP | D53: =ROW(C53) -> 53 | F53: =IF(E53="","",(DATE((YEAR(E53)+(VLOOKUP($E$1,$S$2:$T$13,2,FALSE))),MONTH(E53),DAY(E53)))) | G53: =IF(F53="","",(DATE((YEAR(F53)+(VLOOKUP($F$1,$S$2:$T$13,2,FALSE))),MONTH(F53),DAY(F53)))) | H53: =IF(G53="","",(DATE((YEAR(G53)+(VLOOKUP($G$1,$S$2:$T$13,2,FALSE))),MONTH(G53),DAY(G53)))) | I53: =IF(H53="","",(DATE((YEAR(H53)+(VLOOKUP($H$1,$S$2:$T$13,2,FALSE))),MONTH(H53),DAY(H53)))) | J53: =IF(I53="","",(DATE((YEAR(I53)+(VLOOKUP($I$1,$S$2:$T$13,2,FALSE))),MONTH(I53),DAY(I53)))) | K53: =IF(J53="","",(DATE((YEAR(J53)+(VLOOKUP($J$1,$S$2:$T$13,2,FALSE))),MONTH(J53),DAY(J53)))) | L53: =IF(K53="","",(DATE((YEAR(K53)+(VLOOKUP($K$1,$S$2:$T$13,2,FALSE))),MONTH(K53),DAY(K53)))) | M53: =IF(L53="","",(DATE((YEAR(L53)+(VLOOKUP($L$1,$S$2:$T$13,2,FALSE))),MONTH(L53),DAY(L53)))) | N53: =IF(M53="","",(DATE((YEAR(M53)+(VLOOKUP($M$1,$S$2:$T$13,2,FALSE))),MONTH(M53),DAY(M53))))
A54: 36 | B54: STEP | C54: =A54&" "&B54 -> 36 STEP | D54: =ROW(C54) -> 54 | F54: =IF(E54="","",(DATE((YEAR(E54)+(VLOOKUP($E$1,$S$2:$T$13,2,FALSE))),MONTH(E54),DAY(E54)))) | G54: =IF(F54="","",(DATE((YEAR(F54)+(VLOOKUP($F$1,$S$2:$T$13,2,FALSE))),MONTH(F54),DAY(F54)))) | H54: =IF(G54="","",(DATE((YEAR(G54)+(VLOOKUP($G$1,$S$2:$T$13,2,FALSE))),MONTH(G54),DAY(G54)))) | I54: =IF(H54="","",(DATE((YEAR(H54)+(VLOOKUP($H$1,$S$2:$T$13,2,FALSE))),MONTH(H54),DAY(H54)))) | J54: =IF(I54="","",(DATE((YEAR(I54)+(VLOOKUP($I$1,$S$2:$T$13,2,FALSE))),MONTH(I54),DAY(I54)))) | K54: =IF(J54="","",(DATE((YEAR(J54)+(VLOOKUP($J$1,$S$2:$T$13,2,FALSE))),MONTH(J54),DAY(J54)))) | L54: =IF(K54="","",(DATE((YEAR(K54)+(VLOOKUP($K$1,$S$2:$T$13,2,FALSE))),MONTH(K54),DAY(K54)))) | M54: =IF(L54="","",(DATE((YEAR(L54)+(VLOOKUP($L$1,$S$2:$T$13,2,FALSE))),MONTH(L54),DAY(L54)))) | N54: 40481
A55: 37 | B55: AH | C55: =A55&" "&B55 -> 37 AH | D55: =ROW(C55) -> 55 | F55: =IF(E55="","",(DATE((YEAR(E55)+(VLOOKUP($E$1,$S$2:$T$13,2,FALSE))),MONTH(E55),DAY(E55)))) | G55: =IF(F55="","",(DATE((YEAR(F55)+(VLOOKUP($F$1,$S$2:$T$13,2,FALSE))),MONTH(F55),DAY(F55)))) | H55: =IF(G55="","",(DATE((YEAR(G55)+(VLOOKUP($G$1,$S$2:$T$13,2,FALSE))),MONTH(G55),DAY(G55)))) | I55: 41244 | J55: =IF(I55="","",(DATE((YEAR(I55)+(VLOOKUP($I$1,$S$2:$T$13,2,FALSE))),MONTH(I55),DAY(I55)))) -> 42339 | K55: =IF(J55="","",(DATE((YEAR(J55)+(VLOOKUP($J$1,$S$2:$T$13,2,FALSE))),MONTH(J55),DAY(J55)))) -> 43435 | L55: =IF(K55="","",(DATE((YEAR(K55)+(VLOOKUP($K$1,$S$2:$T$13,2,FALSE))),MONTH(K55),DAY(K55)))) -> 44531 | M55: =IF(L55="","",(DATE((YEAR(L55)+(VLOOKUP($L$1,$S$2:$T$13,2,FALSE))),MONTH(L55),DAY(L55)))) -> 45627 | N55: =IF(M55="","",(DATE((YEAR(M55)+(VLOOKUP($M$1,$S$2:$T$13,2,FALSE))),MONTH(M55),DAY(M55)))) -> 46722
A56: 38 | B56: JE | C56: =A56&" "&B56 -> 38 JE | D56: =ROW(C56) -> 56 | F56: =IF(E56="","",(DATE((YEAR(E56)+(VLOOKUP($E$1,$S$2:$T$13,2,FALSE))),MONTH(E56),DAY(E56)))) | G56: =IF(F56="","",(DATE((YEAR(F56)+(VLOOKUP($F$1,$S$2:$T$13,2,FALSE))),MONTH(F56),DAY(F56)))) | H56: 39722 | I56: 40817 | J56: =IF(I56="","",(DATE((YEAR(I56)+(VLOOKUP($I$1,$S$2:$T$13,2,FALSE))),MONTH(I56),DAY(I56)))) -> 41913 | K56: =IF(J56="","",(DATE((YEAR(J56)+(VLOOKUP($J$1,$S$2:$T$13,2,FALSE))),MONTH(J56),DAY(J56)))) -> 43009 | L56: =IF(K56="","",(DATE((YEAR(K56)+(VLOOKUP($K$1,$S$2:$T$13,2,FALSE))),MONTH(K56),DAY(K56)))) -> 44105 | M56: =IF(L56="","",(DATE((YEAR(L56)+(VLOOKUP($L$1,$S$2:$T$13,2,FALSE))),MONTH(L56),DAY(L56)))) -> 45200 | N56: =IF(M56="","",(DATE((YEAR(M56)+(VLOOKUP($M$1,$S$2:$T$13,2,FALSE))),MONTH(M56),DAY(M56)))) -> 46296
A57: 39 | B57: JERO | C57: =A57&" "&B57 -> 39 JERO | D57: =ROW(C57) -> 57 | F57: =IF(E57="","",(DATE((YEAR(E57)+(VLOOKUP($E$1,$S$2:$T$13,2,FALSE))),MONTH(E57),DAY(E57)))) | G57: =IF(F57="","",(DATE((YEAR(F57)+(VLOOKUP($F$1,$S$2:$T$13,2,FALSE))),MONTH(F57),DAY(F57)))) | H57: =IF(G57="","",(DATE((YEAR(G57)+(VLOOKUP($G$1,$S$2:$T$13,2,FALSE))),MONTH(G57),DAY(G57)))) | I57: =IF(H57="","",(DATE((YEAR(H57)+(VLOOKUP($H$1,$S$2:$T$13,2,FALSE))),MONTH(H57),DAY(H57)))) | J57: =IF(I57="","",(DATE((YEAR(I57)+(VLOOKUP($I$1,$S$2:$T$13,2,FALSE))),MONTH(I57),DAY(I57)))) | K57: =IF(J57="","",(DATE((YEAR(J57)+(VLOOKUP($J$1,$S$2:$T$13,2,FALSE))),MONTH(J57),DAY(J57)))) | L57: =IF(K57="","",(DATE((YEAR(K57)+(VLOOKUP($K$1,$S$2:$T$13,2,FALSE))),MONTH(K57),DAY(K57)))) | M57: =IF(L57="","",(DATE((YEAR(L57)+(VLOOKUP($L$1,$S$2:$T$13,2,FALSE))),MONTH(L57),DAY(L57)))) | N57: 40481
A58: 40 | B58: VIRGI | C58: =A58&" "&B58 -> 40 VIRGI | D58: =ROW(C58) -> 58 | F58: =IF(E58="","",(DATE((YEAR(E58)+(VLOOKUP($E$1,$S$2:$T$13,2,FALSE))),MONTH(E58),DAY(E58)))) | G58: =IF(F58="","",(DATE((YEAR(F58)+(VLOOKUP($F$1,$S$2:$T$13,2,FALSE))),MONTH(F58),DAY(F58)))) | H58: 40087 | I58: 41183 | J58: =IF(I58="","",(DATE((YEAR(I58)+(VLOOKUP($I$1,$S$2:$T$13,2,FALSE))),MONTH(I58),DAY(I58)))) -> 42278 | K58: =IF(J58="","",(DATE((YEAR(J58)+(VLOOKUP($J$1,$S$2:$T$13,2,FALSE))),MONTH(J58),DAY(J58)))) -> 43374 | L58: =IF(K58="","",(DATE((YEAR(K58)+(VLOOKUP($K$1,$S$2:$T$13,2,FALSE))),MONTH(K58),DAY(K58)))) -> 44470 | M58: =IF(L58="","",(DATE((YEAR(L58)+(VLOOKUP($L$1,$S$2:$T$13,2,FALSE))),MONTH(L58),DAY(L58)))) -> 45566 | N58: =IF(M58="","",(DATE((YEAR(M58)+(VLOOKUP($M$1,$S$2:$T$13,2,FALSE))),MONTH(M58),DAY(M58)))) -> 46661
A59: 41 | B59: PIERR | C59: =A59&" "&B59 -> 41 PIERR | D59: =ROW(C59) -> 59 | F59: =IF(E59="","",(DATE((YEAR(E59)+(VLOOKUP($E$1,$S$2:$T$13,2,FALSE))),MONTH(E59),DAY(E59)))) | G59: =IF(F59="","",(DATE((YEAR(F59)+(VLOOKUP($F$1,$S$2:$T$13,2,FALSE))),MONTH(F59),DAY(F59)))) | H59: 40756 | I59: =IF(H59="","",(DATE((YEAR(H59)+(VLOOKUP($H$1,$S$2:$T$13,2,FALSE))),MONTH(H59),DAY(H59)))) -> 41852 | J59: =IF(I59="","",(DATE((YEAR(I59)+(VLOOKUP($I$1,$S$2:$T$13,2,FALSE))),MONTH(I59),DAY(I59)))) -> 42948 | K59: =IF(J59="","",(DATE((YEAR(J59)+(VLOOKUP($J$1,$S$2:$T$13,2,FALSE))),MONTH(J59),DAY(J59)))) -> 44044 | L59: =IF(K59="","",(DATE((YEAR(K59)+(VLOOKUP($K$1,$S$2:$T$13,2,FALSE))),MONTH(K59),DAY(K59)))) -> 45139 | M59: =IF(L59="","",(DATE((YEAR(L59)+(VLOOKUP($L$1,$S$2:$T$13,2,FALSE))),MONTH(L59),DAY(L59)))) -> 46235 | N59: =IF(M59="","",(DATE((YEAR(M59)+(VLOOKUP($M$1,$S$2:$T$13,2,FALSE))),MONTH(M59),DAY(M59)))) -> 47331
A60: 42 | B60: NOU | C60: =A60&" "&B60 -> 42 NOU | D60: =ROW(C60) -> 60 | F60: =IF(E60="","",(DATE((YEAR(E60)+(VLOOKUP($E$1,$S$2:$T$13,2,FALSE))),MONTH(E60),DAY(E60)))) | G60: =IF(F60="","",(DATE((YEAR(F60)+(VLOOKUP($F$1,$S$2:$T$13,2,FALSE))),MONTH(F60),DAY(F60)))) | H60: 39223 | I60: 40330 | J60: =IF(I60="","",(DATE((YEAR(I60)+(VLOOKUP($I$1,$S$2:$T$13,2,FALSE))),MONTH(I60),DAY(I60)))) -> 41426 | K60: =IF(J60="","",(DATE((YEAR(J60)+(VLOOKUP($J$1,$S$2:$T$13,2,FALSE))),MONTH(J60),DAY(J60)))) -> 42522 | L60: =IF(K60="","",(DATE((YEAR(K60)+(VLOOKUP($K$1,$S$2:$T$13,2,FALSE))),MONTH(K60),DAY(K60)))) -> 43617 | M60: =IF(L60="","",(DATE((YEAR(L60)+(VLOOKUP($L$1,$S$2:$T$13,2,FALSE))),MONTH(L60),DAY(L60)))) -> 44713 | N60: =IF(M60="","",(DATE((YEAR(M60)+(VLOOKUP($M$1,$S$2:$T$13,2,FALSE))),MONTH(M60),DAY(M60)))) -> 45809
A61: 43 | B61: CLOTI | C61: =A61&" "&B61 -> 43 CLOTI | D61: =ROW(C61) -> 61 | F61: =IF(E61="","",(DATE((YEAR(E61)+(VLOOKUP($E$1,$S$2:$T$13,2,FALSE))),MONTH(E61),DAY(E61)))) | G61: =IF(F61="","",(DATE((YEAR(F61)+(VLOOKUP($F$1,$S$2:$T$13,2,FALSE))),MONTH(F61),DAY(F61)))) | H61: 39496 | I61: 40603 | J61: =IF(I61="","",(DATE((YEAR(I61)+(VLOOKUP($I$1,$S$2:$T$13,2,FALSE))),MONTH(I61),DAY(I61)))) -> 41699 | K61: =IF(J61="","",(DATE((YEAR(J61)+(VLOOKUP($J$1,$S$2:$T$13,2,FALSE))),MONTH(J61),DAY(J61)))) -> 42795 | L61: =IF(K61="","",(DATE((YEAR(K61)+(VLOOKUP($K$1,$S$2:$T$13,2,FALSE))),MONTH(K61),DAY(K61)))) -> 43891 | M61: =IF(L61="","",(DATE((YEAR(L61)+(VLOOKUP($L$1,$S$2:$T$13,2,FALSE))),MONTH(L61),DAY(L61)))) -> 44986 | N61: =IF(M61="","",(DATE((YEAR(M61)+(VLOOKUP($M$1,$S$2:$T$13,2,FALSE))),MONTH(M61),DAY(M61)))) -> 46082
A62: 44 | B62: VERON | C62: =A62&" "&B62 -> 44 VERON | D62: =ROW(C62) -> 62 | F62: =IF(E62="","",(DATE((YEAR(E62)+(VLOOKUP($E$1,$S$2:$T$13,2,FALSE))),MONTH(E62),DAY(E62)))) | G62: =IF(F62="","",(DATE((YEAR(F62)+(VLOOKUP($F$1,$S$2:$T$13,2,FALSE))),MONTH(F62),DAY(F62)))) | H62: 39448 | I62: 40544 | J62: =IF(I62="","",(DATE((YEAR(I62)+(VLOOKUP($I$1,$S$2:$T$13,2,FALSE))),MONTH(I62),DAY(I62)))) -> 41640 | K62: =IF(J62="","",(DATE((YEAR(J62)+(VLOOKUP($J$1,$S$2:$T$13,2,FALSE))),MONTH(J62),DAY(J62)))) -> 42736 | L62: =IF(K62="","",(DATE((YEAR(K62)+(VLOOKUP($K$1,$S$2:$T$13,2,FALSE))),MONTH(K62),DAY(K62)))) -> 43831 | M62: =IF(L62="","",(DATE((YEAR(L62)+(VLOOKUP($L$1,$S$2:$T$13,2,FALSE))),MONTH(L62),DAY(L62)))) -> 44927 | N62: =IF(M62="","",(DATE((YEAR(M62)+(VLOOKUP($M$1,$S$2:$T$13,2,FALSE))),MONTH(M62),DAY(M62)))) -> 46023
A63: 45 | B63: MOU | C63: =A63&" "&B63 -> 45 MOU | D63: =ROW(C63) -> 63 | F63: =IF(E63="","",(DATE((YEAR(E63)+(VLOOKUP($E$1,$S$2:$T$13,2,FALSE))),MONTH(E63),DAY(E63)))) | G63: =IF(F63="","",(DATE((YEAR(F63)+(VLOOKUP($F$1,$S$2:$T$13,2,FALSE))),MONTH(F63),DAY(F63)))) | H63: 39661 | I63: 40756 | J63: =IF(I63="","",(DATE((YEAR(I63)+(VLOOKUP($I$1,$S$2:$T$13,2,FALSE))),MONTH(I63),DAY(I63)))) -> 41852 | K63: =IF(J63="","",(DATE((YEAR(J63)+(VLOOKUP($J$1,$S$2:$T$13,2,FALSE))),MONTH(J63),DAY(J63)))) -> 42948 | L63: =IF(K63="","",(DATE((YEAR(K63)+(VLOOKUP($K$1,$S$2:$T$13,2,FALSE))),MONTH(K63),DAY(K63)))) -> 44044 | M63: =IF(L63="","",(DATE((YEAR(L63)+(VLOOKUP($L$1,$S$2:$T$13,2,FALSE))),MONTH(L63),DAY(L63)))) -> 45139 | N63: =IF(M63="","",(DATE((YEAR(M63)+(VLOOKUP($M$1,$S$2:$T$13,2,FALSE))),MONTH(M63),DAY(M63)))) -> 46235
A64: 46 | B64: HE | C64: =A64&" "&B64 -> 46 HE | D64: =ROW(C64) -> 64 | F64: =IF(E64="","",(DATE((YEAR(E64)+(VLOOKUP($E$1,$S$2:$T$13,2,FALSE))),MONTH(E64),DAY(E64)))) | G64: =IF(F64="","",(DATE((YEAR(F64)+(VLOOKUP($F$1,$S$2:$T$13,2,FALSE))),MONTH(F64),DAY(F64)))) | H64: =IF(G64="","",(DATE((YEAR(G64)+(VLOOKUP($G$1,$S$2:$T$13,2,FALSE))),MONTH(G64),DAY(G64)))) | I64: =IF(H64="","",(DATE((YEAR(H64)+(VLOOKUP($H$1,$S$2:$T$13,2,FALSE))),MONTH(H64),DAY(H64)))) | J64: =IF(I64="","",(DATE((YEAR(I64)+(VLOOKUP($I$1,$S$2:$T$13,2,FALSE))),MONTH(I64),DAY(I64)))) | K64: =IF(J64="","",(DATE((YEAR(J64)+(VLOOKUP($J$1,$S$2:$T$13,2,FALSE))),MONTH(J64),DAY(J64)))) | L64: =IF(K64="","",(DATE((YEAR(K64)+(VLOOKUP($K$1,$S$2:$T$13,2,FALSE))),MONTH(K64),DAY(K64)))) | M64: =IF(L64="","",(DATE((YEAR(L64)+(VLOOKUP($L$1,$S$2:$T$13,2,FALSE))),MONTH(L64),DAY(L64)))) | N64: 40481
A65: 47 | B65: JEAN J | C65: =A65&" "&B65 -> 47 JEAN J | D65: =ROW(C65) -> 65 | F65: =IF(E65="","",(DATE((YEAR(E65)+(VLOOKUP($E$1,$S$2:$T$13,2,FALSE))),MONTH(E65),DAY(E65)))) | G65: =IF(F65="","",(DATE((YEAR(F65)+(VLOOKUP($F$1,$S$2:$T$13,2,FALSE))),MONTH(F65),DAY(F65)))) | H65: =IF(G65="","",(DATE((YEAR(G65)+(VLOOKUP($G$1,$S$2:$T$13,2,FALSE))),MONTH(G65),DAY(G65)))) | I65: =IF(H65="","",(DATE((YEAR(H65)+(VLOOKUP($H$1,$S$2:$T$13,2,FALSE))),MONTH(H65),DAY(H65)))) | J65: =IF(I65="","",(DATE((YEAR(I65)+(VLOOKUP($I$1,$S$2:$T$13,2,FALSE))),MONTH(I65),DAY(I65)))) | K65: =IF(J65="","",(DATE((YEAR(J65)+(VLOOKUP($J$1,$S$2:$T$13,2,FALSE))),MONTH(J65),DAY(J65)))) | L65: =IF(K65="","",(DATE((YEAR(K65)+(VLOOKUP($K$1,$S$2:$T$13,2,FALSE))),MONTH(K65),DAY(K65)))) | M65: =IF(L65="","",(DATE((YEAR(L65)+(VLOOKUP($L$1,$S$2:$T$13,2,FALSE))),MONTH(L65),DAY(L65)))) | N65: 38139
A66: 48 | B66: STE | C66: =A66&" "&B66 -> 48 STE | D66: =ROW(C66) -> 66 | F66: =IF(E66="","",(DATE((YEAR(E66)+(VLOOKUP($E$1,$S$2:$T$13,2,FALSE))),MONTH(E66),DAY(E66)))) | G66: =IF(F66="","",(DATE((YEAR(F66)+(VLOOKUP($F$1,$S$2:$T$13,2,FALSE))),MONTH(F66),DAY(F66)))) | H66: 40728 | I66: =IF(H66="","",(DATE((YEAR(H66)+(VLOOKUP($H$1,$S$2:$T$13,2,FALSE))),MONTH(H66),DAY(H66)))) -> 41824 | J66: =IF(I66="","",(DATE((YEAR(I66)+(VLOOKUP($I$1,$S$2:$T$13,2,FALSE))),MONTH(I66),DAY(I66)))) -> 42920 | K66: =IF(J66="","",(DATE((YEAR(J66)+(VLOOKUP($J$1,$S$2:$T$13,2,FALSE))),MONTH(J66),DAY(J66)))) -> 44016 | L66: =IF(K66="","",(DATE((YEAR(K66)+(VLOOKUP($K$1,$S$2:$T$13,2,FALSE))),MONTH(K66),DAY(K66)))) -> 45111 | M66: =IF(L66="","",(DATE((YEAR(L66)+(VLOOKUP($L$1,$S$2:$T$13,2,FALSE))),MONTH(L66),DAY(L66)))) -> 46207 | N66: =IF(M66="","",(DATE((YEAR(M66)+(VLOOKUP($M$1,$S$2:$T$13,2,FALSE))),MONTH(M66),DAY(M66)))) -> 47303
A67: 49 | B67: ROM | C67: =A67&" "&B67 -> 49 ROM | D67: =ROW(C67) -> 67 | F67: =IF(E67="","",(DATE((YEAR(E67)+(VLOOKUP($E$1,$S$2:$T$13,2,FALSE))),MONTH(E67),DAY(E67)))) | G67: =IF(F67="","",(DATE((YEAR(F67)+(VLOOKUP($F$1,$S$2:$T$13,2,FALSE))),MONTH(F67),DAY(F67)))) | H67: =IF(G67="","",(DATE((YEAR(G67)+(VLOOKUP($G$1,$S$2:$T$13,2,FALSE))),MONTH(G67),DAY(G67)))) | I67: =IF(H67="","",(DATE((YEAR(H67)+(VLOOKUP($H$1,$S$2:$T$13,2,FALSE))),MONTH(H67),DAY(H67)))) | J67: =IF(I67="","",(DATE((YEAR(I67)+(VLOOKUP($I$1,$S$2:$T$13,2,FALSE))),MONTH(I67),DAY(I67)))) | K67: =IF(J67="","",(DATE((YEAR(J67)+(VLOOKUP($J$1,$S$2:$T$13,2,FALSE))),MONTH(J67),DAY(J67)))) | L67: =IF(K67="","",(DATE((YEAR(K67)+(VLOOKUP($K$1,$S$2:$T$13,2,FALSE))),MONTH(K67),DAY(K67)))) | M67: =IF(L67="","",(DATE((YEAR(L67)+(VLOOKUP($L$1,$S$2:$T$13,2,FALSE))),MONTH(L67),DAY(L67)))) | N67: 40481
A68: 50 | B68: JA | C68: =A68&" "&B68 -> 50 JA | D68: =ROW(C68) -> 68 | F68: =IF(E68="","",(DATE((YEAR(E68)+(VLOOKUP($E$1,$S$2:$T$13,2,FALSE))),MONTH(E68),DAY(E68)))) | G68: =IF(F68="","",(DATE((YEAR(F68)+(VLOOKUP($F$1,$S$2:$T$13,2,FALSE))),MONTH(F68),DAY(F68)))) | H68: 38139 | I68: 39234 | J68: 40330 | K68: =IF(J68="","",(DATE((YEAR(J68)+(VLOOKUP($J$1,$S$2:$T$13,2,FALSE))),MONTH(J68),DAY(J68)))) -> 41426 | L68: =IF(K68="","",(DATE((YEAR(K68)+(VLOOKUP($K$1,$S$2:$T$13,2,FALSE))),MONTH(K68),DAY(K68)))) -> 42522 | M68: =IF(L68="","",(DATE((YEAR(L68)+(VLOOKUP($L$1,$S$2:$T$13,2,FALSE))),MONTH(L68),DAY(L68)))) -> 43617 | N68: =IF(M68="","",(DATE((YEAR(M68)+(VLOOKUP($M$1,$S$2:$T$13,2,FALSE))),MONTH(M68),DAY(M68)))) -> 44713
A69: 51 | B69: AN | C69: =A69&" "&B69 -> 51 AN | D69: =ROW(C69) -> 69 | E69: 40940 | F69: 41306 | G69: =IF(F69="","",(DATE((YEAR(F69)+(VLOOKUP($F$1,$S$2:$T$13,2,FALSE))),MONTH(F69),DAY(F69)))) -> 41671 | H69: =IF(G69="","",(DATE((YEAR(G69)+(VLOOKUP($G$1,$S$2:$T$13,2,FALSE))),MONTH(G69),DAY(G69)))) -> 42036 | I69: =IF(H69="","",(DATE((YEAR(H69)+(VLOOKUP($H$1,$S$2:$T$13,2,FALSE))),MONTH(H69),DAY(H69)))) -> 43132 | J69: =IF(I69="","",(DATE((YEAR(I69)+(VLOOKUP($I$1,$S$2:$T$13,2,FALSE))),MONTH(I69),DAY(I69)))) -> 44228 | K69: =IF(J69="","",(DATE((YEAR(J69)+(VLOOKUP($J$1,$S$2:$T$13,2,FALSE))),MONTH(J69),DAY(J69)))) -> 45323 | L69: =IF(K69="","",(DATE((YEAR(K69)+(VLOOKUP($K$1,$S$2:$T$13,2,FALSE))),MONTH(K69),DAY(K69)))) -> 46419 | M69: =IF(L69="","",(DATE((YEAR(L69)+(VLOOKUP($L$1,$S$2:$T$13,2,FALSE))),MONTH(L69),DAY(L69)))) -> 47515 | N69: =IF(M69="","",(DATE((YEAR(M69)+(VLOOKUP($M$1,$S$2:$T$13,2,FALSE))),MONTH(M69),DAY(M69)))) -> 48611
A70: 52 | B70: JEA | C70: =A70&" "&B70 -> 52 JEA | D70: =ROW(C70) -> 70 | F70: =IF(E70="","",(DATE((YEAR(E70)+(VLOOKUP($E$1,$S$2:$T$13,2,FALSE))),MONTH(E70),DAY(E70)))) | G70: =IF(F70="","",(DATE((YEAR(F70)+(VLOOKUP($F$1,$S$2:$T$13,2,FALSE))),MONTH(F70),DAY(F70)))) | H70: 40481 | I70: =IF(H70="","",(DATE((YEAR(H70)+(VLOOKUP($H$1,$S$2:$T$13,2,FALSE))),MONTH(H70),DAY(H70)))) -> 41577 | J70: =IF(I70="","",(DATE((YEAR(I70)+(VLOOKUP($I$1,$S$2:$T$13,2,FALSE))),MONTH(I70),DAY(I70)))) -> 42673 | K70: =IF(J70="","",(DATE((YEAR(J70)+(VLOOKUP($J$1,$S$2:$T$13,2,FALSE))),MONTH(J70),DAY(J70)))) -> 43768 | L70: =IF(K70="","",(DATE((YEAR(K70)+(VLOOKUP($K$1,$S$2:$T$13,2,FALSE))),MONTH(K70),DAY(K70)))) -> 44864 | M70: =IF(L70="","",(DATE((YEAR(L70)+(VLOOKUP($L$1,$S$2:$T$13,2,FALSE))),MONTH(L70),DAY(L70)))) -> 45960 | N70: 40725
A71: 53 | B71: SA | C71: =A71&" "&B71 -> 53 SA | D71: =ROW(C71) -> 71 | F71: =IF(E71="","",(DATE((YEAR(E71)+(VLOOKUP($E$1,$S$2:$T$13,2,FALSE))),MONTH(E71),DAY(E71)))) | G71: =IF(F71="","",(DATE((YEAR(F71)+(VLOOKUP($F$1,$S$2:$T$13,2,FALSE))),MONTH(F71),DAY(F71)))) | H71: 38691 | I71: 39787 | J71: =IF(I71="","",(DATE((YEAR(I71)+(VLOOKUP($I$1,$S$2:$T$13,2,FALSE))),MONTH(I71),DAY(I71)))) -> 40882 | K71: =IF(J71="","",(DATE((YEAR(J71)+(VLOOKUP($J$1,$S$2:$T$13,2,FALSE))),MONTH(J71),DAY(J71)))) -> 41978 | L71: =IF(K71="","",(DATE((YEAR(K71)+(VLOOKUP($K$1,$S$2:$T$13,2,FALSE))),MONTH(K71),DAY(K71)))) -> 43074 | M71: =IF(L71="","",(DATE((YEAR(L71)+(VLOOKUP($L$1,$S$2:$T$13,2,FALSE))),MONTH(L71),DAY(L71)))) -> 44170 | N71: 41244
A72: 54 | B72: LAU | C72: =A72&" "&B72 -> 54 LAU | D72: =ROW(C72) -> 72 | F72: =IF(E72="","",(DATE((YEAR(E72)+(VLOOKUP($E$1,$S$2:$T$13,2,FALSE))),MONTH(E72),DAY(E72)))) | G72: =IF(F72="","",(DATE((YEAR(F72)+(VLOOKUP($F$1,$S$2:$T$13,2,FALSE))),MONTH(F72),DAY(F72)))) | H72: =IF(G72="","",(DATE((YEAR(G72)+(VLOOKUP($G$1,$S$2:$T$13,2,FALSE))),MONTH(G72),DAY(G72)))) | I72: =IF(H72="","",(DATE((YEAR(H72)+(VLOOKUP($H$1,$S$2:$T$13,2,FALSE))),MONTH(H72),DAY(H72)))) | J72: =IF(I72="","",(DATE((YEAR(I72)+(VLOOKUP($I$1,$S$2:$T$13,2,FALSE))),MONTH(I72),DAY(I72)))) | K72: =IF(J72="","",(DATE((YEAR(J72)+(VLOOKUP($J$1,$S$2:$T$13,2,FALSE))),MONTH(J72),DAY(J72)))) | L72: =IF(K72="","",(DATE((YEAR(K72)+(VLOOKUP($K$1,$S$2:$T$13,2,FALSE))),MONTH(K72),DAY(K72)))) | M72: =IF(L72="","",(DATE((YEAR(L72)+(VLOOKUP($L$1,$S$2:$T$13,2,FALSE))),MONTH(L72),DAY(L72)))) | N72: =IF(M72="","",(DATE((YEAR(M72)+(VLOOKUP($M$1,$S$2:$T$13,2,FALSE))),MONTH(M72),DAY(M72)))) | P72: 37987
A73: 55 | B73: BRI | C73: =A73&" "&B73 -> 55 BRI | D73: =ROW(C73) -> 73 | F73: =IF(E73="","",(DATE((YEAR(E73)+(VLOOKUP($E$1,$S$2:$T$13,2,FALSE))),MONTH(E73),DAY(E73)))) | G73: =IF(F73="","",(DATE((YEAR(F73)+(VLOOKUP($F$1,$S$2:$T$13,2,FALSE))),MONTH(F73),DAY(F73)))) | H73: =IF(G73="","",(DATE((YEAR(G73)+(VLOOKUP($G$1,$S$2:$T$13,2,FALSE))),MONTH(G73),DAY(G73)))) | I73: =IF(H73="","",(DATE((YEAR(H73)+(VLOOKUP($H$1,$S$2:$T$13,2,FALSE))),MONTH(H73),DAY(H73)))) | J73: =IF(I73="","",(DATE((YEAR(I73)+(VLOOKUP($I$1,$S$2:$T$13,2,FALSE))),MONTH(I73),DAY(I73)))) | K73: =IF(J73="","",(DATE((YEAR(J73)+(VLOOKUP($J$1,$S$2:$T$13,2,FALSE))),MONTH(J73),DAY(J73)))) | L73: =IF(K73="","",(DATE((YEAR(K73)+(VLOOKUP($K$1,$S$2:$T$13,2,FALSE))),MONTH(K73),DAY(K73)))) | M73: =IF(L73="","",(DATE((YEAR(L73)+(VLOOKUP($L$1,$S$2:$T$13,2,FALSE))),MONTH(L73),DAY(L73)))) | N73: 40481
A74: 56 | B74: SEBA | C74: =A74&" "&B74 -> 56 SEBA | D74: =ROW(C74) -> 74 | F74: =IF(E74="","",(DATE((YEAR(E74)+(VLOOKUP($E$1,$S$2:$T$13,2,FALSE))),MONTH(E74),DAY(E74)))) | G74: =IF(F74="","",(DATE((YEAR(F74)+(VLOOKUP($F$1,$S$2:$T$13,2,FALSE))),MONTH(F74),DAY(F74)))) | H74: =IF(G74="","",(DATE((YEAR(G74)+(VLOOKUP($G$1,$S$2:$T$13,2,FALSE))),MONTH(G74),DAY(G74)))) | I74: =IF(H74="","",(DATE((YEAR(H74)+(VLOOKUP($H$1,$S$2:$T$13,2,FALSE))),MONTH(H74),DAY(H74)))) | J74: =IF(I74="","",(DATE((YEAR(I74)+(VLOOKUP($I$1,$S$2:$T$13,2,FALSE))),MONTH(I74),DAY(I74)))) | K74: =IF(J74="","",(DATE((YEAR(J74)+(VLOOKUP($J$1,$S$2:$T$13,2,FALSE))),MONTH(J74),DAY(J74)))) | L74: =IF(K74="","",(DATE((YEAR(K74)+(VLOOKUP($K$1,$S$2:$T$13,2,FALSE))),MONTH(K74),DAY(K74)))) | M74: =IF(L74="","",(DATE((YEAR(L74)+(VLOOKUP($L$1,$S$2:$T$13,2,FALSE))),MONTH(L74),DAY(L74)))) | N74: 40481
A75: 57 | B75: AN | C75: =A75&" "&B75 -> 57 AN | D75: =ROW(C75) -> 75 | E75: 40959 | F75: =IF(E75="","",(DATE((YEAR(E75)+(VLOOKUP($E$1,$S$2:$T$13,2,FALSE))),MONTH(E75),DAY(E75)))) -> 41325 | G75: =IF(F75="","",(DATE((YEAR(F75)+(VLOOKUP($F$1,$S$2:$T$13,2,FALSE))),MONTH(F75),DAY(F75)))) -> 41690 | H75: =IF(G75="","",(DATE((YEAR(G75)+(VLOOKUP($G$1,$S$2:$T$13,2,FALSE))),MONTH(G75),DAY(G75)))) -> 42055 | I75: =IF(H75="","",(DATE((YEAR(H75)+(VLOOKUP($H$1,$S$2:$T$13,2,FALSE))),MONTH(H75),DAY(H75)))) -> 43151 | J75: =IF(I75="","",(DATE((YEAR(I75)+(VLOOKUP($I$1,$S$2:$T$13,2,FALSE))),MONTH(I75),DAY(I75)))) -> 44247 | K75: =IF(J75="","",(DATE((YEAR(J75)+(VLOOKUP($J$1,$S$2:$T$13,2,FALSE))),MONTH(J75),DAY(J75)))) -> 45342 | L75: =IF(K75="","",(DATE((YEAR(K75)+(VLOOKUP($K$1,$S$2:$T$13,2,FALSE))),MONTH(K75),DAY(K75)))) -> 46438 | M75: =IF(L75="","",(DATE((YEAR(L75)+(VLOOKUP($L$1,$S$2:$T$13,2,FALSE))),MONTH(L75),DAY(L75)))) -> 47534 | N75: =IF(M75="","",(DATE((YEAR(M75)+(VLOOKUP($M$1,$S$2:$T$13,2,FALSE))),MONTH(M75),DAY(M75)))) -> 48630
A76: 58 | B76: SYL | C76: =A76&" "&B76 -> 58 SYL | D76: =ROW(C76) -> 76 | F76: =IF(E76="","",(DATE((YEAR(E76)+(VLOOKUP($E$1,$S$2:$T$13,2,FALSE))),MONTH(E76),DAY(E76)))) | G76: =IF(F76="","",(DATE((YEAR(F76)+(VLOOKUP($F$1,$S$2:$T$13,2,FALSE))),MONTH(F76),DAY(F76)))) | H76: 34851 | I76: 35947 | J76: 37043 | K76: 38139 | L76: 39234 | M76: 40330 | N76: =IF(M76="","",(DATE((YEAR(M76)+(VLOOKUP($M$1,$S$2:$T$13,2,FALSE))),MONTH(M76),DAY(M76)))) -> 41426
A77: 59 | B77: VAL | C77: =A77&" "&B77 -> 59 VAL | D77: =ROW(C77) -> 77 | F77: =IF(E77="","",(DATE((YEAR(E77)+(VLOOKUP($E$1,$S$2:$T$13,2,FALSE))),MONTH(E77),DAY(E77)))) | G77: =IF(F77="","",(DATE((YEAR(F77)+(VLOOKUP($F$1,$S$2:$T$13,2,FALSE))),MONTH(F77),DAY(F77)))) | H77: 41183 | I77: =IF(H77="","",(DATE((YEAR(H77)+(VLOOKUP($H$1,$S$2:$T$13,2,FALSE))),MONTH(H77),DAY(H77)))) -> 42278 | J77: =IF(I77="","",(DATE((YEAR(I77)+(VLOOKUP($I$1,$S$2:$T$13,2,FALSE))),MONTH(I77),DAY(I77)))) -> 43374 | K77: =IF(J77="","",(DATE((YEAR(J77)+(VLOOKUP($J$1,$S$2:$T$13,2,FALSE))),MONTH(J77),DAY(J77)))) -> 44470 | L77: =IF(K77="","",(DATE((YEAR(K77)+(VLOOKUP($K$1,$S$2:$T$13,2,FALSE))),MONTH(K77),DAY(K77)))) -> 45566 | M77: =IF(L77="","",(DATE((YEAR(L77)+(VLOOKUP($L$1,$S$2:$T$13,2,FALSE))),MONTH(L77),DAY(L77)))) -> 46661 | N77: =IF(M77="","",(DATE((YEAR(M77)+(VLOOKUP($M$1,$S$2:$T$13,2,FALSE))),MONTH(M77),DAY(M77)))) -> 47757
A78: 60 | B78: FRE | C78: =A78&" "&B78 -> 60 FRE | D78: =ROW(C78) -> 78 | F78: =IF(E78="","",(DATE((YEAR(E78)+(VLOOKUP($E$1,$S$2:$T$13,2,FALSE))),MONTH(E78),DAY(E78)))) | G78: =IF(F78="","",(DATE((YEAR(F78)+(VLOOKUP($F$1,$S$2:$T$13,2,FALSE))),MONTH(F78),DAY(F78)))) | H78: 36434 | I78: 37530 | J78: 38626 | K78: 39722 | L78: 40817 | M78: =IF(L78="","",(DATE((YEAR(L78)+(VLOOKUP($L$1,$S$2:$T$13,2,FALSE))),MONTH(L78),DAY(L78)))) -> 41913 | N78: =IF(M78="","",(DATE((YEAR(M78)+(VLOOKUP($M$1,$S$2:$T$13,2,FALSE))),MONTH(M78),DAY(M78)))) -> 43009
A79: 61 | B79: JERLES | C79: =A79&" "&B79 -> 61 JERLES | D79: =ROW(C79) -> 79 | F79: =IF(E79="","",(DATE((YEAR(E79)+(VLOOKUP($E$1,$S$2:$T$13,2,FALSE))),MONTH(E79),DAY(E79)))) | G79: =IF(F79="","",(DATE((YEAR(F79)+(VLOOKUP($F$1,$S$2:$T$13,2,FALSE))),MONTH(F79),DAY(F79)))) | H79: 39783 | I79: 40603 | J79: =IF(I79="","",(DATE((YEAR(I79)+(VLOOKUP($I$1,$S$2:$T$13,2,FALSE))),MONTH(I79),DAY(I79)))) -> 41699 | K79: =IF(J79="","",(DATE((YEAR(J79)+(VLOOKUP($J$1,$S$2:$T$13,2,FALSE))),MONTH(J79),DAY(J79)))) -> 42795 | L79: =IF(K79="","",(DATE((YEAR(K79)+(VLOOKUP($K$1,$S$2:$T$13,2,FALSE))),MONTH(K79),DAY(K79)))) -> 43891 | M79: =IF(L79="","",(DATE((YEAR(L79)+(VLOOKUP($L$1,$S$2:$T$13,2,FALSE))),MONTH(L79),DAY(L79)))) -> 44986 | N79: =IF(M79="","",(DATE((YEAR(M79)+(VLOOKUP($M$1,$S$2:$T$13,2,FALSE))),MONTH(M79),DAY(M79)))) -> 46082
A80: 62 | B80: RIEL | C80: =A80&" "&B80 -> 62 RIEL | D80: =ROW(C80) -> 80 | F80: =IF(E80="","",(DATE((YEAR(E80)+(VLOOKUP($E$1,$S$2:$T$13,2,FALSE))),MONTH(E80),DAY(E80)))) | G80: =IF(F80="","",(DATE((YEAR(F80)+(VLOOKUP($F$1,$S$2:$T$13,2,FALSE))),MONTH(F80),DAY(F80)))) | H80: 39783 | I80: 40878 | J80: =IF(I80="","",(DATE((YEAR(I80)+(VLOOKUP($I$1,$S$2:$T$13,2,FALSE))),MONTH(I80),DAY(I80)))) -> 41974 | K80: =IF(J80="","",(DATE((YEAR(J80)+(VLOOKUP($J$1,$S$2:$T$13,2,FALSE))),MONTH(J80),DAY(J80)))) -> 43070 | L80: =IF(K80="","",(DATE((YEAR(K80)+(VLOOKUP($K$1,$S$2:$T$13,2,FALSE))),MONTH(K80),DAY(K80)))) -> 44166 | M80: =IF(L80="","",(DATE((YEAR(L80)+(VLOOKUP($L$1,$S$2:$T$13,2,FALSE))),MONTH(L80),DAY(L80)))) -> 45261 | N80: =IF(M80="","",(DATE((YEAR(M80)+(VLOOKUP($M$1,$S$2:$T$13,2,FALSE))),MONTH(M80),DAY(M80)))) -> 46357
A81: 63 | B81: MLI | C81: =A81&" "&B81 -> 63 MLI | D81: =ROW(C81) -> 81 | F81: =IF(E81="","",(DATE((YEAR(E81)+(VLOOKUP($E$1,$S$2:$T$13,2,FALSE))),MONTH(E81),DAY(E81)))) | G81: =IF(F81="","",(DATE((YEAR(F81)+(VLOOKUP($F$1,$S$2:$T$13,2,FALSE))),MONTH(F81),DAY(F81)))) | H81: =IF(G81="","",(DATE((YEAR(G81)+(VLOOKUP($G$1,$S$2:$T$13,2,FALSE))),MONTH(G81),DAY(G81)))) | I81: =IF(H81="","",(DATE((YEAR(H81)+(VLOOKUP($H$1,$S$2:$T$13,2,FALSE))),MONTH(H81),DAY(H81)))) | J81: =IF(I81="","",(DATE((YEAR(I81)+(VLOOKUP($I$1,$S$2:$T$13,2,FALSE))),MONTH(I81),DAY(I81)))) | K81: =IF(J81="","",(DATE((YEAR(J81)+(VLOOKUP($J$1,$S$2:$T$13,2,FALSE))),MONTH(J81),DAY(J81)))) | L81: 40481 | M81: =IF(L81="","",(DATE((YEAR(L81)+(VLOOKUP($L$1,$S$2:$T$13,2,FALSE))),MONTH(L81),DAY(L81)))) -> 41577 | N81: =IF(M81="","",(DATE((YEAR(M81)+(VLOOKUP($M$1,$S$2:$T$13,2,FALSE))),MONTH(M81),DAY(M81)))) -> 42673
A82: 64 | B82: ENT | C82: =A82&" "&B82 -> 64 ENT | D82: =ROW(C82) -> 82 | F82: =IF(E82="","",(DATE((YEAR(E82)+(VLOOKUP($E$1,$S$2:$T$13,2,FALSE))),MONTH(E82),DAY(E82)))) | G82: =IF(F82="","",(DATE((YEAR(F82)+(VLOOKUP($F$1,$S$2:$T$13,2,FALSE))),MONTH(F82),DAY(F82)))) | H82: 39328 | I82: 40452 | J82: =IF(I82="","",(DATE((YEAR(I82)+(VLOOKUP($I$1,$S$2:$T$13,2,FALSE))),MONTH(I82),DAY(I82)))) -> 41548 | K82: =IF(J82="","",(DATE((YEAR(J82)+(VLOOKUP($J$1,$S$2:$T$13,2,FALSE))),MONTH(J82),DAY(J82)))) -> 42644 | L82: =IF(K82="","",(DATE((YEAR(K82)+(VLOOKUP($K$1,$S$2:$T$13,2,FALSE))),MONTH(K82),DAY(K82)))) -> 43739 | M82: =IF(L82="","",(DATE((YEAR(L82)+(VLOOKUP($L$1,$S$2:$T$13,2,FALSE))),MONTH(L82),DAY(L82)))) -> 44835 | N82: =IF(M82="","",(DATE((YEAR(M82)+(VLOOKUP($M$1,$S$2:$T$13,2,FALSE))),MONTH(M82),DAY(M82)))) -> 45931
A83: 65 | B83: DD | C83: =A83&" "&B83 -> 65 DD | D83: =ROW(C83) -> 83 | F83: =IF(E83="","",(DATE((YEAR(E83)+(VLOOKUP($E$1,$S$2:$T$13,2,FALSE))),MONTH(E83),DAY(E83)))) | G83: =IF(F83="","",(DATE((YEAR(F83)+(VLOOKUP($F$1,$S$2:$T$13,2,FALSE))),MONTH(F83),DAY(F83)))) | H83: =IF(G83="","",(DATE((YEAR(G83)+(VLOOKUP($G$1,$S$2:$T$13,2,FALSE))),MONTH(G83),DAY(G83)))) | I83: =IF(H83="","",(DATE((YEAR(H83)+(VLOOKUP($H$1,$S$2:$T$13,2,FALSE))),MONTH(H83),DAY(H83)))) | J83: =IF(I83="","",(DATE((YEAR(I83)+(VLOOKUP($I$1,$S$2:$T$13,2,FALSE))),MONTH(I83),DAY(I83)))) | K83: =IF(J83="","",(DATE((YEAR(J83)+(VLOOKUP($J$1,$S$2:$T$13,2,FALSE))),MONTH(J83),DAY(J83)))) | L83: =IF(K83="","",(DATE((YEAR(K83)+(VLOOKUP($K$1,$S$2:$T$13,2,FALSE))),MONTH(K83),DAY(K83)))) | M83: =IF(L83="","",(DATE((YEAR(L83)+(VLOOKUP($L$1,$S$2:$T$13,2,FALSE))),MONTH(L83),DAY(L83)))) | N83: =IF(M83="","",(DATE((YEAR(M83)+(VLOOKUP($M$1,$S$2:$T$13,2,FALSE))),MONTH(M83),DAY(M83)))) | P83: 39083
A84: 66 | B84: MAM | C84: =A84&" "&B84 -> 66 MAM | D84: =ROW(C84) -> 84 | F84: =IF(E84="","",(DATE((YEAR(E84)+(VLOOKUP($E$1,$S$2:$T$13,2,FALSE))),MONTH(E84),DAY(E84)))) | G84: =IF(F84="","",(DATE((YEAR(F84)+(VLOOKUP($F$1,$S$2:$T$13,2,FALSE))),MONTH(F84),DAY(F84)))) | H84: 37712 | I84: 38808 | J84: 39904 | K84: 41000 | L84: =IF(K84="","",(DATE((YEAR(K84)+(VLOOKUP($K$1,$S$2:$T$13,2,FALSE))),MONTH(K84),DAY(K84)))) -> 42095 | M84: =IF(L84="","",(DATE((YEAR(L84)+(VLOOKUP($L$1,$S$2:$T$13,2,FALSE))),MONTH(L84),DAY(L84)))) -> 43191 | N84: =IF(M84="","",(DATE((YEAR(M84)+(VLOOKUP($M$1,$S$2:$T$13,2,FALSE))),MONTH(M84),DAY(M84)))) -> 44287
A85: 67 | B85: THRY | C85: =A85&" "&B85 -> 67 THRY | D85: =ROW(C85) -> 85 | F85: =IF(E85="","",(DATE((YEAR(E85)+(VLOOKUP($E$1,$S$2:$T$13,2,FALSE))),MONTH(E85),DAY(E85)))) | G85: =IF(F85="","",(DATE((YEAR(F85)+(VLOOKUP($F$1,$S$2:$T$13,2,FALSE))),MONTH(F85),DAY(F85)))) | H85: =IF(G85="","",(DATE((YEAR(G85)+(VLOOKUP($G$1,$S$2:$T$13,2,FALSE))),MONTH(G85),DAY(G85)))) | I85: =IF(H85="","",(DATE((YEAR(H85)+(VLOOKUP($H$1,$S$2:$T$13,2,FALSE))),MONTH(H85),DAY(H85)))) | J85: =IF(I85="","",(DATE((YEAR(I85)+(VLOOKUP($I$1,$S$2:$T$13,2,FALSE))),MONTH(I85),DAY(I85)))) | K85: =IF(J85="","",(DATE((YEAR(J85)+(VLOOKUP($J$1,$S$2:$T$13,2,FALSE))),MONTH(J85),DAY(J85)))) | L85: =IF(K85="","",(DATE((YEAR(K85)+(VLOOKUP($K$1,$S$2:$T$13,2,FALSE))),MONTH(K85),DAY(K85)))) | M85: =IF(L85="","",(DATE((YEAR(L85)+(VLOOKUP($L$1,$S$2:$T$13,2,FALSE))),MONTH(L85),DAY(L85)))) | N85: 39692
A86: 68 | B86: NNE | C86: =A86&" "&B86 -> 68 NNE | D86: =ROW(C86) -> 86 | F86: =IF(E86="","",(DATE((YEAR(E86)+(VLOOKUP($E$1,$S$2:$T$13,2,FALSE))),MONTH(E86),DAY(E86)))) | G86: =IF(F86="","",(DATE((YEAR(F86)+(VLOOKUP($F$1,$S$2:$T$13,2,FALSE))),MONTH(F86),DAY(F86)))) | H86: 39234 | I86: 40330 | J86: =IF(I86="","",(DATE((YEAR(I86)+(VLOOKUP($I$1,$S$2:$T$13,2,FALSE))),MONTH(I86),DAY(I86)))) -> 41426 | K86: =IF(J86="","",(DATE((YEAR(J86)+(VLOOKUP($J$1,$S$2:$T$13,2,FALSE))),MONTH(J86),DAY(J86)))) -> 42522 | L86: =IF(K86="","",(DATE((YEAR(K86)+(VLOOKUP($K$1,$S$2:$T$13,2,FALSE))),MONTH(K86),DAY(K86)))) -> 43617 | M86: =IF(L86="","",(DATE((YEAR(L86)+(VLOOKUP($L$1,$S$2:$T$13,2,FALSE))),MONTH(L86),DAY(L86)))) -> 44713 | N86: =IF(M86="","",(DATE((YEAR(M86)+(VLOOKUP($M$1,$S$2:$T$13,2,FALSE))),MONTH(M86),DAY(M86)))) -> 45809
A87: 69 | B87: NY | C87: =A87&" "&B87 -> 69 NY | D87: =ROW(C87) -> 87 | F87: =IF(E87="","",(DATE((YEAR(E87)+(VLOOKUP($E$1,$S$2:$T$13,2,FALSE))),MONTH(E87),DAY(E87)))) | G87: =IF(F87="","",(DATE((YEAR(F87)+(VLOOKUP($F$1,$S$2:$T$13,2,FALSE))),MONTH(F87),DAY(F87)))) | H87: 41141 | I87: =IF(H87="","",(DATE((YEAR(H87)+(VLOOKUP($H$1,$S$2:$T$13,2,FALSE))),MONTH(H87),DAY(H87)))) -> 42236 | J87: =IF(I87="","",(DATE((YEAR(I87)+(VLOOKUP($I$1,$S$2:$T$13,2,FALSE))),MONTH(I87),DAY(I87)))) -> 43332 | K87: =IF(J87="","",(DATE((YEAR(J87)+(VLOOKUP($J$1,$S$2:$T$13,2,FALSE))),MONTH(J87),DAY(J87)))) -> 44428 | L87: =IF(K87="","",(DATE((YEAR(K87)+(VLOOKUP($K$1,$S$2:$T$13,2,FALSE))),MONTH(K87),DAY(K87)))) -> 45524 | M87: =IF(L87="","",(DATE((YEAR(L87)+(VLOOKUP($L$1,$S$2:$T$13,2,FALSE))),MONTH(L87),DAY(L87)))) -> 46619 | N87: =IF(M87="","",(DATE((YEAR(M87)+(VLOOKUP($M$1,$S$2:$T$13,2,FALSE))),MONTH(M87),DAY(M87)))) -> 47715
A88: 70 | B88: BO | C88: =A88&" "&B88 -> 70 BO | D88: =ROW(C88) -> 88 | F88: =IF(E88="","",(DATE((YEAR(E88)+(VLOOKUP($E$1,$S$2:$T$13,2,FALSE))),MONTH(E88),DAY(E88)))) | G88: =IF(F88="","",(DATE((YEAR(F88)+(VLOOKUP($F$1,$S$2:$T$13,2,FALSE))),MONTH(F88),DAY(F88)))) | H88: 36130 | I88: 37226 | J88: 38322 | K88: 39417 | L88: 40513 | M88: =IF(L88="","",(DATE((YEAR(L88)+(VLOOKUP($L$1,$S$2:$T$13,2,FALSE))),MONTH(L88),DAY(L88)))) -> 41609 | N88: =IF(M88="","",(DATE((YEAR(M88)+(VLOOKUP($M$1,$S$2:$T$13,2,FALSE))),MONTH(M88),DAY(M88)))) -> 42705
A89: 71 | B89: GAUME | C89: =A89&" "&B89 -> 71 GAUME | D89: =ROW(C89) -> 89 | F89: =IF(E89="","",(DATE((YEAR(E89)+(VLOOKUP($E$1,$S$2:$T$13,2,FALSE))),MONTH(E89),DAY(E89)))) | G89: =IF(F89="","",(DATE((YEAR(F89)+(VLOOKUP($F$1,$S$2:$T$13,2,FALSE))),MONTH(F89),DAY(F89)))) | H89: 39661 | I89: 40756 | J89: =IF(I89="","",(DATE((YEAR(I89)+(VLOOKUP($I$1,$S$2:$T$13,2,FALSE))),MONTH(I89),DAY(I89)))) -> 41852 | K89: =IF(J89="","",(DATE((YEAR(J89)+(VLOOKUP($J$1,$S$2:$T$13,2,FALSE))),MONTH(J89),DAY(J89)))) -> 42948 | L89: =IF(K89="","",(DATE((YEAR(K89)+(VLOOKUP($K$1,$S$2:$T$13,2,FALSE))),MONTH(K89),DAY(K89)))) -> 44044 | M89: =IF(L89="","",(DATE((YEAR(L89)+(VLOOKUP($L$1,$S$2:$T$13,2,FALSE))),MONTH(L89),DAY(L89)))) -> 45139 | N89: =IF(M89="","",(DATE((YEAR(M89)+(VLOOKUP($M$1,$S$2:$T$13,2,FALSE))),MONTH(M89),DAY(M89)))) -> 46235
A90: 72 | B90: PRIE | C90: =A90&" "&B90 -> 72 PRIE | D90: =ROW(C90) -> 90 | F90: =IF(E90="","",(DATE((YEAR(E90)+(VLOOKUP($E$1,$S$2:$T$13,2,FALSE))),MONTH(E90),DAY(E90)))) | G90: =IF(F90="","",(DATE((YEAR(F90)+(VLOOKUP($F$1,$S$2:$T$13,2,FALSE))),MONTH(F90),DAY(F90)))) | H90: =IF(G90="","",(DATE((YEAR(G90)+(VLOOKUP($G$1,$S$2:$T$13,2,FALSE))),MONTH(G90),DAY(G90)))) | I90: =IF(H90="","",(DATE((YEAR(H90)+(VLOOKUP($H$1,$S$2:$T$13,2,FALSE))),MONTH(H90),DAY(H90)))) | J90: =IF(I90="","",(DATE((YEAR(I90)+(VLOOKUP($I$1,$S$2:$T$13,2,FALSE))),MONTH(I90),DAY(I90)))) | K90: =IF(J90="","",(DATE((YEAR(J90)+(VLOOKUP($J$1,$S$2:$T$13,2,FALSE))),MONTH(J90),DAY(J90)))) | L90: =IF(K90="","",(DATE((YEAR(K90)+(VLOOKUP($K$1,$S$2:$T$13,2,FALSE))),MONTH(K90),DAY(K90)))) | M90: =IF(L90="","",(DATE((YEAR(L90)+(VLOOKUP($L$1,$S$2:$T$13,2,FALSE))),MONTH(L90),DAY(L90)))) | N90: =IF(M90="","",(DATE((YEAR(M90)+(VLOOKUP($M$1,$S$2:$T$13,2,FALSE))),MONTH(M90),DAY(M90))))
A91: 73 | B91: FCIS | C91: =A91&" "&B91 -> 73 FCIS | D91: =ROW(C91) -> 91 | F91: =IF(E91="","",(DATE((YEAR(E91)+(VLOOKUP($E$1,$S$2:$T$13,2,FALSE))),MONTH(E91),DAY(E91)))) | G91: =IF(F91="","",(DATE((YEAR(F91)+(VLOOKUP($F$1,$S$2:$T$13,2,FALSE))),MONTH(F91),DAY(F91)))) | H91: 34366 | I91: 35462 | J91: 36557 | K91: 37653 | L91: 38749 | M91: 39845 | N91: 40940
A92: 74 | B92: LIC | C92: =A92&" "&B92 -> 74 LIC | D92: =ROW(C92) -> 92 | F92: =IF(E92="","",(DATE((YEAR(E92)+(VLOOKUP($E$1,$S$2:$T$13,2,FALSE))),MONTH(E92),DAY(E92)))) | G92: =IF(F92="","",(DATE((YEAR(F92)+(VLOOKUP($F$1,$S$2:$T$13,2,FALSE))),MONTH(F92),DAY(F92)))) | H92: =IF(G92="","",(DATE((YEAR(G92)+(VLOOKUP($G$1,$S$2:$T$13,2,FALSE))),MONTH(G92),DAY(G92)))) | I92: =IF(H92="","",(DATE((YEAR(H92)+(VLOOKUP($H$1,$S$2:$T$13,2,FALSE))),MONTH(H92),DAY(H92)))) | J92: =IF(I92="","",(DATE((YEAR(I92)+(VLOOKUP($I$1,$S$2:$T$13,2,FALSE))),MONTH(I92),DAY(I92)))) | K92: =IF(J92="","",(DATE((YEAR(J92)+(VLOOKUP($J$1,$S$2:$T$13,2,FALSE))),MONTH(J92),DAY(J92)))) | L92: =IF(K92="","",(DATE((YEAR(K92)+(VLOOKUP($K$1,$S$2:$T$13,2,FALSE))),MONTH(K92),DAY(K92)))) | M92: =IF(L92="","",(DATE((YEAR(L92)+(VLOOKUP($L$1,$S$2:$T$13,2,FALSE))),MONTH(L92),DAY(L92)))) | N92: 40481
A93: 75 | B93: CHPHE | C93: =A93&" "&B93 -> 75 CHPHE | D93: =ROW(C93) -> 93 | F93: =IF(E93="","",(DATE((YEAR(E93)+(VLOOKUP($E$1,$S$2:$T$13,2,FALSE))),MONTH(E93),DAY(E93)))) | G93: =IF(F93="","",(DATE((YEAR(F93)+(VLOOKUP($F$1,$S$2:$T$13,2,FALSE))),MONTH(F93),DAY(F93)))) | H93: 40422 | I93: =IF(H93="","",(DATE((YEAR(H93)+(VLOOKUP($H$1,$S$2:$T$13,2,FALSE))),MONTH(H93),DAY(H93)))) -> 41518 | J93: =IF(I93="","",(DATE((YEAR(I93)+(VLOOKUP($I$1,$S$2:$T$13,2,FALSE))),MONTH(I93),DAY(I93)))) -> 42614 | K93: =IF(J93="","",(DATE((YEAR(J93)+(VLOOKUP($J$1,$S$2:$T$13,2,FALSE))),MONTH(J93),DAY(J93)))) -> 43709 | L93: =IF(K93="","",(DATE((YEAR(K93)+(VLOOKUP($K$1,$S$2:$T$13,2,FALSE))),MONTH(K93),DAY(K93)))) -> 44805 | M93: =IF(L93="","",(DATE((YEAR(L93)+(VLOOKUP($L$1,$S$2:$T$13,2,FALSE))),MONTH(L93),DAY(L93)))) -> 45901 | N93: =IF(M93="","",(DATE((YEAR(M93)+(VLOOKUP($M$1,$S$2:$T$13,2,FALSE))),MONTH(M93),DAY(M93)))) -> 46997
A94: 76 | B94: MIL | C94: =A94&" "&B94 -> 76 MIL | D94: =ROW(C94) -> 94 | F94: =IF(E94="","",(DATE((YEAR(E94)+(VLOOKUP($E$1,$S$2:$T$13,2,FALSE))),MONTH(E94),DAY(E94)))) | G94: =IF(F94="","",(DATE((YEAR(F94)+(VLOOKUP($F$1,$S$2:$T$13,2,FALSE))),MONTH(F94),DAY(F94)))) | H94: =IF(G94="","",(DATE((YEAR(G94)+(VLOOKUP($G$1,$S$2:$T$13,2,FALSE))),MONTH(G94),DAY(G94)))) | I94: =IF(H94="","",(DATE((YEAR(H94)+(VLOOKUP($H$1,$S$2:$T$13,2,FALSE))),MONTH(H94),DAY(H94)))) | J94: =IF(I94="","",(DATE((YEAR(I94)+(VLOOKUP($I$1,$S$2:$T$13,2,FALSE))),MONTH(I94),DAY(I94)))) | K94: =IF(J94="","",(DATE((YEAR(J94)+(VLOOKUP($J$1,$S$2:$T$13,2,FALSE))),MONTH(J94),DAY(J94)))) | L94: =IF(K94="","",(DATE((YEAR(K94)+(VLOOKUP($K$1,$S$2:$T$13,2,FALSE))),MONTH(K94),DAY(K94)))) | M94: =IF(L94="","",(DATE((YEAR(L94)+(VLOOKUP($L$1,$S$2:$T$13,2,FALSE))),MONTH(L94),DAY(L94)))) | N94: 39508
A95: 77 | B95: Y | C95: =A95&" "&B95 -> 77 Y | D95: =ROW(C95) -> 95 | F95: =IF(E95="","",(DATE((YEAR(E95)+(VLOOKUP($E$1,$S$2:$T$13,2,FALSE))),MONTH(E95),DAY(E95)))) | G95: =IF(F95="","",(DATE((YEAR(F95)+(VLOOKUP($F$1,$S$2:$T$13,2,FALSE))),MONTH(F95),DAY(F95)))) | H95: =IF(G95="","",(DATE((YEAR(G95)+(VLOOKUP($G$1,$S$2:$T$13,2,FALSE))),MONTH(G95),DAY(G95)))) | I95: =IF(H95="","",(DATE((YEAR(H95)+(VLOOKUP($H$1,$S$2:$T$13,2,FALSE))),MONTH(H95),DAY(H95)))) | J95: =IF(I95="","",(DATE((YEAR(I95)+(VLOOKUP($I$1,$S$2:$T$13,2,FALSE))),MONTH(I95),DAY(I95)))) | K95: =IF(J95="","",(DATE((YEAR(J95)+(VLOOKUP($J$1,$S$2:$T$13,2,FALSE))),MONTH(J95),DAY(J95)))) | L95: =IF(K95="","",(DATE((YEAR(K95)+(VLOOKUP($K$1,$S$2:$T$13,2,FALSE))),MONTH(K95),DAY(K95)))) | M95: =IF(L95="","",(DATE((YEAR(L95)+(VLOOKUP($L$1,$S$2:$T$13,2,FALSE))),MONTH(L95),DAY(L95)))) | N95: =IF(M95="","",(DATE((YEAR(M95)+(VLOOKUP($M$1,$S$2:$T$13,2,FALSE))),MONTH(M95),DAY(M95))))
A96: 78 | B96: BEND | C96: =A96&" "&B96 -> 78 BEND | D96: =ROW(C96) -> 96 | F96: =IF(E96="","",(DATE((YEAR(E96)+(VLOOKUP($E$1,$S$2:$T$13,2,FALSE))),MONTH(E96),DAY(E96)))) | G96: =IF(F96="","",(DATE((YEAR(F96)+(VLOOKUP($F$1,$S$2:$T$13,2,FALSE))),MONTH(F96),DAY(F96)))) | H96: 38958 | I96: 40057 | J96: 41153 | K96: =IF(J96="","",(DATE((YEAR(J96)+(VLOOKUP($J$1,$S$2:$T$13,2,FALSE))),MONTH(J96),DAY(J96)))) -> 42248 | L96: =IF(K96="","",(DATE((YEAR(K96)+(VLOOKUP($K$1,$S$2:$T$13,2,FALSE))),MONTH(K96),DAY(K96)))) -> 43344 | M96: =IF(L96="","",(DATE((YEAR(L96)+(VLOOKUP($L$1,$S$2:$T$13,2,FALSE))),MONTH(L96),DAY(L96)))) -> 44440 | N96: =IF(M96="","",(DATE((YEAR(M96)+(VLOOKUP($M$1,$S$2:$T$13,2,FALSE))),MONTH(M96),DAY(M96)))) -> 45536
A97: 79 | B97: AUEN | C97: =A97&" "&B97 -> 79 AUEN | D97: =ROW(C97) -> 97 | F97: =IF(E97="","",(DATE((YEAR(E97)+(VLOOKUP($E$1,$S$2:$T$13,2,FALSE))),MONTH(E97),DAY(E97)))) | G97: =IF(F97="","",(DATE((YEAR(F97)+(VLOOKUP($F$1,$S$2:$T$13,2,FALSE))),MONTH(F97),DAY(F97)))) | H97: 39818 | I97: 40940 | J97: =IF(I97="","",(DATE((YEAR(I97)+(VLOOKUP($I$1,$S$2:$T$13,2,FALSE))),MONTH(I97),DAY(I97)))) -> 42036 | K97: =IF(J97="","",(DATE((YEAR(J97)+(VLOOKUP($J$1,$S$2:$T$13,2,FALSE))),MONTH(J97),DAY(J97)))) -> 43132 | L97: =IF(K97="","",(DATE((YEAR(K97)+(VLOOKUP($K$1,$S$2:$T$13,2,FALSE))),MONTH(K97),DAY(K97)))) -> 44228 | M97: =IF(L97="","",(DATE((YEAR(L97)+(VLOOKUP($L$1,$S$2:$T$13,2,FALSE))),MONTH(L97),DAY(L97)))) -> 45323 | N97: =IF(M97="","",(DATE((YEAR(M97)+(VLOOKUP($M$1,$S$2:$T$13,2,FALSE))),MONTH(M97),DAY(M97)))) -> 46419
A98: 80 | B98: FEE | C98: =A98&" "&B98 -> 80 FEE | D98: =ROW(C98) -> 98 | F98: =IF(E98="","",(DATE((YEAR(E98)+(VLOOKUP($E$1,$S$2:$T$13,2,FALSE))),MONTH(E98),DAY(E98)))) | G98: =IF(F98="","",(DATE((YEAR(F98)+(VLOOKUP($F$1,$S$2:$T$13,2,FALSE))),MONTH(F98),DAY(F98)))) | H98: =IF(G98="","",(DATE((YEAR(G98)+(VLOOKUP($G$1,$S$2:$T$13,2,FALSE))),MONTH(G98),DAY(G98)))) | I98: =IF(H98="","",(DATE((YEAR(H98)+(VLOOKUP($H$1,$S$2:$T$13,2,FALSE))),MONTH(H98),DAY(H98)))) | J98: =IF(I98="","",(DATE((YEAR(I98)+(VLOOKUP($I$1,$S$2:$T$13,2,FALSE))),MONTH(I98),DAY(I98)))) | K98: =IF(J98="","",(DATE((YEAR(J98)+(VLOOKUP($J$1,$S$2:$T$13,2,FALSE))),MONTH(J98),DAY(J98)))) | L98: =IF(K98="","",(DATE((YEAR(K98)+(VLOOKUP($K$1,$S$2:$T$13,2,FALSE))),MONTH(K98),DAY(K98)))) | M98: =IF(L98="","",(DATE((YEAR(L98)+(VLOOKUP($L$1,$S$2:$T$13,2,FALSE))),MONTH(L98),DAY(L98)))) | N98: 40544
A99: 81 | B99: PCK | C99: =A99&" "&B99 -> 81 PCK | D99: =ROW(C99) -> 99 | F99: =IF(E99="","",(DATE((YEAR(E99)+(VLOOKUP($E$1,$S$2:$T$13,2,FALSE))),MONTH(E99),DAY(E99)))) | G99: =IF(F99="","",(DATE((YEAR(F99)+(VLOOKUP($F$1,$S$2:$T$13,2,FALSE))),MONTH(F99),DAY(F99)))) | H99: 34568 | I99: 35674 | J99: 36770 | K99: 37865 | L99: 38961 | M99: 40057 | N99: 41153
A100: 82 | B100: JERD | C100: =A100&" "&B100 -> 82 JERD | D100: =ROW(C100) -> 100 | F100: =IF(E100="","",(DATE((YEAR(E100)+(VLOOKUP($E$1,$S$2:$T$13,2,FALSE))),MONTH(E100),DAY(E100)))) | G100: =IF(F100="","",(DATE((YEAR(F100)+(VLOOKUP($F$1,$S$2:$T$13,2,FALSE))),MONTH(F100),DAY(F100)))) | H100: 41246 | I100: =IF(H100="","",(DATE((YEAR(H100)+(VLOOKUP($H$1,$S$2:$T$13,2,FALSE))),MONTH(H100),DAY(H100)))) -> 42341 | J100: =IF(I100="","",(DATE((YEAR(I100)+(VLOOKUP($I$1,$S$2:$T$13,2,FALSE))),MONTH(I100),DAY(I100)))) -> 43437 | K100: =IF(J100="","",(DATE((YEAR(J100)+(VLOOKUP($J$1,$S$2:$T$13,2,FALSE))),MONTH(J100),DAY(J100)))) -> 44533 | L100: =IF(K100="","",(DATE((YEAR(K100)+(VLOOKUP($K$1,$S$2:$T$13,2,FALSE))),MONTH(K100),DAY(K100)))) -> 45629 | M100: =IF(L100="","",(DATE((YEAR(L100)+(VLOOKUP($L$1,$S$2:$T$13,2,FALSE))),MONTH(L100),DAY(L100)))) -> 46724 | N100: =IF(M100="","",(DATE((YEAR(M100)+(VLOOKUP($M$1,$S$2:$T$13,2,FALSE))),MONTH(M100),DAY(M100)))) -> 47820
...

Sheet Recap Changement
A4: 1 | C4: =VLOOKUP($A$4,Feuil4!B:C,3,FALSE) -> #N/A
A5: 2
A6: 3
A7: 4
A8: 5
A9: 6
A10: 7
A11: 8
A12: 9
A13: 10
A14: 11
A15: 12
A16: 13
... A65: 62

Sheet Feuil4
A1: 2013 | C1: 2014 | E1: 2015 | G1: 2016 | I1: 2017 | K1: 2018 | M1: 2019 | O1: 2020 | Q1: 2021 | S1: 2022 | U1: 2023 | W1: 2024 | Y1: 2025 | AA1: 2026 | AC1: 2027 | AE1: 2028 | AG1: 2029 | AI1: 2030 | AK1: 2031 | AM1: 2032 | AO1: 2033 | AQ1: 2034 | AS1: 2035
A2: Modification | B2: Name | C2: Modification | D2: Name | E2: Modification | F2: Name | G2: Modification | H2: Name | I2: Modification | J2: Name | K2: Modification | L2: Name | M2: Modification | N2: Name | O2: Modification | P2: Name | Q2: Modification | R2: Name | S2: Modification | T2: Name | U2: Modification | V2: Name | W2: Modification | X2: Name | Y2: Modification | Z2: Name | AA2: Modification | AB2: Name | AC2: Modification | AD2: Name | AE2: Modification | AF2: Name | AG2: Modification | AH2: Name | AI2: Modification | AJ2: Name | AK2: Modification | AL2: Name | AM2: Modification | AN2: Name | AO2: Modification | AP2: Name | AQ2: Modification | AR2: Name | AS2: Modification | AT2: Name
A3: =IF(B3<>"",IF(OR(AND(DATE(2014,1,1)>Coeff!E2,Coeff!E2>DATE(2012,12,31)),AND(DATE(2014,1,1)>Coeff!F2,Coeff!F2>DATE(2012,12,31)),AND(DATE(2014,1,1)>Coeff!G2,Coeff!G2>DATE(2012,12,31)),AND(DATE(2014,1,1)>Coeff!H2,Coeff!H2>DATE(2012,12,31)),AND(DATE(2014,1,1)>Coeff!I2,Coeff!I2>DATE(2012,12,31)),AND(DATE(2014,1,1)>Coeff!J2,Coeff!J2>DATE(2012,12,31)),AND(DATE(2014,1,1)>Coeff!K2,Coeff!K2>DATE(2012,12,31)),AND(DATE(2014,1,1)>Coeff!L2,Coeff!L2>DATE(2012,12,31)),AND(DATE(2014,1,1)>Coeff!M2,Coeff!M2>DATE(2012,12,31)),AND(DATE(2014,1,1)>Coeff!N2,Coeff!N2>DATE(2012,12,31)),AND(DATE(2014,1,1)>Coeff!O2,Coeff!O2>DATE(2012,12,31)),AND(DATE(2014,1,1)>Coeff!P2,Coeff!P2>DATE(2012,12,31))),IF(MAX($A$2:A2)=0,1,MAX($A$2:A2)+1),""),"") | B3: =IF(Coeff!$C$2<>"",Coeff!$C$2,"") -> Blip Bla | C3: =IF(B3<>"",IF(OR(AND(DATE(2015,1,1)>Coeff!E2,Coeff!E2>DATE(2013,12,31)),AND(DATE(2015,1,1)>Coeff!F2,Coeff!F2>DATE(2013,12,31)),AND(DATE(2015,1,1)>Coeff!G2,Coeff!G2>DATE(2013,12,31)),AND(DATE(2015,1,1)>Coeff!H2,Coeff!H2>DATE(2013,12,31)),AND(DATE(2015,1,1)>Coeff!I2,Coeff!I2>DATE(2013,12,31)),AND(DATE(2015,1,1)>Coeff!J2,Coeff!J2>DATE(2013,12,31)),AND(DATE(2015,1,1)>Coeff!K2,Coeff!K2>DATE(2013,12,31)),AND(DATE(2015,1,1)>Coeff!L2,Coeff!L2>DATE(2013,12,31)),AND(DATE(2015,1,1)>Coeff!M2,Coeff!M2>DATE(2013,12,31)),AND(DATE(2015,1,1)>Coeff!N2,Coeff!N2>DATE(2013,12,31)),AND(DATE(2015,1,1)>Coeff!O2,Coeff!O2>DATE(2013,12,31)),AND(DATE(2015,1,1)>Coeff!P2,Coeff!P2>DATE(2013,12,31))),IF(MAX($C1:C$2)=0,1,MAX($C$2:C2)+1),""),"") | D3: =IF(Coeff!C2<>"",Coeff!C2,"") -> Blip Bla | E3: =IF(B3<>"",IF(OR(AND(DATE(2016,1,1)>Coeff!E2,Coeff!E2>DATE(2014,12,31)),AND(DATE(2016,1,1)>Coeff!F2,Coeff!F2>DATE(2014,12,31)),AND(DATE(2016,1,1)>Coeff!G2,Coeff!G2>DATE(2014,12,31)),AND(DATE(2016,1,1)>Coeff!H2,Coeff!H2>DATE(2014,12,31)),AND(DATE(2016,1,1)>Coeff!I2,Coeff!I2>DATE(2014,12,31)),AND(DATE(2016,1,1)>Coeff!J2,Coeff!J2>DATE(2014,12,31)),AND(DATE(2016,1,1)>Coeff!K2,Coeff!K2>DATE(2014,12,31)),AND(DATE(2016,1,1)>Coeff!L2,Coeff!L2>DATE(2014,12,31)),AND(DATE(2016,1,1)>Coeff!M2,Coeff!M2>DATE(2014,12,31)),AND(DATE(2016,1,1)>Coeff!N2,Coeff!N2>DATE(2014,12,31)),AND(DATE(2016,1,1)>Coeff!O2,Coeff!O2>DATE(2014,12,31)),AND(DATE(2016,1,1)>Coeff!P2,Coeff!P2>DATE(2014,12,31))),IF(MAX($E1:E$2)=0,1,MAX($E$2:E2)+1),""),"") -> 1 | F3: =IF(Coeff!C2<>"",Coeff!C2,"") -> Blip Bla | H3: =IF(Coeff!C2<>"",Coeff!C2,"") -> Blip Bla | J3: =IF(Coeff!C2<>"",Coeff!C2,"") -> Blip Bla | L3: =IF(Coeff!C2<>"",Coeff!C2,"") -> Blip Bla | N3: =IF(Coeff!C2<>"",Coeff!C2,"") -> Blip Bla
A4: =IF(B4<>"",IF(OR(AND(DATE(2014,1,1)>Coeff!E3,Coeff!E3>DATE(2012,12,31)),AND(DATE(2014,1,1)>Coeff!F3,Coeff!F3>DATE(2012,12,31)),AND(DATE(2014,1,1)>Coeff!G3,Coeff!G3>DATE(2012,12,31)),AND(DATE(2014,1,1)>Coeff!H3,Coeff!H3>DATE(2012,12,31)),AND(DATE(2014,1,1)>Coeff!I3,Coeff!I3>DATE(2012,12,31)),AND(DATE(2014,1,1)>Coeff!J3,Coeff!J3>DATE(2012,12,31)),AND(DATE(2014,1,1)>Coeff!K3,Coeff!K3>DATE(2012,12,31)),AND(DATE(2014,1,1)>Coeff!L3,Coeff!L3>DATE(2012,12,31)),AND(DATE(2014,1,1)>Coeff!M3,Coeff!M3>DATE(2012,12,31)),AND(DATE(2014,1,1)>Coeff!N3,Coeff!N3>DATE(2012,12,31)),AND(DATE(2014,1,1)>Coeff!O3,Coeff!O3>DATE(2012,12,31)),AND(DATE(2014,1,1)>Coeff!P3,Coeff!P3>DATE(2012,12,31))),IF(ROW(B4)=2,1,MAX($A$2:A3)+1),""),"") | B4: =IF(Coeff!C3<>"",Coeff!C3,"") -> Bloup bou | C4: =IF(B4<>"",IF(OR(AND(DATE(2015,1,1)>Coeff!E3,Coeff!E3>DATE(2013,12,31)),AND(DATE(2015,1,1)>Coeff!F3,Coeff!F3>DATE(2013,12,31)),AND(DATE(2015,1,1)>Coeff!G3,Coeff!G3>DATE(2013,12,31)),AND(DATE(2015,1,1)>Coeff!H3,Coeff!H3>DATE(2013,12,31)),AND(DATE(2015,1,1)>Coeff!I3,Coeff!I3>DATE(2013,12,31)),AND(DATE(2015,1,1)>Coeff!J3,Coeff!J3>DATE(2013,12,31)),AND(DATE(2015,1,1)>Coeff!K3,Coeff!K3>DATE(2013,12,31)),AND(DATE(2015,1,1)>Coeff!L3,Coeff!L3>DATE(2013,12,31)),AND(DATE(2015,1,1)>Coeff!M3,Coeff!M3>DATE(2013,12,31)),AND(DATE(2015,1,1)>Coeff!N3,Coeff!N3>DATE(2013,12,31)),AND(DATE(2015,1,1)>Coeff!O3,Coeff!O3>DATE(2013,12,31)),AND(DATE(2015,1,1)>Coeff!P3,Coeff!P3>DATE(2013,12,31))),IF(MAX($C2:C$2)=0,1,MAX($C$2:C3)+1),""),"") -> 1 | D4: =IF(Coeff!C3<>"",Coeff!C3,"") -> Bloup bou | E4: =IF(B4<>"",IF(OR(AND(DATE(2016,1,1)>Coeff!E3,Coeff!E3>DATE(2014,12,31)),AND(DATE(2016,1,1)>Coeff!F3,Coeff!F3>DATE(2014,12,31)),AND(DATE(2016,1,1)>Coeff!G3,Coeff!G3>DATE(2014,12,31)),AND(DATE(2016,1,1)>Coeff!H3,Coeff!H3>DATE(2014,12,31)),AND(DATE(2016,1,1)>Coeff!I3,Coeff!I3>DATE(2014,12,31)),AND(DATE(2016,1,1)>Coeff!J3,Coeff!J3>DATE(2014,12,31)),AND(DATE(2016,1,1)>Coeff!K3,Coeff!K3>DATE(2014,12,31)),AND(DATE(2016,1,1)>Coeff!L3,Coeff!L3>DATE(2014,12,31)),AND(DATE(2016,1,1)>Coeff!M3,Coeff!M3>DATE(2014,12,31)),AND(DATE(2016,1,1)>Coeff!N3,Coeff!N3>DATE(2014,12,31)),AND(DATE(2016,1,1)>Coeff!O3,Coeff!O3>DATE(2014,12,31)),AND(DATE(2016,1,1)>Coeff!P3,Coeff!P3>DATE(2014,12,31))),IF(MAX($E2:E$2)=0,1,MAX($E$2:E3)+1),""),"") | F4: =IF(Coeff!C3<>"",Coeff!C3,"") -> Bloup bou
A5: =IF(B5<>"",IF(OR(AND(DATE(2014,1,1)>Coeff!E4,Coeff!E4>DATE(2012,12,31)),AND(DATE(2014,1,1)>Coeff!F4,Coeff!F4>DATE(2012,12,31)),AND(DATE(2014,1,1)>Coeff!G4,Coeff!G4>DATE(2012,12,31)),AND(DATE(2014,1,1)>Coeff!H4,Coeff!H4>DATE(2012,12,31)),AND(DATE(2014,1,1)>Coeff!I4,Coeff!I4>DATE(2012,12,31)),AND(DATE(2014,1,1)>Coeff!J4,Coeff!J4>DATE(2012,12,31)),AND(DATE(2014,1,1)>Coeff!K4,Coeff!K4>DATE(2012,12,31)),AND(DATE(2014,1,1)>Coeff!L4,Coeff!L4>DATE(2012,12,31)),AND(DATE(2014,1,1)>Coeff!M4,Coeff!M4>DATE(2012,12,31)),AND(DATE(2014,1,1)>Coeff!N4,Coeff!N4>DATE(2012,12,31)),AND(DATE(2014,1,1)>Coeff!O4,Coeff!O4>DATE(2012,12,31)),AND(DATE(2014,1,1)>Coeff!P4,Coeff!P4>DATE(2012,12,31))),IF(ROW(B5)=2,1,MAX($A$2:A4)+1),""),"") | B5: =IF(Coeff!C4<>"",Coeff!C4,"") -> Blap bi | C5: =IF(B5<>"",IF(OR(AND(DATE(2015,1,1)>Coeff!E4,Coeff!E4>DATE(2013,12,31)),AND(DATE(2015,1,1)>Coeff!F4,Coeff!F4>DATE(2013,12,31)),AND(DATE(2015,1,1)>Coeff!G4,Coeff!G4>DATE(2013,12,31)),AND(DATE(2015,1,1)>Coeff!H4,Coeff!H4>DATE(2013,12,31)),AND(DATE(2015,1,1)>Coeff!I4,Coeff!I4>DATE(2013,12,31)),AND(DATE(2015,1,1)>Coeff!J4,Coeff!J4>DATE(2013,12,31)),AND(DATE(2015,1,1)>Coeff!K4,Coeff!K4>DATE(2013,12,31)),AND(DATE(2015,1,1)>Coeff!L4,Coeff!L4>DATE(2013,12,31)),AND(DATE(2015,1,1)>Coeff!M4,Coeff!M4>DATE(2013,12,31)),AND(DATE(2015,1,1)>Coeff!N4,Coeff!N4>DATE(2013,12,31)),AND(DATE(2015,1,1)>Coeff!O4,Coeff!O4>DATE(2013,12,31)),AND(DATE(2015,1,1)>Coeff!P4,Coeff!P4>DATE(2013,12,31))),IF(MAX($C$2:C3)=0,1,MAX($C$2:C4)+1),""),"") | D5: =IF(Coeff!C4<>"",Coeff!C4,"") -> Blap bi | E5: =IF(B5<>"",IF(OR(AND(DATE(2016,1,1)>Coeff!E4,Coeff!E4>DATE(2014,12,31)),AND(DATE(2016,1,1)>Coeff!F4,Coeff!F4>DATE(2014,12,31)),AND(DATE(2016,1,1)>Coeff!G4,Coeff!G4>DATE(2014,12,31)),AND(DATE(2016,1,1)>Coeff!H4,Coeff!H4>DATE(2014,12,31)),AND(DATE(2016,1,1)>Coeff!I4,Coeff!I4>DATE(2014,12,31)),AND(DATE(2016,1,1)>Coeff!J4,Coeff!J4>DATE(2014,12,31)),AND(DATE(2016,1,1)>Coeff!K4,Coeff!K4>DATE(2014,12,31)),AND(DATE(2016,1,1)>Coeff!L4,Coeff!L4>DATE(2014,12,31)),AND(DATE(2016,1,1)>Coeff!M4,Coeff!M4>DATE(2014,12,31)),AND(DATE(2016,1,1)>Coeff!N4,Coeff!N4>DATE(2014,12,31)),AND(DATE(2016,1,1)>Coeff!O4,Coeff!O4>DATE(2014,12,31)),AND(DATE(2016,1,1)>Coeff!P4,Coeff!P4>DATE(2014,12,31))),IF(MAX($E$2:E3)=0,1,MAX($E$2:E4)+1),""),"") | F5: =IF(Coeff!C4<>"",Coeff!C4,"") -> Blap bi
A6: =IF(B6<>"",IF(OR(AND(DATE(2014,1,1)>Coeff!E5,Coeff!E5>DATE(2012,12,31)),AND(DATE(2014,1,1)>Coeff!F5,Coeff!F5>DATE(2012,12,31)),AND(DATE(2014,1,1)>Coeff!G5,Coeff!G5>DATE(2012,12,31)),AND(DATE(2014,1,1)>Coeff!H5,Coeff!H5>DATE(2012,12,31)),AND(DATE(2014,1,1)>Coeff!I5,Coeff!I5>DATE(2012,12,31)),AND(DATE(2014,1,1)>Coeff!J5,Coeff!J5>DATE(2012,12,31)),AND(DATE(2014,1,1)>Coeff!K5,Coeff!K5>DATE(2012,12,31)),AND(DATE(2014,1,1)>Coeff!L5,Coeff!L5>DATE(2012,12,31)),AND(DATE(2014,1,1)>Coeff!M5,Coeff!M5>DATE(2012,12,31)),AND(DATE(2014,1,1)>Coeff!N5,Coeff!N5>DATE(2012,12,31)),AND(DATE(2014,1,1)>Coeff!O5,Coeff!O5>DATE(2012,12,31)),AND(DATE(2014,1,1)>Coeff!P5,Coeff!P5>DATE(2012,12,31))),IF(ROW(B6)=2,1,MAX($A$2:A5)+1),""),"") | B6: =IF(Coeff!C5<>"",Coeff!C5,"") -> bibou blabli | C6: =IF(B6<>"",IF(OR(AND(DATE(2015,1,1)>Coeff!E5,Coeff!E5>DATE(2013,12,31)),AND(DATE(2015,1,1)>Coeff!F5,Coeff!F5>DATE(2013,12,31)),AND(DATE(2015,1,1)>Coeff!G5,Coeff!G5>DATE(2013,12,31)),AND(DATE(2015,1,1)>Coeff!H5,Coeff!H5>DATE(2013,12,31)),AND(DATE(2015,1,1)>Coeff!I5,Coeff!I5>DATE(2013,12,31)),AND(DATE(2015,1,1)>Coeff!J5,Coeff!J5>DATE(2013,12,31)),AND(DATE(2015,1,1)>Coeff!K5,Coeff!K5>DATE(2013,12,31)),AND(DATE(2015,1,1)>Coeff!L5,Coeff!L5>DATE(2013,12,31)),AND(DATE(2015,1,1)>Coeff!M5,Coeff!M5>DATE(2013,12,31)),AND(DATE(2015,1,1)>Coeff!N5,Coeff!N5>DATE(2013,12,31)),AND(DATE(2015,1,1)>Coeff!O5,Coeff!O5>DATE(2013,12,31)),AND(DATE(2015,1,1)>Coeff!P5,Coeff!P5>DATE(2013,12,31))),IF(MAX($C$2:C4)=0,1,MAX($C$2:C5)+1),""),"") -> 2 | D6: =IF(Coeff!C5<>"",Coeff!C5,"") -> bibou blabli | E6: =IF(B6<>"",IF(OR(AND(DATE(2016,1,1)>Coeff!E5,Coeff!E5>DATE(2014,12,31)),AND(DATE(2016,1,1)>Coeff!F5,Coeff!F5>DATE(2014,12,31)),AND(DATE(2016,1,1)>Coeff!G5,Coeff!G5>DATE(2014,12,31)),AND(DATE(2016,1,1)>Coeff!H5,Coeff!H5>DATE(2014,12,31)),AND(DATE(2016,1,1)>Coeff!I5,Coeff!I5>DATE(2014,12,31)),AND(DATE(2016,1,1)>Coeff!J5,Coeff!J5>DATE(2014,12,31)),AND(DATE(2016,1,1)>Coeff!K5,Coeff!K5>DATE(2014,12,31)),AND(DATE(2016,1,1)>Coeff!L5,Coeff!L5>DATE(2014,12,31)),AND(DATE(2016,1,1)>Coeff!M5,Coeff!M5>DATE(2014,12,31)),AND(DATE(2016,1,1)>Coeff!N5,Coeff!N5>DATE(2014,12,31)),AND(DATE(2016,1,1)>Coeff!O5,Coeff!O5>DATE(2014,12,31)),AND(DATE(2016,1,1)>Coeff!P5,Coeff!P5>DATE(2014,12,31))),IF(MAX($E$2:E4)=0,1,MAX($E$2:E5)+1),""),"") | F6: =IF(Coeff!C5<>"",Coeff!C5,"") -> bibou blabli
A7: =IF(B7<>"",IF(OR(AND(DATE(2014,1,1)>Coeff!E6,Coeff!E6>DATE(2012,12,31)),AND(DATE(2014,1,1)>Coeff!F6,Coeff!F6>DATE(2012,12,31)),AND(DATE(2014,1,1)>Coeff!G6,Coeff!G6>DATE(2012,12,31)),AND(DATE(2014,1,1)>Coeff!H6,Coeff!H6>DATE(2012,12,31)),AND(DATE(2014,1,1)>Coeff!I6,Coeff!I6>DATE(2012,12,31)),AND(DATE(2014,1,1)>Coeff!J6,Coeff!J6>DATE(2012,12,31)),AND(DATE(2014,1,1)>Coeff!K6,Coeff!K6>DATE(2012,12,31)),AND(DATE(2014,1,1)>Coeff!L6,Coeff!L6>DATE(2012,12,31)),AND(DATE(2014,1,1)>Coeff!M6,Coeff!M6>DATE(2012,12,31)),AND(DATE(2014,1,1)>Coeff!N6,Coeff!N6>DATE(2012,12,31)),AND(DATE(2014,1,1)>Coeff!O6,Coeff!O6>DATE(2012,12,31)),AND(DATE(2014,1,1)>Coeff!P6,Coeff!P6>DATE(2012,12,31))),IF(ROW(B7)=2,1,MAX($A$2:A6)+1),""),"") | B7: =IF(Coeff!C6<>"",Coeff!C6,"") -> AB GERARD | C7: =IF(B7<>"",IF(OR(AND(DATE(2015,1,1)>Coeff!E6,Coeff!E6>DATE(2013,12,31)),AND(DATE(2015,1,1)>Coeff!F6,Coeff!F6>DATE(2013,12,31)),AND(DATE(2015,1,1)>Coeff!G6,Coeff!G6>DATE(2013,12,31)),AND(DATE(2015,1,1)>Coeff!H6,Coeff!H6>DATE(2013,12,31)),AND(DATE(2015,1,1)>Coeff!I6,Coeff!I6>DATE(2013,12,31)),AND(DATE(2015,1,1)>Coeff!J6,Coeff!J6>DATE(2013,12,31)),AND(DATE(2015,1,1)>Coeff!K6,Coeff!K6>DATE(2013,12,31)),AND(DATE(2015,1,1)>Coeff!L6,Coeff!L6>DATE(2013,12,31)),AND(DATE(2015,1,1)>Coeff!M6,Coeff!M6>DATE(2013,12,31)),AND(DATE(2015,1,1)>Coeff!N6,Coeff!N6>DATE(2013,12,31)),AND(DATE(2015,1,1)>Coeff!O6,Coeff!O6>DATE(2013,12,31)),AND(DATE(2015,1,1)>Coeff!P6,Coeff!P6>DATE(2013,12,31))),IF(MAX($C$2:C5)=0,1,MAX($C$2:C6)+1),""),"") -> 3 | D7: =IF(Coeff!C6<>"",Coeff!C6,"") -> AB GERARD | E7: =IF(B7<>"",IF(OR(AND(DATE(2016,1,1)>Coeff!E6,Coeff!E6>DATE(2014,12,31)),AND(DATE(2016,1,1)>Coeff!F6,Coeff!F6>DATE(2014,12,31)),AND(DATE(2016,1,1)>Coeff!G6,Coeff!G6>DATE(2014,12,31)),AND(DATE(2016,1,1)>Coeff!H6,Coeff!H6>DATE(2014,12,31)),AND(DATE(2016,1,1)>Coeff!I6,Coeff!I6>DATE(2014,12,31)),AND(DATE(2016,1,1)>Coeff!J6,Coeff!J6>DATE(2014,12,31)),AND(DATE(2016,1,1)>Coeff!K6,Coeff!K6>DATE(2014,12,31)),AND(DATE(2016,1,1)>Coeff!L6,Coeff!L6>DATE(2014,12,31)),AND(DATE(2016,1,1)>Coeff!M6,Coeff!M6>DATE(2014,12,31)),AND(DATE(2016,1,1)>Coeff!N6,Coeff!N6>DATE(2014,12,31)),AND(DATE(2016,1,1)>Coeff!O6,Coeff!O6>DATE(2014,12,31)),AND(DATE(2016,1,1)>Coeff!P6,Coeff!P6>DATE(2014,12,31))),IF(MAX($E$2:E5)=0,1,MAX($E$2:E6)+1),""),"") | F7: =IF(Coeff!C6<>"",Coeff!C6,"") -> AB GERARD
A8: =IF(B8<>"",IF(OR(AND(DATE(2014,1,1)>Coeff!E7,Coeff!E7>DATE(2012,12,31)),AND(DATE(2014,1,1)>Coeff!F7,Coeff!F7>DATE(2012,12,31)),AND(DATE(2014,1,1)>Coeff!G7,Coeff!G7>DATE(2012,12,31)),AND(DATE(2014,1,1)>Coeff!H7,Coeff!H7>DATE(2012,12,31)),AND(DATE(2014,1,1)>Coeff!I7,Coeff!I7>DATE(2012,12,31)),AND(DATE(2014,1,1)>Coeff!J7,Coeff!J7>DATE(2012,12,31)),AND(DATE(2014,1,1)>Coeff!K7,Coeff!K7>DATE(2012,12,31)),AND(DATE(2014,1,1)>Coeff!L7,Coeff!L7>DATE(2012,12,31)),AND(DATE(2014,1,1)>Coeff!M7,Coeff!M7>DATE(2012,12,31)),AND(DATE(2014,1,1)>Coeff!N7,Coeff!N7>DATE(2012,12,31)),AND(DATE(2014,1,1)>Coeff!O7,Coeff!O7>DATE(2012,12,31)),AND(DATE(2014,1,1)>Coeff!P7,Coeff!P7>DATE(2012,12,31))),IF(ROW(B8)=2,1,MAX($A$2:A7)+1),""),"") | B8: =IF(Coeff!C7<>"",Coeff!C7,"") -> AC JEAN LUC | C8: =IF(B8<>"",IF(OR(AND(DATE(2015,1,1)>Coeff!E7,Coeff!E7>DATE(2013,12,31)),AND(DATE(2015,1,1)>Coeff!F7,Coeff!F7>DATE(2013,12,31)),AND(DATE(2015,1,1)>Coeff!G7,Coeff!G7>DATE(2013,12,31)),AND(DATE(2015,1,1)>Coeff!H7,Coeff!H7>DATE(2013,12,31)),AND(DATE(2015,1,1)>Coeff!I7,Coeff!I7>DATE(2013,12,31)),AND(DATE(2015,1,1)>Coeff!J7,Coeff!J7>DATE(2013,12,31)),AND(DATE(2015,1,1)>Coeff!K7,Coeff!K7>DATE(2013,12,31)),AND(DATE(2015,1,1)>Coeff!L7,Coeff!L7>DATE(2013,12,31)),AND(DATE(2015,1,1)>Coeff!M7,Coeff!M7>DATE(2013,12,31)),AND(DATE(2015,1,1)>Coeff!N7,Coeff!N7>DATE(2013,12,31)),AND(DATE(2015,1,1)>Coeff!O7,Coeff!O7>DATE(2013,12,31)),AND(DATE(2015,1,1)>Coeff!P7,Coeff!P7>DATE(2013,12,31))),IF(MAX($C$2:C6)=0,1,MAX($C$2:C7)+1),""),"") -> 4 | D8: =IF(Coeff!C7<>"",Coeff!C7,"") -> AC JEAN LUC | E8: =IF(B8<>"",IF(OR(AND(DATE(2016,1,1)>Coeff!E7,Coeff!E7>DATE(2014,12,31)),AND(DATE(2016,1,1)>Coeff!F7,Coeff!F7>DATE(2014,12,31)),AND(DATE(2016,1,1)>Coeff!G7,Coeff!G7>DATE(2014,12,31)),AND(DATE(2016,1,1)>Coeff!H7,Coeff!H7>DATE(2014,12,31)),AND(DATE(2016,1,1)>Coeff!I7,Coeff!I7>DATE(2014,12,31)),AND(DATE(2016,1,1)>Coeff!J7,Coeff!J7>DATE(2014,12,31)),AND(DATE(2016,1,1)>Coeff!K7,Coeff!K7>DATE(2014,12,31)),AND(DATE(2016,1,1)>Coeff!L7,Coeff!L7>DATE(2014,12,31)),AND(DATE(2016,1,1)>Coeff!M7,Coeff!M7>DATE(2014,12,31)),AND(DATE(2016,1,1)>Coeff!N7,Coeff!N7>DATE(2014,12,31)),AND(DATE(2016,1,1)>Coeff!O7,Coeff!O7>DATE(2014,12,31)),AND(DATE(2016,1,1)>Coeff!P7,Coeff!P7>DATE(2014,12,31))),IF(MAX($E$2:E6)=0,1,MAX($E$2:E7)+1),""),"") | F8: =IF(Coeff!C7<>"",Coeff!C7,"") -> AC JEAN LUC
A9: =IF(B9<>"",IF(OR(AND(DATE(2014,1,1)>Coeff!E8,Coeff!E8>DATE(2012,12,31)),AND(DATE(2014,1,1)>Coeff!F8,Coeff!F8>DATE(2012,12,31)),AND(DATE(2014,1,1)>Coeff!G8,Coeff!G8>DATE(2012,12,31)),AND(DATE(2014,1,1)>Coeff!H8,Coeff!H8>DATE(2012,12,31)),AND(DATE(2014,1,1)>Coeff!I8,Coeff!I8>DATE(2012,12,31)),AND(DATE(2014,1,1)>Coeff!J8,Coeff!J8>DATE(2012,12,31)),AND(DATE(2014,1,1)>Coeff!K8,Coeff!K8>DATE(2012,12,31)),AND(DATE(2014,1,1)>Coeff!L8,Coeff!L8>DATE(2012,12,31)),AND(DATE(2014,1,1)>Coeff!M8,Coeff!M8>DATE(2012,12,31)),AND(DATE(2014,1,1)>Coeff!N8,Coeff!N8>DATE(2012,12,31)),AND(DATE(2014,1,1)>Coeff!O8,Coeff!O8>DATE(2012,12,31)),AND(DATE(2014,1,1)>Coeff!P8,Coeff!P8>DATE(2012,12,31))),IF(ROW(B9)=2,1,MAX($A$2:A8)+1),""),"") -> 1 | B9: =IF(Coeff!C8<>"",Coeff!C8,"") -> CHA GILLES | C9: =IF(B9<>"",IF(OR(AND(DATE(2015,1,1)>Coeff!E8,Coeff!E8>DATE(2013,12,31)),AND(DATE(2015,1,1)>Coeff!F8,Coeff!F8>DATE(2013,12,31)),AND(DATE(2015,1,1)>Coeff!G8,Coeff!G8>DATE(2013,12,31)),AND(DATE(2015,1,1)>Coeff!H8,Coeff!H8>DATE(2013,12,31)),AND(DATE(2015,1,1)>Coeff!I8,Coeff!I8>DATE(2013,12,31)),AND(DATE(2015,1,1)>Coeff!J8,Coeff!J8>DATE(2013,12,31)),AND(DATE(2015,1,1)>Coeff!K8,Coeff!K8>DATE(2013,12,31)),AND(DATE(2015,1,1)>Coeff!L8,Coeff!L8>DATE(2013,12,31)),AND(DATE(2015,1,1)>Coeff!M8,Coeff!M8>DATE(2013,12,31)),AND(DATE(2015,1,1)>Coeff!N8,Coeff!N8>DATE(2013,12,31)),AND(DATE(2015,1,1)>Coeff!O8,Coeff!O8>DATE(2013,12,31)),AND(DATE(2015,1,1)>Coeff!P8,Coeff!P8>DATE(2013,12,31))),IF(MAX($C$2:C7)=0,1,MAX($C$2:C8)+1),""),"") | D9: =IF(Coeff!C8<>"",Coeff!C8,"") -> CHA GILLES | E9: =IF(B9<>"",IF(OR(AND(DATE(2016,1,1)>Coeff!E8,Coeff!E8>DATE(2014,12,31)),AND(DATE(2016,1,1)>Coeff!F8,Coeff!F8>DATE(2014,12,31)),AND(DATE(2016,1,1)>Coeff!G8,Coeff!G8>DATE(2014,12,31)),AND(DATE(2016,1,1)>Coeff!H8,Coeff!H8>DATE(2014,12,31)),AND(DATE(2016,1,1)>Coeff!I8,Coeff!I8>DATE(2014,12,31)),AND(DATE(2016,1,1)>Coeff!J8,Coeff!J8>DATE(2014,12,31)),AND(DATE(2016,1,1)>Coeff!K8,Coeff!K8>DATE(2014,12,31)),AND(DATE(2016,1,1)>Coeff!L8,Coeff!L8>DATE(2014,12,31)),AND(DATE(2016,1,1)>Coeff!M8,Coeff!M8>DATE(2014,12,31)),AND(DATE(2016,1,1)>Coeff!N8,Coeff!N8>DATE(2014,12,31)),AND(DATE(2016,1,1)>Coeff!O8,Coeff!O8>DATE(2014,12,31)),AND(DATE(2016,1,1)>Coeff!P8,Coeff!P8>DATE(2014,12,31))),IF(MAX($E$2:E7)=0,1,MAX($E$2:E8)+1),""),"") | F9: =IF(Coeff!C8<>"",Coeff!C8,"") -> CHA GILLES
A10: =IF(B10<>"",IF(OR(AND(DATE(2014,1,1)>Coeff!E9,Coeff!E9>DATE(2012,12,31)),AND(DATE(2014,1,1)>Coeff!F9,Coeff!F9>DATE(2012,12,31)),AND(DATE(2014,1,1)>Coeff!G9,Coeff!G9>DATE(2012,12,31)),AND(DATE(2014,1,1)>Coeff!H9,Coeff!H9>DATE(2012,12,31)),AND(DATE(2014,1,1)>Coeff!I9,Coeff!I9>DATE(2012,12,31)),AND(DATE(2014,1,1)>Coeff!J9,Coeff!J9>DATE(2012,12,31)),AND(DATE(2014,1,1)>Coeff!K9,Coeff!K9>DATE(2012,12,31)),AND(DATE(2014,1,1)>Coeff!L9,Coeff!L9>DATE(2012,12,31)),AND(DATE(2014,1,1)>Coeff!M9,Coeff!M9>DATE(2012,12,31)),AND(DATE(2014,1,1)>Coeff!N9,Coeff!N9>DATE(2012,12,31)),AND(DATE(2014,1,1)>Coeff!O9,Coeff!O9>DATE(2012,12,31)),AND(DATE(2014,1,1)>Coeff!P9,Coeff!P9>DATE(2012,12,31))),IF(ROW(B10)=2,1,MAX($A$2:A9)+1),""),"") | B10: =IF(Coeff!C9<>"",Coeff!C9,"") -> AA MARC | C10: =IF(B10<>"",IF(OR(AND(DATE(2015,1,1)>Coeff!E9,Coeff!E9>DATE(2013,12,31)),AND(DATE(2015,1,1)>Coeff!F9,Coeff!F9>DATE(2013,12,31)),AND(DATE(2015,1,1)>Coeff!G9,Coeff!G9>DATE(2013,12,31)),AND(DATE(2015,1,1)>Coeff!H9,Coeff!H9>DATE(2013,12,31)),AND(DATE(2015,1,1)>Coeff!I9,Coeff!I9>DATE(2013,12,31)),AND(DATE(2015,1,1)>Coeff!J9,Coeff!J9>DATE(2013,12,31)),AND(DATE(2015,1,1)>Coeff!K9,Coeff!K9>DATE(2013,12,31)),AND(DATE(2015,1,1)>Coeff!L9,Coeff!L9>DATE(2013,12,31)),AND(DATE(2015,1,1)>Coeff!M9,Coeff!M9>DATE(2013,12,31)),AND(DATE(2015,1,1)>Coeff!N9,Coeff!N9>DATE(2013,12,31)),AND(DATE(2015,1,1)>Coeff!O9,Coeff!O9>DATE(2013,12,31)),AND(DATE(2015,1,1)>Coeff!P9,Coeff!P9>DATE(2013,12,31))),IF(MAX($C$2:C8)=0,1,MAX($C$2:C9)+1),""),"") | D10: =IF(Coeff!C9<>"",Coeff!C9,"") -> AA MARC | E10: =IF(B10<>"",IF(OR(AND(DATE(2016,1,1)>Coeff!E9,Coeff!E9>DATE(2014,12,31)),AND(DATE(2016,1,1)>Coeff!F9,Coeff!F9>DATE(2014,12,31)),AND(DATE(2016,1,1)>Coeff!G9,Coeff!G9>DATE(2014,12,31)),AND(DATE(2016,1,1)>Coeff!H9,Coeff!H9>DATE(2014,12,31)),AND(DATE(2016,1,1)>Coeff!I9,Coeff!I9>DATE(2014,12,31)),AND(DATE(2016,1,1)>Coeff!J9,Coeff!J9>DATE(2014,12,31)),AND(DATE(2016,1,1)>Coeff!K9,Coeff!K9>DATE(2014,12,31)),AND(DATE(2016,1,1)>Coeff!L9,Coeff!L9>DATE(2014,12,31)),AND(DATE(2016,1,1)>Coeff!M9,Coeff!M9>DATE(2014,12,31)),AND(DATE(2016,1,1)>Coeff!N9,Coeff!N9>DATE(2014,12,31)),AND(DATE(2016,1,1)>Coeff!O9,Coeff!O9>DATE(2014,12,31)),AND(DATE(2016,1,1)>Coeff!P9,Coeff!P9>DATE(2014,12,31))),IF(MAX($E$2:E8)=0,1,MAX($E$2:E9)+1),""),"") | F10: =IF(Coeff!C9<>"",Coeff!C9,"") -> AA MARC
A11: =IF(B11<>"",IF(OR(AND(DATE(2014,1,1)>Coeff!E10,Coeff!E10>DATE(2012,12,31)),AND(DATE(2014,1,1)>Coeff!F10,Coeff!F10>DATE(2012,12,31)),AND(DATE(2014,1,1)>Coeff!G10,Coeff!G10>DATE(2012,12,31)),AND(DATE(2014,1,1)>Coeff!H10,Coeff!H10>DATE(2012,12,31)),AND(DATE(2014,1,1)>Coeff!I10,Coeff!I10>DATE(2012,12,31)),AND(DATE(2014,1,1)>Coeff!J10,Coeff!J10>DATE(2012,12,31)),AND(DATE(2014,1,1)>Coeff!K10,Coeff!K10>DATE(2012,12,31)),AND(DATE(2014,1,1)>Coeff!L10,Coeff!L10>DATE(2012,12,31)),AND(DATE(2014,1,1)>Coeff!M10,Coeff!M10>DATE(2012,12,31)),AND(DATE(2014,1,1)>Coeff!N10,Coeff!N10>DATE(2012,12,31)),AND(DATE(2014,1,1)>Coeff!O10,Coeff!O10>DATE(2012,12,31)),AND(DATE(2014,1,1)>Coeff!P10,Coeff!P10>DATE(2012,12,31))),IF(ROW(B11)=2,1,MAX($A$2:A10)+1),""),"") | B11: =IF(Coeff!C10<>"",Coeff!C10,"") -> BB CHRISTINE | C11: =IF(B11<>"",IF(OR(AND(DATE(2015,1,1)>Coeff!E10,Coeff!E10>DATE(2013,12,31)),AND(DATE(2015,1,1)>Coeff!F10,Coeff!F10>DATE(2013,12,31)),AND(DATE(2015,1,1)>Coeff!G10,Coeff!G10>DATE(2013,12,31)),AND(DATE(2015,1,1)>Coeff!H10,Coeff!H10>DATE(2013,12,31)),AND(DATE(2015,1,1)>Coeff!I10,Coeff!I10>DATE(2013,12,31)),AND(DATE(2015,1,1)>Coeff!J10,Coeff!J10>DATE(2013,12,31)),AND(DATE(2015,1,1)>Coeff!K10,Coeff!K10>DATE(2013,12,31)),AND(DATE(2015,1,1)>Coeff!L10,Coeff!L10>DATE(2013,12,31)),AND(DATE(2015,1,1)>Coeff!M10,Coeff!M10>DATE(2013,12,31)),AND(DATE(2015,1,1)>Coeff!N10,Coeff!N10>DATE(2013,12,31)),AND(DATE(2015,1,1)>Coeff!O10,Coeff!O10>DATE(2013,12,31)),AND(DATE(2015,1,1)>Coeff!P10,Coeff!P10>DATE(2013,12,31))),IF(MAX($C$2:C9)=0,1,MAX($C$2:C10)+1),""),"") -> 5 | D11: =IF(Coeff!C10<>"",Coeff!C10,"") -> BB CHRISTINE | E11: =IF(B11<>"",IF(OR(AND(DATE(2016,1,1)>Coeff!E10,Coeff!E10>DATE(2014,12,31)),AND(DATE(2016,1,1)>Coeff!F10,Coeff!F10>DATE(2014,12,31)),AND(DATE(2016,1,1)>Coeff!G10,Coeff!G10>DATE(2014,12,31)),AND(DATE(2016,1,1)>Coeff!H10,Coeff!H10>DATE(2014,12,31)),AND(DATE(2016,1,1)>Coeff!I10,Coeff!I10>DATE(2014,12,31)),AND(DATE(2016,1,1)>Coeff!J10,Coeff!J10>DATE(2014,12,31)),AND(DATE(2016,1,1)>Coeff!K10,Coeff!K10>DATE(2014,12,31)),AND(DATE(2016,1,1)>Coeff!L10,Coeff!L10>DATE(2014,12,31)),AND(DATE(2016,1,1)>Coeff!M10,Coeff!M10>DATE(2014,12,31)),AND(DATE(2016,1,1)>Coeff!N10,Coeff!N10>DATE(2014,12,31)),AND(DATE(2016,1,1)>Coeff!O10,Coeff!O10>DATE(2014,12,31)),AND(DATE(2016,1,1)>Coeff!P10,Coeff!P10>DATE(2014,12,31))),IF(MAX($E$2:E9)=0,1,MAX($E$2:E10)+1),""),"") | F11: =IF(Coeff!C10<>"",Coeff!C10,"") -> BB CHRISTINE
A12: =IF(B12<>"",IF(OR(AND(DATE(2014,1,1)>Coeff!E11,Coeff!E11>DATE(2012,12,31)),AND(DATE(2014,1,1)>Coeff!F11,Coeff!F11>DATE(2012,12,31)),AND(DATE(2014,1,1)>Coeff!G11,Coeff!G11>DATE(2012,12,31)),AND(DATE(2014,1,1)>Coeff!H11,Coeff!H11>DATE(2012,12,31)),AND(DATE(2014,1,1)>Coeff!I11,Coeff!I11>DATE(2012,12,31)),AND(DATE(2014,1,1)>Coeff!J11,Coeff!J11>DATE(2012,12,31)),AND(DATE(2014,1,1)>Coeff!K11,Coeff!K11>DATE(2012,12,31)),AND(DATE(2014,1,1)>Coeff!L11,Coeff!L11>DATE(2012,12,31)),AND(DATE(2014,1,1)>Coeff!M11,Coeff!M11>DATE(2012,12,31)),AND(DATE(2014,1,1)>Coeff!N11,Coeff!N11>DATE(2012,12,31)),AND(DATE(2014,1,1)>Coeff!O11,Coeff!O11>DATE(2012,12,31)),AND(DATE(2014,1,1)>Coeff!P11,Coeff!P11>DATE(2012,12,31))),IF(ROW(B12)=2,1,MAX($A$2:A11)+1),""),"") | B12: =IF(Coeff!C11<>"",Coeff!C11,"") -> CC MARTINE | C12: =IF(B12<>"",IF(OR(AND(DATE(2015,1,1)>Coeff!E11,Coeff!E11>DATE(2013,12,31)),AND(DATE(2015,1,1)>Coeff!F11,Coeff!F11>DATE(2013,12,31)),AND(DATE(2015,1,1)>Coeff!G11,Coeff!G11>DATE(2013,12,31)),AND(DATE(2015,1,1)>Coeff!H11,Coeff!H11>DATE(2013,12,31)),AND(DATE(2015,1,1)>Coeff!I11,Coeff!I11>DATE(2013,12,31)),AND(DATE(2015,1,1)>Coeff!J11,Coeff!J11>DATE(2013,12,31)),AND(DATE(2015,1,1)>Coeff!K11,Coeff!K11>DATE(2013,12,31)),AND(DATE(2015,1,1)>Coeff!L11,Coeff!L11>DATE(2013,12,31)),AND(DATE(2015,1,1)>Coeff!M11,Coeff!M11>DATE(2013,12,31)),AND(DATE(2015,1,1)>Coeff!N11,Coeff!N11>DATE(2013,12,31)),AND(DATE(2015,1,1)>Coeff!O11,Coeff!O11>DATE(2013,12,31)),AND(DATE(2015,1,1)>Coeff!P11,Coeff!P11>DATE(2013,12,31))),IF(MAX($C$2:C10)=0,1,MAX($C$2:C11)+1),""),"") | D12: =IF(Coeff!C11<>"",Coeff!C11,"") -> CC MARTINE | E12: =IF(B12<>"",IF(OR(AND(DATE(2016,1,1)>Coeff!E11,Coeff!E11>DATE(2014,12,31)),AND(DATE(2016,1,1)>Coeff!F11,Coeff!F11>DATE(2014,12,31)),AND(DATE(2016,1,1)>Coeff!G11,Coeff!G11>DATE(2014,12,31)),AND(DATE(2016,1,1)>Coeff!H11,Coeff!H11>DATE(2014,12,31)),AND(DATE(2016,1,1)>Coeff!I11,Coeff!I11>DATE(2014,12,31)),AND(DATE(2016,1,1)>Coeff!J11,Coeff!J11>DATE(2014,12,31)),AND(DATE(2016,1,1)>Coeff!K11,Coeff!K11>DATE(2014,12,31)),AND(DATE(2016,1,1)>Coeff!L11,Coeff!L11>DATE(2014,12,31)),AND(DATE(2016,1,1)>Coeff!M11,Coeff!M11>DATE(2014,12,31)),AND(DATE(2016,1,1)>Coeff!N11,Coeff!N11>DATE(2014,12,31)),AND(DATE(2016,1,1)>Coeff!O11,Coeff!O11>DATE(2014,12,31)),AND(DATE(2016,1,1)>Coeff!P11,Coeff!P11>DATE(2014,12,31))),IF(MAX($E$2:E10)=0,1,MAX($E$2:E11)+1),""),"") | F12: =IF(Coeff!C11<>"",Coeff!C11,"") -> CC MARTINE
A13: =IF(B13<>"",IF(OR(AND(DATE(2014,1,1)>Coeff!E12,Coeff!E12>DATE(2012,12,31)),AND(DATE(2014,1,1)>Coeff!F12,Coeff!F12>DATE(2012,12,31)),AND(DATE(2014,1,1)>Coeff!G12,Coeff!G12>DATE(2012,12,31)),AND(DATE(2014,1,1)>Coeff!H12,Coeff!H12>DATE(2012,12,31)),AND(DATE(2014,1,1)>Coeff!I12,Coeff!I12>DATE(2012,12,31)),AND(DATE(2014,1,1)>Coeff!J12,Coeff!J12>DATE(2012,12,31)),AND(DATE(2014,1,1)>Coeff!K12,Coeff!K12>DATE(2012,12,31)),AND(DATE(2014,1,1)>Coeff!L12,Coeff!L12>DATE(2012,12,31)),AND(DATE(2014,1,1)>Coeff!M12,Coeff!M12>DATE(2012,12,31)),AND(DATE(2014,1,1)>Coeff!N12,Coeff!N12>DATE(2012,12,31)),AND(DATE(2014,1,1)>Coeff!O12,Coeff!O12>DATE(2012,12,31)),AND(DATE(2014,1,1)>Coeff!P12,Coeff!P12>DATE(2012,12,31))),IF(ROW(B13)=2,1,MAX($A$2:A12)+1),""),"") | B13: =IF(Coeff!C12<>"",Coeff!C12,"") -> DD DOMINIQUE | C13: =IF(B13<>"",IF(OR(AND(DATE(2015,1,1)>Coeff!E12,Coeff!E12>DATE(2013,12,31)),AND(DATE(2015,1,1)>Coeff!F12,Coeff!F12>DATE(2013,12,31)),AND(DATE(2015,1,1)>Coeff!G12,Coeff!G12>DATE(2013,12,31)),AND(DATE(2015,1,1)>Coeff!H12,Coeff!H12>DATE(2013,12,31)),AND(DATE(2015,1,1)>Coeff!I12,Coeff!I12>DATE(2013,12,31)),AND(DATE(2015,1,1)>Coeff!J12,Coeff!J12>DATE(2013,12,31)),AND(DATE(2015,1,1)>Coeff!K12,Coeff!K12>DATE(2013,12,31)),AND(DATE(2015,1,1)>Coeff!L12,Coeff!L12>DATE(2013,12,31)),AND(DATE(2015,1,1)>Coeff!M12,Coeff!M12>DATE(2013,12,31)),AND(DATE(2015,1,1)>Coeff!N12,Coeff!N12>DATE(2013,12,31)),AND(DATE(2015,1,1)>Coeff!O12,Coeff!O12>DATE(2013,12,31)),AND(DATE(2015,1,1)>Coeff!P12,Coeff!P12>DATE(2013,12,31))),IF(MAX($C$2:C11)=0,1,MAX($C$2:C12)+1),""),"") | D13: =IF(Coeff!C12<>"",Coeff!C12,"") -> DD DOMINIQUE | E13: =IF(B13<>"",IF(OR(AND(DATE(2016,1,1)>Coeff!E12,Coeff!E12>DATE(2014,12,31)),AND(DATE(2016,1,1)>Coeff!F12,Coeff!F12>DATE(2014,12,31)),AND(DATE(2016,1,1)>Coeff!G12,Coeff!G12>DATE(2014,12,31)),AND(DATE(2016,1,1)>Coeff!H12,Coeff!H12>DATE(2014,12,31)),AND(DATE(2016,1,1)>Coeff!I12,Coeff!I12>DATE(2014,12,31)),AND(DATE(2016,1,1)>Coeff!J12,Coeff!J12>DATE(2014,12,31)),AND(DATE(2016,1,1)>Coeff!K12,Coeff!K12>DATE(2014,12,31)),AND(DATE(2016,1,1)>Coeff!L12,Coeff!L12>DATE(2014,12,31)),AND(DATE(2016,1,1)>Coeff!M12,Coeff!M12>DATE(2014,12,31)),AND(DATE(2016,1,1)>Coeff!N12,Coeff!N12>DATE(2014,12,31)),AND(DATE(2016,1,1)>Coeff!O12,Coeff!O12>DATE(2014,12,31)),AND(DATE(2016,1,1)>Coeff!P12,Coeff!P12>DATE(2014,12,31))),IF(MAX($E$2:E11)=0,1,MAX($E$2:E12)+1),""),"") | F13: =IF(Coeff!C12<>"",Coeff!C12,"") -> DD DOMINIQUE
A14: =IF(B14<>"",IF(OR(AND(DATE(2014,1,1)>Coeff!E13,Coeff!E13>DATE(2012,12,31)),AND(DATE(2014,1,1)>Coeff!F13,Coeff!F13>DATE(2012,12,31)),AND(DATE(2014,1,1)>Coeff!G13,Coeff!G13>DATE(2012,12,31)),AND(DATE(2014,1,1)>Coeff!H13,Coeff!H13>DATE(2012,12,31)),AND(DATE(2014,1,1)>Coeff!I13,Coeff!I13>DATE(2012,12,31)),AND(DATE(2014,1,1)>Coeff!J13,Coeff!J13>DATE(2012,12,31)),AND(DATE(2014,1,1)>Coeff!K13,Coeff!K13>DATE(2012,12,31)),AND(DATE(2014,1,1)>Coeff!L13,Coeff!L13>DATE(2012,12,31)),AND(DATE(2014,1,1)>Coeff!M13,Coeff!M13>DATE(2012,12,31)),AND(DATE(2014,1,1)>Coeff!N13,Coeff!N13>DATE(2012,12,31)),AND(DATE(2014,1,1)>Coeff!O13,Coeff!O13>DATE(2012,12,31)),AND(DATE(2014,1,1)>Coeff!P13,Coeff!P13>DATE(2012,12,31))),IF(ROW(B14)=2,1,MAX($A$2:A13)+1),""),"") | B14: =IF(Coeff!C13<>"",Coeff!C13,"") -> EE OLIVIER | C14: =IF(B14<>"",IF(OR(AND(DATE(2015,1,1)>Coeff!E13,Coeff!E13>DATE(2013,12,31)),AND(DATE(2015,1,1)>Coeff!F13,Coeff!F13>DATE(2013,12,31)),AND(DATE(2015,1,1)>Coeff!G13,Coeff!G13>DATE(2013,12,31)),AND(DATE(2015,1,1)>Coeff!H13,Coeff!H13>DATE(2013,12,31)),AND(DATE(2015,1,1)>Coeff!I13,Coeff!I13>DATE(2013,12,31)),AND(DATE(2015,1,1)>Coeff!J13,Coeff!J13>DATE(2013,12,31)),AND(DATE(2015,1,1)>Coeff!K13,Coeff!K13>DATE(2013,12,31)),AND(DATE(2015,1,1)>Coeff!L13,Coeff!L13>DATE(2013,12,31)),AND(DATE(2015,1,1)>Coeff!M13,Coeff!M13>DATE(2013,12,31)),AND(DATE(2015,1,1)>Coeff!N13,Coeff!N13>DATE(2013,12,31)),AND(DATE(2015,1,1)>Coeff!O13,Coeff!O13>DATE(2013,12,31)),AND(DATE(2015,1,1)>Coeff!P13,Coeff!P13>DATE(2013,12,31))),IF(MAX($C$2:C12)=0,1,MAX($C$2:C13)+1),""),"") | D14: =IF(Coeff!C13<>"",Coeff!C13,"") -> EE OLIVIER | E14: =IF(B14<>"",IF(OR(AND(DATE(2016,1,1)>Coeff!E13,Coeff!E13>DATE(2014,12,31)),AND(DATE(2016,1,1)>Coeff!F13,Coeff!F13>DATE(2014,12,31)),AND(DATE(2016,1,1)>Coeff!G13,Coeff!G13>DATE(2014,12,31)),AND(DATE(2016,1,1)>Coeff!H13,Coeff!H13>DATE(2014,12,31)),AND(DATE(2016,1,1)>Coeff!I13,Coeff!I13>DATE(2014,12,31)),AND(DATE(2016,1,1)>Coeff!J13,Coeff!J13>DATE(2014,12,31)),AND(DATE(2016,1,1)>Coeff!K13,Coeff!K13>DATE(2014,12,31)),AND(DATE(2016,1,1)>Coeff!L13,Coeff!L13>DATE(2014,12,31)),AND(DATE(2016,1,1)>Coeff!M13,Coeff!M13>DATE(2014,12,31)),AND(DATE(2016,1,1)>Coeff!N13,Coeff!N13>DATE(2014,12,31)),AND(DATE(2016,1,1)>Coeff!O13,Coeff!O13>DATE(2014,12,31)),AND(DATE(2016,1,1)>Coeff!P13,Coeff!P13>DATE(2014,12,31))),IF(MAX($E$2:E12)=0,1,MAX($E$2:E13)+1),""),"") -> 2 | F14: =IF(Coeff!C13<>"",Coeff!C13,"") -> EE OLIVIER
A15: =IF(B15<>"",IF(OR(AND(DATE(2014,1,1)>Coeff!E14,Coeff!E14>DATE(2012,12,31)),AND(DATE(2014,1,1)>Coeff!F14,Coeff!F14>DATE(2012,12,31)),AND(DATE(2014,1,1)>Coeff!G14,Coeff!G14>DATE(2012,12,31)),AND(DATE(2014,1,1)>Coeff!H14,Coeff!H14>DATE(2012,12,31)),AND(DATE(2014,1,1)>Coeff!I14,Coeff!I14>DATE(2012,12,31)),AND(DATE(2014,1,1)>Coeff!J14,Coeff!J14>DATE(2012,12,31)),AND(DATE(2014,1,1)>Coeff!K14,Coeff!K14>DATE(2012,12,31)),AND(DATE(2014,1,1)>Coeff!L14,Coeff!L14>DATE(2012,12,31)),AND(DATE(2014,1,1)>Coeff!M14,Coeff!M14>DATE(2012,12,31)),AND(DATE(2014,1,1)>Coeff!N14,Coeff!N14>DATE(2012,12,31)),AND(DATE(2014,1,1)>Coeff!O14,Coeff!O14>DATE(2012,12,31)),AND(DATE(2014,1,1)>Coeff!P14,Coeff!P14>DATE(2012,12,31))),IF(ROW(B15)=2,1,MAX($A$2:A14)+1),""),"") -> 2 | B15: =IF(Coeff!C14<>"",Coeff!C14,"") -> FF GUILLAUME | C15: =IF(B15<>"",IF(OR(AND(DATE(2015,1,1)>Coeff!E14,Coeff!E14>DATE(2013,12,31)),AND(DATE(2015,1,1)>Coeff!F14,Coeff!F14>DATE(2013,12,31)),AND(DATE(2015,1,1)>Coeff!G14,Coeff!G14>DATE(2013,12,31)),AND(DATE(2015,1,1)>Coeff!H14,Coeff!H14>DATE(2013,12,31)),AND(DATE(2015,1,1)>Coeff!I14,Coeff!I14>DATE(2013,12,31)),AND(DATE(2015,1,1)>Coeff!J14,Coeff!J14>DATE(2013,12,31)),AND(DATE(2015,1,1)>Coeff!K14,Coeff!K14>DATE(2013,12,31)),AND(DATE(2015,1,1)>Coeff!L14,Coeff!L14>DATE(2013,12,31)),AND(DATE(2015,1,1)>Coeff!M14,Coeff!M14>DATE(2013,12,31)),AND(DATE(2015,1,1)>Coeff!N14,Coeff!N14>DATE(2013,12,31)),AND(DATE(2015,1,1)>Coeff!O14,Coeff!O14>DATE(2013,12,31)),AND(DATE(2015,1,1)>Coeff!P14,Coeff!P14>DATE(2013,12,31))),IF(MAX($C$2:C13)=0,1,MAX($C$2:C14)+1),""),"") | D15: =IF(Coeff!C14<>"",Coeff!C14,"") -> FF GUILLAUME | E15: =IF(B15<>"",IF(OR(AND(DATE(2016,1,1)>Coeff!E14,Coeff!E14>DATE(2014,12,31)),AND(DATE(2016,1,1)>Coeff!F14,Coeff!F14>DATE(2014,12,31)),AND(DATE(2016,1,1)>Coeff!G14,Coeff!G14>DATE(2014,12,31)),AND(DATE(2016,1,1)>Coeff!H14,Coeff!H14>DATE(2014,12,31)),AND(DATE(2016,1,1)>Coeff!I14,Coeff!I14>DATE(2014,12,31)),AND(DATE(2016,1,1)>Coeff!J14,Coeff!J14>DATE(2014,12,31)),AND(DATE(2016,1,1)>Coeff!K14,Coeff!K14>DATE(2014,12,31)),AND(DATE(2016,1,1)>Coeff!L14,Coeff!L14>DATE(2014,12,31)),AND(DATE(2016,1,1)>Coeff!M14,Coeff!M14>DATE(2014,12,31)),AND(DATE(2016,1,1)>Coeff!N14,Coeff!N14>DATE(2014,12,31)),AND(DATE(2016,1,1)>Coeff!O14,Coeff!O14>DATE(2014,12,31)),AND(DATE(2016,1,1)>Coeff!P14,Coeff!P14>DATE(2014,12,31))),IF(MAX($E$2:E13)=0,1,MAX($E$2:E14)+1),""),"") | F15: =IF(Coeff!C14<>"",Coeff!C14,"") -> FF GUILLAUME
A16: =IF(B16<>"",IF(OR(AND(DATE(2014,1,1)>Coeff!E15,Coeff!E15>DATE(2012,12,31)),AND(DATE(2014,1,1)>Coeff!F15,Coeff!F15>DATE(2012,12,31)),AND(DATE(2014,1,1)>Coeff!G15,Coeff!G15>DATE(2012,12,31)),AND(DATE(2014,1,1)>Coeff!H15,Coeff!H15>DATE(2012,12,31)),AND(DATE(2014,1,1)>Coeff!I15,Coeff!I15>DATE(2012,12,31)),AND(DATE(2014,1,1)>Coeff!J15,Coeff!J15>DATE(2012,12,31)),AND(DATE(2014,1,1)>Coeff!K15,Coeff!K15>DATE(2012,12,31)),AND(DATE(2014,1,1)>Coeff!L15,Coeff!L15>DATE(2012,12,31)),AND(DATE(2014,1,1)>Coeff!M15,Coeff!M15>DATE(2012,12,31)),AND(DATE(2014,1,1)>Coeff!N15,Coeff!N15>DATE(2012,12,31)),AND(DATE(2014,1,1)>Coeff!O15,Coeff!O15>DATE(2012,12,31)),AND(DATE(2014,1,1)>Coeff!P15,Coeff!P15>DATE(2012,12,31))),IF(ROW(B16)=2,1,MAX($A$2:A15)+1),""),"") | B16: =IF(Coeff!C15<>"",Coeff!C15,"") -> GG RAFAEL | C16: =IF(B16<>"",IF(OR(AND(DATE(2015,1,1)>Coeff!E15,Coeff!E15>DATE(2013,12,31)),AND(DATE(2015,1,1)>Coeff!F15,Coeff!F15>DATE(2013,12,31)),AND(DATE(2015,1,1)>Coeff!G15,Coeff!G15>DATE(2013,12,31)),AND(DATE(2015,1,1)>Coeff!H15,Coeff!H15>DATE(2013,12,31)),AND(DATE(2015,1,1)>Coeff!I15,Coeff!I15>DATE(2013,12,31)),AND(DATE(2015,1,1)>Coeff!J15,Coeff!J15>DATE(2013,12,31)),AND(DATE(2015,1,1)>Coeff!K15,Coeff!K15>DATE(2013,12,31)),AND(DATE(2015,1,1)>Coeff!L15,Coeff!L15>DATE(2013,12,31)),AND(DATE(2015,1,1)>Coeff!M15,Coeff!M15>DATE(2013,12,31)),AND(DATE(2015,1,1)>Coeff!N15,Coeff!N15>DATE(2013,12,31)),AND(DATE(2015,1,1)>Coeff!O15,Coeff!O15>DATE(2013,12,31)),AND(DATE(2015,1,1)>Coeff!P15,Coeff!P15>DATE(2013,12,31))),IF(MAX($C$2:C14)=0,1,MAX($C$2:C15)+1),""),"") | D16: =IF(Coeff!C15<>"",Coeff!C15,"") -> GG RAFAEL | E16: =IF(B16<>"",IF(OR(AND(DATE(2016,1,1)>Coeff!E15,Coeff!E15>DATE(2014,12,31)),AND(DATE(2016,1,1)>Coeff!F15,Coeff!F15>DATE(2014,12,31)),AND(DATE(2016,1,1)>Coeff!G15,Coeff!G15>DATE(2014,12,31)),AND(DATE(2016,1,1)>Coeff!H15,Coeff!H15>DATE(2014,12,31)),AND(DATE(2016,1,1)>Coeff!I15,Coeff!I15>DATE(2014,12,31)),AND(DATE(2016,1,1)>Coeff!J15,Coeff!J15>DATE(2014,12,31)),AND(DATE(2016,1,1)>Coeff!K15,Coeff!K15>DATE(2014,12,31)),AND(DATE(2016,1,1)>Coeff!L15,Coeff!L15>DATE(2014,12,31)),AND(DATE(2016,1,1)>Coeff!M15,Coeff!M15>DATE(2014,12,31)),AND(DATE(2016,1,1)>Coeff!N15,Coeff!N15>DATE(2014,12,31)),AND(DATE(2016,1,1)>Coeff!O15,Coeff!O15>DATE(2014,12,31)),AND(DATE(2016,1,1)>Coeff!P15,Coeff!P15>DATE(2014,12,31))),IF(MAX($E$2:E14)=0,1,MAX($E$2:E15)+1),""),"") | F16: =IF(Coeff!C15<>"",Coeff!C15,"") -> GG RAFAEL
... A127: =IF(B127<>"",IF(OR(AND(DATE(2014,1,1)>Coeff!E126,Coeff!E126>DATE(2012,12,31)),AND(DATE(2014,1,1)>Coeff!F126,Coeff!F126>DATE(2012,12,31)),AND(DATE(2014,1,1)>Coeff!G126,Coeff!G126>DATE(2012,12,31)),AND(DATE(2014,1,1)>Coeff!H126,Coeff!H126>DATE(2012,12,31)),AND(DATE(2014,1,1)>Coeff!I126,Coeff!I126>DATE(2012,12,31)),AND(DATE(2014,1,1)>Coeff!J126,Coeff!J126>DATE(2012,12,31)),AND(DATE(2014,1,1)>Coeff!K126,Coeff!K126>DATE(2012,12,31)),AND(DATE(2014,1,1)>Coeff!L126,Coeff!L126>DATE(2012,12,31)),AND(DATE(2014,1,1)>Coeff!M126,Coeff!M126>DATE(2012,12,31)),AND(DATE(2014,1,1)>Coeff!N126,Coeff!N126>DATE(2012,12,31)),AND(DATE(2014,1,1)>Coeff!O126,Coeff!O126>DATE(2012,12,31)),AND(DATE(2014,1,1)>Coeff!P126,Coeff!P126>DATE(2012,12,31))),IF(ROW(B127)=2,1,MAX($A$2:A126)+1),""),"") | B127: =IF(Coeff!C126<>"",Coeff!C126,"") | C127: =IF(B127<>"",IF(OR(AND(DATE(2015,1,1)>Coeff!E126,Coeff!E126>DATE(2013,12,31)),AND(DATE(2015,1,1)>Coeff!F126,Coeff!F126>DATE(2013,12,31)),AND(DATE(2015,1,1)>Coeff!G126,Coeff!G126>DATE(2013,12,31)),AND(DATE(2015,1,1)>Coeff!H126,Coeff!H126>DATE(2013,12,31)),AND(DATE(2015,1,1)>Coeff!I126,Coeff!I126>DATE(2013,12,31)),AND(DATE(2015,1,1)>Coeff!J126,Coeff!J126>DATE(2013,12,31)),AND(DATE(2015,1,1)>Coeff!K126,Coeff!K126>DATE(2013,12,31)),AND(DATE(2015,1,1)>Coeff!L126,Coeff!L126>DATE(2013,12,31)),AND(DATE(2015,1,1)>Coeff!M126,Coeff!M126>DATE(2013,12,31)),AND(DATE(2015,1,1)>Coeff!N126,Coeff!N126>DATE(2013,12,31)),AND(DATE(2015,1,1)>Coeff!O126,Coeff!O126>DATE(2013,12,31)),AND(DATE(2015,1,1)>Coeff!P126,Coeff!P126>DATE(2013,12,31))),IF(MAX($C$2:C125)=0,1,MAX($C$2:C126)+1),""),"") | D127: =IF(Coeff!C126<>"",Coeff!C126,"") | E127: =IF(B127<>"",IF(OR(AND(DATE(2016,1,1)>Coeff!E126,Coeff!E126>DATE(2014,12,31)),AND(DATE(2016,1,1)>Coeff!F126,Coeff!F126>DATE(2014,12,31)),AND(DATE(2016,1,1)>Coeff!G126,Coeff!G126>DATE(2014,12,31)),AND(DATE(2016,1,1)>Coeff!H126,Coeff!H126>DATE(2014,12,31)),AND(DATE(2016,1,1)>Coeff!I126,Coeff!I126>DATE(2014,12,31)),AND(DATE(2016,1,1)>Coeff!J126,Coeff!J126>DATE(2014,12,31)),AND(DATE(2016,1,1)>Coeff!K126,Coeff!K126>DATE(2014,12,31)),AND(DATE(2016,1,1)>Coeff!L126,Coeff!L126>DATE(2014,12,31)),AND(DATE(2016,1,1)>Coeff!M126,Coeff!M126>DATE(2014,12,31)),AND(DATE(2016,1,1)>Coeff!N126,Coeff!N126>DATE(2014,12,31)),AND(DATE(2016,1,1)>Coeff!O126,Coeff!O126>DATE(2014,12,31)),AND(DATE(2016,1,1)>Coeff!P126,Coeff!P126>DATE(2014,12,31))),IF(MAX($E$2:E125)=0,1,MAX($E$2:E126)+1),""),"") | F127: =IF(Coeff!C126<>"",Coeff!C126,"")
A128: =IF(B128<>"",IF(OR(AND(DATE(2014,1,1)>Coeff!F127,Coeff!F127>DATE(2012,12,31)),AND(DATE(2014,1,1)>Coeff!G127,Coeff!G127>DATE(2012,12,31)),AND(DATE(2014,1,1)>Coeff!H127,Coeff!H127>DATE(2012,12,31)),AND(DATE(2014,1,1)>Coeff!I127,Coeff!I127>DATE(2012,12,31)),AND(DATE(2014,1,1)>Coeff!J127,Coeff!J127>DATE(2012,12,31)),AND(DATE(2014,1,1)>Coeff!K127,Coeff!K127>DATE(2012,12,31)),AND(DATE(2014,1,1)>Coeff!L127,Coeff!L127>DATE(2012,12,31)),AND(DATE(2014,1,1)>Coeff!M127,Coeff!M127>DATE(2012,12,31)),AND(DATE(2014,1,1)>Coeff!N127,Coeff!N127>DATE(2012,12,31)),AND(DATE(2014,1,1)>Coeff!O127,Coeff!O127>DATE(2012,12,31)),AND(DATE(2014,1,1)>Coeff!P127,Coeff!P127>DATE(2012,12,31)),AND(DATE(2014,1,1)>Coeff!#REF!,Coeff!#REF!>DATE(2012,12,31))),IF(ROW(B128)=2,1,MAX($A$2:A127)+1),""),"") | B128: =IF(Coeff!C127<>"",Coeff!C127,"") | C128: =IF(B128<>"",IF(OR(AND(DATE(2015,1,1)>Coeff!F127,Coeff!F127>DATE(2013,12,31)),AND(DATE(2015,1,1)>Coeff!G127,Coeff!G127>DATE(2013,12,31)),AND(DATE(2015,1,1)>Coeff!H127,Coeff!H127>DATE(2013,12,31)),AND(DATE(2015,1,1)>Coeff!I127,Coeff!I127>DATE(2013,12,31)),AND(DATE(2015,1,1)>Coeff!J127,Coeff!J127>DATE(2013,12,31)),AND(DATE(2015,1,1)>Coeff!K127,Coeff!K127>DATE(2013,12,31)),AND(DATE(2015,1,1)>Coeff!L127,Coeff!L127>DATE(2013,12,31)),AND(DATE(2015,1,1)>Coeff!M127,Coeff!M127>DATE(2013,12,31)),AND(DATE(2015,1,1)>Coeff!N127,Coeff!N127>DATE(2013,12,31)),AND(DATE(2015,1,1)>Coeff!O127,Coeff!O127>DATE(2013,12,31)),AND(DATE(2015,1,1)>Coeff!P127,Coeff!P127>DATE(2013,12,31)),AND(DATE(2015,1,1)>Coeff!#REF!,Coeff!#REF!>DATE(2013,12,31))),IF(MAX($C$2:C126)=0,1,MAX($C$2:C127)+1),""),"") | D128: =IF(Coeff!C127<>"",Coeff!C127,"") | E128: =IF(B128<>"",IF(OR(AND(DATE(2016,1,1)>Coeff!F127,Coeff!F127>DATE(2014,12,31)),AND(DATE(2016,1,1)>Coeff!G127,Coeff!G127>DATE(2014,12,31)),AND(DATE(2016,1,1)>Coeff!H127,Coeff!H127>DATE(2014,12,31)),AND(DATE(2016,1,1)>Coeff!I127,Coeff!I127>DATE(2014,12,31)),AND(DATE(2016,1,1)>Coeff!J127,Coeff!J127>DATE(2014,12,31)),AND(DATE(2016,1,1)>Coeff!K127,Coeff!K127>DATE(2014,12,31)),AND(DATE(2016,1,1)>Coeff!L127,Coeff!L127>DATE(2014,12,31)),AND(DATE(2016,1,1)>Coeff!M127,Coeff!M127>DATE(2014,12,31)),AND(DATE(2016,1,1)>Coeff!N127,Coeff!N127>DATE(2014,12,31)),AND(DATE(2016,1,1)>Coeff!O127,Coeff!O127>DATE(2014,12,31)),AND(DATE(2016,1,1)>Coeff!P127,Coeff!P127>DATE(2014,12,31)),AND(DATE(2016,1,1)>Coeff!#REF!,Coeff!#REF!>DATE(2014,12,31))),IF(MAX($E$2:E126)=0,1,MAX($E$2:E127)+1),""),"") | F128: =IF(Coeff!C127<>"",Coeff!C127,"")
A129: =IF(B129<>"",IF(OR(AND(DATE(2014,1,1)>Coeff!E128,Coeff!E128>DATE(2012,12,31)),AND(DATE(2014,1,1)>Coeff!F128,Coeff!F128>DATE(2012,12,31)),AND(DATE(2014,1,1)>Coeff!G128,Coeff!G128>DATE(2012,12,31)),AND(DATE(2014,1,1)>Coeff!H128,Coeff!H128>DATE(2012,12,31)),AND(DATE(2014,1,1)>Coeff!I128,Coeff!I128>DATE(2012,12,31)),AND(DATE(2014,1,1)>Coeff!J128,Coeff!J128>DATE(2012,12,31)),AND(DATE(2014,1,1)>Coeff!K128,Coeff!K128>DATE(2012,12,31)),AND(DATE(2014,1,1)>Coeff!L128,Coeff!L128>DATE(2012,12,31)),AND(DATE(2014,1,1)>Coeff!M128,Coeff!M128>DATE(2012,12,31)),AND(DATE(2014,1,1)>Coeff!N128,Coeff!N128>DATE(2012,12,31)),AND(DATE(2014,1,1)>Coeff!O128,Coeff!O128>DATE(2012,12,31)),AND(DATE(2014,1,1)>Coeff!P128,Coeff!P128>DATE(2012,12,31))),IF(ROW(B129)=2,1,MAX($A$2:A128)+1),""),"") | B129: =IF(Coeff!C128<>"",Coeff!C128,"") | C129: =IF(B129<>"",IF(OR(AND(DATE(2015,1,1)>Coeff!E128,Coeff!E128>DATE(2013,12,31)),AND(DATE(2015,1,1)>Coeff!F128,Coeff!F128>DATE(2013,12,31)),AND(DATE(2015,1,1)>Coeff!G128,Coeff!G128>DATE(2013,12,31)),AND(DATE(2015,1,1)>Coeff!H128,Coeff!H128>DATE(2013,12,31)),AND(DATE(2015,1,1)>Coeff!I128,Coeff!I128>DATE(2013,12,31)),AND(DATE(2015,1,1)>Coeff!J128,Coeff!J128>DATE(2013,12,31)),AND(DATE(2015,1,1)>Coeff!K128,Coeff!K128>DATE(2013,12,31)),AND(DATE(2015,1,1)>Coeff!L128,Coeff!L128>DATE(2013,12,31)),AND(DATE(2015,1,1)>Coeff!M128,Coeff!M128>DATE(2013,12,31)),AND(DATE(2015,1,1)>Coeff!N128,Coeff!N128>DATE(2013,12,31)),AND(DATE(2015,1,1)>Coeff!O128,Coeff!O128>DATE(2013,12,31)),AND(DATE(2015,1,1)>Coeff!P128,Coeff!P128>DATE(2013,12,31))),IF(MAX($C$2:C127)=0,1,MAX($C$2:C128)+1),""),"") | D129: =IF(Coeff!C128<>"",Coeff!C128,"") | E129: =IF(B129<>"",IF(OR(AND(DATE(2016,1,1)>Coeff!E128,Coeff!E128>DATE(2014,12,31)),AND(DATE(2016,1,1)>Coeff!F128,Coeff!F128>DATE(2014,12,31)),AND(DATE(2016,1,1)>Coeff!G128,Coeff!G128>DATE(2014,12,31)),AND(DATE(2016,1,1)>Coeff!H128,Coeff!H128>DATE(2014,12,31)),AND(DATE(2016,1,1)>Coeff!I128,Coeff!I128>DATE(2014,12,31)),AND(DATE(2016,1,1)>Coeff!J128,Coeff!J128>DATE(2014,12,31)),AND(DATE(2016,1,1)>Coeff!K128,Coeff!K128>DATE(2014,12,31)),AND(DATE(2016,1,1)>Coeff!L128,Coeff!L128>DATE(2014,12,31)),AND(DATE(2016,1,1)>Coeff!M128,Coeff!M128>DATE(2014,12,31)),AND(DATE(2016,1,1)>Coeff!N128,Coeff!N128>DATE(2014,12,31)),AND(DATE(2016,1,1)>Coeff!O128,Coeff!O128>DATE(2014,12,31)),AND(DATE(2016,1,1)>Coeff!P128,Coeff!P128>DATE(2014,12,31))),IF(MAX($E$2:E127)=0,1,MAX($E$2:E128)+1),""),"") | F129: =IF(Coeff!C128<>"",Coeff!C128,"")
A130: =IF(B130<>"",IF(OR(AND(DATE(2014,1,1)>Coeff!E129,Coeff!E129>DATE(2012,12,31)),AND(DATE(2014,1,1)>Coeff!F129,Coeff!F129>DATE(2012,12,31)),AND(DATE(2014,1,1)>Coeff!G129,Coeff!G129>DATE(2012,12,31)),AND(DATE(2014,1,1)>Coeff!H129,Coeff!H129>DATE(2012,12,31)),AND(DATE(2014,1,1)>Coeff!I129,Coeff!I129>DATE(2012,12,31)),AND(DATE(2014,1,1)>Coeff!J129,Coeff!J129>DATE(2012,12,31)),AND(DATE(2014,1,1)>Coeff!K129,Coeff!K129>DATE(2012,12,31)),AND(DATE(2014,1,1)>Coeff!L129,Coeff!L129>DATE(2012,12,31)),AND(DATE(2014,1,1)>Coeff!M129,Coeff!M129>DATE(2012,12,31)),AND(DATE(2014,1,1)>Coeff!N129,Coeff!N129>DATE(2012,12,31)),AND(DATE(2014,1,1)>Coeff!O129,Coeff!O129>DATE(2012,12,31)),AND(DATE(2014,1,1)>Coeff!P129,Coeff!P129>DATE(2012,12,31))),IF(ROW(B130)=2,1,MAX($A$2:A129)+1),""),"") | B130: =IF(Coeff!C129<>"",Coeff!C129,"") | C130: =IF(B130<>"",IF(OR(AND(DATE(2015,1,1)>Coeff!E129,Coeff!E129>DATE(2013,12,31)),AND(DATE(2015,1,1)>Coeff!F129,Coeff!F129>DATE(2013,12,31)),AND(DATE(2015,1,1)>Coeff!G129,Coeff!G129>DATE(2013,12,31)),AND(DATE(2015,1,1)>Coeff!H129,Coeff!H129>DATE(2013,12,31)),AND(DATE(2015,1,1)>Coeff!I129,Coeff!I129>DATE(2013,12,31)),AND(DATE(2015,1,1)>Coeff!J129,Coeff!J129>DATE(2013,12,31)),AND(DATE(2015,1,1)>Coeff!K129,Coeff!K129>DATE(2013,12,31)),AND(DATE(2015,1,1)>Coeff!L129,Coeff!L129>DATE(2013,12,31)),AND(DATE(2015,1,1)>Coeff!M129,Coeff!M129>DATE(2013,12,31)),AND(DATE(2015,1,1)>Coeff!N129,Coeff!N129>DATE(2013,12,31)),AND(DATE(2015,1,1)>Coeff!O129,Coeff!O129>DATE(2013,12,31)),AND(DATE(2015,1,1)>Coeff!P129,Coeff!P129>DATE(2013,12,31))),IF(MAX($C$2:C128)=0,1,MAX($C$2:C129)+1),""),"") | D130: =IF(Coeff!C129<>"",Coeff!C129,"") | E130: =IF(B130<>"",IF(OR(AND(DATE(2016,1,1)>Coeff!E129,Coeff!E129>DATE(2014,12,31)),AND(DATE(2016,1,1)>Coeff!F129,Coeff!F129>DATE(2014,12,31)),AND(DATE(2016,1,1)>Coeff!G129,Coeff!G129>DATE(2014,12,31)),AND(DATE(2016,1,1)>Coeff!H129,Coeff!H129>DATE(2014,12,31)),AND(DATE(2016,1,1)>Coeff!I129,Coeff!I129>DATE(2014,12,31)),AND(DATE(2016,1,1)>Coeff!J129,Coeff!J129>DATE(2014,12,31)),AND(DATE(2016,1,1)>Coeff!K129,Coeff!K129>DATE(2014,12,31)),AND(DATE(2016,1,1)>Coeff!L129,Coeff!L129>DATE(2014,12,31)),AND(DATE(2016,1,1)>Coeff!M129,Coeff!M129>DATE(2014,12,31)),AND(DATE(2016,1,1)>Coeff!N129,Coeff!N129>DATE(2014,12,31)),AND(DATE(2016,1,1)>Coeff!O129,Coeff!O129>DATE(2014,12,31)),AND(DATE(2016,1,1)>Coeff!P129,Coeff!P129>DATE(2014,12,31))),IF(MAX($E$2:E128)=0,1,MAX($E$2:E129)+1),""),"") | F130: =IF(Coeff!C129<>"",Coeff!C129,"")
A131: =IF(B131<>"",IF(OR(AND(DATE(2014,1,1)>Coeff!E130,Coeff!E130>DATE(2012,12,31)),AND(DATE(2014,1,1)>Coeff!F130,Coeff!F130>DATE(2012,12,31)),AND(DATE(2014,1,1)>Coeff!G130,Coeff!G130>DATE(2012,12,31)),AND(DATE(2014,1,1)>Coeff!H130,Coeff!H130>DATE(2012,12,31)),AND(DATE(2014,1,1)>Coeff!I130,Coeff!I130>DATE(2012,12,31)),AND(DATE(2014,1,1)>Coeff!J130,Coeff!J130>DATE(2012,12,31)),AND(DATE(2014,1,1)>Coeff!K130,Coeff!K130>DATE(2012,12,31)),AND(DATE(2014,1,1)>Coeff!L130,Coeff!L130>DATE(2012,12,31)),AND(DATE(2014,1,1)>Coeff!M130,Coeff!M130>DATE(2012,12,31)),AND(DATE(2014,1,1)>Coeff!N130,Coeff!N130>DATE(2012,12,31)),AND(DATE(2014,1,1)>Coeff!O130,Coeff!O130>DATE(2012,12,31)),AND(DATE(2014,1,1)>Coeff!P130,Coeff!P130>DATE(2012,12,31))),IF(ROW(B131)=2,1,MAX($A$2:A130)+1),""),"") | B131: =IF(Coeff!C130<>"",Coeff!C130,"") | C131: =IF(B131<>"",IF(OR(AND(DATE(2015,1,1)>Coeff!E130,Coeff!E130>DATE(2013,12,31)),AND(DATE(2015,1,1)>Coeff!F130,Coeff!F130>DATE(2013,12,31)),AND(DATE(2015,1,1)>Coeff!G130,Coeff!G130>DATE(2013,12,31)),AND(DATE(2015,1,1)>Coeff!H130,Coeff!H130>DATE(2013,12,31)),AND(DATE(2015,1,1)>Coeff!I130,Coeff!I130>DATE(2013,12,31)),AND(DATE(2015,1,1)>Coeff!J130,Coeff!J130>DATE(2013,12,31)),AND(DATE(2015,1,1)>Coeff!K130,Coeff!K130>DATE(2013,12,31)),AND(DATE(2015,1,1)>Coeff!L130,Coeff!L130>DATE(2013,12,31)),AND(DATE(2015,1,1)>Coeff!M130,Coeff!M130>DATE(2013,12,31)),AND(DATE(2015,1,1)>Coeff!N130,Coeff!N130>DATE(2013,12,31)),AND(DATE(2015,1,1)>Coeff!O130,Coeff!O130>DATE(2013,12,31)),AND(DATE(2015,1,1)>Coeff!P130,Coeff!P130>DATE(2013,12,31))),IF(MAX($C$2:C129)=0,1,MAX($C$2:C130)+1),""),"") | D131: =IF(Coeff!C130<>"",Coeff!C130,"") | E131: =IF(B131<>"",IF(OR(AND(DATE(2016,1,1)>Coeff!E130,Coeff!E130>DATE(2014,12,31)),AND(DATE(2016,1,1)>Coeff!F130,Coeff!F130>DATE(2014,12,31)),AND(DATE(2016,1,1)>Coeff!G130,Coeff!G130>DATE(2014,12,31)),AND(DATE(2016,1,1)>Coeff!H130,Coeff!H130>DATE(2014,12,31)),AND(DATE(2016,1,1)>Coeff!I130,Coeff!I130>DATE(2014,12,31)),AND(DATE(2016,1,1)>Coeff!J130,Coeff!J130>DATE(2014,12,31)),AND(DATE(2016,1,1)>Coeff!K130,Coeff!K130>DATE(2014,12,31)),AND(DATE(2016,1,1)>Coeff!L130,Coeff!L130>DATE(2014,12,31)),AND(DATE(2016,1,1)>Coeff!M130,Coeff!M130>DATE(2014,12,31)),AND(DATE(2016,1,1)>Coeff!N130,Coeff!N130>DATE(2014,12,31)),AND(DATE(2016,1,1)>Coeff!O130,Coeff!O130>DATE(2014,12,31)),AND(DATE(2016,1,1)>Coeff!P130,Coeff!P130>DATE(2014,12,31))),IF(MAX($E$2:E129)=0,1,MAX($E$2:E130)+1),""),"") | F131: =IF(Coeff!C130<>"",Coeff!C130,"")
A132: =IF(B132<>"",IF(OR(AND(DATE(2014,1,1)>Coeff!E131,Coeff!E131>DATE(2012,12,31)),AND(DATE(2014,1,1)>Coeff!F131,Coeff!F131>DATE(2012,12,31)),AND(DATE(2014,1,1)>Coeff!G131,Coeff!G131>DATE(2012,12,31)),AND(DATE(2014,1,1)>Coeff!H131,Coeff!H131>DATE(2012,12,31)),AND(DATE(2014,1,1)>Coeff!I131,Coeff!I131>DATE(2012,12,31)),AND(DATE(2014,1,1)>Coeff!J131,Coeff!J131>DATE(2012,12,31)),AND(DATE(2014,1,1)>Coeff!K131,Coeff!K131>DATE(2012,12,31)),AND(DATE(2014,1,1)>Coeff!L131,Coeff!L131>DATE(2012,12,31)),AND(DATE(2014,1,1)>Coeff!M131,Coeff!M131>DATE(2012,12,31)),AND(DATE(2014,1,1)>Coeff!N131,Coeff!N131>DATE(2012,12,31)),AND(DATE(2014,1,1)>Coeff!O131,Coeff!O131>DATE(2012,12,31)),AND(DATE(2014,1,1)>Coeff!P131,Coeff!P131>DATE(2012,12,31))),IF(ROW(B132)=2,1,MAX($A$2:A131)+1),""),"") | B132: =IF(Coeff!C131<>"",Coeff!C131,"") | C132: =IF(B132<>"",IF(OR(AND(DATE(2015,1,1)>Coeff!E131,Coeff!E131>DATE(2013,12,31)),AND(DATE(2015,1,1)>Coeff!F131,Coeff!F131>DATE(2013,12,31)),AND(DATE(2015,1,1)>Coeff!G131,Coeff!G131>DATE(2013,12,31)),AND(DATE(2015,1,1)>Coeff!H131,Coeff!H131>DATE(2013,12,31)),AND(DATE(2015,1,1)>Coeff!I131,Coeff!I131>DATE(2013,12,31)),AND(DATE(2015,1,1)>Coeff!J131,Coeff!J131>DATE(2013,12,31)),AND(DATE(2015,1,1)>Coeff!K131,Coeff!K131>DATE(2013,12,31)),AND(DATE(2015,1,1)>Coeff!L131,Coeff!L131>DATE(2013,12,31)),AND(DATE(2015,1,1)>Coeff!M131,Coeff!M131>DATE(2013,12,31)),AND(DATE(2015,1,1)>Coeff!N131,Coeff!N131>DATE(2013,12,31)),AND(DATE(2015,1,1)>Coeff!O131,Coeff!O131>DATE(2013,12,31)),AND(DATE(2015,1,1)>Coeff!P131,Coeff!P131>DATE(2013,12,31))),IF(MAX($C$2:C130)=0,1,MAX($C$2:C131)+1),""),"") | D132: =IF(Coeff!C131<>"",Coeff!C131,"") | E132: =IF(B132<>"",IF(OR(AND(DATE(2016,1,1)>Coeff!E131,Coeff!E131>DATE(2014,12,31)),AND(DATE(2016,1,1)>Coeff!F131,Coeff!F131>DATE(2014,12,31)),AND(DATE(2016,1,1)>Coeff!G131,Coeff!G131>DATE(2014,12,31)),AND(DATE(2016,1,1)>Coeff!H131,Coeff!H131>DATE(2014,12,31)),AND(DATE(2016,1,1)>Coeff!I131,Coeff!I131>DATE(2014,12,31)),AND(DATE(2016,1,1)>Coeff!J131,Coeff!J131>DATE(2014,12,31)),AND(DATE(2016,1,1)>Coeff!K131,Coeff!K131>DATE(2014,12,31)),AND(DATE(2016,1,1)>Coeff!L131,Coeff!L131>DATE(2014,12,31)),AND(DATE(2016,1,1)>Coeff!M131,Coeff!M131>DATE(2014,12,31)),AND(DATE(2016,1,1)>Coeff!N131,Coeff!N131>DATE(2014,12,31)),AND(DATE(2016,1,1)>Coeff!O131,Coeff!O131>DATE(2014,12,31)),AND(DATE(2016,1,1)>Coeff!P131,Coeff!P131>DATE(2014,12,31))),IF(MAX($E$2:E130)=0,1,MAX($E$2:E131)+1),""),"") | F132: =IF(Coeff!C131<>"",Coeff!C131,"")
A133: =IF(B133<>"",IF(OR(AND(DATE(2014,1,1)>Coeff!E132,Coeff!E132>DATE(2012,12,31)),AND(DATE(2014,1,1)>Coeff!F132,Coeff!F132>DATE(2012,12,31)),AND(DATE(2014,1,1)>Coeff!G132,Coeff!G132>DATE(2012,12,31)),AND(DATE(2014,1,1)>Coeff!H132,Coeff!H132>DATE(2012,12,31)),AND(DATE(2014,1,1)>Coeff!I132,Coeff!I132>DATE(2012,12,31)),AND(DATE(2014,1,1)>Coeff!J132,Coeff!J132>DATE(2012,12,31)),AND(DATE(2014,1,1)>Coeff!K132,Coeff!K132>DATE(2012,12,31)),AND(DATE(2014,1,1)>Coeff!L132,Coeff!L132>DATE(2012,12,31)),AND(DATE(2014,1,1)>Coeff!M132,Coeff!M132>DATE(2012,12,31)),AND(DATE(2014,1,1)>Coeff!N132,Coeff!N132>DATE(2012,12,31)),AND(DATE(2014,1,1)>Coeff!O132,Coeff!O132>DATE(2012,12,31)),AND(DATE(2014,1,1)>Coeff!P132,Coeff!P132>DATE(2012,12,31))),IF(ROW(B133)=2,1,MAX($A$2:A132)+1),""),"") | B133: =IF(Coeff!C132<>"",Coeff!C132,"") | C133: =IF(B133<>"",IF(OR(AND(DATE(2015,1,1)>Coeff!E132,Coeff!E132>DATE(2013,12,31)),AND(DATE(2015,1,1)>Coeff!F132,Coeff!F132>DATE(2013,12,31)),AND(DATE(2015,1,1)>Coeff!G132,Coeff!G132>DATE(2013,12,31)),AND(DATE(2015,1,1)>Coeff!H132,Coeff!H132>DATE(2013,12,31)),AND(DATE(2015,1,1)>Coeff!I132,Coeff!I132>DATE(2013,12,31)),AND(DATE(2015,1,1)>Coeff!J132,Coeff!J132>DATE(2013,12,31)),AND(DATE(2015,1,1)>Coeff!K132,Coeff!K132>DATE(2013,12,31)),AND(DATE(2015,1,1)>Coeff!L132,Coeff!L132>DATE(2013,12,31)),AND(DATE(2015,1,1)>Coeff!M132,Coeff!M132>DATE(2013,12,31)),AND(DATE(2015,1,1)>Coeff!N132,Coeff!N132>DATE(2013,12,31)),AND(DATE(2015,1,1)>Coeff!O132,Coeff!O132>DATE(2013,12,31)),AND(DATE(2015,1,1)>Coeff!P132,Coeff!P132>DATE(2013,12,31))),IF(MAX($C$2:C131)=0,1,MAX($C$2:C132)+1),""),"") | D133: =IF(Coeff!C132<>"",Coeff!C132,"") | E133: =IF(B133<>"",IF(OR(AND(DATE(2016,1,1)>Coeff!E132,Coeff!E132>DATE(2014,12,31)),AND(DATE(2016,1,1)>Coeff!F132,Coeff!F132>DATE(2014,12,31)),AND(DATE(2016,1,1)>Coeff!G132,Coeff!G132>DATE(2014,12,31)),AND(DATE(2016,1,1)>Coeff!H132,Coeff!H132>DATE(2014,12,31)),AND(DATE(2016,1,1)>Coeff!I132,Coeff!I132>DATE(2014,12,31)),AND(DATE(2016,1,1)>Coeff!J132,Coeff!J132>DATE(2014,12,31)),AND(DATE(2016,1,1)>Coeff!K132,Coeff!K132>DATE(2014,12,31)),AND(DATE(2016,1,1)>Coeff!L132,Coeff!L132>DATE(2014,12,31)),AND(DATE(2016,1,1)>Coeff!M132,Coeff!M132>DATE(2014,12,31)),AND(DATE(2016,1,1)>Coeff!N132,Coeff!N132>DATE(2014,12,31)),AND(DATE(2016,1,1)>Coeff!O132,Coeff!O132>DATE(2014,12,31)),AND(DATE(2016,1,1)>Coeff!P132,Coeff!P132>DATE(2014,12,31))),IF(MAX($E$2:E131)=0,1,MAX($E$2:E132)+1),""),"") | F133: =IF(Coeff!C132<>"",Coeff!C132,"")
A134: =IF(B134<>"",IF(OR(AND(DATE(2014,1,1)>Coeff!E133,Coeff!E133>DATE(2012,12,31)),AND(DATE(2014,1,1)>Coeff!F133,Coeff!F133>DATE(2012,12,31)),AND(DATE(2014,1,1)>Coeff!G133,Coeff!G133>DATE(2012,12,31)),AND(DATE(2014,1,1)>Coeff!H133,Coeff!H133>DATE(2012,12,31)),AND(DATE(2014,1,1)>Coeff!I133,Coeff!I133>DATE(2012,12,31)),AND(DATE(2014,1,1)>Coeff!J133,Coeff!J133>DATE(2012,12,31)),AND(DATE(2014,1,1)>Coeff!K133,Coeff!K133>DATE(2012,12,31)),AND(DATE(2014,1,1)>Coeff!L133,Coeff!L133>DATE(2012,12,31)),AND(DATE(2014,1,1)>Coeff!M133,Coeff!M133>DATE(2012,12,31)),AND(DATE(2014,1,1)>Coeff!N133,Coeff!N133>DATE(2012,12,31)),AND(DATE(2014,1,1)>Coeff!O133,Coeff!O133>DATE(2012,12,31)),AND(DATE(2014,1,1)>Coeff!P133,Coeff!P133>DATE(2012,12,31))),IF(ROW(B134)=2,1,MAX($A$2:A133)+1),""),"") | B134: =IF(Coeff!C133<>"",Coeff!C133,"") | C134: =IF(B134<>"",IF(OR(AND(DATE(2015,1,1)>Coeff!E133,Coeff!E133>DATE(2013,12,31)),AND(DATE(2015,1,1)>Coeff!F133,Coeff!F133>DATE(2013,12,31)),AND(DATE(2015,1,1)>Coeff!G133,Coeff!G133>DATE(2013,12,31)),AND(DATE(2015,1,1)>Coeff!H133,Coeff!H133>DATE(2013,12,31)),AND(DATE(2015,1,1)>Coeff!I133,Coeff!I133>DATE(2013,12,31)),AND(DATE(2015,1,1)>Coeff!J133,Coeff!J133>DATE(2013,12,31)),AND(DATE(2015,1,1)>Coeff!K133,Coeff!K133>DATE(2013,12,31)),AND(DATE(2015,1,1)>Coeff!L133,Coeff!L133>DATE(2013,12,31)),AND(DATE(2015,1,1)>Coeff!M133,Coeff!M133>DATE(2013,12,31)),AND(DATE(2015,1,1)>Coeff!N133,Coeff!N133>DATE(2013,12,31)),AND(DATE(2015,1,1)>Coeff!O133,Coeff!O133>DATE(2013,12,31)),AND(DATE(2015,1,1)>Coeff!P133,Coeff!P133>DATE(2013,12,31))),IF(MAX($C$2:C132)=0,1,MAX($C$2:C133)+1),""),"") | D134: =IF(Coeff!C133<>"",Coeff!C133,"") | E134: =IF(B134<>"",IF(OR(AND(DATE(2016,1,1)>Coeff!E133,Coeff!E133>DATE(2014,12,31)),AND(DATE(2016,1,1)>Coeff!F133,Coeff!F133>DATE(2014,12,31)),AND(DATE(2016,1,1)>Coeff!G133,Coeff!G133>DATE(2014,12,31)),AND(DATE(2016,1,1)>Coeff!H133,Coeff!H133>DATE(2014,12,31)),AND(DATE(2016,1,1)>Coeff!I133,Coeff!I133>DATE(2014,12,31)),AND(DATE(2016,1,1)>Coeff!J133,Coeff!J133>DATE(2014,12,31)),AND(DATE(2016,1,1)>Coeff!K133,Coeff!K133>DATE(2014,12,31)),AND(DATE(2016,1,1)>Coeff!L133,Coeff!L133>DATE(2014,12,31)),AND(DATE(2016,1,1)>Coeff!M133,Coeff!M133>DATE(2014,12,31)),AND(DATE(2016,1,1)>Coeff!N133,Coeff!N133>DATE(2014,12,31)),AND(DATE(2016,1,1)>Coeff!O133,Coeff!O133>DATE(2014,12,31)),AND(DATE(2016,1,1)>Coeff!P133,Coeff!P133>DATE(2014,12,31))),IF(MAX($E$2:E132)=0,1,MAX($E$2:E133)+1),""),"") | F134: =IF(Coeff!C133<>"",Coeff!C133,"")
A135: =IF(B135<>"",IF(OR(AND(DATE(2014,1,1)>Coeff!E134,Coeff!E134>DATE(2012,12,31)),AND(DATE(2014,1,1)>Coeff!F134,Coeff!F134>DATE(2012,12,31)),AND(DATE(2014,1,1)>Coeff!G134,Coeff!G134>DATE(2012,12,31)),AND(DATE(2014,1,1)>Coeff!H134,Coeff!H134>DATE(2012,12,31)),AND(DATE(2014,1,1)>Coeff!I134,Coeff!I134>DATE(2012,12,31)),AND(DATE(2014,1,1)>Coeff!J134,Coeff!J134>DATE(2012,12,31)),AND(DATE(2014,1,1)>Coeff!K134,Coeff!K134>DATE(2012,12,31)),AND(DATE(2014,1,1)>Coeff!L134,Coeff!L134>DATE(2012,12,31)),AND(DATE(2014,1,1)>Coeff!M134,Coeff!M134>DATE(2012,12,31)),AND(DATE(2014,1,1)>Coeff!N134,Coeff!N134>DATE(2012,12,31)),AND(DATE(2014,1,1)>Coeff!O134,Coeff!O134>DATE(2012,12,31)),AND(DATE(2014,1,1)>Coeff!P134,Coeff!P134>DATE(2012,12,31))),IF(ROW(B135)=2,1,MAX($A$2:A134)+1),""),"") | B135: =IF(Coeff!C134<>"",Coeff!C134,"") | C135: =IF(B135<>"",IF(OR(AND(DATE(2015,1,1)>Coeff!E134,Coeff!E134>DATE(2013,12,31)),AND(DATE(2015,1,1)>Coeff!F134,Coeff!F134>DATE(2013,12,31)),AND(DATE(2015,1,1)>Coeff!G134,Coeff!G134>DATE(2013,12,31)),AND(DATE(2015,1,1)>Coeff!H134,Coeff!H134>DATE(2013,12,31)),AND(DATE(2015,1,1)>Coeff!I134,Coeff!I134>DATE(2013,12,31)),AND(DATE(2015,1,1)>Coeff!J134,Coeff!J134>DATE(2013,12,31)),AND(DATE(2015,1,1)>Coeff!K134,Coeff!K134>DATE(2013,12,31)),AND(DATE(2015,1,1)>Coeff!L134,Coeff!L134>DATE(2013,12,31)),AND(DATE(2015,1,1)>Coeff!M134,Coeff!M134>DATE(2013,12,31)),AND(DATE(2015,1,1)>Coeff!N134,Coeff!N134>DATE(2013,12,31)),AND(DATE(2015,1,1)>Coeff!O134,Coeff!O134>DATE(2013,12,31)),AND(DATE(2015,1,1)>Coeff!P134,Coeff!P134>DATE(2013,12,31))),IF(MAX($C$2:C133)=0,1,MAX($C$2:C134)+1),""),"") | D135: =IF(Coeff!C134<>"",Coeff!C134,"") | E135: =IF(B135<>"",IF(OR(AND(DATE(2016,1,1)>Coeff!E134,Coeff!E134>DATE(2014,12,31)),AND(DATE(2016,1,1)>Coeff!F134,Coeff!F134>DATE(2014,12,31)),AND(DATE(2016,1,1)>Coeff!G134,Coeff!G134>DATE(2014,12,31)),AND(DATE(2016,1,1)>Coeff!H134,Coeff!H134>DATE(2014,12,31)),AND(DATE(2016,1,1)>Coeff!I134,Coeff!I134>DATE(2014,12,31)),AND(DATE(2016,1,1)>Coeff!J134,Coeff!J134>DATE(2014,12,31)),AND(DATE(2016,1,1)>Coeff!K134,Coeff!K134>DATE(2014,12,31)),AND(DATE(2016,1,1)>Coeff!L134,Coeff!L134>DATE(2014,12,31)),AND(DATE(2016,1,1)>Coeff!M134,Coeff!M134>DATE(2014,12,31)),AND(DATE(2016,1,1)>Coeff!N134,Coeff!N134>DATE(2014,12,31)),AND(DATE(2016,1,1)>Coeff!O134,Coeff!O134>DATE(2014,12,31)),AND(DATE(2016,1,1)>Coeff!P134,Coeff!P134>DATE(2014,12,31))),IF(MAX($E$2:E133)=0,1,MAX($E$2:E134)+1),""),"") | F135: =IF(Coeff!C134<>"",Coeff!C134,"")
A136: =IF(B136<>"",IF(OR(AND(DATE(2014,1,1)>Coeff!E135,Coeff!E135>DATE(2012,12,31)),AND(DATE(2014,1,1)>Coeff!F135,Coeff!F135>DATE(2012,12,31)),AND(DATE(2014,1,1)>Coeff!G135,Coeff!G135>DATE(2012,12,31)),AND(DATE(2014,1,1)>Coeff!H135,Coeff!H135>DATE(2012,12,31)),AND(DATE(2014,1,1)>Coeff!I135,Coeff!I135>DATE(2012,12,31)),AND(DATE(2014,1,1)>Coeff!J135,Coeff!J135>DATE(2012,12,31)),AND(DATE(2014,1,1)>Coeff!K135,Coeff!K135>DATE(2012,12,31)),AND(DATE(2014,1,1)>Coeff!L135,Coeff!L135>DATE(2012,12,31)),AND(DATE(2014,1,1)>Coeff!M135,Coeff!M135>DATE(2012,12,31)),AND(DATE(2014,1,1)>Coeff!N135,Coeff!N135>DATE(2012,12,31)),AND(DATE(2014,1,1)>Coeff!O135,Coeff!O135>DATE(2012,12,31)),AND(DATE(2014,1,1)>Coeff!P135,Coeff!P135>DATE(2012,12,31))),IF(ROW(B136)=2,1,MAX($A$2:A135)+1),""),"") | B136: =IF(Coeff!C135<>"",Coeff!C135,"") | C136: =IF(B136<>"",IF(OR(AND(DATE(2015,1,1)>Coeff!E135,Coeff!E135>DATE(2013,12,31)),AND(DATE(2015,1,1)>Coeff!F135,Coeff!F135>DATE(2013,12,31)),AND(DATE(2015,1,1)>Coeff!G135,Coeff!G135>DATE(2013,12,31)),AND(DATE(2015,1,1)>Coeff!H135,Coeff!H135>DATE(2013,12,31)),AND(DATE(2015,1,1)>Coeff!I135,Coeff!I135>DATE(2013,12,31)),AND(DATE(2015,1,1)>Coeff!J135,Coeff!J135>DATE(2013,12,31)),AND(DATE(2015,1,1)>Coeff!K135,Coeff!K135>DATE(2013,12,31)),AND(DATE(2015,1,1)>Coeff!L135,Coeff!L135>DATE(2013,12,31)),AND(DATE(2015,1,1)>Coeff!M135,Coeff!M135>DATE(2013,12,31)),AND(DATE(2015,1,1)>Coeff!N135,Coeff!N135>DATE(2013,12,31)),AND(DATE(2015,1,1)>Coeff!O135,Coeff!O135>DATE(2013,12,31)),AND(DATE(2015,1,1)>Coeff!P135,Coeff!P135>DATE(2013,12,31))),IF(MAX($C$2:C134)=0,1,MAX($C$2:C135)+1),""),"") | D136: =IF(Coeff!C135<>"",Coeff!C135,"") | E136: =IF(B136<>"",IF(OR(AND(DATE(2016,1,1)>Coeff!E135,Coeff!E135>DATE(2014,12,31)),AND(DATE(2016,1,1)>Coeff!F135,Coeff!F135>DATE(2014,12,31)),AND(DATE(2016,1,1)>Coeff!G135,Coeff!G135>DATE(2014,12,31)),AND(DATE(2016,1,1)>Coeff!H135,Coeff!H135>DATE(2014,12,31)),AND(DATE(2016,1,1)>Coeff!I135,Coeff!I135>DATE(2014,12,31)),AND(DATE(2016,1,1)>Coeff!J135,Coeff!J135>DATE(2014,12,31)),AND(DATE(2016,1,1)>Coeff!K135,Coeff!K135>DATE(2014,12,31)),AND(DATE(2016,1,1)>Coeff!L135,Coeff!L135>DATE(2014,12,31)),AND(DATE(2016,1,1)>Coeff!M135,Coeff!M135>DATE(2014,12,31)),AND(DATE(2016,1,1)>Coeff!N135,Coeff!N135>DATE(2014,12,31)),AND(DATE(2016,1,1)>Coeff!O135,Coeff!O135>DATE(2014,12,31)),AND(DATE(2016,1,1)>Coeff!P135,Coeff!P135>DATE(2014,12,31))),IF(MAX($E$2:E134)=0,1,MAX($E$2:E135)+1),""),"") | F136: =IF(Coeff!C135<>"",Coeff!C135,"")
A137: =IF(B137<>"",IF(OR(AND(DATE(2014,1,1)>Coeff!E136,Coeff!E136>DATE(2012,12,31)),AND(DATE(2014,1,1)>Coeff!F136,Coeff!F136>DATE(2012,12,31)),AND(DATE(2014,1,1)>Coeff!G136,Coeff!G136>DATE(2012,12,31)),AND(DATE(2014,1,1)>Coeff!H136,Coeff!H136>DATE(2012,12,31)),AND(DATE(2014,1,1)>Coeff!I136,Coeff!I136>DATE(2012,12,31)),AND(DATE(2014,1,1)>Coeff!J136,Coeff!J136>DATE(2012,12,31)),AND(DATE(2014,1,1)>Coeff!K136,Coeff!K136>DATE(2012,12,31)),AND(DATE(2014,1,1)>Coeff!L136,Coeff!L136>DATE(2012,12,31)),AND(DATE(2014,1,1)>Coeff!M136,Coeff!M136>DATE(2012,12,31)),AND(DATE(2014,1,1)>Coeff!N136,Coeff!N136>DATE(2012,12,31)),AND(DATE(2014,1,1)>Coeff!O136,Coeff!O136>DATE(2012,12,31)),AND(DATE(2014,1,1)>Coeff!P136,Coeff!P136>DATE(2012,12,31))),IF(ROW(B137)=2,1,MAX($A$2:A136)+1),""),"") | B137: =IF(Coeff!C136<>"",Coeff!C136,"") | C137: =IF(B137<>"",IF(OR(AND(DATE(2015,1,1)>Coeff!E136,Coeff!E136>DATE(2013,12,31)),AND(DATE(2015,1,1)>Coeff!F136,Coeff!F136>DATE(2013,12,31)),AND(DATE(2015,1,1)>Coeff!G136,Coeff!G136>DATE(2013,12,31)),AND(DATE(2015,1,1)>Coeff!H136,Coeff!H136>DATE(2013,12,31)),AND(DATE(2015,1,1)>Coeff!I136,Coeff!I136>DATE(2013,12,31)),AND(DATE(2015,1,1)>Coeff!J136,Coeff!J136>DATE(2013,12,31)),AND(DATE(2015,1,1)>Coeff!K136,Coeff!K136>DATE(2013,12,31)),AND(DATE(2015,1,1)>Coeff!L136,Coeff!L136>DATE(2013,12,31)),AND(DATE(2015,1,1)>Coeff!M136,Coeff!M136>DATE(2013,12,31)),AND(DATE(2015,1,1)>Coeff!N136,Coeff!N136>DATE(2013,12,31)),AND(DATE(2015,1,1)>Coeff!O136,Coeff!O136>DATE(2013,12,31)),AND(DATE(2015,1,1)>Coeff!P136,Coeff!P136>DATE(2013,12,31))),IF(MAX($C$2:C135)=0,1,MAX($C$2:C136)+1),""),"") | D137: =IF(Coeff!C136<>"",Coeff!C136,"") | E137: =IF(B137<>"",IF(OR(AND(DATE(2016,1,1)>Coeff!E136,Coeff!E136>DATE(2014,12,31)),AND(DATE(2016,1,1)>Coeff!F136,Coeff!F136>DATE(2014,12,31)),AND(DATE(2016,1,1)>Coeff!G136,Coeff!G136>DATE(2014,12,31)),AND(DATE(2016,1,1)>Coeff!H136,Coeff!H136>DATE(2014,12,31)),AND(DATE(2016,1,1)>Coeff!I136,Coeff!I136>DATE(2014,12,31)),AND(DATE(2016,1,1)>Coeff!J136,Coeff!J136>DATE(2014,12,31)),AND(DATE(2016,1,1)>Coeff!K136,Coeff!K136>DATE(2014,12,31)),AND(DATE(2016,1,1)>Coeff!L136,Coeff!L136>DATE(2014,12,31)),AND(DATE(2016,1,1)>Coeff!M136,Coeff!M136>DATE(2014,12,31)),AND(DATE(2016,1,1)>Coeff!N136,Coeff!N136>DATE(2014,12,31)),AND(DATE(2016,1,1)>Coeff!O136,Coeff!O136>DATE(2014,12,31)),AND(DATE(2016,1,1)>Coeff!P136,Coeff!P136>DATE(2014,12,31))),IF(MAX($E$2:E135)=0,1,MAX($E$2:E136)+1),""),"") | F137: =IF(Coeff!C136<>"",Coeff!C136,"")
A138: =IF(B138<>"",IF(OR(AND(DATE(2014,1,1)>Coeff!E137,Coeff!E137>DATE(2012,12,31)),AND(DATE(2014,1,1)>Coeff!F137,Coeff!F137>DATE(2012,12,31)),AND(DATE(2014,1,1)>Coeff!G137,Coeff!G137>DATE(2012,12,31)),AND(DATE(2014,1,1)>Coeff!H137,Coeff!H137>DATE(2012,12,31)),AND(DATE(2014,1,1)>Coeff!I137,Coeff!I137>DATE(2012,12,31)),AND(DATE(2014,1,1)>Coeff!J137,Coeff!J137>DATE(2012,12,31)),AND(DATE(2014,1,1)>Coeff!K137,Coeff!K137>DATE(2012,12,31)),AND(DATE(2014,1,1)>Coeff!L137,Coeff!L137>DATE(2012,12,31)),AND(DATE(2014,1,1)>Coeff!M137,Coeff!M137>DATE(2012,12,31)),AND(DATE(2014,1,1)>Coeff!N137,Coeff!N137>DATE(2012,12,31)),AND(DATE(2014,1,1)>Coeff!O137,Coeff!O137>DATE(2012,12,31)),AND(DATE(2014,1,1)>Coeff!P137,Coeff!P137>DATE(2012,12,31))),IF(ROW(B138)=2,1,MAX($A$2:A137)+1),""),"") | B138: =IF(Coeff!C137<>"",Coeff!C137,"") | C138: =IF(B138<>"",IF(OR(AND(DATE(2015,1,1)>Coeff!E137,Coeff!E137>DATE(2013,12,31)),AND(DATE(2015,1,1)>Coeff!F137,Coeff!F137>DATE(2013,12,31)),AND(DATE(2015,1,1)>Coeff!G137,Coeff!G137>DATE(2013,12,31)),AND(DATE(2015,1,1)>Coeff!H137,Coeff!H137>DATE(2013,12,31)),AND(DATE(2015,1,1)>Coeff!I137,Coeff!I137>DATE(2013,12,31)),AND(DATE(2015,1,1)>Coeff!J137,Coeff!J137>DATE(2013,12,31)),AND(DATE(2015,1,1)>Coeff!K137,Coeff!K137>DATE(2013,12,31)),AND(DATE(2015,1,1)>Coeff!L137,Coeff!L137>DATE(2013,12,31)),AND(DATE(2015,1,1)>Coeff!M137,Coeff!M137>DATE(2013,12,31)),AND(DATE(2015,1,1)>Coeff!N137,Coeff!N137>DATE(2013,12,31)),AND(DATE(2015,1,1)>Coeff!O137,Coeff!O137>DATE(2013,12,31)),AND(DATE(2015,1,1)>Coeff!P137,Coeff!P137>DATE(2013,12,31))),IF(MAX($C$2:C136)=0,1,MAX($C$2:C137)+1),""),"") | D138: =IF(Coeff!C137<>"",Coeff!C137,"") | E138: =IF(B138<>"",IF(OR(AND(DATE(2016,1,1)>Coeff!E137,Coeff!E137>DATE(2014,12,31)),AND(DATE(2016,1,1)>Coeff!F137,Coeff!F137>DATE(2014,12,31)),AND(DATE(2016,1,1)>Coeff!G137,Coeff!G137>DATE(2014,12,31)),AND(DATE(2016,1,1)>Coeff!H137,Coeff!H137>DATE(2014,12,31)),AND(DATE(2016,1,1)>Coeff!I137,Coeff!I137>DATE(2014,12,31)),AND(DATE(2016,1,1)>Coeff!J137,Coeff!J137>DATE(2014,12,31)),AND(DATE(2016,1,1)>Coeff!K137,Coeff!K137>DATE(2014,12,31)),AND(DATE(2016,1,1)>Coeff!L137,Coeff!L137>DATE(2014,12,31)),AND(DATE(2016,1,1)>Coeff!M137,Coeff!M137>DATE(2014,12,31)),AND(DATE(2016,1,1)>Coeff!N137,Coeff!N137>DATE(2014,12,31)),AND(DATE(2016,1,1)>Coeff!O137,Coeff!O137>DATE(2014,12,31)),AND(DATE(2016,1,1)>Coeff!P137,Coeff!P137>DATE(2014,12,31))),IF(MAX($E$2:E136)=0,1,MAX($E$2:E137)+1),""),"") | F138: =IF(Coeff!C137<>"",Coeff!C137,"")
A139: =IF(B139<>"",IF(OR(AND(DATE(2014,1,1)>Coeff!E138,Coeff!E138>DATE(2012,12,31)),AND(DATE(2014,1,1)>Coeff!F138,Coeff!F138>DATE(2012,12,31)),AND(DATE(2014,1,1)>Coeff!G138,Coeff!G138>DATE(2012,12,31)),AND(DATE(2014,1,1)>Coeff!H138,Coeff!H138>DATE(2012,12,31)),AND(DATE(2014,1,1)>Coeff!I138,Coeff!I138>DATE(2012,12,31)),AND(DATE(2014,1,1)>Coeff!J138,Coeff!J138>DATE(2012,12,31)),AND(DATE(2014,1,1)>Coeff!K138,Coeff!K138>DATE(2012,12,31)),AND(DATE(2014,1,1)>Coeff!L138,Coeff!L138>DATE(2012,12,31)),AND(DATE(2014,1,1)>Coeff!M138,Coeff!M138>DATE(2012,12,31)),AND(DATE(2014,1,1)>Coeff!N138,Coeff!N138>DATE(2012,12,31)),AND(DATE(2014,1,1)>Coeff!O138,Coeff!O138>DATE(2012,12,31)),AND(DATE(2014,1,1)>Coeff!P138,Coeff!P138>DATE(2012,12,31))),IF(ROW(B139)=2,1,MAX($A$2:A138)+1),""),"") | B139: =IF(Coeff!C138<>"",Coeff!C138,"") | C139: =IF(B139<>"",IF(OR(AND(DATE(2015,1,1)>Coeff!E138,Coeff!E138>DATE(2013,12,31)),AND(DATE(2015,1,1)>Coeff!F138,Coeff!F138>DATE(2013,12,31)),AND(DATE(2015,1,1)>Coeff!G138,Coeff!G138>DATE(2013,12,31)),AND(DATE(2015,1,1)>Coeff!H138,Coeff!H138>DATE(2013,12,31)),AND(DATE(2015,1,1)>Coeff!I138,Coeff!I138>DATE(2013,12,31)),AND(DATE(2015,1,1)>Coeff!J138,Coeff!J138>DATE(2013,12,31)),AND(DATE(2015,1,1)>Coeff!K138,Coeff!K138>DATE(2013,12,31)),AND(DATE(2015,1,1)>Coeff!L138,Coeff!L138>DATE(2013,12,31)),AND(DATE(2015,1,1)>Coeff!M138,Coeff!M138>DATE(2013,12,31)),AND(DATE(2015,1,1)>Coeff!N138,Coeff!N138>DATE(2013,12,31)),AND(DATE(2015,1,1)>Coeff!O138,Coeff!O138>DATE(2013,12,31)),AND(DATE(2015,1,1)>Coeff!P138,Coeff!P138>DATE(2013,12,31))),IF(MAX($C$2:C137)=0,1,MAX($C$2:C138)+1),""),"") | D139: =IF(Coeff!C138<>"",Coeff!C138,"") | E139: =IF(B139<>"",IF(OR(AND(DATE(2016,1,1)>Coeff!E138,Coeff!E138>DATE(2014,12,31)),AND(DATE(2016,1,1)>Coeff!F138,Coeff!F138>DATE(2014,12,31)),AND(DATE(2016,1,1)>Coeff!G138,Coeff!G138>DATE(2014,12,31)),AND(DATE(2016,1,1)>Coeff!H138,Coeff!H138>DATE(2014,12,31)),AND(DATE(2016,1,1)>Coeff!I138,Coeff!I138>DATE(2014,12,31)),AND(DATE(2016,1,1)>Coeff!J138,Coeff!J138>DATE(2014,12,31)),AND(DATE(2016,1,1)>Coeff!K138,Coeff!K138>DATE(2014,12,31)),AND(DATE(2016,1,1)>Coeff!L138,Coeff!L138>DATE(2014,12,31)),AND(DATE(2016,1,1)>Coeff!M138,Coeff!M138>DATE(2014,12,31)),AND(DATE(2016,1,1)>Coeff!N138,Coeff!N138>DATE(2014,12,31)),AND(DATE(2016,1,1)>Coeff!O138,Coeff!O138>DATE(2014,12,31)),AND(DATE(2016,1,1)>Coeff!P138,Coeff!P138>DATE(2014,12,31))),IF(MAX($E$2:E137)=0,1,MAX($E$2:E138)+1),""),"") | F139: =IF(Coeff!C138<>"",Coeff!C138,"")
A140: =IF(B140<>"",IF(OR(AND(DATE(2014,1,1)>Coeff!E139,Coeff!E139>DATE(2012,12,31)),AND(DATE(2014,1,1)>Coeff!F139,Coeff!F139>DATE(2012,12,31)),AND(DATE(2014,1,1)>Coeff!G139,Coeff!G139>DATE(2012,12,31)),AND(DATE(2014,1,1)>Coeff!H139,Coeff!H139>DATE(2012,12,31)),AND(DATE(2014,1,1)>Coeff!I139,Coeff!I139>DATE(2012,12,31)),AND(DATE(2014,1,1)>Coeff!J139,Coeff!J139>DATE(2012,12,31)),AND(DATE(2014,1,1)>Coeff!K139,Coeff!K139>DATE(2012,12,31)),AND(DATE(2014,1,1)>Coeff!L139,Coeff!L139>DATE(2012,12,31)),AND(DATE(2014,1,1)>Coeff!M139,Coeff!M139>DATE(2012,12,31)),AND(DATE(2014,1,1)>Coeff!N139,Coeff!N139>DATE(2012,12,31)),AND(DATE(2014,1,1)>Coeff!O139,Coeff!O139>DATE(2012,12,31)),AND(DATE(2014,1,1)>Coeff!P139,Coeff!P139>DATE(2012,12,31))),IF(ROW(B140)=2,1,MAX($A$2:A139)+1),""),"") | B140: =IF(Coeff!C139<>"",Coeff!C139,"") | C140: =IF(B140<>"",IF(OR(AND(DATE(2015,1,1)>Coeff!E139,Coeff!E139>DATE(2013,12,31)),AND(DATE(2015,1,1)>Coeff!F139,Coeff!F139>DATE(2013,12,31)),AND(DATE(2015,1,1)>Coeff!G139,Coeff!G139>DATE(2013,12,31)),AND(DATE(2015,1,1)>Coeff!H139,Coeff!H139>DATE(2013,12,31)),AND(DATE(2015,1,1)>Coeff!I139,Coeff!I139>DATE(2013,12,31)),AND(DATE(2015,1,1)>Coeff!J139,Coeff!J139>DATE(2013,12,31)),AND(DATE(2015,1,1)>Coeff!K139,Coeff!K139>DATE(2013,12,31)),AND(DATE(2015,1,1)>Coeff!L139,Coeff!L139>DATE(2013,12,31)),AND(DATE(2015,1,1)>Coeff!M139,Coeff!M139>DATE(2013,12,31)),AND(DATE(2015,1,1)>Coeff!N139,Coeff!N139>DATE(2013,12,31)),AND(DATE(2015,1,1)>Coeff!O139,Coeff!O139>DATE(2013,12,31)),AND(DATE(2015,1,1)>Coeff!P139,Coeff!P139>DATE(2013,12,31))),IF(MAX($C$2:C138)=0,1,MAX($C$2:C139)+1),""),"") | D140: =IF(Coeff!C139<>"",Coeff!C139,"") | E140: =IF(B140<>"",IF(OR(AND(DATE(2016,1,1)>Coeff!E139,Coeff!E139>DATE(2014,12,31)),AND(DATE(2016,1,1)>Coeff!F139,Coeff!F139>DATE(2014,12,31)),AND(DATE(2016,1,1)>Coeff!G139,Coeff!G139>DATE(2014,12,31)),AND(DATE(2016,1,1)>Coeff!H139,Coeff!H139>DATE(2014,12,31)),AND(DATE(2016,1,1)>Coeff!I139,Coeff!I139>DATE(2014,12,31)),AND(DATE(2016,1,1)>Coeff!J139,Coeff!J139>DATE(2014,12,31)),AND(DATE(2016,1,1)>Coeff!K139,Coeff!K139>DATE(2014,12,31)),AND(DATE(2016,1,1)>Coeff!L139,Coeff!L139>DATE(2014,12,31)),AND(DATE(2016,1,1)>Coeff!M139,Coeff!M139>DATE(2014,12,31)),AND(DATE(2016,1,1)>Coeff!N139,Coeff!N139>DATE(2014,12,31)),AND(DATE(2016,1,1)>Coeff!O139,Coeff!O139>DATE(2014,12,31)),AND(DATE(2016,1,1)>Coeff!P139,Coeff!P139>DATE(2014,12,31))),IF(MAX($E$2:E138)=0,1,MAX($E$2:E139)+1),""),"") | F140: =IF(Coeff!C139<>"",Coeff!C139,"")
... A241: =IF(B241<>"",IF(OR(AND(DATE(2014,1,1)>Coeff!E240,Coeff!E240>DATE(2012,12,31)),AND(DATE(2014,1,1)>Coeff!F240,Coeff!F240>DATE(2012,12,31)),AND(DATE(2014,1,1)>Coeff!G240,Coeff!G240>DATE(2012,12,31)),AND(DATE(2014,1,1)>Coeff!H240,Coeff!H240>DATE(2012,12,31)),AND(DATE(2014,1,1)>Coeff!I240,Coeff!I240>DATE(2012,12,31)),AND(DATE(2014,1,1)>Coeff!J240,Coeff!J240>DATE(2012,12,31)),AND(DATE(2014,1,1)>Coeff!K240,Coeff!K240>DATE(2012,12,31)),AND(DATE(2014,1,1)>Coeff!L240,Coeff!L240>DATE(2012,12,31)),AND(DATE(2014,1,1)>Coeff!M240,Coeff!M240>DATE(2012,12,31)),AND(DATE(2014,1,1)>Coeff!N240,Coeff!N240>DATE(2012,12,31)),AND(DATE(2014,1,1)>Coeff!O240,Coeff!O240>DATE(2012,12,31)),AND(DATE(2014,1,1)>Coeff!P240,Coeff!P240>DATE(2012,12,31))),IF(ROW(B241)=2,1,MAX($A$2:A240)+1),""),"") | B241: =IF(Coeff!C240<>"",Coeff!C240,"") | C241: =IF(B241<>"",IF(OR(AND(DATE(2015,1,1)>Coeff!E240,Coeff!E240>DATE(2013,12,31)),AND(DATE(2015,1,1)>Coeff!F240,Coeff!F240>DATE(2013,12,31)),AND(DATE(2015,1,1)>Coeff!G240,Coeff!G240>DATE(2013,12,31)),AND(DATE(2015,1,1)>Coeff!H240,Coeff!H240>DATE(2013,12,31)),AND(DATE(2015,1,1)>Coeff!I240,Coeff!I240>DATE(2013,12,31)),AND(DATE(2015,1,1)>Coeff!J240,Coeff!J240>DATE(2013,12,31)),AND(DATE(2015,1,1)>Coeff!K240,Coeff!K240>DATE(2013,12,31)),AND(DATE(2015,1,1)>Coeff!L240,Coeff!L240>DATE(2013,12,31)),AND(DATE(2015,1,1)>Coeff!M240,Coeff!M240>DATE(2013,12,31)),AND(DATE(2015,1,1)>Coeff!N240,Coeff!N240>DATE(2013,12,31)),AND(DATE(2015,1,1)>Coeff!O240,Coeff!O240>DATE(2013,12,31)),AND(DATE(2015,1,1)>Coeff!P240,Coeff!P240>DATE(2013,12,31))),IF(MAX($C$2:C239)=0,1,MAX($C$2:C240)+1),""),"") | D241: =IF(Coeff!C240<>"",Coeff!C240,"") | E241: =IF(B241<>"",IF(OR(AND(DATE(2016,1,1)>Coeff!E240,Coeff!E240>DATE(2014,12,31)),AND(DATE(2016,1,1)>Coeff!F240,Coeff!F240>DATE(2014,12,31)),AND(DATE(2016,1,1)>Coeff!G240,Coeff!G240>DATE(2014,12,31)),AND(DATE(2016,1,1)>Coeff!H240,Coeff!H240>DATE(2014,12,31)),AND(DATE(2016,1,1)>Coeff!I240,Coeff!I240>DATE(2014,12,31)),AND(DATE(2016,1,1)>Coeff!J240,Coeff!J240>DATE(2014,12,31)),AND(DATE(2016,1,1)>Coeff!K240,Coeff!K240>DATE(2014,12,31)),AND(DATE(2016,1,1)>Coeff!L240,Coeff!L240>DATE(2014,12,31)),AND(DATE(2016,1,1)>Coeff!M240,Coeff!M240>DATE(2014,12,31)),AND(DATE(2016,1,1)>Coeff!N240,Coeff!N240>DATE(2014,12,31)),AND(DATE(2016,1,1)>Coeff!O240,Coeff!O240>DATE(2014,12,31)),AND(DATE(2016,1,1)>Coeff!P240,Coeff!P240>DATE(2014,12,31))),IF(MAX($E$2:E239)=0,1,MAX($E$2:E240)+1),""),"") | F241: =IF(Coeff!C240<>"",Coeff!C240,"")
A242: =IF(B242<>"",IF(OR(AND(DATE(2014,1,1)>Coeff!E241,Coeff!E241>DATE(2012,12,31)),AND(DATE(2014,1,1)>Coeff!F241,Coeff!F241>DATE(2012,12,31)),AND(DATE(2014,1,1)>Coeff!G241,Coeff!G241>DATE(2012,12,31)),AND(DATE(2014,1,1)>Coeff!H241,Coeff!H241>DATE(2012,12,31)),AND(DATE(2014,1,1)>Coeff!I241,Coeff!I241>DATE(2012,12,31)),AND(DATE(2014,1,1)>Coeff!J241,Coeff!J241>DATE(2012,12,31)),AND(DATE(2014,1,1)>Coeff!K241,Coeff!K241>DATE(2012,12,31)),AND(DATE(2014,1,1)>Coeff!L241,Coeff!L241>DATE(2012,12,31)),AND(DATE(2014,1,1)>Coeff!M241,Coeff!M241>DATE(2012,12,31)),AND(DATE(2014,1,1)>Coeff!N241,Coeff!N241>DATE(2012,12,31)),AND(DATE(2014,1,1)>Coeff!O241,Coeff!O241>DATE(2012,12,31)),AND(DATE(2014,1,1)>Coeff!P241,Coeff!P241>DATE(2012,12,31))),IF(ROW(B242)=2,1,MAX($A$2:A241)+1),""),"") | B242: =IF(Coeff!C241<>"",Coeff!C241,"") | C242: =IF(B242<>"",IF(OR(AND(DATE(2015,1,1)>Coeff!E241,Coeff!E241>DATE(2013,12,31)),AND(DATE(2015,1,1)>Coeff!F241,Coeff!F241>DATE(2013,12,31)),AND(DATE(2015,1,1)>Coeff!G241,Coeff!G241>DATE(2013,12,31)),AND(DATE(2015,1,1)>Coeff!H241,Coeff!H241>DATE(2013,12,31)),AND(DATE(2015,1,1)>Coeff!I241,Coeff!I241>DATE(2013,12,31)),AND(DATE(2015,1,1)>Coeff!J241,Coeff!J241>DATE(2013,12,31)),AND(DATE(2015,1,1)>Coeff!K241,Coeff!K241>DATE(2013,12,31)),AND(DATE(2015,1,1)>Coeff!L241,Coeff!L241>DATE(2013,12,31)),AND(DATE(2015,1,1)>Coeff!M241,Coeff!M241>DATE(2013,12,31)),AND(DATE(2015,1,1)>Coeff!N241,Coeff!N241>DATE(2013,12,31)),AND(DATE(2015,1,1)>Coeff!O241,Coeff!O241>DATE(2013,12,31)),AND(DATE(2015,1,1)>Coeff!P241,Coeff!P241>DATE(2013,12,31))),IF(MAX($C$2:C240)=0,1,MAX($C$2:C241)+1),""),"") | D242: =IF(Coeff!C241<>"",Coeff!C241,"") | E242: =IF(B242<>"",IF(OR(AND(DATE(2016,1,1)>Coeff!E241,Coeff!E241>DATE(2014,12,31)),AND(DATE(2016,1,1)>Coeff!F241,Coeff!F241>DATE(2014,12,31)),AND(DATE(2016,1,1)>Coeff!G241,Coeff!G241>DATE(2014,12,31)),AND(DATE(2016,1,1)>Coeff!H241,Coeff!H241>DATE(2014,12,31)),AND(DATE(2016,1,1)>Coeff!I241,Coeff!I241>DATE(2014,12,31)),AND(DATE(2016,1,1)>Coeff!J241,Coeff!J241>DATE(2014,12,31)),AND(DATE(2016,1,1)>Coeff!K241,Coeff!K241>DATE(2014,12,31)),AND(DATE(2016,1,1)>Coeff!L241,Coeff!L241>DATE(2014,12,31)),AND(DATE(2016,1,1)>Coeff!M241,Coeff!M241>DATE(2014,12,31)),AND(DATE(2016,1,1)>Coeff!N241,Coeff!N241>DATE(2014,12,31)),AND(DATE(2016,1,1)>Coeff!O241,Coeff!O241>DATE(2014,12,31)),AND(DATE(2016,1,1)>Coeff!P241,Coeff!P241>DATE(2014,12,31))),IF(MAX($E$2:E240)=0,1,MAX($E$2:E241)+1),""),"")
A243: =IF(B243<>"",IF(OR(AND(DATE(2014,1,1)>Coeff!E242,Coeff!E242>DATE(2012,12,31)),AND(DATE(2014,1,1)>Coeff!F242,Coeff!F242>DATE(2012,12,31)),AND(DATE(2014,1,1)>Coeff!G242,Coeff!G242>DATE(2012,12,31)),AND(DATE(2014,1,1)>Coeff!H242,Coeff!H242>DATE(2012,12,31)),AND(DATE(2014,1,1)>Coeff!I242,Coeff!I242>DATE(2012,12,31)),AND(DATE(2014,1,1)>Coeff!J242,Coeff!J242>DATE(2012,12,31)),AND(DATE(2014,1,1)>Coeff!K242,Coeff!K242>DATE(2012,12,31)),AND(DATE(2014,1,1)>Coeff!L242,Coeff!L242>DATE(2012,12,31)),AND(DATE(2014,1,1)>Coeff!M242,Coeff!M242>DATE(2012,12,31)),AND(DATE(2014,1,1)>Coeff!N242,Coeff!N242>DATE(2012,12,31)),AND(DATE(2014,1,1)>Coeff!O242,Coeff!O242>DATE(2012,12,31)),AND(DATE(2014,1,1)>Coeff!P242,Coeff!P242>DATE(2012,12,31))),IF(ROW(B243)=2,1,MAX($A$2:A242)+1),""),"") | B243: =IF(Coeff!C242<>"",Coeff!C242,"") | C243: =IF(B243<>"",IF(OR(AND(DATE(2015,1,1)>Coeff!E242,Coeff!E242>DATE(2013,12,31)),AND(DATE(2015,1,1)>Coeff!F242,Coeff!F242>DATE(2013,12,31)),AND(DATE(2015,1,1)>Coeff!G242,Coeff!G242>DATE(2013,12,31)),AND(DATE(2015,1,1)>Coeff!H242,Coeff!H242>DATE(2013,12,31)),AND(DATE(2015,1,1)>Coeff!I242,Coeff!I242>DATE(2013,12,31)),AND(DATE(2015,1,1)>Coeff!J242,Coeff!J242>DATE(2013,12,31)),AND(DATE(2015,1,1)>Coeff!K242,Coeff!K242>DATE(2013,12,31)),AND(DATE(2015,1,1)>Coeff!L242,Coeff!L242>DATE(2013,12,31)),AND(DATE(2015,1,1)>Coeff!M242,Coeff!M242>DATE(2013,12,31)),AND(DATE(2015,1,1)>Coeff!N242,Coeff!N242>DATE(2013,12,31)),AND(DATE(2015,1,1)>Coeff!O242,Coeff!O242>DATE(2013,12,31)),AND(DATE(2015,1,1)>Coeff!P242,Coeff!P242>DATE(2013,12,31))),IF(MAX($C$2:C241)=0,1,MAX($C$2:C242)+1),""),"") | D243: =IF(Coeff!C242<>"",Coeff!C242,"") | E243: =IF(B243<>"",IF(OR(AND(DATE(2016,1,1)>Coeff!E242,Coeff!E242>DATE(2014,12,31)),AND(DATE(2016,1,1)>Coeff!F242,Coeff!F242>DATE(2014,12,31)),AND(DATE(2016,1,1)>Coeff!G242,Coeff!G242>DATE(2014,12,31)),AND(DATE(2016,1,1)>Coeff!H242,Coeff!H242>DATE(2014,12,31)),AND(DATE(2016,1,1)>Coeff!I242,Coeff!I242>DATE(2014,12,31)),AND(DATE(2016,1,1)>Coeff!J242,Coeff!J242>DATE(2014,12,31)),AND(DATE(2016,1,1)>Coeff!K242,Coeff!K242>DATE(2014,12,31)),AND(DATE(2016,1,1)>Coeff!L242,Coeff!L242>DATE(2014,12,31)),AND(DATE(2016,1,1)>Coeff!M242,Coeff!M242>DATE(2014,12,31)),AND(DATE(2016,1,1)>Coeff!N242,Coeff!N242>DATE(2014,12,31)),AND(DATE(2016,1,1)>Coeff!O242,Coeff!O242>DATE(2014,12,31)),AND(DATE(2016,1,1)>Coeff!P242,Coeff!P242>DATE(2014,12,31))),IF(MAX($E$2:E241)=0,1,MAX($E$2:E242)+1),""),"")
A244: =IF(B244<>"",IF(OR(AND(DATE(2014,1,1)>Coeff!E243,Coeff!E243>DATE(2012,12,31)),AND(DATE(2014,1,1)>Coeff!F243,Coeff!F243>DATE(2012,12,31)),AND(DATE(2014,1,1)>Coeff!G243,Coeff!G243>DATE(2012,12,31)),AND(DATE(2014,1,1)>Coeff!H243,Coeff!H243>DATE(2012,12,31)),AND(DATE(2014,1,1)>Coeff!I243,Coeff!I243>DATE(2012,12,31)),AND(DATE(2014,1,1)>Coeff!J243,Coeff!J243>DATE(2012,12,31)),AND(DATE(2014,1,1)>Coeff!K243,Coeff!K243>DATE(2012,12,31)),AND(DATE(2014,1,1)>Coeff!L243,Coeff!L243>DATE(2012,12,31)),AND(DATE(2014,1,1)>Coeff!M243,Coeff!M243>DATE(2012,12,31)),AND(DATE(2014,1,1)>Coeff!N243,Coeff!N243>DATE(2012,12,31)),AND(DATE(2014,1,1)>Coeff!O243,Coeff!O243>DATE(2012,12,31)),AND(DATE(2014,1,1)>Coeff!P243,Coeff!P243>DATE(2012,12,31))),IF(ROW(B244)=2,1,MAX($A$2:A243)+1),""),"") | B244: =IF(Coeff!C243<>"",Coeff!C243,"") | C244: =IF(B244<>"",IF(OR(AND(DATE(2015,1,1)>Coeff!E243,Coeff!E243>DATE(2013,12,31)),AND(DATE(2015,1,1)>Coeff!F243,Coeff!F243>DATE(2013,12,31)),AND(DATE(2015,1,1)>Coeff!G243,Coeff!G243>DATE(2013,12,31)),AND(DATE(2015,1,1)>Coeff!H243,Coeff!H243>DATE(2013,12,31)),AND(DATE(2015,1,1)>Coeff!I243,Coeff!I243>DATE(2013,12,31)),AND(DATE(2015,1,1)>Coeff!J243,Coeff!J243>DATE(2013,12,31)),AND(DATE(2015,1,1)>Coeff!K243,Coeff!K243>DATE(2013,12,31)),AND(DATE(2015,1,1)>Coeff!L243,Coeff!L243>DATE(2013,12,31)),AND(DATE(2015,1,1)>Coeff!M243,Coeff!M243>DATE(2013,12,31)),AND(DATE(2015,1,1)>Coeff!N243,Coeff!N243>DATE(2013,12,31)),AND(DATE(2015,1,1)>Coeff!O243,Coeff!O243>DATE(2013,12,31)),AND(DATE(2015,1,1)>Coeff!P243,Coeff!P243>DATE(2013,12,31))),IF(MAX($C$2:C242)=0,1,MAX($C$2:C243)+1),""),"") | D244: =IF(Coeff!C243<>"",Coeff!C243,"") | E244: =IF(B244<>"",IF(OR(AND(DATE(2016,1,1)>Coeff!E243,Coeff!E243>DATE(2014,12,31)),AND(DATE(2016,1,1)>Coeff!F243,Coeff!F243>DATE(2014,12,31)),AND(DATE(2016,1,1)>Coeff!G243,Coeff!G243>DATE(2014,12,31)),AND(DATE(2016,1,1)>Coeff!H243,Coeff!H243>DATE(2014,12,31)),AND(DATE(2016,1,1)>Coeff!I243,Coeff!I243>DATE(2014,12,31)),AND(DATE(2016,1,1)>Coeff!J243,Coeff!J243>DATE(2014,12,31)),AND(DATE(2016,1,1)>Coeff!K243,Coeff!K243>DATE(2014,12,31)),AND(DATE(2016,1,1)>Coeff!L243,Coeff!L243>DATE(2014,12,31)),AND(DATE(2016,1,1)>Coeff!M243,Coeff!M243>DATE(2014,12,31)),AND(DATE(2016,1,1)>Coeff!N243,Coeff!N243>DATE(2014,12,31)),AND(DATE(2016,1,1)>Coeff!O243,Coeff!O243>DATE(2014,12,31)),AND(DATE(2016,1,1)>Coeff!P243,Coeff!P243>DATE(2014,12,31))),IF(MAX($E$2:E242)=0,1,MAX($E$2:E243)+1),""),"")
A245: =IF(B245<>"",IF(OR(AND(DATE(2014,1,1)>Coeff!E244,Coeff!E244>DATE(2012,12,31)),AND(DATE(2014,1,1)>Coeff!F244,Coeff!F244>DATE(2012,12,31)),AND(DATE(2014,1,1)>Coeff!G244,Coeff!G244>DATE(2012,12,31)),AND(DATE(2014,1,1)>Coeff!H244,Coeff!H244>DATE(2012,12,31)),AND(DATE(2014,1,1)>Coeff!I244,Coeff!I244>DATE(2012,12,31)),AND(DATE(2014,1,1)>Coeff!J244,Coeff!J244>DATE(2012,12,31)),AND(DATE(2014,1,1)>Coeff!K244,Coeff!K244>DATE(2012,12,31)),AND(DATE(2014,1,1)>Coeff!L244,Coeff!L244>DATE(2012,12,31)),AND(DATE(2014,1,1)>Coeff!M244,Coeff!M244>DATE(2012,12,31)),AND(DATE(2014,1,1)>Coeff!N244,Coeff!N244>DATE(2012,12,31)),AND(DATE(2014,1,1)>Coeff!O244,Coeff!O244>DATE(2012,12,31)),AND(DATE(2014,1,1)>Coeff!P244,Coeff!P244>DATE(2012,12,31))),IF(ROW(B245)=2,1,MAX($A$2:A244)+1),""),"") | B245: =IF(Coeff!C244<>"",Coeff!C244,"") | C245: =IF(B245<>"",IF(OR(AND(DATE(2015,1,1)>Coeff!E244,Coeff!E244>DATE(2013,12,31)),AND(DATE(2015,1,1)>Coeff!F244,Coeff!F244>DATE(2013,12,31)),AND(DATE(2015,1,1)>Coeff!G244,Coeff!G244>DATE(2013,12,31)),AND(DATE(2015,1,1)>Coeff!H244,Coeff!H244>DATE(2013,12,31)),AND(DATE(2015,1,1)>Coeff!I244,Coeff!I244>DATE(2013,12,31)),AND(DATE(2015,1,1)>Coeff!J244,Coeff!J244>DATE(2013,12,31)),AND(DATE(2015,1,1)>Coeff!K244,Coeff!K244>DATE(2013,12,31)),AND(DATE(2015,1,1)>Coeff!L244,Coeff!L244>DATE(2013,12,31)),AND(DATE(2015,1,1)>Coeff!M244,Coeff!M244>DATE(2013,12,31)),AND(DATE(2015,1,1)>Coeff!N244,Coeff!N244>DATE(2013,12,31)),AND(DATE(2015,1,1)>Coeff!O244,Coeff!O244>DATE(2013,12,31)),AND(DATE(2015,1,1)>Coeff!P244,Coeff!P244>DATE(2013,12,31))),IF(MAX($C$2:C243)=0,1,MAX($C$2:C244)+1),""),"") | D245: =IF(Coeff!C244<>"",Coeff!C244,"") | E245: =IF(B245<>"",IF(OR(AND(DATE(2016,1,1)>Coeff!E244,Coeff!E244>DATE(2014,12,31)),AND(DATE(2016,1,1)>Coeff!F244,Coeff!F244>DATE(2014,12,31)),AND(DATE(2016,1,1)>Coeff!G244,Coeff!G244>DATE(2014,12,31)),AND(DATE(2016,1,1)>Coeff!H244,Coeff!H244>DATE(2014,12,31)),AND(DATE(2016,1,1)>Coeff!I244,Coeff!I244>DATE(2014,12,31)),AND(DATE(2016,1,1)>Coeff!J244,Coeff!J244>DATE(2014,12,31)),AND(DATE(2016,1,1)>Coeff!K244,Coeff!K244>DATE(2014,12,31)),AND(DATE(2016,1,1)>Coeff!L244,Coeff!L244>DATE(2014,12,31)),AND(DATE(2016,1,1)>Coeff!M244,Coeff!M244>DATE(2014,12,31)),AND(DATE(2016,1,1)>Coeff!N244,Coeff!N244>DATE(2014,12,31)),AND(DATE(2016,1,1)>Coeff!O244,Coeff!O244>DATE(2014,12,31)),AND(DATE(2016,1,1)>Coeff!P244,Coeff!P244>DATE(2014,12,31))),IF(MAX($E$2:E243)=0,1,MAX($E$2:E244)+1),""),"")
A246: =IF(B246<>"",IF(OR(AND(DATE(2014,1,1)>Coeff!E245,Coeff!E245>DATE(2012,12,31)),AND(DATE(2014,1,1)>Coeff!F245,Coeff!F245>DATE(2012,12,31)),AND(DATE(2014,1,1)>Coeff!G245,Coeff!G245>DATE(2012,12,31)),AND(DATE(2014,1,1)>Coeff!H245,Coeff!H245>DATE(2012,12,31)),AND(DATE(2014,1,1)>Coeff!I245,Coeff!I245>DATE(2012,12,31)),AND(DATE(2014,1,1)>Coeff!J245,Coeff!J245>DATE(2012,12,31)),AND(DATE(2014,1,1)>Coeff!K245,Coeff!K245>DATE(2012,12,31)),AND(DATE(2014,1,1)>Coeff!L245,Coeff!L245>DATE(2012,12,31)),AND(DATE(2014,1,1)>Coeff!M245,Coeff!M245>DATE(2012,12,31)),AND(DATE(2014,1,1)>Coeff!N245,Coeff!N245>DATE(2012,12,31)),AND(DATE(2014,1,1)>Coeff!O245,Coeff!O245>DATE(2012,12,31)),AND(DATE(2014,1,1)>Coeff!P245,Coeff!P245>DATE(2012,12,31))),IF(ROW(B246)=2,1,MAX($A$2:A245)+1),""),"") | B246: =IF(Coeff!C245<>"",Coeff!C245,"") | C246: =IF(B246<>"",IF(OR(AND(DATE(2015,1,1)>Coeff!E245,Coeff!E245>DATE(2013,12,31)),AND(DATE(2015,1,1)>Coeff!F245,Coeff!F245>DATE(2013,12,31)),AND(DATE(2015,1,1)>Coeff!G245,Coeff!G245>DATE(2013,12,31)),AND(DATE(2015,1,1)>Coeff!H245,Coeff!H245>DATE(2013,12,31)),AND(DATE(2015,1,1)>Coeff!I245,Coeff!I245>DATE(2013,12,31)),AND(DATE(2015,1,1)>Coeff!J245,Coeff!J245>DATE(2013,12,31)),AND(DATE(2015,1,1)>Coeff!K245,Coeff!K245>DATE(2013,12,31)),AND(DATE(2015,1,1)>Coeff!L245,Coeff!L245>DATE(2013,12,31)),AND(DATE(2015,1,1)>Coeff!M245,Coeff!M245>DATE(2013,12,31)),AND(DATE(2015,1,1)>Coeff!N245,Coeff!N245>DATE(2013,12,31)),AND(DATE(2015,1,1)>Coeff!O245,Coeff!O245>DATE(2013,12,31)),AND(DATE(2015,1,1)>Coeff!P245,Coeff!P245>DATE(2013,12,31))),IF(MAX($C$2:C244)=0,1,MAX($C$2:C245)+1),""),"") | D246: =IF(Coeff!C245<>"",Coeff!C245,"") | E246: =IF(B246<>"",IF(OR(AND(DATE(2016,1,1)>Coeff!E245,Coeff!E245>DATE(2014,12,31)),AND(DATE(2016,1,1)>Coeff!F245,Coeff!F245>DATE(2014,12,31)),AND(DATE(2016,1,1)>Coeff!G245,Coeff!G245>DATE(2014,12,31)),AND(DATE(2016,1,1)>Coeff!H245,Coeff!H245>DATE(2014,12,31)),AND(DATE(2016,1,1)>Coeff!I245,Coeff!I245>DATE(2014,12,31)),AND(DATE(2016,1,1)>Coeff!J245,Coeff!J245>DATE(2014,12,31)),AND(DATE(2016,1,1)>Coeff!K245,Coeff!K245>DATE(2014,12,31)),AND(DATE(2016,1,1)>Coeff!L245,Coeff!L245>DATE(2014,12,31)),AND(DATE(2016,1,1)>Coeff!M245,Coeff!M245>DATE(2014,12,31)),AND(DATE(2016,1,1)>Coeff!N245,Coeff!N245>DATE(2014,12,31)),AND(DATE(2016,1,1)>Coeff!O245,Coeff!O245>DATE(2014,12,31)),AND(DATE(2016,1,1)>Coeff!P245,Coeff!P245>DATE(2014,12,31))),IF(MAX($E$2:E244)=0,1,MAX($E$2:E245)+1),""),"")
A247: =IF(B247<>"",IF(OR(AND(DATE(2014,1,1)>Coeff!E246,Coeff!E246>DATE(2012,12,31)),AND(DATE(2014,1,1)>Coeff!F246,Coeff!F246>DATE(2012,12,31)),AND(DATE(2014,1,1)>Coeff!G246,Coeff!G246>DATE(2012,12,31)),AND(DATE(2014,1,1)>Coeff!H246,Coeff!H246>DATE(2012,12,31)),AND(DATE(2014,1,1)>Coeff!I246,Coeff!I246>DATE(2012,12,31)),AND(DATE(2014,1,1)>Coeff!J246,Coeff!J246>DATE(2012,12,31)),AND(DATE(2014,1,1)>Coeff!K246,Coeff!K246>DATE(2012,12,31)),AND(DATE(2014,1,1)>Coeff!L246,Coeff!L246>DATE(2012,12,31)),AND(DATE(2014,1,1)>Coeff!M246,Coeff!M246>DATE(2012,12,31)),AND(DATE(2014,1,1)>Coeff!N246,Coeff!N246>DATE(2012,12,31)),AND(DATE(2014,1,1)>Coeff!O246,Coeff!O246>DATE(2012,12,31)),AND(DATE(2014,1,1)>Coeff!P246,Coeff!P246>DATE(2012,12,31))),IF(ROW(B247)=2,1,MAX($A$2:A246)+1),""),"") | B247: =IF(Coeff!C246<>"",Coeff!C246,"") | C247: =IF(B247<>"",IF(OR(AND(DATE(2015,1,1)>Coeff!E246,Coeff!E246>DATE(2013,12,31)),AND(DATE(2015,1,1)>Coeff!F246,Coeff!F246>DATE(2013,12,31)),AND(DATE(2015,1,1)>Coeff!G246,Coeff!G246>DATE(2013,12,31)),AND(DATE(2015,1,1)>Coeff!H246,Coeff!H246>DATE(2013,12,31)),AND(DATE(2015,1,1)>Coeff!I246,Coeff!I246>DATE(2013,12,31)),AND(DATE(2015,1,1)>Coeff!J246,Coeff!J246>DATE(2013,12,31)),AND(DATE(2015,1,1)>Coeff!K246,Coeff!K246>DATE(2013,12,31)),AND(DATE(2015,1,1)>Coeff!L246,Coeff!L246>DATE(2013,12,31)),AND(DATE(2015,1,1)>Coeff!M246,Coeff!M246>DATE(2013,12,31)),AND(DATE(2015,1,1)>Coeff!N246,Coeff!N246>DATE(2013,12,31)),AND(DATE(2015,1,1)>Coeff!O246,Coeff!O246>DATE(2013,12,31)),AND(DATE(2015,1,1)>Coeff!P246,Coeff!P246>DATE(2013,12,31))),IF(MAX($C$2:C245)=0,1,MAX($C$2:C246)+1),""),"") | D247: =IF(Coeff!C246<>"",Coeff!C246,"") | E247: =IF(B247<>"",IF(OR(AND(DATE(2016,1,1)>Coeff!E246,Coeff!E246>DATE(2014,12,31)),AND(DATE(2016,1,1)>Coeff!F246,Coeff!F246>DATE(2014,12,31)),AND(DATE(2016,1,1)>Coeff!G246,Coeff!G246>DATE(2014,12,31)),AND(DATE(2016,1,1)>Coeff!H246,Coeff!H246>DATE(2014,12,31)),AND(DATE(2016,1,1)>Coeff!I246,Coeff!I246>DATE(2014,12,31)),AND(DATE(2016,1,1)>Coeff!J246,Coeff!J246>DATE(2014,12,31)),AND(DATE(2016,1,1)>Coeff!K246,Coeff!K246>DATE(2014,12,31)),AND(DATE(2016,1,1)>Coeff!L246,Coeff!L246>DATE(2014,12,31)),AND(DATE(2016,1,1)>Coeff!M246,Coeff!M246>DATE(2014,12,31)),AND(DATE(2016,1,1)>Coeff!N246,Coeff!N246>DATE(2014,12,31)),AND(DATE(2016,1,1)>Coeff!O246,Coeff!O246>DATE(2014,12,31)),AND(DATE(2016,1,1)>Coeff!P246,Coeff!P246>DATE(2014,12,31))),IF(MAX($E$2:E245)=0,1,MAX($E$2:E246)+1),""),"")
A248: =IF(B248<>"",IF(OR(AND(DATE(2014,1,1)>Coeff!E247,Coeff!E247>DATE(2012,12,31)),AND(DATE(2014,1,1)>Coeff!F247,Coeff!F247>DATE(2012,12,31)),AND(DATE(2014,1,1)>Coeff!G247,Coeff!G247>DATE(2012,12,31)),AND(DATE(2014,1,1)>Coeff!H247,Coeff!H247>DATE(2012,12,31)),AND(DATE(2014,1,1)>Coeff!I247,Coeff!I247>DATE(2012,12,31)),AND(DATE(2014,1,1)>Coeff!J247,Coeff!J247>DATE(2012,12,31)),AND(DATE(2014,1,1)>Coeff!K247,Coeff!K247>DATE(2012,12,31)),AND(DATE(2014,1,1)>Coeff!L247,Coeff!L247>DATE(2012,12,31)),AND(DATE(2014,1,1)>Coeff!M247,Coeff!M247>DATE(2012,12,31)),AND(DATE(2014,1,1)>Coeff!N247,Coeff!N247>DATE(2012,12,31)),AND(DATE(2014,1,1)>Coeff!O247,Coeff!O247>DATE(2012,12,31)),AND(DATE(2014,1,1)>Coeff!P247,Coeff!P247>DATE(2012,12,31))),IF(ROW(B248)=2,1,MAX($A$2:A247)+1),""),"") | B248: =IF(Coeff!C247<>"",Coeff!C247,"") | C248: =IF(B248<>"",IF(OR(AND(DATE(2015,1,1)>Coeff!E247,Coeff!E247>DATE(2013,12,31)),AND(DATE(2015,1,1)>Coeff!F247,Coeff!F247>DATE(2013,12,31)),AND(DATE(2015,1,1)>Coeff!G247,Coeff!G247>DATE(2013,12,31)),AND(DATE(2015,1,1)>Coeff!H247,Coeff!H247>DATE(2013,12,31)),AND(DATE(2015,1,1)>Coeff!I247,Coeff!I247>DATE(2013,12,31)),AND(DATE(2015,1,1)>Coeff!J247,Coeff!J247>DATE(2013,12,31)),AND(DATE(2015,1,1)>Coeff!K247,Coeff!K247>DATE(2013,12,31)),AND(DATE(2015,1,1)>Coeff!L247,Coeff!L247>DATE(2013,12,31)),AND(DATE(2015,1,1)>Coeff!M247,Coeff!M247>DATE(2013,12,31)),AND(DATE(2015,1,1)>Coeff!N247,Coeff!N247>DATE(2013,12,31)),AND(DATE(2015,1,1)>Coeff!O247,Coeff!O247>DATE(2013,12,31)),AND(DATE(2015,1,1)>Coeff!P247,Coeff!P247>DATE(2013,12,31))),IF(MAX($C$2:C246)=0,1,MAX($C$2:C247)+1),""),"") | D248: =IF(Coeff!C247<>"",Coeff!C247,"") | E248: =IF(B248<>"",IF(OR(AND(DATE(2016,1,1)>Coeff!E247,Coeff!E247>DATE(2014,12,31)),AND(DATE(2016,1,1)>Coeff!F247,Coeff!F247>DATE(2014,12,31)),AND(DATE(2016,1,1)>Coeff!G247,Coeff!G247>DATE(2014,12,31)),AND(DATE(2016,1,1)>Coeff!H247,Coeff!H247>DATE(2014,12,31)),AND(DATE(2016,1,1)>Coeff!I247,Coeff!I247>DATE(2014,12,31)),AND(DATE(2016,1,1)>Coeff!J247,Coeff!J247>DATE(2014,12,31)),AND(DATE(2016,1,1)>Coeff!K247,Coeff!K247>DATE(2014,12,31)),AND(DATE(2016,1,1)>Coeff!L247,Coeff!L247>DATE(2014,12,31)),AND(DATE(2016,1,1)>Coeff!M247,Coeff!M247>DATE(2014,12,31)),AND(DATE(2016,1,1)>Coeff!N247,Coeff!N247>DATE(2014,12,31)),AND(DATE(2016,1,1)>Coeff!O247,Coeff!O247>DATE(2014,12,31)),AND(DATE(2016,1,1)>Coeff!P247,Coeff!P247>DATE(2014,12,31))),IF(MAX($E$2:E246)=0,1,MAX($E$2:E247)+1),""),"")
A249: =IF(B249<>"",IF(OR(AND(DATE(2014,1,1)>Coeff!E248,Coeff!E248>DATE(2012,12,31)),AND(DATE(2014,1,1)>Coeff!F248,Coeff!F248>DATE(2012,12,31)),AND(DATE(2014,1,1)>Coeff!G248,Coeff!G248>DATE(2012,12,31)),AND(DATE(2014,1,1)>Coeff!H248,Coeff!H248>DATE(2012,12,31)),AND(DATE(2014,1,1)>Coeff!I248,Coeff!I248>DATE(2012,12,31)),AND(DATE(2014,1,1)>Coeff!J248,Coeff!J248>DATE(2012,12,31)),AND(DATE(2014,1,1)>Coeff!K248,Coeff!K248>DATE(2012,12,31)),AND(DATE(2014,1,1)>Coeff!L248,Coeff!L248>DATE(2012,12,31)),AND(DATE(2014,1,1)>Coeff!M248,Coeff!M248>DATE(2012,12,31)),AND(DATE(2014,1,1)>Coeff!N248,Coeff!N248>DATE(2012,12,31)),AND(DATE(2014,1,1)>Coeff!O248,Coeff!O248>DATE(2012,12,31)),AND(DATE(2014,1,1)>Coeff!P248,Coeff!P248>DATE(2012,12,31))),IF(ROW(B249)=2,1,MAX($A$2:A248)+1),""),"") | B249: =IF(Coeff!C248<>"",Coeff!C248,"") | C249: =IF(B249<>"",IF(OR(AND(DATE(2015,1,1)>Coeff!E248,Coeff!E248>DATE(2013,12,31)),AND(DATE(2015,1,1)>Coeff!F248,Coeff!F248>DATE(2013,12,31)),AND(DATE(2015,1,1)>Coeff!G248,Coeff!G248>DATE(2013,12,31)),AND(DATE(2015,1,1)>Coeff!H248,Coeff!H248>DATE(2013,12,31)),AND(DATE(2015,1,1)>Coeff!I248,Coeff!I248>DATE(2013,12,31)),AND(DATE(2015,1,1)>Coeff!J248,Coeff!J248>DATE(2013,12,31)),AND(DATE(2015,1,1)>Coeff!K248,Coeff!K248>DATE(2013,12,31)),AND(DATE(2015,1,1)>Coeff!L248,Coeff!L248>DATE(2013,12,31)),AND(DATE(2015,1,1)>Coeff!M248,Coeff!M248>DATE(2013,12,31)),AND(DATE(2015,1,1)>Coeff!N248,Coeff!N248>DATE(2013,12,31)),AND(DATE(2015,1,1)>Coeff!O248,Coeff!O248>DATE(2013,12,31)),AND(DATE(2015,1,1)>Coeff!P248,Coeff!P248>DATE(2013,12,31))),IF(MAX($C$2:C247)=0,1,MAX($C$2:C248)+1),""),"") | D249: =IF(Coeff!C248<>"",Coeff!C248,"") | E249: =IF(B249<>"",IF(OR(AND(DATE(2016,1,1)>Coeff!E248,Coeff!E248>DATE(2014,12,31)),AND(DATE(2016,1,1)>Coeff!F248,Coeff!F248>DATE(2014,12,31)),AND(DATE(2016,1,1)>Coeff!G248,Coeff!G248>DATE(2014,12,31)),AND(DATE(2016,1,1)>Coeff!H248,Coeff!H248>DATE(2014,12,31)),AND(DATE(2016,1,1)>Coeff!I248,Coeff!I248>DATE(2014,12,31)),AND(DATE(2016,1,1)>Coeff!J248,Coeff!J248>DATE(2014,12,31)),AND(DATE(2016,1,1)>Coeff!K248,Coeff!K248>DATE(2014,12,31)),AND(DATE(2016,1,1)>Coeff!L248,Coeff!L248>DATE(2014,12,31)),AND(DATE(2016,1,1)>Coeff!M248,Coeff!M248>DATE(2014,12,31)),AND(DATE(2016,1,1)>Coeff!N248,Coeff!N248>DATE(2014,12,31)),AND(DATE(2016,1,1)>Coeff!O248,Coeff!O248>DATE(2014,12,31)),AND(DATE(2016,1,1)>Coeff!P248,Coeff!P248>DATE(2014,12,31))),IF(MAX($E$2:E247)=0,1,MAX($E$2:E248)+1),""),"")
A250: =IF(B250<>"",IF(OR(AND(DATE(2014,1,1)>Coeff!E249,Coeff!E249>DATE(2012,12,31)),AND(DATE(2014,1,1)>Coeff!F249,Coeff!F249>DATE(2012,12,31)),AND(DATE(2014,1,1)>Coeff!G249,Coeff!G249>DATE(2012,12,31)),AND(DATE(2014,1,1)>Coeff!H249,Coeff!H249>DATE(2012,12,31)),AND(DATE(2014,1,1)>Coeff!I249,Coeff!I249>DATE(2012,12,31)),AND(DATE(2014,1,1)>Coeff!J249,Coeff!J249>DATE(2012,12,31)),AND(DATE(2014,1,1)>Coeff!K249,Coeff!K249>DATE(2012,12,31)),AND(DATE(2014,1,1)>Coeff!L249,Coeff!L249>DATE(2012,12,31)),AND(DATE(2014,1,1)>Coeff!M249,Coeff!M249>DATE(2012,12,31)),AND(DATE(2014,1,1)>Coeff!N249,Coeff!N249>DATE(2012,12,31)),AND(DATE(2014,1,1)>Coeff!O249,Coeff!O249>DATE(2012,12,31)),AND(DATE(2014,1,1)>Coeff!P249,Coeff!P249>DATE(2012,12,31))),IF(ROW(B250)=2,1,MAX($A$2:A249)+1),""),"") | B250: =IF(Coeff!C249<>"",Coeff!C249,"") | C250: =IF(B250<>"",IF(OR(AND(DATE(2015,1,1)>Coeff!E249,Coeff!E249>DATE(2013,12,31)),AND(DATE(2015,1,1)>Coeff!F249,Coeff!F249>DATE(2013,12,31)),AND(DATE(2015,1,1)>Coeff!G249,Coeff!G249>DATE(2013,12,31)),AND(DATE(2015,1,1)>Coeff!H249,Coeff!H249>DATE(2013,12,31)),AND(DATE(2015,1,1)>Coeff!I249,Coeff!I249>DATE(2013,12,31)),AND(DATE(2015,1,1)>Coeff!J249,Coeff!J249>DATE(2013,12,31)),AND(DATE(2015,1,1)>Coeff!K249,Coeff!K249>DATE(2013,12,31)),AND(DATE(2015,1,1)>Coeff!L249,Coeff!L249>DATE(2013,12,31)),AND(DATE(2015,1,1)>Coeff!M249,Coeff!M249>DATE(2013,12,31)),AND(DATE(2015,1,1)>Coeff!N249,Coeff!N249>DATE(2013,12,31)),AND(DATE(2015,1,1)>Coeff!O249,Coeff!O249>DATE(2013,12,31)),AND(DATE(2015,1,1)>Coeff!P249,Coeff!P249>DATE(2013,12,31))),IF(MAX($C$2:C248)=0,1,MAX($C$2:C249)+1),""),"") | D250: =IF(Coeff!C249<>"",Coeff!C249,"") | E250: =IF(B250<>"",IF(OR(AND(DATE(2016,1,1)>Coeff!E249,Coeff!E249>DATE(2014,12,31)),AND(DATE(2016,1,1)>Coeff!F249,Coeff!F249>DATE(2014,12,31)),AND(DATE(2016,1,1)>Coeff!G249,Coeff!G249>DATE(2014,12,31)),AND(DATE(2016,1,1)>Coeff!H249,Coeff!H249>DATE(2014,12,31)),AND(DATE(2016,1,1)>Coeff!I249,Coeff!I249>DATE(2014,12,31)),AND(DATE(2016,1,1)>Coeff!J249,Coeff!J249>DATE(2014,12,31)),AND(DATE(2016,1,1)>Coeff!K249,Coeff!K249>DATE(2014,12,31)),AND(DATE(2016,1,1)>Coeff!L249,Coeff!L249>DATE(2014,12,31)),AND(DATE(2016,1,1)>Coeff!M249,Coeff!M249>DATE(2014,12,31)),AND(DATE(2016,1,1)>Coeff!N249,Coeff!N249>DATE(2014,12,31)),AND(DATE(2016,1,1)>Coeff!O249,Coeff!O249>DATE(2014,12,31)),AND(DATE(2016,1,1)>Coeff!P249,Coeff!P249>DATE(2014,12,31))),IF(MAX($E$2:E248)=0,1,MAX($E$2:E249)+1),""),"")
A251: =IF(B251<>"",IF(OR(AND(DATE(2014,1,1)>Coeff!E250,Coeff!E250>DATE(2012,12,31)),AND(DATE(2014,1,1)>Coeff!F250,Coeff!F250>DATE(2012,12,31)),AND(DATE(2014,1,1)>Coeff!G250,Coeff!G250>DATE(2012,12,31)),AND(DATE(2014,1,1)>Coeff!H250,Coeff!H250>DATE(2012,12,31)),AND(DATE(2014,1,1)>Coeff!I250,Coeff!I250>DATE(2012,12,31)),AND(DATE(2014,1,1)>Coeff!J250,Coeff!J250>DATE(2012,12,31)),AND(DATE(2014,1,1)>Coeff!K250,Coeff!K250>DATE(2012,12,31)),AND(DATE(2014,1,1)>Coeff!L250,Coeff!L250>DATE(2012,12,31)),AND(DATE(2014,1,1)>Coeff!M250,Coeff!M250>DATE(2012,12,31)),AND(DATE(2014,1,1)>Coeff!N250,Coeff!N250>DATE(2012,12,31)),AND(DATE(2014,1,1)>Coeff!O250,Coeff!O250>DATE(2012,12,31)),AND(DATE(2014,1,1)>Coeff!P250,Coeff!P250>DATE(2012,12,31))),IF(ROW(B251)=2,1,MAX($A$2:A250)+1),""),"") | B251: =IF(Coeff!C250<>"",Coeff!C250,"") | C251: =IF(B251<>"",IF(OR(AND(DATE(2015,1,1)>Coeff!E250,Coeff!E250>DATE(2013,12,31)),AND(DATE(2015,1,1)>Coeff!F250,Coeff!F250>DATE(2013,12,31)),AND(DATE(2015,1,1)>Coeff!G250,Coeff!G250>DATE(2013,12,31)),AND(DATE(2015,1,1)>Coeff!H250,Coeff!H250>DATE(2013,12,31)),AND(DATE(2015,1,1)>Coeff!I250,Coeff!I250>DATE(2013,12,31)),AND(DATE(2015,1,1)>Coeff!J250,Coeff!J250>DATE(2013,12,31)),AND(DATE(2015,1,1)>Coeff!K250,Coeff!K250>DATE(2013,12,31)),AND(DATE(2015,1,1)>Coeff!L250,Coeff!L250>DATE(2013,12,31)),AND(DATE(2015,1,1)>Coeff!M250,Coeff!M250>DATE(2013,12,31)),AND(DATE(2015,1,1)>Coeff!N250,Coeff!N250>DATE(2013,12,31)),AND(DATE(2015,1,1)>Coeff!O250,Coeff!O250>DATE(2013,12,31)),AND(DATE(2015,1,1)>Coeff!P250,Coeff!P250>DATE(2013,12,31))),IF(MAX($C$2:C249)=0,1,MAX($C$2:C250)+1),""),"") | D251: =IF(Coeff!C250<>"",Coeff!C250,"") | E251: =IF(B251<>"",IF(OR(AND(DATE(2016,1,1)>Coeff!E250,Coeff!E250>DATE(2014,12,31)),AND(DATE(2016,1,1)>Coeff!F250,Coeff!F250>DATE(2014,12,31)),AND(DATE(2016,1,1)>Coeff!G250,Coeff!G250>DATE(2014,12,31)),AND(DATE(2016,1,1)>Coeff!H250,Coeff!H250>DATE(2014,12,31)),AND(DATE(2016,1,1)>Coeff!I250,Coeff!I250>DATE(2014,12,31)),AND(DATE(2016,1,1)>Coeff!J250,Coeff!J250>DATE(2014,12,31)),AND(DATE(2016,1,1)>Coeff!K250,Coeff!K250>DATE(2014,12,31)),AND(DATE(2016,1,1)>Coeff!L250,Coeff!L250>DATE(2014,12,31)),AND(DATE(2016,1,1)>Coeff!M250,Coeff!M250>DATE(2014,12,31)),AND(DATE(2016,1,1)>Coeff!N250,Coeff!N250>DATE(2014,12,31)),AND(DATE(2016,1,1)>Coeff!O250,Coeff!O250>DATE(2014,12,31)),AND(DATE(2016,1,1)>Coeff!P250,Coeff!P250>DATE(2014,12,31))),IF(MAX($E$2:E249)=0,1,MAX($E$2:E250)+1),""),"")
A252: =IF(B252<>"",IF(OR(AND(DATE(2014,1,1)>Coeff!E251,Coeff!E251>DATE(2012,12,31)),AND(DATE(2014,1,1)>Coeff!F251,Coeff!F251>DATE(2012,12,31)),AND(DATE(2014,1,1)>Coeff!G251,Coeff!G251>DATE(2012,12,31)),AND(DATE(2014,1,1)>Coeff!H251,Coeff!H251>DATE(2012,12,31)),AND(DATE(2014,1,1)>Coeff!I251,Coeff!I251>DATE(2012,12,31)),AND(DATE(2014,1,1)>Coeff!J251,Coeff!J251>DATE(2012,12,31)),AND(DATE(2014,1,1)>Coeff!K251,Coeff!K251>DATE(2012,12,31)),AND(DATE(2014,1,1)>Coeff!L251,Coeff!L251>DATE(2012,12,31)),AND(DATE(2014,1,1)>Coeff!M251,Coeff!M251>DATE(2012,12,31)),AND(DATE(2014,1,1)>Coeff!N251,Coeff!N251>DATE(2012,12,31)),AND(DATE(2014,1,1)>Coeff!O251,Coeff!O251>DATE(2012,12,31)),AND(DATE(2014,1,1)>Coeff!P251,Coeff!P251>DATE(2012,12,31))),IF(ROW(B252)=2,1,MAX($A$2:A251)+1),""),"") | B252: =IF(Coeff!C251<>"",Coeff!C251,"") | C252: =IF(B252<>"",IF(OR(AND(DATE(2015,1,1)>Coeff!E251,Coeff!E251>DATE(2013,12,31)),AND(DATE(2015,1,1)>Coeff!F251,Coeff!F251>DATE(2013,12,31)),AND(DATE(2015,1,1)>Coeff!G251,Coeff!G251>DATE(2013,12,31)),AND(DATE(2015,1,1)>Coeff!H251,Coeff!H251>DATE(2013,12,31)),AND(DATE(2015,1,1)>Coeff!I251,Coeff!I251>DATE(2013,12,31)),AND(DATE(2015,1,1)>Coeff!J251,Coeff!J251>DATE(2013,12,31)),AND(DATE(2015,1,1)>Coeff!K251,Coeff!K251>DATE(2013,12,31)),AND(DATE(2015,1,1)>Coeff!L251,Coeff!L251>DATE(2013,12,31)),AND(DATE(2015,1,1)>Coeff!M251,Coeff!M251>DATE(2013,12,31)),AND(DATE(2015,1,1)>Coeff!N251,Coeff!N251>DATE(2013,12,31)),AND(DATE(2015,1,1)>Coeff!O251,Coeff!O251>DATE(2013,12,31)),AND(DATE(2015,1,1)>Coeff!P251,Coeff!P251>DATE(2013,12,31))),IF(MAX($C$2:C250)=0,1,MAX($C$2:C251)+1),""),"") | D252: =IF(Coeff!C251<>"",Coeff!C251,"") | E252: =IF(B252<>"",IF(OR(AND(DATE(2016,1,1)>Coeff!E251,Coeff!E251>DATE(2014,12,31)),AND(DATE(2016,1,1)>Coeff!F251,Coeff!F251>DATE(2014,12,31)),AND(DATE(2016,1,1)>Coeff!G251,Coeff!G251>DATE(2014,12,31)),AND(DATE(2016,1,1)>Coeff!H251,Coeff!H251>DATE(2014,12,31)),AND(DATE(2016,1,1)>Coeff!I251,Coeff!I251>DATE(2014,12,31)),AND(DATE(2016,1,1)>Coeff!J251,Coeff!J251>DATE(2014,12,31)),AND(DATE(2016,1,1)>Coeff!K251,Coeff!K251>DATE(2014,12,31)),AND(DATE(2016,1,1)>Coeff!L251,Coeff!L251>DATE(2014,12,31)),AND(DATE(2016,1,1)>Coeff!M251,Coeff!M251>DATE(2014,12,31)),AND(DATE(2016,1,1)>Coeff!N251,Coeff!N251>DATE(2014,12,31)),AND(DATE(2016,1,1)>Coeff!O251,Coeff!O251>DATE(2014,12,31)),AND(DATE(2016,1,1)>Coeff!P251,Coeff!P251>DATE(2014,12,31))),IF(MAX($E$2:E250)=0,1,MAX($E$2:E251)+1),""),"")
A253: =IF(B253<>"",IF(OR(AND(DATE(2014,1,1)>Coeff!E252,Coeff!E252>DATE(2012,12,31)),AND(DATE(2014,1,1)>Coeff!F252,Coeff!F252>DATE(2012,12,31)),AND(DATE(2014,1,1)>Coeff!G252,Coeff!G252>DATE(2012,12,31)),AND(DATE(2014,1,1)>Coeff!H252,Coeff!H252>DATE(2012,12,31)),AND(DATE(2014,1,1)>Coeff!I252,Coeff!I252>DATE(2012,12,31)),AND(DATE(2014,1,1)>Coeff!J252,Coeff!J252>DATE(2012,12,31)),AND(DATE(2014,1,1)>Coeff!K252,Coeff!K252>DATE(2012,12,31)),AND(DATE(2014,1,1)>Coeff!L252,Coeff!L252>DATE(2012,12,31)),AND(DATE(2014,1,1)>Coeff!M252,Coeff!M252>DATE(2012,12,31)),AND(DATE(2014,1,1)>Coeff!N252,Coeff!N252>DATE(2012,12,31)),AND(DATE(2014,1,1)>Coeff!O252,Coeff!O252>DATE(2012,12,31)),AND(DATE(2014,1,1)>Coeff!P252,Coeff!P252>DATE(2012,12,31))),IF(ROW(B253)=2,1,MAX($A$2:A252)+1),""),"") | B253: =IF(Coeff!C252<>"",Coeff!C252,"") | C253: =IF(B253<>"",IF(OR(AND(DATE(2015,1,1)>Coeff!E252,Coeff!E252>DATE(2013,12,31)),AND(DATE(2015,1,1)>Coeff!F252,Coeff!F252>DATE(2013,12,31)),AND(DATE(2015,1,1)>Coeff!G252,Coeff!G252>DATE(2013,12,31)),AND(DATE(2015,1,1)>Coeff!H252,Coeff!H252>DATE(2013,12,31)),AND(DATE(2015,1,1)>Coeff!I252,Coeff!I252>DATE(2013,12,31)),AND(DATE(2015,1,1)>Coeff!J252,Coeff!J252>DATE(2013,12,31)),AND(DATE(2015,1,1)>Coeff!K252,Coeff!K252>DATE(2013,12,31)),AND(DATE(2015,1,1)>Coeff!L252,Coeff!L252>DATE(2013,12,31)),AND(DATE(2015,1,1)>Coeff!M252,Coeff!M252>DATE(2013,12,31)),AND(DATE(2015,1,1)>Coeff!N252,Coeff!N252>DATE(2013,12,31)),AND(DATE(2015,1,1)>Coeff!O252,Coeff!O252>DATE(2013,12,31)),AND(DATE(2015,1,1)>Coeff!P252,Coeff!P252>DATE(2013,12,31))),IF(MAX($C$2:C251)=0,1,MAX($C$2:C252)+1),""),"") | D253: =IF(Coeff!C252<>"",Coeff!C252,"") | E253: =IF(B253<>"",IF(OR(AND(DATE(2016,1,1)>Coeff!E252,Coeff!E252>DATE(2014,12,31)),AND(DATE(2016,1,1)>Coeff!F252,Coeff!F252>DATE(2014,12,31)),AND(DATE(2016,1,1)>Coeff!G252,Coeff!G252>DATE(2014,12,31)),AND(DATE(2016,1,1)>Coeff!H252,Coeff!H252>DATE(2014,12,31)),AND(DATE(2016,1,1)>Coeff!I252,Coeff!I252>DATE(2014,12,31)),AND(DATE(2016,1,1)>Coeff!J252,Coeff!J252>DATE(2014,12,31)),AND(DATE(2016,1,1)>Coeff!K252,Coeff!K252>DATE(2014,12,31)),AND(DATE(2016,1,1)>Coeff!L252,Coeff!L252>DATE(2014,12,31)),AND(DATE(2016,1,1)>Coeff!M252,Coeff!M252>DATE(2014,12,31)),AND(DATE(2016,1,1)>Coeff!N252,Coeff!N252>DATE(2014,12,31)),AND(DATE(2016,1,1)>Coeff!O252,Coeff!O252>DATE(2014,12,31)),AND(DATE(2016,1,1)>Coeff!P252,Coeff!P252>DATE(2014,12,31))),IF(MAX($E$2:E251)=0,1,MAX($E$2:E252)+1),""),"")
... A369: =IF(B369<>"",IF(OR(AND(DATE(2014,1,1)>Coeff!E368,Coeff!E368>DATE(2012,12,31)),AND(DATE(2014,1,1)>Coeff!F368,Coeff!F368>DATE(2012,12,31)),AND(DATE(2014,1,1)>Coeff!G368,Coeff!G368>DATE(2012,12,31)),AND(DATE(2014,1,1)>Coeff!H368,Coeff!H368>DATE(2012,12,31)),AND(DATE(2014,1,1)>Coeff!I368,Coeff!I368>DATE(2012,12,31)),AND(DATE(2014,1,1)>Coeff!J368,Coeff!J368>DATE(2012,12,31)),AND(DATE(2014,1,1)>Coeff!K368,Coeff!K368>DATE(2012,12,31)),AND(DATE(2014,1,1)>Coeff!L368,Coeff!L368>DATE(2012,12,31)),AND(DATE(2014,1,1)>Coeff!M368,Coeff!M368>DATE(2012,12,31)),AND(DATE(2014,1,1)>Coeff!N368,Coeff!N368>DATE(2012,12,31)),AND(DATE(2014,1,1)>Coeff!O368,Coeff!O368>DATE(2012,12,31)),AND(DATE(2014,1,1)>Coeff!P368,Coeff!P368>DATE(2012,12,31))),IF(ROW(B369)=2,1,MAX($A$2:A368)+1),""),"") | B369: =IF(Coeff!C368<>"",Coeff!C368,"") | C369: =IF(B369<>"",IF(OR(AND(DATE(2015,1,1)>Coeff!E368,Coeff!E368>DATE(2013,12,31)),AND(DATE(2015,1,1)>Coeff!F368,Coeff!F368>DATE(2013,12,31)),AND(DATE(2015,1,1)>Coeff!G368,Coeff!G368>DATE(2013,12,31)),AND(DATE(2015,1,1)>Coeff!H368,Coeff!H368>DATE(2013,12,31)),AND(DATE(2015,1,1)>Coeff!I368,Coeff!I368>DATE(2013,12,31)),AND(DATE(2015,1,1)>Coeff!J368,Coeff!J368>DATE(2013,12,31)),AND(DATE(2015,1,1)>Coeff!K368,Coeff!K368>DATE(2013,12,31)),AND(DATE(2015,1,1)>Coeff!L368,Coeff!L368>DATE(2013,12,31)),AND(DATE(2015,1,1)>Coeff!M368,Coeff!M368>DATE(2013,12,31)),AND(DATE(2015,1,1)>Coeff!N368,Coeff!N368>DATE(2013,12,31)),AND(DATE(2015,1,1)>Coeff!O368,Coeff!O368>DATE(2013,12,31)),AND(DATE(2015,1,1)>Coeff!P368,Coeff!P368>DATE(2013,12,31))),IF(MAX($C$2:C367)=0,1,MAX($C$2:C368)+1),""),"") | D369: =IF(Coeff!C368<>"",Coeff!C368,"") | E369: =IF(B369<>"",IF(OR(AND(DATE(2016,1,1)>Coeff!E368,Coeff!E368>DATE(2014,12,31)),AND(DATE(2016,1,1)>Coeff!F368,Coeff!F368>DATE(2014,12,31)),AND(DATE(2016,1,1)>Coeff!G368,Coeff!G368>DATE(2014,12,31)),AND(DATE(2016,1,1)>Coeff!H368,Coeff!H368>DATE(2014,12,31)),AND(DATE(2016,1,1)>Coeff!I368,Coeff!I368>DATE(2014,12,31)),AND(DATE(2016,1,1)>Coeff!J368,Coeff!J368>DATE(2014,12,31)),AND(DATE(2016,1,1)>Coeff!K368,Coeff!K368>DATE(2014,12,31)),AND(DATE(2016,1,1)>Coeff!L368,Coeff!L368>DATE(2014,12,31)),AND(DATE(2016,1,1)>Coeff!M368,Coeff!M368>DATE(2014,12,31)),AND(DATE(2016,1,1)>Coeff!N368,Coeff!N368>DATE(2014,12,31)),AND(DATE(2016,1,1)>Coeff!O368,Coeff!O368>DATE(2014,12,31)),AND(DATE(2016,1,1)>Coeff!P368,Coeff!P368>DATE(2014,12,31))),IF(MAX($E$2:E367)=0,1,MAX($E$2:E368)+1),""),"")
A370: =IF(B370<>"",IF(OR(AND(DATE(2014,1,1)>Coeff!E369,Coeff!E369>DATE(2012,12,31)),AND(DATE(2014,1,1)>Coeff!F369,Coeff!F369>DATE(2012,12,31)),AND(DATE(2014,1,1)>Coeff!G369,Coeff!G369>DATE(2012,12,31)),AND(DATE(2014,1,1)>Coeff!H369,Coeff!H369>DATE(2012,12,31)),AND(DATE(2014,1,1)>Coeff!I369,Coeff!I369>DATE(2012,12,31)),AND(DATE(2014,1,1)>Coeff!J369,Coeff!J369>DATE(2012,12,31)),AND(DATE(2014,1,1)>Coeff!K369,Coeff!K369>DATE(2012,12,31)),AND(DATE(2014,1,1)>Coeff!L369,Coeff!L369>DATE(2012,12,31)),AND(DATE(2014,1,1)>Coeff!M369,Coeff!M369>DATE(2012,12,31)),AND(DATE(2014,1,1)>Coeff!N369,Coeff!N369>DATE(2012,12,31)),AND(DATE(2014,1,1)>Coeff!O369,Coeff!O369>DATE(2012,12,31)),AND(DATE(2014,1,1)>Coeff!P369,Coeff!P369>DATE(2012,12,31))),IF(ROW(B370)=2,1,MAX($A$2:A369)+1),""),"") | B370: =IF(Coeff!C369<>"",Coeff!C369,"") | C370: =IF(B370<>"",IF(OR(AND(DATE(2015,1,1)>Coeff!E369,Coeff!E369>DATE(2013,12,31)),AND(DATE(2015,1,1)>Coeff!F369,Coeff!F369>DATE(2013,12,31)),AND(DATE(2015,1,1)>Coeff!G369,Coeff!G369>DATE(2013,12,31)),AND(DATE(2015,1,1)>Coeff!H369,Coeff!H369>DATE(2013,12,31)),AND(DATE(2015,1,1)>Coeff!I369,Coeff!I369>DATE(2013,12,31)),AND(DATE(2015,1,1)>Coeff!J369,Coeff!J369>DATE(2013,12,31)),AND(DATE(2015,1,1)>Coeff!K369,Coeff!K369>DATE(2013,12,31)),AND(DATE(2015,1,1)>Coeff!L369,Coeff!L369>DATE(2013,12,31)),AND(DATE(2015,1,1)>Coeff!M369,Coeff!M369>DATE(2013,12,31)),AND(DATE(2015,1,1)>Coeff!N369,Coeff!N369>DATE(2013,12,31)),AND(DATE(2015,1,1)>Coeff!O369,Coeff!O369>DATE(2013,12,31)),AND(DATE(2015,1,1)>Coeff!P369,Coeff!P369>DATE(2013,12,31))),IF(MAX($C$2:C368)=0,1,MAX($C$2:C369)+1),""),"") | D370: =IF(Coeff!C369<>"",Coeff!C369,"")
A371: =IF(B371<>"",IF(OR(AND(DATE(2014,1,1)>Coeff!E370,Coeff!E370>DATE(2012,12,31)),AND(DATE(2014,1,1)>Coeff!F370,Coeff!F370>DATE(2012,12,31)),AND(DATE(2014,1,1)>Coeff!G370,Coeff!G370>DATE(2012,12,31)),AND(DATE(2014,1,1)>Coeff!H370,Coeff!H370>DATE(2012,12,31)),AND(DATE(2014,1,1)>Coeff!I370,Coeff!I370>DATE(2012,12,31)),AND(DATE(2014,1,1)>Coeff!J370,Coeff!J370>DATE(2012,12,31)),AND(DATE(2014,1,1)>Coeff!K370,Coeff!K370>DATE(2012,12,31)),AND(DATE(2014,1,1)>Coeff!L370,Coeff!L370>DATE(2012,12,31)),AND(DATE(2014,1,1)>Coeff!M370,Coeff!M370>DATE(2012,12,31)),AND(DATE(2014,1,1)>Coeff!N370,Coeff!N370>DATE(2012,12,31)),AND(DATE(2014,1,1)>Coeff!O370,Coeff!O370>DATE(2012,12,31)),AND(DATE(2014,1,1)>Coeff!P370,Coeff!P370>DATE(2012,12,31))),IF(ROW(B371)=2,1,MAX($A$2:A370)+1),""),"") | B371: =IF(Coeff!C370<>"",Coeff!C370,"") | C371: =IF(B371<>"",IF(OR(AND(DATE(2015,1,1)>Coeff!E370,Coeff!E370>DATE(2013,12,31)),AND(DATE(2015,1,1)>Coeff!F370,Coeff!F370>DATE(2013,12,31)),AND(DATE(2015,1,1)>Coeff!G370,Coeff!G370>DATE(2013,12,31)),AND(DATE(2015,1,1)>Coeff!H370,Coeff!H370>DATE(2013,12,31)),AND(DATE(2015,1,1)>Coeff!I370,Coeff!I370>DATE(2013,12,31)),AND(DATE(2015,1,1)>Coeff!J370,Coeff!J370>DATE(2013,12,31)),AND(DATE(2015,1,1)>Coeff!K370,Coeff!K370>DATE(2013,12,31)),AND(DATE(2015,1,1)>Coeff!L370,Coeff!L370>DATE(2013,12,31)),AND(DATE(2015,1,1)>Coeff!M370,Coeff!M370>DATE(2013,12,31)),AND(DATE(2015,1,1)>Coeff!N370,Coeff!N370>DATE(2013,12,31)),AND(DATE(2015,1,1)>Coeff!O370,Coeff!O370>DATE(2013,12,31)),AND(DATE(2015,1,1)>Coeff!P370,Coeff!P370>DATE(2013,12,31))),IF(MAX($C$2:C369)=0,1,MAX($C$2:C370)+1),""),"") | D371: =IF(Coeff!C370<>"",Coeff!C370,"")
A372: =IF(B372<>"",IF(OR(AND(DATE(2014,1,1)>Coeff!E371,Coeff!E371>DATE(2012,12,31)),AND(DATE(2014,1,1)>Coeff!F371,Coeff!F371>DATE(2012,12,31)),AND(DATE(2014,1,1)>Coeff!G371,Coeff!G371>DATE(2012,12,31)),AND(DATE(2014,1,1)>Coeff!H371,Coeff!H371>DATE(2012,12,31)),AND(DATE(2014,1,1)>Coeff!I371,Coeff!I371>DATE(2012,12,31)),AND(DATE(2014,1,1)>Coeff!J371,Coeff!J371>DATE(2012,12,31)),AND(DATE(2014,1,1)>Coeff!K371,Coeff!K371>DATE(2012,12,31)),AND(DATE(2014,1,1)>Coeff!L371,Coeff!L371>DATE(2012,12,31)),AND(DATE(2014,1,1)>Coeff!M371,Coeff!M371>DATE(2012,12,31)),AND(DATE(2014,1,1)>Coeff!N371,Coeff!N371>DATE(2012,12,31)),AND(DATE(2014,1,1)>Coeff!O371,Coeff!O371>DATE(2012,12,31)),AND(DATE(2014,1,1)>Coeff!P371,Coeff!P371>DATE(2012,12,31))),IF(ROW(B372)=2,1,MAX($A$2:A371)+1),""),"") | B372: =IF(Coeff!C371<>"",Coeff!C371,"") | C372: =IF(B372<>"",IF(OR(AND(DATE(2015,1,1)>Coeff!E371,Coeff!E371>DATE(2013,12,31)),AND(DATE(2015,1,1)>Coeff!F371,Coeff!F371>DATE(2013,12,31)),AND(DATE(2015,1,1)>Coeff!G371,Coeff!G371>DATE(2013,12,31)),AND(DATE(2015,1,1)>Coeff!H371,Coeff!H371>DATE(2013,12,31)),AND(DATE(2015,1,1)>Coeff!I371,Coeff!I371>DATE(2013,12,31)),AND(DATE(2015,1,1)>Coeff!J371,Coeff!J371>DATE(2013,12,31)),AND(DATE(2015,1,1)>Coeff!K371,Coeff!K371>DATE(2013,12,31)),AND(DATE(2015,1,1)>Coeff!L371,Coeff!L371>DATE(2013,12,31)),AND(DATE(2015,1,1)>Coeff!M371,Coeff!M371>DATE(2013,12,31)),AND(DATE(2015,1,1)>Coeff!N371,Coeff!N371>DATE(2013,12,31)),AND(DATE(2015,1,1)>Coeff!O371,Coeff!O371>DATE(2013,12,31)),AND(DATE(2015,1,1)>Coeff!P371,Coeff!P371>DATE(2013,12,31))),IF(MAX($C$2:C370)=0,1,MAX($C$2:C371)+1),""),"") | D372: =IF(Coeff!C371<>"",Coeff!C371,"")
A373: =IF(B373<>"",IF(OR(AND(DATE(2014,1,1)>Coeff!E372,Coeff!E372>DATE(2012,12,31)),AND(DATE(2014,1,1)>Coeff!F372,Coeff!F372>DATE(2012,12,31)),AND(DATE(2014,1,1)>Coeff!G372,Coeff!G372>DATE(2012,12,31)),AND(DATE(2014,1,1)>Coeff!H372,Coeff!H372>DATE(2012,12,31)),AND(DATE(2014,1,1)>Coeff!I372,Coeff!I372>DATE(2012,12,31)),AND(DATE(2014,1,1)>Coeff!J372,Coeff!J372>DATE(2012,12,31)),AND(DATE(2014,1,1)>Coeff!K372,Coeff!K372>DATE(2012,12,31)),AND(DATE(2014,1,1)>Coeff!L372,Coeff!L372>DATE(2012,12,31)),AND(DATE(2014,1,1)>Coeff!M372,Coeff!M372>DATE(2012,12,31)),AND(DATE(2014,1,1)>Coeff!N372,Coeff!N372>DATE(2012,12,31)),AND(DATE(2014,1,1)>Coeff!O372,Coeff!O372>DATE(2012,12,31)),AND(DATE(2014,1,1)>Coeff!P372,Coeff!P372>DATE(2012,12,31))),IF(ROW(B373)=2,1,MAX($A$2:A372)+1),""),"") | B373: =IF(Coeff!C372<>"",Coeff!C372,"") | C373: =IF(B373<>"",IF(OR(AND(DATE(2015,1,1)>Coeff!E372,Coeff!E372>DATE(2013,12,31)),AND(DATE(2015,1,1)>Coeff!F372,Coeff!F372>DATE(2013,12,31)),AND(DATE(2015,1,1)>Coeff!G372,Coeff!G372>DATE(2013,12,31)),AND(DATE(2015,1,1)>Coeff!H372,Coeff!H372>DATE(2013,12,31)),AND(DATE(2015,1,1)>Coeff!I372,Coeff!I372>DATE(2013,12,31)),AND(DATE(2015,1,1)>Coeff!J372,Coeff!J372>DATE(2013,12,31)),AND(DATE(2015,1,1)>Coeff!K372,Coeff!K372>DATE(2013,12,31)),AND(DATE(2015,1,1)>Coeff!L372,Coeff!L372>DATE(2013,12,31)),AND(DATE(2015,1,1)>Coeff!M372,Coeff!M372>DATE(2013,12,31)),AND(DATE(2015,1,1)>Coeff!N372,Coeff!N372>DATE(2013,12,31)),AND(DATE(2015,1,1)>Coeff!O372,Coeff!O372>DATE(2013,12,31)),AND(DATE(2015,1,1)>Coeff!P372,Coeff!P372>DATE(2013,12,31))),IF(MAX($C$2:C371)=0,1,MAX($C$2:C372)+1),""),"") | D373: =IF(Coeff!C372<>"",Coeff!C372,"")
A374: =IF(B374<>"",IF(OR(AND(DATE(2014,1,1)>Coeff!E373,Coeff!E373>DATE(2012,12,31)),AND(DATE(2014,1,1)>Coeff!F373,Coeff!F373>DATE(2012,12,31)),AND(DATE(2014,1,1)>Coeff!G373,Coeff!G373>DATE(2012,12,31)),AND(DATE(2014,1,1)>Coeff!H373,Coeff!H373>DATE(2012,12,31)),AND(DATE(2014,1,1)>Coeff!I373,Coeff!I373>DATE(2012,12,31)),AND(DATE(2014,1,1)>Coeff!J373,Coeff!J373>DATE(2012,12,31)),AND(DATE(2014,1,1)>Coeff!K373,Coeff!K373>DATE(2012,12,31)),AND(DATE(2014,1,1)>Coeff!L373,Coeff!L373>DATE(2012,12,31)),AND(DATE(2014,1,1)>Coeff!M373,Coeff!M373>DATE(2012,12,31)),AND(DATE(2014,1,1)>Coeff!N373,Coeff!N373>DATE(2012,12,31)),AND(DATE(2014,1,1)>Coeff!O373,Coeff!O373>DATE(2012,12,31)),AND(DATE(2014,1,1)>Coeff!P373,Coeff!P373>DATE(2012,12,31))),IF(ROW(B374)=2,1,MAX($A$2:A373)+1),""),"") | B374: =IF(Coeff!C373<>"",Coeff!C373,"") | C374: =IF(B374<>"",IF(OR(AND(DATE(2015,1,1)>Coeff!E373,Coeff!E373>DATE(2013,12,31)),AND(DATE(2015,1,1)>Coeff!F373,Coeff!F373>DATE(2013,12,31)),AND(DATE(2015,1,1)>Coeff!G373,Coeff!G373>DATE(2013,12,31)),AND(DATE(2015,1,1)>Coeff!H373,Coeff!H373>DATE(2013,12,31)),AND(DATE(2015,1,1)>Coeff!I373,Coeff!I373>DATE(2013,12,31)),AND(DATE(2015,1,1)>Coeff!J373,Coeff!J373>DATE(2013,12,31)),AND(DATE(2015,1,1)>Coeff!K373,Coeff!K373>DATE(2013,12,31)),AND(DATE(2015,1,1)>Coeff!L373,Coeff!L373>DATE(2013,12,31)),AND(DATE(2015,1,1)>Coeff!M373,Coeff!M373>DATE(2013,12,31)),AND(DATE(2015,1,1)>Coeff!N373,Coeff!N373>DATE(2013,12,31)),AND(DATE(2015,1,1)>Coeff!O373,Coeff!O373>DATE(2013,12,31)),AND(DATE(2015,1,1)>Coeff!P373,Coeff!P373>DATE(2013,12,31))),IF(MAX($C$2:C372)=0,1,MAX($C$2:C373)+1),""),"") | D374: =IF(Coeff!C373<>"",Coeff!C373,"")
A375: =IF(B375<>"",IF(OR(AND(DATE(2014,1,1)>Coeff!E374,Coeff!E374>DATE(2012,12,31)),AND(DATE(2014,1,1)>Coeff!F374,Coeff!F374>DATE(2012,12,31)),AND(DATE(2014,1,1)>Coeff!G374,Coeff!G374>DATE(2012,12,31)),AND(DATE(2014,1,1)>Coeff!H374,Coeff!H374>DATE(2012,12,31)),AND(DATE(2014,1,1)>Coeff!I374,Coeff!I374>DATE(2012,12,31)),AND(DATE(2014,1,1)>Coeff!J374,Coeff!J374>DATE(2012,12,31)),AND(DATE(2014,1,1)>Coeff!K374,Coeff!K374>DATE(2012,12,31)),AND(DATE(2014,1,1)>Coeff!L374,Coeff!L374>DATE(2012,12,31)),AND(DATE(2014,1,1)>Coeff!M374,Coeff!M374>DATE(2012,12,31)),AND(DATE(2014,1,1)>Coeff!N374,Coeff!N374>DATE(2012,12,31)),AND(DATE(2014,1,1)>Coeff!O374,Coeff!O374>DATE(2012,12,31)),AND(DATE(2014,1,1)>Coeff!P374,Coeff!P374>DATE(2012,12,31))),IF(ROW(B375)=2,1,MAX($A$2:A374)+1),""),"") | B375: =IF(Coeff!C374<>"",Coeff!C374,"") | C375: =IF(B375<>"",IF(OR(AND(DATE(2015,1,1)>Coeff!E374,Coeff!E374>DATE(2013,12,31)),AND(DATE(2015,1,1)>Coeff!F374,Coeff!F374>DATE(2013,12,31)),AND(DATE(2015,1,1)>Coeff!G374,Coeff!G374>DATE(2013,12,31)),AND(DATE(2015,1,1)>Coeff!H374,Coeff!H374>DATE(2013,12,31)),AND(DATE(2015,1,1)>Coeff!I374,Coeff!I374>DATE(2013,12,31)),AND(DATE(2015,1,1)>Coeff!J374,Coeff!J374>DATE(2013,12,31)),AND(DATE(2015,1,1)>Coeff!K374,Coeff!K374>DATE(2013,12,31)),AND(DATE(2015,1,1)>Coeff!L374,Coeff!L374>DATE(2013,12,31)),AND(DATE(2015,1,1)>Coeff!M374,Coeff!M374>DATE(2013,12,31)),AND(DATE(2015,1,1)>Coeff!N374,Coeff!N374>DATE(2013,12,31)),AND(DATE(2015,1,1)>Coeff!O374,Coeff!O374>DATE(2013,12,31)),AND(DATE(2015,1,1)>Coeff!P374,Coeff!P374>DATE(2013,12,31))),IF(MAX($C$2:C373)=0,1,MAX($C$2:C374)+1),""),"") | D375: =IF(Coeff!C374<>"",Coeff!C374,"")
A376: =IF(B376<>"",IF(OR(AND(DATE(2014,1,1)>Coeff!E375,Coeff!E375>DATE(2012,12,31)),AND(DATE(2014,1,1)>Coeff!F375,Coeff!F375>DATE(2012,12,31)),AND(DATE(2014,1,1)>Coeff!G375,Coeff!G375>DATE(2012,12,31)),AND(DATE(2014,1,1)>Coeff!H375,Coeff!H375>DATE(2012,12,31)),AND(DATE(2014,1,1)>Coeff!I375,Coeff!I375>DATE(2012,12,31)),AND(DATE(2014,1,1)>Coeff!J375,Coeff!J375>DATE(2012,12,31)),AND(DATE(2014,1,1)>Coeff!K375,Coeff!K375>DATE(2012,12,31)),AND(DATE(2014,1,1)>Coeff!L375,Coeff!L375>DATE(2012,12,31)),AND(DATE(2014,1,1)>Coeff!M375,Coeff!M375>DATE(2012,12,31)),AND(DATE(2014,1,1)>Coeff!N375,Coeff!N375>DATE(2012,12,31)),AND(DATE(2014,1,1)>Coeff!O375,Coeff!O375>DATE(2012,12,31)),AND(DATE(2014,1,1)>Coeff!P375,Coeff!P375>DATE(2012,12,31))),IF(ROW(B376)=2,1,MAX($A$2:A375)+1),""),"") | B376: =IF(Coeff!C375<>"",Coeff!C375,"") | C376: =IF(B376<>"",IF(OR(AND(DATE(2015,1,1)>Coeff!E375,Coeff!E375>DATE(2013,12,31)),AND(DATE(2015,1,1)>Coeff!F375,Coeff!F375>DATE(2013,12,31)),AND(DATE(2015,1,1)>Coeff!G375,Coeff!G375>DATE(2013,12,31)),AND(DATE(2015,1,1)>Coeff!H375,Coeff!H375>DATE(2013,12,31)),AND(DATE(2015,1,1)>Coeff!I375,Coeff!I375>DATE(2013,12,31)),AND(DATE(2015,1,1)>Coeff!J375,Coeff!J375>DATE(2013,12,31)),AND(DATE(2015,1,1)>Coeff!K375,Coeff!K375>DATE(2013,12,31)),AND(DATE(2015,1,1)>Coeff!L375,Coeff!L375>DATE(2013,12,31)),AND(DATE(2015,1,1)>Coeff!M375,Coeff!M375>DATE(2013,12,31)),AND(DATE(2015,1,1)>Coeff!N375,Coeff!N375>DATE(2013,12,31)),AND(DATE(2015,1,1)>Coeff!O375,Coeff!O375>DATE(2013,12,31)),AND(DATE(2015,1,1)>Coeff!P375,Coeff!P375>DATE(2013,12,31))),IF(MAX($C$2:C374)=0,1,MAX($C$2:C375)+1),""),"") | D376: =IF(Coeff!C375<>"",Coeff!C375,"")
A377: =IF(B377<>"",IF(OR(AND(DATE(2014,1,1)>Coeff!E376,Coeff!E376>DATE(2012,12,31)),AND(DATE(2014,1,1)>Coeff!F376,Coeff!F376>DATE(2012,12,31)),AND(DATE(2014,1,1)>Coeff!G376,Coeff!G376>DATE(2012,12,31)),AND(DATE(2014,1,1)>Coeff!H376,Coeff!H376>DATE(2012,12,31)),AND(DATE(2014,1,1)>Coeff!I376,Coeff!I376>DATE(2012,12,31)),AND(DATE(2014,1,1)>Coeff!J376,Coeff!J376>DATE(2012,12,31)),AND(DATE(2014,1,1)>Coeff!K376,Coeff!K376>DATE(2012,12,31)),AND(DATE(2014,1,1)>Coeff!L376,Coeff!L376>DATE(2012,12,31)),AND(DATE(2014,1,1)>Coeff!M376,Coeff!M376>DATE(2012,12,31)),AND(DATE(2014,1,1)>Coeff!N376,Coeff!N376>DATE(2012,12,31)),AND(DATE(2014,1,1)>Coeff!O376,Coeff!O376>DATE(2012,12,31)),AND(DATE(2014,1,1)>Coeff!P376,Coeff!P376>DATE(2012,12,31))),IF(ROW(B377)=2,1,MAX($A$2:A376)+1),""),"") | B377: =IF(Coeff!C376<>"",Coeff!C376,"") | C377: =IF(B377<>"",IF(OR(AND(DATE(2015,1,1)>Coeff!E376,Coeff!E376>DATE(2013,12,31)),AND(DATE(2015,1,1)>Coeff!F376,Coeff!F376>DATE(2013,12,31)),AND(DATE(2015,1,1)>Coeff!G376,Coeff!G376>DATE(2013,12,31)),AND(DATE(2015,1,1)>Coeff!H376,Coeff!H376>DATE(2013,12,31)),AND(DATE(2015,1,1)>Coeff!I376,Coeff!I376>DATE(2013,12,31)),AND(DATE(2015,1,1)>Coeff!J376,Coeff!J376>DATE(2013,12,31)),AND(DATE(2015,1,1)>Coeff!K376,Coeff!K376>DATE(2013,12,31)),AND(DATE(2015,1,1)>Coeff!L376,Coeff!L376>DATE(2013,12,31)),AND(DATE(2015,1,1)>Coeff!M376,Coeff!M376>DATE(2013,12,31)),AND(DATE(2015,1,1)>Coeff!N376,Coeff!N376>DATE(2013,12,31)),AND(DATE(2015,1,1)>Coeff!O376,Coeff!O376>DATE(2013,12,31)),AND(DATE(2015,1,1)>Coeff!P376,Coeff!P376>DATE(2013,12,31))),IF(MAX($C$2:C375)=0,1,MAX($C$2:C376)+1),""),"") | D377: =IF(Coeff!C376<>"",Coeff!C376,"")
A378: =IF(B378<>"",IF(OR(AND(DATE(2014,1,1)>Coeff!E377,Coeff!E377>DATE(2012,12,31)),AND(DATE(2014,1,1)>Coeff!F377,Coeff!F377>DATE(2012,12,31)),AND(DATE(2014,1,1)>Coeff!G377,Coeff!G377>DATE(2012,12,31)),AND(DATE(2014,1,1)>Coeff!H377,Coeff!H377>DATE(2012,12,31)),AND(DATE(2014,1,1)>Coeff!I377,Coeff!I377>DATE(2012,12,31)),AND(DATE(2014,1,1)>Coeff!J377,Coeff!J377>DATE(2012,12,31)),AND(DATE(2014,1,1)>Coeff!K377,Coeff!K377>DATE(2012,12,31)),AND(DATE(2014,1,1)>Coeff!L377,Coeff!L377>DATE(2012,12,31)),AND(DATE(2014,1,1)>Coeff!M377,Coeff!M377>DATE(2012,12,31)),AND(DATE(2014,1,1)>Coeff!N377,Coeff!N377>DATE(2012,12,31)),AND(DATE(2014,1,1)>Coeff!O377,Coeff!O377>DATE(2012,12,31)),AND(DATE(2014,1,1)>Coeff!P377,Coeff!P377>DATE(2012,12,31))),IF(ROW(B378)=2,1,MAX($A$2:A377)+1),""),"") | B378: =IF(Coeff!C377<>"",Coeff!C377,"") | C378: =IF(B378<>"",IF(OR(AND(DATE(2015,1,1)>Coeff!E377,Coeff!E377>DATE(2013,12,31)),AND(DATE(2015,1,1)>Coeff!F377,Coeff!F377>DATE(2013,12,31)),AND(DATE(2015,1,1)>Coeff!G377,Coeff!G377>DATE(2013,12,31)),AND(DATE(2015,1,1)>Coeff!H377,Coeff!H377>DATE(2013,12,31)),AND(DATE(2015,1,1)>Coeff!I377,Coeff!I377>DATE(2013,12,31)),AND(DATE(2015,1,1)>Coeff!J377,Coeff!J377>DATE(2013,12,31)),AND(DATE(2015,1,1)>Coeff!K377,Coeff!K377>DATE(2013,12,31)),AND(DATE(2015,1,1)>Coeff!L377,Coeff!L377>DATE(2013,12,31)),AND(DATE(2015,1,1)>Coeff!M377,Coeff!M377>DATE(2013,12,31)),AND(DATE(2015,1,1)>Coeff!N377,Coeff!N377>DATE(2013,12,31)),AND(DATE(2015,1,1)>Coeff!O377,Coeff!O377>DATE(2013,12,31)),AND(DATE(2015,1,1)>Coeff!P377,Coeff!P377>DATE(2013,12,31))),IF(MAX($C$2:C376)=0,1,MAX($C$2:C377)+1),""),"") | D378: =IF(Coeff!C377<>"",Coeff!C377,"")
A379: =IF(B379<>"",IF(OR(AND(DATE(2014,1,1)>Coeff!E378,Coeff!E378>DATE(2012,12,31)),AND(DATE(2014,1,1)>Coeff!F378,Coeff!F378>DATE(2012,12,31)),AND(DATE(2014,1,1)>Coeff!G378,Coeff!G378>DATE(2012,12,31)),AND(DATE(2014,1,1)>Coeff!H378,Coeff!H378>DATE(2012,12,31)),AND(DATE(2014,1,1)>Coeff!I378,Coeff!I378>DATE(2012,12,31)),AND(DATE(2014,1,1)>Coeff!J378,Coeff!J378>DATE(2012,12,31)),AND(DATE(2014,1,1)>Coeff!K378,Coeff!K378>DATE(2012,12,31)),AND(DATE(2014,1,1)>Coeff!L378,Coeff!L378>DATE(2012,12,31)),AND(DATE(2014,1,1)>Coeff!M378,Coeff!M378>DATE(2012,12,31)),AND(DATE(2014,1,1)>Coeff!N378,Coeff!N378>DATE(2012,12,31)),AND(DATE(2014,1,1)>Coeff!O378,Coeff!O378>DATE(2012,12,31)),AND(DATE(2014,1,1)>Coeff!P378,Coeff!P378>DATE(2012,12,31))),IF(ROW(B379)=2,1,MAX($A$2:A378)+1),""),"") | B379: =IF(Coeff!C378<>"",Coeff!C378,"") | C379: =IF(B379<>"",IF(OR(AND(DATE(2015,1,1)>Coeff!E378,Coeff!E378>DATE(2013,12,31)),AND(DATE(2015,1,1)>Coeff!F378,Coeff!F378>DATE(2013,12,31)),AND(DATE(2015,1,1)>Coeff!G378,Coeff!G378>DATE(2013,12,31)),AND(DATE(2015,1,1)>Coeff!H378,Coeff!H378>DATE(2013,12,31)),AND(DATE(2015,1,1)>Coeff!I378,Coeff!I378>DATE(2013,12,31)),AND(DATE(2015,1,1)>Coeff!J378,Coeff!J378>DATE(2013,12,31)),AND(DATE(2015,1,1)>Coeff!K378,Coeff!K378>DATE(2013,12,31)),AND(DATE(2015,1,1)>Coeff!L378,Coeff!L378>DATE(2013,12,31)),AND(DATE(2015,1,1)>Coeff!M378,Coeff!M378>DATE(2013,12,31)),AND(DATE(2015,1,1)>Coeff!N378,Coeff!N378>DATE(2013,12,31)),AND(DATE(2015,1,1)>Coeff!O378,Coeff!O378>DATE(2013,12,31)),AND(DATE(2015,1,1)>Coeff!P378,Coeff!P378>DATE(2013,12,31))),IF(MAX($C$2:C377)=0,1,MAX($C$2:C378)+1),""),"") | D379: =IF(Coeff!C378<>"",Coeff!C378,"")
A380: =IF(B380<>"",IF(OR(AND(DATE(2014,1,1)>Coeff!E379,Coeff!E379>DATE(2012,12,31)),AND(DATE(2014,1,1)>Coeff!F379,Coeff!F379>DATE(2012,12,31)),AND(DATE(2014,1,1)>Coeff!G379,Coeff!G379>DATE(2012,12,31)),AND(DATE(2014,1,1)>Coeff!H379,Coeff!H379>DATE(2012,12,31)),AND(DATE(2014,1,1)>Coeff!I379,Coeff!I379>DATE(2012,12,31)),AND(DATE(2014,1,1)>Coeff!J379,Coeff!J379>DATE(2012,12,31)),AND(DATE(2014,1,1)>Coeff!K379,Coeff!K379>DATE(2012,12,31)),AND(DATE(2014,1,1)>Coeff!L379,Coeff!L379>DATE(2012,12,31)),AND(DATE(2014,1,1)>Coeff!M379,Coeff!M379>DATE(2012,12,31)),AND(DATE(2014,1,1)>Coeff!N379,Coeff!N379>DATE(2012,12,31)),AND(DATE(2014,1,1)>Coeff!O379,Coeff!O379>DATE(2012,12,31)),AND(DATE(2014,1,1)>Coeff!P379,Coeff!P379>DATE(2012,12,31))),IF(ROW(B380)=2,1,MAX($A$2:A379)+1),""),"") | B380: =IF(Coeff!C379<>"",Coeff!C379,"") | C380: =IF(B380<>"",IF(OR(AND(DATE(2015,1,1)>Coeff!E379,Coeff!E379>DATE(2013,12,31)),AND(DATE(2015,1,1)>Coeff!F379,Coeff!F379>DATE(2013,12,31)),AND(DATE(2015,1,1)>Coeff!G379,Coeff!G379>DATE(2013,12,31)),AND(DATE(2015,1,1)>Coeff!H379,Coeff!H379>DATE(2013,12,31)),AND(DATE(2015,1,1)>Coeff!I379,Coeff!I379>DATE(2013,12,31)),AND(DATE(2015,1,1)>Coeff!J379,Coeff!J379>DATE(2013,12,31)),AND(DATE(2015,1,1)>Coeff!K379,Coeff!K379>DATE(2013,12,31)),AND(DATE(2015,1,1)>Coeff!L379,Coeff!L379>DATE(2013,12,31)),AND(DATE(2015,1,1)>Coeff!M379,Coeff!M379>DATE(2013,12,31)),AND(DATE(2015,1,1)>Coeff!N379,Coeff!N379>DATE(2013,12,31)),AND(DATE(2015,1,1)>Coeff!O379,Coeff!O379>DATE(2013,12,31)),AND(DATE(2015,1,1)>Coeff!P379,Coeff!P379>DATE(2013,12,31))),IF(MAX($C$2:C378)=0,1,MAX($C$2:C379)+1),""),"") | D380: =IF(Coeff!C379<>"",Coeff!C379,"")
