Workbook

Sheet Coeff
A1: Nom | B1: Prénom | D1: Ligne | E1: 76 | F1: 84 | G1: 92 | H1: 100 | I1: 108 | J1: 114 | K1: 120 | L1: 125 | M1: 130 | N1: 135 | O1: 180 | P1: 240 | S1: Tableau de passage | T1: Année avant passage automatique
A2: Blip | B2: Bla | C2: =A2&" "&B2 -> Blip Bla | D2: =ROW(C2) -> 2 | H2: 38908 | I2: 40026 | J2: 41122 | K2: =IF(J2="","",(DATE((YEAR(J2)+(VLOOKUP(J1,$S$2:$T$13,2,FALSE))),MONTH(J2),DAY(J2)))) -> 42217 | L2: =IF(K2="","",(DATE((YEAR(K2)+(VLOOKUP(K1,$S$2:$T$13,2,FALSE))),MONTH(K2),DAY(K2)))) -> 43313 | M2: =IF(L2="","",(DATE((YEAR(L2)+(VLOOKUP(L1,$S$2:$T$13,2,FALSE))),MONTH(L2),DAY(L2)))) -> 44409 | N2: =IF(M2="","",(DATE((YEAR(M2)+(VLOOKUP(M1,$S$2:$T$13,2,FALSE))),MONTH(M2),DAY(M2)))) -> 45505 | S2: 76 | T2: 1
A3: Bloup | B3: bou | C3: =A3&" "&B3 -> Bloup bou | D3: =ROW(C3) -> 3 | H3: 39600 | I3: 40695 | J3: =IF(I3="","",(DATE((YEAR(I3)+(VLOOKUP($I$1,$S$2:$T$13,2,FALSE))),MONTH(I3),DAY(I3)))) -> 41791 | K3: =IF(J3="","",(DATE((YEAR(J3)+(VLOOKUP($J$1,$S$2:$T$13,2,FALSE))),MONTH(J3),DAY(J3)))) -> 42887 | L3: =IF(K3="","",(DATE((YEAR(K3)+(VLOOKUP($K$1,$S$2:$T$13,2,FALSE))),MONTH(K3),DAY(K3)))) -> 43983 | M3: =IF(L3="","",(DATE((YEAR(L3)+(VLOOKUP($L$1,$S$2:$T$13,2,FALSE))),MONTH(L3),DAY(L3)))) -> 45078 | N3: =IF(M3="","",(DATE((YEAR(M3)+(VLOOKUP($M$1,$S$2:$T$13,2,FALSE))),MONTH(M3),DAY(M3)))) -> 46174 | S3: 84 | T3: 1
A4: Blap | B4: bi | C4: =A4&" "&B4 -> Blap bi | D4: =ROW(C4) -> 4 | F4: =IF(E4="","",(DATE((YEAR(E4)+(VLOOKUP($E$1,$S$2:$T$13,2,FALSE))),MONTH(E4),DAY(E4)))) | G4: =IF(F4="","",(DATE((YEAR(F4)+(VLOOKUP($F$1,$S$2:$T$13,2,FALSE))),MONTH(F4),DAY(F4)))) | H4: =IF(G4="","",(DATE((YEAR(G4)+(VLOOKUP($G$1,$S$2:$T$13,2,FALSE))),MONTH(G4),DAY(G4)))) | I4: =IF(H4="","",(DATE((YEAR(H4)+(VLOOKUP($H$1,$S$2:$T$13,2,FALSE))),MONTH(H4),DAY(H4)))) | J4: =IF(I4="","",(DATE((YEAR(I4)+(VLOOKUP($I$1,$S$2:$T$13,2,FALSE))),MONTH(I4),DAY(I4)))) | K4: =IF(J4="","",(DATE((YEAR(J4)+(VLOOKUP($J$1,$S$2:$T$13,2,FALSE))),MONTH(J4),DAY(J4)))) | L4: =IF(K4="","",(DATE((YEAR(K4)+(VLOOKUP($K$1,$S$2:$T$13,2,FALSE))),MONTH(K4),DAY(K4)))) | M4: =IF(L4="","",(DATE((YEAR(L4)+(VLOOKUP($L$1,$S$2:$T$13,2,FALSE))),MONTH(L4),DAY(L4)))) | N4: 40481 | S4: 92 | T4: 1
A5: bibou | B5: blabli | C5: =A5&" "&B5 -> bibou blabli | D5: =ROW(C5) -> 5 | F5: =IF(E5="","",(DATE((YEAR(E5)+(VLOOKUP($E$1,$S$2:$T$13,2,FALSE))),MONTH(E5),DAY(E5)))) | G5: =IF(F5="","",(DATE((YEAR(F5)+(VLOOKUP($F$1,$S$2:$T$13,2,FALSE))),MONTH(F5),DAY(F5)))) | H5: 38663 | I5: 39783 | J5: 40878 | K5: =IF(J5="","",(DATE((YEAR(J5)+(VLOOKUP($J$1,$S$2:$T$13,2,FALSE))),MONTH(J5),DAY(J5)))) -> 41974 | L5: =IF(K5="","",(DATE((YEAR(K5)+(VLOOKUP($K$1,$S$2:$T$13,2,FALSE))),MONTH(K5),DAY(K5)))) -> 43070 | M5: =IF(L5="","",(DATE((YEAR(L5)+(VLOOKUP($L$1,$S$2:$T$13,2,FALSE))),MONTH(L5),DAY(L5)))) -> 44166 | N5: =IF(M5="","",(DATE((YEAR(M5)+(VLOOKUP($M$1,$S$2:$T$13,2,FALSE))),MONTH(M5),DAY(M5)))) -> 45261 | S5: 100 | T5: 3
A6: AB | B6: GERARD | C6: =A6&" "&B6 -> AB GERARD | D6: =ROW(C6) -> 6 | F6: =IF(E6="","",(DATE((YEAR(E6)+(VLOOKUP($E$1,$S$2:$T$13,2,FALSE))),MONTH(E6),DAY(E6)))) | G6: =IF(F6="","",(DATE((YEAR(F6)+(VLOOKUP($F$1,$S$2:$T$13,2,FALSE))),MONTH(F6),DAY(F6)))) | H6: 36465 | I6: 37561 | J6: 38657 | K6: 39753 | L6: 40848 | M6: =IF(L6="","",(DATE((YEAR(L6)+(VLOOKUP($L$1,$S$2:$T$13,2,FALSE))),MONTH(L6),DAY(L6)))) -> 41944 | N6: =IF(M6="","",(DATE((YEAR(M6)+(VLOOKUP($M$1,$S$2:$T$13,2,FALSE))),MONTH(M6),DAY(M6)))) -> 43040 | S6: 108 | T6: 3
A7: AC | B7: JEAN LUC | C7: =A7&" "&B7 -> AC JEAN LUC | D7: =ROW(C7) -> 7 | F7: =IF(E7="","",(DATE((YEAR(E7)+(VLOOKUP($E$1,$S$2:$T$13,2,FALSE))),MONTH(E7),DAY(E7)))) | G7: =IF(F7="","",(DATE((YEAR(F7)+(VLOOKUP($F$1,$S$2:$T$13,2,FALSE))),MONTH(F7),DAY(F7)))) | H7: 37438 | I7: 38534 | J7: 39630 | K7: 40725 | L7: =IF(K7="","",(DATE((YEAR(K7)+(VLOOKUP($K$1,$S$2:$T$13,2,FALSE))),MONTH(K7),DAY(K7)))) -> 41821 | M7: =IF(L7="","",(DATE((YEAR(L7)+(VLOOKUP($L$1,$S$2:$T$13,2,FALSE))),MONTH(L7),DAY(L7)))) -> 42917 | N7: =IF(M7="","",(DATE((YEAR(M7)+(VLOOKUP($M$1,$S$2:$T$13,2,FALSE))),MONTH(M7),DAY(M7)))) -> 44013 | S7: 114 | T7: 3
A8: CHA | B8: GILLES | C8: =A8&" "&B8 -> CHA GILLES | D8: =ROW(C8) -> 8 | F8: =IF(E8="","",(DATE((YEAR(E8)+(VLOOKUP($E$1,$S$2:$T$13,2,FALSE))),MONTH(E8),DAY(E8)))) | G8: =IF(F8="","",(DATE((YEAR(F8)+(VLOOKUP($F$1,$S$2:$T$13,2,FALSE))),MONTH(F8),DAY(F8)))) | H8: 36899 | I8: 38018 | J8: 39114 | K8: 40210 | L8: =IF(K8="","",(DATE((YEAR(K8)+(VLOOKUP($K$1,$S$2:$T$13,2,FALSE))),MONTH(K8),DAY(K8)))) -> 41306 | M8: =IF(L8="","",(DATE((YEAR(L8)+(VLOOKUP($L$1,$S$2:$T$13,2,FALSE))),MONTH(L8),DAY(L8)))) -> 42401 | N8: =IF(M8="","",(DATE((YEAR(M8)+(VLOOKUP($M$1,$S$2:$T$13,2,FALSE))),MONTH(M8),DAY(M8)))) -> 43497 | S8: 120 | T8: 3
A9: AA | B9: MARC | C9: =A9&" "&B9 -> AA MARC | D9: =ROW(C9) -> 9 | S9: 125 | T9: 3
A10: BB | B10: CHRISTINE | C10: =A10&" "&B10 -> BB CHRISTINE | D10: =ROW(C10) -> 10 | F10: =IF(E10="","",(DATE((YEAR(E10)+(VLOOKUP($E$1,$S$2:$T$13,2,FALSE))),MONTH(E10),DAY(E10)))) | G10: =IF(F10="","",(DATE((YEAR(F10)+(VLOOKUP($F$1,$S$2:$T$13,2,FALSE))),MONTH(F10),DAY(F10)))) | H10: 40664 | I10: =IF(H10="","",(DATE((YEAR(H10)+(VLOOKUP($H$1,$S$2:$T$13,2,FALSE))),MONTH(H10),DAY(H10)))) -> 41760 | J10: =IF(I10="","",(DATE((YEAR(I10)+(VLOOKUP($I$1,$S$2:$T$13,2,FALSE))),MONTH(I10),DAY(I10)))) -> 42856 | K10: =IF(J10="","",(DATE((YEAR(J10)+(VLOOKUP($J$1,$S$2:$T$13,2,FALSE))),MONTH(J10),DAY(J10)))) -> 43952 | L10: =IF(K10="","",(DATE((YEAR(K10)+(VLOOKUP($K$1,$S$2:$T$13,2,FALSE))),MONTH(K10),DAY(K10)))) -> 45047 | M10: =IF(L10="","",(DATE((YEAR(L10)+(VLOOKUP($L$1,$S$2:$T$13,2,FALSE))),MONTH(L10),DAY(L10)))) -> 46143 | N10: =IF(M10="","",(DATE((YEAR(M10)+(VLOOKUP($M$1,$S$2:$T$13,2,FALSE))),MONTH(M10),DAY(M10)))) -> 47239 | S10: 130 | T10: 3
A11: CC | B11: MARTINE | C11: =A11&" "&B11 -> CC MARTINE | D11: =ROW(C11) -> 11 | F11: =IF(E11="","",(DATE((YEAR(E11)+(VLOOKUP($E$1,$S$2:$T$13,2,FALSE))),MONTH(E11),DAY(E11)))) | G11: =IF(F11="","",(DATE((YEAR(F11)+(VLOOKUP($F$1,$S$2:$T$13,2,FALSE))),MONTH(F11),DAY(F11)))) | H11: =IF(G11="","",(DATE((YEAR(G11)+(VLOOKUP($G$1,$S$2:$T$13,2,FALSE))),MONTH(G11),DAY(G11)))) | I11: =IF(H11="","",(DATE((YEAR(H11)+(VLOOKUP($H$1,$S$2:$T$13,2,FALSE))),MONTH(H11),DAY(H11)))) | J11: =IF(I11="","",(DATE((YEAR(I11)+(VLOOKUP($I$1,$S$2:$T$13,2,FALSE))),MONTH(I11),DAY(I11)))) | K11: =IF(J11="","",(DATE((YEAR(J11)+(VLOOKUP($J$1,$S$2:$T$13,2,FALSE))),MONTH(J11),DAY(J11)))) | L11: =IF(K11="","",(DATE((YEAR(K11)+(VLOOKUP($K$1,$S$2:$T$13,2,FALSE))),MONTH(K11),DAY(K11)))) | M11: =IF(L11="","",(DATE((YEAR(L11)+(VLOOKUP($L$1,$S$2:$T$13,2,FALSE))),MONTH(L11),DAY(L11)))) | N11: =IF(M11="","",(DATE((YEAR(M11)+(VLOOKUP($M$1,$S$2:$T$13,2,FALSE))),MONTH(M11),DAY(M11)))) | S11: 135 | T11: 0
A12: DD | B12: DOMINIQUE | C12: =A12&" "&B12 -> DD DOMINIQUE | D12: =ROW(C12) -> 12 | F12: =IF(E12="","",(DATE((YEAR(E12)+(VLOOKUP($E$1,$S$2:$T$13,2,FALSE))),MONTH(E12),DAY(E12)))) | G12: =IF(F12="","",(DATE((YEAR(F12)+(VLOOKUP($F$1,$S$2:$T$13,2,FALSE))),MONTH(F12),DAY(F12)))) | H12: =IF(G12="","",(DATE((YEAR(G12)+(VLOOKUP($G$1,$S$2:$T$13,2,FALSE))),MONTH(G12),DAY(G12)))) | I12: =IF(H12="","",(DATE((YEAR(H12)+(VLOOKUP($H$1,$S$2:$T$13,2,FALSE))),MONTH(H12),DAY(H12)))) | J12: =IF(I12="","",(DATE((YEAR(I12)+(VLOOKUP($I$1,$S$2:$T$13,2,FALSE))),MONTH(I12),DAY(I12)))) | K12: =IF(J12="","",(DATE((YEAR(J12)+(VLOOKUP($J$1,$S$2:$T$13,2,FALSE))),MONTH(J12),DAY(J12)))) | L12: =IF(K12="","",(DATE((YEAR(K12)+(VLOOKUP($K$1,$S$2:$T$13,2,FALSE))),MONTH(K12),DAY(K12)))) | M12: =IF(L12="","",(DATE((YEAR(L12)+(VLOOKUP($L$1,$S$2:$T$13,2,FALSE))),MONTH(L12),DAY(L12)))) | N12: 40481 | S12: 180 | T12: 0
A13: EE | B13: OLIVIER | C13: =A13&" "&B13 -> EE OLIVIER | D13: =ROW(C13) -> 13 | F13: =IF(E13="","",(DATE((YEAR(E13)+(VLOOKUP($E$1,$S$2:$T$13,2,FALSE))),MONTH(E13),DAY(E13)))) | G13: =IF(F13="","",(DATE((YEAR(F13)+(VLOOKUP($F$1,$S$2:$T$13,2,FALSE))),MONTH(F13),DAY(F13)))) | H13: 39995 | I13: 41091 | J13: =IF(I13="","",(DATE((YEAR(I13)+(VLOOKUP($I$1,$S$2:$T$13,2,FALSE))),MONTH(I13),DAY(I13)))) -> 42186 | K13: =IF(J13="","",(DATE((YEAR(J13)+(VLOOKUP($J$1,$S$2:$T$13,2,FALSE))),MONTH(J13),DAY(J13)))) -> 43282 | L13: =IF(K13="","",(DATE((YEAR(K13)+(VLOOKUP($K$1,$S$2:$T$13,2,FALSE))),MONTH(K13),DAY(K13)))) -> 44378 | M13: =IF(L13="","",(DATE((YEAR(L13)+(VLOOKUP($L$1,$S$2:$T$13,2,FALSE))),MONTH(L13),DAY(L13)))) -> 45474 | N13: =IF(M13="","",(DATE((YEAR(M13)+(VLOOKUP($M$1,$S$2:$T$13,2,FALSE))),MONTH(M13),DAY(M13)))) -> 46569 | S13: 240 | T13: 0
A14: FF | B14: GUILLAUME | C14: =A14&" "&B14 -> FF GUILLAUME | D14: =ROW(C14) -> 14 | F14: 40708 | G14: 41091 | H14: =IF(G14="","",(DATE((YEAR(G14)+(VLOOKUP($G$1,$S$2:$T$13,2,FALSE))),MONTH(G14),DAY(G14)))) -> 41456 | I14: =IF(H14="","",(DATE((YEAR(H14)+(VLOOKUP($H$1,$S$2:$T$13,2,FALSE))),MONTH(H14),DAY(H14)))) -> 42552 | J14: =IF(I14="","",(DATE((YEAR(I14)+(VLOOKUP($I$1,$S$2:$T$13,2,FALSE))),MONTH(I14),DAY(I14)))) -> 43647 | K14: =IF(J14="","",(DATE((YEAR(J14)+(VLOOKUP($J$1,$S$2:$T$13,2,FALSE))),MONTH(J14),DAY(J14)))) -> 44743 | L14: =IF(K14="","",(DATE((YEAR(K14)+(VLOOKUP($K$1,$S$2:$T$13,2,FALSE))),MONTH(K14),DAY(K14)))) -> 45839 | M14: =IF(L14="","",(DATE((YEAR(L14)+(VLOOKUP($L$1,$S$2:$T$13,2,FALSE))),MONTH(L14),DAY(L14)))) -> 46935 | N14: =IF(M14="","",(DATE((YEAR(M14)+(VLOOKUP($M$1,$S$2:$T$13,2,FALSE))),MONTH(M14),DAY(M14)))) -> 48030
A15: GG | B15: RAFAEL | C15: =A15&" "&B15 -> GG RAFAEL | D15: =ROW(C15) -> 15 | F15: =IF(E15="","",(DATE((YEAR(E15)+(VLOOKUP($E$1,$S$2:$T$13,2,FALSE))),MONTH(E15),DAY(E15)))) | G15: =IF(F15="","",(DATE((YEAR(F15)+(VLOOKUP($F$1,$S$2:$T$13,2,FALSE))),MONTH(F15),DAY(F15)))) | H15: =IF(G15="","",(DATE((YEAR(G15)+(VLOOKUP($G$1,$S$2:$T$13,2,FALSE))),MONTH(G15),DAY(G15)))) | I15: =IF(H15="","",(DATE((YEAR(H15)+(VLOOKUP($H$1,$S$2:$T$13,2,FALSE))),MONTH(H15),DAY(H15)))) | J15: =IF(I15="","",(DATE((YEAR(I15)+(VLOOKUP($I$1,$S$2:$T$13,2,FALSE))),MONTH(I15),DAY(I15)))) | K15: =IF(J15="","",(DATE((YEAR(J15)+(VLOOKUP($J$1,$S$2:$T$13,2,FALSE))),MONTH(J15),DAY(J15)))) | L15: =IF(K15="","",(DATE((YEAR(K15)+(VLOOKUP($K$1,$S$2:$T$13,2,FALSE))),MONTH(K15),DAY(K15)))) | M15: =IF(L15="","",(DATE((YEAR(L15)+(VLOOKUP($L$1,$S$2:$T$13,2,FALSE))),MONTH(L15),DAY(L15)))) | N15: 39904
A16: HH | B16: EMMANUELLE | C16: =A16&" "&B16 -> HH EMMANUELLE | D16: =ROW(C16) -> 16 | F16: =IF(E16="","",(DATE((YEAR(E16)+(VLOOKUP($E$1,$S$2:$T$13,2,FALSE))),MONTH(E16),DAY(E16)))) | G16: =IF(F16="","",(DATE((YEAR(F16)+(VLOOKUP($F$1,$S$2:$T$13,2,FALSE))),MONTH(F16),DAY(F16)))) | H16: 39965 | I16: 41061 | J16: =IF(I16="","",(DATE((YEAR(I16)+(VLOOKUP($I$1,$S$2:$T$13,2,FALSE))),MONTH(I16),DAY(I16)))) -> 42156 | K16: =IF(J16="","",(DATE((YEAR(J16)+(VLOOKUP($J$1,$S$2:$T$13,2,FALSE))),MONTH(J16),DAY(J16)))) -> 43252 | L16: =IF(K16="","",(DATE((YEAR(K16)+(VLOOKUP($K$1,$S$2:$T$13,2,FALSE))),MONTH(K16),DAY(K16)))) -> 44348 | M16: =IF(L16="","",(DATE((YEAR(L16)+(VLOOKUP($L$1,$S$2:$T$13,2,FALSE))),MONTH(L16),DAY(L16)))) -> 45444 | N16: =IF(M16="","",(DATE((YEAR(M16)+(VLOOKUP($M$1,$S$2:$T$13,2,FALSE))),MONTH(M16),DAY(M16)))) -> 46539
A17: II | B17: LAURENT | C17: =A17&" "&B17 -> II LAURENT | D17: =ROW(C17) -> 17 | F17: =IF(E17="","",(DATE((YEAR(E17)+(VLOOKUP($E$1,$S$2:$T$13,2,FALSE))),MONTH(E17),DAY(E17)))) | G17: =IF(F17="","",(DATE((YEAR(F17)+(VLOOKUP($F$1,$S$2:$T$13,2,FALSE))),MONTH(F17),DAY(F17)))) | H17: =IF(G17="","",(DATE((YEAR(G17)+(VLOOKUP($G$1,$S$2:$T$13,2,FALSE))),MONTH(G17),DAY(G17)))) | I17: =IF(H17="","",(DATE((YEAR(H17)+(VLOOKUP($H$1,$S$2:$T$13,2,FALSE))),MONTH(H17),DAY(H17)))) | J17: =IF(I17="","",(DATE((YEAR(I17)+(VLOOKUP($I$1,$S$2:$T$13,2,FALSE))),MONTH(I17),DAY(I17)))) | K17: =IF(J17="","",(DATE((YEAR(J17)+(VLOOKUP($J$1,$S$2:$T$13,2,FALSE))),MONTH(J17),DAY(J17)))) | L17: =IF(K17="","",(DATE((YEAR(K17)+(VLOOKUP($K$1,$S$2:$T$13,2,FALSE))),MONTH(K17),DAY(K17)))) | M17: =IF(L17="","",(DATE((YEAR(L17)+(VLOOKUP($L$1,$S$2:$T$13,2,FALSE))),MONTH(L17),DAY(L17)))) | N17: 40481
A18: JJ | B18: ANTHONY | C18: =A18&" "&B18 -> JJ ANTHONY | D18: =ROW(C18) -> 18 | F18: =IF(E18="","",(DATE((YEAR(E18)+(VLOOKUP($E$1,$S$2:$T$13,2,FALSE))),MONTH(E18),DAY(E18)))) | G18: =IF(F18="","",(DATE((YEAR(F18)+(VLOOKUP($F$1,$S$2:$T$13,2,FALSE))),MONTH(F18),DAY(F18)))) | H18: 40183 | I18: =IF(H18="","",(DATE((YEAR(H18)+(VLOOKUP($H$1,$S$2:$T$13,2,FALSE))),MONTH(H18),DAY(H18)))) -> 41279 | J18: =IF(I18="","",(DATE((YEAR(I18)+(VLOOKUP($I$1,$S$2:$T$13,2,FALSE))),MONTH(I18),DAY(I18)))) -> 42374 | K18: =IF(J18="","",(DATE((YEAR(J18)+(VLOOKUP($J$1,$S$2:$T$13,2,FALSE))),MONTH(J18),DAY(J18)))) -> 43470 | L18: =IF(K18="","",(DATE((YEAR(K18)+(VLOOKUP($K$1,$S$2:$T$13,2,FALSE))),MONTH(K18),DAY(K18)))) -> 44566 | M18: =IF(L18="","",(DATE((YEAR(L18)+(VLOOKUP($L$1,$S$2:$T$13,2,FALSE))),MONTH(L18),DAY(L18)))) -> 45662 | N18: =IF(M18="","",(DATE((YEAR(M18)+(VLOOKUP($M$1,$S$2:$T$13,2,FALSE))),MONTH(M18),DAY(M18)))) -> 46757
A19: 1 | B19: AU | C19: =A19&" "&B19 -> 1 AU | D19: =ROW(C19) -> 19 | F19: =IF(E19="","",(DATE((YEAR(E19)+(VLOOKUP($E$1,$S$2:$T$13,2,FALSE))),MONTH(E19),DAY(E19)))) | G19: =IF(F19="","",(DATE((YEAR(F19)+(VLOOKUP($F$1,$S$2:$T$13,2,FALSE))),MONTH(F19),DAY(F19)))) | H19: 39264 | I19: 40360 | J19: =IF(I19="","",(DATE((YEAR(I19)+(VLOOKUP($I$1,$S$2:$T$13,2,FALSE))),MONTH(I19),DAY(I19)))) -> 41456 | K19: =IF(J19="","",(DATE((YEAR(J19)+(VLOOKUP($J$1,$S$2:$T$13,2,FALSE))),MONTH(J19),DAY(J19)))) -> 42552 | L19: =IF(K19="","",(DATE((YEAR(K19)+(VLOOKUP($K$1,$S$2:$T$13,2,FALSE))),MONTH(K19),DAY(K19)))) -> 43647 | M19: =IF(L19="","",(DATE((YEAR(L19)+(VLOOKUP($L$1,$S$2:$T$13,2,FALSE))),MONTH(L19),DAY(L19)))) -> 44743 | N19: =IF(M19="","",(DATE((YEAR(M19)+(VLOOKUP($M$1,$S$2:$T$13,2,FALSE))),MONTH(M19),DAY(M19)))) -> 45839
A20: 2 | B20: HUB | C20: =A20&" "&B20 -> 2 HUB | D20: =ROW(C20) -> 20 | F20: =IF(E20="","",(DATE((YEAR(E20)+(VLOOKUP($E$1,$S$2:$T$13,2,FALSE))),MONTH(E20),DAY(E20)))) | G20: =IF(F20="","",(DATE((YEAR(F20)+(VLOOKUP($F$1,$S$2:$T$13,2,FALSE))),MONTH(F20),DAY(F20)))) | H20: 39090 | I20: 40210 | J20: =IF(I20="","",(DATE((YEAR(I20)+(VLOOKUP($I$1,$S$2:$T$13,2,FALSE))),MONTH(I20),DAY(I20)))) -> 41306 | K20: =IF(J20="","",(DATE((YEAR(J20)+(VLOOKUP($J$1,$S$2:$T$13,2,FALSE))),MONTH(J20),DAY(J20)))) -> 42401 | L20: =IF(K20="","",(DATE((YEAR(K20)+(VLOOKUP($K$1,$S$2:$T$13,2,FALSE))),MONTH(K20),DAY(K20)))) -> 43497 | M20: =IF(L20="","",(DATE((YEAR(L20)+(VLOOKUP($L$1,$S$2:$T$13,2,FALSE))),MONTH(L20),DAY(L20)))) -> 44593 | N20: =IF(M20="","",(DATE((YEAR(M20)+(VLOOKUP($M$1,$S$2:$T$13,2,FALSE))),MONTH(M20),DAY(M20)))) -> 45689
A21: 3 | B21: FLO | C21: =A21&" "&B21 -> 3 FLO | D21: =ROW(C21) -> 21 | F21: =IF(E21="","",(DATE((YEAR(E21)+(VLOOKUP($E$1,$S$2:$T$13,2,FALSE))),MONTH(E21),DAY(E21)))) | G21: =IF(F21="","",(DATE((YEAR(F21)+(VLOOKUP($F$1,$S$2:$T$13,2,FALSE))),MONTH(F21),DAY(F21)))) | H21: 39237 | I21: 40360 | J21: =IF(I21="","",(DATE((YEAR(I21)+(VLOOKUP($I$1,$S$2:$T$13,2,FALSE))),MONTH(I21),DAY(I21)))) -> 41456 | K21: =IF(J21="","",(DATE((YEAR(J21)+(VLOOKUP($J$1,$S$2:$T$13,2,FALSE))),MONTH(J21),DAY(J21)))) -> 42552 | L21: =IF(K21="","",(DATE((YEAR(K21)+(VLOOKUP($K$1,$S$2:$T$13,2,FALSE))),MONTH(K21),DAY(K21)))) -> 43647 | M21: =IF(L21="","",(DATE((YEAR(L21)+(VLOOKUP($L$1,$S$2:$T$13,2,FALSE))),MONTH(L21),DAY(L21)))) -> 44743 | N21: =IF(M21="","",(DATE((YEAR(M21)+(VLOOKUP($M$1,$S$2:$T$13,2,FALSE))),MONTH(M21),DAY(M21)))) -> 45839
A22: 4 | B22: CHRI | C22: =A22&" "&B22 -> 4 CHRI | D22: =ROW(C22) -> 22 | F22: =IF(E22="","",(DATE((YEAR(E22)+(VLOOKUP($E$1,$S$2:$T$13,2,FALSE))),MONTH(E22),DAY(E22)))) | G22: =IF(F22="","",(DATE((YEAR(F22)+(VLOOKUP($F$1,$S$2:$T$13,2,FALSE))),MONTH(F22),DAY(F22)))) | H22: =IF(G22="","",(DATE((YEAR(G22)+(VLOOKUP($G$1,$S$2:$T$13,2,FALSE))),MONTH(G22),DAY(G22)))) | I22: =IF(H22="","",(DATE((YEAR(H22)+(VLOOKUP($H$1,$S$2:$T$13,2,FALSE))),MONTH(H22),DAY(H22)))) | J22: =IF(I22="","",(DATE((YEAR(I22)+(VLOOKUP($I$1,$S$2:$T$13,2,FALSE))),MONTH(I22),DAY(I22)))) | K22: =IF(J22="","",(DATE((YEAR(J22)+(VLOOKUP($J$1,$S$2:$T$13,2,FALSE))),MONTH(J22),DAY(J22)))) | L22: =IF(K22="","",(DATE((YEAR(K22)+(VLOOKUP($K$1,$S$2:$T$13,2,FALSE))),MONTH(K22),DAY(K22)))) | M22: =IF(L22="","",(DATE((YEAR(L22)+(VLOOKUP($L$1,$S$2:$T$13,2,FALSE))),MONTH(L22),DAY(L22)))) | N22: 39661
A23: 5 | B23: THI | C23: =A23&" "&B23 -> 5 THI | D23: =ROW(C23) -> 23 | F23: =IF(E23="","",(DATE((YEAR(E23)+(VLOOKUP($E$1,$S$2:$T$13,2,FALSE))),MONTH(E23),DAY(E23)))) | G23: =IF(F23="","",(DATE((YEAR(F23)+(VLOOKUP($F$1,$S$2:$T$13,2,FALSE))),MONTH(F23),DAY(F23)))) | H23: 35796 | I23: 36892 | J23: 37987 | K23: 39083 | L23: 40179 | M23: =IF(L23="","",(DATE((YEAR(L23)+(VLOOKUP($L$1,$S$2:$T$13,2,FALSE))),MONTH(L23),DAY(L23)))) -> 41275 | N23: =IF(M23="","",(DATE((YEAR(M23)+(VLOOKUP($M$1,$S$2:$T$13,2,FALSE))),MONTH(M23),DAY(M23)))) -> 42370
A24: 6 | B24: EDI | C24: =A24&" "&B24 -> 6 EDI | D24: =ROW(C24) -> 24 | F24: =IF(E24="","",(DATE((YEAR(E24)+(VLOOKUP($E$1,$S$2:$T$13,2,FALSE))),MONTH(E24),DAY(E24)))) | G24: =IF(F24="","",(DATE((YEAR(F24)+(VLOOKUP($F$1,$S$2:$T$13,2,FALSE))),MONTH(F24),DAY(F24)))) | H24: 41153 | I24: =IF(H24="","",(DATE((YEAR(H24)+(VLOOKUP($H$1,$S$2:$T$13,2,FALSE))),MONTH(H24),DAY(H24)))) -> 42248 | J24: =IF(I24="","",(DATE((YEAR(I24)+(VLOOKUP($I$1,$S$2:$T$13,2,FALSE))),MONTH(I24),DAY(I24)))) -> 43344 | K24: =IF(J24="","",(DATE((YEAR(J24)+(VLOOKUP($J$1,$S$2:$T$13,2,FALSE))),MONTH(J24),DAY(J24)))) -> 44440 | L24: =IF(K24="","",(DATE((YEAR(K24)+(VLOOKUP($K$1,$S$2:$T$13,2,FALSE))),MONTH(K24),DAY(K24)))) -> 45536 | M24: =IF(L24="","",(DATE((YEAR(L24)+(VLOOKUP($L$1,$S$2:$T$13,2,FALSE))),MONTH(L24),DAY(L24)))) -> 46631 | N24: =IF(M24="","",(DATE((YEAR(M24)+(VLOOKUP($M$1,$S$2:$T$13,2,FALSE))),MONTH(M24),DAY(M24)))) -> 47727
A25: 7 | B25: BRU | C25: =A25&" "&B25 -> 7 BRU | D25: =ROW(C25) -> 25 | F25: =IF(E25="","",(DATE((YEAR(E25)+(VLOOKUP($E$1,$S$2:$T$13,2,FALSE))),MONTH(E25),DAY(E25)))) | G25: =IF(F25="","",(DATE((YEAR(F25)+(VLOOKUP($F$1,$S$2:$T$13,2,FALSE))),MONTH(F25),DAY(F25)))) | H25: 39539 | I25: 40634 | J25: =IF(I25="","",(DATE((YEAR(I25)+(VLOOKUP($I$1,$S$2:$T$13,2,FALSE))),MONTH(I25),DAY(I25)))) -> 41730 | K25: =IF(J25="","",(DATE((YEAR(J25)+(VLOOKUP($J$1,$S$2:$T$13,2,FALSE))),MONTH(J25),DAY(J25)))) -> 42826 | L25: =IF(K25="","",(DATE((YEAR(K25)+(VLOOKUP($K$1,$S$2:$T$13,2,FALSE))),MONTH(K25),DAY(K25)))) -> 43922 | M25: =IF(L25="","",(DATE((YEAR(L25)+(VLOOKUP($L$1,$S$2:$T$13,2,FALSE))),MONTH(L25),DAY(L25)))) -> 45017 | N25: =IF(M25="","",(DATE((YEAR(M25)+(VLOOKUP($M$1,$S$2:$T$13,2,FALSE))),MONTH(M25),DAY(M25)))) -> 46113
A26: 8 | B26: JEA BRU | C26: =A26&" "&B26 -> 8 JEA BRU | D26: =ROW(C26) -> 26 | F26: =IF(E26="","",(DATE((YEAR(E26)+(VLOOKUP($E$1,$S$2:$T$13,2,FALSE))),MONTH(E26),DAY(E26)))) | G26: =IF(F26="","",(DATE((YEAR(F26)+(VLOOKUP($F$1,$S$2:$T$13,2,FALSE))),MONTH(F26),DAY(F26)))) | H26: =IF(G26="","",(DATE((YEAR(G26)+(VLOOKUP($G$1,$S$2:$T$13,2,FALSE))),MONTH(G26),DAY(G26)))) | I26: =IF(H26="","",(DATE((YEAR(H26)+(VLOOKUP($H$1,$S$2:$T$13,2,FALSE))),MONTH(H26),DAY(H26)))) | J26: =IF(I26="","",(DATE((YEAR(I26)+(VLOOKUP($I$1,$S$2:$T$13,2,FALSE))),MONTH(I26),DAY(I26)))) | K26: =IF(J26="","",(DATE((YEAR(J26)+(VLOOKUP($J$1,$S$2:$T$13,2,FALSE))),MONTH(J26),DAY(J26)))) | L26: =IF(K26="","",(DATE((YEAR(K26)+(VLOOKUP($K$1,$S$2:$T$13,2,FALSE))),MONTH(K26),DAY(K26)))) | M26: =IF(L26="","",(DATE((YEAR(L26)+(VLOOKUP($L$1,$S$2:$T$13,2,FALSE))),MONTH(L26),DAY(L26)))) | N26: 38684
A27: 9 | B27: EM | C27: =A27&" "&B27 -> 9 EM | D27: =ROW(C27) -> 27 | E27: 40791 | F27: 41183 | G27: =IF(F27="","",(DATE((YEAR(F27)+(VLOOKUP($F$1,$S$2:$T$13,2,FALSE))),MONTH(F27),DAY(F27)))) -> 41548 | H27: =IF(G27="","",(DATE((YEAR(G27)+(VLOOKUP($G$1,$S$2:$T$13,2,FALSE))),MONTH(G27),DAY(G27)))) -> 41913 | I27: =IF(H27="","",(DATE((YEAR(H27)+(VLOOKUP($H$1,$S$2:$T$13,2,FALSE))),MONTH(H27),DAY(H27)))) -> 43009 | J27: =IF(I27="","",(DATE((YEAR(I27)+(VLOOKUP($I$1,$S$2:$T$13,2,FALSE))),MONTH(I27),DAY(I27)))) -> 44105 | K27: =IF(J27="","",(DATE((YEAR(J27)+(VLOOKUP($J$1,$S$2:$T$13,2,FALSE))),MONTH(J27),DAY(J27)))) -> 45200 | L27: =IF(K27="","",(DATE((YEAR(K27)+(VLOOKUP($K$1,$S$2:$T$13,2,FALSE))),MONTH(K27),DAY(K27)))) -> 46296 | M27: =IF(L27="","",(DATE((YEAR(L27)+(VLOOKUP($L$1,$S$2:$T$13,2,FALSE))),MONTH(L27),DAY(L27)))) -> 47392 | N27: =IF(M27="","",(DATE((YEAR(M27)+(VLOOKUP($M$1,$S$2:$T$13,2,FALSE))),MONTH(M27),DAY(M27)))) -> 48488
A28: 10 | B28: NAD | C28: =A28&" "&B28 -> 10 NAD | D28: =ROW(C28) -> 28 | F28: =IF(E28="","",(DATE((YEAR(E28)+(VLOOKUP($E$1,$S$2:$T$13,2,FALSE))),MONTH(E28),DAY(E28)))) | G28: =IF(F28="","",(DATE((YEAR(F28)+(VLOOKUP($F$1,$S$2:$T$13,2,FALSE))),MONTH(F28),DAY(F28)))) | H28: 39090 | I28: 40210 | J28: =IF(I28="","",(DATE((YEAR(I28)+(VLOOKUP($I$1,$S$2:$T$13,2,FALSE))),MONTH(I28),DAY(I28)))) -> 41306 | K28: =IF(J28="","",(DATE((YEAR(J28)+(VLOOKUP($J$1,$S$2:$T$13,2,FALSE))),MONTH(J28),DAY(J28)))) -> 42401 | L28: =IF(K28="","",(DATE((YEAR(K28)+(VLOOKUP($K$1,$S$2:$T$13,2,FALSE))),MONTH(K28),DAY(K28)))) -> 43497 | M28: =IF(L28="","",(DATE((YEAR(L28)+(VLOOKUP($L$1,$S$2:$T$13,2,FALSE))),MONTH(L28),DAY(L28)))) -> 44593 | N28: =IF(M28="","",(DATE((YEAR(M28)+(VLOOKUP($M$1,$S$2:$T$13,2,FALSE))),MONTH(M28),DAY(M28)))) -> 45689
A29: 11 | B29: FA | C29: =A29&" "&B29 -> 11 FA | D29: =ROW(C29) -> 29 | F29: =IF(E29="","",(DATE((YEAR(E29)+(VLOOKUP($E$1,$S$2:$T$13,2,FALSE))),MONTH(E29),DAY(E29)))) | G29: =IF(F29="","",(DATE((YEAR(F29)+(VLOOKUP($F$1,$S$2:$T$13,2,FALSE))),MONTH(F29),DAY(F29)))) | H29: 39083 | I29: 40179 | J29: =IF(I29="","",(DATE((YEAR(I29)+(VLOOKUP($I$1,$S$2:$T$13,2,FALSE))),MONTH(I29),DAY(I29)))) -> 41275 | K29: =IF(J29="","",(DATE((YEAR(J29)+(VLOOKUP($J$1,$S$2:$T$13,2,FALSE))),MONTH(J29),DAY(J29)))) -> 42370 | L29: =IF(K29="","",(DATE((YEAR(K29)+(VLOOKUP($K$1,$S$2:$T$13,2,FALSE))),MONTH(K29),DAY(K29)))) -> 43466 | M29: =IF(L29="","",(DATE((YEAR(L29)+(VLOOKUP($L$1,$S$2:$T$13,2,FALSE))),MONTH(L29),DAY(L29)))) -> 44562 | N29: =IF(M29="","",(DATE((YEAR(M29)+(VLOOKUP($M$1,$S$2:$T$13,2,FALSE))),MONTH(M29),DAY(M29)))) -> 45658
A30: 12 | B30: BEN | C30: =A30&" "&B30 -> 12 BEN | D30: =ROW(C30) -> 30 | F30: =IF(E30="","",(DATE((YEAR(E30)+(VLOOKUP($E$1,$S$2:$T$13,2,FALSE))),MONTH(E30),DAY(E30)))) | G30: =IF(F30="","",(DATE((YEAR(F30)+(VLOOKUP($F$1,$S$2:$T$13,2,FALSE))),MONTH(F30),DAY(F30)))) | H30: 38414 | I30: 39539 | J30: 40634 | K30: =IF(J30="","",(DATE((YEAR(J30)+(VLOOKUP($J$1,$S$2:$T$13,2,FALSE))),MONTH(J30),DAY(J30)))) -> 41730 | L30: =IF(K30="","",(DATE((YEAR(K30)+(VLOOKUP($K$1,$S$2:$T$13,2,FALSE))),MONTH(K30),DAY(K30)))) -> 42826 | M30: =IF(L30="","",(DATE((YEAR(L30)+(VLOOKUP($L$1,$S$2:$T$13,2,FALSE))),MONTH(L30),DAY(L30)))) -> 43922 | N30: =IF(M30="","",(DATE((YEAR(M30)+(VLOOKUP($M$1,$S$2:$T$13,2,FALSE))),MONTH(M30),DAY(M30)))) -> 45017
A31: 13 | B31: MAR | C31: =A31&" "&B31 -> 13 MAR | D31: =ROW(C31) -> 31 | E31: 40700 | F31: 41091 | G31: =IF(F31="","",(DATE((YEAR(F31)+(VLOOKUP($F$1,$S$2:$T$13,2,FALSE))),MONTH(F31),DAY(F31)))) -> 41456 | H31: =IF(G31="","",(DATE((YEAR(G31)+(VLOOKUP($G$1,$S$2:$T$13,2,FALSE))),MONTH(G31),DAY(G31)))) -> 41821 | I31: =IF(H31="","",(DATE((YEAR(H31)+(VLOOKUP($H$1,$S$2:$T$13,2,FALSE))),MONTH(H31),DAY(H31)))) -> 42917 | J31: =IF(I31="","",(DATE((YEAR(I31)+(VLOOKUP($I$1,$S$2:$T$13,2,FALSE))),MONTH(I31),DAY(I31)))) -> 44013 | K31: =IF(J31="","",(DATE((YEAR(J31)+(VLOOKUP($J$1,$S$2:$T$13,2,FALSE))),MONTH(J31),DAY(J31)))) -> 45108 | L31: =IF(K31="","",(DATE((YEAR(K31)+(VLOOKUP($K$1,$S$2:$T$13,2,FALSE))),MONTH(K31),DAY(K31)))) -> 46204 | M31: =IF(L31="","",(DATE((YEAR(L31)+(VLOOKUP($L$1,$S$2:$T$13,2,FALSE))),MONTH(L31),DAY(L31)))) -> 47300 | N31: =IF(M31="","",(DATE((YEAR(M31)+(VLOOKUP($M$1,$S$2:$T$13,2,FALSE))),MONTH(M31),DAY(M31)))) -> 48396
A32: 14 | B32: MON | C32: =A32&" "&B32 -> 14 MON | D32: =ROW(C32) -> 32 | F32: =IF(E32="","",(DATE((YEAR(E32)+(VLOOKUP($E$1,$S$2:$T$13,2,FALSE))),MONTH(E32),DAY(E32)))) | G32: =IF(F32="","",(DATE((YEAR(F32)+(VLOOKUP($F$1,$S$2:$T$13,2,FALSE))),MONTH(F32),DAY(F32)))) | H32: 34335 | I32: 35431 | J32: 36526 | K32: 37622 | L32: 38718 | M32: 39814 | N32: 40909
A33: 15 | B33: HE | C33: =A33&" "&B33 -> 15 HE | D33: =ROW(C33) -> 33 | F33: =IF(E33="","",(DATE((YEAR(E33)+(VLOOKUP($E$1,$S$2:$T$13,2,FALSE))),MONTH(E33),DAY(E33)))) | G33: =IF(F33="","",(DATE((YEAR(F33)+(VLOOKUP($F$1,$S$2:$T$13,2,FALSE))),MONTH(F33),DAY(F33)))) | H33: 39401 | I33: 40513 | J33: =IF(I33="","",(DATE((YEAR(I33)+(VLOOKUP($I$1,$S$2:$T$13,2,FALSE))),MONTH(I33),DAY(I33)))) -> 41609 | K33: =IF(J33="","",(DATE((YEAR(J33)+(VLOOKUP($J$1,$S$2:$T$13,2,FALSE))),MONTH(J33),DAY(J33)))) -> 42705 | L33: =IF(K33="","",(DATE((YEAR(K33)+(VLOOKUP($K$1,$S$2:$T$13,2,FALSE))),MONTH(K33),DAY(K33)))) -> 43800 | M33: =IF(L33="","",(DATE((YEAR(L33)+(VLOOKUP($L$1,$S$2:$T$13,2,FALSE))),MONTH(L33),DAY(L33)))) -> 44896 | N33: =IF(M33="","",(DATE((YEAR(M33)+(VLOOKUP($M$1,$S$2:$T$13,2,FALSE))),MONTH(M33),DAY(M33)))) -> 45992
A34: 16 | B34: PHI | C34: =A34&" "&B34 -> 16 PHI | D34: =ROW(C34) -> 34 | F34: =IF(E34="","",(DATE((YEAR(E34)+(VLOOKUP($E$1,$S$2:$T$13,2,FALSE))),MONTH(E34),DAY(E34)))) | G34: =IF(F34="","",(DATE((YEAR(F34)+(VLOOKUP($F$1,$S$2:$T$13,2,FALSE))),MONTH(F34),DAY(F34)))) | H34: 34516 | I34: 35612 | J34: 36708 | K34: 37803 | L34: 38899 | M34: 39995 | N34: 41091
A35: 17 | B35: ADE | C35: =A35&" "&B35 -> 17 ADE | D35: =ROW(C35) -> 35 | F35: =IF(E35="","",(DATE((YEAR(E35)+(VLOOKUP($E$1,$S$2:$T$13,2,FALSE))),MONTH(E35),DAY(E35)))) | G35: =IF(F35="","",(DATE((YEAR(F35)+(VLOOKUP($F$1,$S$2:$T$13,2,FALSE))),MONTH(F35),DAY(F35)))) | H35: 37987 | I35: 39083 | J35: 40179 | K35: =IF(J35="","",(DATE((YEAR(J35)+(VLOOKUP($J$1,$S$2:$T$13,2,FALSE))),MONTH(J35),DAY(J35)))) -> 41275 | L35: =IF(K35="","",(DATE((YEAR(K35)+(VLOOKUP($K$1,$S$2:$T$13,2,FALSE))),MONTH(K35),DAY(K35)))) -> 42370 | M35: =IF(L35="","",(DATE((YEAR(L35)+(VLOOKUP($L$1,$S$2:$T$13,2,FALSE))),MONTH(L35),DAY(L35)))) -> 43466 | N35: =IF(M35="","",(DATE((YEAR(M35)+(VLOOKUP($M$1,$S$2:$T$13,2,FALSE))),MONTH(M35),DAY(M35)))) -> 44562
A36: 18 | B36: BA | C36: =A36&" "&B36 -> 18 BA | D36: =ROW(C36) -> 36 | F36: =IF(E36="","",(DATE((YEAR(E36)+(VLOOKUP($E$1,$S$2:$T$13,2,FALSE))),MONTH(E36),DAY(E36)))) | G36: =IF(F36="","",(DATE((YEAR(F36)+(VLOOKUP($F$1,$S$2:$T$13,2,FALSE))),MONTH(F36),DAY(F36)))) | H36: 39448 | I36: 40544 | J36: =IF(I36="","",(DATE((YEAR(I36)+(VLOOKUP($I$1,$S$2:$T$13,2,FALSE))),MONTH(I36),DAY(I36)))) -> 41640 | K36: =IF(J36="","",(DATE((YEAR(J36)+(VLOOKUP($J$1,$S$2:$T$13,2,FALSE))),MONTH(J36),DAY(J36)))) -> 42736 | L36: =IF(K36="","",(DATE((YEAR(K36)+(VLOOKUP($K$1,$S$2:$T$13,2,FALSE))),MONTH(K36),DAY(K36)))) -> 43831 | M36: =IF(L36="","",(DATE((YEAR(L36)+(VLOOKUP($L$1,$S$2:$T$13,2,FALSE))),MONTH(L36),DAY(L36)))) -> 44927 | N36: =IF(M36="","",(DATE((YEAR(M36)+(VLOOKUP($M$1,$S$2:$T$13,2,FALSE))),MONTH(M36),DAY(M36)))) -> 46023
A37: 19 | B37: KARI | C37: =A37&" "&B37 -> 19 KARI | D37: =ROW(C37) -> 37 | F37: =IF(E37="","",(DATE((YEAR(E37)+(VLOOKUP($E$1,$S$2:$T$13,2,FALSE))),MONTH(E37),DAY(E37)))) | G37: =IF(F37="","",(DATE((YEAR(F37)+(VLOOKUP($F$1,$S$2:$T$13,2,FALSE))),MONTH(F37),DAY(F37)))) | H37: 39083 | I37: 40179 | J37: =IF(I37="","",(DATE((YEAR(I37)+(VLOOKUP($I$1,$S$2:$T$13,2,FALSE))),MONTH(I37),DAY(I37)))) -> 41275 | K37: =IF(J37="","",(DATE((YEAR(J37)+(VLOOKUP($J$1,$S$2:$T$13,2,FALSE))),MONTH(J37),DAY(J37)))) -> 42370 | L37: =IF(K37="","",(DATE((YEAR(K37)+(VLOOKUP($K$1,$S$2:$T$13,2,FALSE))),MONTH(K37),DAY(K37)))) -> 43466 | M37: =IF(L37="","",(DATE((YEAR(L37)+(VLOOKUP($L$1,$S$2:$T$13,2,FALSE))),MONTH(L37),DAY(L37)))) -> 44562 | N37: =IF(M37="","",(DATE((YEAR(M37)+(VLOOKUP($M$1,$S$2:$T$13,2,FALSE))),MONTH(M37),DAY(M37)))) -> 45658
A38: 20 | B38: ROBER | C38: =A38&" "&B38 -> 20 ROBER | D38: =ROW(C38) -> 38 | F38: =IF(E38="","",(DATE((YEAR(E38)+(VLOOKUP($E$1,$S$2:$T$13,2,FALSE))),MONTH(E38),DAY(E38)))) | G38: =IF(F38="","",(DATE((YEAR(F38)+(VLOOKUP($F$1,$S$2:$T$13,2,FALSE))),MONTH(F38),DAY(F38)))) | H38: =IF(G38="","",(DATE((YEAR(G38)+(VLOOKUP($G$1,$S$2:$T$13,2,FALSE))),MONTH(G38),DAY(G38)))) | I38: =IF(H38="","",(DATE((YEAR(H38)+(VLOOKUP($H$1,$S$2:$T$13,2,FALSE))),MONTH(H38),DAY(H38)))) | J38: =IF(I38="","",(DATE((YEAR(I38)+(VLOOKUP($I$1,$S$2:$T$13,2,FALSE))),MONTH(I38),DAY(I38)))) | K38: =IF(J38="","",(DATE((YEAR(J38)+(VLOOKUP($J$1,$S$2:$T$13,2,FALSE))),MONTH(J38),DAY(J38)))) | L38: =IF(K38="","",(DATE((YEAR(K38)+(VLOOKUP($K$1,$S$2:$T$13,2,FALSE))),MONTH(K38),DAY(K38)))) | M38: =IF(L38="","",(DATE((YEAR(L38)+(VLOOKUP($L$1,$S$2:$T$13,2,FALSE))),MONTH(L38),DAY(L38)))) | N38: =IF(M38="","",(DATE((YEAR(M38)+(VLOOKUP($M$1,$S$2:$T$13,2,FALSE))),MONTH(M38),DAY(M38)))) | O38: 38718 | P38: 39083
A39: 21 | B39: CHRISTIAN | C39: =A39&" "&B39 -> 21 CHRISTIAN | D39: =ROW(C39) -> 39 | F39: =IF(E39="","",(DATE((YEAR(E39)+(VLOOKUP($E$1,$S$2:$T$13,2,FALSE))),MONTH(E39),DAY(E39)))) | G39: =IF(F39="","",(DATE((YEAR(F39)+(VLOOKUP($F$1,$S$2:$T$13,2,FALSE))),MONTH(F39),DAY(F39)))) | H39: 36647 | I39: 37773 | J39: 38869 | K39: 39965 | L39: 41061 | M39: =IF(L39="","",(DATE((YEAR(L39)+(VLOOKUP($L$1,$S$2:$T$13,2,FALSE))),MONTH(L39),DAY(L39)))) -> 42156 | N39: =IF(M39="","",(DATE((YEAR(M39)+(VLOOKUP($M$1,$S$2:$T$13,2,FALSE))),MONTH(M39),DAY(M39)))) -> 43252
A40: 22 | B40: SEBAS | C40: =A40&" "&B40 -> 22 SEBAS | D40: =ROW(C40) -> 40 | F40: =IF(E40="","",(DATE((YEAR(E40)+(VLOOKUP($E$1,$S$2:$T$13,2,FALSE))),MONTH(E40),DAY(E40)))) | G40: =IF(F40="","",(DATE((YEAR(F40)+(VLOOKUP($F$1,$S$2:$T$13,2,FALSE))),MONTH(F40),DAY(F40)))) | H40: 38874 | I40: 39995 | J40: 41091 | K40: =IF(J40="","",(DATE((YEAR(J40)+(VLOOKUP($J$1,$S$2:$T$13,2,FALSE))),MONTH(J40),DAY(J40)))) -> 42186 | L40: =IF(K40="","",(DATE((YEAR(K40)+(VLOOKUP($K$1,$S$2:$T$13,2,FALSE))),MONTH(K40),DAY(K40)))) -> 43282 | M40: =IF(L40="","",(DATE((YEAR(L40)+(VLOOKUP($L$1,$S$2:$T$13,2,FALSE))),MONTH(L40),DAY(L40)))) -> 44378 | N40: =IF(M40="","",(DATE((YEAR(M40)+(VLOOKUP($M$1,$S$2:$T$13,2,FALSE))),MONTH(M40),DAY(M40)))) -> 45474
...

Sheet Recap Changement
A4: 1 | C4: =VLOOKUP($A$4,Feuil4!B:C,3,FALSE) -> #N/A
A5: 2
A6: 3
A7: 4
A8: 5
A9: 6
A10: 7
A11: 8
A12: 9
A13: 10
A14: 11
A15: 12
A16: 13
... A65: 62

Sheet Feuil4
A1: 2013 | C1: 2014 | E1: 2015 | G1: 2016 | I1: 2017 | K1: 2018 | M1: 2019 | O1: 2020 | Q1: 2021 | S1: 2022 | U1: 2023 | W1: 2024 | Y1: 2025 | AA1: 2026 | AC1: 2027 | AE1: 2028 | AG1: 2029 | AI1: 2030 | AK1: 2031 | AM1: 2032 | AO1: 2033 | AQ1: 2034 | AS1: 2035
A2: Modification | B2: Name | C2: Modification | D2: Name | E2: Modification | F2: Name | G2: Modification | H2: Name | I2: Modification | J2: Name | K2: Modification | L2: Name | M2: Modification | N2: Name | O2: Modification | P2: Name | Q2: Modification | R2: Name | S2: Modification | T2: Name | U2: Modification | V2: Name | W2: Modification | X2: Name | Y2: Modification | Z2: Name | AA2: Modification | AB2: Name | AC2: Modification | AD2: Name | AE2: Modification | AF2: Name | AG2: Modification | AH2: Name | AI2: Modification | AJ2: Name | AK2: Modification | AL2: Name | AM2: Modification | AN2: Name | AO2: Modification | AP2: Name | AQ2: Modification | AR2: Name | AS2: Modification | AT2: Name
A3: =IF(B3<>"",IF(OR(AND(DATE(2014,1,1)>Coeff!E2,Coeff!E2>DATE(2012,12,31)),AND(DATE(2014,1,1)>Coeff!F2,Coeff!F2>DATE(2012,12,31)),AND(DATE(2014,1,1)>Coeff!G2,Coeff!G2>DATE(2012,12,31)),AND(DATE(2014,1,1)>Coeff!H2,Coeff!H2>DATE(2012,12,31)),AND(DATE(2014,1,1)>Coeff!I2,Coeff!I2>DATE(2012,12,31)),AND(DATE(2014,1,1)>Coeff!J2,Coeff!J2>DATE(2012,12,31)),AND(DATE(2014,1,1)>Coeff!K2,Coeff!K2>DATE(2012,12,31)),AND(DATE(2014,1,1)>Coeff!L2,Coeff!L2>DATE(2012,12,31)),AND(DATE(2014,1,1)>Coeff!M2,Coeff!M2>DATE(2012,12,31)),AND(DATE(2014,1,1)>Coeff!N2,Coeff!N2>DATE(2012,12,31)),AND(DATE(2014,1,1)>Coeff!O2,Coeff!O2>DATE(2012,12,31)),AND(DATE(2014,1,1)>Coeff!P2,Coeff!P2>DATE(2012,12,31))),IF(MAX($A$2:A2)=0,1,MAX($A$2:A2)+1),""),"") | B3: =IF(Coeff!$C$2<>"",Coeff!$C$2,"") -> Blip Bla | C3: =IF(B3<>"",IF(OR(AND(DATE(2015,1,1)>Coeff!E2,Coeff!E2>DATE(2013,12,31)),AND(DATE(2015,1,1)>Coeff!F2,Coeff!F2>DATE(2013,12,31)),AND(DATE(2015,1,1)>Coeff!G2,Coeff!G2>DATE(2013,12,31)),AND(DATE(2015,1,1)>Coeff!H2,Coeff!H2>DATE(2013,12,31)),AND(DATE(2015,1,1)>Coeff!I2,Coeff!I2>DATE(2013,12,31)),AND(DATE(2015,1,1)>Coeff!J2,Coeff!J2>DATE(2013,12,31)),AND(DATE(2015,1,1)>Coeff!K2,Coeff!K2>DATE(2013,12,31)),AND(DATE(2015,1,1)>Coeff!L2,Coeff!L2>DATE(2013,12,31)),AND(DATE(2015,1,1)>Coeff!M2,Coeff!M2>DATE(2013,12,31)),AND(DATE(2015,1,1)>Coeff!N2,Coeff!N2>DATE(2013,12,31)),AND(DATE(2015,1,1)>Coeff!O2,Coeff!O2>DATE(2013,12,31)),AND(DATE(2015,1,1)>Coeff!P2,Coeff!P2>DATE(2013,12,31))),IF(MAX($C1:C$2)=0,1,MAX($C$2:C2)+1),""),"") | D3: =IF(Coeff!C2<>"",Coeff!C2,"") -> Blip Bla | E3: =IF(B3<>"",IF(OR(AND(DATE(2016,1,1)>Coeff!E2,Coeff!E2>DATE(2014,12,31)),AND(DATE(2016,1,1)>Coeff!F2,Coeff!F2>DATE(2014,12,31)),AND(DATE(2016,1,1)>Coeff!G2,Coeff!G2>DATE(2014,12,31)),AND(DATE(2016,1,1)>Coeff!H2,Coeff!H2>DATE(2014,12,31)),AND(DATE(2016,1,1)>Coeff!I2,Coeff!I2>DATE(2014,12,31)),AND(DATE(2016,1,1)>Coeff!J2,Coeff!J2>DATE(2014,12,31)),AND(DATE(2016,1,1)>Coeff!K2,Coeff!K2>DATE(2014,12,31)),AND(DATE(2016,1,1)>Coeff!L2,Coeff!L2>DATE(2014,12,31)),AND(DATE(2016,1,1)>Coeff!M2,Coeff!M2>DATE(2014,12,31)),AND(DATE(2016,1,1)>Coeff!N2,Coeff!N2>DATE(2014,12,31)),AND(DATE(2016,1,1)>Coeff!O2,Coeff!O2>DATE(2014,12,31)),AND(DATE(2016,1,1)>Coeff!P2,Coeff!P2>DATE(2014,12,31))),IF(MAX($E1:E$2)=0,1,MAX($E$2:E2)+1),""),"") -> 1 | F3: =IF(Coeff!C2<>"",Coeff!C2,"") -> Blip Bla | H3: =IF(Coeff!C2<>"",Coeff!C2,"") -> Blip Bla | J3: =IF(Coeff!C2<>"",Coeff!C2,"") -> Blip Bla | L3: =IF(Coeff!C2<>"",Coeff!C2,"") -> Blip Bla | N3: =IF(Coeff!C2<>"",Coeff!C2,"") -> Blip Bla
A4: =IF(B4<>"",IF(OR(AND(DATE(2014,1,1)>Coeff!E3,Coeff!E3>DATE(2012,12,31)),AND(DATE(2014,1,1)>Coeff!F3,Coeff!F3>DATE(2012,12,31)),AND(DATE(2014,1,1)>Coeff!G3,Coeff!G3>DATE(2012,12,31)),AND(DATE(2014,1,1)>Coeff!H3,Coeff!H3>DATE(2012,12,31)),AND(DATE(2014,1,1)>Coeff!I3,Coeff!I3>DATE(2012,12,31)),AND(DATE(2014,1,1)>Coeff!J3,Coeff!J3>DATE(2012,12,31)),AND(DATE(2014,1,1)>Coeff!K3,Coeff!K3>DATE(2012,12,31)),AND(DATE(2014,1,1)>Coeff!L3,Coeff!L3>DATE(2012,12,31)),AND(DATE(2014,1,1)>Coeff!M3,Coeff!M3>DATE(2012,12,31)),AND(DATE(2014,1,1)>Coeff!N3,Coeff!N3>DATE(2012,12,31)),AND(DATE(2014,1,1)>Coeff!O3,Coeff!O3>DATE(2012,12,31)),AND(DATE(2014,1,1)>Coeff!P3,Coeff!P3>DATE(2012,12,31))),IF(ROW(B4)=2,1,MAX($A$2:A3)+1),""),"") | B4: =IF(Coeff!C3<>"",Coeff!C3,"") -> Bloup bou | C4: =IF(B4<>"",IF(OR(AND(DATE(2015,1,1)>Coeff!E3,Coeff!E3>DATE(2013,12,31)),AND(DATE(2015,1,1)>Coeff!F3,Coeff!F3>DATE(2013,12,31)),AND(DATE(2015,1,1)>Coeff!G3,Coeff!G3>DATE(2013,12,31)),AND(DATE(2015,1,1)>Coeff!H3,Coeff!H3>DATE(2013,12,31)),AND(DATE(2015,1,1)>Coeff!I3,Coeff!I3>DATE(2013,12,31)),AND(DATE(2015,1,1)>Coeff!J3,Coeff!J3>DATE(2013,12,31)),AND(DATE(2015,1,1)>Coeff!K3,Coeff!K3>DATE(2013,12,31)),AND(DATE(2015,1,1)>Coeff!L3,Coeff!L3>DATE(2013,12,31)),AND(DATE(2015,1,1)>Coeff!M3,Coeff!M3>DATE(2013,12,31)),AND(DATE(2015,1,1)>Coeff!N3,Coeff!N3>DATE(2013,12,31)),AND(DATE(2015,1,1)>Coeff!O3,Coeff!O3>DATE(2013,12,31)),AND(DATE(2015,1,1)>Coeff!P3,Coeff!P3>DATE(2013,12,31))),IF(MAX($C2:C$2)=0,1,MAX($C$2:C3)+1),""),"") -> 1 | D4: =IF(Coeff!C3<>"",Coeff!C3,"") -> Bloup bou | E4: =IF(B4<>"",IF(OR(AND(DATE(2016,1,1)>Coeff!E3,Coeff!E3>DATE(2014,12,31)),AND(DATE(2016,1,1)>Coeff!F3,Coeff!F3>DATE(2014,12,31)),AND(DATE(2016,1,1)>Coeff!G3,Coeff!G3>DATE(2014,12,31)),AND(DATE(2016,1,1)>Coeff!H3,Coeff!H3>DATE(2014,12,31)),AND(DATE(2016,1,1)>Coeff!I3,Coeff!I3>DATE(2014,12,31)),AND(DATE(2016,1,1)>Coeff!J3,Coeff!J3>DATE(2014,12,31)),AND(DATE(2016,1,1)>Coeff!K3,Coeff!K3>DATE(2014,12,31)),AND(DATE(2016,1,1)>Coeff!L3,Coeff!L3>DATE(2014,12,31)),AND(DATE(2016,1,1)>Coeff!M3,Coeff!M3>DATE(2014,12,31)),AND(DATE(2016,1,1)>Coeff!N3,Coeff!N3>DATE(2014,12,31)),AND(DATE(2016,1,1)>Coeff!O3,Coeff!O3>DATE(2014,12,31)),AND(DATE(2016,1,1)>Coeff!P3,Coeff!P3>DATE(2014,12,31))),IF(MAX($E2:E$2)=0,1,MAX($E$2:E3)+1),""),"") | F4: =IF(Coeff!C3<>"",Coeff!C3,"") -> Bloup bou
A5: =IF(B5<>"",IF(OR(AND(DATE(2014,1,1)>Coeff!E4,Coeff!E4>DATE(2012,12,31)),AND(DATE(2014,1,1)>Coeff!F4,Coeff!F4>DATE(2012,12,31)),AND(DATE(2014,1,1)>Coeff!G4,Coeff!G4>DATE(2012,12,31)),AND(DATE(2014,1,1)>Coeff!H4,Coeff!H4>DATE(2012,12,31)),AND(DATE(2014,1,1)>Coeff!I4,Coeff!I4>DATE(2012,12,31)),AND(DATE(2014,1,1)>Coeff!J4,Coeff!J4>DATE(2012,12,31)),AND(DATE(2014,1,1)>Coeff!K4,Coeff!K4>DATE(2012,12,31)),AND(DATE(2014,1,1)>Coeff!L4,Coeff!L4>DATE(2012,12,31)),AND(DATE(2014,1,1)>Coeff!M4,Coeff!M4>DATE(2012,12,31)),AND(DATE(2014,1,1)>Coeff!N4,Coeff!N4>DATE(2012,12,31)),AND(DATE(2014,1,1)>Coeff!O4,Coeff!O4>DATE(2012,12,31)),AND(DATE(2014,1,1)>Coeff!P4,Coeff!P4>DATE(2012,12,31))),IF(ROW(B5)=2,1,MAX($A$2:A4)+1),""),"") | B5: =IF(Coeff!C4<>"",Coeff!C4,"") -> Blap bi | C5: =IF(B5<>"",IF(OR(AND(DATE(2015,1,1)>Coeff!E4,Coeff!E4>DATE(2013,12,31)),AND(DATE(2015,1,1)>Coeff!F4,Coeff!F4>DATE(2013,12,31)),AND(DATE(2015,1,1)>Coeff!G4,Coeff!G4>DATE(2013,12,31)),AND(DATE(2015,1,1)>Coeff!H4,Coeff!H4>DATE(2013,12,31)),AND(DATE(2015,1,1)>Coeff!I4,Coeff!I4>DATE(2013,12,31)),AND(DATE(2015,1,1)>Coeff!J4,Coeff!J4>DATE(2013,12,31)),AND(DATE(2015,1,1)>Coeff!K4,Coeff!K4>DATE(2013,12,31)),AND(DATE(2015,1,1)>Coeff!L4,Coeff!L4>DATE(2013,12,31)),AND(DATE(2015,1,1)>Coeff!M4,Coeff!M4>DATE(2013,12,31)),AND(DATE(2015,1,1)>Coeff!N4,Coeff!N4>DATE(2013,12,31)),AND(DATE(2015,1,1)>Coeff!O4,Coeff!O4>DATE(2013,12,31)),AND(DATE(2015,1,1)>Coeff!P4,Coeff!P4>DATE(2013,12,31))),IF(MAX($C$2:C3)=0,1,MAX($C$2:C4)+1),""),"") | D5: =IF(Coeff!C4<>"",Coeff!C4,"") -> Blap bi | E5: =IF(B5<>"",IF(OR(AND(DATE(2016,1,1)>Coeff!E4,Coeff!E4>DATE(2014,12,31)),AND(DATE(2016,1,1)>Coeff!F4,Coeff!F4>DATE(2014,12,31)),AND(DATE(2016,1,1)>Coeff!G4,Coeff!G4>DATE(2014,12,31)),AND(DATE(2016,1,1)>Coeff!H4,Coeff!H4>DATE(2014,12,31)),AND(DATE(2016,1,1)>Coeff!I4,Coeff!I4>DATE(2014,12,31)),AND(DATE(2016,1,1)>Coeff!J4,Coeff!J4>DATE(2014,12,31)),AND(DATE(2016,1,1)>Coeff!K4,Coeff!K4>DATE(2014,12,31)),AND(DATE(2016,1,1)>Coeff!L4,Coeff!L4>DATE(2014,12,31)),AND(DATE(2016,1,1)>Coeff!M4,Coeff!M4>DATE(2014,12,31)),AND(DATE(2016,1,1)>Coeff!N4,Coeff!N4>DATE(2014,12,31)),AND(DATE(2016,1,1)>Coeff!O4,Coeff!O4>DATE(2014,12,31)),AND(DATE(2016,1,1)>Coeff!P4,Coeff!P4>DATE(2014,12,31))),IF(MAX($E$2:E3)=0,1,MAX($E$2:E4)+1),""),"") | F5: =IF(Coeff!C4<>"",Coeff!C4,"") -> Blap bi
A6: =IF(B6<>"",IF(OR(AND(DATE(2014,1,1)>Coeff!E5,Coeff!E5>DATE(2012,12,31)),AND(DATE(2014,1,1)>Coeff!F5,Coeff!F5>DATE(2012,12,31)),AND(DATE(2014,1,1)>Coeff!G5,Coeff!G5>DATE(2012,12,31)),AND(DATE(2014,1,1)>Coeff!H5,Coeff!H5>DATE(2012,12,31)),AND(DATE(2014,1,1)>Coeff!I5,Coeff!I5>DATE(2012,12,31)),AND(DATE(2014,1,1)>Coeff!J5,Coeff!J5>DATE(2012,12,31)),AND(DATE(2014,1,1)>Coeff!K5,Coeff!K5>DATE(2012,12,31)),AND(DATE(2014,1,1)>Coeff!L5,Coeff!L5>DATE(2012,12,31)),AND(DATE(2014,1,1)>Coeff!M5,Coeff!M5>DATE(2012,12,31)),AND(DATE(2014,1,1)>Coeff!N5,Coeff!N5>DATE(2012,12,31)),AND(DATE(2014,1,1)>Coeff!O5,Coeff!O5>DATE(2012,12,31)),AND(DATE(2014,1,1)>Coeff!P5,Coeff!P5>DATE(2012,12,31))),IF(ROW(B6)=2,1,MAX($A$2:A5)+1),""),"") | B6: =IF(Coeff!C5<>"",Coeff!C5,"") -> bibou blabli | C6: =IF(B6<>"",IF(OR(AND(DATE(2015,1,1)>Coeff!E5,Coeff!E5>DATE(2013,12,31)),AND(DATE(2015,1,1)>Coeff!F5,Coeff!F5>DATE(2013,12,31)),AND(DATE(2015,1,1)>Coeff!G5,Coeff!G5>DATE(2013,12,31)),AND(DATE(2015,1,1)>Coeff!H5,Coeff!H5>DATE(2013,12,31)),AND(DATE(2015,1,1)>Coeff!I5,Coeff!I5>DATE(2013,12,31)),AND(DATE(2015,1,1)>Coeff!J5,Coeff!J5>DATE(2013,12,31)),AND(DATE(2015,1,1)>Coeff!K5,Coeff!K5>DATE(2013,12,31)),AND(DATE(2015,1,1)>Coeff!L5,Coeff!L5>DATE(2013,12,31)),AND(DATE(2015,1,1)>Coeff!M5,Coeff!M5>DATE(2013,12,31)),AND(DATE(2015,1,1)>Coeff!N5,Coeff!N5>DATE(2013,12,31)),AND(DATE(2015,1,1)>Coeff!O5,Coeff!O5>DATE(2013,12,31)),AND(DATE(2015,1,1)>Coeff!P5,Coeff!P5>DATE(2013,12,31))),IF(MAX($C$2:C4)=0,1,MAX($C$2:C5)+1),""),"") -> 2 | D6: =IF(Coeff!C5<>"",Coeff!C5,"") -> bibou blabli | E6: =IF(B6<>"",IF(OR(AND(DATE(2016,1,1)>Coeff!E5,Coeff!E5>DATE(2014,12,31)),AND(DATE(2016,1,1)>Coeff!F5,Coeff!F5>DATE(2014,12,31)),AND(DATE(2016,1,1)>Coeff!G5,Coeff!G5>DATE(2014,12,31)),AND(DATE(2016,1,1)>Coeff!H5,Coeff!H5>DATE(2014,12,31)),AND(DATE(2016,1,1)>Coeff!I5,Coeff!I5>DATE(2014,12,31)),AND(DATE(2016,1,1)>Coeff!J5,Coeff!J5>DATE(2014,12,31)),AND(DATE(2016,1,1)>Coeff!K5,Coeff!K5>DATE(2014,12,31)),AND(DATE(2016,1,1)>Coeff!L5,Coeff!L5>DATE(2014,12,31)),AND(DATE(2016,1,1)>Coeff!M5,Coeff!M5>DATE(2014,12,31)),AND(DATE(2016,1,1)>Coeff!N5,Coeff!N5>DATE(2014,12,31)),AND(DATE(2016,1,1)>Coeff!O5,Coeff!O5>DATE(2014,12,31)),AND(DATE(2016,1,1)>Coeff!P5,Coeff!P5>DATE(2014,12,31))),IF(MAX($E$2:E4)=0,1,MAX($E$2:E5)+1),""),"") | F6: =IF(Coeff!C5<>"",Coeff!C5,"") -> bibou blabli
A7: =IF(B7<>"",IF(OR(AND(DATE(2014,1,1)>Coeff!E6,Coeff!E6>DATE(2012,12,31)),AND(DATE(2014,1,1)>Coeff!F6,Coeff!F6>DATE(2012,12,31)),AND(DATE(2014,1,1)>Coeff!G6,Coeff!G6>DATE(2012,12,31)),AND(DATE(2014,1,1)>Coeff!H6,Coeff!H6>DATE(2012,12,31)),AND(DATE(2014,1,1)>Coeff!I6,Coeff!I6>DATE(2012,12,31)),AND(DATE(2014,1,1)>Coeff!J6,Coeff!J6>DATE(2012,12,31)),AND(DATE(2014,1,1)>Coeff!K6,Coeff!K6>DATE(2012,12,31)),AND(DATE(2014,1,1)>Coeff!L6,Coeff!L6>DATE(2012,12,31)),AND(DATE(2014,1,1)>Coeff!M6,Coeff!M6>DATE(2012,12,31)),AND(DATE(2014,1,1)>Coeff!N6,Coeff!N6>DATE(2012,12,31)),AND(DATE(2014,1,1)>Coeff!O6,Coeff!O6>DATE(2012,12,31)),AND(DATE(2014,1,1)>Coeff!P6,Coeff!P6>DATE(2012,12,31))),IF(ROW(B7)=2,1,MAX($A$2:A6)+1),""),"") | B7: =IF(Coeff!C6<>"",Coeff!C6,"") -> AB GERARD | C7: =IF(B7<>"",IF(OR(AND(DATE(2015,1,1)>Coeff!E6,Coeff!E6>DATE(2013,12,31)),AND(DATE(2015,1,1)>Coeff!F6,Coeff!F6>DATE(2013,12,31)),AND(DATE(2015,1,1)>Coeff!G6,Coeff!G6>DATE(2013,12,31)),AND(DATE(2015,1,1)>Coeff!H6,Coeff!H6>DATE(2013,12,31)),AND(DATE(2015,1,1)>Coeff!I6,Coeff!I6>DATE(2013,12,31)),AND(DATE(2015,1,1)>Coeff!J6,Coeff!J6>DATE(2013,12,31)),AND(DATE(2015,1,1)>Coeff!K6,Coeff!K6>DATE(2013,12,31)),AND(DATE(2015,1,1)>Coeff!L6,Coeff!L6>DATE(2013,12,31)),AND(DATE(2015,1,1)>Coeff!M6,Coeff!M6>DATE(2013,12,31)),AND(DATE(2015,1,1)>Coeff!N6,Coeff!N6>DATE(2013,12,31)),AND(DATE(2015,1,1)>Coeff!O6,Coeff!O6>DATE(2013,12,31)),AND(DATE(2015,1,1)>Coeff!P6,Coeff!P6>DATE(2013,12,31))),IF(MAX($C$2:C5)=0,1,MAX($C$2:C6)+1),""),"") -> 3 | D7: =IF(Coeff!C6<>"",Coeff!C6,"") -> AB GERARD | E7: =IF(B7<>"",IF(OR(AND(DATE(2016,1,1)>Coeff!E6,Coeff!E6>DATE(2014,12,31)),AND(DATE(2016,1,1)>Coeff!F6,Coeff!F6>DATE(2014,12,31)),AND(DATE(2016,1,1)>Coeff!G6,Coeff!G6>DATE(2014,12,31)),AND(DATE(2016,1,1)>Coeff!H6,Coeff!H6>DATE(2014,12,31)),AND(DATE(2016,1,1)>Coeff!I6,Coeff!I6>DATE(2014,12,31)),AND(DATE(2016,1,1)>Coeff!J6,Coeff!J6>DATE(2014,12,31)),AND(DATE(2016,1,1)>Coeff!K6,Coeff!K6>DATE(2014,12,31)),AND(DATE(2016,1,1)>Coeff!L6,Coeff!L6>DATE(2014,12,31)),AND(DATE(2016,1,1)>Coeff!M6,Coeff!M6>DATE(2014,12,31)),AND(DATE(2016,1,1)>Coeff!N6,Coeff!N6>DATE(2014,12,31)),AND(DATE(2016,1,1)>Coeff!O6,Coeff!O6>DATE(2014,12,31)),AND(DATE(2016,1,1)>Coeff!P6,Coeff!P6>DATE(2014,12,31))),IF(MAX($E$2:E5)=0,1,MAX($E$2:E6)+1),""),"") | F7: =IF(Coeff!C6<>"",Coeff!C6,"") -> AB GERARD
A8: =IF(B8<>"",IF(OR(AND(DATE(2014,1,1)>Coeff!E7,Coeff!E7>DATE(2012,12,31)),AND(DATE(2014,1,1)>Coeff!F7,Coeff!F7>DATE(2012,12,31)),AND(DATE(2014,1,1)>Coeff!G7,Coeff!G7>DATE(2012,12,31)),AND(DATE(2014,1,1)>Coeff!H7,Coeff!H7>DATE(2012,12,31)),AND(DATE(2014,1,1)>Coeff!I7,Coeff!I7>DATE(2012,12,31)),AND(DATE(2014,1,1)>Coeff!J7,Coeff!J7>DATE(2012,12,31)),AND(DATE(2014,1,1)>Coeff!K7,Coeff!K7>DATE(2012,12,31)),AND(DATE(2014,1,1)>Coeff!L7,Coeff!L7>DATE(2012,12,31)),AND(DATE(2014,1,1)>Coeff!M7,Coeff!M7>DATE(2012,12,31)),AND(DATE(2014,1,1)>Coeff!N7,Coeff!N7>DATE(2012,12,31)),AND(DATE(2014,1,1)>Coeff!O7,Coeff!O7>DATE(2012,12,31)),AND(DATE(2014,1,1)>Coeff!P7,Coeff!P7>DATE(2012,12,31))),IF(ROW(B8)=2,1,MAX($A$2:A7)+1),""),"") | B8: =IF(Coeff!C7<>"",Coeff!C7,"") -> AC JEAN LUC | C8: =IF(B8<>"",IF(OR(AND(DATE(2015,1,1)>Coeff!E7,Coeff!E7>DATE(2013,12,31)),AND(DATE(2015,1,1)>Coeff!F7,Coeff!F7>DATE(2013,12,31)),AND(DATE(2015,1,1)>Coeff!G7,Coeff!G7>DATE(2013,12,31)),AND(DATE(2015,1,1)>Coeff!H7,Coeff!H7>DATE(2013,12,31)),AND(DATE(2015,1,1)>Coeff!I7,Coeff!I7>DATE(2013,12,31)),AND(DATE(2015,1,1)>Coeff!J7,Coeff!J7>DATE(2013,12,31)),AND(DATE(2015,1,1)>Coeff!K7,Coeff!K7>DATE(2013,12,31)),AND(DATE(2015,1,1)>Coeff!L7,Coeff!L7>DATE(2013,12,31)),AND(DATE(2015,1,1)>Coeff!M7,Coeff!M7>DATE(2013,12,31)),AND(DATE(2015,1,1)>Coeff!N7,Coeff!N7>DATE(2013,12,31)),AND(DATE(2015,1,1)>Coeff!O7,Coeff!O7>DATE(2013,12,31)),AND(DATE(2015,1,1)>Coeff!P7,Coeff!P7>DATE(2013,12,31))),IF(MAX($C$2:C6)=0,1,MAX($C$2:C7)+1),""),"") -> 4 | D8: =IF(Coeff!C7<>"",Coeff!C7,"") -> AC JEAN LUC | E8: =IF(B8<>"",IF(OR(AND(DATE(2016,1,1)>Coeff!E7,Coeff!E7>DATE(2014,12,31)),AND(DATE(2016,1,1)>Coeff!F7,Coeff!F7>DATE(2014,12,31)),AND(DATE(2016,1,1)>Coeff!G7,Coeff!G7>DATE(2014,12,31)),AND(DATE(2016,1,1)>Coeff!H7,Coeff!H7>DATE(2014,12,31)),AND(DATE(2016,1,1)>Coeff!I7,Coeff!I7>DATE(2014,12,31)),AND(DATE(2016,1,1)>Coeff!J7,Coeff!J7>DATE(2014,12,31)),AND(DATE(2016,1,1)>Coeff!K7,Coeff!K7>DATE(2014,12,31)),AND(DATE(2016,1,1)>Coeff!L7,Coeff!L7>DATE(2014,12,31)),AND(DATE(2016,1,1)>Coeff!M7,Coeff!M7>DATE(2014,12,31)),AND(DATE(2016,1,1)>Coeff!N7,Coeff!N7>DATE(2014,12,31)),AND(DATE(2016,1,1)>Coeff!O7,Coeff!O7>DATE(2014,12,31)),AND(DATE(2016,1,1)>Coeff!P7,Coeff!P7>DATE(2014,12,31))),IF(MAX($E$2:E6)=0,1,MAX($E$2:E7)+1),""),"") | F8: =IF(Coeff!C7<>"",Coeff!C7,"") -> AC JEAN LUC
A9: =IF(B9<>"",IF(OR(AND(DATE(2014,1,1)>Coeff!E8,Coeff!E8>DATE(2012,12,31)),AND(DATE(2014,1,1)>Coeff!F8,Coeff!F8>DATE(2012,12,31)),AND(DATE(2014,1,1)>Coeff!G8,Coeff!G8>DATE(2012,12,31)),AND(DATE(2014,1,1)>Coeff!H8,Coeff!H8>DATE(2012,12,31)),AND(DATE(2014,1,1)>Coeff!I8,Coeff!I8>DATE(2012,12,31)),AND(DATE(2014,1,1)>Coeff!J8,Coeff!J8>DATE(2012,12,31)),AND(DATE(2014,1,1)>Coeff!K8,Coeff!K8>DATE(2012,12,31)),AND(DATE(2014,1,1)>Coeff!L8,Coeff!L8>DATE(2012,12,31)),AND(DATE(2014,1,1)>Coeff!M8,Coeff!M8>DATE(2012,12,31)),AND(DATE(2014,1,1)>Coeff!N8,Coeff!N8>DATE(2012,12,31)),AND(DATE(2014,1,1)>Coeff!O8,Coeff!O8>DATE(2012,12,31)),AND(DATE(2014,1,1)>Coeff!P8,Coeff!P8>DATE(2012,12,31))),IF(ROW(B9)=2,1,MAX($A$2:A8)+1),""),"") -> 1 | B9: =IF(Coeff!C8<>"",Coeff!C8,"") -> CHA GILLES | C9: =IF(B9<>"",IF(OR(AND(DATE(2015,1,1)>Coeff!E8,Coeff!E8>DATE(2013,12,31)),AND(DATE(2015,1,1)>Coeff!F8,Coeff!F8>DATE(2013,12,31)),AND(DATE(2015,1,1)>Coeff!G8,Coeff!G8>DATE(2013,12,31)),AND(DATE(2015,1,1)>Coeff!H8,Coeff!H8>DATE(2013,12,31)),AND(DATE(2015,1,1)>Coeff!I8,Coeff!I8>DATE(2013,12,31)),AND(DATE(2015,1,1)>Coeff!J8,Coeff!J8>DATE(2013,12,31)),AND(DATE(2015,1,1)>Coeff!K8,Coeff!K8>DATE(2013,12,31)),AND(DATE(2015,1,1)>Coeff!L8,Coeff!L8>DATE(2013,12,31)),AND(DATE(2015,1,1)>Coeff!M8,Coeff!M8>DATE(2013,12,31)),AND(DATE(2015,1,1)>Coeff!N8,Coeff!N8>DATE(2013,12,31)),AND(DATE(2015,1,1)>Coeff!O8,Coeff!O8>DATE(2013,12,31)),AND(DATE(2015,1,1)>Coeff!P8,Coeff!P8>DATE(2013,12,31))),IF(MAX($C$2:C7)=0,1,MAX($C$2:C8)+1),""),"") | D9: =IF(Coeff!C8<>"",Coeff!C8,"") -> CHA GILLES | E9: =IF(B9<>"",IF(OR(AND(DATE(2016,1,1)>Coeff!E8,Coeff!E8>DATE(2014,12,31)),AND(DATE(2016,1,1)>Coeff!F8,Coeff!F8>DATE(2014,12,31)),AND(DATE(2016,1,1)>Coeff!G8,Coeff!G8>DATE(2014,12,31)),AND(DATE(2016,1,1)>Coeff!H8,Coeff!H8>DATE(2014,12,31)),AND(DATE(2016,1,1)>Coeff!I8,Coeff!I8>DATE(2014,12,31)),AND(DATE(2016,1,1)>Coeff!J8,Coeff!J8>DATE(2014,12,31)),AND(DATE(2016,1,1)>Coeff!K8,Coeff!K8>DATE(2014,12,31)),AND(DATE(2016,1,1)>Coeff!L8,Coeff!L8>DATE(2014,12,31)),AND(DATE(2016,1,1)>Coeff!M8,Coeff!M8>DATE(2014,12,31)),AND(DATE(2016,1,1)>Coeff!N8,Coeff!N8>DATE(2014,12,31)),AND(DATE(2016,1,1)>Coeff!O8,Coeff!O8>DATE(2014,12,31)),AND(DATE(2016,1,1)>Coeff!P8,Coeff!P8>DATE(2014,12,31))),IF(MAX($E$2:E7)=0,1,MAX($E$2:E8)+1),""),"") | F9: =IF(Coeff!C8<>"",Coeff!C8,"") -> CHA GILLES
A10: =IF(B10<>"",IF(OR(AND(DATE(2014,1,1)>Coeff!E9,Coeff!E9>DATE(2012,12,31)),AND(DATE(2014,1,1)>Coeff!F9,Coeff!F9>DATE(2012,12,31)),AND(DATE(2014,1,1)>Coeff!G9,Coeff!G9>DATE(2012,12,31)),AND(DATE(2014,1,1)>Coeff!H9,Coeff!H9>DATE(2012,12,31)),AND(DATE(2014,1,1)>Coeff!I9,Coeff!I9>DATE(2012,12,31)),AND(DATE(2014,1,1)>Coeff!J9,Coeff!J9>DATE(2012,12,31)),AND(DATE(2014,1,1)>Coeff!K9,Coeff!K9>DATE(2012,12,31)),AND(DATE(2014,1,1)>Coeff!L9,Coeff!L9>DATE(2012,12,31)),AND(DATE(2014,1,1)>Coeff!M9,Coeff!M9>DATE(2012,12,31)),AND(DATE(2014,1,1)>Coeff!N9,Coeff!N9>DATE(2012,12,31)),AND(DATE(2014,1,1)>Coeff!O9,Coeff!O9>DATE(2012,12,31)),AND(DATE(2014,1,1)>Coeff!P9,Coeff!P9>DATE(2012,12,31))),IF(ROW(B10)=2,1,MAX($A$2:A9)+1),""),"") | B10: =IF(Coeff!C9<>"",Coeff!C9,"") -> AA MARC | C10: =IF(B10<>"",IF(OR(AND(DATE(2015,1,1)>Coeff!E9,Coeff!E9>DATE(2013,12,31)),AND(DATE(2015,1,1)>Coeff!F9,Coeff!F9>DATE(2013,12,31)),AND(DATE(2015,1,1)>Coeff!G9,Coeff!G9>DATE(2013,12,31)),AND(DATE(2015,1,1)>Coeff!H9,Coeff!H9>DATE(2013,12,31)),AND(DATE(2015,1,1)>Coeff!I9,Coeff!I9>DATE(2013,12,31)),AND(DATE(2015,1,1)>Coeff!J9,Coeff!J9>DATE(2013,12,31)),AND(DATE(2015,1,1)>Coeff!K9,Coeff!K9>DATE(2013,12,31)),AND(DATE(2015,1,1)>Coeff!L9,Coeff!L9>DATE(2013,12,31)),AND(DATE(2015,1,1)>Coeff!M9,Coeff!M9>DATE(2013,12,31)),AND(DATE(2015,1,1)>Coeff!N9,Coeff!N9>DATE(2013,12,31)),AND(DATE(2015,1,1)>Coeff!O9,Coeff!O9>DATE(2013,12,31)),AND(DATE(2015,1,1)>Coeff!P9,Coeff!P9>DATE(2013,12,31))),IF(MAX($C$2:C8)=0,1,MAX($C$2:C9)+1),""),"") | D10: =IF(Coeff!C9<>"",Coeff!C9,"") -> AA MARC | E10: =IF(B10<>"",IF(OR(AND(DATE(2016,1,1)>Coeff!E9,Coeff!E9>DATE(2014,12,31)),AND(DATE(2016,1,1)>Coeff!F9,Coeff!F9>DATE(2014,12,31)),AND(DATE(2016,1,1)>Coeff!G9,Coeff!G9>DATE(2014,12,31)),AND(DATE(2016,1,1)>Coeff!H9,Coeff!H9>DATE(2014,12,31)),AND(DATE(2016,1,1)>Coeff!I9,Coeff!I9>DATE(2014,12,31)),AND(DATE(2016,1,1)>Coeff!J9,Coeff!J9>DATE(2014,12,31)),AND(DATE(2016,1,1)>Coeff!K9,Coeff!K9>DATE(2014,12,31)),AND(DATE(2016,1,1)>Coeff!L9,Coeff!L9>DATE(2014,12,31)),AND(DATE(2016,1,1)>Coeff!M9,Coeff!M9>DATE(2014,12,31)),AND(DATE(2016,1,1)>Coeff!N9,Coeff!N9>DATE(2014,12,31)),AND(DATE(2016,1,1)>Coeff!O9,Coeff!O9>DATE(2014,12,31)),AND(DATE(2016,1,1)>Coeff!P9,Coeff!P9>DATE(2014,12,31))),IF(MAX($E$2:E8)=0,1,MAX($E$2:E9)+1),""),"") | F10: =IF(Coeff!C9<>"",Coeff!C9,"") -> AA MARC
A11: =IF(B11<>"",IF(OR(AND(DATE(2014,1,1)>Coeff!E10,Coeff!E10>DATE(2012,12,31)),AND(DATE(2014,1,1)>Coeff!F10,Coeff!F10>DATE(2012,12,31)),AND(DATE(2014,1,1)>Coeff!G10,Coeff!G10>DATE(2012,12,31)),AND(DATE(2014,1,1)>Coeff!H10,Coeff!H10>DATE(2012,12,31)),AND(DATE(2014,1,1)>Coeff!I10,Coeff!I10>DATE(2012,12,31)),AND(DATE(2014,1,1)>Coeff!J10,Coeff!J10>DATE(2012,12,31)),AND(DATE(2014,1,1)>Coeff!K10,Coeff!K10>DATE(2012,12,31)),AND(DATE(2014,1,1)>Coeff!L10,Coeff!L10>DATE(2012,12,31)),AND(DATE(2014,1,1)>Coeff!M10,Coeff!M10>DATE(2012,12,31)),AND(DATE(2014,1,1)>Coeff!N10,Coeff!N10>DATE(2012,12,31)),AND(DATE(2014,1,1)>Coeff!O10,Coeff!O10>DATE(2012,12,31)),AND(DATE(2014,1,1)>Coeff!P10,Coeff!P10>DATE(2012,12,31))),IF(ROW(B11)=2,1,MAX($A$2:A10)+1),""),"") | B11: =IF(Coeff!C10<>"",Coeff!C10,"") -> BB CHRISTINE | C11: =IF(B11<>"",IF(OR(AND(DATE(2015,1,1)>Coeff!E10,Coeff!E10>DATE(2013,12,31)),AND(DATE(2015,1,1)>Coeff!F10,Coeff!F10>DATE(2013,12,31)),AND(DATE(2015,1,1)>Coeff!G10,Coeff!G10>DATE(2013,12,31)),AND(DATE(2015,1,1)>Coeff!H10,Coeff!H10>DATE(2013,12,31)),AND(DATE(2015,1,1)>Coeff!I10,Coeff!I10>DATE(2013,12,31)),AND(DATE(2015,1,1)>Coeff!J10,Coeff!J10>DATE(2013,12,31)),AND(DATE(2015,1,1)>Coeff!K10,Coeff!K10>DATE(2013,12,31)),AND(DATE(2015,1,1)>Coeff!L10,Coeff!L10>DATE(2013,12,31)),AND(DATE(2015,1,1)>Coeff!M10,Coeff!M10>DATE(2013,12,31)),AND(DATE(2015,1,1)>Coeff!N10,Coeff!N10>DATE(2013,12,31)),AND(DATE(2015,1,1)>Coeff!O10,Coeff!O10>DATE(2013,12,31)),AND(DATE(2015,1,1)>Coeff!P10,Coeff!P10>DATE(2013,12,31))),IF(MAX($C$2:C9)=0,1,MAX($C$2:C10)+1),""),"") -> 5 | D11: =IF(Coeff!C10<>"",Coeff!C10,"") -> BB CHRISTINE | E11: =IF(B11<>"",IF(OR(AND(DATE(2016,1,1)>Coeff!E10,Coeff!E10>DATE(2014,12,31)),AND(DATE(2016,1,1)>Coeff!F10,Coeff!F10>DATE(2014,12,31)),AND(DATE(2016,1,1)>Coeff!G10,Coeff!G10>DATE(2014,12,31)),AND(DATE(2016,1,1)>Coeff!H10,Coeff!H10>DATE(2014,12,31)),AND(DATE(2016,1,1)>Coeff!I10,Coeff!I10>DATE(2014,12,31)),AND(DATE(2016,1,1)>Coeff!J10,Coeff!J10>DATE(2014,12,31)),AND(DATE(2016,1,1)>Coeff!K10,Coeff!K10>DATE(2014,12,31)),AND(DATE(2016,1,1)>Coeff!L10,Coeff!L10>DATE(2014,12,31)),AND(DATE(2016,1,1)>Coeff!M10,Coeff!M10>DATE(2014,12,31)),AND(DATE(2016,1,1)>Coeff!N10,Coeff!N10>DATE(2014,12,31)),AND(DATE(2016,1,1)>Coeff!O10,Coeff!O10>DATE(2014,12,31)),AND(DATE(2016,1,1)>Coeff!P10,Coeff!P10>DATE(2014,12,31))),IF(MAX($E$2:E9)=0,1,MAX($E$2:E10)+1),""),"") | F11: =IF(Coeff!C10<>"",Coeff!C10,"") -> BB CHRISTINE
A12: =IF(B12<>"",IF(OR(AND(DATE(2014,1,1)>Coeff!E11,Coeff!E11>DATE(2012,12,31)),AND(DATE(2014,1,1)>Coeff!F11,Coeff!F11>DATE(2012,12,31)),AND(DATE(2014,1,1)>Coeff!G11,Coeff!G11>DATE(2012,12,31)),AND(DATE(2014,1,1)>Coeff!H11,Coeff!H11>DATE(2012,12,31)),AND(DATE(2014,1,1)>Coeff!I11,Coeff!I11>DATE(2012,12,31)),AND(DATE(2014,1,1)>Coeff!J11,Coeff!J11>DATE(2012,12,31)),AND(DATE(2014,1,1)>Coeff!K11,Coeff!K11>DATE(2012,12,31)),AND(DATE(2014,1,1)>Coeff!L11,Coeff!L11>DATE(2012,12,31)),AND(DATE(2014,1,1)>Coeff!M11,Coeff!M11>DATE(2012,12,31)),AND(DATE(2014,1,1)>Coeff!N11,Coeff!N11>DATE(2012,12,31)),AND(DATE(2014,1,1)>Coeff!O11,Coeff!O11>DATE(2012,12,31)),AND(DATE(2014,1,1)>Coeff!P11,Coeff!P11>DATE(2012,12,31))),IF(ROW(B12)=2,1,MAX($A$2:A11)+1),""),"") | B12: =IF(Coeff!C11<>"",Coeff!C11,"") -> CC MARTINE | C12: =IF(B12<>"",IF(OR(AND(DATE(2015,1,1)>Coeff!E11,Coeff!E11>DATE(2013,12,31)),AND(DATE(2015,1,1)>Coeff!F11,Coeff!F11>DATE(2013,12,31)),AND(DATE(2015,1,1)>Coeff!G11,Coeff!G11>DATE(2013,12,31)),AND(DATE(2015,1,1)>Coeff!H11,Coeff!H11>DATE(2013,12,31)),AND(DATE(2015,1,1)>Coeff!I11,Coeff!I11>DATE(2013,12,31)),AND(DATE(2015,1,1)>Coeff!J11,Coeff!J11>DATE(2013,12,31)),AND(DATE(2015,1,1)>Coeff!K11,Coeff!K11>DATE(2013,12,31)),AND(DATE(2015,1,1)>Coeff!L11,Coeff!L11>DATE(2013,12,31)),AND(DATE(2015,1,1)>Coeff!M11,Coeff!M11>DATE(2013,12,31)),AND(DATE(2015,1,1)>Coeff!N11,Coeff!N11>DATE(2013,12,31)),AND(DATE(2015,1,1)>Coeff!O11,Coeff!O11>DATE(2013,12,31)),AND(DATE(2015,1,1)>Coeff!P11,Coeff!P11>DATE(2013,12,31))),IF(MAX($C$2:C10)=0,1,MAX($C$2:C11)+1),""),"") | D12: =IF(Coeff!C11<>"",Coeff!C11,"") -> CC MARTINE | E12: =IF(B12<>"",IF(OR(AND(DATE(2016,1,1)>Coeff!E11,Coeff!E11>DATE(2014,12,31)),AND(DATE(2016,1,1)>Coeff!F11,Coeff!F11>DATE(2014,12,31)),AND(DATE(2016,1,1)>Coeff!G11,Coeff!G11>DATE(2014,12,31)),AND(DATE(2016,1,1)>Coeff!H11,Coeff!H11>DATE(2014,12,31)),AND(DATE(2016,1,1)>Coeff!I11,Coeff!I11>DATE(2014,12,31)),AND(DATE(2016,1,1)>Coeff!J11,Coeff!J11>DATE(2014,12,31)),AND(DATE(2016,1,1)>Coeff!K11,Coeff!K11>DATE(2014,12,31)),AND(DATE(2016,1,1)>Coeff!L11,Coeff!L11>DATE(2014,12,31)),AND(DATE(2016,1,1)>Coeff!M11,Coeff!M11>DATE(2014,12,31)),AND(DATE(2016,1,1)>Coeff!N11,Coeff!N11>DATE(2014,12,31)),AND(DATE(2016,1,1)>Coeff!O11,Coeff!O11>DATE(2014,12,31)),AND(DATE(2016,1,1)>Coeff!P11,Coeff!P11>DATE(2014,12,31))),IF(MAX($E$2:E10)=0,1,MAX($E$2:E11)+1),""),"") | F12: =IF(Coeff!C11<>"",Coeff!C11,"") -> CC MARTINE
A13: =IF(B13<>"",IF(OR(AND(DATE(2014,1,1)>Coeff!E12,Coeff!E12>DATE(2012,12,31)),AND(DATE(2014,1,1)>Coeff!F12,Coeff!F12>DATE(2012,12,31)),AND(DATE(2014,1,1)>Coeff!G12,Coeff!G12>DATE(2012,12,31)),AND(DATE(2014,1,1)>Coeff!H12,Coeff!H12>DATE(2012,12,31)),AND(DATE(2014,1,1)>Coeff!I12,Coeff!I12>DATE(2012,12,31)),AND(DATE(2014,1,1)>Coeff!J12,Coeff!J12>DATE(2012,12,31)),AND(DATE(2014,1,1)>Coeff!K12,Coeff!K12>DATE(2012,12,31)),AND(DATE(2014,1,1)>Coeff!L12,Coeff!L12>DATE(2012,12,31)),AND(DATE(2014,1,1)>Coeff!M12,Coeff!M12>DATE(2012,12,31)),AND(DATE(2014,1,1)>Coeff!N12,Coeff!N12>DATE(2012,12,31)),AND(DATE(2014,1,1)>Coeff!O12,Coeff!O12>DATE(2012,12,31)),AND(DATE(2014,1,1)>Coeff!P12,Coeff!P12>DATE(2012,12,31))),IF(ROW(B13)=2,1,MAX($A$2:A12)+1),""),"") | B13: =IF(Coeff!C12<>"",Coeff!C12,"") -> DD DOMINIQUE | C13: =IF(B13<>"",IF(OR(AND(DATE(2015,1,1)>Coeff!E12,Coeff!E12>DATE(2013,12,31)),AND(DATE(2015,1,1)>Coeff!F12,Coeff!F12>DATE(2013,12,31)),AND(DATE(2015,1,1)>Coeff!G12,Coeff!G12>DATE(2013,12,31)),AND(DATE(2015,1,1)>Coeff!H12,Coeff!H12>DATE(2013,12,31)),AND(DATE(2015,1,1)>Coeff!I12,Coeff!I12>DATE(2013,12,31)),AND(DATE(2015,1,1)>Coeff!J12,Coeff!J12>DATE(2013,12,31)),AND(DATE(2015,1,1)>Coeff!K12,Coeff!K12>DATE(2013,12,31)),AND(DATE(2015,1,1)>Coeff!L12,Coeff!L12>DATE(2013,12,31)),AND(DATE(2015,1,1)>Coeff!M12,Coeff!M12>DATE(2013,12,31)),AND(DATE(2015,1,1)>Coeff!N12,Coeff!N12>DATE(2013,12,31)),AND(DATE(2015,1,1)>Coeff!O12,Coeff!O12>DATE(2013,12,31)),AND(DATE(2015,1,1)>Coeff!P12,Coeff!P12>DATE(2013,12,31))),IF(MAX($C$2:C11)=0,1,MAX($C$2:C12)+1),""),"") | D13: =IF(Coeff!C12<>"",Coeff!C12,"") -> DD DOMINIQUE | E13: =IF(B13<>"",IF(OR(AND(DATE(2016,1,1)>Coeff!E12,Coeff!E12>DATE(2014,12,31)),AND(DATE(2016,1,1)>Coeff!F12,Coeff!F12>DATE(2014,12,31)),AND(DATE(2016,1,1)>Coeff!G12,Coeff!G12>DATE(2014,12,31)),AND(DATE(2016,1,1)>Coeff!H12,Coeff!H12>DATE(2014,12,31)),AND(DATE(2016,1,1)>Coeff!I12,Coeff!I12>DATE(2014,12,31)),AND(DATE(2016,1,1)>Coeff!J12,Coeff!J12>DATE(2014,12,31)),AND(DATE(2016,1,1)>Coeff!K12,Coeff!K12>DATE(2014,12,31)),AND(DATE(2016,1,1)>Coeff!L12,Coeff!L12>DATE(2014,12,31)),AND(DATE(2016,1,1)>Coeff!M12,Coeff!M12>DATE(2014,12,31)),AND(DATE(2016,1,1)>Coeff!N12,Coeff!N12>DATE(2014,12,31)),AND(DATE(2016,1,1)>Coeff!O12,Coeff!O12>DATE(2014,12,31)),AND(DATE(2016,1,1)>Coeff!P12,Coeff!P12>DATE(2014,12,31))),IF(MAX($E$2:E11)=0,1,MAX($E$2:E12)+1),""),"") | F13: =IF(Coeff!C12<>"",Coeff!C12,"") -> DD DOMINIQUE
A14: =IF(B14<>"",IF(OR(AND(DATE(2014,1,1)>Coeff!E13,Coeff!E13>DATE(2012,12,31)),AND(DATE(2014,1,1)>Coeff!F13,Coeff!F13>DATE(2012,12,31)),AND(DATE(2014,1,1)>Coeff!G13,Coeff!G13>DATE(2012,12,31)),AND(DATE(2014,1,1)>Coeff!H13,Coeff!H13>DATE(2012,12,31)),AND(DATE(2014,1,1)>Coeff!I13,Coeff!I13>DATE(2012,12,31)),AND(DATE(2014,1,1)>Coeff!J13,Coeff!J13>DATE(2012,12,31)),AND(DATE(2014,1,1)>Coeff!K13,Coeff!K13>DATE(2012,12,31)),AND(DATE(2014,1,1)>Coeff!L13,Coeff!L13>DATE(2012,12,31)),AND(DATE(2014,1,1)>Coeff!M13,Coeff!M13>DATE(2012,12,31)),AND(DATE(2014,1,1)>Coeff!N13,Coeff!N13>DATE(2012,12,31)),AND(DATE(2014,1,1)>Coeff!O13,Coeff!O13>DATE(2012,12,31)),AND(DATE(2014,1,1)>Coeff!P13,Coeff!P13>DATE(2012,12,31))),IF(ROW(B14)=2,1,MAX($A$2:A13)+1),""),"") | B14: =IF(Coeff!C13<>"",Coeff!C13,"") -> EE OLIVIER | C14: =IF(B14<>"",IF(OR(AND(DATE(2015,1,1)>Coeff!E13,Coeff!E13>DATE(2013,12,31)),AND(DATE(2015,1,1)>Coeff!F13,Coeff!F13>DATE(2013,12,31)),AND(DATE(2015,1,1)>Coeff!G13,Coeff!G13>DATE(2013,12,31)),AND(DATE(2015,1,1)>Coeff!H13,Coeff!H13>DATE(2013,12,31)),AND(DATE(2015,1,1)>Coeff!I13,Coeff!I13>DATE(2013,12,31)),AND(DATE(2015,1,1)>Coeff!J13,Coeff!J13>DATE(2013,12,31)),AND(DATE(2015,1,1)>Coeff!K13,Coeff!K13>DATE(2013,12,31)),AND(DATE(2015,1,1)>Coeff!L13,Coeff!L13>DATE(2013,12,31)),AND(DATE(2015,1,1)>Coeff!M13,Coeff!M13>DATE(2013,12,31)),AND(DATE(2015,1,1)>Coeff!N13,Coeff!N13>DATE(2013,12,31)),AND(DATE(2015,1,1)>Coeff!O13,Coeff!O13>DATE(2013,12,31)),AND(DATE(2015,1,1)>Coeff!P13,Coeff!P13>DATE(2013,12,31))),IF(MAX($C$2:C12)=0,1,MAX($C$2:C13)+1),""),"") | D14: =IF(Coeff!C13<>"",Coeff!C13,"") -> EE OLIVIER | E14: =IF(B14<>"",IF(OR(AND(DATE(2016,1,1)>Coeff!E13,Coeff!E13>DATE(2014,12,31)),AND(DATE(2016,1,1)>Coeff!F13,Coeff!F13>DATE(2014,12,31)),AND(DATE(2016,1,1)>Coeff!G13,Coeff!G13>DATE(2014,12,31)),AND(DATE(2016,1,1)>Coeff!H13,Coeff!H13>DATE(2014,12,31)),AND(DATE(2016,1,1)>Coeff!I13,Coeff!I13>DATE(2014,12,31)),AND(DATE(2016,1,1)>Coeff!J13,Coeff!J13>DATE(2014,12,31)),AND(DATE(2016,1,1)>Coeff!K13,Coeff!K13>DATE(2014,12,31)),AND(DATE(2016,1,1)>Coeff!L13,Coeff!L13>DATE(2014,12,31)),AND(DATE(2016,1,1)>Coeff!M13,Coeff!M13>DATE(2014,12,31)),AND(DATE(2016,1,1)>Coeff!N13,Coeff!N13>DATE(2014,12,31)),AND(DATE(2016,1,1)>Coeff!O13,Coeff!O13>DATE(2014,12,31)),AND(DATE(2016,1,1)>Coeff!P13,Coeff!P13>DATE(2014,12,31))),IF(MAX($E$2:E12)=0,1,MAX($E$2:E13)+1),""),"") -> 2 | F14: =IF(Coeff!C13<>"",Coeff!C13,"") -> EE OLIVIER
