Workbook

Sheet Produit
B1: =TODAY() -> 42071
B3: Produit | C3: TOTAL | D3: ="WEEK "&WEEKNUM($B$1)-5 -> WEEK 6 | E3: ="WEEK "&WEEKNUM($B$1)-4 -> WEEK 7 | F3: ="WEEK "&WEEKNUM($B$1)-3 -> WEEK 8 | G3: ="WEEK "&WEEKNUM($B$1)-2 -> WEEK 9 | H3: ="WEEK "&WEEKNUM($B$1)-1 -> WEEK 10
B4: A | C4: =D4 -> 1777 | D4: =HLOOKUP(D3,A!3:4,2,0) -> 1777 | E4: =HLOOKUP(E3,A!3:4,2,0) -> 1846 | F4: =HLOOKUP(F3,A!3:4,2,0) -> 2066 | G4: =HLOOKUP(G3,A!3:4,2,0) -> 1897 | H4: =HLOOKUP(H3,A!3:4,2,0) -> 0

Sheet Donnée
A2: ="Rapport des ventes semaine "&WEEKNUM(B6) -> Rapport des ventes semaine 11
A6: Nous sommes le | B6: =TODAY() -> 42071
C7: WEEK 1 | P7: WEEK 2 | AC7: WEEK 3 | AP7: WEEK 4 | BC7: WEEK 5 | BP7: WEEK 6 | CC7: WEEK 7 | CP7: WEEK 8 | DC7: WEEK 9 | DP7: WEEK 10 | EC7: WEEK 11 | EP7: WEEK 12 | FC7: WEEK 13 | FP7: WEEK 14 | GC7: WEEK 15 | GP7: WEEK 16 | HC7: WEEK 17 | HP7: WEEK 18 | IC7: WEEK 19 | IP7: WEEK 20 | JC7: WEEK 21 | JP7: WEEK 22 | KC7: WEEK 23 | KP7: WEEK 24 | LC7: WEEK 25 | LP7: WEEK 26 | MC7: WEEK 27 | MP7: WEEK 28 | NC7: WEEK 29 | NP7: WEEK 30 | OC7: WEEK 31 | OP7: WEEK 32 | PC7: WEEK 33 | PP7: WEEK 34 | QC7: WEEK 35 | QP7: WEEK 36 | RC7: WEEK 37 | RP7: WEEK 38 | SC7: WEEK 39 | SP7: WEEK 40 | TC7: WEEK 41 | TP7: WEEK 42 | UC7: WEEK 43 | UP7: WEEK 44 | VC7: WEEK 45 | VP7: WEEK 46 | WC7: WEEK 47 | WP7: WEEK 48 | XC7: WEEK 49 | XP7: WEEK 50 | YC7: WEEK 51 | YP7: WEEK 52 | ZC7: WEEK 53
C8: ville 1 | D8: ville 2 | E8: ville 3 | F8: ville 4 | G8: ville 5 | H8: ville 6 | I8: ville 7 | J8: ville 8 | K8: …
B9: Produit | C9: 847 | D9: 263 | E9: 171 | F9: 0 | G9: 1180 | H9: 2235 | I9: 25 | J9: 31 | K9: 484 | L9: 0 | M9: 0 | N9: 0 | O9: 0 | P9: 1229 | Q9: 1050 | R9: 385 | S9: 4726 | T9: 1780 | U9: 2540 | V9: 6 | W9: 73 | X9: 129 | Y9: 0 | Z9: 0 | AA9: 0 | AB9: 0 | AC9: 1412 | AD9: 654 | AE9: 758 | AF9: 1693 | AG9: 2186 | AH9: 3021 | AI9: 31 | AJ9: 63 | AK9: 454 | AL9: 0 | AM9: 0 | AN9: 0 | AO9: 0 | AP9: 1693 | AQ9: 2155 | AR9: 636 | AS9: 4726 | AT9: 2121 | AU9: 2961 | AV9: 236 | AW9: 103 | AX9: 621 | AY9: 0 | AZ9: 0 | BA9: 0 | BB9: 0 | BC9: 1317 | BD9: 1996 | BE9: 638 | BF9: 4022 | BG9: 2043 | BH9: 2844 | BI9: 34 | BJ9: 0 | BK9: 746 | BL9: 0 | BM9: 0 | BN9: 0 | BO9: 0 | BP9: 1777 | BQ9: 1714 | BR9: 662 | BS9: 0 | BT9: 2129 | BU9: 3235 | BV9: 35 | BW9: 0 | BX9: 811 | BY9: 0 | BZ9: 0 | CA9: 0 | CB9: 0 | CC9: 1846 | CD9: 1864 | CE9: 717 | CF9: 0 | CG9: 2261 | CH9: 2920 | CI9: 69 | CJ9: 0 | CK9: 1723 | CL9: 751 | CM9: 749 | CN9: 751 | CO9: 749 | CP9: 2066 | CQ9: 1570 | CR9: 549 | CS9: 0 | CT9: 0 | CU9: 3305 | CV9: 257 | CW9: 380 | CX9: 1911 | CY9: 0 | CZ9: 0 | DA9: 0 | DB9: 0 | DC9: 1897 | DD9: 1627 | DE9: 560 | DF9: 0 | DG9: 2477 | DH9: 3275 | DI9: 508 | DJ9: 47 | DK9: 1911 | DL9: 0 | DM9: 0 | DN9: 0 | DO9: 0

Sheet A
A3: ARTICLE EN VENTE | B3: WEEK 1 | C3: WEEK 2 | D3: WEEK 3 | E3: WEEK 4 | F3: WEEK 5 | G3: WEEK 6 | H3: WEEK 7 | I3: WEEK 8 | J3: WEEK 9 | K3: WEEK 10 | L3: WEEK 11 | M3: WEEK 12 | N3: WEEK 13 | O3: WEEK 14 | P3: WEEK 15 | Q3: WEEK 16 | R3: WEEK 17 | S3: WEEK 18 | T3: WEEK 19 | U3: WEEK 20 | V3: WEEK 21 | W3: WEEK 22 | X3: WEEK 23 | Y3: WEEK 24 | Z3: WEEK 25 | AA3: WEEK 26 | AB3: WEEK 27 | AC3: WEEK 28 | AD3: WEEK 29 | AE3: WEEK 30 | AF3: WEEK 31 | AG3: WEEK 32 | AH3: WEEK 33 | AI3: WEEK 34 | AJ3: WEEK 35 | AK3: WEEK 36 | AL3: WEEK 37 | AM3: WEEK 38 | AN3: WEEK 39 | AO3: WEEK 40 | AP3: WEEK 41 | AQ3: WEEK 42 | AR3: WEEK 43 | AS3: WEEK 44 | AT3: WEEK 45 | AU3: WEEK 46 | AV3: WEEK 47 | AW3: WEEK 48 | AX3: WEEK 49 | AY3: WEEK 50 | AZ3: WEEK 51 | BA3: WEEK 52
A4: Produit | B4: =Donnée!C9 -> 847 | C4: =Donnée!P9 -> 1229 | D4: =Donnée!AC9 -> 1412 | E4: =Donnée!AP9 -> 1693 | F4: =Donnée!BC9 -> 1317 | G4: =Donnée!BP9 -> 1777 | H4: =Donnée!CC9 -> 1846 | I4: =Donnée!CP9 -> 2066 | J4: =Donnée!DC9 -> 1897 | K4: =Donnée!DP9 -> 0 | L4: =Donnée!EC9 -> 0 | M4: =Donnée!EP9 -> 0 | N4: =Donnée!FC9 -> 0 | O4: =Donnée!FP9 -> 0 | P4: =Donnée!GC9 -> 0 | Q4: =Donnée!GP9 -> 0 | R4: =Donnée!HC9 -> 0 | S4: =Donnée!HP9 -> 0 | T4: =Donnée!IC9 -> 0 | U4: =Donnée!IP9 -> 0 | V4: =Donnée!JC9 -> 0 | W4: =Donnée!JP9 -> 0 | X4: =Donnée!KC9 -> 0 | Y4: =Donnée!KP9 -> 0 | Z4: =Donnée!LC9 -> 0 | AA4: =Donnée!LP9 -> 0 | AB4: =Donnée!MC9 -> 0 | AC4: =Donnée!MP9 -> 0 | AD4: =Donnée!NC9 -> 0 | AE4: =Donnée!NP9 -> 0 | AF4: =Donnée!OC9 -> 0 | AG4: =Donnée!OP9 -> 0 | AH4: =Donnée!PC9 -> 0 | AI4: =Donnée!PP9 -> 0 | AJ4: =Donnée!QC9 -> 0 | AK4: =Donnée!QP9 -> 0 | AL4: =Donnée!RC9 -> 0 | AM4: =Donnée!RP9 -> 0 | AN4: =Donnée!SC9 -> 0 | AO4: =Donnée!SP9 -> 0 | AP4: =Donnée!TC9 -> 0 | AQ4: =Donnée!TP9 -> 0 | AR4: =Donnée!UC9 -> 0 | AS4: =Donnée!UP9 -> 0 | AT4: =Donnée!VC9 -> 0 | AU4: =Donnée!VP9 -> 0 | AV4: =Donnée!WC9 -> 0 | AW4: =Donnée!WP9 -> 0 | AX4: =Donnée!XC9 -> 0 | AY4: =Donnée!XP9 -> 0 | AZ4: =Donnée!YC9 -> 0 | BA4: =Donnée!YP9 -> 0
