Workbook
Name BROKERS: ÉQUIPEMENTS!$D$4:$D$21+ÉQUIPEMENTS!$D$3:$D$21
Name REMORQUES: ÉQUIPEMENTS!$A$3:$B$386

Sheet Mouvement_tracteur_GBOUCHARD
A1: Jules Savard Inc.
A2: Mouvement par tracteur avec revenu au mille (du 18-MAI-2014 au 24-MAI-2014)
A4: Date mouvement | B4: Repartiteur | C4: Chauffeur | D4: nom chauffeur | E4: Tracteur | F4: Remorque 1 | G4: Remorque 2 | H4: Numero voyage | I4: DIVISION
A5: 20-MAI-2014 à 3:42:08 PM | B5: JGAGNON1 | C5: 9002 | D5: JIMMY PROVENCHER | E5: 2 | F5: 20004 | I5: =IF(ISBLANK(C5),"",IF(ISNUMBER(MATCH(C5,ÉQUIPEMENTS!D:D,0)),"BROKERS",VLOOKUP(F5,REMORQUES,2,FALSE))) -> BROKERS
A6: 20-MAI-2014 à 3:42:08 PM | B6: JGAGNON1 | C6: 9002 | D6: JIMMY PROVENCHER | E6: 2 | F6: 20004 | H6: L0184923 | I6: =IF(ISBLANK(C6),"",IF(ISNUMBER(MATCH(C6,ÉQUIPEMENTS!D:D,0)),"BROKERS",VLOOKUP(F6,REMORQUES,2,FALSE))) -> BROKERS
A7: 22-MAI-2014 à 8:19:25 AM | B7: JGAGNON1 | C7: 9002 | D7: JIMMY PROVENCHER | E7: 2 | F7: 20612 | I7: =IF(ISBLANK(C7),"",IF(ISNUMBER(MATCH(C7,ÉQUIPEMENTS!D:D,0)),"BROKERS",VLOOKUP(F7,REMORQUES,2,FALSE))) -> BROKERS
A8: 22-MAI-2014 à 8:19:25 AM | B8: JGAGNON1 | C8: 9002 | D8: JIMMY PROVENCHER | E8: 2 | F8: 20612 | H8: C0054253 | I8: =IF(ISBLANK(C8),"",IF(ISNUMBER(MATCH(C8,ÉQUIPEMENTS!D:D,0)),"BROKERS",VLOOKUP(F8,REMORQUES,2,FALSE))) -> BROKERS
A9: 22-MAI-2014 à 8:20:19 AM | B9: JGAGNON1 | C9: 9002 | D9: JIMMY PROVENCHER | E9: 2 | F9: 20401 | H9: L0185072 | I9: =IF(ISBLANK(C9),"",IF(ISNUMBER(MATCH(C9,ÉQUIPEMENTS!D:D,0)),"BROKERS",VLOOKUP(F9,REMORQUES,2,FALSE))) -> BROKERS
A10: 23-MAI-2014 à 8:01:37 AM | B10: JGAGNON1 | C10: 9002 | D10: JIMMY PROVENCHER | E10: 2 | F10: 20401 | I10: =IF(ISBLANK(C10),"",IF(ISNUMBER(MATCH(C10,ÉQUIPEMENTS!D:D,0)),"BROKERS",VLOOKUP(F10,REMORQUES,2,FALSE))) -> BROKERS
A11: 23-MAI-2014 à 8:01:37 AM | B11: JGAGNON1 | C11: 9002 | D11: JIMMY PROVENCHER | E11: 2 | F11: 20401 | H11: C0054284 | I11: =IF(ISBLANK(C11),"",IF(ISNUMBER(MATCH(C11,ÉQUIPEMENTS!D:D,0)),"BROKERS",VLOOKUP(F11,REMORQUES,2,FALSE))) -> BROKERS
I12: =IF(ISBLANK(C12),"",IF(ISNUMBER(MATCH(C12,ÉQUIPEMENTS!D:D,0)),"BROKERS",VLOOKUP(F12,REMORQUES,2,FALSE)))
A13: 19-MAI-2014 à 8:28:39 AM | B13: JGAGNON1 | C13: 9007 | D13: MARIO PICHETTE | E13: 7 | F13: 21009 | I13: =IF(ISBLANK(C13),"",IF(ISNUMBER(MATCH(C13,ÉQUIPEMENTS!D:D,0)),"BROKERS",VLOOKUP(F13,REMORQUES,2,FALSE))) -> BROKERS
A14: 19-MAI-2014 à 8:28:39 AM | B14: JGAGNON1 | C14: 9007 | D14: MARIO PICHETTE | E14: 7 | F14: 21009 | I14: =IF(ISBLANK(C14),"",IF(ISNUMBER(MATCH(C14,ÉQUIPEMENTS!D:D,0)),"BROKERS",VLOOKUP(F14,REMORQUES,2,FALSE))) -> BROKERS
A15: 19-MAI-2014 à 8:28:39 AM | B15: JGAGNON1 | C15: 9007 | D15: MARIO PICHETTE | E15: 7 | F15: 21009 | H15: L0184791 | I15: =IF(ISBLANK(C15),"",IF(ISNUMBER(MATCH(C15,ÉQUIPEMENTS!D:D,0)),"BROKERS",VLOOKUP(F15,REMORQUES,2,FALSE))) -> BROKERS
A16: 20-MAI-2014 à 4:23:53 PM | B16: JGAGNON1 | C16: 9007 | D16: MARIO PICHETTE | E16: 7 | F16: 20609 | I16: =IF(ISBLANK(C16),"",IF(ISNUMBER(MATCH(C16,ÉQUIPEMENTS!D:D,0)),"BROKERS",VLOOKUP(F16,REMORQUES,2,FALSE))) -> BROKERS
A17: 20-MAI-2014 à 4:23:53 PM | B17: JGAGNON1 | C17: 9007 | D17: MARIO PICHETTE | E17: 7 | F17: 20609 | H17: L0184931 | I17: =IF(ISBLANK(C17),"",IF(ISNUMBER(MATCH(C17,ÉQUIPEMENTS!D:D,0)),"BROKERS",VLOOKUP(F17,REMORQUES,2,FALSE))) -> BROKERS
A18: 21-MAI-2014 à 6:06:20 AM | B18: JGAGNON1 | C18: 9007 | D18: MARIO PICHETTE | E18: 7 | F18: 20609 | I18: =IF(ISBLANK(C18),"",IF(ISNUMBER(MATCH(C18,ÉQUIPEMENTS!D:D,0)),"BROKERS",VLOOKUP(F18,REMORQUES,2,FALSE))) -> BROKERS
A19: 21-MAI-2014 à 6:06:20 AM | B19: JGAGNON1 | C19: 9007 | D19: MARIO PICHETTE | E19: 7 | F19: 20609 | H19: C0054231 | I19: =IF(ISBLANK(C19),"",IF(ISNUMBER(MATCH(C19,ÉQUIPEMENTS!D:D,0)),"BROKERS",VLOOKUP(F19,REMORQUES,2,FALSE))) -> BROKERS
A20: 22-MAI-2014 à 6:14:40 AM | B20: JGAGNON1 | C20: 9007 | D20: MARIO PICHETTE | E20: 7 | F20: 20608 | H20: L0185052 | I20: =IF(ISBLANK(C20),"",IF(ISNUMBER(MATCH(C20,ÉQUIPEMENTS!D:D,0)),"BROKERS",VLOOKUP(F20,REMORQUES,2,FALSE))) -> BROKERS
A21: 22-MAI-2014 à 2:42:02 PM | B21: JGAGNON1 | C21: 9007 | D21: MARIO PICHETTE | E21: 7 | F21: 20608 | I21: =IF(ISBLANK(C21),"",IF(ISNUMBER(MATCH(C21,ÉQUIPEMENTS!D:D,0)),"BROKERS",VLOOKUP(F21,REMORQUES,2,FALSE))) -> BROKERS
A22: 22-MAI-2014 à 2:42:02 PM | B22: JGAGNON1 | C22: 9007 | D22: MARIO PICHETTE | E22: 7 | F22: 20608 | H22: C0054269 | I22: =IF(ISBLANK(C22),"",IF(ISNUMBER(MATCH(C22,ÉQUIPEMENTS!D:D,0)),"BROKERS",VLOOKUP(F22,REMORQUES,2,FALSE))) -> BROKERS
A23: 22-MAI-2014 à 4:14:19 PM | B23: JGAGNON1 | C23: 9007 | D23: MARIO PICHETTE | E23: 7 | F23: 20609 | H23: L0185113 | I23: =IF(ISBLANK(C23),"",IF(ISNUMBER(MATCH(C23,ÉQUIPEMENTS!D:D,0)),"BROKERS",VLOOKUP(F23,REMORQUES,2,FALSE))) -> BROKERS
A24: 23-MAI-2014 à 9:23:59 AM | B24: JGAGNON1 | C24: 9007 | D24: MARIO PICHETTE | E24: 7 | F24: 20609 | I24: =IF(ISBLANK(C24),"",IF(ISNUMBER(MATCH(C24,ÉQUIPEMENTS!D:D,0)),"BROKERS",VLOOKUP(F24,REMORQUES,2,FALSE))) -> BROKERS
A25: 23-MAI-2014 à 9:23:59 AM | B25: JGAGNON1 | C25: 9007 | D25: MARIO PICHETTE | E25: 7 | F25: 20609 | H25: L0185155 | I25: =IF(ISBLANK(C25),"",IF(ISNUMBER(MATCH(C25,ÉQUIPEMENTS!D:D,0)),"BROKERS",VLOOKUP(F25,REMORQUES,2,FALSE))) -> BROKERS
A26: 24-MAI-2014 à 6:12:29 AM | B26: JGAGNON1 | C26: 9007 | D26: MARIO PICHETTE | E26: 7 | F26: 20609 | H26: L0185155 | I26: =IF(ISBLANK(C26),"",IF(ISNUMBER(MATCH(C26,ÉQUIPEMENTS!D:D,0)),"BROKERS",VLOOKUP(F26,REMORQUES,2,FALSE))) -> BROKERS
I27: =IF(ISBLANK(C27),"",IF(ISNUMBER(MATCH(C27,ÉQUIPEMENTS!D:D,0)),"BROKERS",VLOOKUP(F27,REMORQUES,2,FALSE)))
A28: 19-MAI-2014 à 3:25:35 PM | B28: RGIRARD | C28: 3755 | D28: SERGE COTE - 31 | E28: 36 | F28: 1462 | H28: L0184826 | I28: =IF(ISBLANK(C28),"",IF(ISNUMBER(MATCH(C28,ÉQUIPEMENTS!D:D,0)),"BROKERS",VLOOKUP(F28,REMORQUES,2,FALSE))) -> WIDELOAD
A29: 20-MAI-2014 à 8:49:41 AM | B29: RGIRARD | C29: 3755 | D29: SERGE COTE - 31 | E29: 36 | F29: 1462 | I29: =IF(ISBLANK(C29),"",IF(ISNUMBER(MATCH(C29,ÉQUIPEMENTS!D:D,0)),"BROKERS",VLOOKUP(F29,REMORQUES,2,FALSE))) -> WIDELOAD
A30: 20-MAI-2014 à 8:49:41 AM | B30: RGIRARD | C30: 3755 | D30: SERGE COTE - 31 | E30: 36 | F30: 1462 | H30: L0184856 | I30: =IF(ISBLANK(C30),"",IF(ISNUMBER(MATCH(C30,ÉQUIPEMENTS!D:D,0)),"BROKERS",VLOOKUP(F30,REMORQUES,2,FALSE))) -> WIDELOAD
A31: 24-MAI-2014 à 7:34:27 AM | B31: REMIL | C31: 3755 | D31: SERGE COTE - 31 | E31: 36 | F31: 1462 | H31: L0185192 | I31: =IF(ISBLANK(C31),"",IF(ISNUMBER(MATCH(C31,ÉQUIPEMENTS!D:D,0)),"BROKERS",VLOOKUP(F31,REMORQUES,2,FALSE))) -> WIDELOAD
I32: =IF(ISBLANK(C32),"",IF(ISNUMBER(MATCH(C32,ÉQUIPEMENTS!D:D,0)),"BROKERS",VLOOKUP(F32,REMORQUES,2,FALSE)))
A33: 21-MAI-2014 à 11:40:38 AM | B33: JGAGNON1 | C33: 1195 | D33: STEVES FORGUES - 41 | E33: 37 | F33: 20600 | I33: =IF(ISBLANK(C33),"",IF(ISNUMBER(MATCH(C33,ÉQUIPEMENTS!D:D,0)),"BROKERS",VLOOKUP(F33,REMORQUES,2,FALSE))) -> DRY BOX
A34: 21-MAI-2014 à 11:40:38 AM | B34: JGAGNON1 | C34: 1195 | D34: STEVES FORGUES - 41 | E34: 37 | F34: 20600 | H34: L0185000 | I34: =IF(ISBLANK(C34),"",IF(ISNUMBER(MATCH(C34,ÉQUIPEMENTS!D:D,0)),"BROKERS",VLOOKUP(F34,REMORQUES,2,FALSE))) -> DRY BOX
A35: 21-MAI-2014 à 12:58:49 PM | B35: JGAGNON1 | C35: 1195 | D35: STEVES FORGUES - 41 | E35: 37 | F35: 20600 | I35: =IF(ISBLANK(C35),"",IF(ISNUMBER(MATCH(C35,ÉQUIPEMENTS!D:D,0)),"BROKERS",VLOOKUP(F35,REMORQUES,2,FALSE))) -> DRY BOX
A36: 21-MAI-2014 à 12:58:49 PM | B36: JGAGNON1 | C36: 1195 | D36: STEVES FORGUES - 41 | E36: 37 | F36: 20600 | H36: C0054239 | I36: =IF(ISBLANK(C36),"",IF(ISNUMBER(MATCH(C36,ÉQUIPEMENTS!D:D,0)),"BROKERS",VLOOKUP(F36,REMORQUES,2,FALSE))) -> DRY BOX
A37: 21-MAI-2014 à 2:06:29 PM | B37: JGAGNON1 | C37: 1195 | D37: STEVES FORGUES - 41 | E37: 37 | F37: 20007 | I37: =IF(ISBLANK(C37),"",IF(ISNUMBER(MATCH(C37,ÉQUIPEMENTS!D:D,0)),"BROKERS",VLOOKUP(F37,REMORQUES,2,FALSE))) -> DRY BOX
A38: 21-MAI-2014 à 2:06:29 PM | B38: JGAGNON1 | C38: 1195 | D38: STEVES FORGUES - 41 | E38: 37 | F38: 20007 | H38: C0054241 | I38: =IF(ISBLANK(C38),"",IF(ISNUMBER(MATCH(C38,ÉQUIPEMENTS!D:D,0)),"BROKERS",VLOOKUP(F38,REMORQUES,2,FALSE))) -> DRY BOX
A39: 21-MAI-2014 à 2:39:51 PM | B39: JGAGNON1 | C39: 1195 | D39: STEVES FORGUES - 41 | E39: 37 | F39: 20611 | H39: L0185019 | I39: =IF(ISBLANK(C39),"",IF(ISNUMBER(MATCH(C39,ÉQUIPEMENTS!D:D,0)),"BROKERS",VLOOKUP(F39,REMORQUES,2,FALSE))) -> DRY BOX
A40: 21-MAI-2014 à 3:41:38 PM | B40: JGAGNON1 | C40: 1195 | D40: STEVES FORGUES - 41 | E40: 37 | F40: 21208 | I40: =IF(ISBLANK(C40),"",IF(ISNUMBER(MATCH(C40,ÉQUIPEMENTS!D:D,0)),"BROKERS",VLOOKUP(F40,REMORQUES,2,FALSE))) -> DRY BOX
A41: 21-MAI-2014 à 3:41:38 PM | B41: JGAGNON1 | C41: 1195 | D41: STEVES FORGUES - 41 | E41: 37 | F41: 21208 | H41: C0054244 | I41: =IF(ISBLANK(C41),"",IF(ISNUMBER(MATCH(C41,ÉQUIPEMENTS!D:D,0)),"BROKERS",VLOOKUP(F41,REMORQUES,2,FALSE))) -> DRY BOX
I42: =IF(ISBLANK(C42),"",IF(ISNUMBER(MATCH(C42,ÉQUIPEMENTS!D:D,0)),"BROKERS",VLOOKUP(F42,REMORQUES,2,FALSE)))
A43: 22-MAI-2014 à 1:56:08 PM | B43: RGIRARD | C43: 3809 | D43: JEAN-FRANCOIS RIOPEL-POULIN - 102 | E43: 43 | F43: 1326 | I43: =IF(ISBLANK(C43),"",IF(ISNUMBER(MATCH(C43,ÉQUIPEMENTS!D:D,0)),"BROKERS",VLOOKUP(F43,REMORQUES,2,FALSE))) -> WIDELOAD
A44: 22-MAI-2014 à 1:56:08 PM | B44: RGIRARD | C44: 3809 | D44: JEAN-FRANCOIS RIOPEL-POULIN - 102 | E44: 43 | F44: 1326 | H44: L0185100 | I44: =IF(ISBLANK(C44),"",IF(ISNUMBER(MATCH(C44,ÉQUIPEMENTS!D:D,0)),"BROKERS",VLOOKUP(F44,REMORQUES,2,FALSE))) -> WIDELOAD
A45: 23-MAI-2014 à 2:40:30 PM | B45: RGIRARD | C45: 3809 | D45: JEAN-FRANCOIS RIOPEL-POULIN - 102 | E45: 43 | F45: 1326 | I45: =IF(ISBLANK(C45),"",IF(ISNUMBER(MATCH(C45,ÉQUIPEMENTS!D:D,0)),"BROKERS",VLOOKUP(F45,REMORQUES,2,FALSE))) -> WIDELOAD
I46: =IF(ISBLANK(C46),"",IF(ISNUMBER(MATCH(C46,ÉQUIPEMENTS!D:D,0)),"BROKERS",VLOOKUP(F46,REMORQUES,2,FALSE)))
A47: 19-MAI-2014 à 11:05:42 AM | B47: JGAGNON1 | C47: 1157 | D47: PATRICK VAILLANCOURT - 117 | E47: 44 | F47: 21205 | I47: =IF(ISBLANK(C47),"",IF(ISNUMBER(MATCH(C47,ÉQUIPEMENTS!D:D,0)),"BROKERS",VLOOKUP(F47,REMORQUES,2,FALSE))) -> DRY BOX
A48: 19-MAI-2014 à 11:05:42 AM | B48: JGAGNON1 | C48: 1157 | D48: PATRICK VAILLANCOURT - 117 | E48: 44 | F48: 21205 | H48: C0054199 | I48: =IF(ISBLANK(C48),"",IF(ISNUMBER(MATCH(C48,ÉQUIPEMENTS!D:D,0)),"BROKERS",VLOOKUP(F48,REMORQUES,2,FALSE))) -> DRY BOX
A49: 20-MAI-2014 à 6:03:53 AM | B49: JGAGNON1 | C49: 1157 | D49: PATRICK VAILLANCOURT - 117 | E49: 44 | F49: 20002 | H49: L0184830 | I49: =IF(ISBLANK(C49),"",IF(ISNUMBER(MATCH(C49,ÉQUIPEMENTS!D:D,0)),"BROKERS",VLOOKUP(F49,REMORQUES,2,FALSE))) -> DRY BOX
A50: 20-MAI-2014 à 11:27:34 AM | B50: JGAGNON1 | C50: 1157 | D50: PATRICK VAILLANCOURT - 117 | E50: 44 | F50: 20002 | I50: =IF(ISBLANK(C50),"",IF(ISNUMBER(MATCH(C50,ÉQUIPEMENTS!D:D,0)),"BROKERS",VLOOKUP(F50,REMORQUES,2,FALSE))) -> DRY BOX
A51: 20-MAI-2014 à 11:27:34 AM | B51: JGAGNON1 | C51: 1157 | D51: PATRICK VAILLANCOURT - 117 | E51: 44 | F51: 20002 | H51: L0184892 | I51: =IF(ISBLANK(C51),"",IF(ISNUMBER(MATCH(C51,ÉQUIPEMENTS!D:D,0)),"BROKERS",VLOOKUP(F51,REMORQUES,2,FALSE))) -> DRY BOX
A52: 20-MAI-2014 à 4:24:50 PM | B52: JGAGNON1 | C52: 1157 | D52: PATRICK VAILLANCOURT - 117 | E52: 44 | F52: 21204 | I52: =IF(ISBLANK(C52),"",IF(ISNUMBER(MATCH(C52,ÉQUIPEMENTS!D:D,0)),"BROKERS",VLOOKUP(F52,REMORQUES,2,FALSE))) -> DRY BOX
A53: 20-MAI-2014 à 4:24:50 PM | B53: JGAGNON1 | C53: 1157 | D53: PATRICK VAILLANCOURT - 117 | E53: 44 | F53: 21204 | H53: L0184932 | I53: =IF(ISBLANK(C53),"",IF(ISNUMBER(MATCH(C53,ÉQUIPEMENTS!D:D,0)),"BROKERS",VLOOKUP(F53,REMORQUES,2,FALSE))) -> DRY BOX
A54: 21-MAI-2014 à 9:08:25 AM | B54: JGAGNON1 | C54: 1157 | D54: PATRICK VAILLANCOURT - 117 | E54: 44 | F54: 21204 | I54: =IF(ISBLANK(C54),"",IF(ISNUMBER(MATCH(C54,ÉQUIPEMENTS!D:D,0)),"BROKERS",VLOOKUP(F54,REMORQUES,2,FALSE))) -> DRY BOX
A55: 21-MAI-2014 à 9:08:25 AM | B55: JGAGNON1 | C55: 1157 | D55: PATRICK VAILLANCOURT - 117 | E55: 44 | F55: 21204 | H55: L0184983 | I55: =IF(ISBLANK(C55),"",IF(ISNUMBER(MATCH(C55,ÉQUIPEMENTS!D:D,0)),"BROKERS",VLOOKUP(F55,REMORQUES,2,FALSE))) -> DRY BOX
A56: 21-MAI-2014 à 3:48:14 PM | B56: JGAGNON1 | C56: 1157 | D56: PATRICK VAILLANCOURT - 117 | E56: 44 | F56: 21008 | H56: L0185032 | I56: =IF(ISBLANK(C56),"",IF(ISNUMBER(MATCH(C56,ÉQUIPEMENTS!D:D,0)),"BROKERS",VLOOKUP(F56,REMORQUES,2,FALSE))) -> DRY BOX
A57: 22-MAI-2014 à 1:56:11 PM | B57: JGAGNON1 | C57: 1157 | D57: PATRICK VAILLANCOURT - 117 | E57: 44 | F57: 21008 | I57: =IF(ISBLANK(C57),"",IF(ISNUMBER(MATCH(C57,ÉQUIPEMENTS!D:D,0)),"BROKERS",VLOOKUP(F57,REMORQUES,2,FALSE))) -> DRY BOX
A58: 22-MAI-2014 à 1:56:11 PM | B58: JGAGNON1 | C58: 1157 | D58: PATRICK VAILLANCOURT - 117 | E58: 44 | F58: 21008 | H58: L0185101 | I58: =IF(ISBLANK(C58),"",IF(ISNUMBER(MATCH(C58,ÉQUIPEMENTS!D:D,0)),"BROKERS",VLOOKUP(F58,REMORQUES,2,FALSE))) -> DRY BOX
I59: =IF(ISBLANK(C59),"",IF(ISNUMBER(MATCH(C59,ÉQUIPEMENTS!D:D,0)),"BROKERS",VLOOKUP(F59,REMORQUES,2,FALSE)))
A60: 19-MAI-2014 à 8:35:02 AM | B60: JGAGNON1 | C60: 1074 | D60: STÉPHANE HELMS - 62 | E60: 45 | F60: 21207 | I60: =IF(ISBLANK(C60),"",IF(ISNUMBER(MATCH(C60,ÉQUIPEMENTS!D:D,0)),"BROKERS",VLOOKUP(F60,REMORQUES,2,FALSE))) -> DRY BOX
A61: 19-MAI-2014 à 8:35:02 AM | B61: JGAGNON1 | C61: 1074 | D61: STÉPHANE HELMS - 62 | E61: 45 | F61: 21207 | H61: L0184793 | I61: =IF(ISBLANK(C61),"",IF(ISNUMBER(MATCH(C61,ÉQUIPEMENTS!D:D,0)),"BROKERS",VLOOKUP(F61,REMORQUES,2,FALSE))) -> DRY BOX
A62: 20-MAI-2014 à 12:53:52 PM | B62: JGAGNON1 | C62: 1074 | D62: STÉPHANE HELMS - 62 | E62: 45 | F62: 20401 | I62: =IF(ISBLANK(C62),"",IF(ISNUMBER(MATCH(C62,ÉQUIPEMENTS!D:D,0)),"BROKERS",VLOOKUP(F62,REMORQUES,2,FALSE))) -> DRY BOX
A63: 20-MAI-2014 à 12:53:52 PM | B63: JGAGNON1 | C63: 1074 | D63: STÉPHANE HELMS - 62 | E63: 45 | F63: 20401 | H63: L0184898 | I63: =IF(ISBLANK(C63),"",IF(ISNUMBER(MATCH(C63,ÉQUIPEMENTS!D:D,0)),"BROKERS",VLOOKUP(F63,REMORQUES,2,FALSE))) -> DRY BOX
A64: 20-MAI-2014 à 7:52:47 PM | B64: JGAGNON1 | C64: 1074 | D64: STÉPHANE HELMS - 62 | E64: 45 | F64: 20401 | I64: =IF(ISBLANK(C64),"",IF(ISNUMBER(MATCH(C64,ÉQUIPEMENTS!D:D,0)),"BROKERS",VLOOKUP(F64,REMORQUES,2,FALSE))) -> DRY BOX
A65: 20-MAI-2014 à 7:52:47 PM | B65: JGAGNON1 | C65: 1074 | D65: STÉPHANE HELMS - 62 | E65: 45 | F65: 20401 | H65: L0184938 | I65: =IF(ISBLANK(C65),"",IF(ISNUMBER(MATCH(C65,ÉQUIPEMENTS!D:D,0)),"BROKERS",VLOOKUP(F65,REMORQUES,2,FALSE))) -> DRY BOX
A66: 21-MAI-2014 à 2:16:39 PM | B66: JGAGNON1 | C66: 1074 | D66: STÉPHANE HELMS - 62 | E66: 45 | F66: 21012 | I66: =IF(ISBLANK(C66),"",IF(ISNUMBER(MATCH(C66,ÉQUIPEMENTS!D:D,0)),"BROKERS",VLOOKUP(F66,REMORQUES,2,FALSE))) -> DRY BOX
A67: 21-MAI-2014 à 2:16:39 PM | B67: JGAGNON1 | C67: 1074 | D67: STÉPHANE HELMS - 62 | E67: 45 | F67: 21012 | H67: L0185013 | I67: =IF(ISBLANK(C67),"",IF(ISNUMBER(MATCH(C67,ÉQUIPEMENTS!D:D,0)),"BROKERS",VLOOKUP(F67,REMORQUES,2,FALSE))) -> DRY BOX
A68: 22-MAI-2014 à 6:03:50 AM | B68: JGAGNON1 | C68: 1074 | D68: STÉPHANE HELMS - 62 | E68: 45 | F68: 21012 | I68: =IF(ISBLANK(C68),"",IF(ISNUMBER(MATCH(C68,ÉQUIPEMENTS!D:D,0)),"BROKERS",VLOOKUP(F68,REMORQUES,2,FALSE))) -> DRY BOX
A69: 22-MAI-2014 à 6:03:50 AM | B69: JGAGNON1 | C69: 1074 | D69: STÉPHANE HELMS - 62 | E69: 45 | F69: 21012 | H69: L0185046 | I69: =IF(ISBLANK(C69),"",IF(ISNUMBER(MATCH(C69,ÉQUIPEMENTS!D:D,0)),"BROKERS",VLOOKUP(F69,REMORQUES,2,FALSE))) -> DRY BOX
I70: =IF(ISBLANK(C70),"",IF(ISNUMBER(MATCH(C70,ÉQUIPEMENTS!D:D,0)),"BROKERS",VLOOKUP(F70,REMORQUES,2,FALSE)))
A71: 19-MAI-2014 à 12:44:34 PM | B71: JGAGNON1 | C71: 1111 | D71: PATRICK FORTIN - 45 | E71: 46 | F71: 20613 | I71: =IF(ISBLANK(C71),"",IF(ISNUMBER(MATCH(C71,ÉQUIPEMENTS!D:D,0)),"BROKERS",VLOOKUP(F71,REMORQUES,2,FALSE))) -> DRY BOX
A72: 19-MAI-2014 à 12:44:35 PM | B72: JGAGNON1 | C72: 1111 | D72: PATRICK FORTIN - 45 | E72: 46 | F72: 20613 | H72: L0184814 | I72: =IF(ISBLANK(C72),"",IF(ISNUMBER(MATCH(C72,ÉQUIPEMENTS!D:D,0)),"BROKERS",VLOOKUP(F72,REMORQUES,2,FALSE))) -> DRY BOX
A73: 21-MAI-2014 à 1:28:59 PM | B73: JGAGNON1 | C73: 1111 | D73: PATRICK FORTIN - 45 | E73: 46 | F73: 20613 | I73: =IF(ISBLANK(C73),"",IF(ISNUMBER(MATCH(C73,ÉQUIPEMENTS!D:D,0)),"BROKERS",VLOOKUP(F73,REMORQUES,2,FALSE))) -> DRY BOX
A74: 21-MAI-2014 à 1:28:59 PM | B74: JGAGNON1 | C74: 1111 | D74: PATRICK FORTIN - 45 | E74: 46 | F74: 20613 | H74: L0185006 | I74: =IF(ISBLANK(C74),"",IF(ISNUMBER(MATCH(C74,ÉQUIPEMENTS!D:D,0)),"BROKERS",VLOOKUP(F74,REMORQUES,2,FALSE))) -> DRY BOX
A75: 22-MAI-2014 à 3:28:38 PM | B75: JGAGNON1 | C75: 1111 | D75: PATRICK FORTIN - 45 | E75: 46 | F75: 20613 | I75: =IF(ISBLANK(C75),"",IF(ISNUMBER(MATCH(C75,ÉQUIPEMENTS!D:D,0)),"BROKERS",VLOOKUP(F75,REMORQUES,2,FALSE))) -> DRY BOX
A76: 22-MAI-2014 à 3:28:38 PM | B76: JGAGNON1 | C76: 1111 | D76: PATRICK FORTIN - 45 | E76: 46 | F76: 20613 | H76: C0054270 | I76: =IF(ISBLANK(C76),"",IF(ISNUMBER(MATCH(C76,ÉQUIPEMENTS!D:D,0)),"BROKERS",VLOOKUP(F76,REMORQUES,2,FALSE))) -> DRY BOX
A77: 22-MAI-2014 à 7:44:23 PM | B77: JGAGNON1 | C77: 1111 | D77: PATRICK FORTIN - 45 | E77: 46 | F77: 21009 | I77: =IF(ISBLANK(C77),"",IF(ISNUMBER(MATCH(C77,ÉQUIPEMENTS!D:D,0)),"BROKERS",VLOOKUP(F77,REMORQUES,2,FALSE))) -> DRY BOX
A78: 22-MAI-2014 à 7:44:23 PM | B78: JGAGNON1 | C78: 1111 | D78: PATRICK FORTIN - 45 | E78: 46 | F78: 21009 | H78: L0185130 | I78: =IF(ISBLANK(C78),"",IF(ISNUMBER(MATCH(C78,ÉQUIPEMENTS!D:D,0)),"BROKERS",VLOOKUP(F78,REMORQUES,2,FALSE))) -> DRY BOX
A79: 23-MAI-2014 à 9:24:55 AM | B79: JGAGNON1 | C79: 1111 | D79: PATRICK FORTIN - 45 | E79: 46 | F79: 21009 | I79: =IF(ISBLANK(C79),"",IF(ISNUMBER(MATCH(C79,ÉQUIPEMENTS!D:D,0)),"BROKERS",VLOOKUP(F79,REMORQUES,2,FALSE))) -> DRY BOX
A80: 23-MAI-2014 à 9:24:55 AM | B80: JGAGNON1 | C80: 1111 | D80: PATRICK FORTIN - 45 | E80: 46 | F80: 21009 | H80: L0185156 | I80: =IF(ISBLANK(C80),"",IF(ISNUMBER(MATCH(C80,ÉQUIPEMENTS!D:D,0)),"BROKERS",VLOOKUP(F80,REMORQUES,2,FALSE))) -> DRY BOX
I81: =IF(ISBLANK(C81),"",IF(ISNUMBER(MATCH(C81,ÉQUIPEMENTS!D:D,0)),"BROKERS",VLOOKUP(F81,REMORQUES,2,FALSE)))
A82: 18-MAI-2014 à 7:38:57 AM | B82: JGAGNON1 | C82: 1130 | D82: REJEAN TREMBLAY -115 | E82: 47 | F82: 20003 | H82: L0184765 | I82: =IF(ISBLANK(C82),"",IF(ISNUMBER(MATCH(C82,ÉQUIPEMENTS!D:D,0)),"BROKERS",VLOOKUP(F82,REMORQUES,2,FALSE))) -> DRY BOX
A83: 19-MAI-2014 à 7:13:08 AM | B83: JGAGNON1 | C83: 1130 | D83: REJEAN TREMBLAY -115 | E83: 47 | F83: 20003 | I83: =IF(ISBLANK(C83),"",IF(ISNUMBER(MATCH(C83,ÉQUIPEMENTS!D:D,0)),"BROKERS",VLOOKUP(F83,REMORQUES,2,FALSE))) -> DRY BOX
A84: 19-MAI-2014 à 7:13:08 AM | B84: JGAGNON1 | C84: 1130 | D84: REJEAN TREMBLAY -115 | E84: 47 | F84: 20003 | H84: L0184780 | I84: =IF(ISBLANK(C84),"",IF(ISNUMBER(MATCH(C84,ÉQUIPEMENTS!D:D,0)),"BROKERS",VLOOKUP(F84,REMORQUES,2,FALSE))) -> DRY BOX
A85: 19-MAI-2014 à 12:10:17 PM | B85: JGAGNON1 | C85: 1130 | D85: REJEAN TREMBLAY -115 | E85: 47 | F85: 21010 | I85: =IF(ISBLANK(C85),"",IF(ISNUMBER(MATCH(C85,ÉQUIPEMENTS!D:D,0)),"BROKERS",VLOOKUP(F85,REMORQUES,2,FALSE))) -> DRY BOX
A86: 19-MAI-2014 à 12:10:17 PM | B86: JGAGNON1 | C86: 1130 | D86: REJEAN TREMBLAY -115 | E86: 47 | F86: 21010 | H86: L0184811 | I86: =IF(ISBLANK(C86),"",IF(ISNUMBER(MATCH(C86,ÉQUIPEMENTS!D:D,0)),"BROKERS",VLOOKUP(F86,REMORQUES,2,FALSE))) -> DRY BOX
A87: 20-MAI-2014 à 7:12:13 AM | B87: JGAGNON1 | C87: 1130 | D87: REJEAN TREMBLAY -115 | E87: 47 | F87: 21010 | I87: =IF(ISBLANK(C87),"",IF(ISNUMBER(MATCH(C87,ÉQUIPEMENTS!D:D,0)),"BROKERS",VLOOKUP(F87,REMORQUES,2,FALSE))) -> DRY BOX
A88: 20-MAI-2014 à 7:12:13 AM | B88: JGAGNON1 | C88: 1130 | D88: REJEAN TREMBLAY -115 | E88: 47 | F88: 21010 | H88: L0184839 | I88: =IF(ISBLANK(C88),"",IF(ISNUMBER(MATCH(C88,ÉQUIPEMENTS!D:D,0)),"BROKERS",VLOOKUP(F88,REMORQUES,2,FALSE))) -> DRY BOX
A89: 20-MAI-2014 à 2:09:16 PM | B89: JGAGNON1 | C89: 1130 | D89: REJEAN TREMBLAY -115 | E89: 47 | F89: 20404 | I89: =IF(ISBLANK(C89),"",IF(ISNUMBER(MATCH(C89,ÉQUIPEMENTS!D:D,0)),"BROKERS",VLOOKUP(F89,REMORQUES,2,FALSE))) -> DRY BOX
A90: 20-MAI-2014 à 2:09:16 PM | B90: JGAGNON1 | C90: 1130 | D90: REJEAN TREMBLAY -115 | E90: 47 | F90: 20404 | H90: L0184906 | I90: =IF(ISBLANK(C90),"",IF(ISNUMBER(MATCH(C90,ÉQUIPEMENTS!D:D,0)),"BROKERS",VLOOKUP(F90,REMORQUES,2,FALSE))) -> DRY BOX
A91: 21-MAI-2014 à 6:31:35 AM | B91: JGAGNON1 | C91: 1130 | D91: REJEAN TREMBLAY -115 | E91: 47 | F91: 20404 | I91: =IF(ISBLANK(C91),"",IF(ISNUMBER(MATCH(C91,ÉQUIPEMENTS!D:D,0)),"BROKERS",VLOOKUP(F91,REMORQUES,2,FALSE))) -> DRY BOX
A92: 21-MAI-2014 à 6:31:35 AM | B92: JGAGNON1 | C92: 1130 | D92: REJEAN TREMBLAY -115 | E92: 47 | F92: 20404 | H92: L0184944 | I92: =IF(ISBLANK(C92),"",IF(ISNUMBER(MATCH(C92,ÉQUIPEMENTS!D:D,0)),"BROKERS",VLOOKUP(F92,REMORQUES,2,FALSE))) -> DRY BOX
A93: 21-MAI-2014 à 2:18:15 PM | B93: JGAGNON1 | C93: 1130 | D93: REJEAN TREMBLAY -115 | E93: 47 | F93: 21206 | I93: =IF(ISBLANK(C93),"",IF(ISNUMBER(MATCH(C93,ÉQUIPEMENTS!D:D,0)),"BROKERS",VLOOKUP(F93,REMORQUES,2,FALSE))) -> DRY BOX
A94: 21-MAI-2014 à 2:18:15 PM | B94: JGAGNON1 | C94: 1130 | D94: REJEAN TREMBLAY -115 | E94: 47 | F94: 21206 | H94: L0185015 | I94: =IF(ISBLANK(C94),"",IF(ISNUMBER(MATCH(C94,ÉQUIPEMENTS!D:D,0)),"BROKERS",VLOOKUP(F94,REMORQUES,2,FALSE))) -> DRY BOX
A95: 22-MAI-2014 à 8:01:06 AM | B95: JGAGNON1 | C95: 1130 | D95: REJEAN TREMBLAY -115 | E95: 47 | F95: 21206 | I95: =IF(ISBLANK(C95),"",IF(ISNUMBER(MATCH(C95,ÉQUIPEMENTS!D:D,0)),"BROKERS",VLOOKUP(F95,REMORQUES,2,FALSE))) -> DRY BOX
A96: 22-MAI-2014 à 8:01:06 AM | B96: JGAGNON1 | C96: 1130 | D96: REJEAN TREMBLAY -115 | E96: 47 | F96: 21206 | H96: L0185066 | I96: =IF(ISBLANK(C96),"",IF(ISNUMBER(MATCH(C96,ÉQUIPEMENTS!D:D,0)),"BROKERS",VLOOKUP(F96,REMORQUES,2,FALSE))) -> DRY BOX
A97: 22-MAI-2014 à 2:39:05 PM | B97: JGAGNON1 | C97: 1130 | D97: REJEAN TREMBLAY -115 | E97: 47 | F97: 20404 | I97: =IF(ISBLANK(C97),"",IF(ISNUMBER(MATCH(C97,ÉQUIPEMENTS!D:D,0)),"BROKERS",VLOOKUP(F97,REMORQUES,2,FALSE))) -> DRY BOX
A98: 22-MAI-2014 à 2:39:05 PM | B98: JGAGNON1 | C98: 1130 | D98: REJEAN TREMBLAY -115 | E98: 47 | F98: 20404 | H98: L0185103 | I98: =IF(ISBLANK(C98),"",IF(ISNUMBER(MATCH(C98,ÉQUIPEMENTS!D:D,0)),"BROKERS",VLOOKUP(F98,REMORQUES,2,FALSE))) -> DRY BOX
A99: 23-MAI-2014 à 6:28:17 AM | B99: JGAGNON1 | C99: 1130 | D99: REJEAN TREMBLAY -115 | E99: 47 | F99: 20404 | I99: =IF(ISBLANK(C99),"",IF(ISNUMBER(MATCH(C99,ÉQUIPEMENTS!D:D,0)),"BROKERS",VLOOKUP(F99,REMORQUES,2,FALSE))) -> DRY BOX
A100: 23-MAI-2014 à 6:28:17 AM | B100: JGAGNON1 | C100: 1130 | D100: REJEAN TREMBLAY -115 | E100: 47 | F100: 20404 | H100: L0185140 | I100: =IF(ISBLANK(C100),"",IF(ISNUMBER(MATCH(C100,ÉQUIPEMENTS!D:D,0)),"BROKERS",VLOOKUP(F100,REMORQUES,2,FALSE))) -> DRY BOX
I101: =IF(ISBLANK(C101),"",IF(ISNUMBER(MATCH(C101,ÉQUIPEMENTS!D:D,0)),"BROKERS",VLOOKUP(F101,REMORQUES,2,FALSE)))
...

Sheet EF Hebdo
B1: B-TRAIN | C1: $/mile | D1: FLAT BED | E1: $/mile | F1: WIDELOAD | G1: $/mile | H1: DRY BOX | I1: $/mile | J1: BROKER
A2: Millage | B2: =SUMIF(Mouvement_tracteur_GBOUCHARD!$I$5:$I$2000,B1,Mouvement_tracteur_GBOUCHARD!#REF!) -> #REF! | D2: =SUMIF(Mouvement_tracteur_GBOUCHARD!$I$5:$I$1167,D1,Mouvement_tracteur_GBOUCHARD!#REF!) -> #REF! | F2: =SUMIF(Mouvement_tracteur_GBOUCHARD!$I$5:$I$1167,F1,Mouvement_tracteur_GBOUCHARD!#REF!) -> #REF! | H2: =SUMIF(Mouvement_tracteur_GBOUCHARD!$I$5:$I$1167,H1,Mouvement_tracteur_GBOUCHARD!#REF!) -> #REF!
A3: Revenus | B3: =SUMIF(Mouvement_tracteur_GBOUCHARD!$I$5:$I$1167,B1,Mouvement_tracteur_GBOUCHARD!#REF!) -> #REF! | C3: =B3/B2 -> #REF! | D3: =SUMIF(Mouvement_tracteur_GBOUCHARD!$I$5:$I$1167,D1,Mouvement_tracteur_GBOUCHARD!#REF!) -> #REF! | E3: =D3/D2 -> #REF! | F3: =SUMIF(Mouvement_tracteur_GBOUCHARD!$I$5:$I$1167,F1,Mouvement_tracteur_GBOUCHARD!#REF!) -> #REF! | G3: =F3/F2 -> #REF! | H3: =SUMIF(Mouvement_tracteur_GBOUCHARD!$I$5:$I$1167,H1,Mouvement_tracteur_GBOUCHARD!#REF!) -> #REF! | I3: =H3/H2 -> #REF!

Sheet ÉQUIPEMENTS
A1: TYPE DE REMORQUE | D1: BROKERS
A3: 714 | B3: B-TRAIN | D3: 9002 | E3: JIMMY | F3: PROVENCHER
A4: 715 | B4: B-TRAIN | D4: 9003 | E4: DANNY | F4: MARTEL
A5: 724 | B5: B-TRAIN | D5: 9005 | E5: GUY | F5: FISET
A6: 725 | B6: B-TRAIN | D6: 9006 | E6: MELANIE | F6: BOSSE
A7: 728 | B7: B-TRAIN | D7: 9007 | E7: MARIO | F7: PICHETTE
A8: 729 | B8: B-TRAIN | D8: 9008 | E8: NICOLAS | F8: SIMARD
A9: 750 | B9: B-TRAIN | D9: 9009 | E9: SEBASTIEN | F9: MALTAIS
A10: 751 | B10: B-TRAIN | D10: 9010 | E10: RENALD | F10: PELLETIER
A11: 752 | B11: B-TRAIN | D11: 9011 | E11: MICHEL | F11: DOSTIE
A12: 753 | B12: B-TRAIN | D12: DST01 | E12: MARIO | F12: ST-PIERRE
A13: 759 | B13: B-TRAIN | D13: DST02 | E13: ROBERT | F13: DE LA CHEVROTIÈRE
A14: 764 | B14: B-TRAIN | D14: DST03 | E14: YVES | F14: MORISETTE
A15: 765 | B15: B-TRAIN | D15: DST04 | E15: YVAN | F15: LARAMEE
A16: 766 | B16: B-TRAIN | D16: DST05 | E16: SIMON | F16: MARCIL
A17: 767 | B17: B-TRAIN | D17: GMF | E17: JOANNIE | F17: FORTIN
A18: 768 | B18: B-TRAIN | D18: LACOS | E18: LOUIS | F18: LACOSTE
A19: 769 | B19: B-TRAIN | D19: LACOS2 | E19: DENIS | F19: LACOSTE
A20: 770 | B20: B-TRAIN | D20: LUCIEN | E20: LUCIEN | F20: TREMBLAY
A21: 771 | B21: B-TRAIN | D21: S-O-S | E21: SIMON | F21: SIMON
A22: 774 | B22: B-TRAIN
A23: 775 | B23: B-TRAIN
A24: 776 | B24: B-TRAIN
A25: 777 | B25: B-TRAIN
A26: 778 | B26: B-TRAIN
A27: 779 | B27: B-TRAIN
A28: 780 | B28: B-TRAIN
A29: 781 | B29: B-TRAIN
A30: 782 | B30: B-TRAIN
A31: 783 | B31: B-TRAIN
A32: 784 | B32: B-TRAIN
A33: 785 | B33: B-TRAIN
... A150: 730 | B150: WIDELOAD
A151: 730A | B151: WIDELOAD
A152: 730B | B152: WIDELOAD
A153: 731 | B153: WIDELOAD
A154: 732 | B154: WIDELOAD
A155: 733 | B155: WIDELOAD
A156: 733A | B156: WIDELOAD
A157: 734 | B157: WIDELOAD
A158: 735 | B158: WIDELOAD
A159: 736 | B159: WIDELOAD
A160: 737 | B160: WIDELOAD
A161: 737A | B161: WIDELOAD
A162: 738 | B162: WIDELOAD
A163: 738A | B163: WIDELOAD
A164: 738B | B164: WIDELOAD
A165: 739 | B165: WIDELOAD
A166: 740 | B166: WIDELOAD
A167: 740A | B167: WIDELOAD
A168: 741 | B168: WIDELOAD
A169: 742 | B169: WIDELOAD
A170: 743 | B170: WIDELOAD
A171: 743A | B171: WIDELOAD
A172: 744 | B172: WIDELOAD
A173: 744A | B173: WIDELOAD
A174: 746-A | B174: WIDELOAD
A175: 745 | B175: WIDELOAD
A176: 745A | B176: WIDELOAD
A177: 746 | B177: WIDELOAD
A178: B-746 | B178: WIDELOAD
A179: J-746 | B179: WIDELOAD
A180: J-746-A | B180: WIDELOAD
A181: 747 | B181: WIDELOAD
A182: 748 | B182: WIDELOAD
A183: 749 | B183: WIDELOAD
A184: 1000 | B184: WIDELOAD
A185: 1001 | B185: WIDELOAD
A186: 1002 | B186: WIDELOAD
A187: 1003 | B187: WIDELOAD
A188: 1004 | B188: WIDELOAD
A189: 1307 | B189: WIDELOAD
A190: 1308 | B190: WIDELOAD
A191: 1309 | B191: WIDELOAD
A192: 1310 | B192: WIDELOAD
... A222: 1471 | B222: WIDELOAD
A223: GUAY | B223: WIDELOAD
A224: 4801 | B224: DRY BOX
A225: 4802 | B225: DRY BOX
A226: 5312 | B226: DRY BOX
A227: 5317 | B227: DRY BOX
A228: 5322 | B228: DRY BOX
A229: 20000 | B229: DRY BOX
A230: 20001 | B230: DRY BOX
A231: 20002 | B231: DRY BOX
A232: 20003 | B232: DRY BOX
A233: 20004 | B233: DRY BOX
A234: 20005 | B234: DRY BOX
A235: 20006 | B235: DRY BOX
... A404: 763 | B404: B
