Workbook
Name BROKERS: ÉQUIPEMENTS!$D$4:$D$21+ÉQUIPEMENTS!$D$3:$D$21
Name REMORQUES: ÉQUIPEMENTS!$A$3:$B$386

Sheet Mouvement_tracteur_GBOUCHARD
A1: Jules Savard Inc.
A2: Mouvement par tracteur avec revenu au mille (du 18-MAI-2014 au 24-MAI-2014)
A4: Date mouvement | B4: Repartiteur | C4: Chauffeur | D4: nom chauffeur | E4: Tracteur | F4: Remorque 1 | G4: Remorque 2 | H4: Numero voyage | I4: DIVISION
A5: 20-MAI-2014 à 3:42:08 PM | B5: JGAGNON1 | C5: 9002 | D5: JIMMY PROVENCHER | E5: 2 | F5: 20004 | I5: =IF(ISBLANK(C5),"",IF(ISNUMBER(MATCH(C5,ÉQUIPEMENTS!D:D,0)),"BROKERS",VLOOKUP(F5,REMORQUES,2,FALSE))) -> BROKERS
A6: 20-MAI-2014 à 3:42:08 PM | B6: JGAGNON1 | C6: 9002 | D6: JIMMY PROVENCHER | E6: 2 | F6: 20004 | H6: L0184923 | I6: =IF(ISBLANK(C6),"",IF(ISNUMBER(MATCH(C6,ÉQUIPEMENTS!D:D,0)),"BROKERS",VLOOKUP(F6,REMORQUES,2,FALSE))) -> BROKERS
A7: 22-MAI-2014 à 8:19:25 AM | B7: JGAGNON1 | C7: 9002 | D7: JIMMY PROVENCHER | E7: 2 | F7: 20612 | I7: =IF(ISBLANK(C7),"",IF(ISNUMBER(MATCH(C7,ÉQUIPEMENTS!D:D,0)),"BROKERS",VLOOKUP(F7,REMORQUES,2,FALSE))) -> BROKERS
A8: 22-MAI-2014 à 8:19:25 AM | B8: JGAGNON1 | C8: 9002 | D8: JIMMY PROVENCHER | E8: 2 | F8: 20612 | H8: C0054253 | I8: =IF(ISBLANK(C8),"",IF(ISNUMBER(MATCH(C8,ÉQUIPEMENTS!D:D,0)),"BROKERS",VLOOKUP(F8,REMORQUES,2,FALSE))) -> BROKERS
A9: 22-MAI-2014 à 8:20:19 AM | B9: JGAGNON1 | C9: 9002 | D9: JIMMY PROVENCHER | E9: 2 | F9: 20401 | H9: L0185072 | I9: =IF(ISBLANK(C9),"",IF(ISNUMBER(MATCH(C9,ÉQUIPEMENTS!D:D,0)),"BROKERS",VLOOKUP(F9,REMORQUES,2,FALSE))) -> BROKERS
A10: 23-MAI-2014 à 8:01:37 AM | B10: JGAGNON1 | C10: 9002 | D10: JIMMY PROVENCHER | E10: 2 | F10: 20401 | I10: =IF(ISBLANK(C10),"",IF(ISNUMBER(MATCH(C10,ÉQUIPEMENTS!D:D,0)),"BROKERS",VLOOKUP(F10,REMORQUES,2,FALSE))) -> BROKERS
A11: 23-MAI-2014 à 8:01:37 AM | B11: JGAGNON1 | C11: 9002 | D11: JIMMY PROVENCHER | E11: 2 | F11: 20401 | H11: C0054284 | I11: =IF(ISBLANK(C11),"",IF(ISNUMBER(MATCH(C11,ÉQUIPEMENTS!D:D,0)),"BROKERS",VLOOKUP(F11,REMORQUES,2,FALSE))) -> BROKERS
I12: =IF(ISBLANK(C12),"",IF(ISNUMBER(MATCH(C12,ÉQUIPEMENTS!D:D,0)),"BROKERS",VLOOKUP(F12,REMORQUES,2,FALSE)))
A13: 19-MAI-2014 à 8:28:39 AM | B13: JGAGNON1 | C13: 9007 | D13: MARIO PICHETTE | E13: 7 | F13: 21009 | I13: =IF(ISBLANK(C13),"",IF(ISNUMBER(MATCH(C13,ÉQUIPEMENTS!D:D,0)),"BROKERS",VLOOKUP(F13,REMORQUES,2,FALSE))) -> BROKERS
A14: 19-MAI-2014 à 8:28:39 AM | B14: JGAGNON1 | C14: 9007 | D14: MARIO PICHETTE | E14: 7 | F14: 21009 | I14: =IF(ISBLANK(C14),"",IF(ISNUMBER(MATCH(C14,ÉQUIPEMENTS!D:D,0)),"BROKERS",VLOOKUP(F14,REMORQUES,2,FALSE))) -> BROKERS
A15: 19-MAI-2014 à 8:28:39 AM | B15: JGAGNON1 | C15: 9007 | D15: MARIO PICHETTE | E15: 7 | F15: 21009 | H15: L0184791 | I15: =IF(ISBLANK(C15),"",IF(ISNUMBER(MATCH(C15,ÉQUIPEMENTS!D:D,0)),"BROKERS",VLOOKUP(F15,REMORQUES,2,FALSE))) -> BROKERS
A16: 20-MAI-2014 à 4:23:53 PM | B16: JGAGNON1 | C16: 9007 | D16: MARIO PICHETTE | E16: 7 | F16: 20609 | I16: =IF(ISBLANK(C16),"",IF(ISNUMBER(MATCH(C16,ÉQUIPEMENTS!D:D,0)),"BROKERS",VLOOKUP(F16,REMORQUES,2,FALSE))) -> BROKERS
A17: 20-MAI-2014 à 4:23:53 PM | B17: JGAGNON1 | C17: 9007 | D17: MARIO PICHETTE | E17: 7 | F17: 20609 | H17: L0184931 | I17: =IF(ISBLANK(C17),"",IF(ISNUMBER(MATCH(C17,ÉQUIPEMENTS!D:D,0)),"BROKERS",VLOOKUP(F17,REMORQUES,2,FALSE))) -> BROKERS
A18: 21-MAI-2014 à 6:06:20 AM | B18: JGAGNON1 | C18: 9007 | D18: MARIO PICHETTE | E18: 7 | F18: 20609 | I18: =IF(ISBLANK(C18),"",IF(ISNUMBER(MATCH(C18,ÉQUIPEMENTS!D:D,0)),"BROKERS",VLOOKUP(F18,REMORQUES,2,FALSE))) -> BROKERS
A19: 21-MAI-2014 à 6:06:20 AM | B19: JGAGNON1 | C19: 9007 | D19: MARIO PICHETTE | E19: 7 | F19: 20609 | H19: C0054231 | I19: =IF(ISBLANK(C19),"",IF(ISNUMBER(MATCH(C19,ÉQUIPEMENTS!D:D,0)),"BROKERS",VLOOKUP(F19,REMORQUES,2,FALSE))) -> BROKERS
A20: 22-MAI-2014 à 6:14:40 AM | B20: JGAGNON1 | C20: 9007 | D20: MARIO PICHETTE | E20: 7 | F20: 20608 | H20: L0185052 | I20: =IF(ISBLANK(C20),"",IF(ISNUMBER(MATCH(C20,ÉQUIPEMENTS!D:D,0)),"BROKERS",VLOOKUP(F20,REMORQUES,2,FALSE))) -> BROKERS
A21: 22-MAI-2014 à 2:42:02 PM | B21: JGAGNON1 | C21: 9007 | D21: MARIO PICHETTE | E21: 7 | F21: 20608 | I21: =IF(ISBLANK(C21),"",IF(ISNUMBER(MATCH(C21,ÉQUIPEMENTS!D:D,0)),"BROKERS",VLOOKUP(F21,REMORQUES,2,FALSE))) -> BROKERS
A22: 22-MAI-2014 à 2:42:02 PM | B22: JGAGNON1 | C22: 9007 | D22: MARIO PICHETTE | E22: 7 | F22: 20608 | H22: C0054269 | I22: =IF(ISBLANK(C22),"",IF(ISNUMBER(MATCH(C22,ÉQUIPEMENTS!D:D,0)),"BROKERS",VLOOKUP(F22,REMORQUES,2,FALSE))) -> BROKERS
A23: 22-MAI-2014 à 4:14:19 PM | B23: JGAGNON1 | C23: 9007 | D23: MARIO PICHETTE | E23: 7 | F23: 20609 | H23: L0185113 | I23: =IF(ISBLANK(C23),"",IF(ISNUMBER(MATCH(C23,ÉQUIPEMENTS!D:D,0)),"BROKERS",VLOOKUP(F23,REMORQUES,2,FALSE))) -> BROKERS
A24: 23-MAI-2014 à 9:23:59 AM | B24: JGAGNON1 | C24: 9007 | D24: MARIO PICHETTE | E24: 7 | F24: 20609 | I24: =IF(ISBLANK(C24),"",IF(ISNUMBER(MATCH(C24,ÉQUIPEMENTS!D:D,0)),"BROKERS",VLOOKUP(F24,REMORQUES,2,FALSE))) -> BROKERS
A25: 23-MAI-2014 à 9:23:59 AM | B25: JGAGNON1 | C25: 9007 | D25: MARIO PICHETTE | E25: 7 | F25: 20609 | H25: L0185155 | I25: =IF(ISBLANK(C25),"",IF(ISNUMBER(MATCH(C25,ÉQUIPEMENTS!D:D,0)),"BROKERS",VLOOKUP(F25,REMORQUES,2,FALSE))) -> BROKERS
A26: 24-MAI-2014 à 6:12:29 AM | B26: JGAGNON1 | C26: 9007 | D26: MARIO PICHETTE | E26: 7 | F26: 20609 | H26: L0185155 | I26: =IF(ISBLANK(C26),"",IF(ISNUMBER(MATCH(C26,ÉQUIPEMENTS!D:D,0)),"BROKERS",VLOOKUP(F26,REMORQUES,2,FALSE))) -> BROKERS
I27: =IF(ISBLANK(C27),"",IF(ISNUMBER(MATCH(C27,ÉQUIPEMENTS!D:D,0)),"BROKERS",VLOOKUP(F27,REMORQUES,2,FALSE)))
A28: 19-MAI-2014 à 3:25:35 PM | B28: RGIRARD | C28: 3755 | D28: SERGE COTE - 31 | E28: 36 | F28: 1462 | H28: L0184826 | I28: =IF(ISBLANK(C28),"",IF(ISNUMBER(MATCH(C28,ÉQUIPEMENTS!D:D,0)),"BROKERS",VLOOKUP(F28,REMORQUES,2,FALSE))) -> WIDELOAD
A29: 20-MAI-2014 à 8:49:41 AM | B29: RGIRARD | C29: 3755 | D29: SERGE COTE - 31 | E29: 36 | F29: 1462 | I29: =IF(ISBLANK(C29),"",IF(ISNUMBER(MATCH(C29,ÉQUIPEMENTS!D:D,0)),"BROKERS",VLOOKUP(F29,REMORQUES,2,FALSE))) -> WIDELOAD
A30: 20-MAI-2014 à 8:49:41 AM | B30: RGIRARD | C30: 3755 | D30: SERGE COTE - 31 | E30: 36 | F30: 1462 | H30: L0184856 | I30: =IF(ISBLANK(C30),"",IF(ISNUMBER(MATCH(C30,ÉQUIPEMENTS!D:D,0)),"BROKERS",VLOOKUP(F30,REMORQUES,2,FALSE))) -> WIDELOAD
A31: 24-MAI-2014 à 7:34:27 AM | B31: REMIL | C31: 3755 | D31: SERGE COTE - 31 | E31: 36 | F31: 1462 | H31: L0185192 | I31: =IF(ISBLANK(C31),"",IF(ISNUMBER(MATCH(C31,ÉQUIPEMENTS!D:D,0)),"BROKERS",VLOOKUP(F31,REMORQUES,2,FALSE))) -> WIDELOAD
I32: =IF(ISBLANK(C32),"",IF(ISNUMBER(MATCH(C32,ÉQUIPEMENTS!D:D,0)),"BROKERS",VLOOKUP(F32,REMORQUES,2,FALSE)))
A33: 21-MAI-2014 à 11:40:38 AM | B33: JGAGNON1 | C33: 1195 | D33: STEVES FORGUES - 41 | E33: 37 | F33: 20600 | I33: =IF(ISBLANK(C33),"",IF(ISNUMBER(MATCH(C33,ÉQUIPEMENTS!D:D,0)),"BROKERS",VLOOKUP(F33,REMORQUES,2,FALSE))) -> DRY BOX
A34: 21-MAI-2014 à 11:40:38 AM | B34: JGAGNON1 | C34: 1195 | D34: STEVES FORGUES - 41 | E34: 37 | F34: 20600 | H34: L0185000 | I34: =IF(ISBLANK(C34),"",IF(ISNUMBER(MATCH(C34,ÉQUIPEMENTS!D:D,0)),"BROKERS",VLOOKUP(F34,REMORQUES,2,FALSE))) -> DRY BOX
A35: 21-MAI-2014 à 12:58:49 PM | B35: JGAGNON1 | C35: 1195 | D35: STEVES FORGUES - 41 | E35: 37 | F35: 20600 | I35: =IF(ISBLANK(C35),"",IF(ISNUMBER(MATCH(C35,ÉQUIPEMENTS!D:D,0)),"BROKERS",VLOOKUP(F35,REMORQUES,2,FALSE))) -> DRY BOX
A36: 21-MAI-2014 à 12:58:49 PM | B36: JGAGNON1 | C36: 1195 | D36: STEVES FORGUES - 41 | E36: 37 | F36: 20600 | H36: C0054239 | I36: =IF(ISBLANK(C36),"",IF(ISNUMBER(MATCH(C36,ÉQUIPEMENTS!D:D,0)),"BROKERS",VLOOKUP(F36,REMORQUES,2,FALSE))) -> DRY BOX
A37: 21-MAI-2014 à 2:06:29 PM | B37: JGAGNON1 | C37: 1195 | D37: STEVES FORGUES - 41 | E37: 37 | F37: 20007 | I37: =IF(ISBLANK(C37),"",IF(ISNUMBER(MATCH(C37,ÉQUIPEMENTS!D:D,0)),"BROKERS",VLOOKUP(F37,REMORQUES,2,FALSE))) -> DRY BOX
A38: 21-MAI-2014 à 2:06:29 PM | B38: JGAGNON1 | C38: 1195 | D38: STEVES FORGUES - 41 | E38: 37 | F38: 20007 | H38: C0054241 | I38: =IF(ISBLANK(C38),"",IF(ISNUMBER(MATCH(C38,ÉQUIPEMENTS!D:D,0)),"BROKERS",VLOOKUP(F38,REMORQUES,2,FALSE))) -> DRY BOX
A39: 21-MAI-2014 à 2:39:51 PM | B39: JGAGNON1 | C39: 1195 | D39: STEVES FORGUES - 41 | E39: 37 | F39: 20611 | H39: L0185019 | I39: =IF(ISBLANK(C39),"",IF(ISNUMBER(MATCH(C39,ÉQUIPEMENTS!D:D,0)),"BROKERS",VLOOKUP(F39,REMORQUES,2,FALSE))) -> DRY BOX
A40: 21-MAI-2014 à 3:41:38 PM | B40: JGAGNON1 | C40: 1195 | D40: STEVES FORGUES - 41 | E40: 37 | F40: 21208 | I40: =IF(ISBLANK(C40),"",IF(ISNUMBER(MATCH(C40,ÉQUIPEMENTS!D:D,0)),"BROKERS",VLOOKUP(F40,REMORQUES,2,FALSE))) -> DRY BOX
A41: 21-MAI-2014 à 3:41:38 PM | B41: JGAGNON1 | C41: 1195 | D41: STEVES FORGUES - 41 | E41: 37 | F41: 21208 | H41: C0054244 | I41: =IF(ISBLANK(C41),"",IF(ISNUMBER(MATCH(C41,ÉQUIPEMENTS!D:D,0)),"BROKERS",VLOOKUP(F41,REMORQUES,2,FALSE))) -> DRY BOX
...

Sheet EF Hebdo
B1: B-TRAIN | C1: $/mile | D1: FLAT BED | E1: $/mile | F1: WIDELOAD | G1: $/mile | H1: DRY BOX | I1: $/mile | J1: BROKER
A2: Millage | B2: =SUMIF(Mouvement_tracteur_GBOUCHARD!$I$5:$I$2000,B1,Mouvement_tracteur_GBOUCHARD!#REF!) -> #REF! | D2: =SUMIF(Mouvement_tracteur_GBOUCHARD!$I$5:$I$1167,D1,Mouvement_tracteur_GBOUCHARD!#REF!) -> #REF! | F2: =SUMIF(Mouvement_tracteur_GBOUCHARD!$I$5:$I$1167,F1,Mouvement_tracteur_GBOUCHARD!#REF!) -> #REF! | H2: =SUMIF(Mouvement_tracteur_GBOUCHARD!$I$5:$I$1167,H1,Mouvement_tracteur_GBOUCHARD!#REF!) -> #REF!
A3: Revenus | B3: =SUMIF(Mouvement_tracteur_GBOUCHARD!$I$5:$I$1167,B1,Mouvement_tracteur_GBOUCHARD!#REF!) -> #REF! | C3: =B3/B2 -> #REF! | D3: =SUMIF(Mouvement_tracteur_GBOUCHARD!$I$5:$I$1167,D1,Mouvement_tracteur_GBOUCHARD!#REF!) -> #REF! | E3: =D3/D2 -> #REF! | F3: =SUMIF(Mouvement_tracteur_GBOUCHARD!$I$5:$I$1167,F1,Mouvement_tracteur_GBOUCHARD!#REF!) -> #REF! | G3: =F3/F2 -> #REF! | H3: =SUMIF(Mouvement_tracteur_GBOUCHARD!$I$5:$I$1167,H1,Mouvement_tracteur_GBOUCHARD!#REF!) -> #REF! | I3: =H3/H2 -> #REF!

Sheet ÉQUIPEMENTS
A1: TYPE DE REMORQUE | D1: BROKERS
A3: 714 | B3: B-TRAIN | D3: 9002 | E3: JIMMY | F3: PROVENCHER
A4: 715 | B4: B-TRAIN | D4: 9003 | E4: DANNY | F4: MARTEL
A5: 724 | B5: B-TRAIN | D5: 9005 | E5: GUY | F5: FISET
A6: 725 | B6: B-TRAIN | D6: 9006 | E6: MELANIE | F6: BOSSE
A7: 728 | B7: B-TRAIN | D7: 9007 | E7: MARIO | F7: PICHETTE
A8: 729 | B8: B-TRAIN | D8: 9008 | E8: NICOLAS | F8: SIMARD
A9: 750 | B9: B-TRAIN | D9: 9009 | E9: SEBASTIEN | F9: MALTAIS
A10: 751 | B10: B-TRAIN | D10: 9010 | E10: RENALD | F10: PELLETIER
A11: 752 | B11: B-TRAIN | D11: 9011 | E11: MICHEL | F11: DOSTIE
A12: 753 | B12: B-TRAIN | D12: DST01 | E12: MARIO | F12: ST-PIERRE
A13: 759 | B13: B-TRAIN | D13: DST02 | E13: ROBERT | F13: DE LA CHEVROTIÈRE
A14: 764 | B14: B-TRAIN | D14: DST03 | E14: YVES | F14: MORISETTE
A15: 765 | B15: B-TRAIN | D15: DST04 | E15: YVAN | F15: LARAMEE
A16: 766 | B16: B-TRAIN | D16: DST05 | E16: SIMON | F16: MARCIL
A17: 767 | B17: B-TRAIN | D17: GMF | E17: JOANNIE | F17: FORTIN
A18: 768 | B18: B-TRAIN | D18: LACOS | E18: LOUIS | F18: LACOSTE
A19: 769 | B19: B-TRAIN | D19: LACOS2 | E19: DENIS | F19: LACOSTE
A20: 770 | B20: B-TRAIN | D20: LUCIEN | E20: LUCIEN | F20: TREMBLAY
A21: 771 | B21: B-TRAIN | D21: S-O-S | E21: SIMON | F21: SIMON
A22: 774 | B22: B-TRAIN
A23: 775 | B23: B-TRAIN
A24: 776 | B24: B-TRAIN
A25: 777 | B25: B-TRAIN
A26: 778 | B26: B-TRAIN
A27: 779 | B27: B-TRAIN
A28: 780 | B28: B-TRAIN
A29: 781 | B29: B-TRAIN
A30: 782 | B30: B-TRAIN
A31: 783 | B31: B-TRAIN
A32: 784 | B32: B-TRAIN
A33: 785 | B33: B-TRAIN
... A150: 730 | B150: WIDELOAD
A151: 730A | B151: WIDELOAD
A152: 730B | B152: WIDELOAD
A153: 731 | B153: WIDELOAD
A154: 732 | B154: WIDELOAD
A155: 733 | B155: WIDELOAD
A156: 733A | B156: WIDELOAD
A157: 734 | B157: WIDELOAD
...
