Workbook
Name Famille: OFFSET(#REF!,1,0,COUNTA(#REF!)-1,1)
Name Fournisseurs: OFFSET(#REF!,1,0,COUNTA(#REF!)-1,1)
Name Initiales: OFFSET(#REF!,1,0,COUNTA(#REF!)-1,1)
Name Ligne: OFFSET(#REF!,1,0,COUNTA(#REF!)-1,1)
Name Mouvement: OFFSET(#REF!,1,0,COUNTA(#REF!)-1,1)
Name Propriété: OFFSET(#REF!,1,0,COUNTA(#REF!)-1,1)

Sheet Stock
B1: STOCK | S1: 41756
A2: Code Article | B2: Désignation | C2: Propriété | D2: Famille | E2: Ligne | F2: Equipement | G2: Sous ensemble | H2: Fournisseur | I2: Marque | J2: Référence | K2: Emplacement | L2: Date dernier inventaire | M2: Stock Initial | N2: Prix Unitaire Initial HT | O2: Stock Mini | P2: Prix Unitaire Moyen Pondéré | Q2: Quantité Stockée | R2: Valeur Stockée | S2: Commentaires
A3: CMN-000-AGRA-01 | B3: Boite de 100 Agrafes acier a frapper | C3: M2I | D3: Consommable | E3: Commun | F3: Tapis | G3: Bande | K3: RS | L3: 41681 | M3: 17 | O3: 17 | P3: =IFERROR(AVERAGEIF(ES_Articles!$G:$R,ES_Articles!G105,ES_Articles!$R:$R),N3) -> 0 | Q3: =IF(B3="","",M3+(SUMPRODUCT(ES_Articles!$F:$F=Stock!A3)*(ES_Articles!$C:$C>Stock!L3)*(ES_Articles!$Q:$Q))) -> 17 | R3: =IF(Q3="","",Q3*P3) -> 0
A4: CMN-601-ENTR-01 | B4: Sachet de 25 Entretoises plastiques petites blanches | C4: M2I | D4: Consommable | E4: Commun | F4: Commun | J4: ENT508BTE25 | K4: RR | L4: 41729 | M4: 8 | O4: 9 | P4: =IFERROR(AVERAGEIF(ES_Articles!$G:$R,ES_Articles!G132,ES_Articles!$R:$R),N4) -> 0 | Q4: =IF(B4="","",M4+SUMIF(ES_Articles!$F:$Q,Stock!A4,ES_Articles!$Q:$Q)) -> 8 | R4: =IF(Q4="","",Q4*P4) -> 0
A5: CMN-602-EXTR-01 | B5: Enerpack -extracteur de roulement 30 tonnes | C5: M2I | D5: Outillage | E5: Commun | F5: Commun | G5: Roulement | H5: OREXAD | I5: ENERPACK | K5: Local stockage | L5: 41724 | M5: 1 | N5: 5465 | P5: =IFERROR(AVERAGEIF(ES_Articles!$G:$R,ES_Articles!G131,ES_Articles!$R:$R),N5) -> 5465 | Q5: =IF(B5="","",M5+SUMIF(ES_Articles!$F:$Q,Stock!A5,ES_Articles!$Q:$Q)) -> 1 | R5: =IF(Q5="","",Q5*P5) -> 5465
A6: FLU-400-FILT-03 | B6: Filtre à huile hydraulique | C6: M2I | D6: Fluide | E6: TMB | F6: Commun | H6: HIFI Filter | I6: FILTREC | J6: 61144 | K6: RA | L6: 41739 | M6: 1 | P6: =IFERROR(AVERAGEIF(ES_Articles!$G:$R,ES_Articles!G154,ES_Articles!$R:$R),N6) -> 0 | Q6: =IF(B6="","",M6+SUMIF(ES_Articles!$F:$Q,Stock!A6,ES_Articles!$Q:$Q)) -> 1 | R6: =IF(Q6="","",Q6*P6) -> 0
A7: FLU-400-FILT-04 | B7: Filtre à huile hydraulique | C7: M2I | D7: Fluide | E7: TMB | F7: Commun | I7: Rexroth Bosch Group | J7: R928025377 | K7: RA | L7: 41739 | M7: 1 | P7: =IFERROR(AVERAGEIF(ES_Articles!$G:$R,ES_Articles!G155,ES_Articles!$R:$R),N7) -> 0 | Q7: =IF(B7="","",M7+SUMIF(ES_Articles!$F:$Q,Stock!A7,ES_Articles!$Q:$Q)) -> 1 | R7: =IF(Q7="","",Q7*P7) -> 0
A8: FLU-000-TUYA-01 | B8: Tuyau air comprimé 8x4 - 25m | C8: M2I | D8: Fluide | E8: Commun | F8: Commun | G8: Air comprimé | K8: J | L8: 41697 | M8: 1 | P8: =IFERROR(AVERAGEIF(ES_Articles!$G:$R,ES_Articles!G133,ES_Articles!$R:$R),N8) -> 0 | Q8: =IF(B8="","",M8+SUMIF(ES_Articles!$F:$Q,Stock!A8,ES_Articles!$Q:$Q)) -> 1 | R8: =IF(Q8="","",Q8*P8) -> 0
A9: FLU-128-FILT-01 | B9: Filtre à huile hydraulique | C9: M2I | D9: Fluide | E9: TMB | F9: 01PK101 | H9: NICE ROULEMENTS | I9: HIFI Filter | J9: SH56164 | K9: RB | L9: 41739 | M9: 9 | N9: 40 | P9: =IFERROR(AVERAGEIF(ES_Articles!$G:$R,ES_Articles!G152,ES_Articles!$R:$R),N9) -> 40 | Q9: =IF(B9="","",M9+SUMIF(ES_Articles!$F:$Q,Stock!A9,ES_Articles!$Q:$Q)) -> 9 | R9: =IF(Q9="","",Q9*P9) -> 360
A10: FLU-128-FLEX-01 | B10: Flexible hydraulique frein grappin balancement (L=65cm , Ø=1,4cm) | C10: M2I | D10: Fluide | E10: TMB | F10: 01PK101 | G10: Grappin | H10: AZUR SERVICE HYDRAULIQUE | I10: BERFLEX | J10: 2 Sn 06 SAE 100 R2AT 1/4" En 853 W20F | K10: RB | L10: 41694 | M10: 10 | N10: 42.78 | P10: =IFERROR(AVERAGEIF(ES_Articles!$G:$R,ES_Articles!G115,ES_Articles!$R:$R),N10) -> 42.78 | Q10: =IF(B10="","",M10+SUMIF(ES_Articles!$F:$Q,Stock!A10,ES_Articles!$Q:$Q)) -> 10 | R10: =IF(Q10="","",Q10*P10) -> 427.8
A11: FLU-128-FLEX-02 | B11: Flexible hydraulique frein grappin balancement (L=56cm , Ø=1,4cm) | C11: M2I | D11: Fluide | E11: TMB | F11: 01PK101 | G11: Grappin | H11: AZUR SERVICE HYDRAULIQUE | I11: BERFLEX | J11: 2 Sn Dn6 SAE 100 R2AT 1/4" En 853 W33F | K11: RB | L11: 41694 | M11: 9 | N11: 41.78 | P11: =IFERROR(AVERAGEIF(ES_Articles!$G:$R,ES_Articles!G62,ES_Articles!$R:$R),N11) -> 41.78 | Q11: =IF(B11="","",M11+SUMIF(ES_Articles!$F:$Q,Stock!A11,ES_Articles!$Q:$Q)) -> 9 | R11: =IF(Q11="","",Q11*P11) -> 376.02
A12: FLU-128-FLEX-03 | B12: Flexible hydraulique grappin balancement long (L=75cm, Ø=1,4cm) | C12: M2I | D12: Fluide | E12: TMB | F12: 01PK101 | G12: Grappin | H12: AZUR SERVICE HYDRAULIQUE | I12: BERFLEX | J12: 2 Sn 06 SAE 100 R2AT 1/4" En 853 W33F | K12: RB | L12: 41694 | M12: 4 | N12: 44.56 | P12: =IFERROR(AVERAGEIF(ES_Articles!F:R,Stock!#REF!,ES_Articles!R:R),N12) -> 44.56 | Q12: =IF(B12="","",M12+SUMIF(ES_Articles!$F:$Q,Stock!A12,ES_Articles!$Q:$Q)) -> 4 | R12: =IF(Q12="","",Q12*P12) -> 178.24
A13: FLU-128-FLEX-04 | B13: Flexible hydraulique fermeture grappin (L=29cm , Ø=1,4cm) | C13: M2I | D13: Fluide | E13: TMB | F13: 01PK101 | G13: Grappin | H13: AZUR SERVICE HYDRAULIQUE | I13: BERFLEX | J13: R2AT 1/4" En 853 W38F | K13: RB | L13: 41694 | M13: 8 | N13: 32.78 | O13: 2 | P13: =IFERROR(AVERAGEIF(ES_Articles!$G:$R,ES_Articles!G47,ES_Articles!$R:$R),N13) -> 32.78 | Q13: =IF(B13="","",M13+SUMIF(ES_Articles!$F:$Q,Stock!A13,ES_Articles!$Q:$Q)) -> 8 | R13: =IF(Q13="","",Q13*P13) -> 262.24
A14: FLU-128-FLEX-05 | B14: Flexible hydraulique frein balancement (L=90cm , Ø=1,4cm) | C14: M2I | D14: Fluide | E14: TMB | F14: 01PK101 | G14: Grappin | H14: AZUR SERVICE HYDRAULIQUE | I14: BERFLEX | J14: 2 Sn 06 SAE 100 R2AT 1/4" En 853 W30F | K14: RB | L14: 41694 | M14: 8 | N14: 47.12 | P14: =IFERROR(AVERAGEIF(ES_Articles!$G:$R,ES_Articles!G101,ES_Articles!$R:$R),N14) -> 47.12 | Q14: =IF(B14="","",M14+SUMIF(ES_Articles!$F:$Q,Stock!A14,ES_Articles!$Q:$Q)) -> 8 | R14: =IF(Q14="","",Q14*P14) -> 376.96
A15: FLU-128-FLEX-06 | B15: Flexible radiateur (L=136cm , Ø=4,6cm) | C15: M2I | D15: Fluide | E15: TMB | F15: 01PK101 | G15: Radiateur | I15: SEMPERIT | J15: 2 Sn Dn 31 WP 125 BAR SAE 100 R25 1-1/4" En 853 W17F | K15: RB | L15: 41694 | M15: 1 | P15: =IFERROR(AVERAGEIF(ES_Articles!$G:$R,ES_Articles!G64,ES_Articles!$R:$R),N15) -> 0 | Q15: =SUMIFS(ES_Articles!Q3:Q10,ES_Articles!C3:C10,">"&S1,ES_Articles!F3:F10,A15)+M15 -> 0 | R15: =IF(Q15="","",Q15*P15) -> 0
P16: =IFERROR(AVERAGEIF(ES_Articles!$G:$R,ES_Articles!G709,ES_Articles!$R:$R),N16) -> 0 | Q16: =IF(B16="","",M16+SUMIF(ES_Articles!$F:$Q,Stock!A16,ES_Articles!$Q:$Q)) | R16: =IF(Q16="","",Q16*P16)
P17: =IFERROR(AVERAGEIF(ES_Articles!$G:$R,ES_Articles!G710,ES_Articles!$R:$R),N17) -> 0 | Q17: =IF(B17="","",M17+SUMIF(ES_Articles!$F:$Q,Stock!A17,ES_Articles!$Q:$Q)) | R17: =IF(Q17="","",Q17*P17)
P18: =IFERROR(AVERAGEIF(ES_Articles!$G:$R,ES_Articles!G711,ES_Articles!$R:$R),N18) -> 0 | Q18: =IF(B18="","",M18+SUMIF(ES_Articles!$F:$Q,Stock!A18,ES_Articles!$Q:$Q)) | R18: =IF(Q18="","",Q18*P18)
P19: =IFERROR(AVERAGEIF(ES_Articles!$G:$R,ES_Articles!G712,ES_Articles!$R:$R),N19) -> 0 | Q19: =IF(B19="","",M19+SUMIF(ES_Articles!$F:$Q,Stock!A19,ES_Articles!$Q:$Q)) | R19: =IF(Q19="","",Q19*P19)
P20: =IFERROR(AVERAGEIF(ES_Articles!$G:$R,ES_Articles!G713,ES_Articles!$R:$R),N20) -> 0 | Q20: =IF(B20="","",M20+SUMIF(ES_Articles!$F:$Q,Stock!A20,ES_Articles!$Q:$Q)) | R20: =IF(Q20="","",Q20*P20)
P21: =IFERROR(AVERAGEIF(ES_Articles!$G:$R,ES_Articles!G714,ES_Articles!$R:$R),N21) -> 0 | Q21: =IF(B21="","",M21+SUMIF(ES_Articles!$F:$Q,Stock!A21,ES_Articles!$Q:$Q)) | R21: =IF(Q21="","",Q21*P21)
P22: =IFERROR(AVERAGEIF(ES_Articles!$G:$R,ES_Articles!G715,ES_Articles!$R:$R),N22) -> 0 | Q22: =IF(B22="","",M22+SUMIF(ES_Articles!$F:$Q,Stock!A22,ES_Articles!$Q:$Q)) | R22: =IF(Q22="","",Q22*P22)
P23: =IFERROR(AVERAGEIF(ES_Articles!$G:$R,ES_Articles!G716,ES_Articles!$R:$R),N23) -> 0 | Q23: =IF(B23="","",M23+SUMIF(ES_Articles!$F:$Q,Stock!A23,ES_Articles!$Q:$Q)) | R23: =IF(Q23="","",Q23*P23)
P24: =IFERROR(AVERAGEIF(ES_Articles!$G:$R,ES_Articles!G717,ES_Articles!$R:$R),N24) -> 0 | Q24: =IF(B24="","",M24+SUMIF(ES_Articles!$F:$Q,Stock!A24,ES_Articles!$Q:$Q)) | R24: =IF(Q24="","",Q24*P24)
P25: =IFERROR(AVERAGEIF(ES_Articles!$G:$R,ES_Articles!G718,ES_Articles!$R:$R),N25) -> 0 | Q25: =IF(B25="","",M25+SUMIF(ES_Articles!$F:$Q,Stock!A25,ES_Articles!$Q:$Q)) | R25: =IF(Q25="","",Q25*P25)
P26: =IFERROR(AVERAGEIF(ES_Articles!$G:$R,ES_Articles!G719,ES_Articles!$R:$R),N26) -> 0 | Q26: =IF(B26="","",M26+SUMIF(ES_Articles!$F:$Q,Stock!A26,ES_Articles!$Q:$Q)) | R26: =IF(Q26="","",Q26*P26)
P27: =IFERROR(AVERAGEIF(ES_Articles!$G:$R,ES_Articles!G720,ES_Articles!$R:$R),N27) -> 0 | Q27: =IF(B27="","",M27+SUMIF(ES_Articles!$F:$Q,Stock!A27,ES_Articles!$Q:$Q)) | R27: =IF(Q27="","",Q27*P27)
... P814: =IFERROR(AVERAGEIF(ES_Articles!$G:$R,ES_Articles!G1507,ES_Articles!$R:$R),N814) -> 0 | Q814: =IF(B814="","",M814+SUMIF(ES_Articles!$F:$Q,Stock!A814,ES_Articles!$Q:$Q)) | R814: =IF(Q814="","",Q814*P814)

Sheet ES_Articles
A2: N° | B2: Code Sortie | C2: Date | D2: Initiales | E2: Mouvement | F2: Code Article | G2: Désignation Article | H2: Propriété | I2: Famille | J2: Ligne | K2: Equipement | L2: Sous-Ensemble | M2: Emplacement | N2: Fournisseur | O2: Marque | P2: Référence | Q2: Quantité | R2: Prix d'achat PUMP | S2: Commentaires
A4: 7 | B4: 18 | C4: 41780 | D4: VB | E4: Sortie | F4: FLU-403-FILT-01 | G4: Filtre à huile hydraulique | H4: M2I | I4: Fluide | J4: TMB | K4: 01RS102 | M4: RA | N4: NICE ROULEMENTS | P4: SH93033 | Q4: 0 | R4: 68.1 | S4: 01RS102TS500
A5: 6 | B5: 17 | C5: 41780 | D5: VB | E5: Sortie | F5: FLU-411-FILT-01 | G5: Filtre à huile hydraulique | H5: M2I | I5: Fluide | J5: TMB | K5: 04PF106 | M5: RA | N5: HIFI Filter | P5: F5115 | Q5: -2 | S5: 04P106TS200
A6: 5 | B6: 17 | C6: 41780 | D6: VB | E6: Sortie | F6: FLU-400-FILT-01 | G6: Filtre à huile hydraulique | H6: M2I | I6: Fluide | J6: TMB | K6: 01PK101/04PF106 | M6: RA | N6: NICE ROULEMENTS | O6: HIFI Filter | P6: SH53281 | Q6: -1 | R6: 79
A7: 4 | B7: 16 | C7: 41775 | D7: INT | E7: Sortie | F7: SPM-406-ECRO-01 | G7: Ecrou frein M22 | H7: M2I | I7: Spécifique machine | J7: TMB | K7: 01TR128 | M7: RM | P7: .01098524300 | Q7: -5 | R7: 1.57
A8: 3 | B8: 15 | C8: 41774 | D8: INT | E8: Sortie | F8: SPM-405-DENT-01 | G8: Dent plate du peigne | H8: M2I | I8: Spécifique machine | J8: TMB | K8: 01TR117 | M8: RM | N8: W41TP | P8: DOP 99255042721 | Q8: -1 | S8: réelle !
A9: 2 | C9: 41785 | D9: JG | E9: Entrée | F9: CMN-000-AGRA-01 | G9: Boite de 100 Agrafes acier a frapper | H9: M2I | I9: Consommable | J9: Commun | K9: Tapis | L9: Bande | M9: RS | Q9: 3 | S9: TEST
A10: 1 | C10: 41759 | E10: Sortie | F10: FLU-128-FLEX-06 | Q10: -1
A11: 0
