Workbook

Sheet Feuil3
B1: Nom du groupe | C1: Nbr.
A2: 1 | B2: ACCESS | C2: 10468
A3: 2 | B3: ASSU | C3: 20
A4: 3 | B4: BDM | C4: 142
A5: 4 | B5: BQTV | C5: 86
A6: 5 | B6: DECODEURS | C6: 8
A7: 6 | B7: DECT | C7: 341
A8: 7 | B8: HD | C8: 89
A9: 8 | B9: HDFIBRE | C9: 4
A10: 9 | B10: HDM | C10: 256
A11: 10 | B11: HDOPEN | C11: 3
A12: 11 | B12: IEWABO | C12: 73
A13: 12 | B13: IEWSANSABO | C13: 25
... A27: 26 | B27: PREPAYE | C27: 11

Sheet GLOBAL
A1: Art/Grp | B1: Famille | C1: Sous Famille | D1: Article | E1: Désignation | F1: Date création | G1: 2 | H1: 3 | I1: 4 | J1: 5 | K1: 6 | L1: 7 | M1: 8 | N1: 9 | O1: 10 | P1: 11 | Q1: 12 | R1: 13 | S1: 14 | T1: 15 | U1: 16 | V1: 17 | W1: 18 | X1: 19 | Y1: 20 | Z1: 21 | AA1: 22 | AB1: 23 | AC1: 24 | AD1: 25 | AE1: 26
A2: 1 | B2: ACCESORG | C2: HABILLAGE | D2: MUCCPSLI5510001 | E2: HOUSSE CLAPET NOIRE et SCREEN COMPATIBLES SAMSUNG I5510 GALAXY 551** | F2: 41381 | G2: =IF(D2=ASSU!$D:$D,"ASSU",0) -> 0 | H2: =IF(D2=BDM!D:D,"BDM",0) -> 0 | S2: =+IF(D2='MARGE @'!D:D,"MARGE@",0) -> 0
A3: 1 | B3: ACCESORG | C3: Protections | D3: MUSCP6760001 | E3: 2 FILMS PROTECTEURS D''ECRAN COMPATIBLE NOKIA 6760** | F3: 41381 | G3: =IF(D3=ASSU!$D:$D,"ASSU",0) -> 0 | H3: =IF(D3=BDM!D:D,"BDM",0) -> 0 | S3: =+IF(D3='MARGE @'!D:D,"MARGE@",0) -> 0
A4: 1 | B4: ACCESORG | C4: Audio | D4: DS7600 | E4: PHILIPS ENCEINTE PORTABLE DOCK DE CHARGE IPHONE/IPOD-BATTERIE IN** | F4: 41381 | G4: =IF(D4=ASSU!$D:$D,"ASSU",0) -> 0 | H4: =IF(D4=BDM!D:D,"BDM",0) -> 0 | S4: =+IF(D4='MARGE @'!D:D,"MARGE@",0) -> 0
A5: 1 | B5: ACCESORG | C5: Protections | D5: GELSKIN195 | E5: CELLY COQUE GELSKIN TRANSPARENTE TPU SAMSUNG B5510 GALAXY Y PRO | F5: 41381 | G5: =IF(D5=ASSU!$D:$D,"ASSU",0) -> 0 | H5: =IF(D5=BDM!D:D,"BDM",0) -> 0 | S5: =+IF(D5='MARGE @'!D:D,"MARGE@",0) -> 0
A6: 1 | B6: ACCESS COMPAT | D6: SMMICROSD8GBPLUS | E6: CARTE MEMOIRE SAMSUNG MICRO SD 8 GIGA | F6: 41381 | G6: =IF(D6=ASSU!$D:$D,"ASSU",0) -> 0 | H6: =IF(D6=BDM!D:D,"BDM",0) -> 0 | S6: =+IF(D6='MARGE @'!D:D,"MARGE@",0) -> 0
A7: 1 | B7: ACCESORG | C7: Accessoires Tablette | D7: MUCLPSCIPA2001 | E7: MUVIT ETUI CLAPET SNOW CLIP PU NOIR SUPPORT ROTATIF IPAD 4 RETINA | F7: 41381 | G7: =IF(D7=ASSU!$D:$D,"ASSU",0) -> 0 | H7: =IF(D7=BDM!D:D,"BDM",0) -> 0 | S7: =+IF(D7='MARGE @'!D:D,"MARGE@",0) -> 0
A8: 1 | B8: ACCESORG | C8: Protections | D8: MUBKC0370 | E8: CONTOUR BUMPER BELT BLANC FILM PROTECTEUR AV/AR PR IPHONE 4/4S | F8: 41401 | G8: =IF(D8=ASSU!$D:$D,"ASSU",0) -> 0 | H8: =IF(D8=BDM!D:D,"BDM",0) -> 0 | S8: =+IF(D8='MARGE @'!D:D,"MARGE@",0) -> 0
A9: 1 | B9: OPTION GP | C9: CMO | D9: OPTORGASSUDECCMO | E9: Option Sécurité 3€ | F9: 41381 | G9: =IF(D9=ASSU!$D:$D,"ASSU",0) -> 0 | H9: =IF(D9=BDM!D:D,"BDM",0) -> 0 | S9: =+IF(D9='MARGE @'!D:D,"MARGE@",0) -> 0
A10: 1 | B10: OPTION GP | C10: CMO | D10: OPTORGASSUDECOUCMO | E10: OPTION SECURITE DECOUVERTE CMO | F10: 41381 | G10: =IF(D10=ASSU!$D:$D,"ASSU",0) -> 0 | H10: =IF(D10=BDM!D:D,"BDM",0) -> 0 | S10: =+IF(D10='MARGE @'!D:D,"MARGE@",0) -> 0
A11: 1 | B11: OPTION GP | C11: CMO | D11: OPTORGASSUPREMCMO | E11: Option Sécurité 9€ | F11: 41381 | G11: =IF(D11=ASSU!$D:$D,"ASSU",0) -> 0 | H11: =IF(D11=BDM!D:D,"BDM",0) -> 0 | S11: =+IF(D11='MARGE @'!D:D,"MARGE@",0) -> 0
A12: 1 | B12: OPTION GP | C12: CMO | D12: OPTORGASSUSECUCMO | E12: Option Sécurité 6€ | F12: 41381 | G12: =IF(D12=ASSU!$D:$D,"ASSU",0) -> 0 | H12: =IF(D12=BDM!D:D,"BDM",0) -> 0 | S12: =+IF(D12='MARGE @'!D:D,"MARGE@",0) -> 0
A13: 1 | B13: OPTION GP | C13: FORFAIT | D13: OPTORGASSUPREMIUM | E13: ORANGE SECURITE PREMIUM | F13: 41381 | G13: =IF(D13=ASSU!$D:$D,"ASSU",0) -> 0 | H13: =IF(D13=BDM!D:D,"BDM",0) -> 0 | S13: =+IF(D13='MARGE @'!D:D,"MARGE@",0) -> 0
A14: 1 | B14: OPTION GP | C14: FORFAIT | D14: OPTORGASSUSECU | E14: ORANGE SECURITE STANDARD | F14: 41381 | G14: =IF(D14=ASSU!$D:$D,"ASSU",0) -> 0 | H14: =IF(D14=BDM!D:D,"BDM",0) -> 0 | S14: =+IF(D14='MARGE @'!D:D,"MARGE@",0) -> 0
A15: 1 | B15: OPTION GP | C15: FORFAIT | D15: OPTORGASSUDECOUVE | E15: OPTION SECURITE DECOUVERTE | F15: 41381 | G15: =IF(D15=ASSU!$D:$D,"ASSU",0) -> 0 | H15: =IF(D15=BDM!D:D,"BDM",0) -> 0 | S15: =+IF(D15='MARGE @'!D:D,"MARGE@",0) -> 0
A16: 1 | B16: OPTION GP | C16: OPTION | D16: OPTORGMULTI | E16: OPTION SECURITE MULTIPRODUITS | F16: 41381 | G16: =IF(D16=ASSU!$D:$D,"ASSU",0) -> 0 | H16: =IF(D16=BDM!D:D,"BDM",0) -> 0 | S16: =+IF(D16='MARGE @'!D:D,"MARGE@",0) -> 0
A17: 1 | B17: OPTION GP | C17: OPTION | D17: OPTORGSECU3 | E17: Option Sécurité 3¤ | F17: 41381 | G17: =IF(D17=ASSU!$D:$D,"ASSU",0) -> 0 | H17: =IF(D17=BDM!D:D,"BDM",0) -> 0 | S17: =+IF(D17='MARGE @'!D:D,"MARGE@",0) -> 0
A18: 1 | B18: OPTION GP | C18: OPTION | D18: OPTORGSECU6 | E18: Option Sécurité 6¤ | F18: 41381 | G18: =IF(D18=ASSU!$D:$D,"ASSU",0) -> 0 | H18: =IF(D18=BDM!D:D,"BDM",0) -> 0 | S18: =+IF(D18='MARGE @'!D:D,"MARGE@",0) -> 0
... A31: 1 | B31: ABONNEMENT GP | C31: CB | D31: ABOESFNBM62HSMS | E31: EDITION SPECIALE NON BLOQUEE M6 MOBILE 2H SMS/MMS | F31: 41382 | G31: =IF(D31=ASSU!$D:$D,"ASSU",0) -> 0 | H31: =IF(D31=BDM!D:D,"BDM",0) -> 0 | S31: =+IF(D31='MARGE @'!D:D,"MARGE@",0) -> 0
A32: 1 | B32: ABONNEMENT GP | D32: SHOPZEN | E32: FORFAIT ZEN | F32: 41407 | G32: =IF(D32=ASSU!$D:$D,"ASSU",0) -> 0 | H32: =IF(D32=BDM!D:D,"BDM",0) -> 0 | S32: =+IF(D32='MARGE @'!D:D,"MARGE@",0) -> 0
A33: 1 | B33: ABONNEMENT GP | C33: CB | D33: ABOESFNBM62HSMSSIM | E33: EDITION SPECIALE NON BLOQUEE M6 MOBILE 2H SMS/MMS SIM ONLY | F33: 41382 | G33: =IF(D33=ASSU!$D:$D,"ASSU",0) -> 0 | H33: =IF(D33=BDM!D:D,"BDM",0) -> 0 | S33: =+IF(D33='MARGE @'!D:D,"MARGE@",0) -> 0
A34: 1 | B34: ABONNEMENT GP | C34: CB | D34: ABOORGESM61H | E34: Edition Spéciale M6 Mobile 1H | F34: 41382 | G34: =IF(D34=ASSU!$D:$D,"ASSU",0) -> 0 | H34: =IF(D34=BDM!D:D,"BDM",0) -> 0 | S34: =+IF(D34='MARGE @'!D:D,"MARGE@",0) -> 0
A35: 1 | B35: ABONNEMENT GP | C35: CB | D35: ABOORGESM61HBB | E35: EDITION SPECIALE M6 MOBILE 1H POUR BLACKBERRY | F35: 41382 | G35: =IF(D35=ASSU!$D:$D,"ASSU",0) -> 0 | H35: =IF(D35=BDM!D:D,"BDM",0) -> 0 | S35: =+IF(D35='MARGE @'!D:D,"MARGE@",0) -> 0
A36: 1 | B36: ABONNEMENT GP | C36: CB | D36: ABOORGESM61HINT | E36: EDITION SPECIALE M6 MOBILE 1H INTERNET | F36: 41382 | G36: =IF(D36=ASSU!$D:$D,"ASSU",0) -> 0 | H36: =IF(D36=BDM!D:D,"BDM",0) -> 0 | S36: =+IF(D36='MARGE @'!D:D,"MARGE@",0) -> 0
A37: 1 | B37: ABONNEMENT GP | C37: CB | D37: ABOORGESM6AV1H | E37: EDITION SPECIALE AVENTURE M6 MOBILE 1H | F37: 41382 | G37: =IF(D37=ASSU!$D:$D,"ASSU",0) -> 0 | H37: =IF(D37=BDM!D:D,"BDM",0) -> 0 | S37: =+IF(D37='MARGE @'!D:D,"MARGE@",0) -> 0
A38: 1 | B38: ABONNEMENT GP | C38: CB | D38: ABOORGESM6IPH | E38: EDITION SPECIALE M6 MOBILE POUR IPHONE | F38: 41382 | G38: =IF(D38=ASSU!$D:$D,"ASSU",0) -> 0 | H38: =IF(D38=BDM!D:D,"BDM",0) -> 0 | S38: =+IF(D38='MARGE @'!D:D,"MARGE@",0) -> 0
A39: 1 | B39: ABONNEMENT GP | C39: CB | D39: ABOORGESM6IPHSIM | E39: EDITION SPECIALE M6 MOBILE POUR IPHONE SIM ONLY | F39: 41382 | G39: =IF(D39=ASSU!$D:$D,"ASSU",0) -> 0 | H39: =IF(D39=BDM!D:D,"BDM",0) -> 0 | S39: =+IF(D39='MARGE @'!D:D,"MARGE@",0) -> 0
A40: 1 | B40: ABONNEMENT GP | C40: CB | D40: ABOORGM61H30IL247M | E40: M6 Mobile 1H30 illimitÃ??Ã?Â© 24 7 vers M6 | F40: 41382 | G40: =IF(D40=ASSU!$D:$D,"ASSU",0) -> 0 | H40: =IF(D40=BDM!D:D,"BDM",0) -> 0 | S40: =+IF(D40='MARGE @'!D:D,"MARGE@",0) -> 0
A41: 1 | B41: ABONNEMENT GP | C41: CB | D41: ABOORGM61H30ONLY | E41: Forfait M6 Mobile 1h30 Internet sim only | F41: 41382 | G41: =IF(D41=ASSU!$D:$D,"ASSU",0) -> 0 | H41: =IF(D41=BDM!D:D,"BDM",0) -> 0 | S41: =+IF(D41='MARGE @'!D:D,"MARGE@",0) -> 0
A42: 1 | B42: ABONNEMENT GP | C42: CB | D42: ABOORGM61HBBM | E42: EDITION SPECIALE M6 MOBILE 1H BB Messenger | F42: 41382 | G42: =IF(D42=ASSU!$D:$D,"ASSU",0) -> 0 | H42: =IF(D42=BDM!D:D,"BDM",0) -> 0 | S42: =+IF(D42='MARGE @'!D:D,"MARGE@",0) -> 0
A43: 1 | B43: ABONNEMENT GP | C43: CB | D43: ABOORGM61HBBMA | E43: EDITION SPECIALE M6 MOBILE 1H BB Mail | F43: 41382 | G43: =IF(D43=ASSU!$D:$D,"ASSU",0) -> 0 | H43: =IF(D43=BDM!D:D,"BDM",0) -> 0 | S43: =+IF(D43='MARGE @'!D:D,"MARGE@",0) -> 0
A44: 1 | B44: ABONNEMENT GP | C44: CB | D44: ABOORGM61HBBMASO | E44: EDITION SPECIALE M6 MOBILE 1H BB Mail SIM ONLY | F44: 41382 | G44: =IF(D44=ASSU!$D:$D,"ASSU",0) -> 0 | H44: =IF(D44=BDM!D:D,"BDM",0) -> 0 | S44: =+IF(D44='MARGE @'!D:D,"MARGE@",0) -> 0
... A154: 1 | B154: ABONNEMENT GP | C154: VALEUR | D154: ABOORGTEM01H | E154: Forfait ten by Orange 1h | F154: 41382 | G154: =IF(D154=ASSU!$D:$D,"ASSU",0) -> 0 | H154: =IF(D154=BDM!D:D,"BDM",0) -> 0 | S154: =+IF(D154='MARGE @'!D:D,"MARGE@",0) -> 0
A155: 1 | B155: ABONNEMENT GP | D155: SHOPESM6IPH | E155: EDITION SPECIALE M6 MOBILE POUR IPHONE | F155: 41382 | G155: =IF(D155=ASSU!$D:$D,"ASSU",0) -> 0 | H155: =IF(D155=BDM!D:D,"BDM",0) -> 0 | S155: =+IF(D155='MARGE @'!D:D,"MARGE@",0) -> 0
A156: 1 | B156: ABONNEMENT GP | D156: SHOPM61HBBM | E156: EDITION SPECIALE M6 MOBILE 1H BB MESSENGER | F156: 41382 | G156: =IF(D156=ASSU!$D:$D,"ASSU",0) -> 0 | H156: =IF(D156=BDM!D:D,"BDM",0) -> 0 | S156: =+IF(D156='MARGE @'!D:D,"MARGE@",0) -> 0
A157: 1 | B157: ABONNEMENT GP | D157: SHOPM61HBBMA | E157: EDITION SPECIALE M6 MOBILE 1H BB MAIL | F157: 41382 | G157: =IF(D157=ASSU!$D:$D,"ASSU",0) -> 0 | H157: =IF(D157=BDM!D:D,"BDM",0) -> 0 | S157: =+IF(D157='MARGE @'!D:D,"MARGE@",0) -> 0
A158: 1 | B158: ABONNEMENT GP | D158: SHOPM61HSMSMMS | E158: FORFAIT M6 MOBILE 1H SMS/MMS ILLIMITE | F158: 41382 | G158: =IF(D158=ASSU!$D:$D,"ASSU",0) -> 0 | H158: =IF(D158=BDM!D:D,"BDM",0) -> 0 | S158: =+IF(D158='MARGE @'!D:D,"MARGE@",0) -> 0
A159: 1 | B159: ABONNEMENT GP | D159: SHOPM6B1HBBM | E159: EDITION SPECIALE M6 MOBILE BLOQUEE 1H BB MESSENGER | F159: 41382 | G159: =IF(D159=ASSU!$D:$D,"ASSU",0) -> 0 | H159: =IF(D159=BDM!D:D,"BDM",0) -> 0 | S159: =+IF(D159='MARGE @'!D:D,"MARGE@",0) -> 0
A160: 1 | B160: ABONNEMENT GP | D160: SHOPM61HSMSMMSB | E160: FORFAIT BLOQUE M6 MOBILE 1H SMS/MMS ILLIMITE | F160: 41382 | G160: =IF(D160=ASSU!$D:$D,"ASSU",0) -> 0 | H160: =IF(D160=BDM!D:D,"BDM",0) -> 0 | S160: =+IF(D160='MARGE @'!D:D,"MARGE@",0) -> 0
A161: 1 | B161: ABONNEMENT GP | D161: SHOPM6B1HBBMA | E161: EDITION SPECIALE M6 MOBILE BLOQUEE 1H BB MAIL | F161: 41382 | G161: =IF(D161=ASSU!$D:$D,"ASSU",0) -> 0 | H161: =IF(D161=BDM!D:D,"BDM",0) -> 0 | S161: =+IF(D161='MARGE @'!D:D,"MARGE@",0) -> 0
...

Sheet ASSU
A1: Art/Grp | B1: Famille | C1: Sous Famille | D1: Article | E1: Désignation | F1: Date création
A2: 1 | B2: OPTION GP | C2: CMO | D2: OPTORGASSUDECCMO | E2: Option Sécurité 3€ | F2: 41381
A3: 1 | B3: OPTION GP | C3: CMO | D3: OPTORGASSUDECOUCMO | E3: OPTION SECURITE DECOUVERTE CMO | F3: 41381
A4: 1 | B4: OPTION GP | C4: CMO | D4: OPTORGASSUPREMCMO | E4: Option Sécurité 9€ | F4: 41381
A5: 1 | B5: OPTION GP | C5: CMO | D5: OPTORGASSUSECUCMO | E5: Option Sécurité 6€ | F5: 41381
A6: 1 | B6: OPTION GP | C6: FORFAIT | D6: OPTORGASSUPREMIUM | E6: ORANGE SECURITE PREMIUM | F6: 41381
A7: 1 | B7: OPTION GP | C7: FORFAIT | D7: OPTORGASSUSECU | E7: ORANGE SECURITE STANDARD | F7: 41381
A8: 1 | B8: OPTION GP | C8: FORFAIT | D8: OPTORGASSUDECOUVE | E8: OPTION SECURITE DECOUVERTE | F8: 41381
A9: 1 | B9: OPTION GP | C9: OPTION | D9: OPTORGMULTI | E9: OPTION SECURITE MULTIPRODUITS | F9: 41381
A10: 1 | B10: OPTION GP | C10: OPTION | D10: OPTORGSECU3 | E10: Option Sécurité 3¤ | F10: 41381
A11: 1 | B11: OPTION GP | C11: OPTION | D11: OPTORGSECU6 | E11: Option Sécurité 6¤ | F11: 41381
A12: 1 | B12: OPTION GP | C12: OPTION | D12: OPTORGSECU9 | E12: Option Sécurité 9¤ | F12: 41381
A13: 1 | B13: OPTION GP | C13: PCM | D13: OPTORGASSUDECOUPCM | E13: OPTION SECURITE DECOUVERTE PCM | F13: 41381
... A21: 1 | B21: OPTION GP | C21: UMTS | D21: OPTORGF3GSECUSTA | E21: Option Sécurité Standard | F21: 41381

Sheet BDM
A1: Art/Grp | B1: Famille | C1: Sous Famille | D1: Article | E1: Désignation | F1: Date création
A2: 1 | B2: ABONNEMENT GP | C2: CB | D2: ABOESFBM62HSMSSIM | E2: EDITION SPECIALE BLOQUEE M6 MOBILE 2H SMS/MMS SIM ONLY | F2: 41382
A3: 1 | B3: ABONNEMENT GP | C3: CB | D3: ABOORGESM6MOB1H | E3: EDITION SPECIALE M6 MOBILE 1H | F3: 41382
A4: 1 | B4: ABONNEMENT GP | C4: CB | D4: ABOESFNBM62HSMS | E4: EDITION SPECIALE NON BLOQUEE M6 MOBILE 2H SMS/MMS | F4: 41382
A5: 1 | B5: ABONNEMENT GP | D5: SHOPZEN | E5: FORFAIT ZEN | F5: 41407
A6: 1 | B6: ABONNEMENT GP | C6: CB | D6: ABOESFNBM62HSMSSIM | E6: EDITION SPECIALE NON BLOQUEE M6 MOBILE 2H SMS/MMS SIM ONLY | F6: 41382
A7: 1 | B7: ABONNEMENT GP | C7: CB | D7: ABOORGESM61H | E7: Edition Spéciale M6 Mobile 1H | F7: 41382
A8: 1 | B8: ABONNEMENT GP | C8: CB | D8: ABOORGESM61HBB | E8: EDITION SPECIALE M6 MOBILE 1H POUR BLACKBERRY | F8: 41382
A9: 1 | B9: ABONNEMENT GP | C9: CB | D9: ABOORGESM61HINT | E9: EDITION SPECIALE M6 MOBILE 1H INTERNET | F9: 41382
A10: 1 | B10: ABONNEMENT GP | C10: CB | D10: ABOORGESM6AV1H | E10: EDITION SPECIALE AVENTURE M6 MOBILE 1H | F10: 41382
A11: 1 | B11: ABONNEMENT GP | C11: CB | D11: ABOORGESM6IPH | E11: EDITION SPECIALE M6 MOBILE POUR IPHONE | F11: 41382
A12: 1 | B12: ABONNEMENT GP | C12: CB | D12: ABOORGESM6IPHSIM | E12: EDITION SPECIALE M6 MOBILE POUR IPHONE SIM ONLY | F12: 41382
A13: 1 | B13: ABONNEMENT GP | C13: CB | D13: ABOORGM61H30IL247M | E13: M6 Mobile 1H30 illimitÃ??Ã?Â© 24 7 vers M6 | F13: 41382
A14: 1 | B14: ABONNEMENT GP | C14: CB | D14: ABOORGM61H30ONLY | E14: Forfait M6 Mobile 1h30 Internet sim only | F14: 41382
A15: 1 | B15: ABONNEMENT GP | C15: CB | D15: ABOORGM61HBBM | E15: EDITION SPECIALE M6 MOBILE 1H BB Messenger | F15: 41382
A16: 1 | B16: ABONNEMENT GP | C16: CB | D16: ABOORGM61HBBMA | E16: EDITION SPECIALE M6 MOBILE 1H BB Mail | F16: 41382
A17: 1 | B17: ABONNEMENT GP | C17: CB | D17: ABOORGM61HBBMASO | E17: EDITION SPECIALE M6 MOBILE 1H BB Mail SIM ONLY | F17: 41382
... A127: 1 | B127: ABONNEMENT GP | C127: VALEUR | D127: ABOORGTEM01H | E127: Forfait ten by Orange 1h | F127: 41382
A128: 1 | B128: ABONNEMENT GP | D128: SHOPESM6IPH | E128: EDITION SPECIALE M6 MOBILE POUR IPHONE | F128: 41382
A129: 1 | B129: ABONNEMENT GP | D129: SHOPM61HBBM | E129: EDITION SPECIALE M6 MOBILE 1H BB MESSENGER | F129: 41382
A130: 1 | B130: ABONNEMENT GP | D130: SHOPM61HBBMA | E130: EDITION SPECIALE M6 MOBILE 1H BB MAIL | F130: 41382
A131: 1 | B131: ABONNEMENT GP | D131: SHOPM61HSMSMMS | E131: FORFAIT M6 MOBILE 1H SMS/MMS ILLIMITE | F131: 41382
A132: 1 | B132: ABONNEMENT GP | D132: SHOPM6B1HBBM | E132: EDITION SPECIALE M6 MOBILE BLOQUEE 1H BB MESSENGER | F132: 41382
A133: 1 | B133: ABONNEMENT GP | D133: SHOPM61HSMSMMSB | E133: FORFAIT BLOQUE M6 MOBILE 1H SMS/MMS ILLIMITE | F133: 41382
A134: 1 | B134: ABONNEMENT GP | D134: SHOPM6B1HBBMA | E134: EDITION SPECIALE M6 MOBILE BLOQUEE 1H BB MAIL | F134: 41382
A135: 1 | B135: ABONNEMENT GP | D135: SHOPM6INT1H | E135: FORFAIT M6 MOBILE 1H INTERNET | F135: 41382
A136: 1 | B136: ABONNEMENT GP | D136: SHOPM6INT1HB | E136: FORFAIT BLOQUE M6 MOBILE 1H INTERNET | F136: 41382
A137: 1 | B137: ABONNEMENT GP | D137: SHOPM6INT2H | E137: FORFAIT M6 MOBILE 2H INTERNET | F137: 41382
A138: 1 | B138: ABONNEMENT GP | D138: SHOPM6INT2HB | E138: FORFAIT BLOQUE M6 MOBILE 2H INTERNET | F138: 41382
A139: 1 | B139: ABONNEMENT GP | D139: SHOPZEN1H | E139: FORFAIT ORIGAMI ZEN 1 H | F139: 41382
A140: 1 | B140: ABONNEMENT GP | C140: CB | D140: ABOORGZAP01H3024 | E140: Forfait BloquÃ?Â© ZAP 1h30 24/24 | F140: 41382
A141: 1 | B141: ABONNEMENT GP | D141: SHOPM62HSMS | E141: FORFAIT M6 MOBILE 2H SMS/MMS ILLIMITE | F141: 41407
A142: 1 | B142: ABONNEMENT GP | D142: SHOPM6B2HSMS | E142: FORFAIT BLOQUE M6 MOBILE 2H SMS/MMS ILLIMITE | F142: 41407
A143: 1 | B143: ABONNEMENT GP | C143: CB | D143: ABOESFBM62HSMS | E143: EDITION SPECIALE BLOQUEE M6 MOBILE 2H SMS/MMS | F143: 41382

Sheet HD FIBRE
A1: Art/Grp | B1: Famille | C1: Sous Famille | D1: Article | E1: Désignation | F1: Date création
A2: 1 | B2: ABON INTERNET | C2: FORFAIT GP | D2: ABOINTFIB | E2: Offre La Fibre | F2: 41382
A3: 1 | B3: ABON INTERNET | C3: FORFAIT GP | D3: ABOINTPLAYFIBRE | E3: Offre LIVEBOX PLAY - FIBRE | F3: 41382
A4: 1 | B4: ABON INTERNET | C4: FORFAIT GP | D4: ABOINTSTARFIBRE | E4: Offre LIVEBOX STAR - FIBRE | F4: 41382
A5: 1 | B5: ABON INTERNET | C5: FORFAIT GP | D5: ABOINTZENFIBRE | E5: Offre LIVEBOX ZEN - FIBRE | F5: 41382

Sheet BQTV
A1: Art/Grp | B1: Famille | C1: Sous Famille | D1: Article | E1: Désignation | F1: Date création
A2: 1 | B2: OPTION INTERNET | C2: TV | D2: OPTWANBAFRICMAX | E2: Option Bouquet Africain MAX | F2: 41382
A3: 1 | B3: OPTION INTERNET | C3: TV | D3: OPTWANBALLEM | E3: Option Bouquet Allemand | F3: 41382
A4: 1 | B4: OPTION INTERNET | C4: TV | D4: OPTWANBANGLOPH | E4: Option Bouquet Anglophone | F4: 41382
A5: 1 | B5: OPTION INTERNET | C5: TV | D5: OPTWANBARABE | E5: Option Bouquet Arabe | F5: 41382
A6: 1 | B6: OPTION INTERNET | C6: TV | D6: OPTWANBARABEMAX | E6: Option Bouquet Arabe Max | F6: 41382
A7: 1 | B7: OPTION INTERNET | C7: TV | D7: OPTWANBBERBERE | E7: Option Bouquet Berbere | F7: 41382
A8: 1 | B8: OPTION INTERNET | C8: TV | D8: OPTWANBCHINOIS | E8: Option Bouquet Chinois | F8: 41382
A9: 1 | B9: OPTION INTERNET | C9: TV | D9: OPTWANBCINE | E9: Option Bouquet Cine | F9: 41382
A10: 1 | B10: OPTION INTERNET | C10: TV | D10: OPTWANBDIGTURK | E10: Option Bouquet Digiturk | F10: 41382
A11: 1 | B11: OPTION INTERNET | C11: TV | D11: OPTWANBEINSPORT | E11: Option Bouquet BeInSport | F11: 41382
A12: 1 | B12: OPTION INTERNET | C12: TV | D12: OPTWANBEXTRA | E12: Option Bouquet Extra | F12: 41382
A13: 1 | B13: OPTION INTERNET | C13: TV | D13: OPTWANBGAY | E13: Option Bouquet GAY | F13: 41382
... A87: 1 | B87: OPTION INTERNET | C87: TV | D87: OPTWANBAFRIC | E87: Option Bouquet Africain | F87: 41382

Sheet DECODEURS
A1: Art/Grp | B1: Famille | C1: Sous Famille | D1: Article | E1: Désignation | F1: Date création
A2: 1 | B2: OPTION INTERNET | C2: OPEN | D2: OPTOPENTV | E2: Option OPEN Orange TV | F2: 41382
A3: 1 | B3: OPTION INTERNET | C3: OPEN | D3: OPTOPENTVSAT | E3: Option OPEN Orange TV Satellite | F3: 41382
A4: 1 | B4: OPTI OFFRE INTERNET | C4: FORFAIT GP | D4: OPTINTREMTV | E4: Service TV ADSL | F4: 41382
A5: 1 | B5: OPTI OFFRE INTERNET | C5: FORFAIT GP | D5: OPTINTREMTVSAT | E5: Service TV Satellite | F5: 41382
A6: 1 | B6: OPTI OFFRE INTERNET | C6: FORFAIT PRO | D6: OPTINTREMTV-PRO | E6: Service TV ADSL Pro | F6: 41382
A7: 1 | B7: OPTI OFFRE INTERNET | C7: FORFAIT PRO | D7: OPTINTREMTV-PROMIG | E7: Service TV ADSL Pro | F7: 41382
A8: 1 | B8: OPTI OFFRE INTERNET | C8: FORFAIT PRO | D8: OPTINTREMTV-PROSA | E8: Service TV Satellite Pro | F8: 41382
A9: 1 | B9: OPTI OFFRE INTERNET | C9: FORFAIT PRO | D9: OPTINTREMTV-PROSAT | E9: Service TV Satellite Pro | F9: 41382

Sheet DECT
A1: Art/Grp | B1: Famille | C1: Sous Famille | D1: Article | E1: Désignation | F1: Date création
A2: 1 | B2: DECT | D2: 208193 | E2: Alcatel V620 Trio | F2: 41381
A3: 1 | B3: TEL FIXE | D3: 204488 | E3: SAGEM D80C | F3: 41381
A4: 1 | B4: DECT | D4: 46668 | E4: DORO Neobio 25 | F4: 41381
A5: 1 | B5: TEL FIXE | D5: 202119 | E5: AMARYS 1500 TELEPHONE BLEU | F5: 41381
A6: 1 | B6: DECT | D6: 208874 | E6: FAX GALEO 5875 DECT | F6: 41381
A7: 1 | B7: TEL FIXE | D7: 203400 | E7: SIEMENS GIGASET A110 DELT | F7: 41381
A8: 1 | B8: DECT | D8: 209364 | E8: Sagem D36C Duo Silver | F8: 41381
A9: 1 | B9: TEL FIXE | D9: 49319 | E9: PHILIPS PFA 421 I-JET NOIR/BLANC | F9: 41381
A10: 1 | B10: DECT | D10: 550211 | E10: SIEMENS AS285 Duo Répondeur | F10: 41381
A11: 1 | B11: TEL FIXE | D11: 48752 | E11: FIXE ALCATEL VERSATIS 570 METAL | F11: 41381
A12: 1 | B12: DECT | D12: 583820 | E12: Siemens E360 | F12: 41381
A13: 1 | B13: TEL FIXE | D13: 49122 | E13: FIXE PHILIPS KALA 300 GRIS METAL | F13: 41381
... A18: 1 | B18: DECT | D18: 584133 | E18: Siemens C475 SOLO REPONDEUR | F18: 41381
A19: 1 | B19: TEL FIXE | D19: 202119PLO | E19: AMARYS 1500 TELEPHONE BLEU | F19: 41381
A20: 1 | B20: DECT | D20: 207490 | E20: Siemens S455 sim répondeur | F20: 41381
A21: 1 | B21: TEL FIXE | D21: FAPH | E21: TELEPHONE FAXE PHILIPS MAGIC 2 | F21: 41381
A22: 1 | B22: DECT | D22: 205101 | E22: Swissvoice Avena 135 Trio | F22: 41381
A23: 1 | B23: TEL FIXE | D23: 4010 | E23: TEL FIXE GIGASET 4010 | F23: 41381
A24: 1 | B24: DECT | D24: 207520 | E24: Philips SE330 Duo | F24: 41381
A25: 1 | B25: TEL FIXE | D25: GI200 | E25: TEL FIXE GIGASET 200 | F25: 41381
A26: 1 | B26: DECT | D26: 207521 | E26: Philips SE330 | F26: 41381
A27: 1 | B27: TEL FIXE | D27: XA200 | E27: TEL FIXE XALIO 200 | F27: 41381
A28: 1 | B28: DECT | D28: 527488 | E28: Siemens S100C Duo | F28: 41381
A29: 1 | B29: TEL FIXE | D29: BI130 | E29: TEL FIXE ALCATEL BILBOA 130 | F29: 41381
A30: 1 | B30: DECT | D30: 207527 | E30: Siemens S455 Duo sim répondeur | F30: 41381
A31: 1 | B31: TEL FIXE | D31: VE560 | E31: TEL FIXE ALCATEL VERSATIS 560 | F31: 41381
A32: 1 | B32: DECT | D32: 206916 | E32: Sagem D35C Trio | F32: 41381
A33: 1 | B33: TEL FIXE | D33: GI4000 | E33: TEL FIXE SIEMENS GIGASET 4000 CLA | F33: 41381
A34: 1 | B34: DECT | D34: 205534 | E34: Sagem D80C Duo | F34: 41381
A35: 1 | B35: TEL FIXE | D35: PLO203166 | E35: GALEO 4232 TELEPHONE FAX | F35: 41381
A36: 1 | B36: DECT | D36: 212328 | E36: Siemens S790 Solo en VAD | F36: 41381
A37: 1 | B37: TEL FIXE | D37: 49296 | E37: FIXE SAGEM D70T | F37: 41381
A38: 1 | B38: DECT | D38: 215179 | E38: PHILIPS CD180 DUO | F38: 41381
A39: 1 | B39: TEL FIXE | D39: PLOVERS155 | E39: ALCATEL VERSATIS 155 | F39: 41381
A40: 1 | B40: DECT | D40: 205354 | E40: Sagem D80C Duo | F40: 41381
A41: 1 | B41: TEL FIXE | D41: PLOSIEMC200 | E41: SIEMENS C200 | F41: 41381
A42: 1 | B42: DECT | D42: 207556 | E42: Sagem D20T | F42: 41381
A43: 1 | B43: TEL FIXE | D43: 203331 | E43: SAGEM D70 T | F43: 41381
A44: 1 | B44: DECT | D44: 212330 | E44: Siemens A580 Solo en VAD | F44: 41381
...

Sheet HD OPEN
A1: Art/Grp | B1: Famille | C1: Sous Famille | D1: Article | E1: Désignation | F1: Date création
A2: 1 | B2: OPTI OFFRE INTERNET | C2: FORFAIT PRO | D2: OPTINTREMOPEN247PR | E2: Open Pro Mobile 24/7 Premium | F2: 41442
A3: 1 | B3: OPTI OFFRE INTERNET | C3: FORFAIT PRO | D3: OPTINTREMOPEN247CO | E3: Open Pro Mobile 24/7 Confort | F3: 41442
A4: 1 | B4: OPTION INTERNET | C4: OPEN | D4: OPTOPENACQHD | E4: Option OPEN ACQUISITION HAUT DEBIT | F4: 41382

Sheet HD
A1: Art/Grp | B1: Famille | C1: Sous Famille | D1: Article | E1: Désignation | F1: Date création
A2: 1 | B2: ABON INTERNET | C2: FORFAIT GP | D2: ABOINTDECOU | E2: Offre DECOUVERTE Internet | F2: 41382
A3: 1 | B3: ABON INTERNET | C3: FORFAIT GP | D3: ABOINTFIDGP | E3: Fidelisation Internet HD GP | F3: 41382
A4: 1 | B4: ABON INTERNET | C4: FORFAIT GP | D4: ABOINTFORM | E4: Offre FORMULE Internet | F4: 41382
A5: 1 | B5: ABON INTERNET | C5: FORFAIT GP | D5: ABOINTFORMPLUS | E5: Offre Formule Plus Internet | F5: 41382
A6: 1 | B6: ABON INTERNET | C6: FORFAIT GP | D6: ABOINTNET | E6: Offre NET Internet | F6: 41382
A7: 1 | B7: ABON INTERNET | C7: FORFAIT GP | D7: ABOINTNETPLUS | E7: Offre NET Plus Internet | F7: 41382
A8: 1 | B8: ABON INTERNET | C8: FORFAIT GP | D8: ABOINTPLAY1LIGNE | E8: Option LIVEBOX PLAY 1 ligne | F8: 41382
A9: 1 | B9: ABON INTERNET | C9: FORFAIT GP | D9: ABOINTPLAYAVECTEL | E9: Offre LIVEBOX PLAY Nécessite Abo Téléphonique | F9: 41382
A10: 1 | B10: ABON INTERNET | C10: FORFAIT GP | D10: ABOINTPLAYSANSTEL | E10: Offre LIVEBOX PLAY Sans Abo Téléphonique | F10: 41382
A11: 1 | B11: ABON INTERNET | C11: FORFAIT GP | D11: ABOINTSOCIALE | E11: Offre SOCIALE Internet | F11: 41382
A12: 1 | B12: ABON INTERNET | C12: FORFAIT GP | D12: ABOINTSTAR1LIGNE | E12: Option LIVEBOX STAR 1 ligne | F12: 41382
A13: 1 | B13: ABON INTERNET | C13: FORFAIT GP | D13: ABOINTSTARAVECTEL | E13: Offre LIVEBOX STAR Nécessite Abo Téléphonique | F13: 41382
... A90: 1 | B90: ABON WANADOO | C90: ADSL | D90: ABOWANSURFEVERYWBL | E90: Offre SURF EVERYWHERE Bloque | F90: 41382

Sheet HDM
A1: Art/Grp | B1: Famille | C1: Sous Famille | D1: Article | E1: Désignation | F1: Date création
A2: 1 | B2: ABONNEMENT GP | C2: VALEUR | D2: ABOORGJET10H | E2: Forfait Origami Jet 10 heures | F2: 41382
A3: 1 | B3: ABONNEMENT GP | C3: VALEUR | D3: ABOORGJET15H | E3: Forfait Origami Jet 15 heures | F3: 41382
A4: 1 | B4: ABONNEMENT GP | C4: VALEUR | D4: ABOORGJET20H | E4: Forfait Origami Jet 20 heures | F4: 41382
A5: 1 | B5: ABONNEMENT GP | C5: VALEUR | D5: ABOORGJET247PR | E5: FORFAIT ORIGAMI JET PREMIER | F5: 41382
A6: 1 | B6: ABONNEMENT GP | C6: VALEUR | D6: ABOORGSLSTYLDEEZ | E6: SERIE LIMITEE STYLE DEEZER | F6: 41407
A7: 1 | B7: ABONNEMENT GP | C7: VALEUR | D7: ABOORGJET3H | E7: Forfait Origami Jet illimite de 8h a 18h | F7: 41382
A8: 1 | B8: ABONNEMENT GP | C8: VALEUR | D8: ABOORGJET30H | E8: Forfait Origami Jet 30 heures | F8: 41382
A9: 1 | B9: ABONNEMENT GP | C9: VALEUR | D9: ABOORGJET4H | E9: Forfait Origami Jet illimite de 8h a 20h | F9: 41382
A10: 1 | B10: ABONNEMENT GP | C10: VALEUR | D10: ABOORGJET8H | E10: FORFAIT ORIGAMI JET 8H 18H | F10: 41382
A11: 1 | B11: ABONNEMENT GP | C11: VALEUR | D11: ABOORGJET8HSIMONLY | E11: FORFAIT ORIGAMI JET 8H 18H SIM ONLY | F11: 41382
A12: 1 | B12: ABONNEMENT GP | C12: VALEUR | D12: ABOORGJETFR | E12: FORFAIT ORIGAMI JET France | F12: 41382
A13: 1 | B13: ABONNEMENT GP | C13: VALEUR | D13: ABOORGJETFSIMONLY | E13: FORFAIT ORIGAMI JET FRANCE SIM ONLY | F13: 41382
... A78: 1 | B78: ABONNEMENT GP | C78: VALEUR | D78: ABOORGSTYL2H | E78: Forfait Origami Style 2 heures | F78: 41382
A79: 1 | B79: ABONNEMENT GP | D79: SHOPJET247PR | E79: FORFAIT ORIGAMI JET PREMIER | F79: 41382
A80: 1 | B80: ABONNEMENT GP | C80: VALEUR | D80: ABOORGSTYL4H | E80: Forfait Origami Style 4 heures | F80: 41382
A81: 1 | B81: ABONNEMENT GP | D81: SHOPJETFR | E81: FORFAIT ORIGAMI JET France | F81: 41382
A82: 1 | B82: ABONNEMENT GP | C82: VALEUR | D82: ABOORGSTYLDEEZ2H | E82: FORFAIT ORIGAMI STYLE DEEZER 2H | F82: 41382
A83: 1 | B83: ABONNEMENT GP | D83: SHOPJETINT | E83: FORFAIT ORIGAMI JET INTERNATIONNAL | F83: 41382
A84: 1 | B84: ABONNEMENT GP | C84: VALEUR | D84: ABOORGSTYLDEEZ2SIM | E84: FORFAIT ORIGAMI STYLE DEEZER 2H SIM ONLY | F84: 41382
A85: 1 | B85: ABONNEMENT GP | D85: SHOPZEN3H | E85: FORFAIT ORIGAMI ZEN 3 H | F85: 41382
A86: 1 | B86: ABONNEMENT GP | C86: VALEUR | D86: ABOORGSTYLDEEZ4H | E86: FORFAIT ORIGAMI STYLE DEEZER 4H | F86: 41382
A87: 1 | B87: ABONNEMENT GP | D87: SHOPSTAR2H | E87: FORFAIT ORIGAMI STAR 2H | F87: 41382
A88: 1 | B88: ABONNEMENT GP | C88: VALEUR | D88: ABOORGSTYLDEEZ4SIM | E88: FORFAIT ORIGAMI STYLE DEEZER 4H SIM ONLY | F88: 41382
A89: 1 | B89: ABONNEMENT GP | D89: SHOPSTAR2471GO | E89: FORFAIT ORIGAMI STAR 24/7 1 GO | F89: 41382
A90: 1 | B90: ABONNEMENT GP | C90: VALEUR | D90: ABOORGTEM01H30 | E90: Forfait ten by Orange 1h30 | F90: 41382
A91: 1 | B91: ABONNEMENT GP | D91: SHOPSTAR247 | E91: FORFAIT ORIGAMI STAR 500 Mo | F91: 41382
A92: 1 | B92: ABONNEMENT GP | C92: VALEUR | D92: ABOORGTEM01H30SL | E92: Forfait Série limitée ten by Orange 1h30 | F92: 41382
A93: 1 | B93: ABONNEMENT GP | C93: VALEUR | D93: ABOORGTEM02H30 | E93: Forfait ten by Orange 2h30 | F93: 41382
A94: 1 | B94: ABONNEMENT GP | C94: VALEUR | D94: ABOORGTEM03H30 | E94: Forfait ten by Orange 3h30 | F94: 41382
A95: 1 | B95: ABONNEMENT GP | C95: VALEUR | D95: ABOORGTEM02H30SL | E95: Forfait série limitée ten by Orange 2h30 | F95: 41382
A96: 1 | B96: ABONNEMENT GP | C96: VALEUR | D96: ABOORGTEM03H30SL | E96: Forfait Série limitée ten by Orange 3h30 | F96: 41382
A97: 1 | B97: ABONNEMENT GP | C97: VALEUR | D97: ABOORGZEN5H | E97: Forfait Origami Zen 5 heures | F97: 41382
A98: 1 | B98: ABONNEMENT GP | C98: VALEUR | D98: ABOORGZEN5HSIMONLY | E98: Forfait Origami Zen 5 heures SIM ONLY | F98: 41382
A99: 1 | B99: ABONNEMENT GP | C99: VALEUR | D99: ABOORGZENPLUS2H | E99: Forfait Origami Zen pour Iphone 2H et Zen PLUS 2 heures | F99: 41382
A100: 1 | B100: ABONNEMENT GP | C100: VALEUR | D100: ABOORGZENPLUS1H | E100: Forfait Origami Zen pour Iphone 1H et Zen PLUS 1 heure | F100: 41382
A101: 1 | B101: ABONNEMENT GP | C101: VALEUR | D101: ABOORGZENPLUS3H | E101: Forfait Origami Zen pour Iphone 3 H et Zen PLUS 3 heures | F101: 41382
A102: 1 | B102: ABONNEMENT GP | C102: CB | D102: ABOORGSMART1H30 | E102: Forfait SMART 1H30 | F102: 41382
A103: 1 | B103: ABONNEMENT GP | C103: VALEUR | D103: ABOORGZENPLUS4H | E103: Forfait Origami Zen pour Iphone 4H et Zen PLUS 4 heures | F103: 41382
... A243: 1 | B243: ABONNEMENT GP | C243: VALEUR | D243: ABOORGINT3H | E243: Forfait Intense 3 heures | F243: 41382
...

Sheet IEWABO
A1: Art/Grp | B1: Famille | C1: Sous Famille | D1: Article | E1: Désignation | F1: Date création
A2: 1 | B2: ABONNEMENT GP | D2: SHOPLETSGO10GO | E2: FORFAIT LET'S GO 10GO 4G | F2: 41407
A3: 1 | B3: ABONNEMENT GP | C3: UMTS | D3: ABOLET3G1GO | E3: FORFAIT LET'S GO 1GO 3G | F3: 41382
A4: 1 | B4: ABONNEMENT GP | C4: UMTS | D4: ABOLET4G10GO | E4: FORFAIT LET'S GO 10GO 4G | F4: 41382
A5: 1 | B5: ABONNEMENT GP | C5: UMTS | D5: ABOLET4G10GOSIM | E5: FORFAIT LET'S GO 10GO 4G SIM ONLY | F5: 41382
A6: 1 | B6: ABONNEMENT GP | C6: UMTS | D6: ABOLET4G5GO | E6: FORFAIT LET'S GO 5GO 4G | F6: 41382
A7: 1 | B7: ABONNEMENT GP | C7: UMTS | D7: ABOLETS100MOAJ | E7: FORFAIT LET'S GO 100MO AJUSTABLE | F7: 41382
A8: 1 | B8: ABONNEMENT GP | C8: UMTS | D8: ABOLETS100MOAJSO | E8: FORFAIT LET'S GO 100MO AJUSTABLE SIM ONLY | F8: 41382
A9: 1 | B9: ABONNEMENT GP | C9: UMTS | D9: ABOORG100MOTAB | E9: FORFAIT LETS GO 100MO TABLETTE | F9: 41382
A10: 1 | B10: ABONNEMENT GP | C10: UMTS | D10: ABOORG1GOTAB | E10: FORFAIT LETS GO 1GO TABLETTE | F10: 41382
A11: 1 | B11: ABONNEMENT GP | C11: UMTS | D11: ABOORG1GOTABSIM | E11: FORFAIT LETS GO 1GO TABLETTE SIM ONLY | F11: 41382
A12: 1 | B12: ABONNEMENT GP | C12: UMTS | D12: ABOORG3G10HINT | E12: FORFAIT ORANGE INTENSE 10H | F12: 41382
A13: 1 | B13: ABONNEMENT GP | C13: UMTS | D13: ABOORG3G20HINT | E13: FORFAIT ORANGE INTENSE 20H | F13: 41382
A14: 1 | B14: ABONNEMENT GP | C14: UMTS | D14: ABOORG3G3HINT | E14: FORFAIT ORANGE INTENSE 3H | F14: 41382
... A66: 1 | B66: ABONNEMENT GP | C66: UMTS | D66: ABOORGSLBAVTTAB | E66: FORFAIT SL BUSINESS TABLETTE AVANTAGE WINDOWS 8 | F66: 41382
A67: 1 | B67: ABONNEMENT GP | D67: SHOPLETSGO1GO | E67: LETS GO 1GO SHOP TO WEB | F67: 41382
A68: 1 | B68: ABONNEMENT GP | D68: SHOPLETSGO3GO | E68: LETS GO 3GO SHOP TO WEB | F68: 41382
A69: 1 | B69: ABONNEMENT GP | D69: SHOPLETSGO5GO | E69: LETS GO 5GO SHOP TO WEB | F69: 41382
A70: 1 | B70: ABONNEMENT GP | C70: VALEUR | D70: ABOORGESORGMODLGO | E70: Edition Spéciale Origami Modem Let's go | F70: 41382
A71: 1 | B71: ABONNEMENT GP | C71: VALEUR | D71: ABOORGSL3G | E71: Série Limitée 3G | F71: 41382
A72: 1 | B72: ABONNEMENT GP | C72: VALEUR | D72: ABOORGSLLETSGO | E72: SERIE LIMITEE ORIGAMI LETS GO | F72: 41382
A73: 1 | B73: ABONNEMENT GP | C73: VALEUR | D73: ABOORGSLORILETSGO | E73: LA SERIE LIMITEE ORIGAMI MODEM LET'S GO | F73: 41382
A74: 1 | B74: ABONNEMENT GP | D74: SHOPLETSGO100MO | E74: FORFAIT LET'S GO 100MO AJUSTABLE | F74: 41407

Sheet IEWSANSABO
A1: Art/Grp | B1: Famille | C1: Sous Famille | D1: Article | E1: Désignation | F1: Date création
A2: 1 | B2: ABONNEMENT GP | C2: UMTS | D2: ABOLET3G1GOSIMSE | E2: FORFAIT LET'S GO 1GO 3G SIM SS ENGT | F2: 41382
A3: 1 | B3: ABONNEMENT GP | C3: UMTS | D3: ABOLET4G10GOSE | E3: FORFAIT LET'S GO 10GO 4G SS ENGT | F3: 41382
A4: 1 | B4: ABONNEMENT GP | C4: UMTS | D4: ABOLET4G10GOSIMSE | E4: FORFAIT LET'S GO 10GO 4G SIM SS ENGT | F4: 41382
A5: 1 | B5: ABONNEMENT GP | C5: UMTS | D5: ABOLET4G5GOSIMSE | E5: FORFAIT LET'S GO 5GO 4G SIM SS ENGT | F5: 41382
A6: 1 | B6: ABONNEMENT GP | C6: UMTS | D6: ABOLETS100MOAJSOSE | E6: FORFAIT LET'S GO 100MO AJUSTABLE SIM ONLY SS ENGT | F6: 41382
A7: 1 | B7: ABONNEMENT GP | C7: UMTS | D7: ABOORG100MOTABSE | E7: FORFAIT LETS GO 100MO TABLETTE SS ENGT | F7: 41382
A8: 1 | B8: ABONNEMENT GP | C8: UMTS | D8: ABOORG1GOTABSE | E8: FORFAIT LETS GO 1GO TABLETTE SS ENGT | F8: 41382
A9: 1 | B9: ABONNEMENT GP | C9: UMTS | D9: ABOORG3GINITSEIPAD | E9: FB LETS GO pour ipad 200 MO SE | F9: 41382
A10: 1 | B10: ABONNEMENT GP | C10: UMTS | D10: ABOORG3GINTSEIPAD | E10: FB LETS GO 2GO pour ipad SE | F10: 41382
A11: 1 | B11: ABONNEMENT GP | C11: UMTS | D11: ABOORG3GMULTSE | E11: FB LETS GO 1 Go MULTIMEDIA SE | F11: 41382
A12: 1 | B12: ABONNEMENT GP | C12: UMTS | D12: ABOORG3GQUOTSE | E12: FORFAIT LETS GO 1GO SS ENGT | F12: 41382
A13: 1 | B13: ABONNEMENT GP | C13: UMTS | D13: ABOORG3GQUOTSEIPAD | E13: FB LETS GO 1GO pour ipad SE | F13: 41382
... A20: 1 | B20: ABONNEMENT GP | C20: UMTS | D20: ABOORGPASS3G1J | E20: Pass modem LETS GO 1 Jour | F20: 41382
A21: 1 | B21: ABONNEMENT GP | D21: SHOPLETSGO1GOSE | E21: LETS GO 1 GO SS ENGAGEMENT SHOP TO WEB | F21: 41382
A22: 1 | B22: ABONNEMENT GP | D22: SHOPLETSGO3GOSE | E22: LETS GO 3 GO SS ENGAGEMENT SHOP TO WEB | F22: 41382
A23: 1 | B23: ABONNEMENT GP | D23: SHOPLETSGO5GOSE | E23: LETS GO 5 GO SS ENGAGEMENT SHOP TO WEB | F23: 41382
A24: 1 | B24: ABONNEMENT GP | C24: UMTS | D24: ABOORG3GSSENG | E24: Forfait Cle 3 G+ sans engagement | F24: 41382
A25: 1 | B25: ABONNEMENT GP | D25: SHOPLETSGO10GOSE | E25: FORFAIT LET'S GO 10GO 4G SS ENGT | F25: 41407
A26: 1 | B26: ABONNEMENT GP | D26: SHOPLETSGOEMAILSE | E26: LETS GO EMAIL SS ENGAGEMENT SHOP TO WEB | F26: 41407

Sheet KIT ACCES
A1: Art/Grp | B1: Famille | C1: Sous Famille | D1: Article | E1: Désignation | F1: Date création
A2: 1 | B2: PREPREM | C2: POCHETTE MOBICARTE | D2: PREPORGWP | E2: FORMULE POCHETTE MOBI | F2: 41382

Sheet MARGE @
A1: Art/Grp | B1: Famille | C1: Sous Famille | D1: Article | E1: Désignation | F1: Date création
A2: 1 | B2: DECT | D2: 209360 | E2: Philips CD 240 Duo Blanc | F2: 41382
A3: 1 | B3: INTERNET | C3: ADSL | D3: 961531 | E3: LIVEPLUG HD+ 200MBITS/B | F3: 41382
A4: 1 | B4: OPTION INTERNET | C4: OPEN | D4: OPTOPENBPOLONAIS | E4: Option Bouquet Polonais | F4: 41382
A5: 1 | B5: DECT | D5: 209361 | E5: Philips CD 240 Solo Blanc | F5: 41382
A6: 1 | B6: FAX | D6: 999999 | E6: ESSAI àéù@â?¬èet | F6: 41382
A7: 1 | B7: OPTION INTERNET | C7: OPEN | D7: OPTOPENBSPORT | E7: Option Bouquet Sport | F7: 41382
A8: 1 | B8: DECT | D8: 209363 | E8: Sagem D36C Silver | F8: 41382
A9: 1 | B9: ABON FIXE FT | C9: FIXE FT | D9: ABOFIXFT100ILL24 | E9: 100% Illimité | F9: 41382
A10: 1 | B10: OPTION INTERNET | C10: OPEN | D10: OPTOPENBTHEMA | E10: Option Bouquet Standard | F10: 41382
A11: 1 | B11: ABONNEMENT GP | C11: CB | D11: ABOPENMINIFIB | E11: FORFAIT OPEN MINI FIBRE | F11: 41442
A12: 1 | B12: DECT | D12: 209364 | E12: Sagem D36C Duo Silver | F12: 41382
A13: 1 | B13: ABON FIXE FT | C13: FIXE FT | D13: ABOFIXFT100ILLSWE | E13: 100% Illimité Soir et WeekEnd | F13: 41382
A14: 1 | B14: OPTION INTERNET | C14: OPEN | D14: OPTOPENBTURC | E14: Option Bouquet Turc | F14: 41382
A15: 1 | B15: ABONNEMENT GP | C15: CB | D15: ABOPENMINIFIBSO | E15: FORFAIT OPEN MINI FIBRE SIM ONLY | F15: 41442
A16: 1 | B16: DECT | D16: 209365 | E16: Sagem D36C Trio Silver | F16: 41382
A17: 1 | B17: ABON FIXE FT | C17: FIXE FT | D17: ABOFIXFTILL120S24 | E17: Atout Illimité +120 24h/24 | F17: 41382
A18: 1 | B18: OPTION INTERNET | C18: OPEN | D18: OPTOPENBUNJEUN | E18: Option Bundle Jeunesse | F18: 41382
A19: 1 | B19: DECT | D19: 209366 | E19: Sagem D36V Silver | F19: 41382
A20: 1 | B20: ABON FIXE FT | C20: FIXE FT | D20: ABOFIXFTILL120SWE | E20: Atout Illimité +120 Soir et WE | F20: 41382
A21: 1 | B21: OPTION INTERNET | C21: OPEN | D21: OPTOPENCONTASS | E21: Option Contrat Assistance Plus | F21: 41382
A22: 1 | B22: DECT | D22: 209367 | E22: Sagem D36V Trio Silver | F22: 41382
A23: 1 | B23: ABON FIXE FT | C23: FIXE FT | D23: ABOFIXFTILL240S24 | E23: Atout Illimité +240 24h/24 | F23: 41382
A24: 1 | B24: OPTION INTERNET | C24: OPEN | D24: OPTOPENCONTASSPRO | E24: Assistance PRO Internet | F24: 41382
A25: 1 | B25: DECT | D25: 209409 | E25: Alcatel V1920 Noir | F25: 41382
A26: 1 | B26: ABON FIXE FT | C26: FIXE FT | D26: ABOFIXFTILL24S24 | E26: Atout illimité 24h sur 24 | F26: 41382
A27: 1 | B27: OPTION INTERNET | C27: OPEN | D27: OPTOPENDEEZER | E27: Option Orange DEEZER Premium Plus | F27: 41382
A28: 1 | B28: INTERNET | C28: ADSL | D28: 209449 | E28: Cadre Photo WIFI AF5080W | F28: 41382
A29: 1 | B29: ABON FIXE FT | C29: FIXE FT | D29: ABOFIXFTILLSWE | E29: Atout Illimité Soir et WeekEnd | F29: 41382
A30: 1 | B30: OPTION INTERNET | C30: OPEN | D30: OPTOPENDEEZERMUS | E30: Option Orange DEEZER Premium | F30: 41382
A31: 1 | B31: DECT | D31: 209470 | E31: LivePhone Sagem TU73 | F31: 41382
A32: 1 | B32: ABON INTERNET | C32: FORFAIT GP | D32: ABOINTDECOU | E32: Offre DECOUVERTE Internet | F32: 41382
A33: 1 | B33: OPTION INTERNET | C33: OPEN | D33: OPTOPENDIVERT | E33: Option Pack Divertissement | F33: 41382
A34: 1 | B34: DECT | D34: 209471 | E34: LivePhone Sagem D66W | F34: 41382
A35: 1 | B35: ABON INTERNET | C35: FORFAIT GP | D35: ABOINTFIB | E35: Offre La Fibre | F35: 41382
A36: 1 | B36: OPTION INTERNET | C36: OPEN | D36: OPTOPENFORIEW | E36: Option Let's Go 100Mo | F36: 41382
A37: 1 | B37: FAX | C37: CONSOMMABLES | D37: 209500 | E37: Cartouche Linéa Couleur IN703 | F37: 41382
A38: 1 | B38: ABON INTERNET | C38: FORFAIT GP | D38: ABOINTFIDGP | E38: Fidelisation Internet HD GP | F38: 41382
A39: 1 | B39: OPTION INTERNET | C39: OPEN | D39: OPTOPENGIGAMAIL | E39: Option Gigamail | F39: 41382
A40: 1 | B40: FAX | C40: CONSOMMABLES | D40: 209501 | E40: Cartouche Linéa Photo IN705 | F40: 41382
...

Sheet MEF @
A1: Art/Grp | B1: Famille | C1: Sous Famille | D1: Article | E1: Désignation | F1: Date création
A2: 1 | B2: ABON INTERNET | C2: FORFAIT GP | D2: ABOINTMIGGP | E2: Migration vers Internet HD GP | F2: 41382

Sheet MEF
A1: Art/Grp | B1: Famille | C1: Sous Famille | D1: Article | E1: Désignation | F1: Date création
A2: 1 | B2: OPTION GP | D2: MEFAA2 | E2: Changement de forfait A vers A | F2: 41442
A3: 1 | B3: OPTION GP | D3: OPTMEFAA2 | E3: Changement de forfait A vers A | F3: 41442
A4: 1 | B4: OPTION MEF | D4: MEFAA | E4: Changement de forfait A vers A | F4: 41382
A5: 1 | B5: OPTION MEF | D5: MEFAB | E5: Changement de forfait A vers B | F5: 41382
A6: 1 | B6: OPTION MEF | D6: MEFAC | E6: Changement de forfait A vers C | F6: 41382
A7: 1 | B7: OPTION MEF | D7: MEFACPRIME | E7: Changement de forfait A vers C' | F7: 41382
A8: 1 | B8: OPTION MEF | D8: MEFAD | E8: Changement de forfait A vers D | F8: 41382
A9: 1 | B9: OPTION MEF | D9: MEFAE | E9: Changement de forfait A vers E | F9: 41382
A10: 1 | B10: OPTION MEF | D10: MEFAF | E10: Changement de forfait A vers F | F10: 41382
A11: 1 | B11: ABONNEMENT GP | C11: MEF | D11: MEFSESE | E11: MEF SE VERS SE | F11: 41442
A12: 1 | B12: OPTION MEF | D12: MEFAG | E12: Changement de forfait A vers G | F12: 41382
A13: 1 | B13: OPTION MEF | D13: MEFBB | E13: Changement de forfait B vers B | F13: 41382
A14: 1 | B14: OPTION MEF | D14: MEFBC | E14: Changement de forfait B vers C | F14: 41382
A15: 1 | B15: OPTION MEF | D15: MEFBCPRIME | E15: Changement de forfait B vers C' | F15: 41382
A16: 1 | B16: OPTION MEF | D16: MEFBD | E16: Changement de forfait B vers D | F16: 41382
A17: 1 | B17: OPTION MEF | D17: MEFBE | E17: Changement de forfait B vers E | F17: 41382
A18: 1 | B18: OPTION MEF | D18: MEFBF | E18: Changement de forfait B vers F | F18: 41382
A19: 1 | B19: OPTION MEF | D19: MEFBG | E19: Changement de forfait B vers G | F19: 41382
A20: 1 | B20: OPTION MEF | D20: MEFCC | E20: Changement de forfait C vers C | F20: 41382
A21: 1 | B21: ABONNEMENT GP | C21: MEF | D21: MEFHDMHDM | E21: MEF HDM VERS HDM | F21: 41442
A22: 1 | B22: OPTION MEF | D22: MEFCCPRIME | E22: Changement de forfait C vers C' | F22: 41382
A23: 1 | B23: ABONNEMENT GP | C23: MEF | D23: MEFEDMHDM | E23: MEF EDM VERS HDM | F23: 41442
A24: 1 | B24: OPTION MEF | D24: MEFCD | E24: Changement de forfait C vers D | F24: 41382
A25: 1 | B25: ABONNEMENT GP | C25: MEF | D25: MEFEDMEDM | E25: MEF EDM VERS EDM | F25: 41442
A26: 1 | B26: OPTION MEF | D26: MEFCE | E26: Changement de forfait C vers E | F26: 41382
A27: 1 | B27: ABONNEMENT GP | C27: MEF | D27: DEF | E27: DEF | F27: 41442
A28: 1 | B28: OPTION MEF | D28: MEFCF | E28: Changement de forfait C vers F | F28: 41382
A29: 1 | B29: OPTION MEF | D29: MEFCG | E29: Changement de forfait C vers G | F29: 41382
A30: 1 | B30: OPTION MEF | D30: MEFCPRIMECPRIME | E30: Changement de forfait C' vers C' | F30: 41382
A31: 1 | B31: OPTION MEF | D31: MEFCPRIMED | E31: Changement de forfait C' vers D | F31: 41382
A32: 1 | B32: OPTION MEF | D32: MEFCPRIMEE | E32: Changement de forfait C' vers E | F32: 41382
A33: 1 | B33: OPTION MEF | D33: MEFCPRIMEF | E33: Changement de forfait C' vers F | F33: 41382
A34: 1 | B34: OPTION MEF | D34: MEFCPRIMEG | E34: Changement de forfait C' vers G | F34: 41382
A35: 1 | B35: OPTION MEF | D35: MEFDD | E35: Changement de forfait D vers D | F35: 41382
A36: 1 | B36: OPTION MEF | D36: MEFDE | E36: Changement de forfait D vers E | F36: 41382
A37: 1 | B37: OPTION MEF | D37: MEFDF | E37: Changement de forfait D vers F | F37: 41382
A38: 1 | B38: OPTION MEF | D38: MEFDG | E38: Changement de forfait D vers G | F38: 41382
A39: 1 | B39: OPTION MEF | D39: MEFEE | E39: Changement de forfait E vers E | F39: 41382
... A53: 1 | B53: OPTION MEF | D53: MEFZERO | E53: Changement de forfait autres | F53: 41382

Sheet MEF OPEN
A1: Art/Grp | B1: Famille | C1: Sous Famille | D1: Article | E1: Désignation | F1: Date création
A2: 1 | B2: OPEN | D2: OPENMEF | E2: DEJA OPEN | F2: 41442
A3: 1 | B3: OPTION INTERNET | C3: OPEN | D3: OPTOPENMIGHD | E3: Option OPEN MIGRATION HAUT DEBIT | F3: 41442
A4: 1 | B4: OPEN | D4: OPENFIDFID | E4: OPEN Déjà Mobile + Déjà Internet | F4: 41382

Sheet MEF OPEN@
A1: Art/Grp | B1: Famille | C1: Sous Famille | D1: Article | E1: Désignation | F1: Date création
A2: 1 | B2: OPTION INTERNET | C2: OPEN | D2: OPTOPENMIGHD | E2: Option OPEN MIGRATION HAUT DEBIT | F2: 41442

Sheet MEG
A1: Art/Grp | B1: Famille | C1: Sous Famille | D1: Article | E1: Désignation | F1: Date création
A2: 1 | B2: ABONNEMENT GP | C2: MEG | D2: ABOORGMEGCB | E2: Montée En Gamme vers Compte Bloqué,Initial | F2: 41382
A3: 1 | B3: ABONNEMENT GP | C3: MEG | D3: ABOORGMEGINITIAL | E3: Montée En Gamme vers Orange Initial | F3: 41382
A4: 1 | B4: ABONNEMENT GP | C4: MEG | D4: ABOORGMEGFORF | E4: Montée En Gamme vers Forfait | F4: 41382
A5: 1 | B5: ABONNEMENT GP | C5: MEG | D5: ABOORGMEGFOR1H | E5: Montée En Gamme vers Forfait 1h | F5: 41382
A6: 1 | B6: ABONNEMENT GP | C6: MEG | D6: ABOORGMEGCMO | E6: MONTEE EN GAMME VERS CMO | F6: 41382
