Workbook

Sheet Feuil3
B1: Nom du groupe | C1: Nbr.
A2: 1 | B2: ACCESS | C2: 10468
A3: 2 | B3: ASSU | C3: 20
A4: 3 | B4: BDM | C4: 142
A5: 4 | B5: BQTV | C5: 86
A6: 5 | B6: DECODEURS | C6: 8
A7: 6 | B7: DECT | C7: 341
A8: 7 | B8: HD | C8: 89
A9: 8 | B9: HDFIBRE | C9: 4
A10: 9 | B10: HDM | C10: 256
A11: 10 | B11: HDOPEN | C11: 3
A12: 11 | B12: IEWABO | C12: 73
A13: 12 | B13: IEWSANSABO | C13: 25
... A27: 26 | B27: PREPAYE | C27: 11

Sheet GLOBAL
A1: Art/Grp | B1: Famille | C1: Sous Famille | D1: Article | E1: Désignation | F1: Date création | G1: 2 | H1: 3 | I1: 4 | J1: 5 | K1: 6 | L1: 7 | M1: 8 | N1: 9 | O1: 10 | P1: 11 | Q1: 12 | R1: 13 | S1: 14 | T1: 15 | U1: 16 | V1: 17 | W1: 18 | X1: 19 | Y1: 20 | Z1: 21 | AA1: 22 | AB1: 23 | AC1: 24 | AD1: 25 | AE1: 26
A2: 1 | B2: ACCESORG | C2: HABILLAGE | D2: MUCCPSLI5510001 | E2: HOUSSE CLAPET NOIRE et SCREEN COMPATIBLES SAMSUNG I5510 GALAXY 551** | F2: 41381 | G2: =IF(D2=ASSU!$D:$D,"ASSU",0) -> 0 | H2: =IF(D2=BDM!D:D,"BDM",0) -> 0 | S2: =+IF(D2='MARGE @'!D:D,"MARGE@",0) -> 0
A3: 1 | B3: ACCESORG | C3: Protections | D3: MUSCP6760001 | E3: 2 FILMS PROTECTEURS D''ECRAN COMPATIBLE NOKIA 6760** | F3: 41381 | G3: =IF(D3=ASSU!$D:$D,"ASSU",0) -> 0 | H3: =IF(D3=BDM!D:D,"BDM",0) -> 0 | S3: =+IF(D3='MARGE @'!D:D,"MARGE@",0) -> 0
A4: 1 | B4: ACCESORG | C4: Audio | D4: DS7600 | E4: PHILIPS ENCEINTE PORTABLE DOCK DE CHARGE IPHONE/IPOD-BATTERIE IN** | F4: 41381 | G4: =IF(D4=ASSU!$D:$D,"ASSU",0) -> 0 | H4: =IF(D4=BDM!D:D,"BDM",0) -> 0 | S4: =+IF(D4='MARGE @'!D:D,"MARGE@",0) -> 0
A5: 1 | B5: ACCESORG | C5: Protections | D5: GELSKIN195 | E5: CELLY COQUE GELSKIN TRANSPARENTE TPU SAMSUNG B5510 GALAXY Y PRO | F5: 41381 | G5: =IF(D5=ASSU!$D:$D,"ASSU",0) -> 0 | H5: =IF(D5=BDM!D:D,"BDM",0) -> 0 | S5: =+IF(D5='MARGE @'!D:D,"MARGE@",0) -> 0
A6: 1 | B6: ACCESS COMPAT | D6: SMMICROSD8GBPLUS | E6: CARTE MEMOIRE SAMSUNG MICRO SD 8 GIGA | F6: 41381 | G6: =IF(D6=ASSU!$D:$D,"ASSU",0) -> 0 | H6: =IF(D6=BDM!D:D,"BDM",0) -> 0 | S6: =+IF(D6='MARGE @'!D:D,"MARGE@",0) -> 0
A7: 1 | B7: ACCESORG | C7: Accessoires Tablette | D7: MUCLPSCIPA2001 | E7: MUVIT ETUI CLAPET SNOW CLIP PU NOIR SUPPORT ROTATIF IPAD 4 RETINA | F7: 41381 | G7: =IF(D7=ASSU!$D:$D,"ASSU",0) -> 0 | H7: =IF(D7=BDM!D:D,"BDM",0) -> 0 | S7: =+IF(D7='MARGE @'!D:D,"MARGE@",0) -> 0
A8: 1 | B8: ACCESORG | C8: Protections | D8: MUBKC0370 | E8: CONTOUR BUMPER BELT BLANC FILM PROTECTEUR AV/AR PR IPHONE 4/4S | F8: 41401 | G8: =IF(D8=ASSU!$D:$D,"ASSU",0) -> 0 | H8: =IF(D8=BDM!D:D,"BDM",0) -> 0 | S8: =+IF(D8='MARGE @'!D:D,"MARGE@",0) -> 0
A9: 1 | B9: OPTION GP | C9: CMO | D9: OPTORGASSUDECCMO | E9: Option Sécurité 3€ | F9: 41381 | G9: =IF(D9=ASSU!$D:$D,"ASSU",0) -> 0 | H9: =IF(D9=BDM!D:D,"BDM",0) -> 0 | S9: =+IF(D9='MARGE @'!D:D,"MARGE@",0) -> 0
A10: 1 | B10: OPTION GP | C10: CMO | D10: OPTORGASSUDECOUCMO | E10: OPTION SECURITE DECOUVERTE CMO | F10: 41381 | G10: =IF(D10=ASSU!$D:$D,"ASSU",0) -> 0 | H10: =IF(D10=BDM!D:D,"BDM",0) -> 0 | S10: =+IF(D10='MARGE @'!D:D,"MARGE@",0) -> 0
A11: 1 | B11: OPTION GP | C11: CMO | D11: OPTORGASSUPREMCMO | E11: Option Sécurité 9€ | F11: 41381 | G11: =IF(D11=ASSU!$D:$D,"ASSU",0) -> 0 | H11: =IF(D11=BDM!D:D,"BDM",0) -> 0 | S11: =+IF(D11='MARGE @'!D:D,"MARGE@",0) -> 0
A12: 1 | B12: OPTION GP | C12: CMO | D12: OPTORGASSUSECUCMO | E12: Option Sécurité 6€ | F12: 41381 | G12: =IF(D12=ASSU!$D:$D,"ASSU",0) -> 0 | H12: =IF(D12=BDM!D:D,"BDM",0) -> 0 | S12: =+IF(D12='MARGE @'!D:D,"MARGE@",0) -> 0
A13: 1 | B13: OPTION GP | C13: FORFAIT | D13: OPTORGASSUPREMIUM | E13: ORANGE SECURITE PREMIUM | F13: 41381 | G13: =IF(D13=ASSU!$D:$D,"ASSU",0) -> 0 | H13: =IF(D13=BDM!D:D,"BDM",0) -> 0 | S13: =+IF(D13='MARGE @'!D:D,"MARGE@",0) -> 0
A14: 1 | B14: OPTION GP | C14: FORFAIT | D14: OPTORGASSUSECU | E14: ORANGE SECURITE STANDARD | F14: 41381 | G14: =IF(D14=ASSU!$D:$D,"ASSU",0) -> 0 | H14: =IF(D14=BDM!D:D,"BDM",0) -> 0 | S14: =+IF(D14='MARGE @'!D:D,"MARGE@",0) -> 0
A15: 1 | B15: OPTION GP | C15: FORFAIT | D15: OPTORGASSUDECOUVE | E15: OPTION SECURITE DECOUVERTE | F15: 41381 | G15: =IF(D15=ASSU!$D:$D,"ASSU",0) -> 0 | H15: =IF(D15=BDM!D:D,"BDM",0) -> 0 | S15: =+IF(D15='MARGE @'!D:D,"MARGE@",0) -> 0
A16: 1 | B16: OPTION GP | C16: OPTION | D16: OPTORGMULTI | E16: OPTION SECURITE MULTIPRODUITS | F16: 41381 | G16: =IF(D16=ASSU!$D:$D,"ASSU",0) -> 0 | H16: =IF(D16=BDM!D:D,"BDM",0) -> 0 | S16: =+IF(D16='MARGE @'!D:D,"MARGE@",0) -> 0
A17: 1 | B17: OPTION GP | C17: OPTION | D17: OPTORGSECU3 | E17: Option Sécurité 3¤ | F17: 41381 | G17: =IF(D17=ASSU!$D:$D,"ASSU",0) -> 0 | H17: =IF(D17=BDM!D:D,"BDM",0) -> 0 | S17: =+IF(D17='MARGE @'!D:D,"MARGE@",0) -> 0
A18: 1 | B18: OPTION GP | C18: OPTION | D18: OPTORGSECU6 | E18: Option Sécurité 6¤ | F18: 41381 | G18: =IF(D18=ASSU!$D:$D,"ASSU",0) -> 0 | H18: =IF(D18=BDM!D:D,"BDM",0) -> 0 | S18: =+IF(D18='MARGE @'!D:D,"MARGE@",0) -> 0
... A31: 1 | B31: ABONNEMENT GP | C31: CB | D31: ABOESFNBM62HSMS | E31: EDITION SPECIALE NON BLOQUEE M6 MOBILE 2H SMS/MMS | F31: 41382 | G31: =IF(D31=ASSU!$D:$D,"ASSU",0) -> 0 | H31: =IF(D31=BDM!D:D,"BDM",0) -> 0 | S31: =+IF(D31='MARGE @'!D:D,"MARGE@",0) -> 0
A32: 1 | B32: ABONNEMENT GP | D32: SHOPZEN | E32: FORFAIT ZEN | F32: 41407 | G32: =IF(D32=ASSU!$D:$D,"ASSU",0) -> 0 | H32: =IF(D32=BDM!D:D,"BDM",0) -> 0 | S32: =+IF(D32='MARGE @'!D:D,"MARGE@",0) -> 0
A33: 1 | B33: ABONNEMENT GP | C33: CB | D33: ABOESFNBM62HSMSSIM | E33: EDITION SPECIALE NON BLOQUEE M6 MOBILE 2H SMS/MMS SIM ONLY | F33: 41382 | G33: =IF(D33=ASSU!$D:$D,"ASSU",0) -> 0 | H33: =IF(D33=BDM!D:D,"BDM",0) -> 0 | S33: =+IF(D33='MARGE @'!D:D,"MARGE@",0) -> 0
A34: 1 | B34: ABONNEMENT GP | C34: CB | D34: ABOORGESM61H | E34: Edition Spéciale M6 Mobile 1H | F34: 41382 | G34: =IF(D34=ASSU!$D:$D,"ASSU",0) -> 0 | H34: =IF(D34=BDM!D:D,"BDM",0) -> 0 | S34: =+IF(D34='MARGE @'!D:D,"MARGE@",0) -> 0
A35: 1 | B35: ABONNEMENT GP | C35: CB | D35: ABOORGESM61HBB | E35: EDITION SPECIALE M6 MOBILE 1H POUR BLACKBERRY | F35: 41382 | G35: =IF(D35=ASSU!$D:$D,"ASSU",0) -> 0 | H35: =IF(D35=BDM!D:D,"BDM",0) -> 0 | S35: =+IF(D35='MARGE @'!D:D,"MARGE@",0) -> 0
A36: 1 | B36: ABONNEMENT GP | C36: CB | D36: ABOORGESM61HINT | E36: EDITION SPECIALE M6 MOBILE 1H INTERNET | F36: 41382 | G36: =IF(D36=ASSU!$D:$D,"ASSU",0) -> 0 | H36: =IF(D36=BDM!D:D,"BDM",0) -> 0 | S36: =+IF(D36='MARGE @'!D:D,"MARGE@",0) -> 0
A37: 1 | B37: ABONNEMENT GP | C37: CB | D37: ABOORGESM6AV1H | E37: EDITION SPECIALE AVENTURE M6 MOBILE 1H | F37: 41382 | G37: =IF(D37=ASSU!$D:$D,"ASSU",0) -> 0 | H37: =IF(D37=BDM!D:D,"BDM",0) -> 0 | S37: =+IF(D37='MARGE @'!D:D,"MARGE@",0) -> 0
A38: 1 | B38: ABONNEMENT GP | C38: CB | D38: ABOORGESM6IPH | E38: EDITION SPECIALE M6 MOBILE POUR IPHONE | F38: 41382 | G38: =IF(D38=ASSU!$D:$D,"ASSU",0) -> 0 | H38: =IF(D38=BDM!D:D,"BDM",0) -> 0 | S38: =+IF(D38='MARGE @'!D:D,"MARGE@",0) -> 0
A39: 1 | B39: ABONNEMENT GP | C39: CB | D39: ABOORGESM6IPHSIM | E39: EDITION SPECIALE M6 MOBILE POUR IPHONE SIM ONLY | F39: 41382 | G39: =IF(D39=ASSU!$D:$D,"ASSU",0) -> 0 | H39: =IF(D39=BDM!D:D,"BDM",0) -> 0 | S39: =+IF(D39='MARGE @'!D:D,"MARGE@",0) -> 0
A40: 1 | B40: ABONNEMENT GP | C40: CB | D40: ABOORGM61H30IL247M | E40: M6 Mobile 1H30 illimitÃ??Ã?Â© 24 7 vers M6 | F40: 41382 | G40: =IF(D40=ASSU!$D:$D,"ASSU",0) -> 0 | H40: =IF(D40=BDM!D:D,"BDM",0) -> 0 | S40: =+IF(D40='MARGE @'!D:D,"MARGE@",0) -> 0
A41: 1 | B41: ABONNEMENT GP | C41: CB | D41: ABOORGM61H30ONLY | E41: Forfait M6 Mobile 1h30 Internet sim only | F41: 41382 | G41: =IF(D41=ASSU!$D:$D,"ASSU",0) -> 0 | H41: =IF(D41=BDM!D:D,"BDM",0) -> 0 | S41: =+IF(D41='MARGE @'!D:D,"MARGE@",0) -> 0
A42: 1 | B42: ABONNEMENT GP | C42: CB | D42: ABOORGM61HBBM | E42: EDITION SPECIALE M6 MOBILE 1H BB Messenger | F42: 41382 | G42: =IF(D42=ASSU!$D:$D,"ASSU",0) -> 0 | H42: =IF(D42=BDM!D:D,"BDM",0) -> 0 | S42: =+IF(D42='MARGE @'!D:D,"MARGE@",0) -> 0
A43: 1 | B43: ABONNEMENT GP | C43: CB | D43: ABOORGM61HBBMA | E43: EDITION SPECIALE M6 MOBILE 1H BB Mail | F43: 41382 | G43: =IF(D43=ASSU!$D:$D,"ASSU",0) -> 0 | H43: =IF(D43=BDM!D:D,"BDM",0) -> 0 | S43: =+IF(D43='MARGE @'!D:D,"MARGE@",0) -> 0
A44: 1 | B44: ABONNEMENT GP | C44: CB | D44: ABOORGM61HBBMASO | E44: EDITION SPECIALE M6 MOBILE 1H BB Mail SIM ONLY | F44: 41382 | G44: =IF(D44=ASSU!$D:$D,"ASSU",0) -> 0 | H44: =IF(D44=BDM!D:D,"BDM",0) -> 0 | S44: =+IF(D44='MARGE @'!D:D,"MARGE@",0) -> 0
... A154: 1 | B154: ABONNEMENT GP | C154: VALEUR | D154: ABOORGTEM01H | E154: Forfait ten by Orange 1h | F154: 41382 | G154: =IF(D154=ASSU!$D:$D,"ASSU",0) -> 0 | H154: =IF(D154=BDM!D:D,"BDM",0) -> 0 | S154: =+IF(D154='MARGE @'!D:D,"MARGE@",0) -> 0
A155: 1 | B155: ABONNEMENT GP | D155: SHOPESM6IPH | E155: EDITION SPECIALE M6 MOBILE POUR IPHONE | F155: 41382 | G155: =IF(D155=ASSU!$D:$D,"ASSU",0) -> 0 | H155: =IF(D155=BDM!D:D,"BDM",0) -> 0 | S155: =+IF(D155='MARGE @'!D:D,"MARGE@",0) -> 0
A156: 1 | B156: ABONNEMENT GP | D156: SHOPM61HBBM | E156: EDITION SPECIALE M6 MOBILE 1H BB MESSENGER | F156: 41382 | G156: =IF(D156=ASSU!$D:$D,"ASSU",0) -> 0 | H156: =IF(D156=BDM!D:D,"BDM",0) -> 0 | S156: =+IF(D156='MARGE @'!D:D,"MARGE@",0) -> 0
A157: 1 | B157: ABONNEMENT GP | D157: SHOPM61HBBMA | E157: EDITION SPECIALE M6 MOBILE 1H BB MAIL | F157: 41382 | G157: =IF(D157=ASSU!$D:$D,"ASSU",0) -> 0 | H157: =IF(D157=BDM!D:D,"BDM",0) -> 0 | S157: =+IF(D157='MARGE @'!D:D,"MARGE@",0) -> 0
A158: 1 | B158: ABONNEMENT GP | D158: SHOPM61HSMSMMS | E158: FORFAIT M6 MOBILE 1H SMS/MMS ILLIMITE | F158: 41382 | G158: =IF(D158=ASSU!$D:$D,"ASSU",0) -> 0 | H158: =IF(D158=BDM!D:D,"BDM",0) -> 0 | S158: =+IF(D158='MARGE @'!D:D,"MARGE@",0) -> 0
A159: 1 | B159: ABONNEMENT GP | D159: SHOPM6B1HBBM | E159: EDITION SPECIALE M6 MOBILE BLOQUEE 1H BB MESSENGER | F159: 41382 | G159: =IF(D159=ASSU!$D:$D,"ASSU",0) -> 0 | H159: =IF(D159=BDM!D:D,"BDM",0) -> 0 | S159: =+IF(D159='MARGE @'!D:D,"MARGE@",0) -> 0
A160: 1 | B160: ABONNEMENT GP | D160: SHOPM61HSMSMMSB | E160: FORFAIT BLOQUE M6 MOBILE 1H SMS/MMS ILLIMITE | F160: 41382 | G160: =IF(D160=ASSU!$D:$D,"ASSU",0) -> 0 | H160: =IF(D160=BDM!D:D,"BDM",0) -> 0 | S160: =+IF(D160='MARGE @'!D:D,"MARGE@",0) -> 0
A161: 1 | B161: ABONNEMENT GP | D161: SHOPM6B1HBBMA | E161: EDITION SPECIALE M6 MOBILE BLOQUEE 1H BB MAIL | F161: 41382 | G161: =IF(D161=ASSU!$D:$D,"ASSU",0) -> 0 | H161: =IF(D161=BDM!D:D,"BDM",0) -> 0 | S161: =+IF(D161='MARGE @'!D:D,"MARGE@",0) -> 0
A162: 1 | B162: ABONNEMENT GP | D162: SHOPM6INT1H | E162: FORFAIT M6 MOBILE 1H INTERNET | F162: 41382 | G162: =IF(D162=ASSU!$D:$D,"ASSU",0) -> 0 | H162: =IF(D162=BDM!D:D,"BDM",0) -> 0 | S162: =+IF(D162='MARGE @'!D:D,"MARGE@",0) -> 0
A163: 1 | B163: ABONNEMENT GP | D163: SHOPM6INT1HB | E163: FORFAIT BLOQUE M6 MOBILE 1H INTERNET | F163: 41382 | G163: =IF(D163=ASSU!$D:$D,"ASSU",0) -> 0 | H163: =IF(D163=BDM!D:D,"BDM",0) -> 0 | S163: =+IF(D163='MARGE @'!D:D,"MARGE@",0) -> 0
A164: 1 | B164: ABONNEMENT GP | D164: SHOPM6INT2H | E164: FORFAIT M6 MOBILE 2H INTERNET | F164: 41382 | G164: =IF(D164=ASSU!$D:$D,"ASSU",0) -> 0 | H164: =IF(D164=BDM!D:D,"BDM",0) -> 0 | S164: =+IF(D164='MARGE @'!D:D,"MARGE@",0) -> 0
A165: 1 | B165: ABONNEMENT GP | D165: SHOPM6INT2HB | E165: FORFAIT BLOQUE M6 MOBILE 2H INTERNET | F165: 41382 | G165: =IF(D165=ASSU!$D:$D,"ASSU",0) -> 0 | H165: =IF(D165=BDM!D:D,"BDM",0) -> 0 | S165: =+IF(D165='MARGE @'!D:D,"MARGE@",0) -> 0
A166: 1 | B166: ABONNEMENT GP | D166: SHOPZEN1H | E166: FORFAIT ORIGAMI ZEN 1 H | F166: 41382 | G166: =IF(D166=ASSU!$D:$D,"ASSU",0) -> 0 | H166: =IF(D166=BDM!D:D,"BDM",0) -> 0 | S166: =+IF(D166='MARGE @'!D:D,"MARGE@",0) -> 0
A167: 1 | B167: ABONNEMENT GP | C167: CB | D167: ABOORGZAP01H3024 | E167: Forfait BloquÃ?Â© ZAP 1h30 24/24 | F167: 41382 | G167: =IF(D167=ASSU!$D:$D,"ASSU",0) -> 0 | H167: =IF(D167=BDM!D:D,"BDM",0) -> 0 | S167: =+IF(D167='MARGE @'!D:D,"MARGE@",0) -> 0
A168: 1 | B168: ABONNEMENT GP | D168: SHOPM62HSMS | E168: FORFAIT M6 MOBILE 2H SMS/MMS ILLIMITE | F168: 41407 | G168: =IF(D168=ASSU!$D:$D,"ASSU",0) -> 0 | H168: =IF(D168=BDM!D:D,"BDM",0) -> 0 | S168: =+IF(D168='MARGE @'!D:D,"MARGE@",0) -> 0
A169: 1 | B169: ABONNEMENT GP | D169: SHOPM6B2HSMS | E169: FORFAIT BLOQUE M6 MOBILE 2H SMS/MMS ILLIMITE | F169: 41407 | G169: =IF(D169=ASSU!$D:$D,"ASSU",0) -> 0 | H169: =IF(D169=BDM!D:D,"BDM",0) -> 0 | S169: =+IF(D169='MARGE @'!D:D,"MARGE@",0) -> 0
A170: 1 | B170: ABONNEMENT GP | C170: CB | D170: ABOESFBM62HSMS | E170: EDITION SPECIALE BLOQUEE M6 MOBILE 2H SMS/MMS | F170: 41382 | G170: =IF(D170=ASSU!$D:$D,"ASSU",0) -> 0 | H170: =IF(D170=BDM!D:D,"BDM",0) -> 0 | S170: =+IF(D170='MARGE @'!D:D,"MARGE@",0) -> 0
A171: 1 | B171: ABON INTERNET | C171: FORFAIT GP | D171: ABOINTFIB | E171: Offre La Fibre | F171: 41382 | G171: =IF(D171=ASSU!$D:$D,"ASSU",0) -> 0 | H171: =IF(D171=BDM!D:D,"BDM",0) -> 0 | S171: =+IF(D171='MARGE @'!D:D,"MARGE@",0) -> 0
A172: 1 | B172: ABON INTERNET | C172: FORFAIT GP | D172: ABOINTPLAYFIBRE | E172: Offre LIVEBOX PLAY - FIBRE | F172: 41382 | G172: =IF(D172=ASSU!$D:$D,"ASSU",0) -> 0 | H172: =IF(D172=BDM!D:D,"BDM",0) -> 0 | S172: =+IF(D172='MARGE @'!D:D,"MARGE@",0) -> 0
A173: 1 | B173: ABON INTERNET | C173: FORFAIT GP | D173: ABOINTSTARFIBRE | E173: Offre LIVEBOX STAR - FIBRE | F173: 41382 | G173: =IF(D173=ASSU!$D:$D,"ASSU",0) -> 0 | H173: =IF(D173=BDM!D:D,"BDM",0) -> 0 | S173: =+IF(D173='MARGE @'!D:D,"MARGE@",0) -> 0
A174: 1 | B174: ABON INTERNET | C174: FORFAIT GP | D174: ABOINTZENFIBRE | E174: Offre LIVEBOX ZEN - FIBRE | F174: 41382 | G174: =IF(D174=ASSU!$D:$D,"ASSU",0) -> 0 | H174: =IF(D174=BDM!D:D,"BDM",0) -> 0 | S174: =+IF(D174='MARGE @'!D:D,"MARGE@",0) -> 0
A175: 1 | B175: OPTION INTERNET | C175: TV | D175: OPTWANBAFRICMAX | E175: Option Bouquet Africain MAX | F175: 41382 | G175: =IF(D175=ASSU!$D:$D,"ASSU",0) -> 0 | H175: =IF(D175=BDM!D:D,"BDM",0) -> 0 | S175: =+IF(D175='MARGE @'!D:D,"MARGE@",0) -> 0
A176: 1 | B176: OPTION INTERNET | C176: TV | D176: OPTWANBALLEM | E176: Option Bouquet Allemand | F176: 41382 | G176: =IF(D176=ASSU!$D:$D,"ASSU",0) -> 0 | H176: =IF(D176=BDM!D:D,"BDM",0) -> 0 | S176: =+IF(D176='MARGE @'!D:D,"MARGE@",0) -> 0
A177: 1 | B177: OPTION INTERNET | C177: TV | D177: OPTWANBANGLOPH | E177: Option Bouquet Anglophone | F177: 41382 | G177: =IF(D177=ASSU!$D:$D,"ASSU",0) -> 0 | H177: =IF(D177=BDM!D:D,"BDM",0) -> 0 | S177: =+IF(D177='MARGE @'!D:D,"MARGE@",0) -> 0
A178: 1 | B178: OPTION INTERNET | C178: TV | D178: OPTWANBARABE | E178: Option Bouquet Arabe | F178: 41382 | G178: =IF(D178=ASSU!$D:$D,"ASSU",0) -> 0 | H178: =IF(D178=BDM!D:D,"BDM",0) -> 0 | S178: =+IF(D178='MARGE @'!D:D,"MARGE@",0) -> 0
A179: 1 | B179: OPTION INTERNET | C179: TV | D179: OPTWANBARABEMAX | E179: Option Bouquet Arabe Max | F179: 41382 | G179: =IF(D179=ASSU!$D:$D,"ASSU",0) -> 0 | H179: =IF(D179=BDM!D:D,"BDM",0) -> 0 | S179: =+IF(D179='MARGE @'!D:D,"MARGE@",0) -> 0
A180: 1 | B180: OPTION INTERNET | C180: TV | D180: OPTWANBBERBERE | E180: Option Bouquet Berbere | F180: 41382 | G180: =IF(D180=ASSU!$D:$D,"ASSU",0) -> 0 | H180: =IF(D180=BDM!D:D,"BDM",0) -> 0 | S180: =+IF(D180='MARGE @'!D:D,"MARGE@",0) -> 0
A181: 1 | B181: OPTION INTERNET | C181: TV | D181: OPTWANBCHINOIS | E181: Option Bouquet Chinois | F181: 41382 | G181: =IF(D181=ASSU!$D:$D,"ASSU",0) -> 0 | H181: =IF(D181=BDM!D:D,"BDM",0) -> 0 | S181: =+IF(D181='MARGE @'!D:D,"MARGE@",0) -> 0
... A268: 1 | B268: OPTI OFFRE INTERNET | C268: FORFAIT PRO | D268: OPTINTREMTV-PROSAT | E268: Service TV Satellite Pro | F268: 41382 | G268: =IF(D268=ASSU!$D:$D,"ASSU",0) -> 0 | H268: =IF(D268=BDM!D:D,"BDM",0) -> 0 | S268: =+IF(D268='MARGE @'!D:D,"MARGE@",0) -> 0
A269: 1 | B269: DECT | D269: 208193 | E269: Alcatel V620 Trio | F269: 41381 | G269: =IF(D269=ASSU!$D:$D,"ASSU",0) -> 0 | H269: =IF(D269=BDM!D:D,"BDM",0) -> 0 | S269: =+IF(D269='MARGE @'!D:D,"MARGE@",0) -> 0
A270: 1 | B270: TEL FIXE | D270: 204488 | E270: SAGEM D80C | F270: 41381 | G270: =IF(D270=ASSU!$D:$D,"ASSU",0) -> 0 | H270: =IF(D270=BDM!D:D,"BDM",0) -> 0 | S270: =+IF(D270='MARGE @'!D:D,"MARGE@",0) -> 0
A271: 1 | B271: DECT | D271: 46668 | E271: DORO Neobio 25 | F271: 41381 | G271: =IF(D271=ASSU!$D:$D,"ASSU",0) -> 0 | H271: =IF(D271=BDM!D:D,"BDM",0) -> 0 | S271: =+IF(D271='MARGE @'!D:D,"MARGE@",0) -> 0
A272: 1 | B272: TEL FIXE | D272: 202119 | E272: AMARYS 1500 TELEPHONE BLEU | F272: 41381 | G272: =IF(D272=ASSU!$D:$D,"ASSU",0) -> 0 | H272: =IF(D272=BDM!D:D,"BDM",0) -> 0 | S272: =+IF(D272='MARGE @'!D:D,"MARGE@",0) -> 0
A273: 1 | B273: DECT | D273: 208874 | E273: FAX GALEO 5875 DECT | F273: 41381 | G273: =IF(D273=ASSU!$D:$D,"ASSU",0) -> 0 | H273: =IF(D273=BDM!D:D,"BDM",0) -> 0 | S273: =+IF(D273='MARGE @'!D:D,"MARGE@",0) -> 0
A274: 1 | B274: TEL FIXE | D274: 203400 | E274: SIEMENS GIGASET A110 DELT | F274: 41381 | G274: =IF(D274=ASSU!$D:$D,"ASSU",0) -> 0 | H274: =IF(D274=BDM!D:D,"BDM",0) -> 0 | S274: =+IF(D274='MARGE @'!D:D,"MARGE@",0) -> 0
A275: 1 | B275: DECT | D275: 209364 | E275: Sagem D36C Duo Silver | F275: 41381 | G275: =IF(D275=ASSU!$D:$D,"ASSU",0) -> 0 | H275: =IF(D275=BDM!D:D,"BDM",0) -> 0 | S275: =+IF(D275='MARGE @'!D:D,"MARGE@",0) -> 0
A276: 1 | B276: TEL FIXE | D276: 49319 | E276: PHILIPS PFA 421 I-JET NOIR/BLANC | F276: 41381 | G276: =IF(D276=ASSU!$D:$D,"ASSU",0) -> 0 | H276: =IF(D276=BDM!D:D,"BDM",0) -> 0 | S276: =+IF(D276='MARGE @'!D:D,"MARGE@",0) -> 0
A277: 1 | B277: DECT | D277: 550211 | E277: SIEMENS AS285 Duo Répondeur | F277: 41381 | G277: =IF(D277=ASSU!$D:$D,"ASSU",0) -> 0 | H277: =IF(D277=BDM!D:D,"BDM",0) -> 0 | S277: =+IF(D277='MARGE @'!D:D,"MARGE@",0) -> 0
A278: 1 | B278: TEL FIXE | D278: 48752 | E278: FIXE ALCATEL VERSATIS 570 METAL | F278: 41381 | G278: =IF(D278=ASSU!$D:$D,"ASSU",0) -> 0 | H278: =IF(D278=BDM!D:D,"BDM",0) -> 0 | S278: =+IF(D278='MARGE @'!D:D,"MARGE@",0) -> 0
A279: 1 | B279: DECT | D279: 583820 | E279: Siemens E360 | F279: 41381 | G279: =IF(D279=ASSU!$D:$D,"ASSU",0) -> 0 | H279: =IF(D279=BDM!D:D,"BDM",0) -> 0 | S279: =+IF(D279='MARGE @'!D:D,"MARGE@",0) -> 0
A280: 1 | B280: TEL FIXE | D280: 49122 | E280: FIXE PHILIPS KALA 300 GRIS METAL | F280: 41381 | G280: =IF(D280=ASSU!$D:$D,"ASSU",0) -> 0 | H280: =IF(D280=BDM!D:D,"BDM",0) -> 0 | S280: =+IF(D280='MARGE @'!D:D,"MARGE@",0) -> 0
... A285: 1 | B285: DECT | D285: 584133 | E285: Siemens C475 SOLO REPONDEUR | F285: 41381 | G285: =IF(D285=ASSU!$D:$D,"ASSU",0) -> 0 | H285: =IF(D285=BDM!D:D,"BDM",0) -> 0 | S285: =+IF(D285='MARGE @'!D:D,"MARGE@",0) -> 0
A286: 1 | B286: TEL FIXE | D286: 202119PLO | E286: AMARYS 1500 TELEPHONE BLEU | F286: 41381 | G286: =IF(D286=ASSU!$D:$D,"ASSU",0) -> 0 | H286: =IF(D286=BDM!D:D,"BDM",0) -> 0 | S286: =+IF(D286='MARGE @'!D:D,"MARGE@",0) -> 0
A287: 1 | B287: DECT | D287: 207490 | E287: Siemens S455 sim répondeur | F287: 41381 | G287: =IF(D287=ASSU!$D:$D,"ASSU",0) -> 0 | H287: =IF(D287=BDM!D:D,"BDM",0) -> 0 | S287: =+IF(D287='MARGE @'!D:D,"MARGE@",0) -> 0
A288: 1 | B288: TEL FIXE | D288: FAPH | E288: TELEPHONE FAXE PHILIPS MAGIC 2 | F288: 41381 | G288: =IF(D288=ASSU!$D:$D,"ASSU",0) -> 0 | H288: =IF(D288=BDM!D:D,"BDM",0) -> 0 | S288: =+IF(D288='MARGE @'!D:D,"MARGE@",0) -> 0
A289: 1 | B289: DECT | D289: 205101 | E289: Swissvoice Avena 135 Trio | F289: 41381 | G289: =IF(D289=ASSU!$D:$D,"ASSU",0) -> 0 | H289: =IF(D289=BDM!D:D,"BDM",0) -> 0 | S289: =+IF(D289='MARGE @'!D:D,"MARGE@",0) -> 0
A290: 1 | B290: TEL FIXE | D290: 4010 | E290: TEL FIXE GIGASET 4010 | F290: 41381 | G290: =IF(D290=ASSU!$D:$D,"ASSU",0) -> 0 | H290: =IF(D290=BDM!D:D,"BDM",0) -> 0 | S290: =+IF(D290='MARGE @'!D:D,"MARGE@",0) -> 0
A291: 1 | B291: DECT | D291: 207520 | E291: Philips SE330 Duo | F291: 41381 | G291: =IF(D291=ASSU!$D:$D,"ASSU",0) -> 0 | H291: =IF(D291=BDM!D:D,"BDM",0) -> 0 | S291: =+IF(D291='MARGE @'!D:D,"MARGE@",0) -> 0
A292: 1 | B292: TEL FIXE | D292: GI200 | E292: TEL FIXE GIGASET 200 | F292: 41381 | G292: =IF(D292=ASSU!$D:$D,"ASSU",0) -> 0 | H292: =IF(D292=BDM!D:D,"BDM",0) -> 0 | S292: =+IF(D292='MARGE @'!D:D,"MARGE@",0) -> 0
A293: 1 | B293: DECT | D293: 207521 | E293: Philips SE330 | F293: 41381 | G293: =IF(D293=ASSU!$D:$D,"ASSU",0) -> 0 | H293: =IF(D293=BDM!D:D,"BDM",0) -> 0 | S293: =+IF(D293='MARGE @'!D:D,"MARGE@",0) -> 0
A294: 1 | B294: TEL FIXE | D294: XA200 | E294: TEL FIXE XALIO 200 | F294: 41381 | G294: =IF(D294=ASSU!$D:$D,"ASSU",0) -> 0 | H294: =IF(D294=BDM!D:D,"BDM",0) -> 0 | S294: =+IF(D294='MARGE @'!D:D,"MARGE@",0) -> 0
A295: 1 | B295: DECT | D295: 527488 | E295: Siemens S100C Duo | F295: 41381 | G295: =IF(D295=ASSU!$D:$D,"ASSU",0) -> 0 | H295: =IF(D295=BDM!D:D,"BDM",0) -> 0 | S295: =+IF(D295='MARGE @'!D:D,"MARGE@",0) -> 0
A296: 1 | B296: TEL FIXE | D296: BI130 | E296: TEL FIXE ALCATEL BILBOA 130 | F296: 41381 | G296: =IF(D296=ASSU!$D:$D,"ASSU",0) -> 0 | H296: =IF(D296=BDM!D:D,"BDM",0) -> 0 | S296: =+IF(D296='MARGE @'!D:D,"MARGE@",0) -> 0
A297: 1 | B297: DECT | D297: 207527 | E297: Siemens S455 Duo sim répondeur | F297: 41381 | G297: =IF(D297=ASSU!$D:$D,"ASSU",0) -> 0 | H297: =IF(D297=BDM!D:D,"BDM",0) -> 0 | S297: =+IF(D297='MARGE @'!D:D,"MARGE@",0) -> 0
A298: 1 | B298: TEL FIXE | D298: VE560 | E298: TEL FIXE ALCATEL VERSATIS 560 | F298: 41381 | G298: =IF(D298=ASSU!$D:$D,"ASSU",0) -> 0 | H298: =IF(D298=BDM!D:D,"BDM",0) -> 0 | S298: =+IF(D298='MARGE @'!D:D,"MARGE@",0) -> 0
A299: 1 | B299: DECT | D299: 206916 | E299: Sagem D35C Trio | F299: 41381 | G299: =IF(D299=ASSU!$D:$D,"ASSU",0) -> 0 | H299: =IF(D299=BDM!D:D,"BDM",0) -> 0 | S299: =+IF(D299='MARGE @'!D:D,"MARGE@",0) -> 0
A300: 1 | B300: TEL FIXE | D300: GI4000 | E300: TEL FIXE SIEMENS GIGASET 4000 CLA | F300: 41381 | G300: =IF(D300=ASSU!$D:$D,"ASSU",0) -> 0 | H300: =IF(D300=BDM!D:D,"BDM",0) -> 0 | S300: =+IF(D300='MARGE @'!D:D,"MARGE@",0) -> 0
A301: 1 | B301: DECT | D301: 205534 | E301: Sagem D80C Duo | F301: 41381 | G301: =IF(D301=ASSU!$D:$D,"ASSU",0) -> 0 | H301: =IF(D301=BDM!D:D,"BDM",0) -> 0 | S301: =+IF(D301='MARGE @'!D:D,"MARGE@",0) -> 0
A302: 1 | B302: TEL FIXE | D302: PLO203166 | E302: GALEO 4232 TELEPHONE FAX | F302: 41381 | G302: =IF(D302=ASSU!$D:$D,"ASSU",0) -> 0 | H302: =IF(D302=BDM!D:D,"BDM",0) -> 0 | S302: =+IF(D302='MARGE @'!D:D,"MARGE@",0) -> 0
A303: 1 | B303: DECT | D303: 212328 | E303: Siemens S790 Solo en VAD | F303: 41381 | G303: =IF(D303=ASSU!$D:$D,"ASSU",0) -> 0 | H303: =IF(D303=BDM!D:D,"BDM",0) -> 0 | S303: =+IF(D303='MARGE @'!D:D,"MARGE@",0) -> 0
A304: 1 | B304: TEL FIXE | D304: 49296 | E304: FIXE SAGEM D70T | F304: 41381 | G304: =IF(D304=ASSU!$D:$D,"ASSU",0) -> 0 | H304: =IF(D304=BDM!D:D,"BDM",0) -> 0 | S304: =+IF(D304='MARGE @'!D:D,"MARGE@",0) -> 0
A305: 1 | B305: DECT | D305: 215179 | E305: PHILIPS CD180 DUO | F305: 41381 | G305: =IF(D305=ASSU!$D:$D,"ASSU",0) -> 0 | H305: =IF(D305=BDM!D:D,"BDM",0) -> 0 | S305: =+IF(D305='MARGE @'!D:D,"MARGE@",0) -> 0
A306: 1 | B306: TEL FIXE | D306: PLOVERS155 | E306: ALCATEL VERSATIS 155 | F306: 41381 | G306: =IF(D306=ASSU!$D:$D,"ASSU",0) -> 0 | H306: =IF(D306=BDM!D:D,"BDM",0) -> 0 | S306: =+IF(D306='MARGE @'!D:D,"MARGE@",0) -> 0
A307: 1 | B307: DECT | D307: 205354 | E307: Sagem D80C Duo | F307: 41381 | G307: =IF(D307=ASSU!$D:$D,"ASSU",0) -> 0 | H307: =IF(D307=BDM!D:D,"BDM",0) -> 0 | S307: =+IF(D307='MARGE @'!D:D,"MARGE@",0) -> 0
A308: 1 | B308: TEL FIXE | D308: PLOSIEMC200 | E308: SIEMENS C200 | F308: 41381 | G308: =IF(D308=ASSU!$D:$D,"ASSU",0) -> 0 | H308: =IF(D308=BDM!D:D,"BDM",0) -> 0 | S308: =+IF(D308='MARGE @'!D:D,"MARGE@",0) -> 0
A309: 1 | B309: DECT | D309: 207556 | E309: Sagem D20T | F309: 41381 | G309: =IF(D309=ASSU!$D:$D,"ASSU",0) -> 0 | H309: =IF(D309=BDM!D:D,"BDM",0) -> 0 | S309: =+IF(D309='MARGE @'!D:D,"MARGE@",0) -> 0
A310: 1 | B310: TEL FIXE | D310: 203331 | E310: SAGEM D70 T | F310: 41381 | G310: =IF(D310=ASSU!$D:$D,"ASSU",0) -> 0 | H310: =IF(D310=BDM!D:D,"BDM",0) -> 0 | S310: =+IF(D310='MARGE @'!D:D,"MARGE@",0) -> 0
A311: 1 | B311: DECT | D311: 212330 | E311: Siemens A580 Solo en VAD | F311: 41381 | G311: =IF(D311=ASSU!$D:$D,"ASSU",0) -> 0 | H311: =IF(D311=BDM!D:D,"BDM",0) -> 0 | S311: =+IF(D311='MARGE @'!D:D,"MARGE@",0) -> 0
...

Sheet ASSU
A1: Art/Grp | B1: Famille | C1: Sous Famille | D1: Article | E1: Désignation | F1: Date création
A2: 1 | B2: OPTION GP | C2: CMO | D2: OPTORGASSUDECCMO | E2: Option Sécurité 3€ | F2: 41381
A3: 1 | B3: OPTION GP | C3: CMO | D3: OPTORGASSUDECOUCMO | E3: OPTION SECURITE DECOUVERTE CMO | F3: 41381
A4: 1 | B4: OPTION GP | C4: CMO | D4: OPTORGASSUPREMCMO | E4: Option Sécurité 9€ | F4: 41381
A5: 1 | B5: OPTION GP | C5: CMO | D5: OPTORGASSUSECUCMO | E5: Option Sécurité 6€ | F5: 41381
A6: 1 | B6: OPTION GP | C6: FORFAIT | D6: OPTORGASSUPREMIUM | E6: ORANGE SECURITE PREMIUM | F6: 41381
A7: 1 | B7: OPTION GP | C7: FORFAIT | D7: OPTORGASSUSECU | E7: ORANGE SECURITE STANDARD | F7: 41381
A8: 1 | B8: OPTION GP | C8: FORFAIT | D8: OPTORGASSUDECOUVE | E8: OPTION SECURITE DECOUVERTE | F8: 41381
A9: 1 | B9: OPTION GP | C9: OPTION | D9: OPTORGMULTI | E9: OPTION SECURITE MULTIPRODUITS | F9: 41381
A10: 1 | B10: OPTION GP | C10: OPTION | D10: OPTORGSECU3 | E10: Option Sécurité 3¤ | F10: 41381
A11: 1 | B11: OPTION GP | C11: OPTION | D11: OPTORGSECU6 | E11: Option Sécurité 6¤ | F11: 41381
A12: 1 | B12: OPTION GP | C12: OPTION | D12: OPTORGSECU9 | E12: Option Sécurité 9¤ | F12: 41381
A13: 1 | B13: OPTION GP | C13: PCM | D13: OPTORGASSUDECOUPCM | E13: OPTION SECURITE DECOUVERTE PCM | F13: 41381
... A21: 1 | B21: OPTION GP | C21: UMTS | D21: OPTORGF3GSECUSTA | E21: Option Sécurité Standard | F21: 41381

Sheet BDM
A1: Art/Grp | B1: Famille | C1: Sous Famille | D1: Article | E1: Désignation | F1: Date création
A2: 1 | B2: ABONNEMENT GP | C2: CB | D2: ABOESFBM62HSMSSIM | E2: EDITION SPECIALE BLOQUEE M6 MOBILE 2H SMS/MMS SIM ONLY | F2: 41382
A3: 1 | B3: ABONNEMENT GP | C3: CB | D3: ABOORGESM6MOB1H | E3: EDITION SPECIALE M6 MOBILE 1H | F3: 41382
A4: 1 | B4: ABONNEMENT GP | C4: CB | D4: ABOESFNBM62HSMS | E4: EDITION SPECIALE NON BLOQUEE M6 MOBILE 2H SMS/MMS | F4: 41382
A5: 1 | B5: ABONNEMENT GP | D5: SHOPZEN | E5: FORFAIT ZEN | F5: 41407
A6: 1 | B6: ABONNEMENT GP | C6: CB | D6: ABOESFNBM62HSMSSIM | E6: EDITION SPECIALE NON BLOQUEE M6 MOBILE 2H SMS/MMS SIM ONLY | F6: 41382
A7: 1 | B7: ABONNEMENT GP | C7: CB | D7: ABOORGESM61H | E7: Edition Spéciale M6 Mobile 1H | F7: 41382
A8: 1 | B8: ABONNEMENT GP | C8: CB | D8: ABOORGESM61HBB | E8: EDITION SPECIALE M6 MOBILE 1H POUR BLACKBERRY | F8: 41382
A9: 1 | B9: ABONNEMENT GP | C9: CB | D9: ABOORGESM61HINT | E9: EDITION SPECIALE M6 MOBILE 1H INTERNET | F9: 41382
A10: 1 | B10: ABONNEMENT GP | C10: CB | D10: ABOORGESM6AV1H | E10: EDITION SPECIALE AVENTURE M6 MOBILE 1H | F10: 41382
A11: 1 | B11: ABONNEMENT GP | C11: CB | D11: ABOORGESM6IPH | E11: EDITION SPECIALE M6 MOBILE POUR IPHONE | F11: 41382
A12: 1 | B12: ABONNEMENT GP | C12: CB | D12: ABOORGESM6IPHSIM | E12: EDITION SPECIALE M6 MOBILE POUR IPHONE SIM ONLY | F12: 41382
A13: 1 | B13: ABONNEMENT GP | C13: CB | D13: ABOORGM61H30IL247M | E13: M6 Mobile 1H30 illimitÃ??Ã?Â© 24 7 vers M6 | F13: 41382
A14: 1 | B14: ABONNEMENT GP | C14: CB | D14: ABOORGM61H30ONLY | E14: Forfait M6 Mobile 1h30 Internet sim only | F14: 41382
A15: 1 | B15: ABONNEMENT GP | C15: CB | D15: ABOORGM61HBBM | E15: EDITION SPECIALE M6 MOBILE 1H BB Messenger | F15: 41382
A16: 1 | B16: ABONNEMENT GP | C16: CB | D16: ABOORGM61HBBMA | E16: EDITION SPECIALE M6 MOBILE 1H BB Mail | F16: 41382
A17: 1 | B17: ABONNEMENT GP | C17: CB | D17: ABOORGM61HBBMASO | E17: EDITION SPECIALE M6 MOBILE 1H BB Mail SIM ONLY | F17: 41382
... A127: 1 | B127: ABONNEMENT GP | C127: VALEUR | D127: ABOORGTEM01H | E127: Forfait ten by Orange 1h | F127: 41382
A128: 1 | B128: ABONNEMENT GP | D128: SHOPESM6IPH | E128: EDITION SPECIALE M6 MOBILE POUR IPHONE | F128: 41382
A129: 1 | B129: ABONNEMENT GP | D129: SHOPM61HBBM | E129: EDITION SPECIALE M6 MOBILE 1H BB MESSENGER | F129: 41382
A130: 1 | B130: ABONNEMENT GP | D130: SHOPM61HBBMA | E130: EDITION SPECIALE M6 MOBILE 1H BB MAIL | F130: 41382
A131: 1 | B131: ABONNEMENT GP | D131: SHOPM61HSMSMMS | E131: FORFAIT M6 MOBILE 1H SMS/MMS ILLIMITE | F131: 41382
A132: 1 | B132: ABONNEMENT GP | D132: SHOPM6B1HBBM | E132: EDITION SPECIALE M6 MOBILE BLOQUEE 1H BB MESSENGER | F132: 41382
A133: 1 | B133: ABONNEMENT GP | D133: SHOPM61HSMSMMSB | E133: FORFAIT BLOQUE M6 MOBILE 1H SMS/MMS ILLIMITE | F133: 41382
A134: 1 | B134: ABONNEMENT GP | D134: SHOPM6B1HBBMA | E134: EDITION SPECIALE M6 MOBILE BLOQUEE 1H BB MAIL | F134: 41382
A135: 1 | B135: ABONNEMENT GP | D135: SHOPM6INT1H | E135: FORFAIT M6 MOBILE 1H INTERNET | F135: 41382
A136: 1 | B136: ABONNEMENT GP | D136: SHOPM6INT1HB | E136: FORFAIT BLOQUE M6 MOBILE 1H INTERNET | F136: 41382
A137: 1 | B137: ABONNEMENT GP | D137: SHOPM6INT2H | E137: FORFAIT M6 MOBILE 2H INTERNET | F137: 41382
A138: 1 | B138: ABONNEMENT GP | D138: SHOPM6INT2HB | E138: FORFAIT BLOQUE M6 MOBILE 2H INTERNET | F138: 41382
A139: 1 | B139: ABONNEMENT GP | D139: SHOPZEN1H | E139: FORFAIT ORIGAMI ZEN 1 H | F139: 41382
A140: 1 | B140: ABONNEMENT GP | C140: CB | D140: ABOORGZAP01H3024 | E140: Forfait BloquÃ?Â© ZAP 1h30 24/24 | F140: 41382
A141: 1 | B141: ABONNEMENT GP | D141: SHOPM62HSMS | E141: FORFAIT M6 MOBILE 2H SMS/MMS ILLIMITE | F141: 41407
A142: 1 | B142: ABONNEMENT GP | D142: SHOPM6B2HSMS | E142: FORFAIT BLOQUE M6 MOBILE 2H SMS/MMS ILLIMITE | F142: 41407
A143: 1 | B143: ABONNEMENT GP | C143: CB | D143: ABOESFBM62HSMS | E143: EDITION SPECIALE BLOQUEE M6 MOBILE 2H SMS/MMS | F143: 41382

Sheet HD FIBRE
A1: Art/Grp | B1: Famille | C1: Sous Famille | D1: Article | E1: Désignation | F1: Date création
A2: 1 | B2: ABON INTERNET | C2: FORFAIT GP | D2: ABOINTFIB | E2: Offre La Fibre | F2: 41382
A3: 1 | B3: ABON INTERNET | C3: FORFAIT GP | D3: ABOINTPLAYFIBRE | E3: Offre LIVEBOX PLAY - FIBRE | F3: 41382
A4: 1 | B4: ABON INTERNET | C4: FORFAIT GP | D4: ABOINTSTARFIBRE | E4: Offre LIVEBOX STAR - FIBRE | F4: 41382
A5: 1 | B5: ABON INTERNET | C5: FORFAIT GP | D5: ABOINTZENFIBRE | E5: Offre LIVEBOX ZEN - FIBRE | F5: 41382

Sheet BQTV
A1: Art/Grp | B1: Famille | C1: Sous Famille | D1: Article | E1: Désignation | F1: Date création
A2: 1 | B2: OPTION INTERNET | C2: TV | D2: OPTWANBAFRICMAX | E2: Option Bouquet Africain MAX | F2: 41382
A3: 1 | B3: OPTION INTERNET | C3: TV | D3: OPTWANBALLEM | E3: Option Bouquet Allemand | F3: 41382
A4: 1 | B4: OPTION INTERNET | C4: TV | D4: OPTWANBANGLOPH | E4: Option Bouquet Anglophone | F4: 41382
A5: 1 | B5: OPTION INTERNET | C5: TV | D5: OPTWANBARABE | E5: Option Bouquet Arabe | F5: 41382
A6: 1 | B6: OPTION INTERNET | C6: TV | D6: OPTWANBARABEMAX | E6: Option Bouquet Arabe Max | F6: 41382
A7: 1 | B7: OPTION INTERNET | C7: TV | D7: OPTWANBBERBERE | E7: Option Bouquet Berbere | F7: 41382
A8: 1 | B8: OPTION INTERNET | C8: TV | D8: OPTWANBCHINOIS | E8: Option Bouquet Chinois | F8: 41382
A9: 1 | B9: OPTION INTERNET | C9: TV | D9: OPTWANBCINE | E9: Option Bouquet Cine | F9: 41382
A10: 1 | B10: OPTION INTERNET | C10: TV | D10: OPTWANBDIGTURK | E10: Option Bouquet Digiturk | F10: 41382
A11: 1 | B11: OPTION INTERNET | C11: TV | D11: OPTWANBEINSPORT | E11: Option Bouquet BeInSport | F11: 41382
A12: 1 | B12: OPTION INTERNET | C12: TV | D12: OPTWANBEXTRA | E12: Option Bouquet Extra | F12: 41382
A13: 1 | B13: OPTION INTERNET | C13: TV | D13: OPTWANBGAY | E13: Option Bouquet GAY | F13: 41382
... A87: 1 | B87: OPTION INTERNET | C87: TV | D87: OPTWANBAFRIC | E87: Option Bouquet Africain | F87: 41382

Sheet DECODEURS
A1: Art/Grp | B1: Famille | C1: Sous Famille | D1: Article | E1: Désignation | F1: Date création
A2: 1 | B2: OPTION INTERNET | C2: OPEN | D2: OPTOPENTV | E2: Option OPEN Orange TV | F2: 41382
A3: 1 | B3: OPTION INTERNET | C3: OPEN | D3: OPTOPENTVSAT | E3: Option OPEN Orange TV Satellite | F3: 41382
A4: 1 | B4: OPTI OFFRE INTERNET | C4: FORFAIT GP | D4: OPTINTREMTV | E4: Service TV ADSL | F4: 41382
A5: 1 | B5: OPTI OFFRE INTERNET | C5: FORFAIT GP | D5: OPTINTREMTVSAT | E5: Service TV Satellite | F5: 41382
A6: 1 | B6: OPTI OFFRE INTERNET | C6: FORFAIT PRO | D6: OPTINTREMTV-PRO | E6: Service TV ADSL Pro | F6: 41382
A7: 1 | B7: OPTI OFFRE INTERNET | C7: FORFAIT PRO | D7: OPTINTREMTV-PROMIG | E7: Service TV ADSL Pro | F7: 41382
A8: 1 | B8: OPTI OFFRE INTERNET | C8: FORFAIT PRO | D8: OPTINTREMTV-PROSA | E8: Service TV Satellite Pro | F8: 41382
A9: 1 | B9: OPTI OFFRE INTERNET | C9: FORFAIT PRO | D9: OPTINTREMTV-PROSAT | E9: Service TV Satellite Pro | F9: 41382

Sheet DECT
A1: Art/Grp | B1: Famille | C1: Sous Famille | D1: Article | E1: Désignation | F1: Date création
A2: 1 | B2: DECT | D2: 208193 | E2: Alcatel V620 Trio | F2: 41381
A3: 1 | B3: TEL FIXE | D3: 204488 | E3: SAGEM D80C | F3: 41381
A4: 1 | B4: DECT | D4: 46668 | E4: DORO Neobio 25 | F4: 41381
A5: 1 | B5: TEL FIXE | D5: 202119 | E5: AMARYS 1500 TELEPHONE BLEU | F5: 41381
A6: 1 | B6: DECT | D6: 208874 | E6: FAX GALEO 5875 DECT | F6: 41381
A7: 1 | B7: TEL FIXE | D7: 203400 | E7: SIEMENS GIGASET A110 DELT | F7: 41381
A8: 1 | B8: DECT | D8: 209364 | E8: Sagem D36C Duo Silver | F8: 41381
A9: 1 | B9: TEL FIXE | D9: 49319 | E9: PHILIPS PFA 421 I-JET NOIR/BLANC | F9: 41381
A10: 1 | B10: DECT | D10: 550211 | E10: SIEMENS AS285 Duo Répondeur | F10: 41381
A11: 1 | B11: TEL FIXE | D11: 48752 | E11: FIXE ALCATEL VERSATIS 570 METAL | F11: 41381
A12: 1 | B12: DECT | D12: 583820 | E12: Siemens E360 | F12: 41381
A13: 1 | B13: TEL FIXE | D13: 49122 | E13: FIXE PHILIPS KALA 300 GRIS METAL | F13: 41381
... A18: 1 | B18: DECT | D18: 584133 | E18: Siemens C475 SOLO REPONDEUR | F18: 41381
A19: 1 | B19: TEL FIXE | D19: 202119PLO | E19: AMARYS 1500 TELEPHONE BLEU | F19: 41381
A20: 1 | B20: DECT | D20: 207490 | E20: Siemens S455 sim répondeur | F20: 41381
A21: 1 | B21: TEL FIXE | D21: FAPH | E21: TELEPHONE FAXE PHILIPS MAGIC 2 | F21: 41381
A22: 1 | B22: DECT | D22: 205101 | E22: Swissvoice Avena 135 Trio | F22: 41381
A23: 1 | B23: TEL FIXE | D23: 4010 | E23: TEL FIXE GIGASET 4010 | F23: 41381
A24: 1 | B24: DECT | D24: 207520 | E24: Philips SE330 Duo | F24: 41381
A25: 1 | B25: TEL FIXE | D25: GI200 | E25: TEL FIXE GIGASET 200 | F25: 41381
A26: 1 | B26: DECT | D26: 207521 | E26: Philips SE330 | F26: 41381
A27: 1 | B27: TEL FIXE | D27: XA200 | E27: TEL FIXE XALIO 200 | F27: 41381
A28: 1 | B28: DECT | D28: 527488 | E28: Siemens S100C Duo | F28: 41381
A29: 1 | B29: TEL FIXE | D29: BI130 | E29: TEL FIXE ALCATEL BILBOA 130 | F29: 41381
A30: 1 | B30: DECT | D30: 207527 | E30: Siemens S455 Duo sim répondeur | F30: 41381
A31: 1 | B31: TEL FIXE | D31: VE560 | E31: TEL FIXE ALCATEL VERSATIS 560 | F31: 41381
A32: 1 | B32: DECT | D32: 206916 | E32: Sagem D35C Trio | F32: 41381
A33: 1 | B33: TEL FIXE | D33: GI4000 | E33: TEL FIXE SIEMENS GIGASET 4000 CLA | F33: 41381
A34: 1 | B34: DECT | D34: 205534 | E34: Sagem D80C Duo | F34: 41381
A35: 1 | B35: TEL FIXE | D35: PLO203166 | E35: GALEO 4232 TELEPHONE FAX | F35: 41381
A36: 1 | B36: DECT | D36: 212328 | E36: Siemens S790 Solo en VAD | F36: 41381
A37: 1 | B37: TEL FIXE | D37: 49296 | E37: FIXE SAGEM D70T | F37: 41381
A38: 1 | B38: DECT | D38: 215179 | E38: PHILIPS CD180 DUO | F38: 41381
A39: 1 | B39: TEL FIXE | D39: PLOVERS155 | E39: ALCATEL VERSATIS 155 | F39: 41381
A40: 1 | B40: DECT | D40: 205354 | E40: Sagem D80C Duo | F40: 41381
A41: 1 | B41: TEL FIXE | D41: PLOSIEMC200 | E41: SIEMENS C200 | F41: 41381
A42: 1 | B42: DECT | D42: 207556 | E42: Sagem D20T | F42: 41381
A43: 1 | B43: TEL FIXE | D43: 203331 | E43: SAGEM D70 T | F43: 41381
A44: 1 | B44: DECT | D44: 212330 | E44: Siemens A580 Solo en VAD | F44: 41381
A45: 1 | B45: TEL FIXE | D45: 203798 | E45: DORO MATRA 820 | F45: 41381
A46: 1 | B46: DECT | D46: 215180 | E46: PHILIPS CD180 SOLO REP | F46: 41381
A47: 1 | B47: TEL FIXE | D47: 203857 | E47: PANASONIC TCD 505 | F47: 41381
A48: 1 | B48: DECT | D48: 207573 | E48: Sagem D20T Trio | F48: 41381
A49: 1 | B49: TEL FIXE | D49: 49204 | E49: DORO MATRA 506 | F49: 41381
A50: 1 | B50: DECT | D50: 215181 | E50: PHILIPS CD180 DUO REP | F50: 41381
A51: 1 | B51: TEL FIXE | D51: 49131 | E51: PHILIPS DECT 2111 | F51: 41381
A52: 1 | B52: DECT | D52: 207574 | E52: Sagem D20V Duo | F52: 41381
A53: 1 | B53: TEL FIXE | D53: 49307 | E53: ALCATEL BILOBA 490 TELEFONE FIXE | F53: 41381
... A69: 1 | B69: TEL FIXE | D69: 49326 | E69: TEL FIXE ALCATEL TEMPORIS 32 | F69: 41381
A70: 1 | B70: DECT | D70: D70T | E70: SAGEM D70T | F70: 41381
A71: 1 | B71: TEL FIXE | D71: 49290 | E71: TEL FIXE SAGEM D10T | F71: 41381
A72: 1 | B72: DECT | D72: 205184 | E72: Sagem D60C | F72: 41381
A73: 1 | B73: TEL FIXE | D73: 49174 | E73: TEL FIXE PANASONIC KX-TCD455 | F73: 41381
A74: 1 | B74: DECT | D74: 323729 | E74: Sagem D16T solo | F74: 41381
A75: 1 | B75: DECT | D75: 323730 | E75: Sagem D16T Duo | F75: 41381
A76: 1 | B76: DECT | D76: 206519 | E76: Siemens A120 duo | F76: 41381
A77: 1 | B77: DECT | C77: DECT AVA | D77: 215257 | E77: OLIVETTI 370 R | F77: 41381
A78: 1 | B78: DECT | C78: DECT AVA | D78: 215202 | E78: SAGEMCOM D38T SOLO | F78: 41381
A79: 1 | B79: DECT | C79: DECT AVA | D79: 204544 | E79: Siemens S100C Duo | F79: 41381
A80: 1 | B80: DECT | C80: DECT AVA | D80: 215247 | E80: LOGICOM SOLY 250 SOLO | F80: 41381
A81: 1 | B81: DECT | C81: DECT AVA | D81: 215256 | E81: DORO 3000 | F81: 41381
A82: 1 | B82: DECT | C82: DECT AVA | D82: 215161 | E82: VERSATIS F200 SOLO | F82: 41381
A83: 1 | B83: DECT | C83: DECT AVA | D83: 215162 | E83: VERSATIS F200 DUO | F83: 41381
A84: 1 | B84: DECT | D84: 215165 | E84: VERSATIS F200 VOICE TRIO | F84: 41381
A85: 1 | B85: DECT | C85: DECT AVA | D85: 215178 | E85: PHILIPS CD180 SOLO | F85: 41381
A86: 1 | B86: DECT | D86: 215196 | E86: GIGASET C610 SOLO | F86: 41381
A87: 1 | B87: DECT | D87: 215197 | E87: GIGASET C610 DUO | F87: 41381
A88: 1 | B88: DECT | D88: 137057 | E88: Philips CD 240 Solo Blanc | F88: 41381
A89: 1 | B89: DECT | D89: 215234 | E89: SAGEM SIXTY ROUGE | F89: 41381
A90: 1 | B90: DECT | D90: 137126 | E90: Philips CD 240 Duo Blanc | F90: 41381
A91: 1 | B91: DECT | D91: 215290 | E91: GIGASET L410 | F91: 41381
A92: 1 | B92: DECT | D92: 207498 | E92: Siemens S450 sim | F92: 41381
A93: 1 | B93: DECT | D93: 280628 | E93: Sagem D36C Silver | F93: 41381
A94: 1 | B94: DECT | D94: 280629 | E94: Sagem D36C Duo Silver | F94: 41381
A95: 1 | B95: DECT | C95: DECT AVA | D95: 215182 | E95: PHILIPS CD280 SOLO | F95: 41381
A96: 1 | B96: DECT | D96: 280640 | E96: Sagem D36C Trio Silver | F96: 41381
A97: 1 | B97: DECT | C97: DECT AVA | D97: 213546 | E97: GIGASET E 500 | F97: 41381
A98: 1 | B98: DECT | D98: 280641 | E98: Sagem D36V Silver | F98: 41381
A99: 1 | B99: DECT | D99: 280644 | E99: Sagem D36V Trio Silver | F99: 41381
A100: 1 | B100: DECT | C100: DECT AVA | D100: 216575 | E100: TELEPHONE HD D47 | F100: 41381
A101: 1 | B101: DECT | D101: 210066 | E101: Siemens C475 NOIR DUO | F101: 41381
A102: 1 | B102: DECT | C102: DECT AVA | D102: 216830 | E102: SAGEMCOM D571 DUO | F102: 41381
A103: 1 | B103: DECT | D103: 299712 | E103: Sagem D94C | F103: 41381
A104: 1 | B104: DECT | D104: 209360 | E104: Philips CD 240 Duo Blanc | F104: 41381
A105: 1 | B105: DECT | D105: 216842 | E105: SAGEMCOM D 790 | F105: 41381
A106: 1 | B106: DECT | D106: 209361 | E106: Philips CD 240 Solo Blanc | F106: 41381
A107: 1 | B107: DECT | D107: 217540 | E107: TELEPHONE HD D680 SOLO | F107: 41381
A108: 1 | B108: DECT | D108: 209363 | E108: Sagem D36C Silver | F108: 41381
A109: 1 | B109: DECT | D109: 217765 | E109: VERSATIS F370 SOLO | F109: 41381
A110: 1 | B110: DECT | D110: 209366 | E110: Sagem D36V Silver | F110: 41381
A111: 1 | B111: DECT | C111: LivePhone | D111: 318866 | E111: LivePhone D67W SOLO | F111: 41381
A112: 1 | B112: DECT | C112: DECT AVA | D112: 217766 | E112: VERSATIS F370 DUO | F112: 41381
A113: 1 | B113: DECT | C113: DECT AVA | D113: 214293 | E113: LIVEPHONE SAMSUNG SMT- W3510 | F113: 41381
A114: 1 | B114: DECT | D114: 217774 | E114: VERSATIS F370 VOICE TRIO | F114: 41381
A115: 1 | B115: DECT | D115: 217956 | E115: TELEPHONE HD D680 DUO | F115: 41381
A116: 1 | B116: DECT | D116: 214983 | E116: SAGEMCOM SIXTY BLANC | F116: 41381
A117: 1 | B117: DECT | D117: 217957 | E117: TELEPHONE HD D47 DUO | F117: 41381
A118: 1 | B118: DECT | D118: 216826 | E118: SAGEMCOM D181 SOLO | F118: 41381
A119: 1 | B119: DECT | D119: 216828 | E119: SAGEMCOM D181 DUO | F119: 41381
...

Sheet HD OPEN
A1: Art/Grp | B1: Famille | C1: Sous Famille | D1: Article | E1: Désignation | F1: Date création
A2: 1 | B2: OPTI OFFRE INTERNET | C2: FORFAIT PRO | D2: OPTINTREMOPEN247PR | E2: Open Pro Mobile 24/7 Premium | F2: 41442
A3: 1 | B3: OPTI OFFRE INTERNET | C3: FORFAIT PRO | D3: OPTINTREMOPEN247CO | E3: Open Pro Mobile 24/7 Confort | F3: 41442
A4: 1 | B4: OPTION INTERNET | C4: OPEN | D4: OPTOPENACQHD | E4: Option OPEN ACQUISITION HAUT DEBIT | F4: 41382

Sheet HD
A1: Art/Grp | B1: Famille | C1: Sous Famille | D1: Article | E1: Désignation | F1: Date création
A2: 1 | B2: ABON INTERNET | C2: FORFAIT GP | D2: ABOINTDECOU | E2: Offre DECOUVERTE Internet | F2: 41382
A3: 1 | B3: ABON INTERNET | C3: FORFAIT GP | D3: ABOINTFIDGP | E3: Fidelisation Internet HD GP | F3: 41382
A4: 1 | B4: ABON INTERNET | C4: FORFAIT GP | D4: ABOINTFORM | E4: Offre FORMULE Internet | F4: 41382
A5: 1 | B5: ABON INTERNET | C5: FORFAIT GP | D5: ABOINTFORMPLUS | E5: Offre Formule Plus Internet | F5: 41382
A6: 1 | B6: ABON INTERNET | C6: FORFAIT GP | D6: ABOINTNET | E6: Offre NET Internet | F6: 41382
A7: 1 | B7: ABON INTERNET | C7: FORFAIT GP | D7: ABOINTNETPLUS | E7: Offre NET Plus Internet | F7: 41382
A8: 1 | B8: ABON INTERNET | C8: FORFAIT GP | D8: ABOINTPLAY1LIGNE | E8: Option LIVEBOX PLAY 1 ligne | F8: 41382
A9: 1 | B9: ABON INTERNET | C9: FORFAIT GP | D9: ABOINTPLAYAVECTEL | E9: Offre LIVEBOX PLAY Nécessite Abo Téléphonique | F9: 41382
A10: 1 | B10: ABON INTERNET | C10: FORFAIT GP | D10: ABOINTPLAYSANSTEL | E10: Offre LIVEBOX PLAY Sans Abo Téléphonique | F10: 41382
A11: 1 | B11: ABON INTERNET | C11: FORFAIT GP | D11: ABOINTSOCIALE | E11: Offre SOCIALE Internet | F11: 41382
A12: 1 | B12: ABON INTERNET | C12: FORFAIT GP | D12: ABOINTSTAR1LIGNE | E12: Option LIVEBOX STAR 1 ligne | F12: 41382
A13: 1 | B13: ABON INTERNET | C13: FORFAIT GP | D13: ABOINTSTARAVECTEL | E13: Offre LIVEBOX STAR Nécessite Abo Téléphonique | F13: 41382
... A90: 1 | B90: ABON WANADOO | C90: ADSL | D90: ABOWANSURFEVERYWBL | E90: Offre SURF EVERYWHERE Bloque | F90: 41382

Sheet HDM
A1: Art/Grp | B1: Famille | C1: Sous Famille | D1: Article | E1: Désignation | F1: Date création
A2: 1 | B2: ABONNEMENT GP | C2: VALEUR | D2: ABOORGJET10H | E2: Forfait Origami Jet 10 heures | F2: 41382
A3: 1 | B3: ABONNEMENT GP | C3: VALEUR | D3: ABOORGJET15H | E3: Forfait Origami Jet 15 heures | F3: 41382
A4: 1 | B4: ABONNEMENT GP | C4: VALEUR | D4: ABOORGJET20H | E4: Forfait Origami Jet 20 heures | F4: 41382
A5: 1 | B5: ABONNEMENT GP | C5: VALEUR | D5: ABOORGJET247PR | E5: FORFAIT ORIGAMI JET PREMIER | F5: 41382
A6: 1 | B6: ABONNEMENT GP | C6: VALEUR | D6: ABOORGSLSTYLDEEZ | E6: SERIE LIMITEE STYLE DEEZER | F6: 41407
A7: 1 | B7: ABONNEMENT GP | C7: VALEUR | D7: ABOORGJET3H | E7: Forfait Origami Jet illimite de 8h a 18h | F7: 41382
A8: 1 | B8: ABONNEMENT GP | C8: VALEUR | D8: ABOORGJET30H | E8: Forfait Origami Jet 30 heures | F8: 41382
A9: 1 | B9: ABONNEMENT GP | C9: VALEUR | D9: ABOORGJET4H | E9: Forfait Origami Jet illimite de 8h a 20h | F9: 41382
A10: 1 | B10: ABONNEMENT GP | C10: VALEUR | D10: ABOORGJET8H | E10: FORFAIT ORIGAMI JET 8H 18H | F10: 41382
A11: 1 | B11: ABONNEMENT GP | C11: VALEUR | D11: ABOORGJET8HSIMONLY | E11: FORFAIT ORIGAMI JET 8H 18H SIM ONLY | F11: 41382
A12: 1 | B12: ABONNEMENT GP | C12: VALEUR | D12: ABOORGJETFR | E12: FORFAIT ORIGAMI JET France | F12: 41382
A13: 1 | B13: ABONNEMENT GP | C13: VALEUR | D13: ABOORGJETFSIMONLY | E13: FORFAIT ORIGAMI JET FRANCE SIM ONLY | F13: 41382
... A78: 1 | B78: ABONNEMENT GP | C78: VALEUR | D78: ABOORGSTYL2H | E78: Forfait Origami Style 2 heures | F78: 41382
A79: 1 | B79: ABONNEMENT GP | D79: SHOPJET247PR | E79: FORFAIT ORIGAMI JET PREMIER | F79: 41382
A80: 1 | B80: ABONNEMENT GP | C80: VALEUR | D80: ABOORGSTYL4H | E80: Forfait Origami Style 4 heures | F80: 41382
A81: 1 | B81: ABONNEMENT GP | D81: SHOPJETFR | E81: FORFAIT ORIGAMI JET France | F81: 41382
A82: 1 | B82: ABONNEMENT GP | C82: VALEUR | D82: ABOORGSTYLDEEZ2H | E82: FORFAIT ORIGAMI STYLE DEEZER 2H | F82: 41382
A83: 1 | B83: ABONNEMENT GP | D83: SHOPJETINT | E83: FORFAIT ORIGAMI JET INTERNATIONNAL | F83: 41382
A84: 1 | B84: ABONNEMENT GP | C84: VALEUR | D84: ABOORGSTYLDEEZ2SIM | E84: FORFAIT ORIGAMI STYLE DEEZER 2H SIM ONLY | F84: 41382
A85: 1 | B85: ABONNEMENT GP | D85: SHOPZEN3H | E85: FORFAIT ORIGAMI ZEN 3 H | F85: 41382
A86: 1 | B86: ABONNEMENT GP | C86: VALEUR | D86: ABOORGSTYLDEEZ4H | E86: FORFAIT ORIGAMI STYLE DEEZER 4H | F86: 41382
A87: 1 | B87: ABONNEMENT GP | D87: SHOPSTAR2H | E87: FORFAIT ORIGAMI STAR 2H | F87: 41382
A88: 1 | B88: ABONNEMENT GP | C88: VALEUR | D88: ABOORGSTYLDEEZ4SIM | E88: FORFAIT ORIGAMI STYLE DEEZER 4H SIM ONLY | F88: 41382
A89: 1 | B89: ABONNEMENT GP | D89: SHOPSTAR2471GO | E89: FORFAIT ORIGAMI STAR 24/7 1 GO | F89: 41382
A90: 1 | B90: ABONNEMENT GP | C90: VALEUR | D90: ABOORGTEM01H30 | E90: Forfait ten by Orange 1h30 | F90: 41382
A91: 1 | B91: ABONNEMENT GP | D91: SHOPSTAR247 | E91: FORFAIT ORIGAMI STAR 500 Mo | F91: 41382
A92: 1 | B92: ABONNEMENT GP | C92: VALEUR | D92: ABOORGTEM01H30SL | E92: Forfait Série limitée ten by Orange 1h30 | F92: 41382
A93: 1 | B93: ABONNEMENT GP | C93: VALEUR | D93: ABOORGTEM02H30 | E93: Forfait ten by Orange 2h30 | F93: 41382
A94: 1 | B94: ABONNEMENT GP | C94: VALEUR | D94: ABOORGTEM03H30 | E94: Forfait ten by Orange 3h30 | F94: 41382
A95: 1 | B95: ABONNEMENT GP | C95: VALEUR | D95: ABOORGTEM02H30SL | E95: Forfait série limitée ten by Orange 2h30 | F95: 41382
A96: 1 | B96: ABONNEMENT GP | C96: VALEUR | D96: ABOORGTEM03H30SL | E96: Forfait Série limitée ten by Orange 3h30 | F96: 41382
A97: 1 | B97: ABONNEMENT GP | C97: VALEUR | D97: ABOORGZEN5H | E97: Forfait Origami Zen 5 heures | F97: 41382
A98: 1 | B98: ABONNEMENT GP | C98: VALEUR | D98: ABOORGZEN5HSIMONLY | E98: Forfait Origami Zen 5 heures SIM ONLY | F98: 41382
A99: 1 | B99: ABONNEMENT GP | C99: VALEUR | D99: ABOORGZENPLUS2H | E99: Forfait Origami Zen pour Iphone 2H et Zen PLUS 2 heures | F99: 41382
A100: 1 | B100: ABONNEMENT GP | C100: VALEUR | D100: ABOORGZENPLUS1H | E100: Forfait Origami Zen pour Iphone 1H et Zen PLUS 1 heure | F100: 41382
A101: 1 | B101: ABONNEMENT GP | C101: VALEUR | D101: ABOORGZENPLUS3H | E101: Forfait Origami Zen pour Iphone 3 H et Zen PLUS 3 heures | F101: 41382
A102: 1 | B102: ABONNEMENT GP | C102: CB | D102: ABOORGSMART1H30 | E102: Forfait SMART 1H30 | F102: 41382
A103: 1 | B103: ABONNEMENT GP | C103: VALEUR | D103: ABOORGZENPLUS4H | E103: Forfait Origami Zen pour Iphone 4H et Zen PLUS 4 heures | F103: 41382
... A243: 1 | B243: ABONNEMENT GP | C243: VALEUR | D243: ABOORGINT3H | E243: Forfait Intense 3 heures | F243: 41382
A244: 1 | B244: ABONNEMENT GP | D244: SHOPLAY2GO | E244: FORFAIT PLAY 2 GO | F244: 41407
A245: 1 | B245: ABONNEMENT GP | C245: VALEUR | D245: ABOORGINT6H | E245: Forfait Intense 6 heures | F245: 41382
A246: 1 | B246: ABONNEMENT GP | D246: SHOPLAY2GO4G | E246: FORFAIT PLAY 2GO 4G | F246: 41407
A247: 1 | B247: ABONNEMENT GP | C247: VALEUR | D247: ABOORGINT8H | E247: Forfait Intense 8 heures | F247: 41382
A248: 1 | B248: ABONNEMENT GP | D248: SHOPLAY4GO | E248: FORFAIT PLAY 4GO | F248: 41407
A249: 1 | B249: ABONNEMENT GP | C249: VALEUR | D249: ABOORGINT4H | E249: Forfait Intense 4 heures | F249: 41382
A250: 1 | B250: ABONNEMENT GP | D250: SHOPLAY4GO4G | E250: FORFAIT PLAY 4GO 4G | F250: 41407
A251: 1 | B251: ABONNEMENT GP | C251: VALEUR | D251: ABOORGINTNOEL | E251: Forfait Série Limitée Intense Noël | F251: 41382
A252: 1 | B252: ABONNEMENT GP | D252: SHOPZEN500MO | E252: FORFAIT ZEN 500 MO | F252: 41407
A253: 1 | B253: ABONNEMENT GP | C253: VALEUR | D253: ABOORGIPHONE12H | E253: Forfait iPhone 12 heures | F253: 41382
A254: 1 | B254: ABONNEMENT GP | C254: VALEUR | D254: ABOORGIPHONE2H | E254: Forfait iPhone 2 heures | F254: 41382
A255: 1 | B255: ABONNEMENT GP | C255: VALEUR | D255: ABOORGIPHONE5H | E255: Forfait iPhone 5 heures | F255: 41382
A256: 1 | B256: ABONNEMENT GP | C256: VALEUR | D256: ABOORGIPHONE8H | E256: Forfait iPhone 8 heures | F256: 41382
A257: 1 | B257: ABONNEMENT GP | C257: VALEUR | D257: ABOORGIPHONE3H | E257: Forfait iPhone 3 heures | F257: 41382

Sheet IEWABO
A1: Art/Grp | B1: Famille | C1: Sous Famille | D1: Article | E1: Désignation | F1: Date création
A2: 1 | B2: ABONNEMENT GP | D2: SHOPLETSGO10GO | E2: FORFAIT LET'S GO 10GO 4G | F2: 41407
A3: 1 | B3: ABONNEMENT GP | C3: UMTS | D3: ABOLET3G1GO | E3: FORFAIT LET'S GO 1GO 3G | F3: 41382
A4: 1 | B4: ABONNEMENT GP | C4: UMTS | D4: ABOLET4G10GO | E4: FORFAIT LET'S GO 10GO 4G | F4: 41382
A5: 1 | B5: ABONNEMENT GP | C5: UMTS | D5: ABOLET4G10GOSIM | E5: FORFAIT LET'S GO 10GO 4G SIM ONLY | F5: 41382
A6: 1 | B6: ABONNEMENT GP | C6: UMTS | D6: ABOLET4G5GO | E6: FORFAIT LET'S GO 5GO 4G | F6: 41382
A7: 1 | B7: ABONNEMENT GP | C7: UMTS | D7: ABOLETS100MOAJ | E7: FORFAIT LET'S GO 100MO AJUSTABLE | F7: 41382
A8: 1 | B8: ABONNEMENT GP | C8: UMTS | D8: ABOLETS100MOAJSO | E8: FORFAIT LET'S GO 100MO AJUSTABLE SIM ONLY | F8: 41382
A9: 1 | B9: ABONNEMENT GP | C9: UMTS | D9: ABOORG100MOTAB | E9: FORFAIT LETS GO 100MO TABLETTE | F9: 41382
A10: 1 | B10: ABONNEMENT GP | C10: UMTS | D10: ABOORG1GOTAB | E10: FORFAIT LETS GO 1GO TABLETTE | F10: 41382
A11: 1 | B11: ABONNEMENT GP | C11: UMTS | D11: ABOORG1GOTABSIM | E11: FORFAIT LETS GO 1GO TABLETTE SIM ONLY | F11: 41382
A12: 1 | B12: ABONNEMENT GP | C12: UMTS | D12: ABOORG3G10HINT | E12: FORFAIT ORANGE INTENSE 10H | F12: 41382
A13: 1 | B13: ABONNEMENT GP | C13: UMTS | D13: ABOORG3G20HINT | E13: FORFAIT ORANGE INTENSE 20H | F13: 41382
A14: 1 | B14: ABONNEMENT GP | C14: UMTS | D14: ABOORG3G3HINT | E14: FORFAIT ORANGE INTENSE 3H | F14: 41382
... A66: 1 | B66: ABONNEMENT GP | C66: UMTS | D66: ABOORGSLBAVTTAB | E66: FORFAIT SL BUSINESS TABLETTE AVANTAGE WINDOWS 8 | F66: 41382
A67: 1 | B67: ABONNEMENT GP | D67: SHOPLETSGO1GO | E67: LETS GO 1GO SHOP TO WEB | F67: 41382
A68: 1 | B68: ABONNEMENT GP | D68: SHOPLETSGO3GO | E68: LETS GO 3GO SHOP TO WEB | F68: 41382
A69: 1 | B69: ABONNEMENT GP | D69: SHOPLETSGO5GO | E69: LETS GO 5GO SHOP TO WEB | F69: 41382
A70: 1 | B70: ABONNEMENT GP | C70: VALEUR | D70: ABOORGESORGMODLGO | E70: Edition Spéciale Origami Modem Let's go | F70: 41382
A71: 1 | B71: ABONNEMENT GP | C71: VALEUR | D71: ABOORGSL3G | E71: Série Limitée 3G | F71: 41382
A72: 1 | B72: ABONNEMENT GP | C72: VALEUR | D72: ABOORGSLLETSGO | E72: SERIE LIMITEE ORIGAMI LETS GO | F72: 41382
A73: 1 | B73: ABONNEMENT GP | C73: VALEUR | D73: ABOORGSLORILETSGO | E73: LA SERIE LIMITEE ORIGAMI MODEM LET'S GO | F73: 41382
A74: 1 | B74: ABONNEMENT GP | D74: SHOPLETSGO100MO | E74: FORFAIT LET'S GO 100MO AJUSTABLE | F74: 41407

Sheet IEWSANSABO
A1: Art/Grp | B1: Famille | C1: Sous Famille | D1: Article | E1: Désignation | F1: Date création
A2: 1 | B2: ABONNEMENT GP | C2: UMTS | D2: ABOLET3G1GOSIMSE | E2: FORFAIT LET'S GO 1GO 3G SIM SS ENGT | F2: 41382
A3: 1 | B3: ABONNEMENT GP | C3: UMTS | D3: ABOLET4G10GOSE | E3: FORFAIT LET'S GO 10GO 4G SS ENGT | F3: 41382
A4: 1 | B4: ABONNEMENT GP | C4: UMTS | D4: ABOLET4G10GOSIMSE | E4: FORFAIT LET'S GO 10GO 4G SIM SS ENGT | F4: 41382
A5: 1 | B5: ABONNEMENT GP | C5: UMTS | D5: ABOLET4G5GOSIMSE | E5: FORFAIT LET'S GO 5GO 4G SIM SS ENGT | F5: 41382
A6: 1 | B6: ABONNEMENT GP | C6: UMTS | D6: ABOLETS100MOAJSOSE | E6: FORFAIT LET'S GO 100MO AJUSTABLE SIM ONLY SS ENGT | F6: 41382
A7: 1 | B7: ABONNEMENT GP | C7: UMTS | D7: ABOORG100MOTABSE | E7: FORFAIT LETS GO 100MO TABLETTE SS ENGT | F7: 41382
A8: 1 | B8: ABONNEMENT GP | C8: UMTS | D8: ABOORG1GOTABSE | E8: FORFAIT LETS GO 1GO TABLETTE SS ENGT | F8: 41382
A9: 1 | B9: ABONNEMENT GP | C9: UMTS | D9: ABOORG3GINITSEIPAD | E9: FB LETS GO pour ipad 200 MO SE | F9: 41382
A10: 1 | B10: ABONNEMENT GP | C10: UMTS | D10: ABOORG3GINTSEIPAD | E10: FB LETS GO 2GO pour ipad SE | F10: 41382
A11: 1 | B11: ABONNEMENT GP | C11: UMTS | D11: ABOORG3GMULTSE | E11: FB LETS GO 1 Go MULTIMEDIA SE | F11: 41382
A12: 1 | B12: ABONNEMENT GP | C12: UMTS | D12: ABOORG3GQUOTSE | E12: FORFAIT LETS GO 1GO SS ENGT | F12: 41382
A13: 1 | B13: ABONNEMENT GP | C13: UMTS | D13: ABOORG3GQUOTSEIPAD | E13: FB LETS GO 1GO pour ipad SE | F13: 41382
... A20: 1 | B20: ABONNEMENT GP | C20: UMTS | D20: ABOORGPASS3G1J | E20: Pass modem LETS GO 1 Jour | F20: 41382
A21: 1 | B21: ABONNEMENT GP | D21: SHOPLETSGO1GOSE | E21: LETS GO 1 GO SS ENGAGEMENT SHOP TO WEB | F21: 41382
A22: 1 | B22: ABONNEMENT GP | D22: SHOPLETSGO3GOSE | E22: LETS GO 3 GO SS ENGAGEMENT SHOP TO WEB | F22: 41382
A23: 1 | B23: ABONNEMENT GP | D23: SHOPLETSGO5GOSE | E23: LETS GO 5 GO SS ENGAGEMENT SHOP TO WEB | F23: 41382
A24: 1 | B24: ABONNEMENT GP | C24: UMTS | D24: ABOORG3GSSENG | E24: Forfait Cle 3 G+ sans engagement | F24: 41382
A25: 1 | B25: ABONNEMENT GP | D25: SHOPLETSGO10GOSE | E25: FORFAIT LET'S GO 10GO 4G SS ENGT | F25: 41407
A26: 1 | B26: ABONNEMENT GP | D26: SHOPLETSGOEMAILSE | E26: LETS GO EMAIL SS ENGAGEMENT SHOP TO WEB | F26: 41407

Sheet KIT ACCES
A1: Art/Grp | B1: Famille | C1: Sous Famille | D1: Article | E1: Désignation | F1: Date création
A2: 1 | B2: PREPREM | C2: POCHETTE MOBICARTE | D2: PREPORGWP | E2: FORMULE POCHETTE MOBI | F2: 41382

Sheet MARGE @
A1: Art/Grp | B1: Famille | C1: Sous Famille | D1: Article | E1: Désignation | F1: Date création
A2: 1 | B2: DECT | D2: 209360 | E2: Philips CD 240 Duo Blanc | F2: 41382
A3: 1 | B3: INTERNET | C3: ADSL | D3: 961531 | E3: LIVEPLUG HD+ 200MBITS/B | F3: 41382
A4: 1 | B4: OPTION INTERNET | C4: OPEN | D4: OPTOPENBPOLONAIS | E4: Option Bouquet Polonais | F4: 41382
A5: 1 | B5: DECT | D5: 209361 | E5: Philips CD 240 Solo Blanc | F5: 41382
A6: 1 | B6: FAX | D6: 999999 | E6: ESSAI àéù@â?¬èet | F6: 41382
A7: 1 | B7: OPTION INTERNET | C7: OPEN | D7: OPTOPENBSPORT | E7: Option Bouquet Sport | F7: 41382
A8: 1 | B8: DECT | D8: 209363 | E8: Sagem D36C Silver | F8: 41382
A9: 1 | B9: ABON FIXE FT | C9: FIXE FT | D9: ABOFIXFT100ILL24 | E9: 100% Illimité | F9: 41382
A10: 1 | B10: OPTION INTERNET | C10: OPEN | D10: OPTOPENBTHEMA | E10: Option Bouquet Standard | F10: 41382
A11: 1 | B11: ABONNEMENT GP | C11: CB | D11: ABOPENMINIFIB | E11: FORFAIT OPEN MINI FIBRE | F11: 41442
A12: 1 | B12: DECT | D12: 209364 | E12: Sagem D36C Duo Silver | F12: 41382
A13: 1 | B13: ABON FIXE FT | C13: FIXE FT | D13: ABOFIXFT100ILLSWE | E13: 100% Illimité Soir et WeekEnd | F13: 41382
A14: 1 | B14: OPTION INTERNET | C14: OPEN | D14: OPTOPENBTURC | E14: Option Bouquet Turc | F14: 41382
A15: 1 | B15: ABONNEMENT GP | C15: CB | D15: ABOPENMINIFIBSO | E15: FORFAIT OPEN MINI FIBRE SIM ONLY | F15: 41442
A16: 1 | B16: DECT | D16: 209365 | E16: Sagem D36C Trio Silver | F16: 41382
A17: 1 | B17: ABON FIXE FT | C17: FIXE FT | D17: ABOFIXFTILL120S24 | E17: Atout Illimité +120 24h/24 | F17: 41382
A18: 1 | B18: OPTION INTERNET | C18: OPEN | D18: OPTOPENBUNJEUN | E18: Option Bundle Jeunesse | F18: 41382
A19: 1 | B19: DECT | D19: 209366 | E19: Sagem D36V Silver | F19: 41382
A20: 1 | B20: ABON FIXE FT | C20: FIXE FT | D20: ABOFIXFTILL120SWE | E20: Atout Illimité +120 Soir et WE | F20: 41382
A21: 1 | B21: OPTION INTERNET | C21: OPEN | D21: OPTOPENCONTASS | E21: Option Contrat Assistance Plus | F21: 41382
A22: 1 | B22: DECT | D22: 209367 | E22: Sagem D36V Trio Silver | F22: 41382
A23: 1 | B23: ABON FIXE FT | C23: FIXE FT | D23: ABOFIXFTILL240S24 | E23: Atout Illimité +240 24h/24 | F23: 41382
A24: 1 | B24: OPTION INTERNET | C24: OPEN | D24: OPTOPENCONTASSPRO | E24: Assistance PRO Internet | F24: 41382
A25: 1 | B25: DECT | D25: 209409 | E25: Alcatel V1920 Noir | F25: 41382
A26: 1 | B26: ABON FIXE FT | C26: FIXE FT | D26: ABOFIXFTILL24S24 | E26: Atout illimité 24h sur 24 | F26: 41382
A27: 1 | B27: OPTION INTERNET | C27: OPEN | D27: OPTOPENDEEZER | E27: Option Orange DEEZER Premium Plus | F27: 41382
A28: 1 | B28: INTERNET | C28: ADSL | D28: 209449 | E28: Cadre Photo WIFI AF5080W | F28: 41382
A29: 1 | B29: ABON FIXE FT | C29: FIXE FT | D29: ABOFIXFTILLSWE | E29: Atout Illimité Soir et WeekEnd | F29: 41382
A30: 1 | B30: OPTION INTERNET | C30: OPEN | D30: OPTOPENDEEZERMUS | E30: Option Orange DEEZER Premium | F30: 41382
A31: 1 | B31: DECT | D31: 209470 | E31: LivePhone Sagem TU73 | F31: 41382
A32: 1 | B32: ABON INTERNET | C32: FORFAIT GP | D32: ABOINTDECOU | E32: Offre DECOUVERTE Internet | F32: 41382
A33: 1 | B33: OPTION INTERNET | C33: OPEN | D33: OPTOPENDIVERT | E33: Option Pack Divertissement | F33: 41382
A34: 1 | B34: DECT | D34: 209471 | E34: LivePhone Sagem D66W | F34: 41382
A35: 1 | B35: ABON INTERNET | C35: FORFAIT GP | D35: ABOINTFIB | E35: Offre La Fibre | F35: 41382
A36: 1 | B36: OPTION INTERNET | C36: OPEN | D36: OPTOPENFORIEW | E36: Option Let's Go 100Mo | F36: 41382
A37: 1 | B37: FAX | C37: CONSOMMABLES | D37: 209500 | E37: Cartouche Linéa Couleur IN703 | F37: 41382
A38: 1 | B38: ABON INTERNET | C38: FORFAIT GP | D38: ABOINTFIDGP | E38: Fidelisation Internet HD GP | F38: 41382
A39: 1 | B39: OPTION INTERNET | C39: OPEN | D39: OPTOPENGIGAMAIL | E39: Option Gigamail | F39: 41382
A40: 1 | B40: FAX | C40: CONSOMMABLES | D40: 209501 | E40: Cartouche Linéa Photo IN705 | F40: 41382
A41: 1 | B41: ABON INTERNET | C41: FORFAIT PRO | D41: ABOINTFIDPRO | E41: Fidelisation Internet HD PRO | F41: 41382
A42: 1 | B42: OPTION INTERNET | C42: OPEN | D42: OPTOPENGIGAMAILILL | E42: Option GigaMail illimite | F42: 41382
A43: 1 | B43: INTERNET | C43: ADSL | D43: 209761 | E43: Liveplug HD 200 MBIT/S | F43: 41382
A44: 1 | B44: ABON INTERNET | C44: FORFAIT GP | D44: ABOINTFORM | E44: Offre FORMULE Internet | F44: 41382
A45: 1 | B45: OPTION INTERNET | C45: OPEN | D45: OPTOPENGIROTV | E45: Option Girondin TV à la Demande | F45: 41382
A46: 1 | B46: DECT | D46: 210018 | E46: Siemens C470 | F46: 41382
A47: 1 | B47: ABON INTERNET | C47: FORFAIT GP | D47: ABOINTFORMPLUS | E47: Offre Formule Plus Internet | F47: 41382
A48: 1 | B48: OPTION INTERNET | C48: OPEN | D48: OPTOPENIPFIXE | E48: Option IP Fixe | F48: 41382
A49: 1 | B49: DECT | D49: 210066 | E49: Siemens C475 NOIR DUO | F49: 41382
A50: 1 | B50: INTERNET | C50: FORFAIT GP | D50: ABOINTGP | E50: Offres Internet GP | F50: 41382
A51: 1 | B51: OPTION INTERNET | C51: OPEN | D51: OPTOPENJEUX | E51: Option Jeux | F51: 41382
A52: 1 | B52: INTERNET | C52: ADSL | D52: 210109 | E52: LIVEPLUG 85 MBITS | F52: 41382
A53: 1 | B53: ABON INTERNET | C53: FORFAIT GP | D53: ABOINTGPOP | E53: Souscription d'option pour client deja abonne | F53: 41382
A54: 1 | B54: OPTION INTERNET | C54: OPEN | D54: OPTOPENJEUXVID | E54: Option Jeux Video | F54: 41382
A55: 1 | B55: INTERNET | C55: INTERNET AVA | D55: 210170 | E55: DECODEUR TV SHD 85 et | F55: 41382
A56: 1 | B56: ABON INTERNET | C56: FORFAIT GP | D56: ABOINTMIGDECOU | E56: MIG DECOUVERTE Internet | F56: 41382
A57: 1 | B57: OPTION INTERNET | C57: OPEN | D57: OPTOPENJEUXVIDPRE | E57: Option Jeux Video Premium | F57: 41382
A58: 1 | B58: INTERNET | C58: ADSL | D58: 210320 | E58: Adaptateur WIFI SAGEM VISTA | F58: 41382
A59: 1 | B59: ABON INTERNET | C59: FORFAIT GP | D59: ABOINTMIGGP | E59: Migration vers Internet HD GP | F59: 41382
A60: 1 | B60: OPTION LIVEBOX | C60: OPEN | D60: OPTOPENLOCBOX | E60: Location (PDV) avec LiveBox sans Décodeur TV | F60: 41382
A61: 1 | B61: DECT | D61: 210333 | E61: Siemens S680 Silver | F61: 41382
A62: 1 | B62: ABON INTERNET | C62: FORFAIT GP | D62: ABOINTMIGPLAY1LIG | E62: MIG Option LIVEBOX PLAY 1 ligne | F62: 41382
A63: 1 | B63: OPTION INTERNET | C63: OPEN | D63: OPTOPENMESSSANTE | E63: Option Messagerie Santé | F63: 41382
A64: 1 | B64: DECT | D64: 210334 | E64: Siemens S685 Silver | F64: 41382
A65: 1 | B65: ABON INTERNET | C65: FORFAIT GP | D65: ABOINTMIGPLAYFIBRE | E65: MIG LIVEBOX PLAY - FIBRE | F65: 41382
A66: 1 | B66: OPTION INTERNET | C66: OPEN | D66: OPTOPENMIGHD | E66: Option OPEN MIGRATION HAUT DEBIT | F66: 41382
A67: 1 | B67: DECT | D67: 210335 | E67: Siemens S685 Silver DUO Répondeur | F67: 41382
A68: 1 | B68: ABON INTERNET | C68: FORFAIT GP | D68: ABOINTMIGPLAYSTL | E68: MIG LIVEBOX PLAY Sans Abo Téléphonique | F68: 41382
A69: 1 | B69: OPTION INTERNET | C69: OPEN | D69: OPTOPENMULTI | E69: Option Multi Ecran TV | F69: 41382
A70: 1 | B70: DECT | D70: 210533 | E70: Philips SE350 | F70: 41382
A71: 1 | B71: ABON INTERNET | C71: FORFAIT GP | D71: ABOINTMIGPLAYTEL | E71: MIG LIVEBOX PLAY Nécessite Abo Téléphonique | F71: 41382
A72: 1 | B72: OPTION INTERNET | C72: OPEN | D72: OPTOPENMUSCOL | E72: Option Musique Collection | F72: 41382
A73: 1 | B73: DECT | D73: 210550 | E73: Philips SE350 DUO | F73: 41382
A74: 1 | B74: ABON INTERNET | C74: FORFAIT PRO | D74: ABOINTMIGPRO | E74: Migration vers Internet HD PRO | F74: 41382
A75: 1 | B75: OPTION INTERNET | C75: OPEN | D75: OPTOPENMUSMIX | E75: Option Musique Mix | F75: 41382
A76: 1 | B76: DECT | D76: 210575 | E76: GEEMARC BB510 Gris | F76: 41382
A77: 1 | B77: ABON INTERNET | C77: FORFAIT PRO | D77: ABOINTMIGPROEVERY | E77: MIG Internet PRO Everywhere | F77: 41382
A78: 1 | B78: OPTION INTERNET | C78: OPEN | D78: OPTOPENNOM | E78: Option Présentation du nom | F78: 41382
A79: 1 | B79: INTERNET | C79: LIVEBOX | D79: 210637 | E79: Livebox Mini GD | F79: 41382
A80: 1 | B80: ABON INTERNET | C80: FORFAIT PRO | D80: ABOINTMIGPRONET | E80: MIG Net PRO | F80: 41382
A81: 1 | B81: OPTION INTERNET | C81: OPEN | D81: OPTOPENOCINEMASERI | E81: Option OPEN Orange Cinema Series | F81: 41382
A82: 1 | B82: FAX | C82: FAX | D82: 210651 | E82: Fax Galéo 5575 | F82: 41382
A83: 1 | B83: ABON INTERNET | C83: FORFAIT PRO | D83: ABOINTMIGPROOPTI | E83: MIG Optimal PRO | F83: 41382
A84: 1 | B84: OPTION INTERNET | C84: OPEN | D84: OPTOPENOLTV | E84: Option OL TV à la Demande | F84: 41382
A85: 1 | B85: INTERNET | C85: ADSL | D85: 210705 | E85: PC Medion Akoya E1210 | F85: 41382
A86: 1 | B86: ABON INTERNET | C86: FORFAIT PRO | D86: ABOINTMIGPROOPTIEW | E86: MIG Optimal PRO Everywhere | F86: 41382
A87: 1 | B87: OPTION INTERNET | C87: OPEN | D87: OPTOPENOMTV | E87: Option OM TV à la Demande | F87: 41382
A88: 1 | B88: INTERNET | C88: LIVEBOX | D88: 210772 | E88: LIVEBOX Pro V2 VD | F88: 41382
A89: 1 | B89: ABON INTERNET | C89: FORFAIT PRO | D89: ABOINTMIGPROPLC | E89: MIG Offre Internet PRO POUR ligne fixe classique | F89: 41382
A90: 1 | B90: OPTION INTERNET | C90: OPEN | D90: OPTOPENOSPORT | E90: Option OPEN Orange SPORT | F90: 41382
A91: 1 | B91: INTERNET | C91: ADSL | D91: 210817 | E91: LIVERADIO VINTAGE | F91: 41382
A92: 1 | B92: ABON INTERNET | C92: FORFAIT PRO | D92: ABOINTMIGPROSansTE | E92: MIG Internet PRO Solo | F92: 41382
A93: 1 | B93: OPTION INTERNET | C93: OPEN | D93: OPTOPENPACKFIBRE | E93: Pack options Fibre | F93: 41382
A94: 1 | B94: INTERNET | C94: ADSL | D94: 211372 | E94: Modem ADSL SAGEM | F94: 41382
A95: 1 | B95: ABON INTERNET | C95: FORFAIT PRO | D95: ABOINTMIGPROSLC | E95: MIG Offre Internet PRO SANS ligne fixe classique | F95: 41382
A96: 1 | B96: OPTION INTERNET | C96: OPEN | D96: OPTOPENPACKSERV | E96: Options Pack Service Tranquilité | F96: 41382
A97: 1 | B97: INTERNET | C97: ADSL | D97: 211521 | E97: PC Medion Akoya E1210 160 GO | F97: 41382
A98: 1 | B98: ABON INTERNET | C98: FORFAIT PRO | D98: ABOINTMIGPROTEL | E98: MIG Internet et Téléphone PRO | F98: 41382
A99: 1 | B99: OPTION INTERNET | C99: OPEN | D99: OPTOPENPACKSPORT | E99: Option Pack Sport | F99: 41382
A100: 1 | B100: INTERNET | C100: ADSL | D100: 211549 | E100: PC SAMSUNG NC10 | F100: 41382
...

Sheet MEF @
A1: Art/Grp | B1: Famille | C1: Sous Famille | D1: Article | E1: Désignation | F1: Date création
A2: 1 | B2: ABON INTERNET | C2: FORFAIT GP | D2: ABOINTMIGGP | E2: Migration vers Internet HD GP | F2: 41382

Sheet MEF
A1: Art/Grp | B1: Famille | C1: Sous Famille | D1: Article | E1: Désignation | F1: Date création
A2: 1 | B2: OPTION GP | D2: MEFAA2 | E2: Changement de forfait A vers A | F2: 41442
A3: 1 | B3: OPTION GP | D3: OPTMEFAA2 | E3: Changement de forfait A vers A | F3: 41442
A4: 1 | B4: OPTION MEF | D4: MEFAA | E4: Changement de forfait A vers A | F4: 41382
A5: 1 | B5: OPTION MEF | D5: MEFAB | E5: Changement de forfait A vers B | F5: 41382
A6: 1 | B6: OPTION MEF | D6: MEFAC | E6: Changement de forfait A vers C | F6: 41382
A7: 1 | B7: OPTION MEF | D7: MEFACPRIME | E7: Changement de forfait A vers C' | F7: 41382
A8: 1 | B8: OPTION MEF | D8: MEFAD | E8: Changement de forfait A vers D | F8: 41382
A9: 1 | B9: OPTION MEF | D9: MEFAE | E9: Changement de forfait A vers E | F9: 41382
A10: 1 | B10: OPTION MEF | D10: MEFAF | E10: Changement de forfait A vers F | F10: 41382
A11: 1 | B11: ABONNEMENT GP | C11: MEF | D11: MEFSESE | E11: MEF SE VERS SE | F11: 41442
A12: 1 | B12: OPTION MEF | D12: MEFAG | E12: Changement de forfait A vers G | F12: 41382
A13: 1 | B13: OPTION MEF | D13: MEFBB | E13: Changement de forfait B vers B | F13: 41382
A14: 1 | B14: OPTION MEF | D14: MEFBC | E14: Changement de forfait B vers C | F14: 41382
A15: 1 | B15: OPTION MEF | D15: MEFBCPRIME | E15: Changement de forfait B vers C' | F15: 41382
A16: 1 | B16: OPTION MEF | D16: MEFBD | E16: Changement de forfait B vers D | F16: 41382
A17: 1 | B17: OPTION MEF | D17: MEFBE | E17: Changement de forfait B vers E | F17: 41382
A18: 1 | B18: OPTION MEF | D18: MEFBF | E18: Changement de forfait B vers F | F18: 41382
A19: 1 | B19: OPTION MEF | D19: MEFBG | E19: Changement de forfait B vers G | F19: 41382
A20: 1 | B20: OPTION MEF | D20: MEFCC | E20: Changement de forfait C vers C | F20: 41382
A21: 1 | B21: ABONNEMENT GP | C21: MEF | D21: MEFHDMHDM | E21: MEF HDM VERS HDM | F21: 41442
A22: 1 | B22: OPTION MEF | D22: MEFCCPRIME | E22: Changement de forfait C vers C' | F22: 41382
A23: 1 | B23: ABONNEMENT GP | C23: MEF | D23: MEFEDMHDM | E23: MEF EDM VERS HDM | F23: 41442
A24: 1 | B24: OPTION MEF | D24: MEFCD | E24: Changement de forfait C vers D | F24: 41382
A25: 1 | B25: ABONNEMENT GP | C25: MEF | D25: MEFEDMEDM | E25: MEF EDM VERS EDM | F25: 41442
A26: 1 | B26: OPTION MEF | D26: MEFCE | E26: Changement de forfait C vers E | F26: 41382
A27: 1 | B27: ABONNEMENT GP | C27: MEF | D27: DEF | E27: DEF | F27: 41442
A28: 1 | B28: OPTION MEF | D28: MEFCF | E28: Changement de forfait C vers F | F28: 41382
A29: 1 | B29: OPTION MEF | D29: MEFCG | E29: Changement de forfait C vers G | F29: 41382
A30: 1 | B30: OPTION MEF | D30: MEFCPRIMECPRIME | E30: Changement de forfait C' vers C' | F30: 41382
A31: 1 | B31: OPTION MEF | D31: MEFCPRIMED | E31: Changement de forfait C' vers D | F31: 41382
A32: 1 | B32: OPTION MEF | D32: MEFCPRIMEE | E32: Changement de forfait C' vers E | F32: 41382
A33: 1 | B33: OPTION MEF | D33: MEFCPRIMEF | E33: Changement de forfait C' vers F | F33: 41382
A34: 1 | B34: OPTION MEF | D34: MEFCPRIMEG | E34: Changement de forfait C' vers G | F34: 41382
A35: 1 | B35: OPTION MEF | D35: MEFDD | E35: Changement de forfait D vers D | F35: 41382
A36: 1 | B36: OPTION MEF | D36: MEFDE | E36: Changement de forfait D vers E | F36: 41382
A37: 1 | B37: OPTION MEF | D37: MEFDF | E37: Changement de forfait D vers F | F37: 41382
A38: 1 | B38: OPTION MEF | D38: MEFDG | E38: Changement de forfait D vers G | F38: 41382
A39: 1 | B39: OPTION MEF | D39: MEFEE | E39: Changement de forfait E vers E | F39: 41382
... A53: 1 | B53: OPTION MEF | D53: MEFZERO | E53: Changement de forfait autres | F53: 41382

Sheet MEF OPEN
A1: Art/Grp | B1: Famille | C1: Sous Famille | D1: Article | E1: Désignation | F1: Date création
A2: 1 | B2: OPEN | D2: OPENMEF | E2: DEJA OPEN | F2: 41442
A3: 1 | B3: OPTION INTERNET | C3: OPEN | D3: OPTOPENMIGHD | E3: Option OPEN MIGRATION HAUT DEBIT | F3: 41442
A4: 1 | B4: OPEN | D4: OPENFIDFID | E4: OPEN Déjà Mobile + Déjà Internet | F4: 41382

Sheet MEF OPEN@
A1: Art/Grp | B1: Famille | C1: Sous Famille | D1: Article | E1: Désignation | F1: Date création
A2: 1 | B2: OPTION INTERNET | C2: OPEN | D2: OPTOPENMIGHD | E2: Option OPEN MIGRATION HAUT DEBIT | F2: 41442

Sheet MEG
A1: Art/Grp | B1: Famille | C1: Sous Famille | D1: Article | E1: Désignation | F1: Date création
A2: 1 | B2: ABONNEMENT GP | C2: MEG | D2: ABOORGMEGCB | E2: Montée En Gamme vers Compte Bloqué,Initial | F2: 41382
A3: 1 | B3: ABONNEMENT GP | C3: MEG | D3: ABOORGMEGINITIAL | E3: Montée En Gamme vers Orange Initial | F3: 41382
A4: 1 | B4: ABONNEMENT GP | C4: MEG | D4: ABOORGMEGFORF | E4: Montée En Gamme vers Forfait | F4: 41382
A5: 1 | B5: ABONNEMENT GP | C5: MEG | D5: ABOORGMEGFOR1H | E5: Montée En Gamme vers Forfait 1h | F5: 41382
A6: 1 | B6: ABONNEMENT GP | C6: MEG | D6: ABOORGMEGCMO | E6: MONTEE EN GAMME VERS CMO | F6: 41382
