Workbook

Sheet Oct
A1: Classement | B1: Agence | C1: Vendeur | D1: Heures planning | E1: Marge mobile | F1: Marge internet | G1: Marge globale | H1: Productivité marge | I1: Volume mobile | J1: Volume internet | K1: Volume global | L1: Productivité volume
A2: #VALUE! | B2: STNA | C2: 0 | D2: 0 | E2: 0 | F2: 0 | G2: 0 | I2: 0 | J2: 0 | K2: 0
A3: 45 | B3: STNA | C3: ANTOINE | D3: 37.5 | E3: 2278.77 | F3: 9.69 | G3: 2288.46 | H3: 9255.7528 | I3: 19 | J3: 0 | K3: 19 | L3: 76.846133
A4: 46 | B4: STNA | C4: AMEDINE | D4: 38 | E4: 2202.39 | F4: 40.74 | G4: 2243.13 | H4: 8953.0402 | I4: 18 | J4: 0 | K4: 18 | L4: 71.843684
A5: 61 | B5: STNA | C5: MICKAEL | D5: 97.5 | E5: 2920.4 | F5: 409.9 | G5: 3330.3 | H5: 5180.5805 | I5: 28 | J5: 5 | K5: 33 | L5: 51.334462
A6: #VALUE! | B6: STNA | C6: 0 | D6: 0 | E6: 0 | F6: 0 | G6: 0 | I6: 0 | J6: 0 | K6: 0
A7: #VALUE! | B7: STNA | C7: 0 | D7: 0 | E7: 0 | F7: 0 | G7: 0 | I7: 0 | J7: 0 | K7: 0
A8: 9 | B8: PORN | C8: NICOLAS | D8: 106.5 | E8: 9498.8 | F8: 439.93 | G8: 9938.73 | H8: 14154.058 | I8: 74 | J8: 4 | K8: 78 | L8: 111.08225
A9: #VALUE! | B9: PORN | C9: 0 | D9: 0 | E9: 0 | F9: 0 | G9: 0 | I9: 0 | J9: 0 | K9: 0
A10: 6 | B10: PORN | C10: MANON | D10: 120 | E10: 10240.16 | F10: 1513.46 | G10: 11753.62 | H10: 14855.596 | I10: 84 | J10: 15 | K10: 99 | L10: 125.12775
A11: 28 | B11: PORN | C11: WALTANN | D11: 69 | E11: 5385.78 | F11: 128.1 | G11: 5513.88 | H11: 12120.148 | I11: 45 | J11: 1 | K11: 46 | L11: 101.11333
A12: 1 | B12: PORN | C12: DAMIEN | D12: 102.5 | E12: 10123.23 | F12: 1049.38 | G12: 11172.61 | H12: 16532.193 | I12: 85 | J12: 11 | K12: 96 | L12: 142.0519
A13: 10 | B13: PORN | C13: P-MARIE | D13: 40.5 | E13: 3231.65 | F13: 545.39 | G13: 3777.04 | H13: 14144.782 | I13: 26 | J13: 3 | K13: 29 | L13: 108.60321
A14: 26 | B14: PORN | C14: AURELIE | D14: 29.5 | E14: 2327.13 | F14: 34.38 | G14: 2361.51 | H14: 12141.363 | I14: 20 | J14: 0 | K14: 20 | L14: 102.82712
A15: #VALUE! | B15: PORN | C15: 0 | D15: 0 | E15: 0 | F15: 0 | G15: 0 | I15: 0 | J15: 0 | K15: 0
A16: 36 | B16: GUER | C16: ARNAUD | D16: 148 | E16: 9806.21 | F16: 1046.96 | G16: 10853.17 | H16: 11122.299 | I16: 84 | J16: 8 | K16: 92 | L16: 94.281351
A17: 48 | B17: GUER | C17: CHARLOTTE | D17: 178 | E17: 9348.1 | F17: 723.53 | G17: 10071.63 | H17: 8581.8209 | I17: 84 | J17: 8 | K17: 92 | L17: 78.391236
A18: 5 | B18: GUER | C18: ALEXANDRE | D18: 138 | E18: 12200.82 | F18: 1746.56 | G18: 13947.38 | H18: 15328.979 | I18: 98 | J18: 18 | K18: 116 | L18: 127.49072
A19: 11 | B19: GUER | C19: THOMAS | D19: 92.5 | E19: 7225.56 | F19: 1253.03 | G19: 8478.59 | H19: 13902.138 | I19: 53 | J19: 9 | K19: 62 | L19: 101.65989
A20: #VALUE! | B20: GUER | C20: 0 | D20: 0 | E20: 0 | F20: 0 | G20: 0 | I20: 0 | J20: 0 | K20: 0
A21: 18 | B21: GUER | C21: MARION | D21: 68 | E21: 5049.84 | F21: 802.73 | G21: 5852.57 | H21: 13053.813 | I21: 37 | J21: 7 | K21: 44 | L21: 98.139412
A22: #VALUE! | B22: GUER | C22: 0 | D22: 0 | E22: 0 | F22: 0 | G22: 0 | I22: 0 | J22: 0 | K22: 0
A23: #VALUE! | B23: GUER | C23: 0 | D23: 0 | E23: 0 | F23: 0 | G23: 0 | I23: 0 | J23: 0 | K23: 0
A24: #VALUE! | B24: STBR | C24: 0 | D24: 0 | E24: 0 | F24: 0 | G24: 0 | I24: 0 | J24: 0 | K24: 0
A25: 7 | B25: STBR | C25: AURELIE | D25: 167.5 | E25: 13758.43 | F25: 2381.77 | G25: 16140.2 | H25: 14614.831 | I25: 114 | J25: 22 | K25: 136 | L25: 123.14699
A26: 51 | B26: STBR | C26: JULIEN | D26: 146 | E26: 6976.67 | F26: 588.65 | G26: 7565.32 | H26: 7859.1239 | I26: 62 | J26: 8 | K26: 70 | L26: 72.718493
A27: 52 | B27: STBR | C27: MARION | D27: 34 | E27: 1484.48 | F27: 270.74 | G27: 1755.22 | H27: 7829.8299 | I27: 15 | J27: 2 | K27: 17 | L27: 75.835
A28: #VALUE! | B28: STBR | C28: 0 | D28: 0 | E28: 0 | F28: 0 | G28: 0 | I28: 0 | J28: 0 | K28: 0
A29: #VALUE! | B29: STBR | C29: 0 | D29: 0 | E29: 0 | F29: 0 | G29: 0 | I29: 0 | J29: 0 | K29: 0
A30: #VALUE! | B30: STBR | C30: 0 | D30: 0 | E30: 0 | F30: 0 | G30: 0 | I30: 0 | J30: 0 | K30: 0
A31: #VALUE! | B31: STBR | C31: 0 | D31: 0 | E31: 0 | F31: 0 | G31: 0 | I31: 0 | J31: 0 | K31: 0
A32: 35 | B32: POR2 | C32: SOLENE | D32: 160 | E32: 10820.64 | F32: 1121.05 | G32: 11941.69 | H32: 11319.976 | I32: 87 | J32: 10 | K32: 97 | L32: 91.949937
A33: 55 | B33: POR2 | C33: AURELIE | D33: 32 | E33: 1024.49 | F33: 529.21 | G33: 1553.7 | H33: 7364.0525 | I33: 11 | J33: 5 | K33: 16 | L33: 75.835
A34: 60 | B34: POR2 | C34: STEVEN | D34: 24 | E34: 726.3 | F34: 265.38 | G34: 991.68 | H34: 6267.0044 | I34: 8 | J34: 2 | K34: 10 | L34: 63.195833
A35: #VALUE! | B35: POR2 | C35: 0 | D35: 0 | E35: 0 | F35: 0 | G35: 0 | I35: 0 | J35: 0 | K35: 0
A36: #VALUE! | B36: POR2 | C36: 0 | D36: 0 | E36: 0 | F36: 0 | G36: 0 | I36: 0 | J36: 0 | K36: 0
A37: 2 | B37: PLOE | C37: AURELIE | D37: 96 | E37: 8752.9 | F37: 1002.34 | G37: 9755.24 | H37: 15412.263 | I37: 64 | J37: 10 | K37: 74 | L37: 116.91229
A38: 13 | B38: PLOE | C38: AMELIE | D38: 154 | E38: 11743.25 | F38: 2235.3 | G38: 13978.55 | H38: 13767.056 | I38: 93 | J38: 19 | K38: 112 | L38: 110.30545
A39: 4 | B39: PLOE | C39: MIGUEL | D39: 134 | E39: 11587.46 | F39: 1966.28 | G39: 13553.74 | H39: 15341.013 | I39: 92 | J39: 17 | K39: 109 | L39: 123.37336
A40: 19 | B40: PLOE | C40: TELMA | D40: 62 | E40: 4464.79 | F40: 780.91 | G40: 5245.7 | H40: 12832.505 | I40: 30 | J40: 8 | K40: 38 | L40: 92.959032
A41: 21 | B41: PLOE | C41: AUDREY | D41: 114 | E41: 8464.75 | F41: 924.01 | G41: 9388.76 | H41: 12491.169 | I41: 66 | J41: 7 | K41: 73 | L41: 97.122018
A42: #VALUE! | B42: PLOE | C42: 0 | D42: 0 | E42: 0 | F42: 0 | G42: 0 | I42: 0 | J42: 0 | K42: 0
A43: 49 | B43: STBE | C43: SANDRINE | D43: 122 | E43: 6211.34 | F43: 531.4 | G43: 6742.74 | H43: 8382.5523 | I43: 52 | J43: 5 | K43: 57 | L43: 70.862213
A44: 58 | B44: STBE | C44: MARINE | D44: 101.5 | E44: 4567.84 | F44: 183.35 | G44: 4751.19 | H44: 7099.6353 | I44: 39 | J44: 2 | K44: 41 | L44: 61.265714
A45: 54 | B45: STBE | C45: JULIE | D45: 64 | E45: 3138.47 | F45: 58.71 | G45: 3197.18 | H45: 7576.817 | I45: 27 | J45: 0 | K45: 27 | L45: 63.985781
A46: 56 | B46: STBE | C46: EMELINE | D46: 70 | E46: 2999.01 | F46: 391.63 | G46: 3390.64 | H46: 7346.5481 | I46: 27 | J46: 4 | K46: 31 | L46: 67.168143
A47: 50 | B47: STBE | C47: LINDSEY | D47: 105 | E47: 5084.59 | F47: 393.04 | G47: 5477.63 | H47: 7912.3061 | I47: 38 | J47: 4 | K47: 42 | L47: 60.668
A48: #VALUE! | B48: STBE | C48: 0 | D48: 0 | E48: 0 | F48: 0 | G48: 0 | I48: 0 | J48: 0 | K48: 0
A49: 41 | B49: LAV2 | C49: CLAIRE | D49: 129 | E49: 8012.51 | F49: 623.95 | G49: 8636.46 | H49: 10154.201 | I49: 66 | J49: 7 | K49: 73 | L49: 85.82876
A50: 43 | B50: LAV2 | C50: JULIE | D50: 108.5 | E50: 5925.92 | F50: 962.24 | G50: 6888.16 | H50: 9628.8224 | I50: 50 | J50: 8 | K50: 58 | L50: 81.077051
A51: 37 | B51: LAV2 | C51: JEREMY | D51: 110 | E51: 7645.48 | F51: 264.79 | G51: 7910.27 | H51: 10906.824 | I51: 70 | J51: 1 | K51: 71 | L51: 97.896091
A52: #VALUE! | B52: LAV2 | C52: 0 | D52: 0 | E52: 0 | F52: 0 | G52: 0 | I52: 0 | J52: 0 | K52: 0
A53: 47 | B53: LAV2 | C53: BENJAMIN | D53: 112 | E53: 5902.5 | F53: 580.46 | G53: 6482.96 | H53: 8779.2013 | I53: 51 | J53: 5 | K53: 56 | L53: 75.835
A54: 53 | B54: LAV2 | C54: VALENTIN | D54: 67 | E54: 3251.36 | F54: 174.38 | G54: 3425.74 | H54: 7754.955 | I54: 32 | J54: 2 | K54: 34 | L54: 76.966866
A55: #VALUE! | B55: LAV2 | C55: 0 | D55: 0 | E55: 0 | F55: 0 | G55: 0 | I55: 0 | J55: 0 | K55: 0
A56: 23 | B56: CHG2 | C56: ANTHONY | D56: 89.5 | E56: 6460.8 | F56: 812.04 | G56: 7272.84 | H56: 12324.823 | I56: 53 | J56: 5 | K56: 58 | L56: 98.288939
A57: 14 | B57: CHG2 | C57: CHARLINE | D57: 134.5 | E57: 10526.37 | F57: 1513.42 | G57: 12039.79 | H57: 13576.765 | I57: 81 | J57: 16 | K57: 97 | L57: 109.38283
A58: 42 | B58: CHG2 | C58: LESLY | D58: 150 | E58: 9111.33 | F58: 794.59 | G58: 9905.92 | H58: 10016.206 | I58: 84 | J58: 7 | K58: 91 | L58: 92.013133
A59: 12 | B59: CHG2 | C59: FABIEN | D59: 84 | E59: 6712.12 | F59: 931.35 | G59: 7643.47 | H59: 13801.013 | I59: 52 | J59: 5 | K59: 57 | L59: 102.91893
A60: 25 | B60: CHG2 | C60: CECILE | D60: 132.5 | E60: 9574.98 | F60: 1070.7 | G60: 10645.68 | H60: 12185.889 | I60: 79 | J60: 9 | K60: 88 | L60: 100.73177
A61: #VALUE! | B61: CHG2 | C61: 0 | D61: 0 | E61: 0 | F61: 0 | G61: 0 | I61: 0 | J61: 0 | K61: 0
A62: 31 | B62: MAYE | C62: SABRINA | D62: 90 | E62: 6548.87 | F62: 486.8 | G62: 7035.67 | H62: 11856.667 | I62: 56 | J62: 6 | K62: 62 | L62: 104.48378
A63: 59 | B63: MAYE | C63: MARTIAL | D63: 30 | E63: 1309.43 | F63: 70 | G63: 1379.43 | H63: 6973.9383 | I63: 10 | J63: 1 | K63: 11 | L63: 55.612333
A64: 44 | B64: MAYE | C64: SOLENE | D64: 167.5 | E64: 9573.28 | F64: 933.96 | G64: 10507.24 | H64: 9514.2274 | I64: 81 | J64: 8 | K64: 89 | L64: 80.588836
A65: #VALUE! | B65: MAYE | C65: 0 | D65: 0 | E65: 0 | F65: 0 | G65: 0 | I65: 0 | J65: 0 | K65: 0
A66: #VALUE! | B66: MAYE | C66: 0 | D66: 0 | E66: 0 | F66: 0 | G66: 0 | I66: 0 | J66: 0 | K66: 0
A67: 27 | B67: CHER | C67: JULIEN | D67: 90 | E67: 6796.38 | F67: 398.38 | G67: 7194.76 | H67: 12124.769 | I67: 55 | J67: 3 | K67: 58 | L67: 97.742889
A68: 16 | B68: CHER | C68: VALERIE | D68: 140 | E68: 11453.62 | F68: 742.33 | G68: 12195.95 | H68: 13212.57 | I68: 93 | J68: 7 | K68: 100 | L68: 108.33571
A69: 20 | B69: CHER | C69: THEA | D69: 54 | E69: 4250.27 | F69: 218.1 | G69: 4468.37 | H69: 12550.327 | I69: 30 | J69: 1 | K69: 31 | L69: 87.069815
A70: 3 | B70: CHER | C70: CLEMENT | D70: 77 | E70: 7438.46 | F70: 366.01 | G70: 7804.47 | H70: 15372.779 | I70: 55 | J70: 3 | K70: 58 | L70: 114.24494
A71: 39 | B71: FALA | C71: ANGELIQUE | D71: 95 | E71: 6120.12 | F71: 423.97 | G71: 6544.09 | H71: 10447.812 | I71: 47 | J71: 3 | K71: 50 | L71: 79.826316
A72: 38 | B72: FALA | C72: JORDY | D72: 129 | E72: 7912.38 | F72: 1307.22 | G72: 9219.6 | H72: 10839.82 | I72: 61 | J72: 11 | K72: 72 | L72: 84.653023
A73: 40 | B73: FALA | C73: DAMIEN | D73: 47 | E73: 2908.39 | F73: 254.1 | G73: 3162.49 | H73: 10205.423 | I73: 24 | J73: 1 | K73: 25 | L73: 80.675532
A74: 22 | B74: FALA | C74: PRISCILLA | D74: 76 | E74: 5703.1 | F74: 547.07 | G74: 6250.17 | H74: 12473.201 | I74: 48 | J74: 4 | K74: 52 | L74: 103.77421
A75: 8 | B75: FALA | C75: CAMILLE | D75: 44.4 | E75: 3968.97 | F75: 265.96 | G75: 4234.93 | H75: 14466.483 | I75: 35 | J75: 2 | K75: 37 | L75: 126.39167
A76: 29 | B76: FOUG | C76: CELINE | D76: 146 | E76: 9978.91 | F76: 1628.55 | G76: 11607.46 | H76: 12058.243 | I76: 75 | J76: 14 | K76: 89 | L76: 92.45637
A77: 24 | B77: FOUG | C77: GERALDINE | D77: 93.5 | E77: 6297.43 | F77: 1251.75 | G77: 7549.18 | H77: 12245.82 | I77: 47 | J77: 10 | K77: 57 | L77: 92.461925
A78: 30 | B78: FOUG | C78: ADELINE | D78: 63 | E78: 4539.74 | F78: 392.48 | G78: 4932.22 | H78: 11874.124 | I78: 37 | J78: 4 | K78: 41 | L78: 98.705873
A79: 15 | B79: FOUG | C79: EMMANUELLE | D79: 54 | E79: 4128.88 | F79: 608.45 | G79: 4737.33 | H79: 13305.756 | I79: 37 | J79: 7 | K79: 44 | L79: 123.58296
A80: #VALUE! | B80: FOUG | C80: 0 | D80: 0 | E80: 0 | F80: 0 | G80: 0 | I80: 0 | J80: 0 | K80: 0
A81: 32 | B81: AVRA | C81: AURELIE | D81: 107 | E81: 7767.61 | F81: 591.9 | G81: 8359.51 | H81: 11849.41 | I81: 66 | J81: 5 | K81: 71 | L81: 100.64084
A82: 17 | B82: AVRA | C82: KERRY | D82: 125 | E82: 9648.55 | F82: 1110.03 | G82: 10758.58 | H82: 13054.031 | I82: 81 | J82: 10 | K82: 91 | L82: 110.41576
A83: 34 | B83: AVRA | C83: LUDIVINE | D83: 169 | E83: 11736.27 | F83: 894.1 | G83: 12630.37 | H83: 11335.197 | I83: 100 | J83: 6 | K83: 106 | L83: 95.130296
A84: 57 | B84: AVRA | C84: M-ANTOINE | D84: 106 | E84: 4698.31 | F84: 384.14 | G84: 5082.45 | H84: 7272.2188 | I84: 41 | J84: 1 | K84: 42 | L84: 60.09566
A85: 33 | B85: AVRA | C85: CYRIL | D85: 69.5 | E85: 4739.54 | F85: 674.33 | G85: 5413.87 | H85: 11814.7 | I85: 41 | J85: 6 | K85: 47 | L85: 102.5682
A86: #VALUE! | B86: AVRA | C86: 0 | D86: 0 | E86: 0 | F86: 0 | G86: 0 | I86: 0 | J86: 0 | K86: 0
E89: PORN

Sheet Nov
A1: Classement | B1: Agence | C1: Vendeur | D1: Heures planning | E1: Marge mobile | F1: Marge internet | G1: Marge globale | H1: Productivité marge | I1: Volume mobile | J1: Volume internet | K1: Volume global | L1: Productivité volume
A2: 62 | B2: STNA | C2: ANTOINE | D2: 67.5 | E2: 2587.37 | F2: 99.46 | G2: 2686.83 | H2: 6037.2075 | I2: 23 | J2: 1 | K2: 24 | L2: 53.927111
A3: 48 | B3: STNA | C3: MICKAEL | D3: 67.5 | E3: 3327.09 | F3: 396.37 | G3: 3723.46 | H3: 8366.4767 | I3: 28 | J3: 6 | K3: 34 | L3: 76.396741
A4: 65 | B4: STNA | C4: AURELIE | D4: 90 | E4: 2569.72 | F4: 154.57 | G4: 2724.29 | H4: 4591.034 | I4: 27 | J4: 7 | K4: 34 | L4: 57.297556
A5: #VALUE! | B5: STNA | C5: 0 | D5: 0 | E5: 0 | F5: 0 | G5: 0 | I5: 0 | J5: 0 | K5: 0
A6: #VALUE! | B6: STNA | C6: 0 | D6: 0 | E6: 0 | F6: 0 | G6: 0 | I6: 0 | J6: 0 | K6: 0
A7: #VALUE! | B7: STNA | C7: 0 | D7: 0 | E7: 0 | F7: 0 | G7: 0 | I7: 0 | J7: 0 | K7: 0
A8: 16 | B8: PORN | C8: NICOLAS | D8: 94 | E8: 6858.61 | F8: 949.43 | G8: 7808.04 | H8: 12598.356 | I8: 57 | J8: 9 | K8: 66 | L8: 106.4917
A9: #VALUE! | B9: PORN | C9: 0 | D9: 0 | E9: 0 | F9: 0 | G9: 0 | I9: 0 | J9: 0 | K9: 0
A10: 43 | B10: PORN | C10: MANON | D10: 144 | E10: 7409.92 | F10: 1442.35 | G10: 8852.27 | H10: 9323.7763 | I10: 60 | J10: 14 | K10: 74 | L10: 77.941528
A11: 12 | B11: PORN | C11: WALTANN | D11: 98.5 | E11: 8339.93 | F11: 39.69 | G11: 8379.62 | H11: 12902.913 | I11: 65 | J11: 0 | K11: 65 | L11: 100.0868
A12: 2 | B12: PORN | C12: DAMIEN | D12: 129.5 | E12: 12444.35 | F12: 1401.68 | G12: 13846.03 | H12: 16216.428 | I12: 106 | J12: 16 | K12: 122 | L12: 142.88602
A13: 33 | B13: PORN | C13: P-MARIE | D13: 67 | E13: 4657.13 | F13: 281.69 | G13: 4938.82 | H13: 11180.162 | I13: 35 | J13: 2 | K13: 37 | L13: 83.75806
A14: 35 | B14: PORN | C14: SORAYE | D14: 51.2 | E14: 3017.71 | F14: 474.92 | G14: 3492.63 | H14: 10346.234 | I14: 21 | J14: 5 | K14: 26 | L14: 77.019922
A15: #VALUE! | B15: PORN | C15: 0 | D15: 0 | E15: 0 | F15: 0 | G15: 0 | I15: 0 | J15: 0 | K15: 0
A16: 5 | B16: GUER | C16: ARNAUD | D16: 93 | E16: 7489.8 | F16: 973.19 | G16: 8462.99 | H16: 13801.954 | I16: 60 | J16: 8 | K16: 68 | L16: 110.89849
A17: 54 | B17: GUER | C17: CHARLOTTE | D17: 148.5 | E17: 6104.86 | F17: 868.38 | G17: 6973.24 | H17: 7122.0964 | I17: 43 | J17: 8 | K17: 51 | L17: 52.088687
A18: 13 | B18: GUER | C18: THOMAS | D18: 133 | E18: 10212.19 | F18: 1076.85 | G18: 11289.04 | H18: 12873.75 | I18: 71 | J18: 8 | K18: 79 | L18: 90.089699
A19: 17 | B19: GUER | C19: ALEXANDRE | D19: 127 | E19: 9725.52 | F19: 751.51 | G19: 10477.03 | H19: 12512.214 | I19: 79 | J19: 7 | K19: 86 | L19: 102.70567
A20: 41 | B20: GUER | C20: MARION | D20: 142.5 | E20: 7776.77 | F20: 1198.83 | G20: 8975.6 | H20: 9553.1877 | I20: 61 | J20: 11 | K20: 72 | L20: 76.633263
A21: 61 | B21: GUER | C21: CHARLENE | D21: 30.3 | E21: 1249.38 | F21: 34.69 | G21: 1284.07 | H21: 6427.5544 | I21: 10 | J21: 0 | K21: 10 | L21: 50.056106
A22: 42 | B22: GUER | C22: MICKAEL | D22: 43.5 | E22: 2065.83 | F22: 622.07 | G22: 2687.9 | H22: 9371.8113 | I22: 21 | J22: 5 | K22: 26 | L22: 90.653333
A23: #VALUE! | B23: GUER | C23: 0 | D23: 0 | E23: 0 | F23: 0 | G23: 0 | I23: 0 | J23: 0 | K23: 0
A24: #VALUE! | B24: STBR | C24: 0 | D24: 0 | E24: 0 | F24: 0 | G24: 0 | I24: 0 | J24: 0 | K24: 0
A25: 24 | B25: STBR | C25: AURELIE | D25: 138 | E25: 9161.45 | F25: 1527.66 | G25: 10689.11 | H25: 11747.952 | I25: 69 | J25: 12 | K25: 81 | L25: 89.023696
A26: 58 | B26: STBR | C26: JULIEN | D26: 176 | E26: 7337.67 | F26: 430.62 | G26: 7768.29 | H26: 6694.4122 | I26: 54 | J26: 3 | K26: 57 | L26: 49.120398
A27: 63 | B27: STBR | C27: WALTANN | D27: 12 | E27: 443.58 | F27: 0 | G27: 443.58 | H27: 5606.4815 | I27: 4 | J27: 0 | K27: 4 | L27: 50.556667
A28: 23 | B28: STBR | C28: H-WILLIAM | D28: 53.1 | E28: 3489.36 | F28: 624.69 | G28: 4114.05 | H28: 11750.997 | I28: 28 | J28: 7 | K28: 35 | L28: 99.97081
A29: 6 | B29: STBR | C29: SORAYA | D29: 13.6 | E29: 1088.13 | F29: 149.07 | G29: 1237.2 | H29: 13797.509 | I29: 10 | J29: 1 | K29: 11 | L29: 122.67426
A30: #VALUE! | B30: STBR | C30: 0 | D30: 0 | E30: 0 | F30: 0 | G30: 0 | I30: 0 | J30: 0 | K30: 0
A31: #VALUE! | B31: STBR | C31: 0 | D31: 0 | E31: 0 | F31: 0 | G31: 0 | I31: 0 | J31: 0 | K31: 0
A32: 47 | B32: POR2 | C32: SOLENE | D32: 93 | E32: 4458.55 | F32: 848.21 | G32: 5306.76 | H32: 8654.5838 | I32: 45 | J32: 7 | K32: 52 | L32: 84.804731
A33: 66 | B33: POR2 | C33: AURELIE | D33: 8 | E33: 142.72 | F33: 30 | G33: 172.72 | H33: 3274.5553 | I33: 2 | J33: 0 | K33: 2 | L33: 37.9175
A34: 55 | B34: POR2 | C34: STEVEN | D34: 80 | E34: 3565.86 | F34: 135.22 | G34: 3701.08 | H34: 7016.785 | I34: 30 | J34: 0 | K34: 30 | L34: 56.87625
A35: 51 | B35: POR2 | C35: LUCILE | D35: 96 | E35: 4368.2 | F35: 683.38 | G35: 5051.58 | H35: 7980.9702 | I35: 34 | J35: 5 | K35: 39 | L35: 61.615937
A36: #VALUE! | B36: POR2 | C36: 0 | D36: 0 | E36: 0 | F36: 0 | G36: 0 | I36: 0 | J36: 0 | K36: 0
A37: 14 | B37: PLOE | C37: AURELIE | D37: 129 | E37: 9388.65 | F37: 1555.87 | G37: 10944.52 | H37: 12867.871 | I37: 69 | J37: 15 | K37: 84 | L37: 98.76186
A38: 18 | B38: PLOE | C38: AMELIE | D38: 103 | E38: 7244.79 | F38: 1251.4 | G38: 8496.19 | H38: 12510.846 | I38: 58 | J38: 10 | K38: 68 | L38: 100.13165
A39: 7 | B39: PLOE | C39: MIGUEL | D39: 146 | E39: 11881.84 | F39: 1229.94 | G39: 13111.78 | H39: 13620.984 | I39: 92 | J39: 11 | K39: 103 | L39: 107.00007
A40: 9 | B40: PLOE | C40: TELMA | D40: 60 | E40: 4525.08 | F40: 723 | G40: 5248.08 | H40: 13266.272 | I40: 33 | J40: 8 | K40: 41 | L40: 103.64117
A41: 11 | B41: PLOE | C41: AUDREY | D41: 142 | E41: 10223.12 | F41: 2084.72 | G41: 12307.84 | H41: 13145.987 | I41: 73 | J41: 17 | K41: 90 | L41: 96.128873
A42: #VALUE! | B42: PLOE | C42: 0 | D42: 0 | E42: 0 | F42: 0 | G42: 0 | I42: 0 | J42: 0 | K42: 0
A43: 44 | B43: STBE | C43: SANDRINE | D43: 137.5 | E43: 7132.96 | F43: 971.63 | G43: 8104.59 | H43: 8939.8048 | I43: 56 | J43: 9 | K43: 65 | L43: 71.698545
A44: 64 | B44: STBE | C44: MARINE | D44: 88.5 | E44: 2811.64 | F44: 264.46 | G44: 3076.1 | H44: 5271.775 | I44: 24 | J44: 2 | K44: 26 | L44: 44.558418
A45: 56 | B45: STBE | C45: JULIE | D45: 40.5 | E45: 1702.94 | F45: 100 | G45: 1802.94 | H45: 6751.899 | I45: 13 | J45: 1 | K45: 14 | L45: 52.429136
A46: 29 | B46: STBE | C46: LINDSEY | D46: 159.5 | E46: 11313.33 | F46: 817.57 | G46: 12130.9 | H46: 11535.383 | I46: 94 | J46: 8 | K46: 102 | L46: 96.992727
A47: #VALUE! | B47: STBE | C47: 0 | D47: 0 | E47: 0 | F47: 0 | G47: 0 | I47: 0 | J47: 0 | K47: 0
A48: #VALUE! | B48: STBE | C48: 0 | D48: 0 | E48: 0 | F48: 0 | G48: 0 | I48: 0 | J48: 0 | K48: 0
A49: 45 | B49: LAV2 | C49: CLAIRE | D49: 118 | E49: 5833.52 | F49: 1110.95 | G49: 6944.47 | H49: 8925.998 | I49: 41 | J49: 10 | K49: 51 | L49: 65.552288
A50: 59 | B50: LAV2 | C50: JULIE | D50: 113.5 | E50: 4465.67 | F50: 405.64 | G50: 4871.31 | H50: 6509.5294 | I50: 34 | J50: 4 | K50: 38 | L50: 50.779383
A51: 46 | B51: LAV2 | C51: JEREMY | D51: 145.5 | E51: 7558.98 | F51: 910.17 | G51: 8469.15 | H51: 8828.2885 | I51: 65 | J51: 8 | K51: 73 | L51: 76.095601
A52: 39 | B52: LAV2 | C52: LUDIVINE | D52: 71.6 | E52: 4586.07 | F52: 75.98 | G52: 4662.05 | H52: 9875.6023 | I52: 37 | J52: 0 | K52: 37 | L52: 78.376955
A53: 53 | B53: LAV2 | C53: BENJAMIN | D53: 155 | E53: 6827.72 | F53: 1256.79 | G53: 8084.51 | H53: 7910.8234 | I53: 64 | J53: 9 | K53: 73 | L53: 71.431677
A54: #VALUE! | B54: LAV2 | C54: 0 | D54: 0 | E54: 0 | F54: 0 | G54: 0 | I54: 0 | J54: 0 | K54: 0
A55: #VALUE! | B55: LAV2 | C55: 0 | D55: 0 | E55: 0 | F55: 0 | G55: 0 | I55: 0 | J55: 0 | K55: 0
A56: 30 | B56: CHG2 | C56: ANTHONY | D56: 134 | E56: 8917.08 | F56: 1265.83 | G56: 10182.91 | H56: 11525.686 | I56: 70 | J56: 10 | K56: 80 | L56: 90.549254
A57: 22 | B57: CHG2 | C57: CHARLINE | D57: 85 | E57: 6232.83 | F57: 443.79 | G57: 6676.62 | H57: 11913.447 | I57: 49 | J57: 2 | K57: 51 | L57: 91.002
A58: 10 | B58: CHG2 | C58: LESLY | D58: 139 | E58: 10698.74 | F58: 1413.64 | G58: 12112.38 | H58: 13216.437 | I58: 87 | J58: 13 | K58: 100 | L58: 109.11511
A59: 4 | B59: CHG2 | C59: FABIEN | D59: 138.5 | E59: 12318.04 | F59: 1831 | G59: 14149.04 | H59: 15494.476 | I59: 93 | J59: 10 | K59: 103 | L59: 112.7943
A60: 26 | B60: CHG2 | C60: CECILE | D60: 82 | E60: 5749.78 | F60: 536.63 | G60: 6286.41 | H60: 11627.559 | I60: 54 | J60: 4 | K60: 58 | L60: 107.27878
A61: 19 | B61: CHG2 | C61: MAGALIE | D61: 56 | E61: 4270.8 | F61: 346.22 | G61: 4617.02 | H61: 12504.704 | I61: 36 | J61: 4 | K61: 40 | L61: 108.33571
A62: 3 | B62: MAYE | C62: SABRINA | D62: 160 | E62: 15418.85 | F62: 1135.38 | G62: 16554.23 | H62: 15692.375 | I62: 135 | J62: 9 | K62: 144 | L62: 136.503
A63: 1 | B63: MAYE | C63: SOLENE | D63: 12.5 | E63: 2092.75 | F63: 55 | G63: 2147.75 | H63: 26059.939 | I63: 19 | J63: 1 | K63: 20 | L63: 242.672
A64: #VALUE! | B64: MAYE | C64: 0 | D64: 0 | E64: 0 | F64: 0 | G64: 0 | I64: 0 | J64: 0 | K64: 0
A65: #VALUE! | B65: MAYE | C65: 0 | D65: 0 | E65: 0 | F65: 0 | G65: 0 | I65: 0 | J65: 0 | K65: 0
A66: #VALUE! | B66: MAYE | C66: 0 | D66: 0 | E66: 0 | F66: 0 | G66: 0 | I66: 0 | J66: 0 | K66: 0
A67: 27 | B67: CHER | C67: JULIEN | D67: 158.5 | E67: 10408.39 | F67: 1703.44 | G67: 12111.83 | H67: 11589.913 | I67: 86 | J67: 16 | K67: 102 | L67: 97.604669
A68: 50 | B68: CHER | C68: VALERIE | D68: 102.5 | E68: 4483.74 | F68: 911.48 | G68: 5395.22 | H68: 7983.3465 | I68: 35 | J68: 9 | K68: 44 | L68: 65.107122
A69: 52 | B69: CHER | C69: THEA | D69: 59 | E69: 2861.47 | F69: 219.07 | G69: 3080.54 | H69: 7919.0763 | I69: 23 | J69: 1 | K69: 24 | L69: 61.696271
A70: 20 | B70: CHER | C70: CLEMENT | D70: 67.5 | E70: 5290.56 | F70: 143.14 | G70: 5433.7 | H70: 12209.323 | I70: 37 | J70: 1 | K70: 38 | L70: 85.384593
A71: 60 | B71: FALA | C71: ANGELIQUE | D71: 143 | E71: 4913.84 | F71: 1181.64 | G71: 6095.48 | H71: 6465.0451 | I71: 36 | J71: 10 | K71: 46 | L71: 48.788951
A72: 40 | B72: FALA | C72: JORDY | D72: 140 | E72: 6932.48 | F72: 1935.64 | G72: 8868.12 | H72: 9607.3411 | I72: 58 | J72: 18 | K72: 76 | L72: 82.335143
A73: 25 | B73: FALA | C73: DAMIEN | D73: 58 | E73: 3709.97 | F73: 756.82 | G73: 4466.79 | H73: 11680.656 | I73: 28 | J73: 7 | K73: 35 | L73: 91.525
A74: 34 | B74: FALA | C74: PRISCILLA | D74: 73 | E74: 4400.55 | F74: 907.17 | G74: 5307.72 | H74: 11027.697 | I74: 43 | J74: 7 | K74: 50 | L74: 103.88356
A75: 15 | B75: FALA | C75: CAMILLE | D75: 54.4 | E75: 3770.42 | F75: 771.71 | G75: 4542.13 | H75: 12663.692 | I75: 29 | J75: 7 | K75: 36 | L75: 100.36985
A76: 21 | B76: FOUG | C76: CELINE | D76: 108 | E76: 7487.79 | F76: 1133.35 | G76: 8621.14 | H76: 12107.114 | I76: 53 | J76: 8 | K76: 61 | L76: 85.665463
A77: 8 | B77: FOUG | C77: GERALDINE | D77: 152 | E77: 11672.63 | F77: 1962.03 | G77: 13634.66 | H77: 13605.058 | I77: 94 | J77: 17 | K77: 111 | L77: 110.75901
A78: 28 | B78: FOUG | C78: ADELINE | D78: 73 | E78: 5179.63 | F78: 375.12 | G78: 5554.75 | H78: 11540.944 | I78: 39 | J78: 4 | K78: 43 | L78: 89.339863
A79: 36 | B79: FOUG | C79: RAPHAEL | D79: 54.9 | E79: 3457.85 | F79: 277.42 | G79: 3735.27 | H79: 10319.279 | I79: 32 | J79: 4 | K79: 36 | L79: 99.455738
A80: #VALUE! | B80: FOUG | C80: 0 | D80: 0 | E80: 0 | F80: 0 | G80: 0 | I80: 0 | J80: 0 | K80: 0
A81: 31 | B81: AVRA | C81: AURELIE | D81: 165 | E81: 10777.84 | F81: 1649.36 | G81: 12427.2 | H81: 11423.233 | I81: 90 | J81: 14 | K81: 104 | L81: 95.598061
A82: 37 | B82: AVRA | C82: KERRY | D82: 156.5 | E82: 10154.55 | F82: 432.12 | G82: 10586.67 | H82: 10259.938 | I82: 83 | J82: 2 | K82: 85 | L82: 82.376677
A83: 32 | B83: AVRA | C83: LUDIVINE | D83: 97 | E83: 6866.89 | F83: 320.73 | G83: 7187.62 | H83: 11238.622 | I83: 56 | J83: 4 | K83: 60 | L83: 93.816495
A84: 49 | B84: AVRA | C84: M-ANTOINE | D84: 134 | E84: 6343.03 | F84: 875.58 | G84: 7218.61 | H84: 8170.4969 | I84: 58 | J84: 7 | K84: 65 | L84: 73.571269
A85: 38 | B85: AVRA | C85: CYRIL | D85: 44 | E85: 2848.77 | F85: 43.73 | G85: 2892.5 | H85: 9970.579 | I85: 25 | J85: 0 | K85: 25 | L85: 86.176136
A86: 57 | B86: AVRA | C86: VALENTIN | D86: 53.4 | E86: 2229.62 | F86: 129.69 | G86: 2359.31 | H86: 6701.0589 | I86: 22 | J86: 1 | K86: 23 | L86: 65.32603
A89: =COUNT(A2:A86) -> 66

Sheet Déc
A1: Classement | B1: Agence | C1: Vendeur | D1: Heures planning | E1: Marge mobile | F1: Marge internet | G1: Marge globale | H1: Productivité marge | I1: Volume mobile | J1: Volume internet | K1: Volume global | L1: Productivité volume
A2: 1 | B2: AVRA | C2: KERRY | D2: 190 | E2: 15441.43 | F2: 1471.86 | G2: 16913.29 | H2: 13501.256 | I2: 114 | J2: 11 | K2: 125 | L2: 99.782895
A3: 2 | B3: AVRA | C3: AURELIE | D3: 187 | E3: 15196.65 | F3: 1382 | G3: 16578.65 | H3: 13446.438 | I3: 128 | J3: 13 | K3: 141 | L3: 114.3608
A4: 3 | B4: AVRA | C4: LUDIVINE | D4: 186 | E4: 14610.61 | F4: 1228.16 | G4: 15838.77 | H4: 12915.41 | I4: 112 | J4: 12 | K4: 124 | L4: 101.11333
A5: 4 | B5: AVRA | C5: M-ANTOINE | D5: 189.5 | E5: 14062.23 | F5: 1259.11 | G5: 15321.34 | H5: 12262.732 | I5: 122 | J5: 11 | K5: 133 | L5: 106.44913
A6: 5 | B6: AVRA | C6: CYRIL | D6: 136 | E6: 10392.2 | F6: 847.45 | G6: 11239.65 | H6: 12534.689 | I6: 80 | J6: 6 | K6: 86 | L6: 95.908971
A7: 6 | B7: AVRA | C7: VALENTIN | D7: 116.4 | E7: 7938.96 | F7: 378.39 | G7: 8317.35 | H7: 10837.564 | I7: 68 | J7: 2 | K7: 70 | L7: 91.210481
A8: 7 | B8: AVRA | C8: 0 | D8: 0 | G8: 0 | J8: 0 | K8: 0
A9: 8 | B9: CHER | C9: VALERIE | D9: 166.5 | E9: 11821.55 | F9: 571.14 | G9: 12392.69 | H9: 11288.885 | I9: 90 | J9: 6 | K9: 96 | L9: 87.449369
A10: 9 | B10: CHER | C10: JULIEN | D10: 153 | E10: 11743.09 | F10: 347.15 | G10: 12090.24 | H10: 11985.142 | I10: 94 | J10: 4 | K10: 98 | L10: 97.148105
A11: 10 | B11: CHER | C11: THEA | D11: 158.5 | E11: 7501.76 | F11: 1251.84 | G11: 8753.6 | H11: 8376.3944 | I11: 65 | J11: 9 | K11: 74 | L11: 70.81123
A12: 11 | B12: CHER | C12: CLEMENT | D12: 115 | E12: 3511.63 | F12: 149.68 | G12: 3661.31 | H12: 4828.7903 | I12: 32 | J12: 0 | K12: 32 | L12: 42.203826
A13: 12 | B13: CHG2 | C13: FABIEN | D13: 167.5 | E13: 15404.27 | F13: 1736.04 | G13: 17140.31 | H13: 15520.423 | I13: 112 | J13: 11 | K13: 123 | L13: 111.37558
A14: 13 | B14: CHG2 | C14: CECILE | D14: 168 | E14: 14887.09 | F14: 1908.42 | G14: 16795.51 | H14: 15162.946 | I14: 126 | J14: 20 | K14: 146 | L14: 131.80845
A15: 14 | B15: CHG2 | C15: CHARLINE | D15: 174.5 | E15: 14313.83 | F15: 911.63 | G15: 15225.46 | H15: 13233.499 | I15: 110 | J15: 5 | K15: 115 | L15: 99.954441
A16: 15 | B16: CHG2 | C16: ANTHONY | D16: 152 | E16: 13498.64 | F16: 988.12 | G16: 14486.76 | H16: 14455.308 | I16: 111 | J16: 8 | K16: 119 | L16: 118.74164
A17: 16 | B17: CHG2 | C17: LESLY | D17: 175.5 | E17: 12407.27 | F17: 1091.21 | G17: 13498.48 | H17: 11665.609 | I17: 119 | J17: 10 | K17: 129 | L17: 111.48393
A18: 17 | B18: CHG2 | C18: MAGALIE | D18: 122.5 | E18: 6757.83 | F18: 568.4 | G18: 7326.23 | H18: 9070.7698 | I18: 68 | J18: 5 | K18: 73 | L18: 90.382939
A19: 18 | B19: FALA | C19: JORDY | D19: 160 | E19: 12420.83 | F19: 1106 | G19: 13526.83 | H19: 12822.589 | I19: 99 | J19: 9 | K19: 108 | L19: 102.37725
A20: 19 | B20: FALA | C20: CAMILLE | D20: 164 | E20: 9686.07 | F20: 1636.18 | G20: 11322.25 | H20: 10471.01 | I20: 84 | J20: 17 | K20: 101 | L20: 93.406524
... A22: 21 | B22: FALA | C22: PRISCILLA | D22: 127 | E22: 6833.78 | F22: 659.57 | G22: 7493.35 | H22: 8948.948 | I22: 67 | J22: 4 | K22: 71 | L22: 84.79189
A23: 22 | B23: FALA | C23: 0 | D23: 0 | G23: 0 | J23: 0 | K23: 0
A24: 23 | B24: FOUG | C24: GERALDINE | D24: 165.5 | E24: 15978.03 | F24: 1611.99 | G24: 17590.02 | H24: 16120.111 | I24: 115 | J24: 12 | K24: 127 | L24: 116.38725
A25: 24 | B25: FOUG | C25: CELINE | D25: 158 | E25: 15267.05 | F25: 1439.46 | G25: 16706.51 | H25: 16037.192 | I25: 108 | J25: 16 | K25: 124 | L25: 119.03215
A26: 25 | B26: FOUG | C26: ADELINE | D26: 119.5 | E26: 10147.61 | F26: 388.07 | G26: 10535.68 | H26: 13371.938 | I26: 90 | J26: 4 | K26: 94 | L26: 119.30527
A27: 26 | B27: FOUG | C27: RAPHAEL | D27: 109.6 | E27: 3859.67 | F27: 243 | G27: 4102.67 | H27: 5677.4814 | I27: 39 | J27: 2 | K27: 41 | L27: 56.737865
A28: 27 | B28: FOUG | C28: 0 | D28: 0 | G28: 0 | J28: 0 | K28: 0
A29: 28 | B29: GUER | C29: ALEXANDRE | D29: 187 | E29: 16488.51 | F29: 1756.17 | G29: 18244.68 | H29: 14797.704 | I29: 134 | J29: 16 | K29: 150 | L29: 121.66043
A30: 29 | B30: GUER | C30: THOMAS | D30: 184.5 | E30: 16372.64 | F30: 1261.67 | G30: 17634.31 | H30: 14496.454 | I30: 127 | J30: 9 | K30: 136 | L30: 111.80011
A31: 30 | B31: GUER | C31: MARION | D31: 190.5 | E31: 13244.16 | F31: 1099.71 | G31: 14343.87 | H31: 11420.13 | I31: 101 | J31: 11 | K31: 112 | L31: 89.170814
A32: 31 | B32: GUER | C32: ARNAUD | D32: 131 | E32: 11261.83 | F32: 868.12 | G32: 12129.95 | H32: 14043.889 | I32: 87 | J32: 8 | K32: 95 | L32: 109.98969
A33: 32 | B33: GUER | C33: MICKAEL | D33: 105.5 | E33: 6185.5 | F33: 293.69 | G33: 6479.19 | H33: 9314.6801 | I33: 49 | J33: 3 | K33: 52 | L33: 74.756777
A34: 33 | B34: GUER | C34: CHARLENE | D34: 121.2 | E34: 4589.85 | F34: 132.83 | G34: 4722.68 | H34: 5909.9742 | I34: 32 | J34: 0 | K34: 32 | L34: 40.044884
A35: 34 | B35: GUER | C35: CHARLOTTE | D35: 189.5 | E35: 2414.71 | F35: 35 | G35: 2449.71 | H35: 1960.6729 | I35: 17 | J35: 0 | K35: 17 | L35: 13.60628
A36: 35 | B36: GUER | C36: 0 | D36: 0 | G36: 0 | J36: 0 | K36: 0
A37: 36 | B37: LAV2 | C37: BENJAMIN | D37: 180.5 | E37: 12294.4 | F37: 866.12 | G37: 13160.52 | H37: 11058.482 | I37: 102 | J37: 7 | K37: 109 | L37: 91.590194
A38: 37 | B38: LAV2 | C38: JEREMY | D38: 176 | E38: 12290.53 | F38: 684.21 | G38: 12974.74 | H38: 11181.13 | I38: 103 | J38: 6 | K38: 109 | L38: 93.931989
A39: 38 | B39: LAV2 | C39: LUDIVINE | D39: 169.5 | E39: 10541.47 | F39: 523.45 | G39: 11064.92 | H39: 9900.9818 | I39: 89 | J39: 5 | K39: 94 | L39: 84.111976
A40: 39 | B40: LAV2 | C40: CLAIRE | D40: 163 | E40: 10450.13 | F40: 566.09 | G40: 11016.22 | H40: 10250.491 | I40: 81 | J40: 4 | K40: 85 | L40: 79.091718
A41: 40 | B41: LAV2 | C41: JULIE | D41: 69 | E41: 4747.88 | F41: 259.38 | G41: 5007.26 | H41: 11006.538 | I41: 39 | J41: 2 | K41: 41 | L41: 90.122754
A42: 41 | B42: LAV2 | C42: 0 | D42: 0 | G42: 0 | J42: 0 | K42: 0
A43: 42 | B43: LAV2 | C43: 0 | D43: 0 | G43: 0 | J43: 0 | K43: 0
A44: 43 | B44: LAV2 | C44: 0 | D44: 0 | G44: 0 | J44: 0 | K44: 0
A45: 44 | B45: MAYE | C45: SABRINA | D45: 146 | E45: 11163.37 | F45: 760.04 | G45: 11923.41 | H45: 12386.463 | I45: 89 | J45: 8 | K45: 97 | L45: 100.76705
A46: 45 | B46: MAYE | C46: MORGAN | D46: 87.15 | E46: 7490.17 | F46: 354.69 | G46: 7844.86 | H46: 13652.667 | I46: 62 | J46: 5 | K46: 67 | L46: 116.60229
A47: 46 | B47: MAYE | C47: NICOLAS | D47: 84.7 | E47: 5870.49 | F47: 284.07 | G47: 6154.56 | H47: 11020.804 | I47: 50 | J47: 2 | K47: 52 | L47: 93.114994
A48: 47 | B48: MAYE | C48: 0 | D48: 0 | G48: 0 | J48: 0 | K48: 0
A49: 48 | B49: MAYE | C49: 0 | D49: 0 | G49: 0 | J49: 0 | K49: 0
A50: 49 | B50: PLOE | C50: MIGUEL | D50: 162 | E50: 15242.42 | F50: 1544.23 | G50: 16786.65 | H50: 15716.242 | I50: 128 | J50: 12 | K50: 140 | L50: 131.07284
A51: 50 | B51: PLOE | C51: AMELIE | D51: 167 | E51: 14227.69 | F51: 1705.91 | G51: 15933.6 | H51: 14470.953 | I51: 110 | J51: 17 | K51: 127 | L51: 115.34186
A52: 51 | B52: PLOE | C52: AURELIE | D52: 164 | E52: 13974.67 | F52: 1732.74 | G52: 15707.41 | H52: 14526.481 | I52: 108 | J52: 17 | K52: 125 | L52: 115.60213
A53: 52 | B53: PLOE | C53: AUDREY | D53: 163 | E53: 14199.83 | F53: 1425.17 | G53: 15625 | H53: 14538.919 | I53: 116 | J53: 11 | K53: 127 | L53: 118.17233
A54: 53 | B54: PLOE | C54: TELMA | D54: 104 | E54: 9129.95 | F54: 1129.45 | G54: 10259.4 | H54: 14961.954 | I54: 71 | J54: 10 | K54: 81 | L54: 118.1276
A55: 54 | B55: PLOE | C55: 0 | D55: 0 | G55: 0 | J55: 0 | K55: 0
A56: 55 | B56: POR2 | C56: SOLENE | D56: 177 | E56: 11235.85 | F56: 1487.67 | G56: 12723.52 | H56: 10902.691 | I56: 94 | J56: 16 | K56: 110 | L56: 94.258192
A57: 56 | B57: POR2 | C57: STEVEN | D57: 126 | E57: 5707.59 | F57: 786.06 | G57: 6493.65 | H57: 7816.6023 | I57: 48 | J57: 8 | K57: 56 | L57: 67.408889
A58: 57 | B58: POR2 | C58: LUCILE | D58: 114 | E58: 3734.68 | F58: 364.64 | G58: 4099.32 | H58: 5453.8935 | I58: 29 | J58: 3 | K58: 32 | L58: 42.574035
A59: 58 | B59: POR2 | C59: 0 | D59: 0 | G59: 0 | J59: 0 | K59: 0
A60: 59 | B60: POR2 | C60: 0 | D60: 0 | G60: 0 | J60: 0 | K60: 0
A61: 60 | B61: PORN | C61: DAMIEN | D61: 185.5 | E61: 17718.41 | F61: 496.57 | G61: 18214.98 | H61: 14893.078 | I61: 133 | J61: 6 | K61: 139 | L61: 113.6503
A62: 61 | B62: PORN | C62: WALTANN | D62: 179.75 | E62: 14250.15 | F62: 1884.51 | G62: 16134.66 | H62: 13614.152 | I62: 115 | J62: 18 | K62: 133 | L62: 112.22314
A63: 62 | B63: PORN | C63: MANON | D63: 188 | E63: 14179.51 | F63: 473.59 | G63: 14653.1 | H63: 11821.466 | I63: 109 | J63: 6 | K63: 115 | L63: 92.776862
A64: 63 | B64: PORN | C64: JULIEN L | D64: 175 | E64: 10565.14 | F64: 807.06 | G64: 11372.2 | H64: 9856.1233 | I64: 70 | J64: 6 | K64: 76 | L64: 65.868114
A65: 64 | B65: PORN | C65: SORAYA | D65: 123.25 | E65: 7325.33 | F65: 469.24 | G65: 7794.57 | H65: 9591.9061 | I65: 76 | J65: 4 | K65: 80 | L65: 98.447059
A66: 65 | B66: PORN | C66: P-MARIE | D66: 45.5 | E66: 2116.64 | F66: 45 | G66: 2161.64 | H66: 7205.625 | I66: 16 | J66: 0 | K66: 16 | L66: 53.334505
A67: 65 | B67: PORN | C67: 0 | D67: 0 | G67: 0 | J67: 0 | K67: 0
A68: 65 | B68: PORN | C68: 0 | D68: 0 | G68: 0 | J68: 0 | K68: 0
A69: 65 | B69: STBE | C69: LINDSEY | D69: 176.5 | E69: 13509.35 | F69: 1320.14 | G69: 14829.49 | H69: 12743.279 | I69: 112 | J69: 12 | K69: 124 | L69: 106.55569
A70: 65 | B70: STBE | C70: SANDRINE | D70: 166.5 | E70: 11881.72 | F70: 383.59 | G70: 12265.31 | H70: 11172.85 | I70: 94 | J70: 3 | K70: 97 | L70: 88.3603
A71: 65 | B71: STBE | C71: JULIE | D71: 103 | E71: 7041.27 | F71: 604.06 | G71: 7645.33 | H71: 11257.934 | I71: 64 | J71: 4 | K71: 68 | L71: 100.13165
A72: 65 | B72: STBE | C72: MARINE | D72: 88.5 | E72: 5778.56 | F72: 125.83 | G72: 5904.39 | H72: 10118.857 | I72: 51 | J72: 1 | K72: 52 | L72: 89.116836
A73: 65 | B73: STBE | C73: 0 | D73: 0 | G73: 0 | J73: 0 | K73: 0
A74: 65 | B74: STBE | C74: 0 | D74: 0 | G74: 0 | J74: 0 | K74: 0
A75: 65 | B75: STBR | C75: AURELIE | D75: 185 | E75: 13276.99 | F75: 1980.39 | G75: 15257.38 | H75: 12508.577 | I75: 103 | J75: 16 | K75: 119 | L75: 97.560703
A76: 65 | B76: STBR | C76: JULIEN T | D76: 175 | E76: 9948.46 | F76: 321.24 | G76: 10269.7 | H76: 8900.6023 | I76: 80 | J76: 1 | K76: 81 | L76: 70.201543
A77: 65 | B77: STBR | C77: JULIEN D | D77: 181.5 | E77: 7898.11 | F77: 919.4 | G77: 8817.51 | H77: 7368.3292 | I77: 64 | J77: 8 | K77: 72 | L77: 60.166612
A78: 65 | B78: STBR | C78: H-WILLIAM | D78: 108 | E78: 6062.61 | F78: 137.67 | G78: 6200.28 | H78: 8707.3747 | I78: 54 | J78: 1 | K78: 55 | L78: 77.239352
A79: 65 | B79: STBR | C79: 0 | D79: 0 | G79: 0 | J79: 0 | K79: 0
A80: 65 | B80: STBR | C80: 0 | D80: 0 | G80: 0 | J80: 0 | K80: 0
A81: 65 | B81: STBR | C81: 0 | D81: 0 | G81: 0 | J81: 0 | K81: 0
A82: 65 | B82: STBR | C82: 0 | D82: 0 | G82: 0 | J82: 0 | K82: 0
A83: 65 | B83: STNA | C83: ANTOINE | D83: 119.5 | E83: 7473.33 | F83: 74.38 | G83: 7547.71 | H83: 9579.5914 | I83: 61 | J83: 0 | K83: 61 | L83: 77.421506
A84: 65 | B84: STNA | C84: AURELIE | D84: 115.5 | E84: 4182.58 | F84: 126.06 | G84: 4308.64 | H84: 5657.9344 | I84: 40 | J84: 1 | K84: 41 | L84: 53.839567
A85: 65 | B85: STNA | C85: MICKAEL | D85: 52.5 | E85: 2262.22 | F85: 195 | G85: 2457.22 | H85: 7098.7916 | I85: 19 | J85: 3 | K85: 22 | L85: 63.556952
A86: 65 | B86: STNA | C86: 0 | D86: 0 | G86: 0 | J86: 0 | K86: 0
A87: 65 | B87: STNA | C87: 0 | D87: 0 | G87: 0 | J87: 0 | K87: 0
A88: 65 | B88: STNA | C88: 0 | D88: 0 | G88: 0 | J88: 0 | K88: 0

Sheet Recap
A1: Classement | B1: Agence | C1: Vendeur | D1: Heures planning | E1: Marge mobile | F1: Marge internet | G1: Marge globale | H1: Productivité marge | I1: Volume mobile | J1: Volume internet | K1: Volume global | L1: Productivité volume
A2: =+RANK(H2,$H$2:$H$90) -> #N/A | B2: AVRA | C2: AURELIE | D2: {=INDEX(Oct!$D$2:$D$86,MATCH($B2&$C2,Oct!$B$2:$B$86&Oct!$C$2:$C$86,0))+INDEX(Nov!$D$2:$D$86,MATCH($B2&$C2,Nov!$B$2:$B$86&Nov!$C$2:$C$86,0))+INDEX(Déc!$D$2:$D$88,MATCH($B2&$C2,Déc!$B$2:$B$88&Déc!$C$2:$C$88,0))} -> 459 | E2: {=INDEX(Oct!$E$2:$E$86,MATCH($B2&$C2,Oct!$B$2:$B$86&Oct!$C$2:$C$86,0))+INDEX(Nov!$E$2:$E$86,MATCH($B2&$C2,Nov!$B$2:$B$86&Nov!$C$2:$C$86,0))+INDEX(Déc!$E$2:$E$88,MATCH($B2&$C2,Déc!$B$2:$B$88&Déc!$C$2:$C$88,0))} -> 33742.1 | F2: {=INDEX(Oct!$F$2:$F$86,MATCH($B2&$C2,Oct!$B$2:$B$86&Oct!$C$2:$C$86,0))+INDEX(Nov!$F$2:$F$86,MATCH($B2&$C2,Nov!$B$2:$B$86&Nov!$C$2:$C$86,0))+INDEX(Déc!$F$2:$F$88,MATCH($B2&$C2,Déc!$B$2:$B$88&Déc!$C$2:$C$88,0))} -> 3623.26 | G2: {=INDEX(Oct!$G$2:$G$86,MATCH($B2&$C2,Oct!$B$2:$B$86&Oct!$C$2:$C$86,0))+INDEX(Nov!$G$2:$G$86,MATCH($B2&$C2,Nov!$B$2:$B$86&Nov!$C$2:$C$86,0))+INDEX(Déc!$G$2:$G$88,MATCH($B2&$C2,Déc!$B$2:$B$88&Déc!$C$2:$C$88,0))} -> 37365.36 | H2: {=INDEX(Oct!$H$2:$H$86,MATCH($B2&$C2,Oct!$B$2:$B$86&Oct!$C$2:$C$86,0))+INDEX(Nov!$H$2:$H$86,MATCH($B2&$C2,Nov!$B$2:$B$86&Nov!$C$2:$C$86,0))+INDEX(Déc!$H$2:$H$88,MATCH($B2&$C2,Déc!$B$2:$B$88&Déc!$C$2:$C$88,0))} -> 36719.081 | I2: {=INDEX(Oct!$I$2:$I$86,MATCH($B2&$C2,Oct!$B$2:$B$86&Oct!$C$2:$C$86,0))+INDEX(Nov!$I$2:$I$86,MATCH($B2&$C2,Nov!$B$2:$B$86&Nov!$C$2:$C$86,0))+INDEX(Déc!$I$2:$I$88,MATCH($B2&$C2,Déc!$B$2:$B$88&Déc!$C$2:$C$88,0))} -> 284 | J2: {=INDEX(Oct!$J$2:$J$86,MATCH($B2&$C2,Oct!$B$2:$B$86&Oct!$C$2:$C$86,0))+INDEX(Nov!$J$2:$J$86,MATCH($B2&$C2,Nov!$B$2:$B$86&Nov!$C$2:$C$86,0))+INDEX(Déc!$J$2:$J$88,MATCH($B2&$C2,Déc!$B$2:$B$88&Déc!$C$2:$C$88,0))} -> 32 | K2: {=INDEX(Oct!$K$2:$K$86,MATCH($B2&$C2,Oct!$B$2:$B$86&Oct!$C$2:$C$86,0))+INDEX(Nov!$K$2:$K$86,MATCH($B2&$C2,Nov!$B$2:$B$86&Nov!$C$2:$C$86,0))+INDEX(Déc!$K$2:$K$88,MATCH($B2&$C2,Déc!$B$2:$B$88&Déc!$C$2:$C$88,0))} -> 316 | L2: {=INDEX(Oct!$L$2:$L$86,MATCH($B2&$C2,Oct!$B$2:$B$86&Oct!$C$2:$C$86,0))+INDEX(Nov!$L$2:$L$86,MATCH($B2&$C2,Nov!$B$2:$B$86&Nov!$C$2:$C$86,0))+INDEX(Déc!$L$2:$L$88,MATCH($B2&$C2,Déc!$B$2:$B$88&Déc!$C$2:$C$88,0))} -> 310.5997
A3: =+RANK(H3,$H$2:$H$90) -> #N/A | B3: AVRA | C3: CYRIL | D3: {=INDEX(Oct!$D$2:$D$86,MATCH($B3&$C3,Oct!$B$2:$B$86&Oct!$C$2:$C$86,0))+INDEX(Nov!$D$2:$D$86,MATCH($B3&$C3,Nov!$B$2:$B$86&Nov!$C$2:$C$86,0))+INDEX(Déc!$D$2:$D$88,MATCH($B3&$C3,Déc!$B$2:$B$88&Déc!$C$2:$C$88,0))} -> 249.5 | E3: {=INDEX(Oct!$E$2:$E$86,MATCH($B3&$C3,Oct!$B$2:$B$86&Oct!$C$2:$C$86,0))+INDEX(Nov!$E$2:$E$86,MATCH($B3&$C3,Nov!$B$2:$B$86&Nov!$C$2:$C$86,0))+INDEX(Déc!$E$2:$E$88,MATCH($B3&$C3,Déc!$B$2:$B$88&Déc!$C$2:$C$88,0))} -> 17980.51 | F3: {=INDEX(Oct!$F$2:$F$86,MATCH($B3&$C3,Oct!$B$2:$B$86&Oct!$C$2:$C$86,0))+INDEX(Nov!$F$2:$F$86,MATCH($B3&$C3,Nov!$B$2:$B$86&Nov!$C$2:$C$86,0))+INDEX(Déc!$F$2:$F$88,MATCH($B3&$C3,Déc!$B$2:$B$88&Déc!$C$2:$C$88,0))} -> 1565.51 | G3: {=INDEX(Oct!$G$2:$G$86,MATCH($B3&$C3,Oct!$B$2:$B$86&Oct!$C$2:$C$86,0))+INDEX(Nov!$G$2:$G$86,MATCH($B3&$C3,Nov!$B$2:$B$86&Nov!$C$2:$C$86,0))+INDEX(Déc!$G$2:$G$88,MATCH($B3&$C3,Déc!$B$2:$B$88&Déc!$C$2:$C$88,0))} -> 19546.02 | H3: {=INDEX(Oct!$H$2:$H$86,MATCH($B3&$C3,Oct!$B$2:$B$86&Oct!$C$2:$C$86,0))+INDEX(Nov!$H$2:$H$86,MATCH($B3&$C3,Nov!$B$2:$B$86&Nov!$C$2:$C$86,0))+INDEX(Déc!$H$2:$H$88,MATCH($B3&$C3,Déc!$B$2:$B$88&Déc!$C$2:$C$88,0))} -> 34319.968 | I3: {=INDEX(Oct!$I$2:$I$86,MATCH($B3&$C3,Oct!$B$2:$B$86&Oct!$C$2:$C$86,0))+INDEX(Nov!$I$2:$I$86,MATCH($B3&$C3,Nov!$B$2:$B$86&Nov!$C$2:$C$86,0))+INDEX(Déc!$I$2:$I$88,MATCH($B3&$C3,Déc!$B$2:$B$88&Déc!$C$2:$C$88,0))} -> 146 | J3: {=INDEX(Oct!$J$2:$J$86,MATCH($B3&$C3,Oct!$B$2:$B$86&Oct!$C$2:$C$86,0))+INDEX(Nov!$J$2:$J$86,MATCH($B3&$C3,Nov!$B$2:$B$86&Nov!$C$2:$C$86,0))+INDEX(Déc!$J$2:$J$88,MATCH($B3&$C3,Déc!$B$2:$B$88&Déc!$C$2:$C$88,0))} -> 12 | K3: {=INDEX(Oct!$K$2:$K$86,MATCH($B3&$C3,Oct!$B$2:$B$86&Oct!$C$2:$C$86,0))+INDEX(Nov!$K$2:$K$86,MATCH($B3&$C3,Nov!$B$2:$B$86&Nov!$C$2:$C$86,0))+INDEX(Déc!$K$2:$K$88,MATCH($B3&$C3,Déc!$B$2:$B$88&Déc!$C$2:$C$88,0))} -> 158 | L3: {=INDEX(Oct!$L$2:$L$86,MATCH($B3&$C3,Oct!$B$2:$B$86&Oct!$C$2:$C$86,0))+INDEX(Nov!$L$2:$L$86,MATCH($B3&$C3,Nov!$B$2:$B$86&Nov!$C$2:$C$86,0))+INDEX(Déc!$L$2:$L$88,MATCH($B3&$C3,Déc!$B$2:$B$88&Déc!$C$2:$C$88,0))} -> 284.65331
A4: =+RANK(H4,$H$2:$H$90) -> #N/A | B4: AVRA | C4: KERRY | D4: {=INDEX(Oct!$D$2:$D$86,MATCH($B4&$C4,Oct!$B$2:$B$86&Oct!$C$2:$C$86,0))+INDEX(Nov!$D$2:$D$86,MATCH($B4&$C4,Nov!$B$2:$B$86&Nov!$C$2:$C$86,0))+INDEX(Déc!$D$2:$D$88,MATCH($B4&$C4,Déc!$B$2:$B$88&Déc!$C$2:$C$88,0))} -> 471.5 | E4: {=INDEX(Oct!$E$2:$E$86,MATCH($B4&$C4,Oct!$B$2:$B$86&Oct!$C$2:$C$86,0))+INDEX(Nov!$E$2:$E$86,MATCH($B4&$C4,Nov!$B$2:$B$86&Nov!$C$2:$C$86,0))+INDEX(Déc!$E$2:$E$88,MATCH($B4&$C4,Déc!$B$2:$B$88&Déc!$C$2:$C$88,0))} -> 35244.53 | F4: {=INDEX(Oct!$F$2:$F$86,MATCH($B4&$C4,Oct!$B$2:$B$86&Oct!$C$2:$C$86,0))+INDEX(Nov!$F$2:$F$86,MATCH($B4&$C4,Nov!$B$2:$B$86&Nov!$C$2:$C$86,0))+INDEX(Déc!$F$2:$F$88,MATCH($B4&$C4,Déc!$B$2:$B$88&Déc!$C$2:$C$88,0))} -> 3014.01 | G4: {=INDEX(Oct!$G$2:$G$86,MATCH($B4&$C4,Oct!$B$2:$B$86&Oct!$C$2:$C$86,0))+INDEX(Nov!$G$2:$G$86,MATCH($B4&$C4,Nov!$B$2:$B$86&Nov!$C$2:$C$86,0))+INDEX(Déc!$G$2:$G$88,MATCH($B4&$C4,Déc!$B$2:$B$88&Déc!$C$2:$C$88,0))} -> 38258.54 | H4: {=INDEX(Oct!$H$2:$H$86,MATCH($B4&$C4,Oct!$B$2:$B$86&Oct!$C$2:$C$86,0))+INDEX(Nov!$H$2:$H$86,MATCH($B4&$C4,Nov!$B$2:$B$86&Nov!$C$2:$C$86,0))+INDEX(Déc!$H$2:$H$88,MATCH($B4&$C4,Déc!$B$2:$B$88&Déc!$C$2:$C$88,0))} -> 36815.225 | I4: {=INDEX(Oct!$I$2:$I$86,MATCH($B4&$C4,Oct!$B$2:$B$86&Oct!$C$2:$C$86,0))+INDEX(Nov!$I$2:$I$86,MATCH($B4&$C4,Nov!$B$2:$B$86&Nov!$C$2:$C$86,0))+INDEX(Déc!$I$2:$I$88,MATCH($B4&$C4,Déc!$B$2:$B$88&Déc!$C$2:$C$88,0))} -> 278 | J4: {=INDEX(Oct!$J$2:$J$86,MATCH($B4&$C4,Oct!$B$2:$B$86&Oct!$C$2:$C$86,0))+INDEX(Nov!$J$2:$J$86,MATCH($B4&$C4,Nov!$B$2:$B$86&Nov!$C$2:$C$86,0))+INDEX(Déc!$J$2:$J$88,MATCH($B4&$C4,Déc!$B$2:$B$88&Déc!$C$2:$C$88,0))} -> 23 | K4: {=INDEX(Oct!$K$2:$K$86,MATCH($B4&$C4,Oct!$B$2:$B$86&Oct!$C$2:$C$86,0))+INDEX(Nov!$K$2:$K$86,MATCH($B4&$C4,Nov!$B$2:$B$86&Nov!$C$2:$C$86,0))+INDEX(Déc!$K$2:$K$88,MATCH($B4&$C4,Déc!$B$2:$B$88&Déc!$C$2:$C$88,0))} -> 301 | L4: {=INDEX(Oct!$L$2:$L$86,MATCH($B4&$C4,Oct!$B$2:$B$86&Oct!$C$2:$C$86,0))+INDEX(Nov!$L$2:$L$86,MATCH($B4&$C4,Nov!$B$2:$B$86&Nov!$C$2:$C$86,0))+INDEX(Déc!$L$2:$L$88,MATCH($B4&$C4,Déc!$B$2:$B$88&Déc!$C$2:$C$88,0))} -> 292.57533
A5: =+RANK(H5,$H$2:$H$90) -> #N/A | B5: AVRA | C5: LUDIVINE | D5: {=INDEX(Oct!$D$2:$D$86,MATCH($B5&$C5,Oct!$B$2:$B$86&Oct!$C$2:$C$86,0))+INDEX(Nov!$D$2:$D$86,MATCH($B5&$C5,Nov!$B$2:$B$86&Nov!$C$2:$C$86,0))+INDEX(Déc!$D$2:$D$88,MATCH($B5&$C5,Déc!$B$2:$B$88&Déc!$C$2:$C$88,0))} -> 452 | E5: {=INDEX(Oct!$E$2:$E$86,MATCH($B5&$C5,Oct!$B$2:$B$86&Oct!$C$2:$C$86,0))+INDEX(Nov!$E$2:$E$86,MATCH($B5&$C5,Nov!$B$2:$B$86&Nov!$C$2:$C$86,0))+INDEX(Déc!$E$2:$E$88,MATCH($B5&$C5,Déc!$B$2:$B$88&Déc!$C$2:$C$88,0))} -> 33213.77 | F5: {=INDEX(Oct!$F$2:$F$86,MATCH($B5&$C5,Oct!$B$2:$B$86&Oct!$C$2:$C$86,0))+INDEX(Nov!$F$2:$F$86,MATCH($B5&$C5,Nov!$B$2:$B$86&Nov!$C$2:$C$86,0))+INDEX(Déc!$F$2:$F$88,MATCH($B5&$C5,Déc!$B$2:$B$88&Déc!$C$2:$C$88,0))} -> 2442.99 | G5: {=INDEX(Oct!$G$2:$G$86,MATCH($B5&$C5,Oct!$B$2:$B$86&Oct!$C$2:$C$86,0))+INDEX(Nov!$G$2:$G$86,MATCH($B5&$C5,Nov!$B$2:$B$86&Nov!$C$2:$C$86,0))+INDEX(Déc!$G$2:$G$88,MATCH($B5&$C5,Déc!$B$2:$B$88&Déc!$C$2:$C$88,0))} -> 35656.76 | H5: {=INDEX(Oct!$H$2:$H$86,MATCH($B5&$C5,Oct!$B$2:$B$86&Oct!$C$2:$C$86,0))+INDEX(Nov!$H$2:$H$86,MATCH($B5&$C5,Nov!$B$2:$B$86&Nov!$C$2:$C$86,0))+INDEX(Déc!$H$2:$H$88,MATCH($B5&$C5,Déc!$B$2:$B$88&Déc!$C$2:$C$88,0))} -> 35489.228 | I5: {=INDEX(Oct!$I$2:$I$86,MATCH($B5&$C5,Oct!$B$2:$B$86&Oct!$C$2:$C$86,0))+INDEX(Nov!$I$2:$I$86,MATCH($B5&$C5,Nov!$B$2:$B$86&Nov!$C$2:$C$86,0))+INDEX(Déc!$I$2:$I$88,MATCH($B5&$C5,Déc!$B$2:$B$88&Déc!$C$2:$C$88,0))} -> 268 | J5: {=INDEX(Oct!$J$2:$J$86,MATCH($B5&$C5,Oct!$B$2:$B$86&Oct!$C$2:$C$86,0))+INDEX(Nov!$J$2:$J$86,MATCH($B5&$C5,Nov!$B$2:$B$86&Nov!$C$2:$C$86,0))+INDEX(Déc!$J$2:$J$88,MATCH($B5&$C5,Déc!$B$2:$B$88&Déc!$C$2:$C$88,0))} -> 22 | K5: {=INDEX(Oct!$K$2:$K$86,MATCH($B5&$C5,Oct!$B$2:$B$86&Oct!$C$2:$C$86,0))+INDEX(Nov!$K$2:$K$86,MATCH($B5&$C5,Nov!$B$2:$B$86&Nov!$C$2:$C$86,0))+INDEX(Déc!$K$2:$K$88,MATCH($B5&$C5,Déc!$B$2:$B$88&Déc!$C$2:$C$88,0))} -> 290 | L5: {=INDEX(Oct!$L$2:$L$86,MATCH($B5&$C5,Oct!$B$2:$B$86&Oct!$C$2:$C$86,0))+INDEX(Nov!$L$2:$L$86,MATCH($B5&$C5,Nov!$B$2:$B$86&Nov!$C$2:$C$86,0))+INDEX(Déc!$L$2:$L$88,MATCH($B5&$C5,Déc!$B$2:$B$88&Déc!$C$2:$C$88,0))} -> 290.06012
A6: =+RANK(H6,$H$2:$H$90) -> #N/A | B6: AVRA | C6: M-ANTOINE | D6: {=INDEX(Oct!$D$2:$D$86,MATCH($B6&$C6,Oct!$B$2:$B$86&Oct!$C$2:$C$86,0))+INDEX(Nov!$D$2:$D$86,MATCH($B6&$C6,Nov!$B$2:$B$86&Nov!$C$2:$C$86,0))+INDEX(Déc!$D$2:$D$88,MATCH($B6&$C6,Déc!$B$2:$B$88&Déc!$C$2:$C$88,0))} -> 429.5 | E6: {=INDEX(Oct!$E$2:$E$86,MATCH($B6&$C6,Oct!$B$2:$B$86&Oct!$C$2:$C$86,0))+INDEX(Nov!$E$2:$E$86,MATCH($B6&$C6,Nov!$B$2:$B$86&Nov!$C$2:$C$86,0))+INDEX(Déc!$E$2:$E$88,MATCH($B6&$C6,Déc!$B$2:$B$88&Déc!$C$2:$C$88,0))} -> 25103.57 | F6: {=INDEX(Oct!$F$2:$F$86,MATCH($B6&$C6,Oct!$B$2:$B$86&Oct!$C$2:$C$86,0))+INDEX(Nov!$F$2:$F$86,MATCH($B6&$C6,Nov!$B$2:$B$86&Nov!$C$2:$C$86,0))+INDEX(Déc!$F$2:$F$88,MATCH($B6&$C6,Déc!$B$2:$B$88&Déc!$C$2:$C$88,0))} -> 2518.83 | G6: {=INDEX(Oct!$G$2:$G$86,MATCH($B6&$C6,Oct!$B$2:$B$86&Oct!$C$2:$C$86,0))+INDEX(Nov!$G$2:$G$86,MATCH($B6&$C6,Nov!$B$2:$B$86&Nov!$C$2:$C$86,0))+INDEX(Déc!$G$2:$G$88,MATCH($B6&$C6,Déc!$B$2:$B$88&Déc!$C$2:$C$88,0))} -> 27622.4 | H6: {=INDEX(Oct!$H$2:$H$86,MATCH($B6&$C6,Oct!$B$2:$B$86&Oct!$C$2:$C$86,0))+INDEX(Nov!$H$2:$H$86,MATCH($B6&$C6,Nov!$B$2:$B$86&Nov!$C$2:$C$86,0))+INDEX(Déc!$H$2:$H$88,MATCH($B6&$C6,Déc!$B$2:$B$88&Déc!$C$2:$C$88,0))} -> 27705.447 | I6: {=INDEX(Oct!$I$2:$I$86,MATCH($B6&$C6,Oct!$B$2:$B$86&Oct!$C$2:$C$86,0))+INDEX(Nov!$I$2:$I$86,MATCH($B6&$C6,Nov!$B$2:$B$86&Nov!$C$2:$C$86,0))+INDEX(Déc!$I$2:$I$88,MATCH($B6&$C6,Déc!$B$2:$B$88&Déc!$C$2:$C$88,0))} -> 221 | J6: {=INDEX(Oct!$J$2:$J$86,MATCH($B6&$C6,Oct!$B$2:$B$86&Oct!$C$2:$C$86,0))+INDEX(Nov!$J$2:$J$86,MATCH($B6&$C6,Nov!$B$2:$B$86&Nov!$C$2:$C$86,0))+INDEX(Déc!$J$2:$J$88,MATCH($B6&$C6,Déc!$B$2:$B$88&Déc!$C$2:$C$88,0))} -> 19 | K6: {=INDEX(Oct!$K$2:$K$86,MATCH($B6&$C6,Oct!$B$2:$B$86&Oct!$C$2:$C$86,0))+INDEX(Nov!$K$2:$K$86,MATCH($B6&$C6,Nov!$B$2:$B$86&Nov!$C$2:$C$86,0))+INDEX(Déc!$K$2:$K$88,MATCH($B6&$C6,Déc!$B$2:$B$88&Déc!$C$2:$C$88,0))} -> 240 | L6: {=INDEX(Oct!$L$2:$L$86,MATCH($B6&$C6,Oct!$B$2:$B$86&Oct!$C$2:$C$86,0))+INDEX(Nov!$L$2:$L$86,MATCH($B6&$C6,Nov!$B$2:$B$86&Nov!$C$2:$C$86,0))+INDEX(Déc!$L$2:$L$88,MATCH($B6&$C6,Déc!$B$2:$B$88&Déc!$C$2:$C$88,0))} -> 240.11606
A7: =+RANK(H7,$H$2:$H$90) -> #N/A | B7: AVRA | C7: VALENTIN | D7: {=INDEX(Oct!$D$2:$D$86,MATCH($B7&$C7,Oct!$B$2:$B$86&Oct!$C$2:$C$86,0))+INDEX(Nov!$D$2:$D$86,MATCH($B7&$C7,Nov!$B$2:$B$86&Nov!$C$2:$C$86,0))+INDEX(Déc!$D$2:$D$88,MATCH($B7&$C7,Déc!$B$2:$B$88&Déc!$C$2:$C$88,0))} -> #N/A | E7: {=INDEX(Oct!$E$2:$E$86,MATCH($B7&$C7,Oct!$B$2:$B$86&Oct!$C$2:$C$86,0))+INDEX(Nov!$E$2:$E$86,MATCH($B7&$C7,Nov!$B$2:$B$86&Nov!$C$2:$C$86,0))+INDEX(Déc!$E$2:$E$88,MATCH($B7&$C7,Déc!$B$2:$B$88&Déc!$C$2:$C$88,0))} -> #N/A | F7: {=INDEX(Oct!$F$2:$F$86,MATCH($B7&$C7,Oct!$B$2:$B$86&Oct!$C$2:$C$86,0))+INDEX(Nov!$F$2:$F$86,MATCH($B7&$C7,Nov!$B$2:$B$86&Nov!$C$2:$C$86,0))+INDEX(Déc!$F$2:$F$88,MATCH($B7&$C7,Déc!$B$2:$B$88&Déc!$C$2:$C$88,0))} -> #N/A | G7: {=INDEX(Oct!$G$2:$G$86,MATCH($B7&$C7,Oct!$B$2:$B$86&Oct!$C$2:$C$86,0))+INDEX(Nov!$G$2:$G$86,MATCH($B7&$C7,Nov!$B$2:$B$86&Nov!$C$2:$C$86,0))+INDEX(Déc!$G$2:$G$88,MATCH($B7&$C7,Déc!$B$2:$B$88&Déc!$C$2:$C$88,0))} -> #N/A | H7: {=INDEX(Oct!$H$2:$H$86,MATCH($B7&$C7,Oct!$B$2:$B$86&Oct!$C$2:$C$86,0))+INDEX(Nov!$H$2:$H$86,MATCH($B7&$C7,Nov!$B$2:$B$86&Nov!$C$2:$C$86,0))+INDEX(Déc!$H$2:$H$88,MATCH($B7&$C7,Déc!$B$2:$B$88&Déc!$C$2:$C$88,0))} -> #N/A | I7: {=INDEX(Oct!$I$2:$I$86,MATCH($B7&$C7,Oct!$B$2:$B$86&Oct!$C$2:$C$86,0))+INDEX(Nov!$I$2:$I$86,MATCH($B7&$C7,Nov!$B$2:$B$86&Nov!$C$2:$C$86,0))+INDEX(Déc!$I$2:$I$88,MATCH($B7&$C7,Déc!$B$2:$B$88&Déc!$C$2:$C$88,0))} -> #N/A | J7: {=INDEX(Oct!$J$2:$J$86,MATCH($B7&$C7,Oct!$B$2:$B$86&Oct!$C$2:$C$86,0))+INDEX(Nov!$J$2:$J$86,MATCH($B7&$C7,Nov!$B$2:$B$86&Nov!$C$2:$C$86,0))+INDEX(Déc!$J$2:$J$88,MATCH($B7&$C7,Déc!$B$2:$B$88&Déc!$C$2:$C$88,0))} -> #N/A | K7: {=INDEX(Oct!$K$2:$K$86,MATCH($B7&$C7,Oct!$B$2:$B$86&Oct!$C$2:$C$86,0))+INDEX(Nov!$K$2:$K$86,MATCH($B7&$C7,Nov!$B$2:$B$86&Nov!$C$2:$C$86,0))+INDEX(Déc!$K$2:$K$88,MATCH($B7&$C7,Déc!$B$2:$B$88&Déc!$C$2:$C$88,0))} -> #N/A | L7: {=INDEX(Oct!$L$2:$L$86,MATCH($B7&$C7,Oct!$B$2:$B$86&Oct!$C$2:$C$86,0))+INDEX(Nov!$L$2:$L$86,MATCH($B7&$C7,Nov!$B$2:$B$86&Nov!$C$2:$C$86,0))+INDEX(Déc!$L$2:$L$88,MATCH($B7&$C7,Déc!$B$2:$B$88&Déc!$C$2:$C$88,0))} -> #N/A
A8: =+RANK(H8,$H$2:$H$90) -> #N/A | B8: CHER | C8: CLEMENT | D8: {=INDEX(Oct!$D$2:$D$86,MATCH($B8&$C8,Oct!$B$2:$B$86&Oct!$C$2:$C$86,0))+INDEX(Nov!$D$2:$D$86,MATCH($B8&$C8,Nov!$B$2:$B$86&Nov!$C$2:$C$86,0))+INDEX(Déc!$D$2:$D$88,MATCH($B8&$C8,Déc!$B$2:$B$88&Déc!$C$2:$C$88,0))} -> 259.5 | E8: {=INDEX(Oct!$E$2:$E$86,MATCH($B8&$C8,Oct!$B$2:$B$86&Oct!$C$2:$C$86,0))+INDEX(Nov!$E$2:$E$86,MATCH($B8&$C8,Nov!$B$2:$B$86&Nov!$C$2:$C$86,0))+INDEX(Déc!$E$2:$E$88,MATCH($B8&$C8,Déc!$B$2:$B$88&Déc!$C$2:$C$88,0))} -> 16240.65 | F8: {=INDEX(Oct!$F$2:$F$86,MATCH($B8&$C8,Oct!$B$2:$B$86&Oct!$C$2:$C$86,0))+INDEX(Nov!$F$2:$F$86,MATCH($B8&$C8,Nov!$B$2:$B$86&Nov!$C$2:$C$86,0))+INDEX(Déc!$F$2:$F$88,MATCH($B8&$C8,Déc!$B$2:$B$88&Déc!$C$2:$C$88,0))} -> 658.83 | G8: {=INDEX(Oct!$G$2:$G$86,MATCH($B8&$C8,Oct!$B$2:$B$86&Oct!$C$2:$C$86,0))+INDEX(Nov!$G$2:$G$86,MATCH($B8&$C8,Nov!$B$2:$B$86&Nov!$C$2:$C$86,0))+INDEX(Déc!$G$2:$G$88,MATCH($B8&$C8,Déc!$B$2:$B$88&Déc!$C$2:$C$88,0))} -> 16899.48 | H8: {=INDEX(Oct!$H$2:$H$86,MATCH($B8&$C8,Oct!$B$2:$B$86&Oct!$C$2:$C$86,0))+INDEX(Nov!$H$2:$H$86,MATCH($B8&$C8,Nov!$B$2:$B$86&Nov!$C$2:$C$86,0))+INDEX(Déc!$H$2:$H$88,MATCH($B8&$C8,Déc!$B$2:$B$88&Déc!$C$2:$C$88,0))} -> 32410.892 | I8: {=INDEX(Oct!$I$2:$I$86,MATCH($B8&$C8,Oct!$B$2:$B$86&Oct!$C$2:$C$86,0))+INDEX(Nov!$I$2:$I$86,MATCH($B8&$C8,Nov!$B$2:$B$86&Nov!$C$2:$C$86,0))+INDEX(Déc!$I$2:$I$88,MATCH($B8&$C8,Déc!$B$2:$B$88&Déc!$C$2:$C$88,0))} -> 124 | J8: {=INDEX(Oct!$J$2:$J$86,MATCH($B8&$C8,Oct!$B$2:$B$86&Oct!$C$2:$C$86,0))+INDEX(Nov!$J$2:$J$86,MATCH($B8&$C8,Nov!$B$2:$B$86&Nov!$C$2:$C$86,0))+INDEX(Déc!$J$2:$J$88,MATCH($B8&$C8,Déc!$B$2:$B$88&Déc!$C$2:$C$88,0))} -> 4 | K8: {=INDEX(Oct!$K$2:$K$86,MATCH($B8&$C8,Oct!$B$2:$B$86&Oct!$C$2:$C$86,0))+INDEX(Nov!$K$2:$K$86,MATCH($B8&$C8,Nov!$B$2:$B$86&Nov!$C$2:$C$86,0))+INDEX(Déc!$K$2:$K$88,MATCH($B8&$C8,Déc!$B$2:$B$88&Déc!$C$2:$C$88,0))} -> 128 | L8: {=INDEX(Oct!$L$2:$L$86,MATCH($B8&$C8,Oct!$B$2:$B$86&Oct!$C$2:$C$86,0))+INDEX(Nov!$L$2:$L$86,MATCH($B8&$C8,Nov!$B$2:$B$86&Nov!$C$2:$C$86,0))+INDEX(Déc!$L$2:$L$88,MATCH($B8&$C8,Déc!$B$2:$B$88&Déc!$C$2:$C$88,0))} -> 241.83335
A9: =+RANK(H9,$H$2:$H$90) -> #N/A | B9: CHER | C9: JULIEN | D9: {=INDEX(Oct!$D$2:$D$86,MATCH($B9&$C9,Oct!$B$2:$B$86&Oct!$C$2:$C$86,0))+INDEX(Nov!$D$2:$D$86,MATCH($B9&$C9,Nov!$B$2:$B$86&Nov!$C$2:$C$86,0))+INDEX(Déc!$D$2:$D$88,MATCH($B9&$C9,Déc!$B$2:$B$88&Déc!$C$2:$C$88,0))} -> 401.5 | E9: {=INDEX(Oct!$E$2:$E$86,MATCH($B9&$C9,Oct!$B$2:$B$86&Oct!$C$2:$C$86,0))+INDEX(Nov!$E$2:$E$86,MATCH($B9&$C9,Nov!$B$2:$B$86&Nov!$C$2:$C$86,0))+INDEX(Déc!$E$2:$E$88,MATCH($B9&$C9,Déc!$B$2:$B$88&Déc!$C$2:$C$88,0))} -> 28947.86 | F9: {=INDEX(Oct!$F$2:$F$86,MATCH($B9&$C9,Oct!$B$2:$B$86&Oct!$C$2:$C$86,0))+INDEX(Nov!$F$2:$F$86,MATCH($B9&$C9,Nov!$B$2:$B$86&Nov!$C$2:$C$86,0))+INDEX(Déc!$F$2:$F$88,MATCH($B9&$C9,Déc!$B$2:$B$88&Déc!$C$2:$C$88,0))} -> 2448.97 | G9: {=INDEX(Oct!$G$2:$G$86,MATCH($B9&$C9,Oct!$B$2:$B$86&Oct!$C$2:$C$86,0))+INDEX(Nov!$G$2:$G$86,MATCH($B9&$C9,Nov!$B$2:$B$86&Nov!$C$2:$C$86,0))+INDEX(Déc!$G$2:$G$88,MATCH($B9&$C9,Déc!$B$2:$B$88&Déc!$C$2:$C$88,0))} -> 31396.83 | H9: {=INDEX(Oct!$H$2:$H$86,MATCH($B9&$C9,Oct!$B$2:$B$86&Oct!$C$2:$C$86,0))+INDEX(Nov!$H$2:$H$86,MATCH($B9&$C9,Nov!$B$2:$B$86&Nov!$C$2:$C$86,0))+INDEX(Déc!$H$2:$H$88,MATCH($B9&$C9,Déc!$B$2:$B$88&Déc!$C$2:$C$88,0))} -> 35699.825 | I9: {=INDEX(Oct!$I$2:$I$86,MATCH($B9&$C9,Oct!$B$2:$B$86&Oct!$C$2:$C$86,0))+INDEX(Nov!$I$2:$I$86,MATCH($B9&$C9,Nov!$B$2:$B$86&Nov!$C$2:$C$86,0))+INDEX(Déc!$I$2:$I$88,MATCH($B9&$C9,Déc!$B$2:$B$88&Déc!$C$2:$C$88,0))} -> 235 | J9: {=INDEX(Oct!$J$2:$J$86,MATCH($B9&$C9,Oct!$B$2:$B$86&Oct!$C$2:$C$86,0))+INDEX(Nov!$J$2:$J$86,MATCH($B9&$C9,Nov!$B$2:$B$86&Nov!$C$2:$C$86,0))+INDEX(Déc!$J$2:$J$88,MATCH($B9&$C9,Déc!$B$2:$B$88&Déc!$C$2:$C$88,0))} -> 23 | K9: {=INDEX(Oct!$K$2:$K$86,MATCH($B9&$C9,Oct!$B$2:$B$86&Oct!$C$2:$C$86,0))+INDEX(Nov!$K$2:$K$86,MATCH($B9&$C9,Nov!$B$2:$B$86&Nov!$C$2:$C$86,0))+INDEX(Déc!$K$2:$K$88,MATCH($B9&$C9,Déc!$B$2:$B$88&Déc!$C$2:$C$88,0))} -> 258 | L9: {=INDEX(Oct!$L$2:$L$86,MATCH($B9&$C9,Oct!$B$2:$B$86&Oct!$C$2:$C$86,0))+INDEX(Nov!$L$2:$L$86,MATCH($B9&$C9,Nov!$B$2:$B$86&Nov!$C$2:$C$86,0))+INDEX(Déc!$L$2:$L$88,MATCH($B9&$C9,Déc!$B$2:$B$88&Déc!$C$2:$C$88,0))} -> 292.49566
A10: =+RANK(H10,$H$2:$H$90) -> #N/A | B10: CHER | C10: THEA | D10: {=INDEX(Oct!$D$2:$D$86,MATCH($B10&$C10,Oct!$B$2:$B$86&Oct!$C$2:$C$86,0))+INDEX(Nov!$D$2:$D$86,MATCH($B10&$C10,Nov!$B$2:$B$86&Nov!$C$2:$C$86,0))+INDEX(Déc!$D$2:$D$88,MATCH($B10&$C10,Déc!$B$2:$B$88&Déc!$C$2:$C$88,0))} -> 271.5 | E10: {=INDEX(Oct!$E$2:$E$86,MATCH($B10&$C10,Oct!$B$2:$B$86&Oct!$C$2:$C$86,0))+INDEX(Nov!$E$2:$E$86,MATCH($B10&$C10,Nov!$B$2:$B$86&Nov!$C$2:$C$86,0))+INDEX(Déc!$E$2:$E$88,MATCH($B10&$C10,Déc!$B$2:$B$88&Déc!$C$2:$C$88,0))} -> 14613.5 | F10: {=INDEX(Oct!$F$2:$F$86,MATCH($B10&$C10,Oct!$B$2:$B$86&Oct!$C$2:$C$86,0))+INDEX(Nov!$F$2:$F$86,MATCH($B10&$C10,Nov!$B$2:$B$86&Nov!$C$2:$C$86,0))+INDEX(Déc!$F$2:$F$88,MATCH($B10&$C10,Déc!$B$2:$B$88&Déc!$C$2:$C$88,0))} -> 1689.01 | G10: {=INDEX(Oct!$G$2:$G$86,MATCH($B10&$C10,Oct!$B$2:$B$86&Oct!$C$2:$C$86,0))+INDEX(Nov!$G$2:$G$86,MATCH($B10&$C10,Nov!$B$2:$B$86&Nov!$C$2:$C$86,0))+INDEX(Déc!$G$2:$G$88,MATCH($B10&$C10,Déc!$B$2:$B$88&Déc!$C$2:$C$88,0))} -> 16302.51 | H10: {=INDEX(Oct!$H$2:$H$86,MATCH($B10&$C10,Oct!$B$2:$B$86&Oct!$C$2:$C$86,0))+INDEX(Nov!$H$2:$H$86,MATCH($B10&$C10,Nov!$B$2:$B$86&Nov!$C$2:$C$86,0))+INDEX(Déc!$H$2:$H$88,MATCH($B10&$C10,Déc!$B$2:$B$88&Déc!$C$2:$C$88,0))} -> 28845.798 | I10: {=INDEX(Oct!$I$2:$I$86,MATCH($B10&$C10,Oct!$B$2:$B$86&Oct!$C$2:$C$86,0))+INDEX(Nov!$I$2:$I$86,MATCH($B10&$C10,Nov!$B$2:$B$86&Nov!$C$2:$C$86,0))+INDEX(Déc!$I$2:$I$88,MATCH($B10&$C10,Déc!$B$2:$B$88&Déc!$C$2:$C$88,0))} -> 118 | J10: {=INDEX(Oct!$J$2:$J$86,MATCH($B10&$C10,Oct!$B$2:$B$86&Oct!$C$2:$C$86,0))+INDEX(Nov!$J$2:$J$86,MATCH($B10&$C10,Nov!$B$2:$B$86&Nov!$C$2:$C$86,0))+INDEX(Déc!$J$2:$J$88,MATCH($B10&$C10,Déc!$B$2:$B$88&Déc!$C$2:$C$88,0))} -> 11 | K10: {=INDEX(Oct!$K$2:$K$86,MATCH($B10&$C10,Oct!$B$2:$B$86&Oct!$C$2:$C$86,0))+INDEX(Nov!$K$2:$K$86,MATCH($B10&$C10,Nov!$B$2:$B$86&Nov!$C$2:$C$86,0))+INDEX(Déc!$K$2:$K$88,MATCH($B10&$C10,Déc!$B$2:$B$88&Déc!$C$2:$C$88,0))} -> 129 | L10: {=INDEX(Oct!$L$2:$L$86,MATCH($B10&$C10,Oct!$B$2:$B$86&Oct!$C$2:$C$86,0))+INDEX(Nov!$L$2:$L$86,MATCH($B10&$C10,Nov!$B$2:$B$86&Nov!$C$2:$C$86,0))+INDEX(Déc!$L$2:$L$88,MATCH($B10&$C10,Déc!$B$2:$B$88&Déc!$C$2:$C$88,0))} -> 219.57732
A11: =+RANK(H11,$H$2:$H$90) -> #N/A | B11: CHER | C11: VALERIE | D11: {=INDEX(Oct!$D$2:$D$86,MATCH($B11&$C11,Oct!$B$2:$B$86&Oct!$C$2:$C$86,0))+INDEX(Nov!$D$2:$D$86,MATCH($B11&$C11,Nov!$B$2:$B$86&Nov!$C$2:$C$86,0))+INDEX(Déc!$D$2:$D$88,MATCH($B11&$C11,Déc!$B$2:$B$88&Déc!$C$2:$C$88,0))} -> 409 | E11: {=INDEX(Oct!$E$2:$E$86,MATCH($B11&$C11,Oct!$B$2:$B$86&Oct!$C$2:$C$86,0))+INDEX(Nov!$E$2:$E$86,MATCH($B11&$C11,Nov!$B$2:$B$86&Nov!$C$2:$C$86,0))+INDEX(Déc!$E$2:$E$88,MATCH($B11&$C11,Déc!$B$2:$B$88&Déc!$C$2:$C$88,0))} -> 27758.91 | F11: {=INDEX(Oct!$F$2:$F$86,MATCH($B11&$C11,Oct!$B$2:$B$86&Oct!$C$2:$C$86,0))+INDEX(Nov!$F$2:$F$86,MATCH($B11&$C11,Nov!$B$2:$B$86&Nov!$C$2:$C$86,0))+INDEX(Déc!$F$2:$F$88,MATCH($B11&$C11,Déc!$B$2:$B$88&Déc!$C$2:$C$88,0))} -> 2224.95 | G11: {=INDEX(Oct!$G$2:$G$86,MATCH($B11&$C11,Oct!$B$2:$B$86&Oct!$C$2:$C$86,0))+INDEX(Nov!$G$2:$G$86,MATCH($B11&$C11,Nov!$B$2:$B$86&Nov!$C$2:$C$86,0))+INDEX(Déc!$G$2:$G$88,MATCH($B11&$C11,Déc!$B$2:$B$88&Déc!$C$2:$C$88,0))} -> 29983.86 | H11: {=INDEX(Oct!$H$2:$H$86,MATCH($B11&$C11,Oct!$B$2:$B$86&Oct!$C$2:$C$86,0))+INDEX(Nov!$H$2:$H$86,MATCH($B11&$C11,Nov!$B$2:$B$86&Nov!$C$2:$C$86,0))+INDEX(Déc!$H$2:$H$88,MATCH($B11&$C11,Déc!$B$2:$B$88&Déc!$C$2:$C$88,0))} -> 32484.801 | I11: {=INDEX(Oct!$I$2:$I$86,MATCH($B11&$C11,Oct!$B$2:$B$86&Oct!$C$2:$C$86,0))+INDEX(Nov!$I$2:$I$86,MATCH($B11&$C11,Nov!$B$2:$B$86&Nov!$C$2:$C$86,0))+INDEX(Déc!$I$2:$I$88,MATCH($B11&$C11,Déc!$B$2:$B$88&Déc!$C$2:$C$88,0))} -> 218 | J11: {=INDEX(Oct!$J$2:$J$86,MATCH($B11&$C11,Oct!$B$2:$B$86&Oct!$C$2:$C$86,0))+INDEX(Nov!$J$2:$J$86,MATCH($B11&$C11,Nov!$B$2:$B$86&Nov!$C$2:$C$86,0))+INDEX(Déc!$J$2:$J$88,MATCH($B11&$C11,Déc!$B$2:$B$88&Déc!$C$2:$C$88,0))} -> 22 | K11: {=INDEX(Oct!$K$2:$K$86,MATCH($B11&$C11,Oct!$B$2:$B$86&Oct!$C$2:$C$86,0))+INDEX(Nov!$K$2:$K$86,MATCH($B11&$C11,Nov!$B$2:$B$86&Nov!$C$2:$C$86,0))+INDEX(Déc!$K$2:$K$88,MATCH($B11&$C11,Déc!$B$2:$B$88&Déc!$C$2:$C$88,0))} -> 240 | L11: {=INDEX(Oct!$L$2:$L$86,MATCH($B11&$C11,Oct!$B$2:$B$86&Oct!$C$2:$C$86,0))+INDEX(Nov!$L$2:$L$86,MATCH($B11&$C11,Nov!$B$2:$B$86&Nov!$C$2:$C$86,0))+INDEX(Déc!$L$2:$L$88,MATCH($B11&$C11,Déc!$B$2:$B$88&Déc!$C$2:$C$88,0))} -> 260.89221
A12: =+RANK(H12,$H$2:$H$90) -> #N/A | B12: CHG2 | C12: ANTHONY | D12: {=INDEX(Oct!$D$2:$D$86,MATCH($B12&$C12,Oct!$B$2:$B$86&Oct!$C$2:$C$86,0))+INDEX(Nov!$D$2:$D$86,MATCH($B12&$C12,Nov!$B$2:$B$86&Nov!$C$2:$C$86,0))+INDEX(Déc!$D$2:$D$88,MATCH($B12&$C12,Déc!$B$2:$B$88&Déc!$C$2:$C$88,0))} -> 375.5 | E12: {=INDEX(Oct!$E$2:$E$86,MATCH($B12&$C12,Oct!$B$2:$B$86&Oct!$C$2:$C$86,0))+INDEX(Nov!$E$2:$E$86,MATCH($B12&$C12,Nov!$B$2:$B$86&Nov!$C$2:$C$86,0))+INDEX(Déc!$E$2:$E$88,MATCH($B12&$C12,Déc!$B$2:$B$88&Déc!$C$2:$C$88,0))} -> 28876.52 | F12: {=INDEX(Oct!$F$2:$F$86,MATCH($B12&$C12,Oct!$B$2:$B$86&Oct!$C$2:$C$86,0))+INDEX(Nov!$F$2:$F$86,MATCH($B12&$C12,Nov!$B$2:$B$86&Nov!$C$2:$C$86,0))+INDEX(Déc!$F$2:$F$88,MATCH($B12&$C12,Déc!$B$2:$B$88&Déc!$C$2:$C$88,0))} -> 3065.99 | G12: {=INDEX(Oct!$G$2:$G$86,MATCH($B12&$C12,Oct!$B$2:$B$86&Oct!$C$2:$C$86,0))+INDEX(Nov!$G$2:$G$86,MATCH($B12&$C12,Nov!$B$2:$B$86&Nov!$C$2:$C$86,0))+INDEX(Déc!$G$2:$G$88,MATCH($B12&$C12,Déc!$B$2:$B$88&Déc!$C$2:$C$88,0))} -> 31942.51 | H12: {=INDEX(Oct!$H$2:$H$86,MATCH($B12&$C12,Oct!$B$2:$B$86&Oct!$C$2:$C$86,0))+INDEX(Nov!$H$2:$H$86,MATCH($B12&$C12,Nov!$B$2:$B$86&Nov!$C$2:$C$86,0))+INDEX(Déc!$H$2:$H$88,MATCH($B12&$C12,Déc!$B$2:$B$88&Déc!$C$2:$C$88,0))} -> 38305.818 | I12: {=INDEX(Oct!$I$2:$I$86,MATCH($B12&$C12,Oct!$B$2:$B$86&Oct!$C$2:$C$86,0))+INDEX(Nov!$I$2:$I$86,MATCH($B12&$C12,Nov!$B$2:$B$86&Nov!$C$2:$C$86,0))+INDEX(Déc!$I$2:$I$88,MATCH($B12&$C12,Déc!$B$2:$B$88&Déc!$C$2:$C$88,0))} -> 234 | J12: {=INDEX(Oct!$J$2:$J$86,MATCH($B12&$C12,Oct!$B$2:$B$86&Oct!$C$2:$C$86,0))+INDEX(Nov!$J$2:$J$86,MATCH($B12&$C12,Nov!$B$2:$B$86&Nov!$C$2:$C$86,0))+INDEX(Déc!$J$2:$J$88,MATCH($B12&$C12,Déc!$B$2:$B$88&Déc!$C$2:$C$88,0))} -> 23 | K12: {=INDEX(Oct!$K$2:$K$86,MATCH($B12&$C12,Oct!$B$2:$B$86&Oct!$C$2:$C$86,0))+INDEX(Nov!$K$2:$K$86,MATCH($B12&$C12,Nov!$B$2:$B$86&Nov!$C$2:$C$86,0))+INDEX(Déc!$K$2:$K$88,MATCH($B12&$C12,Déc!$B$2:$B$88&Déc!$C$2:$C$88,0))} -> 257 | L12: {=INDEX(Oct!$L$2:$L$86,MATCH($B12&$C12,Oct!$B$2:$B$86&Oct!$C$2:$C$86,0))+INDEX(Nov!$L$2:$L$86,MATCH($B12&$C12,Nov!$B$2:$B$86&Nov!$C$2:$C$86,0))+INDEX(Déc!$L$2:$L$88,MATCH($B12&$C12,Déc!$B$2:$B$88&Déc!$C$2:$C$88,0))} -> 307.57984
A13: =+RANK(H13,$H$2:$H$90) -> #N/A | B13: CHG2 | C13: CECILE | D13: {=INDEX(Oct!$D$2:$D$86,MATCH($B13&$C13,Oct!$B$2:$B$86&Oct!$C$2:$C$86,0))+INDEX(Nov!$D$2:$D$86,MATCH($B13&$C13,Nov!$B$2:$B$86&Nov!$C$2:$C$86,0))+INDEX(Déc!$D$2:$D$88,MATCH($B13&$C13,Déc!$B$2:$B$88&Déc!$C$2:$C$88,0))} -> 382.5 | E13: {=INDEX(Oct!$E$2:$E$86,MATCH($B13&$C13,Oct!$B$2:$B$86&Oct!$C$2:$C$86,0))+INDEX(Nov!$E$2:$E$86,MATCH($B13&$C13,Nov!$B$2:$B$86&Nov!$C$2:$C$86,0))+INDEX(Déc!$E$2:$E$88,MATCH($B13&$C13,Déc!$B$2:$B$88&Déc!$C$2:$C$88,0))} -> 30211.85 | F13: {=INDEX(Oct!$F$2:$F$86,MATCH($B13&$C13,Oct!$B$2:$B$86&Oct!$C$2:$C$86,0))+INDEX(Nov!$F$2:$F$86,MATCH($B13&$C13,Nov!$B$2:$B$86&Nov!$C$2:$C$86,0))+INDEX(Déc!$F$2:$F$88,MATCH($B13&$C13,Déc!$B$2:$B$88&Déc!$C$2:$C$88,0))} -> 3515.75 | G13: {=INDEX(Oct!$G$2:$G$86,MATCH($B13&$C13,Oct!$B$2:$B$86&Oct!$C$2:$C$86,0))+INDEX(Nov!$G$2:$G$86,MATCH($B13&$C13,Nov!$B$2:$B$86&Nov!$C$2:$C$86,0))+INDEX(Déc!$G$2:$G$88,MATCH($B13&$C13,Déc!$B$2:$B$88&Déc!$C$2:$C$88,0))} -> 33727.6 | H13: {=INDEX(Oct!$H$2:$H$86,MATCH($B13&$C13,Oct!$B$2:$B$86&Oct!$C$2:$C$86,0))+INDEX(Nov!$H$2:$H$86,MATCH($B13&$C13,Nov!$B$2:$B$86&Nov!$C$2:$C$86,0))+INDEX(Déc!$H$2:$H$88,MATCH($B13&$C13,Déc!$B$2:$B$88&Déc!$C$2:$C$88,0))} -> 38976.394 | I13: {=INDEX(Oct!$I$2:$I$86,MATCH($B13&$C13,Oct!$B$2:$B$86&Oct!$C$2:$C$86,0))+INDEX(Nov!$I$2:$I$86,MATCH($B13&$C13,Nov!$B$2:$B$86&Nov!$C$2:$C$86,0))+INDEX(Déc!$I$2:$I$88,MATCH($B13&$C13,Déc!$B$2:$B$88&Déc!$C$2:$C$88,0))} -> 259 | J13: {=INDEX(Oct!$J$2:$J$86,MATCH($B13&$C13,Oct!$B$2:$B$86&Oct!$C$2:$C$86,0))+INDEX(Nov!$J$2:$J$86,MATCH($B13&$C13,Nov!$B$2:$B$86&Nov!$C$2:$C$86,0))+INDEX(Déc!$J$2:$J$88,MATCH($B13&$C13,Déc!$B$2:$B$88&Déc!$C$2:$C$88,0))} -> 33 | K13: {=INDEX(Oct!$K$2:$K$86,MATCH($B13&$C13,Oct!$B$2:$B$86&Oct!$C$2:$C$86,0))+INDEX(Nov!$K$2:$K$86,MATCH($B13&$C13,Nov!$B$2:$B$86&Nov!$C$2:$C$86,0))+INDEX(Déc!$K$2:$K$88,MATCH($B13&$C13,Déc!$B$2:$B$88&Déc!$C$2:$C$88,0))} -> 292 | L13: {=INDEX(Oct!$L$2:$L$86,MATCH($B13&$C13,Oct!$B$2:$B$86&Oct!$C$2:$C$86,0))+INDEX(Nov!$L$2:$L$86,MATCH($B13&$C13,Nov!$B$2:$B$86&Nov!$C$2:$C$86,0))+INDEX(Déc!$L$2:$L$88,MATCH($B13&$C13,Déc!$B$2:$B$88&Déc!$C$2:$C$88,0))} -> 339.81901
... A79: =+RANK(H79,$H$2:$H$90) -> #N/A | B79: STNA | C79: MICKAEL | D79: {=INDEX(Oct!$D$2:$D$86,MATCH($B79&$C79,Oct!$B$2:$B$86&Oct!$C$2:$C$86,0))+INDEX(Nov!$D$2:$D$86,MATCH($B79&$C79,Nov!$B$2:$B$86&Nov!$C$2:$C$86,0))+INDEX(Déc!$D$2:$D$88,MATCH($B79&$C79,Déc!$B$2:$B$88&Déc!$C$2:$C$88,0))} -> 217.5 | E79: {=INDEX(Oct!$E$2:$E$86,MATCH($B79&$C79,Oct!$B$2:$B$86&Oct!$C$2:$C$86,0))+INDEX(Nov!$E$2:$E$86,MATCH($B79&$C79,Nov!$B$2:$B$86&Nov!$C$2:$C$86,0))+INDEX(Déc!$E$2:$E$88,MATCH($B79&$C79,Déc!$B$2:$B$88&Déc!$C$2:$C$88,0))} -> 8509.71 | F79: {=INDEX(Oct!$F$2:$F$86,MATCH($B79&$C79,Oct!$B$2:$B$86&Oct!$C$2:$C$86,0))+INDEX(Nov!$F$2:$F$86,MATCH($B79&$C79,Nov!$B$2:$B$86&Nov!$C$2:$C$86,0))+INDEX(Déc!$F$2:$F$88,MATCH($B79&$C79,Déc!$B$2:$B$88&Déc!$C$2:$C$88,0))} -> 1001.27 | G79: {=INDEX(Oct!$G$2:$G$86,MATCH($B79&$C79,Oct!$B$2:$B$86&Oct!$C$2:$C$86,0))+INDEX(Nov!$G$2:$G$86,MATCH($B79&$C79,Nov!$B$2:$B$86&Nov!$C$2:$C$86,0))+INDEX(Déc!$G$2:$G$88,MATCH($B79&$C79,Déc!$B$2:$B$88&Déc!$C$2:$C$88,0))} -> 9510.98 | H79: {=INDEX(Oct!$H$2:$H$86,MATCH($B79&$C79,Oct!$B$2:$B$86&Oct!$C$2:$C$86,0))+INDEX(Nov!$H$2:$H$86,MATCH($B79&$C79,Nov!$B$2:$B$86&Nov!$C$2:$C$86,0))+INDEX(Déc!$H$2:$H$88,MATCH($B79&$C79,Déc!$B$2:$B$88&Déc!$C$2:$C$88,0))} -> 20645.849 | I79: {=INDEX(Oct!$I$2:$I$86,MATCH($B79&$C79,Oct!$B$2:$B$86&Oct!$C$2:$C$86,0))+INDEX(Nov!$I$2:$I$86,MATCH($B79&$C79,Nov!$B$2:$B$86&Nov!$C$2:$C$86,0))+INDEX(Déc!$I$2:$I$88,MATCH($B79&$C79,Déc!$B$2:$B$88&Déc!$C$2:$C$88,0))} -> 75 | J79: {=INDEX(Oct!$J$2:$J$86,MATCH($B79&$C79,Oct!$B$2:$B$86&Oct!$C$2:$C$86,0))+INDEX(Nov!$J$2:$J$86,MATCH($B79&$C79,Nov!$B$2:$B$86&Nov!$C$2:$C$86,0))+INDEX(Déc!$J$2:$J$88,MATCH($B79&$C79,Déc!$B$2:$B$88&Déc!$C$2:$C$88,0))} -> 14 | K79: {=INDEX(Oct!$K$2:$K$86,MATCH($B79&$C79,Oct!$B$2:$B$86&Oct!$C$2:$C$86,0))+INDEX(Nov!$K$2:$K$86,MATCH($B79&$C79,Nov!$B$2:$B$86&Nov!$C$2:$C$86,0))+INDEX(Déc!$K$2:$K$88,MATCH($B79&$C79,Déc!$B$2:$B$88&Déc!$C$2:$C$88,0))} -> 89 | L79: {=INDEX(Oct!$L$2:$L$86,MATCH($B79&$C79,Oct!$B$2:$B$86&Oct!$C$2:$C$86,0))+INDEX(Nov!$L$2:$L$86,MATCH($B79&$C79,Nov!$B$2:$B$86&Nov!$C$2:$C$86,0))+INDEX(Déc!$L$2:$L$88,MATCH($B79&$C79,Déc!$B$2:$B$88&Déc!$C$2:$C$88,0))} -> 191.28815

Sheet Classement
A1: PRODUCTIVITE PAR ETP / MARGE ET VOLUME
A2: RESULTAT AU 31/12/2012
A4: CLASSEMENT PAR VENDEUR
A5: Classement | B5: Agence | C5: Vendeur | D5: Marge globale | E5: Volume global | F5: Productivité marge (valorisé en ETP) | G5: Productivité volume (valorisé en ETP)
A6: 1 | C6: =VLOOKUP(A6,Recap!$A$1:$L$84,3,FALSE) -> #N/A | D6: =VLOOKUP($A6,Recap!$A$1:$L$84,7,FALSE) -> #N/A | E6: =VLOOKUP($A6,Recap!$A$1:$L$84,11,FALSE) -> #N/A | F6: =VLOOKUP($A6,Recap!$A$1:$L$84,8,FALSE) -> #N/A | G6: =VLOOKUP($A6,Recap!$A$1:$L$84,12,FALSE) -> #N/A
A7: 2 | C7: =VLOOKUP(A7,Recap!$A$1:$L$84,3,FALSE) -> #N/A | D7: =VLOOKUP($A7,Recap!$A$1:$L$84,7,FALSE) -> #N/A | E7: =VLOOKUP($A7,Recap!$A$1:$L$84,11,FALSE) -> #N/A | F7: =VLOOKUP($A7,Recap!$A$1:$L$84,8,FALSE) -> #N/A | G7: =VLOOKUP($A7,Recap!$A$1:$L$84,12,FALSE) -> #N/A
A8: 3 | C8: =VLOOKUP(A8,Recap!$A$1:$L$84,3,FALSE) -> #N/A | D8: =VLOOKUP($A8,Recap!$A$1:$L$84,7,FALSE) -> #N/A | E8: =VLOOKUP($A8,Recap!$A$1:$L$84,11,FALSE) -> #N/A | F8: =VLOOKUP($A8,Recap!$A$1:$L$84,8,FALSE) -> #N/A | G8: =VLOOKUP($A8,Recap!$A$1:$L$84,12,FALSE) -> #N/A
A9: 4 | C9: =VLOOKUP(A9,Recap!$A$1:$L$84,3,FALSE) -> #N/A | D9: =VLOOKUP($A9,Recap!$A$1:$L$84,7,FALSE) -> #N/A | E9: =VLOOKUP($A9,Recap!$A$1:$L$84,11,FALSE) -> #N/A | F9: =VLOOKUP($A9,Recap!$A$1:$L$84,8,FALSE) -> #N/A | G9: =VLOOKUP($A9,Recap!$A$1:$L$84,12,FALSE) -> #N/A
A10: 5 | C10: =VLOOKUP(A10,Recap!$A$1:$L$84,3,FALSE) -> #N/A | D10: =VLOOKUP($A10,Recap!$A$1:$L$84,7,FALSE) -> #N/A | E10: =VLOOKUP($A10,Recap!$A$1:$L$84,11,FALSE) -> #N/A | F10: =VLOOKUP($A10,Recap!$A$1:$L$84,8,FALSE) -> #N/A | G10: =VLOOKUP($A10,Recap!$A$1:$L$84,12,FALSE) -> #N/A
A11: 6 | C11: =VLOOKUP(A11,Recap!$A$1:$L$84,3,FALSE) -> #N/A | D11: =VLOOKUP($A11,Recap!$A$1:$L$84,7,FALSE) -> #N/A | E11: =VLOOKUP($A11,Recap!$A$1:$L$84,11,FALSE) -> #N/A | F11: =VLOOKUP($A11,Recap!$A$1:$L$84,8,FALSE) -> #N/A | G11: =VLOOKUP($A11,Recap!$A$1:$L$84,12,FALSE) -> #N/A
A12: 7 | C12: =VLOOKUP(A12,Recap!$A$1:$L$84,3,FALSE) -> #N/A | D12: =VLOOKUP($A12,Recap!$A$1:$L$84,7,FALSE) -> #N/A | E12: =VLOOKUP($A12,Recap!$A$1:$L$84,11,FALSE) -> #N/A | F12: =VLOOKUP($A12,Recap!$A$1:$L$84,8,FALSE) -> #N/A | G12: =VLOOKUP($A12,Recap!$A$1:$L$84,12,FALSE) -> #N/A
A13: 8 | C13: =VLOOKUP(A13,Recap!$A$1:$L$84,3,FALSE) -> #N/A | D13: =VLOOKUP($A13,Recap!$A$1:$L$84,7,FALSE) -> #N/A | E13: =VLOOKUP($A13,Recap!$A$1:$L$84,11,FALSE) -> #N/A | F13: =VLOOKUP($A13,Recap!$A$1:$L$84,8,FALSE) -> #N/A | G13: =VLOOKUP($A13,Recap!$A$1:$L$84,12,FALSE) -> #N/A
A14: 9 | C14: =VLOOKUP(A14,Recap!$A$1:$L$84,3,FALSE) -> #N/A | D14: =VLOOKUP($A14,Recap!$A$1:$L$84,7,FALSE) -> #N/A | E14: =VLOOKUP($A14,Recap!$A$1:$L$84,11,FALSE) -> #N/A | F14: =VLOOKUP($A14,Recap!$A$1:$L$84,8,FALSE) -> #N/A | G14: =VLOOKUP($A14,Recap!$A$1:$L$84,12,FALSE) -> #N/A
A15: 10 | C15: =VLOOKUP(A15,Recap!$A$1:$L$84,3,FALSE) -> #N/A | D15: =VLOOKUP($A15,Recap!$A$1:$L$84,7,FALSE) -> #N/A | E15: =VLOOKUP($A15,Recap!$A$1:$L$84,11,FALSE) -> #N/A | F15: =VLOOKUP($A15,Recap!$A$1:$L$84,8,FALSE) -> #N/A | G15: =VLOOKUP($A15,Recap!$A$1:$L$84,12,FALSE) -> #N/A
A16: 11 | C16: =VLOOKUP(A16,Recap!$A$1:$L$84,3,FALSE) -> #N/A | D16: =VLOOKUP($A16,Recap!$A$1:$L$84,7,FALSE) -> #N/A | E16: =VLOOKUP($A16,Recap!$A$1:$L$84,11,FALSE) -> #N/A | F16: =VLOOKUP($A16,Recap!$A$1:$L$84,8,FALSE) -> #N/A | G16: =VLOOKUP($A16,Recap!$A$1:$L$84,12,FALSE) -> #N/A
A17: 12 | C17: =VLOOKUP(A17,Recap!$A$1:$L$84,3,FALSE) -> #N/A | D17: =VLOOKUP($A17,Recap!$A$1:$L$84,7,FALSE) -> #N/A | E17: =VLOOKUP($A17,Recap!$A$1:$L$84,11,FALSE) -> #N/A | F17: =VLOOKUP($A17,Recap!$A$1:$L$84,8,FALSE) -> #N/A | G17: =VLOOKUP($A17,Recap!$A$1:$L$84,12,FALSE) -> #N/A
... A91: 87 | C91: =VLOOKUP(A91,Recap!$A$1:$L$84,3,FALSE) -> #N/A | D91: =VLOOKUP($A91,Recap!$A$1:$L$84,7,FALSE) -> #N/A | E91: =VLOOKUP($A91,Recap!$A$1:$L$84,11,FALSE) -> #N/A | F91: =VLOOKUP($A91,Recap!$A$1:$L$84,8,FALSE) -> #N/A | G91: =VLOOKUP($A91,Recap!$A$1:$L$84,12,FALSE) -> #N/A
A92: 1 ETP = 151,67 heures par mois

Sheet Feuil1
A1: AVRA | B1: AURELIE
A2: AVRA | B2: CYRIL
A3: AVRA | B3: KERRY
A4: AVRA | B4: LUDIVINE
A5: AVRA | B5: M-ANTOINE
A6: AVRA | B6: VALENTIN
A7: CHER | B7: CLEMENT
A8: CHER | B8: JULIEN
A9: CHER | B9: THEA
A10: CHER | B10: VALERIE
A11: CHG2 | B11: ANTHONY
A12: CHG2 | B12: CECILE
... A78: STNA | B78: MICKAEL
