Workbook

Sheet Matrice
A1: 453 | B1: ALLIANZ
A2: 430 | B2: ACTUAL (CG)
A3: 4005 | B3: BANQUE COURTOIS
A4: 4006 | B4: BANQUE TARNEAUD
A5: 4004 | B5: BNP
A6: 459 | B6: BNP Banque de Bretagne
A7: 477 | B7: BOUYGUES
A8: 486 | B8: BPA ATLANTIQUE
A9: 373 | B9: CACHE CACHE
A10: 472 | B10: CARREFOUR
A11: 435 | B11: CITROEN France
A12: 432 | B12: CITROEN IVC
A13: 432a | B13: CITROEN UN SENS
A14: 374 | B14: Contractant Général
A15: 4001 | B15: Ex erbat
A16: 417 | B16: Maintenance
A17: 374 | B17: CREDIT MUTUEL
A18: 417 | B18: CREDIT MUTUEL
A19: 462 | B19: ERAM
A20: 343 | B20: GROUPAMA
A21: 449 | B21: HSBC
A22: 469 | B22: NETTO
A23: 485 | B23: ITM 2015
A24: 479 | B24: ITM DRIVE
B25: INTERMARCHE
A26: 473 | B26: JENNYFER
A27: 401 | B27: MACIF
A28: 452 | B28: MACIF
A29: 481 | B29: Metro Linéaire
A30: 431 | B30: METRO
A31: 457 | B31: METRO
A32: 394 | B32: MMA
B33: MSA
A34: 445 | B34: Peugeot
A35: 467 | B35: Audit
A36: 460 | B36: Peugeot Moc
A37: 475 | B37: Vie du reseau
A38: 445 | B38: PEUGEOT
A39: 460 | B39: Peugeot
A40: 438 | B40: POIVRE ROUGE
A41: 476 | B41: RENAULT
A42: 478 | B42: SG Convoyeurs
A43: 1007 | B43: SG MOC
B44: SOCIETE GENERALE
A45: 4005 | B45: YR ex-erbat
A46: 436 | B46: YR Audit
A47: 458 | B47: YR Audit Benelux
A48: 423 | B48: YR Contrat Cadre survey
A49: 465 | B49: Locaux Annexes
A50: 470 | B50: Prévention des risques
A51: 436 | B51: YVES ROCHER
A52: 423 | B52: YVES ROCHER
A53: 482 | B53: TOYOTA
A54: 489 | B54: TETRIS
B55: DIVERS

Sheet Ratio
A1: N°AFFAIRE | C1: JANVIER | D1: FÉVRIER | E1: MARS | F1: AVRIL | G1: MAI | H1: JUIN | I1: JUILLET | J1: AOÛT | K1: SEPTEMBRE | L1: OCTOBRE | M1: NOVEMBRE | N1: DÉCEMBRE
A2: 453 | B2: =VLOOKUP(A2,Matrice!A1:B55,2,FALSE) -> ALLIANZ | C2: =(IFERROR(VLOOKUP($A2,'[1]SIB '!$A$5:$AF$79,8,FALSE),0))+(IFERROR(VLOOKUP($C1,'[1]SIB '!$A$5:$AF$79,8,FALSE),0)) -> 0
A3: 430 | B3: =VLOOKUP(A3,Matrice!A2:B56,2,FALSE) -> ACTUAL (CG) | C3: =(IFERROR(VLOOKUP($A3,'[1]SIB '!$A$5:$AF$79,8,FALSE),0))+(IFERROR(VLOOKUP($C2,'[1]SIB '!$A$5:$AF$79,8,FALSE),0)) -> 0
A4: 4005 | B4: =VLOOKUP(A4,Matrice!A3:B57,2,FALSE) -> BANQUE COURTOIS | C4: =(IFERROR(VLOOKUP($A4,'[1]SIB '!$A$5:$AF$79,8,FALSE),0))+(IFERROR(VLOOKUP($C3,'[1]SIB '!$A$5:$AF$79,8,FALSE),0)) -> 0
A5: 4006 | B5: =VLOOKUP(A5,Matrice!A4:B58,2,FALSE) -> BANQUE TARNEAUD | C5: =(IFERROR(VLOOKUP($A5,'[1]SIB '!$A$5:$AF$79,8,FALSE),0))+(IFERROR(VLOOKUP($C4,'[1]SIB '!$A$5:$AF$79,8,FALSE),0)) -> 0
A6: 4004 | B6: =VLOOKUP(A6,Matrice!A5:B59,2,FALSE) -> BNP | C6: =(IFERROR(VLOOKUP($A6,'[1]SIB '!$A$5:$AF$79,8,FALSE),0))+(IFERROR(VLOOKUP($C5,'[1]SIB '!$A$5:$AF$79,8,FALSE),0)) -> 0
A7: 459 | B7: =VLOOKUP(A7,Matrice!A6:B60,2,FALSE) -> BNP Banque de Bretagne | C7: =(IFERROR(VLOOKUP($A7,'[1]SIB '!$A$5:$AF$79,8,FALSE),0))+(IFERROR(VLOOKUP($C6,'[1]SIB '!$A$5:$AF$79,8,FALSE),0)) -> 0
A8: 477 | B8: =VLOOKUP(A8,Matrice!A7:B61,2,FALSE) -> BOUYGUES | C8: =(IFERROR(VLOOKUP($A8,'[1]SIB '!$A$5:$AF$79,8,FALSE),0))+(IFERROR(VLOOKUP($C7,'[1]SIB '!$A$5:$AF$79,8,FALSE),0)) -> 0
A9: 486 | B9: =VLOOKUP(A9,Matrice!A8:B62,2,FALSE) -> BPA ATLANTIQUE | C9: =(IFERROR(VLOOKUP($A9,'[1]SIB '!$A$5:$AF$79,8,FALSE),0))+(IFERROR(VLOOKUP($C8,'[1]SIB '!$A$5:$AF$79,8,FALSE),0)) -> 0
A10: 272 | B10: =VLOOKUP(A10,Matrice!A9:B63,2,FALSE) -> #N/A | C10: =(IFERROR(VLOOKUP($A10,'[1]SIB '!$A$5:$AF$79,8,FALSE),0))+(IFERROR(VLOOKUP($C9,'[1]SIB '!$A$5:$AF$79,8,FALSE),0)) -> 0
A11: 472 | B11: =VLOOKUP(A11,Matrice!A10:B64,2,FALSE) -> CARREFOUR | C11: =(IFERROR(VLOOKUP($A11,'[1]SIB '!$A$5:$AF$79,8,FALSE),0))+(IFERROR(VLOOKUP($C10,'[1]SIB '!$A$5:$AF$79,8,FALSE),0)) -> 0
A12: 435 | B12: =VLOOKUP(A12,Matrice!A11:B65,2,FALSE) -> CITROEN France | C12: =(IFERROR(VLOOKUP($A12,'[1]SIB '!$A$5:$AF$79,8,FALSE),0))+(IFERROR(VLOOKUP($C11,'[1]SIB '!$A$5:$AF$79,8,FALSE),0)) -> 0
A13: 432 | B13: =VLOOKUP(A13,Matrice!A12:B66,2,FALSE) -> CITROEN IVC | C13: =(IFERROR(VLOOKUP($A13,'[1]SIB '!$A$5:$AF$79,8,FALSE),0))+(IFERROR(VLOOKUP($C12,'[1]SIB '!$A$5:$AF$79,8,FALSE),0)) -> 0
A14: 374 | B14: =VLOOKUP(A14,Matrice!A13:B67,2,FALSE) -> Contractant Général
A15: 4001 | B15: =VLOOKUP(A15,Matrice!A14:B68,2,FALSE) -> Ex erbat
A16: 417 | B16: =VLOOKUP(A16,Matrice!A15:B69,2,FALSE) -> Maintenance
A17: 374 | B17: =VLOOKUP(A17,Matrice!A16:B70,2,FALSE) -> CREDIT MUTUEL
A18: 462 | B18: =VLOOKUP(A18,Matrice!A17:B71,2,FALSE) -> ERAM
A19: 343 | B19: =VLOOKUP(A19,Matrice!A18:B72,2,FALSE) -> GROUPAMA
A20: 449 | B20: =VLOOKUP(A20,Matrice!A19:B73,2,FALSE) -> HSBC
A21: 469 | B21: =VLOOKUP(A21,Matrice!A20:B74,2,FALSE) -> NETTO
A22: 485 | B22: =VLOOKUP(A22,Matrice!A21:B75,2,FALSE) -> ITM 2015
A23: 478 | B23: =VLOOKUP(A23,Matrice!A22:B76,2,FALSE) -> SG Convoyeurs
A24: 473 | B24: =VLOOKUP(A24,Matrice!A23:B77,2,FALSE) -> JENNYFER
A25: 401 | B25: =VLOOKUP(A25,Matrice!A24:B78,2,FALSE) -> MACIF
... A29: 457 | B29: =VLOOKUP(A29,Matrice!A28:B82,2,FALSE) -> METRO
B30: =VLOOKUP(A30,Matrice!A29:B83,2,FALSE) -> #N/A
B31: =VLOOKUP(A31,Matrice!A30:B84,2,FALSE) -> #N/A
B32: =VLOOKUP(A32,Matrice!A31:B85,2,FALSE) -> #N/A
B33: =VLOOKUP(A33,Matrice!A32:B86,2,FALSE) -> #N/A
B34: =VLOOKUP(A34,Matrice!A33:B87,2,FALSE) -> #N/A
