Workbook
Name AUTEUR: #REF!
Name EDITEUR: #REF!

Sheet Liste
A1: AUTEUR | B1: TITRE | C1: CATEGORIE | D1: EDITEUR | E1: PA | F1: PV | G1: QA | H1: QV | I1: STOCK | J1: CA
A2: ALAIN TERRIEUR | B2: Le bleu et le vert | C2: CLASSIQUE | D2: LAHAUT | E2: 7.35 | F2: 9.2 | G2: 54 | H2: 30 | I2: =+G2-H2 -> 24 | J2: =+F2*H2 -> 276
A3: ALEX TERRIEUR | B3: A la recherche du l'amant perdu | C3: CLASSIQUE | D3: FLAMAND ROSE | E3: 8.94 | F3: 12.1 | G3: 20 | H3: 15 | I3: =+G3-H3 -> 5 | J3: =+F3*H3 -> 181.5
A4: ALEX TERRIEUR | B4: Du côté de chez maman | C4: CLASSIQUE | D4: FLAMAND ROSE | E4: 10.94 | F4: 14.75 | G4: 4 | H4: 2 | I4: =+G4-H4 -> 2 | J4: =+F4*H4 -> 29.5
A5: GUY TARRE | B5: Au bonheur des hommes | C5: CLASSIQUE | D5: J'AI PAS LU | E5: 6.85 | F5: 8.5 | G5: 50 | H5: 19 | I5: =+G5-H5 -> 31 | J5: =+F5*H5 -> 161.5
A6: GUY TARRE | B6: L'assomé | C6: CLASSIQUE | D6: J'AI PAS LU | E6: 6.95 | F6: 8.75 | G6: 45 | H6: 22 | I6: =+G6-H6 -> 23 | J6: =+F6*H6 -> 192.5
A7: MARC ARONI | B7: Les fleurs du bien Tome I | C7: CLASSIQUE | D7: LAHAUT | E7: 11.82 | F7: 15.25 | G7: 25 | H7: 18 | I7: =+G7-H7 -> 7 | J7: =+F7*H7 -> 274.5
A8: MARC ARONI | B8: Les fleurs du bien Tome II | C8: CLASSIQUE | D8: LAHAUT | E8: 11.82 | F8: 15.25 | G8: 20 | H8: 18 | I8: =+G8-H8 -> 2 | J8: =+F8*H8 -> 274.5
A9: MARC ARONI | B9: Les fleurs du bien Tome III | C9: CLASSIQUE | D9: LAHAUT | E9: 12.82 | F9: 16.75 | G9: 20 | H9: 18 | I9: =+G9-H9 -> 2 | J9: =+F9*H9 -> 301.5
A10: ANNE DOUDOUDIDON | B10: Hugo Délire | C10: JEUNESSE | D10: GROSSET | E10: 11.17 | F10: 14.5 | G10: 22 | H10: 11 | I10: =+G10-H10 -> 11 | J10: =+F10*H10 -> 159.5
A11: ANNE DOUDOUDIDON | B11: Hugo Délire II | C11: JEUNESSE | D11: GROSSET | E11: 12.18 | F11: 15.75 | G11: 22 | H11: 11 | I11: =+G11-H11 -> 11 | J11: =+F11*H11 -> 173.25
A12: ANNE EMONE | B12: Tantine à la campagne | C12: JEUNESSE | D12: CHERCHEMINUIT | E12: 12.15 | F12: 15.75 | G12: 30 | H12: 11 | I12: =+G12-H12 -> 19 | J12: =+F12*H12 -> 173.25
A13: ANNE EMONE | B13: Tantine à la montagne | C13: JEUNESSE | D13: CHERCHEMINUIT | E13: 12.25 | F13: 15.75 | G13: 25 | H13: 12 | I13: =+G13-H13 -> 13 | J13: =+F13*H13 -> 189
... A64: YVES RESSE | B64: Tout sur l'art du crochet | C64: VIE PRATIQUE | D64: J'AI PAS LU | E64: 7.06 | F64: 8.75 | G64: 70 | H64: 35 | I64: =+G64-H64 -> 35 | J64: =+F64*H64 -> 306.25

Sheet Feuil1
B1: LAHAUT | C1: FLAMAND ROSE | D1: J'AI PAS LU | E1: GROSSET | F1: CHERCHEMINUIT
A2: ALAIN TERRIEUR | B2: =SUMPRODUCT((Liste!$A:$A=Feuil1!$A$2)*(Liste!$D:$D=Feuil1!B1)) -> 1 | C2: =SUMPRODUCT((Liste!$A:$A=Feuil1!$A$2)*(Liste!$D:$D=Feuil1!C1)) -> 0 | D2: =SUMPRODUCT((Liste!$A:$A=Feuil1!$A$2)*(Liste!$D:$D=Feuil1!D1)) -> 0 | E2: =SUMPRODUCT((Liste!$A:$A=Feuil1!$A$2)*(Liste!$D:$D=Feuil1!E1)) -> 0 | F2: =SUMPRODUCT((Liste!$A:$A=Feuil1!$A$2)*(Liste!$D:$D=Feuil1!F1)) -> 0
A3: ALEX TERRIEUR | B3: =SUMPRODUCT((Liste!$A:$A=Feuil1!$A$3)*(Liste!$D:$D=Feuil1!B1)) -> 0 | C3: =SUMPRODUCT((Liste!$A:$A=Feuil1!$A$3)*(Liste!$D:$D=Feuil1!C1)) -> 2 | D3: =SUMPRODUCT((Liste!$A:$A=Feuil1!$A$3)*(Liste!$D:$D=Feuil1!D1)) -> 0 | E3: =SUMPRODUCT((Liste!$A:$A=Feuil1!$A$3)*(Liste!$D:$D=Feuil1!E1)) -> 0 | F3: =SUMPRODUCT((Liste!$A:$A=Feuil1!$A$3)*(Liste!$D:$D=Feuil1!F1)) -> 0
A4: GUY TARRE | B4: =SUMPRODUCT((Liste!$A:$A=Feuil1!$A$4)*(Liste!$D:$D=Feuil1!B1)) -> 0 | C4: =SUMPRODUCT((Liste!$A:$A=Feuil1!$A$4)*(Liste!$D:$D=Feuil1!C1)) -> 0 | D4: =SUMPRODUCT((Liste!$A:$A=Feuil1!$A$4)*(Liste!$D:$D=Feuil1!D1)) -> 2 | E4: =SUMPRODUCT((Liste!$A:$A=Feuil1!$A$4)*(Liste!$D:$D=Feuil1!E1)) -> 0 | F4: =SUMPRODUCT((Liste!$A:$A=Feuil1!$A$4)*(Liste!$D:$D=Feuil1!F1)) -> 0
A5: MARC ARONI | B5: =SUMPRODUCT((Liste!$A:$A=Feuil1!$A$5)*(Liste!$D:$D=Feuil1!B1)) -> 3 | C5: =SUMPRODUCT((Liste!$A:$A=Feuil1!$A$5)*(Liste!$D:$D=Feuil1!C1)) -> 0 | D5: =SUMPRODUCT((Liste!$A:$A=Feuil1!$A$5)*(Liste!$D:$D=Feuil1!D1)) -> 0 | E5: =SUMPRODUCT((Liste!$A:$A=Feuil1!$A$5)*(Liste!$D:$D=Feuil1!E1)) -> 0 | F5: =SUMPRODUCT((Liste!$A:$A=Feuil1!$A$5)*(Liste!$D:$D=Feuil1!F1)) -> 0
A6: ANNE DOUDOUDIDON | B6: =SUMPRODUCT((Liste!$A:$A=Feuil1!$A$6)*(Liste!$D:$D=Feuil1!B1)) -> 0 | C6: =SUMPRODUCT((Liste!$A:$A=Feuil1!$A$6)*(Liste!$D:$D=Feuil1!C1)) -> 0 | D6: =SUMPRODUCT((Liste!$A:$A=Feuil1!$A$6)*(Liste!$D:$D=Feuil1!D1)) -> 0 | E6: =SUMPRODUCT((Liste!$A:$A=Feuil1!$A$6)*(Liste!$D:$D=Feuil1!E1)) -> 2 | F6: =SUMPRODUCT((Liste!$A:$A=Feuil1!$A$6)*(Liste!$D:$D=Feuil1!F1)) -> 0
A7: ANNE EMONE | B7: =SUMPRODUCT((Liste!$A:$A=Feuil1!$A$7)*(Liste!$D:$D=Feuil1!B1)) -> 0 | C7: =SUMPRODUCT((Liste!$A:$A=Feuil1!$A$7)*(Liste!$D:$D=Feuil1!C1)) -> 0 | D7: =SUMPRODUCT((Liste!$A:$A=Feuil1!$A$7)*(Liste!$D:$D=Feuil1!D1)) -> 1 | E7: =SUMPRODUCT((Liste!$A:$A=Feuil1!$A$7)*(Liste!$D:$D=Feuil1!E1)) -> 0 | F7: =SUMPRODUCT((Liste!$A:$A=Feuil1!$A$7)*(Liste!$D:$D=Feuil1!F1)) -> 4
A8: GUY LIGUILI | B8: =SUMPRODUCT((Liste!$A:$A=Feuil1!$A$8)*(Liste!$D:$D=Feuil1!B1)) -> 3 | C8: =SUMPRODUCT((Liste!$A:$A=Feuil1!$A$8)*(Liste!$D:$D=Feuil1!C1)) -> 0 | D8: =SUMPRODUCT((Liste!$A:$A=Feuil1!$A$8)*(Liste!$D:$D=Feuil1!D1)) -> 0 | E8: =SUMPRODUCT((Liste!$A:$A=Feuil1!$A$8)*(Liste!$D:$D=Feuil1!E1)) -> 0 | F8: =SUMPRODUCT((Liste!$A:$A=Feuil1!$A$8)*(Liste!$D:$D=Feuil1!F1)) -> 0
A9: INES PERRET | B9: =SUMPRODUCT((Liste!$A:$A=Feuil1!$A$9)*(Liste!$D:$D=Feuil1!B1)) -> 0 | C9: =SUMPRODUCT((Liste!$A:$A=Feuil1!$A$9)*(Liste!$D:$D=Feuil1!C1)) -> 0 | D9: =SUMPRODUCT((Liste!$A:$A=Feuil1!$A$9)*(Liste!$D:$D=Feuil1!D1)) -> 0 | E9: =SUMPRODUCT((Liste!$A:$A=Feuil1!$A$9)*(Liste!$D:$D=Feuil1!E1)) -> 0 | F9: =SUMPRODUCT((Liste!$A:$A=Feuil1!$A$9)*(Liste!$D:$D=Feuil1!F1)) -> 3
A10: MAX SIMON | B10: =SUMPRODUCT((Liste!$A:$A=Feuil1!$A$10)*(Liste!$D:$D=Feuil1!B1)) -> 0 | C10: =SUMPRODUCT((Liste!$A:$A=Feuil1!$A$10)*(Liste!$D:$D=Feuil1!C1)) -> 0 | D10: =SUMPRODUCT((Liste!$A:$A=Feuil1!$A$10)*(Liste!$D:$D=Feuil1!D1)) -> 3 | E10: =SUMPRODUCT((Liste!$A:$A=Feuil1!$A$10)*(Liste!$D:$D=Feuil1!E1)) -> 0 | F10: =SUMPRODUCT((Liste!$A:$A=Feuil1!$A$10)*(Liste!$D:$D=Feuil1!F1)) -> 0
A11: SACHA TOUILLE | B11: =SUMPRODUCT((Liste!$A:$A=Feuil1!$A$11)*(Liste!$D:$D=Feuil1!B1)) -> 0 | C11: =SUMPRODUCT((Liste!$A:$A=Feuil1!$A$11)*(Liste!$D:$D=Feuil1!C1)) -> 0 | D11: =SUMPRODUCT((Liste!$A:$A=Feuil1!$A$11)*(Liste!$D:$D=Feuil1!D1)) -> 0 | E11: =SUMPRODUCT((Liste!$A:$A=Feuil1!$A$11)*(Liste!$D:$D=Feuil1!E1)) -> 1 | F11: =SUMPRODUCT((Liste!$A:$A=Feuil1!$A$11)*(Liste!$D:$D=Feuil1!F1)) -> 2
A12: EDITH SCION | B12: =SUMPRODUCT((Liste!$A:$A=Feuil1!$A$12)*(Liste!$D:$D=Feuil1!B1)) -> 0 | C12: =SUMPRODUCT((Liste!$A:$A=Feuil1!$A$12)*(Liste!$D:$D=Feuil1!C1)) -> 0 | D12: =SUMPRODUCT((Liste!$A:$A=Feuil1!$A$12)*(Liste!$D:$D=Feuil1!D1)) -> 0 | E12: =SUMPRODUCT((Liste!$A:$A=Feuil1!$A$12)*(Liste!$D:$D=Feuil1!E1)) -> 1 | F12: =SUMPRODUCT((Liste!$A:$A=Feuil1!$A$12)*(Liste!$D:$D=Feuil1!F1)) -> 0
A13: ERIC COCHET | B13: =SUMPRODUCT((Liste!$A:$A=Feuil1!$A$13)*(Liste!$D:$D=Feuil1!B1)) -> 0 | C13: =SUMPRODUCT((Liste!$A:$A=Feuil1!$A$13)*(Liste!$D:$D=Feuil1!C1)) -> 0 | D13: =SUMPRODUCT((Liste!$A:$A=Feuil1!$A$13)*(Liste!$D:$D=Feuil1!D1)) -> 0 | E13: =SUMPRODUCT((Liste!$A:$A=Feuil1!$A$13)*(Liste!$D:$D=Feuil1!E1)) -> 0 | F13: =SUMPRODUCT((Liste!$A:$A=Feuil1!$A$13)*(Liste!$D:$D=Feuil1!F1)) -> 2
A14: GERAD MANVUSSA | B14: =SUMPRODUCT((Liste!$A:$A=Feuil1!$A$14)*(Liste!$D:$D=Feuil1!B1)) -> 2 | C14: =SUMPRODUCT((Liste!$A:$A=Feuil1!$A$14)*(Liste!$D:$D=Feuil1!C1)) -> 0 | D14: =SUMPRODUCT((Liste!$A:$A=Feuil1!$A$14)*(Liste!$D:$D=Feuil1!D1)) -> 0 | E14: =SUMPRODUCT((Liste!$A:$A=Feuil1!$A$14)*(Liste!$D:$D=Feuil1!E1)) -> 0 | F14: =SUMPRODUCT((Liste!$A:$A=Feuil1!$A$14)*(Liste!$D:$D=Feuil1!F1)) -> 0
A15: JEAN AYMAR | B15: =SUMPRODUCT((Liste!$A:$A=Feuil1!$A$15)*(Liste!$D:$D=Feuil1!B1)) -> 0 | C15: =SUMPRODUCT((Liste!$A:$A=Feuil1!$A$15)*(Liste!$D:$D=Feuil1!C1)) -> 0 | D15: =SUMPRODUCT((Liste!$A:$A=Feuil1!$A$15)*(Liste!$D:$D=Feuil1!D1)) -> 2 | E15: =SUMPRODUCT((Liste!$A:$A=Feuil1!$A$15)*(Liste!$D:$D=Feuil1!E1)) -> 0 | F15: =SUMPRODUCT((Liste!$A:$A=Feuil1!$A$15)*(Liste!$D:$D=Feuil1!F1)) -> 0
A16: JEAN BONBEUR | B16: =SUMPRODUCT((Liste!$A:$A=Feuil1!$A$16)*(Liste!$D:$D=Feuil1!B1)) -> 0 | C16: =SUMPRODUCT((Liste!$A:$A=Feuil1!$A$16)*(Liste!$D:$D=Feuil1!C1)) -> 0 | D16: =SUMPRODUCT((Liste!$A:$A=Feuil1!$A$16)*(Liste!$D:$D=Feuil1!D1)) -> 0 | E16: =SUMPRODUCT((Liste!$A:$A=Feuil1!$A$16)*(Liste!$D:$D=Feuil1!E1)) -> 0 | F16: =SUMPRODUCT((Liste!$A:$A=Feuil1!$A$16)*(Liste!$D:$D=Feuil1!F1)) -> 6
A17: JEAN PASSE | B17: =SUMPRODUCT((Liste!$A:$A=Feuil1!$A$17)*(Liste!$D:$D=Feuil1!B1)) -> 0 | C17: =SUMPRODUCT((Liste!$A:$A=Feuil1!$A$17)*(Liste!$D:$D=Feuil1!C1)) -> 0 | D17: =SUMPRODUCT((Liste!$A:$A=Feuil1!$A$17)*(Liste!$D:$D=Feuil1!D1)) -> 0 | E17: =SUMPRODUCT((Liste!$A:$A=Feuil1!$A$17)*(Liste!$D:$D=Feuil1!E1)) -> 2 | F17: =SUMPRODUCT((Liste!$A:$A=Feuil1!$A$17)*(Liste!$D:$D=Feuil1!F1)) -> 0
A18: LUC HARNE | B18: =SUMPRODUCT((Liste!$A:$A=Feuil1!$A$18)*(Liste!$D:$D=Feuil1!B1)) -> 0 | C18: =SUMPRODUCT((Liste!$A:$A=Feuil1!$A$18)*(Liste!$D:$D=Feuil1!C1)) -> 0 | D18: =SUMPRODUCT((Liste!$A:$A=Feuil1!$A$18)*(Liste!$D:$D=Feuil1!D1)) -> 1 | E18: =SUMPRODUCT((Liste!$A:$A=Feuil1!$A$18)*(Liste!$D:$D=Feuil1!E1)) -> 1 | F18: =SUMPRODUCT((Liste!$A:$A=Feuil1!$A$18)*(Liste!$D:$D=Feuil1!F1)) -> 0
A19: MAIRE HONETE | B19: =SUMPRODUCT((Liste!$A:$A=Feuil1!$A$19)*(Liste!$D:$D=Feuil1!B1)) -> 0 | C19: =SUMPRODUCT((Liste!$A:$A=Feuil1!$A$19)*(Liste!$D:$D=Feuil1!C1)) -> 2 | D19: =SUMPRODUCT((Liste!$A:$A=Feuil1!$A$19)*(Liste!$D:$D=Feuil1!D1)) -> 0 | E19: =SUMPRODUCT((Liste!$A:$A=Feuil1!$A$19)*(Liste!$D:$D=Feuil1!E1)) -> 0 | F19: =SUMPRODUCT((Liste!$A:$A=Feuil1!$A$19)*(Liste!$D:$D=Feuil1!F1)) -> 0
A20: ROSE RAIT | B20: =SUMPRODUCT((Liste!$A:$A=Feuil1!$A$20)*(Liste!$D:$D=Feuil1!B1)) -> 0 | C20: =SUMPRODUCT((Liste!$A:$A=Feuil1!$A$20)*(Liste!$D:$D=Feuil1!C1)) -> 2 | D20: =SUMPRODUCT((Liste!$A:$A=Feuil1!$A$20)*(Liste!$D:$D=Feuil1!D1)) -> 0 | E20: =SUMPRODUCT((Liste!$A:$A=Feuil1!$A$20)*(Liste!$D:$D=Feuil1!E1)) -> 0 | F20: =SUMPRODUCT((Liste!$A:$A=Feuil1!$A$20)*(Liste!$D:$D=Feuil1!F1)) -> 0
A21: ELLA VENTURE | B21: =SUMPRODUCT((Liste!$A:$A=Feuil1!$A$21)*(Liste!$D:$D=Feuil1!B1)) -> 0 | C21: =SUMPRODUCT((Liste!$A:$A=Feuil1!$A$21)*(Liste!$D:$D=Feuil1!C1)) -> 0 | D21: =SUMPRODUCT((Liste!$A:$A=Feuil1!$A$21)*(Liste!$D:$D=Feuil1!D1)) -> 0 | E21: =SUMPRODUCT((Liste!$A:$A=Feuil1!$A$21)*(Liste!$D:$D=Feuil1!E1)) -> 0 | F21: =SUMPRODUCT((Liste!$A:$A=Feuil1!$A$21)*(Liste!$D:$D=Feuil1!F1)) -> 3
A22: GUY TOUNE | B22: =SUMPRODUCT((Liste!$A:$A=Feuil1!$A$22)*(Liste!$D:$D=Feuil1!B1)) -> 0 | C22: =SUMPRODUCT((Liste!$A:$A=Feuil1!$A$22)*(Liste!$D:$D=Feuil1!C1)) -> 0 | D22: =SUMPRODUCT((Liste!$A:$A=Feuil1!$A$22)*(Liste!$D:$D=Feuil1!D1)) -> 1 | E22: =SUMPRODUCT((Liste!$A:$A=Feuil1!$A$22)*(Liste!$D:$D=Feuil1!E1)) -> 1 | F22: =SUMPRODUCT((Liste!$A:$A=Feuil1!$A$22)*(Liste!$D:$D=Feuil1!F1)) -> 0
A23: HARRY CAUX | B23: =SUMPRODUCT((Liste!$A:$A=Feuil1!$A$23)*(Liste!$D:$D=Feuil1!B1)) -> 0 | C23: =SUMPRODUCT((Liste!$A:$A=Feuil1!$A$23)*(Liste!$D:$D=Feuil1!C1)) -> 0 | D23: =SUMPRODUCT((Liste!$A:$A=Feuil1!$A$23)*(Liste!$D:$D=Feuil1!D1)) -> 0 | E23: =SUMPRODUCT((Liste!$A:$A=Feuil1!$A$23)*(Liste!$D:$D=Feuil1!E1)) -> 3 | F23: =SUMPRODUCT((Liste!$A:$A=Feuil1!$A$23)*(Liste!$D:$D=Feuil1!F1)) -> 0
A24: LOUISE YANN | B24: =SUMPRODUCT((Liste!$A:$A=Feuil1!$A$24)*(Liste!$D:$D=Feuil1!B1)) -> 2 | C24: =SUMPRODUCT((Liste!$A:$A=Feuil1!$A$24)*(Liste!$D:$D=Feuil1!C1)) -> 0 | D24: =SUMPRODUCT((Liste!$A:$A=Feuil1!$A$24)*(Liste!$D:$D=Feuil1!D1)) -> 0 | E24: =SUMPRODUCT((Liste!$A:$A=Feuil1!$A$24)*(Liste!$D:$D=Feuil1!E1)) -> 0 | F24: =SUMPRODUCT((Liste!$A:$A=Feuil1!$A$24)*(Liste!$D:$D=Feuil1!F1)) -> 0
A25: PAUL AUCHON | B25: =SUMPRODUCT((Liste!$A:$A=Feuil1!$A$25)*(Liste!$D:$D=Feuil1!B1)) -> 0 | C25: =SUMPRODUCT((Liste!$A:$A=Feuil1!$A$25)*(Liste!$D:$D=Feuil1!C1)) -> 0 | D25: =SUMPRODUCT((Liste!$A:$A=Feuil1!$A$25)*(Liste!$D:$D=Feuil1!D1)) -> 0 | E25: =SUMPRODUCT((Liste!$A:$A=Feuil1!$A$25)*(Liste!$D:$D=Feuil1!E1)) -> 1 | F25: =SUMPRODUCT((Liste!$A:$A=Feuil1!$A$25)*(Liste!$D:$D=Feuil1!F1)) -> 0
A26: PAULE ICHYNEL | B26: =SUMPRODUCT((Liste!$A:$A=Feuil1!$A$26)*(Liste!$D:$D=Feuil1!B1)) -> 0 | C26: =SUMPRODUCT((Liste!$A:$A=Feuil1!$A$26)*(Liste!$D:$D=Feuil1!C1)) -> 1 | D26: =SUMPRODUCT((Liste!$A:$A=Feuil1!$A$26)*(Liste!$D:$D=Feuil1!D1)) -> 0 | E26: =SUMPRODUCT((Liste!$A:$A=Feuil1!$A$26)*(Liste!$D:$D=Feuil1!E1)) -> 0 | F26: =SUMPRODUCT((Liste!$A:$A=Feuil1!$A$26)*(Liste!$D:$D=Feuil1!F1)) -> 0
A27: SEAN CONERIE | B27: =SUMPRODUCT((Liste!$A:$A=Feuil1!$A$27)*(Liste!$D:$D=Feuil1!B1)) -> 1 | C27: =SUMPRODUCT((Liste!$A:$A=Feuil1!$A$27)*(Liste!$D:$D=Feuil1!C1)) -> 0 | D27: =SUMPRODUCT((Liste!$A:$A=Feuil1!$A$27)*(Liste!$D:$D=Feuil1!D1)) -> 0 | E27: =SUMPRODUCT((Liste!$A:$A=Feuil1!$A$27)*(Liste!$D:$D=Feuil1!E1)) -> 0 | F27: =SUMPRODUCT((Liste!$A:$A=Feuil1!$A$27)*(Liste!$D:$D=Feuil1!F1)) -> 0
A28: YVES RESSE | B28: =SUMPRODUCT((Liste!$A:$A=Feuil1!$A$28)*(Liste!$D:$D=Feuil1!B1)) -> 0 | C28: =SUMPRODUCT((Liste!$A:$A=Feuil1!$A$28)*(Liste!$D:$D=Feuil1!C1)) -> 0 | D28: =SUMPRODUCT((Liste!$A:$A=Feuil1!$A$28)*(Liste!$D:$D=Feuil1!D1)) -> 1 | E28: =SUMPRODUCT((Liste!$A:$A=Feuil1!$A$28)*(Liste!$D:$D=Feuil1!E1)) -> 1 | F28: =SUMPRODUCT((Liste!$A:$A=Feuil1!$A$28)*(Liste!$D:$D=Feuil1!F1)) -> 0

Sheet Feuil2
A1: CATEGORIE | B1: (Tous)
A3: Nombre de AUTEUR | B3: Étiquettes de colonnes
A4: Étiquettes de lignes | B4: CHERCHEMINUIT | C4: FLAMAND ROSE | D4: GROSSET | E4: J'AI PAS LU | F4: LAHAUT | G4: (vide) | H4: Total général
A5: ALAIN TERRIEUR | F5: 1 | H5: 1
A6: ALEX TERRIEUR | C6: 2 | H6: 2
A7: ANNE DOUDOUDIDON | D7: 2 | H7: 2
A8: ANNE EMONE | B8: 4 | E8: 1 | H8: 5
A9: EDITH SCION | D9: 1 | H9: 1
A10: ELLA VENTURE | B10: 3 | H10: 3
A11: ERIC COCHET | B11: 2 | H11: 2
A12: GERAD MANVUSSA | F12: 2 | H12: 2
A13: GUY LIGUILI | F13: 3 | H13: 3
A14: GUY TARRE | E14: 2 | H14: 2
A15: GUY TOUNE | D15: 1 | E15: 1 | H15: 2
A16: HARRY CAUX | D16: 3 | H16: 3
A17: INES PERRET | B17: 3 | H17: 3
A18: JEAN AYMAR | E18: 2 | H18: 2
A19: JEAN BONBEUR | B19: 6 | H19: 6
A20: JEAN PASSE | D20: 2 | H20: 2
A21: LOUISE YANN | F21: 2 | H21: 2
A22: LUC HARNE | D22: 1 | E22: 1 | H22: 2
A23: MAIRE HONETE | C23: 2 | H23: 2
A24: MARC ARONI | F24: 3 | H24: 3
A25: MAX SIMON | E25: 3 | H25: 3
A26: PAUL AUCHON | D26: 1 | H26: 1
A27: PAULE ICHYNEL | C27: 1 | H27: 1
A28: ROSE RAIT | C28: 2 | H28: 2
A29: SACHA TOUILLE | B29: 2 | D29: 1 | H29: 3
A30: SEAN CONERIE | F30: 1 | H30: 1
A31: YVES RESSE | D31: 1 | E31: 1 | H31: 2
A32: (vide)
A33: Total général | B33: 20 | C33: 7 | D33: 13 | E33: 11 | F33: 12 | H33: 63
