Workbook
Name Segment_Mensualité: #N/A
Name Segment_SOI: #N/A

Sheet Pivot
A3: Étiquettes de lignes | B3: Somme de Opto2_NbPoste | C3: Somme de Mensualité | F3: Colonne1 | G3: Colonne2 | H3: Colonne3
A4: 140 | B4: 11 | C4: #REF! | F4: 140 | G4: 11 | H4: 335
A5: 160 | B5: 2 | C5: #REF! | F5: 160 | G5: 2 | H5: 245
A6: 180 | B6: 10 | C6: #REF! | F6: 180 | G6: 10 | H6: 205
A7: 190 | B7: 4 | C7: #REF! | F7: 190 | G7: 4 | H7: 265
A8: 200 | B8: 7 | C8: #REF! | F8: 200 | G8: 7 | H8: 295
A9: 220 | B9: 4 | C9: #REF! | F9: 220 | G9: 4 | H9: 290
A10: 280 | B10: 11 | C10: #REF! | F10: 280 | G10: 11 | H10: 205
A11: 290 | B11: 8 | C11: #REF! | F11: 290 | G11: 8 | H11: 305
A12: 381 | B12: 17 | C12: #REF! | F12: 381 | G12: 17 | H12: 395
A13: 400 | B13: 2 | C13: 0 | F13: 400 | G13: 2 | H13: 0
A14: 450 | B14: 11 | C14: #REF! | F14: 450 | G14: 11 | H14: 335
A15: 500 | B15: 21 | C15: #REF! | F15: 500 | G15: 21 | H15: 298
A16: 510 | B16: 18 | C16: #REF! | F16: 510 | G16: 18 | H16: 204
A17: 520 | B17: 3 | C17: 0 | F17: 520 | G17: 3 | H17: 0
A18: 521 | B18: 7 | C18: #REF! | F18: 521 | G18: 7 | H18: 285
A19: 530 | B19: 6 | C19: #REF! | F19: 530 | G19: 6 | H19: 195
A20: 540 | B20: 7 | C20: #REF! | F20: 540 | G20: 7 | H20: 295
A21: 541 | B21: 4 | C21: #REF! | F21: 541 | G21: 4 | H21: 265
A22: 550 | B22: 13 | C22: #REF! | F22: 550 | G22: 13 | H22: 250
A23: 610 | B23: 2 | C23: 0 | F23: 610 | G23: 2 | H23: 0
A24: 611 | B24: 2 | C24: 0 | F24: 611 | G24: 2 | H24: 0
A25: 630 | B25: 3 | C25: #REF! | F25: 630 | G25: 3 | H25: 195
A26: 680 | B26: 16 | C26: 0 | F26: 680 | G26: 16 | H26: 0
A27: 700 | B27: 11 | C27: #REF! | F27: 700 | G27: 11 | H27: 330
A28: 710 | B28: 3 | C28: #REF! | F28: 710 | G28: 3 | H28: 270
A29: 721 | B29: 3 | C29: #REF! | F29: 721 | G29: 3 | H29: 255
A30: 750 | B30: 10 | C30: #REF! | F30: 750 | G30: 10 | H30: 215
A31: 790 | B31: 2 | C31: #REF! | F31: 790 | G31: 2 | H31: 245
A32: 800 | B32: 6 | C32: #REF! | F32: 800 | G32: 6 | H32: 205
A33: 850 | B33: 7 | C33: #REF! | F33: 850 | G33: 7 | H33: 215
A34: 900 | B34: 4 | C34: #REF! | F34: 900 | G34: 4 | H34: 230
A35: 960 | B35: 5 | C35: #REF! | F35: 960 | G35: 5 | H35: 215
A36: 961 | B36: 4 | C36: 0 | F36: 961 | G36: 4 | H36: 0
A37: 980 | B37: 20 | C37: #REF! | F37: 980 | G37: 20 | H37: 274
A38: 1020 | B38: 12 | C38: #REF! | F38: 1020 | G38: 12 | H38: 279
A39: 1030 | B39: 10 | C39: #REF! | F39: 1030 | G39: 10 | H39: 205
A40: 1080 | B40: 3 | C40: #REF! | F40: 1080 | G40: 3 | H40: 255
A41: 1100 | B41: 7 | C41: #REF! | F41: 1100 | G41: 7 | H41: 295
A42: 1150 | B42: 9 | C42: #REF! | F42: 1150 | G42: 9 | H42: 471
A43: 1151 | B43: 2 | C43: 0 | F43: 1151 | G43: 2 | H43: 0
A44: 1152 | B44: 6 | C44: 0 | F44: 1152 | G44: 6 | H44: 0
A45: 1154 | B45: 5 | C45: 0 | F45: 1154 | G45: 5 | H45: 0
A46: 1170 | B46: 4 | C46: 0 | F46: 1170 | G46: 4 | H46: 0
A47: 1171 | B47: 1 | C47: #REF! | F47: 1171 | G47: 1 | H47: 195
A48: 1190 | B48: 14 | C48: #REF! | F48: 1190 | G48: 14 | H48: 231
A49: 1230 | B49: 7 | C49: #REF! | F49: 1230 | G49: 7 | H49: 205
A50: 1231 | B50: 2 | C50: #REF! | F50: 1231 | G50: 2 | H50: 195
A51: 1250 | B51: 5 | C51: #REF! | F51: 1250 | G51: 5 | H51: 275
A52: 1350 | B52: 12 | C52: #REF! | F52: 1350 | G52: 12 | H52: 244
A53: 1620 | B53: 3 | C53: 0 | F53: 1620 | G53: 3 | H53: 0
A54: 1621 | B54: 3 | C54: #REF! | F54: 1621 | G54: 3 | H54: 195
A55: 1650 | B55: 15 | C55: #REF! | F55: 1650 | G55: 15 | H55: 269
A56: 1670 | B56: 16 | C56: #REF! | F56: 1670 | G56: 16 | H56: 254
A57: 1700 | B57: 7 | C57: #REF! | F57: 1700 | G57: 7 | H57: 225
A58: 1730 | B58: 12 | C58: #REF! | F58: 1730 | G58: 12 | H58: 215
A59: 1770 | B59: 5 | C59: 0 | F59: 1770 | G59: 5 | H59: 0
A60: 1820 | B60: 11 | C60: #REF! | F60: 1820 | G60: 11 | H60: 213
A61: 1890 | B61: 2 | C61: #REF! | F61: 1890 | G61: 2 | H61: 160
A62: 1970 | B62: 4 | C62: #REF! | F62: 1970 | G62: 4 | H62: 265
A63: 1980 | B63: 10 | C63: #REF! | F63: 1980 | G63: 10 | H63: 205
A64: 2000 | B64: 12 | C64: #REF! | F64: 2000 | G64: 12 | H64: 195
A65: 2030 | B65: 10 | C65: #REF! | F65: 2030 | G65: 10 | H65: 257
A66: 2090 | B66: 8 | C66: #REF! | F66: 2090 | G66: 8 | H66: 305
A67: 2110 | B67: 8 | C67: #REF! | F67: 2110 | G67: 8 | H67: 305
A68: 2140 | B68: 16 | C68: #REF! | F68: 2140 | G68: 16 | H68: 425
A69: 2144 | B69: 9 | C69: #REF! | F69: 2144 | G69: 9 | H69: 350
A70: 2160 | B70: 12 | C70: #REF! | F70: 2160 | G70: 12 | H70: 334
A71: 2174 | B71: 3 | C71: #N/A | F71: 2174 | G71: 3 | H71: #N/A
A72: 2210 | B72: 11 | C72: #REF! | F72: 2210 | G72: 11 | H72: 242
A73: 2213 | B73: 5 | C73: 0 | F73: 2213 | G73: 5 | H73: 0
A74: Total général | B74: 545 | C74: #REF! | F74: 2420 | G74: 13 | H74: 369
F75: 2470 | G75: 12 | H75: 214
F76: 2491 | G76: 13 | H76: 334
F77: 2570 | G77: 4 | H77: 215
F78: 2572 | G78: 2 | H78: 195
F79: 2573 | G79: 4 | H79: 265
F80: 2575 | G80: 10 | H80: 0
F81: 2640 | G81: 5 | H81: 195
F82: 2680 | G82: 2 | H82: 195
F83: 2750 | G83: 15 | H83: 369
F84: 2810 | G84: 10 | H84: 195
F85: 2910 | G85: 8 | H85: 215
F86: 2920 | G86: 10 | H86: 205
... F110: 4210 | G110: 4 | H110: 195
F111: 4231 | G111: 4 | H111: #N/A
F112: 4232 | G112: 9 | H112: 315
F113: 4233 | G113: 27 | H113: 215
F114: 4300 | G114: 4 | H114: 265
F115: 4400 | G115: 3 | H115: #N/A
F116: 4430 | G116: 9 | H116: 226
F117: 4550 | G117: 18 | H117: 204
F118: 4570 | G118: 5 | H118: 275
F119: 4621 | G119: 9 | H119: 414
F120: 4622 | G120: 4 | H120: 0
F121: 4630 | G121: 3 | H121: 245
F122: 4700 | G122: 13 | H122: 249
F123: 4750 | G123: 7 | H123: 295
F124: 4760 | G124: 3 | H124: 275
F125: 4780 | G125: 11 | H125: 346
...

Sheet Possibilité
A1: Colonne1 | B1: Poste | C1: Mensualité | D1: Coût par poste | E1: Mensualité2
A2: 140 | B2: 15 | C2: 335 | D2: =IF(OR(Tableau911[[#This Row],[Poste]]<=$H$3,Tableau911[[#This Row],[Poste]]>=$H$4,Tableau911[[#This Row],[Poste]]<=$H$5,Tableau911[[#This Row],[Poste]]>=$H$6),OR($I$3,$I$4,$I$5,$I$6),"") -> TRUE | E2: =IF(Tableau911[[#This Row],[Poste]]="g3","=[@Colonne3]*[@[Coût par poste]]","") | G2: Proposition 1
A3: 160 | B3: 2 | C3: 245 | D3: =IF(OR(Tableau911[[#This Row],[Poste]]<=$H$3,Tableau911[[#This Row],[Poste]]>=$H$4,Tableau911[[#This Row],[Poste]]<=$H$5,Tableau911[[#This Row],[Poste]]>=$H$6),OR($I$3,$I$4,$I$5,$I$6),"") -> TRUE | E3: =IF(Tableau911[[#This Row],[Poste]]="g3","=[@Colonne3]*[@[Coût par poste]]","") | G3: =VLOOKUP($G$2,Condition!A3:$D$6,2,FALSE) -> <= | H3: =VLOOKUP($G$2,Condition!A3:$D$6,3,FALSE) -> 15 | I3: =VLOOKUP($G$2,Condition!A3:$D$6,4,FALSE) -> 30
A4: 180 | B4: 10 | C4: 205 | D4: =IF(OR(Tableau911[[#This Row],[Poste]]<=$H$3,Tableau911[[#This Row],[Poste]]>=$H$4,Tableau911[[#This Row],[Poste]]<=$H$5,Tableau911[[#This Row],[Poste]]>=$H$6),OR($I$3,$I$4,$I$5,$I$6),"") -> TRUE | E4: =IF(Tableau911[[#This Row],[Poste]]="g3","=[@Colonne3]*[@[Coût par poste]]","") | G4: =VLOOKUP($G$2,Condition!A4:$D$6,2,FALSE) -> >= | H4: =VLOOKUP($G$2,Condition!A4:$D$6,3,FALSE) -> 16 | I4: =VLOOKUP($G$2,Condition!A4:$D$6,4,FALSE) -> 28
A5: 190 | B5: 4 | C5: 265 | D5: =IF(OR(Tableau911[[#This Row],[Poste]]<=$H$3,Tableau911[[#This Row],[Poste]]>=$H$4,Tableau911[[#This Row],[Poste]]<=$H$5,Tableau911[[#This Row],[Poste]]>=$H$6),OR($I$3,$I$4,$I$5,$I$6),"") -> TRUE | E5: =IF(Tableau911[[#This Row],[Poste]]="g3","=[@Colonne3]*[@[Coût par poste]]","") | G5: =VLOOKUP($G$2,Condition!A5:$D$6,2,FALSE) -> <= | H5: =VLOOKUP($G$2,Condition!A5:$D$6,3,FALSE) -> 30 | I5: =VLOOKUP($G$2,Condition!A5:$D$6,4,FALSE) -> 28
A6: 200 | B6: 7 | C6: 295 | D6: =IF(OR(Tableau911[[#This Row],[Poste]]<=$H$3,Tableau911[[#This Row],[Poste]]>=$H$4,Tableau911[[#This Row],[Poste]]<=$H$5,Tableau911[[#This Row],[Poste]]>=$H$6),OR($I$3,$I$4,$I$5,$I$6),"") -> TRUE | E6: =IF(Tableau911[[#This Row],[Poste]]="g3","=[@Colonne3]*[@[Coût par poste]]","") | G6: =VLOOKUP($G$2,Condition!A6:$D$6,2,FALSE) -> >= | H6: =VLOOKUP($G$2,Condition!A6:$D$6,3,FALSE) -> 31 | I6: =VLOOKUP($G$2,Condition!A6:$D$6,4,FALSE) -> 26
A7: 220 | B7: 4 | C7: 290 | D7: =IF(OR(Tableau911[[#This Row],[Poste]]<=$H$3,Tableau911[[#This Row],[Poste]]>=$H$4,Tableau911[[#This Row],[Poste]]<=$H$5,Tableau911[[#This Row],[Poste]]>=$H$6),OR($I$3,$I$4,$I$5,$I$6),"") -> TRUE | E7: =IF(Tableau911[[#This Row],[Poste]]="g3","=[@Colonne3]*[@[Coût par poste]]","")
A8: 280 | B8: 11 | C8: 205 | D8: =IF(OR(Tableau911[[#This Row],[Poste]]<=$H$3,Tableau911[[#This Row],[Poste]]>=$H$4,Tableau911[[#This Row],[Poste]]<=$H$5,Tableau911[[#This Row],[Poste]]>=$H$6),OR($I$3,$I$4,$I$5,$I$6),"") -> TRUE | E8: =IF(Tableau911[[#This Row],[Poste]]="g3","=[@Colonne3]*[@[Coût par poste]]","")
A9: 290 | B9: 8 | C9: 305 | D9: =IF(OR(Tableau911[[#This Row],[Poste]]<=$H$3,Tableau911[[#This Row],[Poste]]>=$H$4,Tableau911[[#This Row],[Poste]]<=$H$5,Tableau911[[#This Row],[Poste]]>=$H$6),OR($I$3,$I$4,$I$5,$I$6),"") -> TRUE | E9: =IF(Tableau911[[#This Row],[Poste]]="g3","=[@Colonne3]*[@[Coût par poste]]","") | G9: Si le nombre de poste (colonne B) et inférieur ou égal à 15, indiquer 30 dans la colonne "D"
A10: 381 | B10: 17 | C10: 395 | D10: =IF(OR(Tableau911[[#This Row],[Poste]]<=$H$3,Tableau911[[#This Row],[Poste]]>=$H$4,Tableau911[[#This Row],[Poste]]<=$H$5,Tableau911[[#This Row],[Poste]]>=$H$6),OR($I$3,$I$4,$I$5,$I$6),"") -> TRUE | E10: =IF(Tableau911[[#This Row],[Poste]]="g3","=[@Colonne3]*[@[Coût par poste]]","") | G10: si le nombre de poste (colonne B)est entre 16 et 30 donc: plus grand ou égal à 16 et plus petit et égal à 30, indiquer 28 dans la colonne "D"
A11: 400 | B11: 2 | C11: 0 | D11: =IF(OR(Tableau911[[#This Row],[Poste]]<=$H$3,Tableau911[[#This Row],[Poste]]>=$H$4,Tableau911[[#This Row],[Poste]]<=$H$5,Tableau911[[#This Row],[Poste]]>=$H$6),OR($I$3,$I$4,$I$5,$I$6),"") -> TRUE | E11: =IF(Tableau911[[#This Row],[Poste]]="g3","=[@Colonne3]*[@[Coût par poste]]","") | G11: si le nombre de poste (colonne B)et plus grand ou égal à 31, indiquer 26 dans la colonne "D"
A12: 450 | B12: 11 | C12: 335 | D12: =IF(OR(Tableau911[[#This Row],[Poste]]<=$H$3,Tableau911[[#This Row],[Poste]]>=$H$4,Tableau911[[#This Row],[Poste]]<=$H$5,Tableau911[[#This Row],[Poste]]>=$H$6),OR($I$3,$I$4,$I$5,$I$6),"") -> TRUE | E12: =IF(Tableau911[[#This Row],[Poste]]="g3","=[@Colonne3]*[@[Coût par poste]]","")
A13: 500 | B13: 21 | C13: 298 | D13: =IF(OR(Tableau911[[#This Row],[Poste]]<=$H$3,Tableau911[[#This Row],[Poste]]>=$H$4,Tableau911[[#This Row],[Poste]]<=$H$5,Tableau911[[#This Row],[Poste]]>=$H$6),OR($I$3,$I$4,$I$5,$I$6),"") -> TRUE | E13: =IF(Tableau911[[#This Row],[Poste]]="g3","=[@Colonne3]*[@[Coût par poste]]","")
A14: 510 | B14: 18 | C14: 204 | D14: =IF(OR(Tableau911[[#This Row],[Poste]]<=$H$3,Tableau911[[#This Row],[Poste]]>=$H$4,Tableau911[[#This Row],[Poste]]<=$H$5,Tableau911[[#This Row],[Poste]]>=$H$6),OR($I$3,$I$4,$I$5,$I$6),"") -> TRUE | E14: =IF(Tableau911[[#This Row],[Poste]]="g3","=[@Colonne3]*[@[Coût par poste]]","")
A15: 520 | B15: 3 | C15: 0 | D15: =IF(OR(Tableau911[[#This Row],[Poste]]<=$H$3,Tableau911[[#This Row],[Poste]]>=$H$4,Tableau911[[#This Row],[Poste]]<=$H$5,Tableau911[[#This Row],[Poste]]>=$H$6),OR($I$3,$I$4,$I$5,$I$6),"") -> TRUE | E15: =IF(Tableau911[[#This Row],[Poste]]="g3","=[@Colonne3]*[@[Coût par poste]]","")
A16: 521 | B16: 7 | C16: 285 | D16: =IF(OR(Tableau911[[#This Row],[Poste]]<=$H$3,Tableau911[[#This Row],[Poste]]>=$H$4,Tableau911[[#This Row],[Poste]]<=$H$5,Tableau911[[#This Row],[Poste]]>=$H$6),OR($I$3,$I$4,$I$5,$I$6),"") -> TRUE | E16: =IF(Tableau911[[#This Row],[Poste]]="g3","=[@Colonne3]*[@[Coût par poste]]","")
A17: 2174 | B17: 3 | C17: #N/A | D17: =IF(OR(Tableau911[[#This Row],[Poste]]<=$H$3,Tableau911[[#This Row],[Poste]]>=$H$4,Tableau911[[#This Row],[Poste]]<=$H$5,Tableau911[[#This Row],[Poste]]>=$H$6),OR($I$3,$I$4,$I$5,$I$6),"") -> TRUE | E17: =IF(Tableau911[[#This Row],[Poste]]="g3","=[@Colonne3]*[@[Coût par poste]]","")
A18: 2210 | B18: 11 | C18: 242 | D18: =IF(OR(Tableau911[[#This Row],[Poste]]<=$H$3,Tableau911[[#This Row],[Poste]]>=$H$4,Tableau911[[#This Row],[Poste]]<=$H$5,Tableau911[[#This Row],[Poste]]>=$H$6),OR($I$3,$I$4,$I$5,$I$6),"") -> TRUE | E18: =IF(Tableau911[[#This Row],[Poste]]="g3","=[@Colonne3]*[@[Coût par poste]]","")
A19: 2213 | B19: 5 | C19: 0 | D19: =IF(OR(Tableau911[[#This Row],[Poste]]<=$H$3,Tableau911[[#This Row],[Poste]]>=$H$4,Tableau911[[#This Row],[Poste]]<=$H$5,Tableau911[[#This Row],[Poste]]>=$H$6),OR($I$3,$I$4,$I$5,$I$6),"") -> TRUE | E19: =IF(Tableau911[[#This Row],[Poste]]="g3","=[@Colonne3]*[@[Coût par poste]]","")
B24: Menu
B25: Proposition 1
B27: formule SI et OU et ET car pour les entre valeurs sera la seule solution
B31: ou Dans ce grand tableau il y aurait toutes les possibilités d'inscrites puis croise puis segment mais je prefere le menu
B32: qui reconnait la proposition et puis donne le resultats car se calcul automatiquement

Sheet Condition
A1: Conditions
A2: Proposition 1 | F2: Proposition 1
A3: Proposition 1 | B3: <= | C3: 15 | D3: 30 | F3: Proposition 2
A4: Proposition 1 | B4: >= | C4: 16 | D4: 28 | F4: Proposition 3
A5: Proposition 1 | B5: <= | C5: 30 | D5: 28
A6: Proposition 1 | B6: >= | C6: 31 | D6: 26
A8: Proposition 2
A9: Proposition 2 | B9: <= | C9: 15 | D9: 30
A10: Proposition 2 | B10: >= | C10: 16 | D10: 28
A11: Proposition 2 | B11: <= | C11: 30 | D11: 28
A12: Proposition 2 | B12: >= | C12: 31 | D12: 26
A14: Proposition 3
A15: Proposition 3 | B15: <= | C15: 15 | D15: 30
A16: Proposition 3 | B16: >= | C16: 16 | D16: 28
A17: Proposition 3 | B17: <= | C17: 30 | D17: 28
A18: Proposition 3 | B18: >= | C18: 31 | D18: 26
