Workbook

Sheet PROD03
A5: N° DANS L'ORDRE | B5: TYPE DE POLICE (carte verte, frontalier, parking) | C5: DATE D'EMISSION | D5: N° DE REFERECENCE INTERNE (uniquement pour les frontaliers) | E5: DATE D'ENREGISTREMENT | F5: N° POLICE | G5: HEURE D'ENREGISTREMENT | H5: COURTIERS | I5: COMPAGNIE | J5: DATE D'ENTREE EN FORCE | K5: HEURE D'ENTREE EN FORCE | L5: DATE DE FIN | M5: HEURE DE FIN | N5: REFERENCE DE BTA EN France | O5: CATEGORIE DU VEHICULE | P5: MARQUE DU VEHICULE | Q5: MODELE | R5: MISE EN CIRCULATION | S5: NUMERO DE CHASSIS | T5: IMMATRICULATION | U5: POIDS TOTAL ROULANT DU VEHICULE | V5: NOMBRE DE PLACES ASSISES | W5: PUISSANCE FISCALE | X5: NOMBRES DE JOURS ASSURES | Y5: SOUSCRIPTEUR DE L'ASSURANCE | Z5: ADRESSE | AA5: CODE POSTAL | AB5: VILLE | AC5: DATE DE NAISSANCE | AD5: PAYS D'EMISSION DU PERMIS | AE5: DATE D'EMISSION DU PERMIS | AF5: PRIME TTC | AG5: TAXES SOCIALES 18 % | AH5: CONTRIBUTION S.S 15 % | AI5: FOND DE GARANTIES 1,2 % | AJ5: PRIME HT | AK5: HONORAIRES COURTIERS | AL5: PRIME NETTE BTA | AM5: PRIME SITE | AN5: HONORAIRES SUPPLEMENTAIRES | AO5: commissions
A6: 1 | B6: =I6 -> BTA APDROSINASANA - TEMPORAIRE AUTOMOBILE | C6: =E6 -> 04/03/2013 11:36:30 | E6: 04/03/2013 11:36:30 | F6: 04032013 30VL75014-111 | G6: 04/03/2013 11:36:30 | H6: ASSURANCES -ORIAS 07 006102 | I6: BTA APDROSINASANA - TEMPORAIRE AUTOMOBILE | J6: 41337 | K6: 0.5 | L6: 41367 | M6: 0.5 | N6: FR1037-BTA-AAS-1 | O6: VL | X6: 30 | Y6: x | AM6: 115
A7: 2 | B7: =I7 -> BTA APDROSINASANA - TEMPORAIRE AUTOMOBILE | C7: =E7 -> 05/03/2013 11:59:39 | E7: 05/03/2013 11:59:39 | F7: 05032013 30VL75014-19 | G7: 05/03/2013 11:59:39 | H7: ASSURANCES -ORIAS 07 006102 PREPE | I7: BTA APDROSINASANA - TEMPORAIRE AUTOMOBILE | J7: 41338 | K7: 0.5 | L7: 41368 | M7: 0.5 | N7: FR1037-BTA-AAS-1 | O7: VL | X7: 30 | Y7: y | AM7: 115
AG58: =IF(ISNUMBER(SEARCH("POIDS LOURDS",I58)),0,AJ58*18%) -> 0 | AH58: =AJ58*15/100 -> 0 | AI58: =AJ58*1.2/100 -> 0
AG59: =IF(ISNUMBER(SEARCH("POIDS LOURDS",I59)),0,AJ59*18%) -> 0 | AH59: =AJ59*15/100 -> 0 | AI59: =AJ59*1.2/100 -> 0
AG60: =IF(ISNUMBER(SEARCH("POIDS LOURDS",I60)),0,AJ60*18%) -> 0 | AH60: =AJ60*15/100 -> 0 | AI60: =AJ60*1.2/100 -> 0
AG61: =IF(ISNUMBER(SEARCH("POIDS LOURDS",I61)),0,AJ61*18%) -> 0 | AH61: =AJ61*15/100 -> 0 | AI61: =AJ61*1.2/100 -> 0
AG62: =IF(ISNUMBER(SEARCH("POIDS LOURDS",I62)),0,AJ62*18%) -> 0 | AH62: =AJ62*15/100 -> 0 | AI62: =AJ62*1.2/100 -> 0
AG63: =IF(ISNUMBER(SEARCH("POIDS LOURDS",I63)),0,AJ63*18%) -> 0 | AH63: =AJ63*15/100 -> 0 | AI63: =AJ63*1.2/100 -> 0
AG64: =IF(ISNUMBER(SEARCH("POIDS LOURDS",I64)),0,AJ64*18%) -> 0 | AH64: =AJ64*15/100 -> 0 | AI64: =AJ64*1.2/100 -> 0
AG65: =IF(ISNUMBER(SEARCH("POIDS LOURDS",I65)),0,AJ65*18%) -> 0 | AH65: =AJ65*15/100 -> 0 | AI65: =AJ65*1.2/100 -> 0
AG66: =IF(ISNUMBER(SEARCH("POIDS LOURDS",I66)),0,AJ66*18%) -> 0 | AH66: =AJ66*15/100 -> 0 | AI66: =AJ66*1.2/100 -> 0
AG67: =IF(ISNUMBER(SEARCH("POIDS LOURDS",I67)),0,AJ67*18%) -> 0 | AH67: =AJ67*15/100 -> 0 | AI67: =AJ67*1.2/100 -> 0
AG68: =IF(ISNUMBER(SEARCH("POIDS LOURDS",I68)),0,AJ68*18%) -> 0 | AH68: =AJ68*15/100 -> 0 | AI68: =AJ68*1.2/100 -> 0
AG69: =IF(ISNUMBER(SEARCH("POIDS LOURDS",I69)),0,AJ69*18%) -> 0 | AH69: =AJ69*15/100 -> 0 | AI69: =AJ69*1.2/100 -> 0
... AG129: =IF(ISNUMBER(SEARCH("POIDS LOURDS",I129)),0,AJ129*18%) -> 0 | AH129: =AJ129*15/100 -> 0 | AI129: =AJ129*1.2/100 -> 0
AG130: =IF(ISNUMBER(SEARCH("POIDS LOURDS",I130)),0,AJ130*18%) -> 0 | AH130: =AJ130*15/100 -> 0
AG131: =IF(ISNUMBER(SEARCH("POIDS LOURDS",I131)),0,AJ131*18%) -> 0 | AH131: =AJ131*15/100 -> 0

Sheet FB
A1: N° DANS L'ORDRE | B1: TYPE DE POLICE (carte verte, frontalier, parking) | C1: DATE D'EMISSION | D1: N° POLICE | E1: COURTIERS | F1: COMPAGNIE | G1: NOMBRES DE JOURS ASSURES | H1: SOUSCRIPTEUR DE L'ASSURANCE | I1: PRIME SITE | J1: PRIME PREPE
A2: =IF(PROD03!H6="ASSURANCES -ORIAS 07 006102",(PROD03!A6),(0)) -> 1 | B2: =IF(PROD03!H6="ASSURANCES -ORIAS 07 006102",(PROD03!B6),(0)) -> BTA APDROSINASANA - TEMPORAIRE AUTOMOBILE | C2: =IF(PROD03!H6="ASSURANCES -ORIAS 07 006102",(PROD03!C6),(0)) -> 04/03/2013 11:36:30 | D2: =IF(PROD03!H6="ASSURANCES -ORIAS 07 006102",(PROD03!F6),(0)) -> 04032013 30VL75014-111 | E2: =IF(PROD03!H6="ASSURANCES -ORIAS 07 006102",(PROD03!H6),(0)) -> ASSURANCES -ORIAS 07 006102 | F2: =IF(PROD03!H6="ASSURANCES -ORIAS 07 006102",(PROD03!I6),(0)) -> BTA APDROSINASANA - TEMPORAIRE AUTOMOBILE | G2: =IF(PROD03!H6="ASSURANCES -ORIAS 07 006102",(PROD03!X6),(0)) -> 30 | H2: =IF(PROD03!H6="ASSURANCES -ORIAS 07 006102",(PROD03!Y6),(0)) -> x | I2: =IF(PROD03!H6="ASSURANCES -ORIAS 07 006102",(PROD03!AM6),(0)) -> 115 | J2: =IF(ISNUMBER(SEARCH("PREPE",E2)),I2,0) -> 0
A3: =IF(PROD03!H6="ASSURANCES -ORIAS 07 006102",(PROD03!A7),(0)) -> 2 | B3: =IF(PROD03!H6="ASSURANCES -ORIAS 07 006102",(PROD03!B7),(0)) -> BTA APDROSINASANA - TEMPORAIRE AUTOMOBILE | C3: =IF(PROD03!H6="ASSURANCES -ORIAS 07 006102",(PROD03!C7),(0)) -> 05/03/2013 11:59:39 | D3: =IF(PROD03!H6="ASSURANCES -ORIAS 07 006102",(PROD03!F7),(0)) -> 05032013 30VL75014-19 | E3: =IF(PROD03!H6="ASSURANCES -ORIAS 07 006102",(PROD03!H7),(0)) -> ASSURANCES -ORIAS 07 006102 PREPE | F3: =IF(PROD03!H6="ASSURANCES -ORIAS 07 006102",(PROD03!I7),(0)) -> BTA APDROSINASANA - TEMPORAIRE AUTOMOBILE | G3: =IF(PROD03!H6="ASSURANCES -ORIAS 07 006102",(PROD03!X7),(0)) -> 30 | H3: =IF(PROD03!H6="ASSURANCES -ORIAS 07 006102",(PROD03!Y7),(0)) -> y | I3: =IF(PROD03!H6="ASSURANCES -ORIAS 07 006102",(PROD03!AM7),(0)) -> 115 | J3: =IF(ISNUMBER(SEARCH("PREPE",E3)),I3,0) -> 115

Sheet Feuil4
A1: =IF(ISNUMBER(SEARCH("PREPE",[1]PROD03!A5)),[1]PROD03!R5,0) -> 0
