Workbook
Name apr: OFFSET(Dates!$I$3,,,COUNTA(Dates!$A:$A)-2)
Name aug: OFFSET(Dates!$M$3,,,COUNTA(Dates!$A:$A)-2)
Name BU: Back end, Front end, Installed Base, New builds
Name dec: OFFSET(Dates!$Q$3,,,COUNTA(Dates!$A:$A)-2)
Name feb: OFFSET(Dates!$G$3,,,COUNTA(Dates!$A:$A)-2)
Name jan: OFFSET(Dates!$F$3,,,COUNTA(Dates!$A:$A)-2)
Name jul: OFFSET(Dates!$L$3,,,COUNTA(Dates!$A:$A)-2)
Name jun: OFFSET(Dates!$K$3,,,COUNTA(Dates!$A:$A)-2)
Name mar: OFFSET(Dates!$H$3,,,COUNTA(Dates!$A:$A)-2)
Name may: OFFSET(Dates!$J$3,,,COUNTA(Dates!$A:$A)-2)
Name met: Dates!$E$3:$E$102
Name metbis: OFFSET(Dates!$E$3,,,COUNTA(Dates!$A:$A)-2)
Name nextjan: OFFSET(Dates!$R$3,,,COUNTA(Dates!$A:$A)-2)
Name nov: OFFSET(Dates!$P$3,,,COUNTA(Dates!$A:$A)-2)
Name oct: OFFSET(Dates!$O$3,,,COUNTA(Dates!$A:$A)-2)
Name sep: OFFSET(Dates!$N$3,,,COUNTA(Dates!$A:$A)-2)
Name target: Dates!$D$3:$D$102
Name test: "DECALER(Data!$A$1;'TT diagrams'!$A$4-1;0;'TT diagrams'!$A$4;1)"

Sheet Dates
A1: Table1 | F1: Màj mensuelle des objectifs
A2: Business Unit | B2: Project | C2: Milestone | D2: Cible initiale | E2: Date de réalisation | F2: 41275 | G2: 41306 | H2: 41334 | I2: 41365 | J2: 41395 | K2: 41426 | L2: 41456 | M2: 41487 | N2: 41518 | O2: 41548 | P2: 41579 | Q2: 41609 | R2: 41640 | S2: 41671
A3: BU1 | B3: Project 1 | C3: Milestone 1 | D3: 41486 | E3: =R3 -> 41614 | F3: =D3 -> 41486 | G3: =F3+31 -> 41517 | H3: =G3 -> 41517 | I3: =H3 -> 41517 | J3: =I3 -> 41517 | K3: =J3+32 -> 41549 | L3: =K3 -> 41549 | M3: =L3 -> 41549 | N3: =M3+65 -> 41614 | O3: =N3 -> 41614 | P3: =O3 -> 41614 | Q3: =P3 -> 41614 | R3: =Q3 -> 41614
A4: BU1 | B4: Project 1 | C4: Milestone 2 | D4: 41316 | E4: =R4 -> 41316 | F4: =D4 -> 41316 | G4: =F4 -> 41316 | H4: =G4 -> 41316 | I4: =H4 -> 41316 | J4: =I4 -> 41316 | K4: =J4 -> 41316 | L4: =K4 -> 41316 | M4: =L4 -> 41316 | N4: =M4 -> 41316 | ... R4: =Q4 -> 41316
A5: BU1 | B5: Project 1 | C5: Milestone 3 | D5: 41343 | E5: =R5 -> 41343 | F5: =D5 -> 41343 | G5: =E5 -> 41343 | H5: =F5 -> 41343 | I5: =G5 -> 41343 | J5: =H5 -> 41343 | K5: =I5 -> 41343 | L5: =J5 -> 41343 | M5: =K5 -> 41343 | ... R5: =P5 -> 41343
A6: BU1 | B6: Project 1 | C6: Milestone 4 | D6: 41360 | E6: =R6 -> 41916 | F6: =D6 -> 41360 | G6: =F6 -> 41360 | H6: =G6+35 -> 41395 | I6: =H6 -> 41395 | J6: =I6+34 -> 41429 | K6: =J6+25 -> 41454 | L6: =K6+43 -> 41497 | M6: =L6 -> 41497 | N6: =M6+54 -> 41551 | O6: =N6+365 -> 41916 | P6: =O6 -> 41916 | Q6: =P6 -> 41916 | R6: =Q6 -> 41916
A7: BU1 | B7: Project 2 | C7: Milestone 5 | D7: 41486 | E7: =R7 -> 41521 | F7: =D7 -> 41486 | G7: =F7 -> 41486 | H7: =G7 -> 41486 | I7: =H7 -> 41486 | J7: =I7 -> 41486 | K7: =J7 -> 41486 | L7: =K7 -> 41486 | M7: =L7+35 -> 41521 | N7: =M7 -> 41521 | O7: =N7 -> 41521 | P7: =O7 -> 41521 | Q7: =P7 -> 41521 | R7: =Q7 -> 41521
A8: BU1 | B8: Project 2 | C8: Milestone 6 | D8: 41639 | E8: =R8 -> 41695 | F8: =D8 -> 41639 | G8: =F8 -> 41639 | H8: =G8 -> 41639 | I8: =H8+56 -> 41695 | J8: =I8 -> 41695 | K8: =J8 -> 41695 | L8: =K8 -> 41695 | M8: =L8 -> 41695 | N8: =M8 -> 41695 | O8: =N8 -> 41695 | P8: =O8 -> 41695 | Q8: =P8 -> 41695 | R8: =Q8 -> 41695
A9: BU1 | B9: Project 2 | C9: Milestone 7 | D9: 41333 | E9: =R9 -> 41389 | F9: =D9 -> 41333 | G9: =F9 -> 41333 | H9: =G9 -> 41333 | I9: =H9+56 -> 41389 | J9: =I9 -> 41389 | K9: =J9 -> 41389 | L9: =K9 -> 41389 | M9: =L9 -> 41389 | N9: =M9 -> 41389 | O9: =N9 -> 41389 | P9: =O9 -> 41389 | Q9: =P9 -> 41389 | R9: =Q9 -> 41389
A10: BU1 | B10: Project 2 | C10: Milestone 8 | D10: 41364 | E10: =R10 -> 41454 | F10: =D10 -> 41364 | G10: =F10 -> 41364 | H10: 41398 | I10: =H10+56 -> 41454 | J10: =I10 -> 41454 | K10: =J10 -> 41454 | L10: =K10 -> 41454 | M10: =L10 -> 41454 | N10: =M10 -> 41454 | O10: =N10 -> 41454 | P10: =O10 -> 41454 | Q10: =P10 -> 41454 | R10: =Q10 -> 41454
A11: BU1 | B11: Project 3 | C11: Milestone 9 | D11: 41547 | E11: =R11 -> 41603 | F11: =D11 -> 41547 | G11: =F11 -> 41547 | H11: =G11 -> 41547 | I11: =H11+56 -> 41603 | J11: =I11 -> 41603 | K11: =J11 -> 41603 | L11: =K11 -> 41603 | M11: =L11 -> 41603 | N11: =M11 -> 41603 | O11: =N11 -> 41603 | P11: =O11 -> 41603 | Q11: =P11 -> 41603 | R11: =Q11 -> 41603
A12: BU1 | B12: Project 3 | C12: Milestone 10 | D12: 41486 | E12: =R12 -> 41542 | F12: =D12 -> 41486 | G12: =F12 -> 41486 | H12: =G12 -> 41486 | I12: =H12+56 -> 41542 | J12: =I12 -> 41542 | K12: =J12 -> 41542 | L12: =K12 -> 41542 | M12: =L12 -> 41542 | N12: =M12 -> 41542 | O12: =N12 -> 41542 | P12: =O12 -> 41542 | Q12: =P12 -> 41542 | R12: =Q12 -> 41542
A13: BU1 | B13: Project 3 | C13: Milestone 11 | D13: 41517 | E13: =R13 -> 41573 | F13: =D13 -> 41517 | G13: =F13 -> 41517 | H13: =G13 -> 41517 | I13: =H13+56 -> 41573 | J13: =I13 -> 41573 | K13: =J13 -> 41573 | L13: =K13 -> 41573 | M13: =L13 -> 41573 | N13: =M13 -> 41573 | O13: =N13 -> 41573 | P13: =O13 -> 41573 | Q13: =P13 -> 41573 | R13: =Q13 -> 41573
A14: BU1 | B14: Project 3 | C14: Milestone 12 | D14: 41517 | E14: =R14 -> 41573 | F14: =D14 -> 41517 | G14: =F14 -> 41517 | H14: =G14 -> 41517 | I14: =H14+56 -> 41573 | J14: =I14 -> 41573 | K14: =J14 -> 41573 | L14: =K14 -> 41573 | M14: =L14 -> 41573 | N14: =M14 -> 41573 | O14: =N14 -> 41573 | P14: =O14 -> 41573 | Q14: =P14 -> 41573 | R14: =Q14 -> 41573
A15: BU1 | B15: Project 3 | C15: Milestone 13 | D15: 41517 | E15: =R15 -> 41573 | F15: =D15 -> 41517 | G15: =F15 -> 41517 | H15: =G15 -> 41517 | I15: =H15+56 -> 41573 | J15: =I15 -> 41573 | K15: =J15 -> 41573 | L15: =K15 -> 41573 | M15: =L15 -> 41573 | N15: =M15 -> 41573 | O15: =N15 -> 41573 | P15: =O15 -> 41573 | Q15: =P15 -> 41573 | R15: =Q15 -> 41573
A16: BU1 | B16: Project 3 | C16: Milestone 14 | D16: 41364 | E16: =R16 -> 41420 | F16: =D16 -> 41364 | G16: =F16 -> 41364 | H16: =G16 -> 41364 | I16: =H16+56 -> 41420 | J16: =I16 -> 41420 | K16: =J16 -> 41420 | L16: =K16 -> 41420 | M16: =L16 -> 41420 | N16: =M16 -> 41420 | O16: =N16 -> 41420 | P16: =O16 -> 41420 | Q16: =P16 -> 41420 | R16: =Q16 -> 41420
A17: BU1 | B17: Project 3 | C17: Milestone 15 | D17: 41333 | E17: =R17 -> 41333 | F17: =D17 -> 41333 | G17: =F17 -> 41333 | H17: =G17 -> 41333 | I17: =H17 -> 41333 | J17: =I17 -> 41333 | K17: =J17 -> 41333 | L17: =K17 -> 41333 | M17: =L17 -> 41333 | N17: =M17 -> 41333 | ... R17: =Q17 -> 41333
A18: BU1 | B18: Project 3 | C18: Milestone 16 | D18: 41455 | E18: =R18 -> 41455 | F18: =D18 -> 41455 | G18: =F18 -> 41455 | H18: =G18 -> 41455 | I18: =H18 -> 41455 | J18: =I18 -> 41455 | K18: =J18 -> 41455 | L18: =K18 -> 41455 | M18: =L18 -> 41455 | N18: =M18 -> 41455 | ... R18: =Q18 -> 41455
A19: BU1 | B19: Project 3 | C19: Milestone 17 | D19: 41289 | E19: =R19 -> 41289 | F19: =D19 -> 41289 | G19: =F19 -> 41289 | H19: =G19 -> 41289 | I19: =H19 -> 41289 | J19: =I19 -> 41289 | K19: =J19 -> 41289 | L19: =K19 -> 41289 | M19: =L19 -> 41289 | N19: =M19 -> 41289 | ... R19: =Q19 -> 41289
A20: BU1 | B20: Project 4 | C20: Milestone 18 | D20: 41289 | E20: =R20 -> 41289 | F20: =D20 -> 41289 | G20: =F20 -> 41289 | H20: =G20 -> 41289 | I20: =H20 -> 41289 | J20: =I20 -> 41289 | K20: =J20 -> 41289 | L20: =K20 -> 41289 | M20: =L20 -> 41289 | N20: =M20 -> 41289 | ... R20: =Q20 -> 41289
A21: BU1 | B21: Project 4 | C21: Milestone 19 | D21: 41289 | E21: =R21 -> 41289 | F21: =D21 -> 41289 | G21: =F21 -> 41289 | H21: =G21 -> 41289 | I21: =H21 -> 41289 | J21: =I21 -> 41289 | K21: =J21 -> 41289 | L21: =K21 -> 41289 | M21: =L21 -> 41289 | N21: =M21 -> 41289 | ... R21: =Q21 -> 41289
A22: BU1 | B22: Project 4 | C22: Milestone 20 | D22: 41333 | E22: =R22 -> 41333 | F22: =D22 -> 41333 | G22: =F22 -> 41333 | H22: =G22 -> 41333 | I22: =H22 -> 41333 | J22: =I22 -> 41333 | K22: =J22 -> 41333 | L22: =K22 -> 41333 | M22: =L22 -> 41333 | N22: =M22 -> 41333 | ... R22: =Q22 -> 41333
A23: BU1 | B23: Project 5 | C23: Milestone 21 | D23: 41333 | E23: =R23 -> 41333 | F23: =D23 -> 41333 | G23: =F23 -> 41333 | H23: =G23 -> 41333 | I23: =H23 -> 41333 | J23: =I23 -> 41333 | K23: =J23 -> 41333 | L23: =K23 -> 41333 | M23: =L23 -> 41333 | N23: =M23 -> 41333 | ... R23: =Q23 -> 41333
A24: BU2 | B24: Project 6 | C24: Milestone 22 | D24: 41517 | E24: =R24 -> 41517 | F24: =D24 -> 41517 | G24: =F24 -> 41517 | H24: =G24 -> 41517 | I24: =H24 -> 41517 | J24: =I24 -> 41517 | K24: =J24 -> 41517 | L24: =K24 -> 41517 | M24: =L24 -> 41517 | N24: =M24 -> 41517 | ... R24: =Q24 -> 41517
A25: BU2 | B25: Project 6 | C25: Milestone 23 | D25: 41547 | E25: =R25 -> 41547 | F25: =D25 -> 41547 | G25: =F25 -> 41547 | H25: =G25 -> 41547 | I25: =H25 -> 41547 | J25: =I25 -> 41547 | K25: =J25 -> 41547 | L25: =K25 -> 41547 | M25: =L25 -> 41547 | N25: =M25 -> 41547 | ... R25: =Q25 -> 41547
A26: BU2 | B26: Project 6 | C26: Milestone 25 | D26: 41362 | E26: =R26 -> 41362 | F26: =D26 -> 41362 | G26: =F26 -> 41362 | H26: =G26 -> 41362 | I26: =H26 -> 41362 | J26: =I26 -> 41362 | K26: =J26 -> 41362 | L26: =K26 -> 41362 | M26: =L26 -> 41362 | N26: =M26 -> 41362 | ... R26: =Q26 -> 41362
A27: BU2 | B27: Project 6 | C27: Milestone 26 | D27: 41393 | E27: =R27 -> 41393 | F27: =D27 -> 41393 | G27: =F27 -> 41393 | H27: =G27 -> 41393 | I27: =H27 -> 41393 | J27: =I27 -> 41393 | K27: =J27 -> 41393 | L27: =K27 -> 41393 | M27: =L27 -> 41393 | N27: =M27 -> 41393 | ... R27: =Q27 -> 41393
A28: BU2 | B28: Project 6 | C28: Milestone 27 | D28: 41455 | E28: =R28 -> 41455 | F28: =D28 -> 41455 | G28: =F28 -> 41455 | H28: =G28 -> 41455 | I28: =H28 -> 41455 | J28: =I28 -> 41455 | K28: =J28 -> 41455 | L28: =K28 -> 41455 | M28: =L28 -> 41455 | N28: =M28 -> 41455 | ... R28: =Q28 -> 41455
A29: BU2 | B29: Project 6 | C29: Milestone 28 | D29: 41575 | E29: =R29 -> 41541 | F29: =D29 -> 41575 | G29: =F29 -> 41575 | H29: =G29 -> 41575 | I29: =H29 -> 41575 | J29: =I29 -> 41575 | K29: =J29 -> 41575 | L29: =K29 -> 41575 | M29: =L29 -> 41575 | N29: =M29-34 -> 41541 | O29: =N29 -> 41541 | P29: =O29 -> 41541 | Q29: =P29 -> 41541 | R29: =Q29 -> 41541
A30: BU2 | B30: Project 7 | C30: Milestone 29 | D30: 41577 | E30: =R30 -> 41577 | F30: =D30 -> 41577 | G30: =F30 -> 41577 | H30: =G30 -> 41577 | I30: =H30 -> 41577 | J30: =I30 -> 41577 | K30: =J30 -> 41577 | L30: =K30 -> 41577 | M30: =L30 -> 41577 | N30: =M30 -> 41577 | ... R30: =Q30 -> 41577
A31: BU2 | B31: Project 7 | C31: Milestone 30 | D31: 41639 | E31: =R31 -> 41639 | F31: =D31 -> 41639 | G31: =F31 -> 41639 | H31: =G31 -> 41639 | I31: =H31 -> 41639 | J31: =I31 -> 41639 | K31: =J31 -> 41639 | L31: =K31 -> 41639 | M31: =L31 -> 41639 | N31: =M31 -> 41639 | ... R31: =Q31 -> 41639
A32: BU2 | B32: Project 7 | C32: Milestone 31 | D32: 41639 | E32: =R32 -> 41639 | F32: =D32 -> 41639 | G32: =F32 -> 41639 | H32: =G32 -> 41639 | I32: =H32 -> 41639 | J32: =I32 -> 41639 | K32: =J32 -> 41639 | L32: =K32 -> 41639 | M32: =L32 -> 41639 | N32: =M32 -> 41639 | ... R32: =Q32 -> 41639
A33: BU2 | B33: Project 7 | C33: Milestone 32 | D33: 41449 | E33: =R33 -> 41449 | F33: =D33 -> 41449 | G33: =F33 -> 41449 | H33: =G33 -> 41449 | I33: =H33 -> 41449 | J33: =I33 -> 41449 | K33: =J33 -> 41449 | L33: =K33 -> 41449 | M33: =L33 -> 41449 | N33: =M33 -> 41449 | ... R33: =Q33 -> 41449
A34: BU2 | B34: Project 7 | C34: Milestone 33 | D34: 41576 | E34: =R34 -> 41576 | F34: =D34 -> 41576 | G34: =F34 -> 41576 | H34: =G34 -> 41576 | I34: =H34 -> 41576 | J34: =I34 -> 41576 | K34: =J34 -> 41576 | L34: =K34 -> 41576 | M34: =L34 -> 41576 | N34: =M34 -> 41576 | ... R34: =Q34 -> 41576
A35: BU2 | B35: Project 8 | C35: Milestone 34 | D35: 41517 | E35: =R35 -> 41563 | F35: =D35 -> 41517 | G35: =F35 -> 41517 | H35: =G35 -> 41517 | I35: =H35 -> 41517 | J35: =I35 -> 41517 | K35: =J35 -> 41517 | L35: =K35 -> 41517 | M35: =L35 -> 41517 | N35: =M35+46 -> 41563 | O35: =N35 -> 41563 | P35: =O35 -> 41563 | Q35: =P35 -> 41563 | R35: =Q35 -> 41563
A36: BU2 | B36: Project 8 | C36: Milestone 35 | D36: 41348 | E36: =R36 -> 41348 | F36: =D36 -> 41348 | G36: =F36 -> 41348 | H36: =G36 -> 41348 | I36: =H36 -> 41348 | J36: =I36 -> 41348 | K36: =J36 -> 41348 | L36: =K36 -> 41348 | M36: =L36 -> 41348 | N36: =M36 -> 41348 | ... R36: =Q36 -> 41348
A37: BU2 | B37: Project 8 | C37: Milestone 36 | D37: 41362 | E37: =R37 -> 41362 | F37: =D37 -> 41362 | G37: =F37 -> 41362 | H37: =G37 -> 41362 | I37: =H37 -> 41362 | J37: =I37 -> 41362 | K37: =J37 -> 41362 | L37: =K37 -> 41362 | M37: =L37 -> 41362 | N37: =M37 -> 41362 | ... R37: =Q37 -> 41362
A38: BU2 | B38: Project 8 | C38: Milestone 37 | D38: 41439 | E38: =R38 -> 41439 | F38: =D38 -> 41439 | G38: =F38 -> 41439 | H38: =G38 -> 41439 | I38: =H38 -> 41439 | J38: =I38 -> 41439 | K38: =J38 -> 41439 | L38: =K38 -> 41439 | M38: =L38 -> 41439 | N38: =M38 -> 41439 | ... R38: =Q38 -> 41439
A39: BU2 | B39: Project 8 | C39: Milestone 38 | D39: 41467 | E39: =R39 -> 41467 | F39: =D39 -> 41467 | G39: =F39 -> 41467 | H39: =G39 -> 41467 | I39: =H39 -> 41467 | J39: =I39 -> 41467 | K39: =J39 -> 41467 | L39: =K39 -> 41467 | M39: =L39 -> 41467 | N39: =M39 -> 41467 | ... R39: =Q39 -> 41467
A40: BU2 | B40: Project 8 | C40: Milestone 39 | D40: 41517 | E40: =R40 -> 41517 | F40: =D40 -> 41517 | G40: =F40 -> 41517 | H40: =G40 -> 41517 | I40: =H40 -> 41517 | J40: =I40 -> 41517 | K40: =J40 -> 41517 | L40: =K40 -> 41517 | M40: =L40 -> 41517 | N40: =M40 -> 41517 | ... R40: =Q40 -> 41517
A41: BU2 | B41: Project 8 | C41: Milestone 40 | D41: 41578 | E41: =R41 -> 41578 | F41: =D41 -> 41578 | G41: =F41 -> 41578 | H41: =G41 -> 41578 | I41: =H41 -> 41578 | J41: =I41 -> 41578 | K41: =J41 -> 41578 | L41: =K41 -> 41578 | M41: =L41 -> 41578 | N41: =M41 -> 41578 | ... R41: =Q41 -> 41578
A42: BU2 | B42: Project 9 | C42: Milestone 41 | D42: 41517 | E42: =R42 -> 41527 | F42: =D42 -> 41517 | G42: =F42 -> 41517 | H42: =G42 -> 41517 | I42: =H42 -> 41517 | J42: =I42+10 -> 41527 | K42: =J42 -> 41527 | L42: =K42 -> 41527 | M42: =L42 -> 41527 | N42: =M42 -> 41527 | O42: =N42 -> 41527 | P42: =O42 -> 41527 | Q42: =P42 -> 41527 | R42: =Q42 -> 41527
A43: BU2 | B43: Project 9 | C43: Milestone 42 | D43: 41547 | E43: =R43 -> 41547 | F43: =D43 -> 41547 | G43: =F43 -> 41547 | H43: =G43 -> 41547 | I43: =H43 -> 41547 | J43: =I43 -> 41547 | K43: =J43 -> 41547 | L43: =K43 -> 41547 | M43: =L43 -> 41547 | N43: =M43 -> 41547 | ... R43: =Q43 -> 41547
A44: BU2 | B44: Project 9 | C44: Milestone 43 | D44: 41379 | E44: =R44 -> 41379 | F44: =D44 -> 41379 | G44: =F44 -> 41379 | H44: =G44 -> 41379 | I44: =H44 -> 41379 | J44: =I44 -> 41379 | K44: =J44 -> 41379 | L44: =K44 -> 41379 | M44: =L44 -> 41379 | N44: =M44 -> 41379 | ... R44: =Q44 -> 41379
A45: BU2 | B45: Project 9 | C45: Milestone 44 | D45: 41455 | E45: =R45 -> 41455 | F45: =D45 -> 41455 | G45: =F45 -> 41455 | H45: =G45 -> 41455 | I45: =H45 -> 41455 | J45: =I45 -> 41455 | K45: =J45 -> 41455 | L45: =K45 -> 41455 | M45: =L45 -> 41455 | N45: =M45 -> 41455 | ... R45: =Q45 -> 41455
A46: BU2 | B46: Project 9 | C46: Milestone 45 | D46: 41525 | E46: =R46 -> 41525 | F46: =D46 -> 41525 | G46: =F46 -> 41525 | H46: =G46 -> 41525 | I46: =H46 -> 41525 | J46: =I46 -> 41525 | K46: =J46 -> 41525 | L46: =K46 -> 41525 | M46: =L46 -> 41525 | N46: =M46 -> 41525 | ... R46: =Q46 -> 41525
A47: BU2 | B47: Project 9 | C47: Milestone 46 | D47: 41547 | E47: =R47 -> 41547 | F47: =D47 -> 41547 | G47: =F47 -> 41547 | H47: =G47 -> 41547 | I47: =H47 -> 41547 | J47: =I47 -> 41547 | K47: =J47 -> 41547 | L47: =K47 -> 41547 | M47: =L47 -> 41547 | N47: =M47 -> 41547 | ... R47: =Q47 -> 41547
A48: BU2 | B48: Project 10 | C48: Milestone 47 | D48: 41387 | E48: =R48 -> 41387 | F48: =D48 -> 41387 | G48: =F48 -> 41387 | H48: =G48 -> 41387 | I48: =H48 -> 41387 | J48: =I48 -> 41387 | K48: =J48 -> 41387 | L48: =K48 -> 41387 | M48: =L48 -> 41387 | N48: =M48 -> 41387 | ... R48: =Q48 -> 41387
A49: BU2 | B49: Project 10 | C49: Milestone 48 | D49: 41440 | E49: =R49 -> 41440 | F49: =D49 -> 41440 | G49: =F49 -> 41440 | H49: =G49 -> 41440 | I49: =H49 -> 41440 | J49: =I49 -> 41440 | K49: =J49 -> 41440 | L49: =K49 -> 41440 | M49: =L49 -> 41440 | N49: =M49 -> 41440 | ... R49: =Q49 -> 41440
A50: BU2 | B50: Project 10 | C50: Milestone 49 | D50: 41455 | E50: =R50 -> 41455 | F50: =D50 -> 41455 | G50: =F50 -> 41455 | H50: =G50 -> 41455 | I50: =H50 -> 41455 | J50: =I50 -> 41455 | K50: =J50 -> 41455 | L50: =K50 -> 41455 | M50: =L50 -> 41455 | N50: =M50 -> 41455 | ... R50: =Q50 -> 41455
A51: BU2 | B51: Project 10 | C51: Milestone 50 | D51: 41577 | E51: =R51 -> 41587 | F51: =D51 -> 41577 | G51: =F51 -> 41577 | H51: =G51 -> 41577 | I51: =H51 -> 41577 | J51: =I51 -> 41577 | K51: =J51 -> 41577 | L51: =K51+10 -> 41587 | M51: =L51 -> 41587 | N51: =M51 -> 41587 | O51: =N51 -> 41587 | P51: =O51 -> 41587 | Q51: =P51 -> 41587 | R51: =Q51 -> 41587
A52: BU4 | B52: Project 11 | C52: Milestone 51 | D52: 41333 | E52: =R52 -> 41333 | F52: =D52 -> 41333 | G52: =F52 -> 41333 | H52: =G52 -> 41333 | I52: =H52 -> 41333 | J52: =I52 -> 41333 | K52: =J52 -> 41333 | L52: =K52 -> 41333 | M52: =L52 -> 41333 | N52: =M52 -> 41333 | ... R52: =Q52 -> 41333
A53: BU4 | B53: Project 11 | C53: Milestone 52 | D53: 41364 | E53: =R53 -> 41364 | F53: =D53 -> 41364 | G53: =F53 -> 41364 | H53: =G53 -> 41364 | I53: =H53 -> 41364 | J53: =I53 -> 41364 | K53: =J53 -> 41364 | L53: =K53 -> 41364 | M53: =L53 -> 41364 | N53: =M53 -> 41364 | ... R53: =Q53 -> 41364
A54: BU4 | B54: Project 11 | C54: Milestone 55 | D54: 41455 | E54: =R54 -> 41455 | F54: =D54 -> 41455 | G54: =F54 -> 41455 | H54: =G54 -> 41455 | I54: =H54 -> 41455 | J54: =I54 -> 41455 | K54: =J54 -> 41455 | L54: =K54 -> 41455 | M54: =L54 -> 41455 | N54: =M54 -> 41455 | ... R54: =Q54 -> 41455
A55: BU4 | B55: Project 11 | C55: Milestone 56 | D55: 41547 | E55: =R55 -> 41547 | F55: =D55 -> 41547 | G55: =F55 -> 41547 | H55: =G55 -> 41547 | I55: =H55 -> 41547 | J55: =I55 -> 41547 | K55: =J55 -> 41547 | L55: =K55 -> 41547 | M55: =L55 -> 41547 | N55: =M55 -> 41547 | ... R55: =Q55 -> 41547
A56: BU4 | B56: Project 11 | C56: Milestone 57 | D56: 41608 | E56: =R56 -> 41608 | F56: =D56 -> 41608 | G56: =F56 -> 41608 | H56: =G56 -> 41608 | I56: =H56 -> 41608 | J56: =I56 -> 41608 | K56: =J56 -> 41608 | L56: =K56 -> 41608 | M56: =L56 -> 41608 | N56: =M56 -> 41608 | ... R56: =Q56 -> 41608
A57: BU4 | B57: Project 12 | C57: Milestone 58 | D57: 41578 | E57: =R57 -> 41578 | F57: =D57 -> 41578 | G57: =F57 -> 41578 | H57: =G57 -> 41578 | I57: =H57 -> 41578 | J57: =I57 -> 41578 | K57: =J57 -> 41578 | L57: =K57 -> 41578 | M57: =L57 -> 41578 | N57: =M57 -> 41578 | ... R57: =Q57 -> 41578
A58: BU4 | B58: Project 12 | C58: Milestone 59 | D58: 41486 | E58: =R58 -> 41486 | F58: =D58 -> 41486 | G58: =F58 -> 41486 | H58: =G58 -> 41486 | I58: =H58 -> 41486 | J58: =I58 -> 41486 | K58: =J58 -> 41486 | L58: =K58 -> 41486 | M58: =L58 -> 41486 | N58: =M58 -> 41486 | ... R58: =Q58 -> 41486
A59: BU4 | B59: Project 13 | C59: Milestone 60 | D59: 41628 | E59: =R59 -> 41628 | F59: =D59 -> 41628 | G59: =F59 -> 41628 | H59: =G59 -> 41628 | I59: =H59 -> 41628 | J59: =I59 -> 41628 | K59: =J59 -> 41628 | L59: =K59 -> 41628 | M59: =L59 -> 41628 | N59: =M59 -> 41628 | ... R59: =Q59 -> 41628
A60: BU4 | B60: Project 13 | C60: Milestone 61 | D60: 41628 | E60: =R60 -> 41993 | F60: =D60+365 -> 41993 | G60: =F60 -> 41993 | H60: =G60 -> 41993 | I60: =H60 -> 41993 | J60: =I60 -> 41993 | K60: =J60 -> 41993 | L60: =K60 -> 41993 | M60: =L60 -> 41993 | N60: =M60 -> 41993 | ... R60: =Q60 -> 41993
A61: BU4 | B61: Project 13 | C61: Milestone 62 | D61: 41572 | E61: =R61 -> 41937 | F61: =D61+365 -> 41937 | G61: =F61 -> 41937 | H61: =G61 -> 41937 | I61: =H61 -> 41937 | J61: =I61 -> 41937 | K61: =J61 -> 41937 | L61: =K61 -> 41937 | M61: =L61 -> 41937 | N61: =M61 -> 41937 | ... R61: =Q61 -> 41937
A62: BU4 | B62: Project 13 | C62: Milestone 63 | D62: 41364 | E62: =R62 -> 41729 | F62: =D62+365 -> 41729 | G62: =F62 -> 41729 | H62: =G62 -> 41729 | I62: =H62 -> 41729 | J62: =I62 -> 41729 | K62: =J62 -> 41729 | L62: =K62 -> 41729 | M62: =L62 -> 41729 | N62: =M62 -> 41729 | ... R62: =Q62 -> 41729
A63: BU4 | B63: Project 13 | C63: Milestone 64 | D63: 41578 | E63: =R63 -> 41943 | F63: =D63+365 -> 41943 | G63: =F63 -> 41943 | H63: =G63 -> 41943 | I63: =H63 -> 41943 | J63: =I63 -> 41943 | K63: =J63 -> 41943 | L63: =K63 -> 41943 | M63: =L63 -> 41943 | N63: =M63 -> 41943 | ... R63: =Q63 -> 41943
A64: BU4 | B64: Project 13 | C64: Milestone 65 | D64: 41455 | E64: =R64 -> 41820 | F64: =D64+365 -> 41820 | G64: =F64 -> 41820 | H64: =G64 -> 41820 | I64: =H64 -> 41820 | J64: =I64 -> 41820 | K64: =J64 -> 41820 | L64: =K64 -> 41820 | M64: =L64 -> 41820 | N64: =M64 -> 41820 | ... R64: =Q64 -> 41820
A65: BU4 | B65: Project 13 | C65: Milestone 66 | D65: 41455 | E65: =R65 -> 41820 | F65: =D65+365 -> 41820 | G65: =F65 -> 41820 | H65: =G65 -> 41820 | I65: =H65 -> 41820 | J65: =I65 -> 41820 | K65: =J65 -> 41820 | L65: =K65 -> 41820 | M65: =L65 -> 41820 | N65: =M65 -> 41820 | ... R65: =Q65 -> 41820
A66: BU4 | B66: Project 14 | C66: Milestone 67 | D66: 41517 | E66: =R66 -> 41882 | F66: =D66+365 -> 41882 | G66: =F66 -> 41882 | H66: =G66 -> 41882 | I66: =H66 -> 41882 | J66: =I66 -> 41882 | K66: =J66 -> 41882 | L66: =K66 -> 41882 | M66: =L66 -> 41882 | N66: =M66 -> 41882 | ... R66: =Q66 -> 41882
A67: BU4 | B67: Project 14 | C67: Milestone 68 | D67: 41547 | E67: =R67 -> 41912 | F67: =D67+365 -> 41912 | G67: =F67 -> 41912 | H67: =G67 -> 41912 | I67: =H67 -> 41912 | J67: =I67 -> 41912 | K67: =J67 -> 41912 | L67: =K67 -> 41912 | M67: =L67 -> 41912 | N67: =M67 -> 41912 | ... R67: =Q67 -> 41912
A68: BU4 | B68: Project 14 | C68: Milestone 69 | D68: 41455 | E68: =R68 -> 41820 | F68: =D68+365 -> 41820 | G68: =F68 -> 41820 | H68: =G68 -> 41820 | I68: =H68 -> 41820 | J68: =I68 -> 41820 | K68: =J68 -> 41820 | L68: =K68 -> 41820 | M68: =L68 -> 41820 | N68: =M68 -> 41820 | ... R68: =Q68 -> 41820
A69: BU4 | B69: Project 14 | C69: Milestone 70 | D69: 41486 | E69: =R69 -> 41851 | F69: =D69+365 -> 41851 | G69: =F69 -> 41851 | H69: =G69 -> 41851 | I69: =H69 -> 41851 | J69: =I69 -> 41851 | K69: =J69 -> 41851 | L69: =K69 -> 41851 | M69: =L69 -> 41851 | N69: =M69 -> 41851 | ... R69: =Q69 -> 41851
A70: BU4 | B70: Project 14 | C70: Milestone 71 | D70: 41517 | E70: =R70 -> 41882 | F70: =D70+365 -> 41882 | G70: =F70 -> 41882 | H70: =G70 -> 41882 | I70: =H70 -> 41882 | J70: =I70 -> 41882 | K70: =J70 -> 41882 | L70: =K70 -> 41882 | M70: =L70 -> 41882 | N70: =M70 -> 41882 | ... R70: =Q70 -> 41882
A71: BU4 | B71: Project 15 | C71: Milestone 72 | D71: 41333 | E71: =R71 -> 41698 | F71: =D71+365 -> 41698 | G71: =F71 -> 41698 | H71: =G71 -> 41698 | I71: =H71 -> 41698 | J71: =I71 -> 41698 | K71: =J71 -> 41698 | L71: =K71 -> 41698 | M71: =L71 -> 41698 | N71: =M71 -> 41698 | ... R71: =Q71 -> 41698
... A74: BU4 | B74: Project 15 | C74: Milestone 75 | D74: 41404 | E74: =R74 -> 41769 | F74: =D74+365 -> 41769 | G74: =F74 -> 41769 | H74: =G74 -> 41769 | I74: =H74 -> 41769 | J74: =I74 -> 41769 | K74: =J74 -> 41769 | L74: =K74 -> 41769 | M74: =L74 -> 41769 | N74: =M74 -> 41769 | ... R74: =Q74 -> 41769
A75: BU4 | B75: Project 16 | C75: Milestone 76 | D75: 41455 | E75: =R75 -> 41455 | F75: =D75 -> 41455 | G75: =F75 -> 41455 | H75: =G75 -> 41455 | I75: =H75 -> 41455 | J75: =I75 -> 41455 | K75: =J75 -> 41455 | L75: =K75 -> 41455 | M75: =L75 -> 41455 | N75: =M75 -> 41455 | ... R75: =Q75 -> 41455
A76: BU4 | B76: Project 16 | C76: Milestone 77 | D76: 41455 | E76: =R76 -> 41455 | F76: =D76 -> 41455 | G76: =F76 -> 41455 | H76: =G76 -> 41455 | I76: =H76 -> 41455 | J76: =I76 -> 41455 | K76: =J76 -> 41455 | L76: =K76 -> 41455 | M76: =L76 -> 41455 | N76: =M76 -> 41455 | ... R76: =Q76 -> 41455
A77: BU4 | B77: Project 16 | C77: Milestone 78 | D77: 41363 | E77: =R77 -> 41363 | F77: =D77 -> 41363 | G77: =F77 -> 41363 | H77: =G77 -> 41363 | I77: =H77 -> 41363 | J77: =I77 -> 41363 | K77: =J77 -> 41363 | L77: =K77 -> 41363 | M77: =L77 -> 41363 | N77: =M77 -> 41363 | ... R77: =Q77 -> 41363
A78: BU4 | B78: Project 16 | C78: Milestone 79 | D78: 41486 | E78: =R78 -> 41486 | F78: =D78 -> 41486 | G78: =F78 -> 41486 | H78: =G78 -> 41486 | I78: =H78 -> 41486 | J78: =I78 -> 41486 | K78: =J78 -> 41486 | L78: =K78 -> 41486 | M78: =L78 -> 41486 | N78: =M78 -> 41486 | ... R78: =Q78 -> 41486
A79: BU3 | B79: Project 17 | C79: Milestone 80 | D79: 41304 | E79: =R79 -> 41304 | F79: =D79 -> 41304 | G79: =F79 -> 41304 | H79: =G79 -> 41304 | I79: =H79 -> 41304 | J79: =I79 -> 41304 | K79: =J79 -> 41304 | L79: =K79 -> 41304 | M79: =L79 -> 41304 | N79: =M79 -> 41304 | ... R79: =Q79 -> 41304
A80: BU3 | B80: Project 17 | C80: Milestone 81 | D80: 41394 | E80: =R80 -> 41394 | F80: =D80 -> 41394 | G80: =F80 -> 41394 | H80: =G80 -> 41394 | I80: =H80 -> 41394 | J80: =I80 -> 41394 | K80: =J80 -> 41394 | L80: =K80 -> 41394 | M80: =L80 -> 41394 | N80: =M80 -> 41394 | ... R80: =Q80 -> 41394
A81: BU3 | B81: Project 17 | C81: Milestone 82 | D81: 41394 | E81: =R81 -> 41394 | F81: =D81 -> 41394 | G81: =F81 -> 41394 | H81: =G81 -> 41394 | I81: =H81 -> 41394 | J81: =I81 -> 41394 | K81: =J81 -> 41394 | L81: =K81 -> 41394 | M81: =L81 -> 41394 | N81: =M81 -> 41394 | ... R81: =Q81 -> 41394
A82: BU3 | B82: Project 17 | C82: Milestone 83 | D82: 41455 | E82: =R82 -> 41455 | F82: =D82 -> 41455 | G82: =F82 -> 41455 | H82: =G82 -> 41455 | I82: =H82 -> 41455 | J82: =I82 -> 41455 | K82: =J82 -> 41455 | L82: =K82 -> 41455 | M82: =L82 -> 41455 | N82: =M82 -> 41455 | ... R82: =Q82 -> 41455
A83: BU3 | B83: Project 17 | C83: Milestone 84 | D83: 41608 | E83: =R83 -> 41544 | F83: =D83 -> 41608 | G83: =F83 -> 41608 | H83: =G83-64 -> 41544 | I83: =H83 -> 41544 | J83: =I83 -> 41544 | K83: =J83 -> 41544 | L83: =K83 -> 41544 | M83: =L83 -> 41544 | N83: =M83 -> 41544 | O83: =N83 -> 41544 | P83: =O83 -> 41544 | ... R83: =Q83 -> 41544
A84: BU3 | B84: Project 17 | C84: Milestone 85 | D84: 41639 | E84: =R84 -> 41575 | F84: =D84 -> 41639 | G84: =F84 -> 41639 | H84: =G84-64 -> 41575 | I84: =H84 -> 41575 | J84: =I84 -> 41575 | K84: =J84 -> 41575 | L84: =K84 -> 41575 | M84: =L84 -> 41575 | N84: =M84 -> 41575 | O84: =N84 -> 41575 | P84: =O84 -> 41575 | ... R84: =Q84 -> 41575
A85: BU3 | B85: Project 17 | C85: Milestone 86 | D85: 41639 | E85: =R85 -> 41575 | F85: =D85 -> 41639 | G85: =F85 -> 41639 | H85: =G85-64 -> 41575 | I85: =H85 -> 41575 | J85: =I85 -> 41575 | K85: =J85 -> 41575 | L85: =K85 -> 41575 | M85: =L85 -> 41575 | N85: =M85 -> 41575 | O85: =N85 -> 41575 | P85: =O85 -> 41575 | ... R85: =Q85 -> 41575
A86: BU3 | B86: Project 18 | C86: Milestone 87 | D86: 41425 | E86: =R86 -> 41361 | F86: =D86 -> 41425 | G86: =F86 -> 41425 | H86: =G86-64 -> 41361 | I86: =H86 -> 41361 | J86: =I86 -> 41361 | K86: =J86 -> 41361 | L86: =K86 -> 41361 | M86: =L86 -> 41361 | N86: =M86 -> 41361 | O86: =N86 -> 41361 | P86: =O86 -> 41361 | ... R86: =Q86 -> 41361
A87: BU3 | B87: Project 18 | C87: Milestone 88 | D87: 41547 | E87: =R87 -> 41483 | F87: =D87 -> 41547 | G87: =F87 -> 41547 | H87: =G87-64 -> 41483 | I87: =H87 -> 41483 | J87: =I87 -> 41483 | K87: =J87 -> 41483 | L87: =K87 -> 41483 | M87: =L87 -> 41483 | N87: =M87 -> 41483 | O87: =N87 -> 41483 | P87: =O87 -> 41483 | ... R87: =Q87 -> 41483
A88: BU3 | B88: Project 19 | C88: Milestone 89 | D88: 41365 | E88: =R88+14 -> 41315 | F88: =D88 -> 41365 | G88: =F88 -> 41365 | H88: =G88-64 -> 41301 | I88: =H88 -> 41301 | J88: =I88 -> 41301 | K88: =J88 -> 41301 | L88: =K88 -> 41301 | M88: =L88 -> 41301 | N88: =M88 -> 41301 | O88: =N88 -> 41301 | P88: =O88 -> 41301 | ... R88: =Q88 -> 41301
A89: BU3 | B89: Project 19 | C89: Milestone 90 | D89: 41365 | E89: =R89+14 -> 41315 | F89: =D89 -> 41365 | G89: =F89 -> 41365 | H89: =G89-64 -> 41301 | I89: =H89 -> 41301 | J89: =I89 -> 41301 | K89: =J89 -> 41301 | L89: =K89 -> 41301 | M89: =L89 -> 41301 | N89: =M89 -> 41301 | O89: =N89 -> 41301 | P89: =O89 -> 41301 | ... R89: =Q89 -> 41301
A90: BU3 | B90: Project 19 | C90: Milestone 91 | D90: 41456 | E90: =R90+14 -> 41406 | F90: =D90 -> 41456 | G90: =F90 -> 41456 | H90: =G90-64 -> 41392 | I90: =H90 -> 41392 | J90: =I90 -> 41392 | K90: =J90 -> 41392 | L90: =K90 -> 41392 | M90: =L90 -> 41392 | N90: =M90 -> 41392 | O90: =N90 -> 41392 | P90: =O90 -> 41392 | ... R90: =Q90 -> 41392
A91: BU3 | B91: Project 19 | C91: Milestone 92 | D91: 41579 | E91: =R91+14 -> 41529 | F91: =D91 -> 41579 | G91: =F91 -> 41579 | H91: =G91-64 -> 41515 | I91: =H91 -> 41515 | J91: =I91 -> 41515 | K91: =J91 -> 41515 | L91: =K91 -> 41515 | M91: =L91 -> 41515 | N91: =M91 -> 41515 | O91: =N91 -> 41515 | P91: =O91 -> 41515 | ... R91: =Q91 -> 41515
A92: BU3 | B92: Project 19 | C92: Milestone 93 | D92: 41609 | E92: =R92+14 -> 41559 | F92: =D92 -> 41609 | G92: =F92 -> 41609 | H92: =G92-64 -> 41545 | I92: =H92 -> 41545 | J92: =I92 -> 41545 | K92: =J92 -> 41545 | L92: =K92 -> 41545 | M92: =L92 -> 41545 | N92: =M92 -> 41545 | O92: =N92 -> 41545 | P92: =O92 -> 41545 | ... R92: =Q92 -> 41545
A93: BU3 | B93: Project 20 | C93: Milestone 94 | D93: 41363 | E93: =R93+14 -> 41313 | F93: =D93 -> 41363 | G93: =F93 -> 41363 | H93: =G93-64 -> 41299 | I93: =H93 -> 41299 | J93: =I93 -> 41299 | K93: =J93 -> 41299 | L93: =K93 -> 41299 | M93: =L93 -> 41299 | N93: =M93 -> 41299 | O93: =N93 -> 41299 | P93: =O93 -> 41299 | ... R93: =Q93 -> 41299
A94: BU3 | B94: Project 20 | C94: Milestone 95 | D94: 41394 | E94: =R94+14 -> 41344 | F94: =D94 -> 41394 | G94: =F94 -> 41394 | H94: =G94-64 -> 41330 | I94: =H94 -> 41330 | J94: =I94 -> 41330 | K94: =J94 -> 41330 | L94: =K94 -> 41330 | M94: =L94 -> 41330 | N94: =M94 -> 41330 | O94: =N94 -> 41330 | P94: =O94 -> 41330 | ... R94: =Q94 -> 41330
A95: BU3 | B95: Project 20 | C95: Milestone 96 | D95: 41394 | E95: =R95+14 -> 41408 | F95: =D95 -> 41394 | G95: =F95 -> 41394 | H95: =G95 -> 41394 | I95: =H95 -> 41394 | J95: =I95 -> 41394 | K95: =J95 -> 41394 | L95: =K95 -> 41394 | M95: =L95 -> 41394 | N95: =M95 -> 41394 | ... R95: =Q95 -> 41394
A96: BU3 | B96: Project 20 | C96: Milestone 97 | D96: 41485 | E96: =R96+14 -> 41499 | F96: =D96 -> 41485 | G96: =F96 -> 41485 | H96: =G96 -> 41485 | I96: =H96 -> 41485 | J96: =I96 -> 41485 | K96: =J96 -> 41485 | L96: =K96 -> 41485 | M96: =L96 -> 41485 | N96: =M96 -> 41485 | ... R96: =Q96 -> 41485
A97: BU3 | B97: Project 20 | C97: Milestone 98 | D97: 41485 | E97: =R97+14 -> 41499 | F97: =D97 -> 41485 | G97: =F97 -> 41485 | H97: =G97 -> 41485 | I97: =H97 -> 41485 | J97: =I97 -> 41485 | K97: =J97 -> 41485 | L97: =K97 -> 41485 | M97: =L97 -> 41485 | N97: =M97 -> 41485 | ... R97: =Q97 -> 41485
A98: BU3 | B98: Project 20 | C98: Milestone 99 | D98: 41547 | E98: =R98+14 -> 41561 | F98: =D98 -> 41547 | G98: =F98 -> 41547 | H98: =G98 -> 41547 | I98: =H98 -> 41547 | J98: =I98 -> 41547 | K98: =J98 -> 41547 | L98: =K98 -> 41547 | M98: =L98 -> 41547 | N98: =M98 -> 41547 | ... R98: =Q98 -> 41547
A99: BU3 | B99: Project 20 | C99: Milestone 100 | D99: 41639 | E99: =R99+14 -> 41653 | F99: =D99 -> 41639 | G99: =F99 -> 41639 | H99: =G99 -> 41639 | I99: =H99 -> 41639 | J99: =I99 -> 41639 | K99: =J99 -> 41639 | L99: =K99 -> 41639 | M99: =L99 -> 41639 | N99: =M99 -> 41639 | ... R99: =Q99 -> 41639
A100: BU3 | B100: Project 21 | C100: Milestone 101 | D100: 41367 | E100: =R100+14 -> 41381 | F100: =D100 -> 41367 | G100: =F100 -> 41367 | H100: =G100 -> 41367 | I100: =H100 -> 41367 | J100: =I100 -> 41367 | K100: =J100 -> 41367 | L100: =K100 -> 41367 | M100: =L100 -> 41367 | N100: =M100 -> 41367 | ... R100: =Q100 -> 41367
A101: BU3 | B101: Project 21 | C101: Milestone 103 | D101: 41458 | E101: =R101 -> 41458 | F101: =D101 -> 41458 | G101: =F101 -> 41458 | H101: =G101 -> 41458 | I101: =H101 -> 41458 | J101: =I101 -> 41458 | K101: =J101 -> 41458 | L101: =K101 -> 41458 | M101: =L101 -> 41458 | N101: =M101 -> 41458 | ... R101: =Q101 -> 41458
A102: BU3 | B102: Project 21 | C102: Milestone 104 | D102: 41428 | E102: =R102 -> 41428 | F102: =D102 -> 41428 | G102: =F102 -> 41428 | H102: =G102 -> 41428 | I102: =H102 -> 41428 | J102: =I102 -> 41428 | K102: =J102 -> 41428 | L102: =K102 -> 41428 | M102: =L102 -> 41428 | N102: =M102 -> 41428 | ... R102: =Q102 -> 41428

Sheet Milestones
C1: =Dates!F2 -> 41275 | D1: =Dates!G2 -> 41306 | E1: =Dates!H2 -> 41334 | F1: =Dates!I2 -> 41365 | G1: =Dates!J2 -> 41395 | H1: =Dates!K2 -> 41426 | I1: =Dates!L2 -> 41456 | J1: =Dates!M2 -> 41487 | ... P1: =Dates!S2 -> 41671
A2: Initial target | C2: =SUMPRODUCT((target>=C$1)*(target<D$1)) -> 4 | D2: =SUMPRODUCT((target>=D$1)*(target<E$1)) -> 7 | E2: =SUMPRODUCT((target>=E$1)*(target<F$1)) -> 11 | F2: =SUMPRODUCT((target>=F$1)*(target<G$1)) -> 10 | G2: =SUMPRODUCT((target>=G$1)*(target<H$1)) -> 3 | H2: =SUMPRODUCT((target>=H$1)*(target<I$1)) -> 16 | I2: =SUMPRODUCT((target>=I$1)*(target<J$1)) -> 11 | J2: =SUMPRODUCT((target>=J$1)*(target<K$1)) -> 9 | ... O2: =SUMPRODUCT((target>=O$1)*(target<P$1)) -> 0
A3: Initial target - cmltd | C3: =SUM($C2:C2) -> 4 | D3: =SUM($C2:D2) -> 11 | E3: =SUM($C2:E2) -> 22 | F3: =SUM($C2:F2) -> 32 | G3: =SUM($C2:G2) -> 35 | H3: =SUM($C2:H2) -> 51 | I3: =SUM($C2:I2) -> 62 | J3: =SUM($C2:J2) -> 71 | ... O3: =SUM($C2:O2) -> 100
A4: Current target | C4: =SUMPRODUCT((jan>=C$1)*(jan<D$1)) -> 4 | D4: =SUMPRODUCT((feb>=D$1)*(feb<E$1)) -> 6 | E4: =SUMPRODUCT((mar>=E$1)*(mar<F$1)) -> 8 | F4: =SUMPRODUCT((apr>=F$1)*(apr<G$1)) -> 9 | G4: =SUMPRODUCT((may>=G$1)*(may<H$1)) -> 1 | H4: =SUMPRODUCT((jun>=H$1)*(jun<I$1)) -> 14 | I4: =SUMPRODUCT((jul>=I$1)*(jul<J$1)) -> 8 | J4: =SUMPRODUCT((aug>=J$1)*(aug<K$1)) -> 5 | K4: =SUMPRODUCT((sep>=K$1)*(sep<L$1)) -> 12 | L4: =SUMPRODUCT((oct>=L$1)*(oct<M$1)) -> 10 | M4: =SUMPRODUCT((nov>=M$1)*(nov<N$1)) -> 3 | N4: =SUMPRODUCT((dec>=N$1)*(dec<O$1)) -> 5 | O4: =SUMPRODUCT((jan>=O$1)*(jan<P$1)) -> 0
A5: Updated target - cmltd | C5: =C4 -> 4 | D5: =SUM($C6:C6)+D4 -> 10 | E5: =SUM($C6:D6)+E4 -> 20 | F5: =SUM($C6:E6)+F4 -> 29 | G5: =SUM($C6:F6)+G4 -> 28 | H5: =SUM($C6:G6)+H4 -> 44 | I5: =SUM($C6:H6)+I4 -> 51 | J5: =SUM($C6:I6)+J4 -> 53 | K5: =SUM($C6:J6)+K4 -> 64 | ... O5: =SUM($C6:N6)+O4 -> 82
A6: Met | C6: =SUMPRODUCT((met>=C$1)*(met<D$1)) -> 4 | D6: =SUMPRODUCT((met>=D$1)*(met<E$1)) -> 8 | E6: =SUMPRODUCT((met>=E$1)*(met<F$1)) -> 8 | F6: =SUMPRODUCT((met>=F$1)*(met<G$1)) -> 7 | G6: =SUMPRODUCT((met>=G$1)*(met<H$1)) -> 3 | H6: =SUMPRODUCT((met>=H$1)*(met<I$1)) -> 13 | I6: =SUMPRODUCT((met>=I$1)*(met<J$1)) -> 5 | J6: =SUMPRODUCT((met>=J$1)*(met<K$1)) -> 4 | ... O6: =SUMPRODUCT((met>=O$1)*(met<P$1)) -> 1
A7: Met late | C7: =SUMPRODUCT((met>=C$1)*(met<D$1)*(met>jan)) -> 0 | D7: =SUMPRODUCT((met>=D$1)*(met<E$1)*(met>feb)) -> 0 | E7: =SUMPRODUCT((met>=E$1)*(met<F$1)*(met>mar)) -> 1 | F7: =SUMPRODUCT((met>=F$1)*(met<G$1)*(met>apr)) -> 1 | G7: =SUMPRODUCT((met>=G$1)*(met<H$1)*(met>may)) -> 2 | H7: =SUMPRODUCT((met>=H$1)*(met<I$1)*(met>jun)) -> 0 | I7: =SUMPRODUCT((met>=I$1)*(met<J$1)*(met>jul)) -> 0 | J7: =SUMPRODUCT((met>=J$1)*(met<K$1)*(met>aug)) -> 2 | K7: =SUMPRODUCT((met>=K$1)*(met<L$1)*(met>sep)) -> 1 | L7: =SUMPRODUCT((met>=L$1)*(met<M$1)*(met>oct)) -> 2 | M7: =SUMPRODUCT((met>=M$1)*(met<N$1)*(met>nov)) -> 0 | N7: =SUMPRODUCT((met>=N$1)*(met<O$1)*(met>dec)) -> 0 | O7: =SUMPRODUCT((met>=O$1)*(met<P$1)*(met>nextjan)) -> 1
A8: Late - cmltd | C8: =SUM($C7:C7) -> 0 | D8: =SUM($C7:D7) -> 0 | E8: =SUM($C7:E7) -> 1 | F8: =SUM(C7:F7) -> 2 | G8: =SUM($C7:G7) -> 4 | H8: =SUM($C7:H7) -> 4 | I8: =SUM($C7:I7) -> 4 | J8: =SUM($C7:J7) -> 6 | K8: =SUM($C7:K7) -> 7 | L8: =SUM($C7:L7) -> 9 | M8: =SUM($C7:M7) -> 9 | N8: =SUM($C7:N7) -> 9 | O8: =SUM($C7:O7) -> 10
A9: Met just in time | C9: =SUMPRODUCT((met>=C$1)*(met<D$1)*(met=jan)) -> 4 | D9: =SUMPRODUCT((met>=D$1)*(met<E$1)*(met=feb)) -> 5 | E9: =SUMPRODUCT((met>=E$1)*(met<F$1)*(met=mar)) -> 7 | F9: =SUMPRODUCT((met>=F$1)*(met<G$1)*(met=apr)) -> 6 | G9: =SUMPRODUCT((met>=G$1)*(met<H$1)*(met=may)) -> 1 | H9: =SUMPRODUCT((met>=H$1)*(met<I$1)*(met=jun)) -> 13 | I9: =SUMPRODUCT((met>=I$1)*(met<J$1)*(met=jul)) -> 5 | J9: =SUMPRODUCT((met>=J$1)*(met<K$1)*(met=aug)) -> 2 | K9: =SUMPRODUCT((met>=K$1)*(met<L$1)*(met=sep)) -> 10 | L9: =SUMPRODUCT((met>=L$1)*(met<M$1)*(met=oct)) -> 10 | M9: =SUMPRODUCT((met>=M$1)*(met<N$1)*(met=nov)) -> 3 | N9: =SUMPRODUCT((met>=N$1)*(met<O$1)*(met=dec)) -> 4 | O9: =SUMPRODUCT((met>=O$1)*(met<P$1)*(met=nextjan)) -> 0
A10: In time - cmltd | C10: =SUM($C9:C9) -> 4 | D10: =SUM($C9:D9) -> 9 | E10: =SUM($C9:E9) -> 16 | F10: =SUM($C9:F9) -> 22 | G10: =SUM($C9:G9) -> 23 | H10: =SUM($C9:H9) -> 36 | I10: =SUM($C9:I9) -> 41 | J10: =SUM($C9:J9) -> 43 | ... O10: =SUM($C9:O9) -> 70
A11: Met in advance | C11: =SUMPRODUCT((met>=C$1)*(met<D$1)*(met<jan)) -> 0 | D11: =SUMPRODUCT((met>=D$1)*(met<E$1)*(met<feb)) -> 3 | E11: =SUMPRODUCT((met>=E$1)*(met<F$1)*(met<mar)) -> 0 | F11: =SUMPRODUCT((met>=F$1)*(met<G$1)*(met<apr)) -> 0 | G11: =SUMPRODUCT((met>=G$1)*(met<H$1)*(met<may)) -> 0 | H11: =SUMPRODUCT((met>=H$1)*(met<I$1)*(met<jun)) -> 0 | I11: =SUMPRODUCT((met>=I$1)*(met<J$1)*(met<jul)) -> 0 | J11: =SUMPRODUCT((met>=J$1)*(met<K$1)*(met<aug)) -> 0 | K11: =SUMPRODUCT((met>=K$1)*(met<L$1)*(met<sep)) -> 0 | L11: =SUMPRODUCT((met>=L$1)*(met<M$1)*(met<oct)) -> 0 | M11: =SUMPRODUCT((met>=M$1)*(met<N$1)*(met<nov)) -> 0 | N11: =SUMPRODUCT((met>=N$1)*(met<O$1)*(met<dec)) -> 0 | O11: =SUMPRODUCT((met>=O$1)*(met<P$1)*(met<nextjan)) -> 0
A12: In advance - cmltd | C12: =SUM($C11:C11) -> 0 | D12: =SUM($C11:D11) -> 3 | E12: =SUM($C11:E11) -> 3 | F12: =SUM($C11:F11) -> 3 | G12: =SUM($C11:G11) -> 3 | H12: =SUM($C11:H11) -> 3 | I12: =SUM($C11:I11) -> 3 | J12: =SUM($C11:J11) -> 3 | ... O12: =SUM($C11:O11) -> 3
A13: Late | C13: =SUMPRODUCT((met="")*(target<>"")*(jan<D$1)) -> 0 | D13: =SUMPRODUCT((met="")*(target<>"")*(feb<E$1)) -> 0 | E13: =SUMPRODUCT((met="")*(target<>"")*(mar<F$1)) -> 0 | F13: =SUMPRODUCT((met="")*(target<>"")*(apr<G$1)) -> 0 | G13: =SUMPRODUCT((met="")*(target<>"")*(may<H$1)) -> 0 | H13: =SUMPRODUCT((met="")*(target<>"")*(jun<I$1)) -> 0 | I13: =SUMPRODUCT((met="")*(target<>"")*(jul<J$1)) -> 0 | J13: =SUMPRODUCT((met="")*(target<>"")*(aug<K$1)) -> 0 | K13: =SUMPRODUCT((met="")*(target<>"")*(sep<L$1)) -> 0 | L13: =SUMPRODUCT((met="")*(target<>"")*(oct<M$1)) -> 0 | M13: =SUMPRODUCT((met="")*(target<>"")*(nov<N$1)) -> 0 | N13: =SUMPRODUCT((met="")*(target<>"")*(dec<O$1)) -> 0 | O13: =SUMPRODUCT((met="")*(target<>"")*(nextjan<P$1)) -> 0
A14: Postponed | C14: =SUMPRODUCT((jan>target)*(target<>"")) -> 15 | D14: =SUMPRODUCT((feb>jan)*(target<>"")) -> 1 | E14: =SUMPRODUCT((mar>feb)*(target<>"")) -> 2 | F14: =SUMPRODUCT((apr>mar)*(target<>"")) -> 9 | G14: =SUMPRODUCT((may>apr)*(target<>"")) -> 2 | H14: =SUMPRODUCT((jun>may)*(target<>"")) -> 2 | I14: =SUMPRODUCT((jul>jun)*(target<>"")) -> 2 | J14: =SUMPRODUCT((aug>jul)*(target<>"")) -> 1 | K14: =SUMPRODUCT((sep>aug)*(target<>"")) -> 3 | L14: =SUMPRODUCT((oct>sep)*(target<>"")) -> 1 | M14: =SUMPRODUCT((nov>oct)*(target<>"")) -> 0 | N14: =SUMPRODUCT((dec>nov)*(target<>"")) -> 0 | O14: =SUMPRODUCT((nextjan>dec)*(target<>"")) -> 0
