Workbook
Name apr: OFFSET(Dates!$I$3,,,COUNTA(Dates!$A:$A)-2)
Name aug: OFFSET(Dates!$M$3,,,COUNTA(Dates!$A:$A)-2)
Name BU: Back end, Front end, Installed Base, New builds
Name dec: OFFSET(Dates!$Q$3,,,COUNTA(Dates!$A:$A)-2)
Name feb: OFFSET(Dates!$G$3,,,COUNTA(Dates!$A:$A)-2)
Name jan: OFFSET(Dates!$F$3,,,COUNTA(Dates!$A:$A)-2)
Name jul: OFFSET(Dates!$L$3,,,COUNTA(Dates!$A:$A)-2)
Name jun: OFFSET(Dates!$K$3,,,COUNTA(Dates!$A:$A)-2)
Name mar: OFFSET(Dates!$H$3,,,COUNTA(Dates!$A:$A)-2)
Name may: OFFSET(Dates!$J$3,,,COUNTA(Dates!$A:$A)-2)
Name met: Dates!$E$3:$E$102
Name metbis: OFFSET(Dates!$E$3,,,COUNTA(Dates!$A:$A)-2)
Name nextjan: OFFSET(Dates!$R$3,,,COUNTA(Dates!$A:$A)-2)
Name nov: OFFSET(Dates!$P$3,,,COUNTA(Dates!$A:$A)-2)
Name oct: OFFSET(Dates!$O$3,,,COUNTA(Dates!$A:$A)-2)
Name sep: OFFSET(Dates!$N$3,,,COUNTA(Dates!$A:$A)-2)
Name target: Dates!$D$3:$D$102
Name test: "DECALER(Data!$A$1;'TT diagrams'!$A$4-1;0;'TT diagrams'!$A$4;1)"

Sheet Dates
A1: Table1 | F1: Màj mensuelle des objectifs
A2: Business Unit | B2: Project | C2: Milestone | D2: Cible initiale | E2: Date de réalisation | F2: 41275 | G2: 41306 | H2: 41334 | I2: 41365 | J2: 41395 | K2: 41426 | L2: 41456 | M2: 41487 | N2: 41518 | O2: 41548 | P2: 41579 | Q2: 41609 | R2: 41640 | S2: 41671
A3: BU1 | B3: Project 1 | C3: Milestone 1 | D3: 41486 | E3: =R3 -> 41614 | F3: =D3 -> 41486 | G3: =F3+31 -> 41517 | H3: =G3 -> 41517 | I3: =H3 -> 41517 | J3: =I3 -> 41517 | K3: =J3+32 -> 41549 | L3: =K3 -> 41549 | M3: =L3 -> 41549 | N3: =M3+65 -> 41614 | O3: =N3 -> 41614 | P3: =O3 -> 41614 | Q3: =P3 -> 41614 | R3: =Q3 -> 41614
A4: BU1 | B4: Project 1 | C4: Milestone 2 | D4: 41316 | E4: =R4 -> 41316 | F4: =D4 -> 41316 | G4: =F4 -> 41316 | H4: =G4 -> 41316 | I4: =H4 -> 41316 | J4: =I4 -> 41316 | K4: =J4 -> 41316 | L4: =K4 -> 41316 | M4: =L4 -> 41316 | N4: =M4 -> 41316 | ... R4: =Q4 -> 41316
A5: BU1 | B5: Project 1 | C5: Milestone 3 | D5: 41343 | E5: =R5 -> 41343 | F5: =D5 -> 41343 | G5: =E5 -> 41343 | H5: =F5 -> 41343 | I5: =G5 -> 41343 | J5: =H5 -> 41343 | K5: =I5 -> 41343 | L5: =J5 -> 41343 | M5: =K5 -> 41343 | ... R5: =P5 -> 41343
A6: BU1 | B6: Project 1 | C6: Milestone 4 | D6: 41360 | E6: =R6 -> 41916 | F6: =D6 -> 41360 | G6: =F6 -> 41360 | H6: =G6+35 -> 41395 | I6: =H6 -> 41395 | J6: =I6+34 -> 41429 | K6: =J6+25 -> 41454 | L6: =K6+43 -> 41497 | M6: =L6 -> 41497 | N6: =M6+54 -> 41551 | O6: =N6+365 -> 41916 | P6: =O6 -> 41916 | Q6: =P6 -> 41916 | R6: =Q6 -> 41916
A7: BU1 | B7: Project 2 | C7: Milestone 5 | D7: 41486 | E7: =R7 -> 41521 | F7: =D7 -> 41486 | G7: =F7 -> 41486 | H7: =G7 -> 41486 | I7: =H7 -> 41486 | J7: =I7 -> 41486 | K7: =J7 -> 41486 | L7: =K7 -> 41486 | M7: =L7+35 -> 41521 | N7: =M7 -> 41521 | O7: =N7 -> 41521 | P7: =O7 -> 41521 | Q7: =P7 -> 41521 | R7: =Q7 -> 41521
A8: BU1 | B8: Project 2 | C8: Milestone 6 | D8: 41639 | E8: =R8 -> 41695 | F8: =D8 -> 41639 | G8: =F8 -> 41639 | H8: =G8 -> 41639 | I8: =H8+56 -> 41695 | J8: =I8 -> 41695 | K8: =J8 -> 41695 | L8: =K8 -> 41695 | M8: =L8 -> 41695 | N8: =M8 -> 41695 | O8: =N8 -> 41695 | P8: =O8 -> 41695 | Q8: =P8 -> 41695 | R8: =Q8 -> 41695
A9: BU1 | B9: Project 2 | C9: Milestone 7 | D9: 41333 | E9: =R9 -> 41389 | F9: =D9 -> 41333 | G9: =F9 -> 41333 | H9: =G9 -> 41333 | I9: =H9+56 -> 41389 | J9: =I9 -> 41389 | K9: =J9 -> 41389 | L9: =K9 -> 41389 | M9: =L9 -> 41389 | N9: =M9 -> 41389 | O9: =N9 -> 41389 | P9: =O9 -> 41389 | Q9: =P9 -> 41389 | R9: =Q9 -> 41389
A10: BU1 | B10: Project 2 | C10: Milestone 8 | D10: 41364 | E10: =R10 -> 41454 | F10: =D10 -> 41364 | G10: =F10 -> 41364 | H10: 41398 | I10: =H10+56 -> 41454 | J10: =I10 -> 41454 | K10: =J10 -> 41454 | L10: =K10 -> 41454 | M10: =L10 -> 41454 | N10: =M10 -> 41454 | O10: =N10 -> 41454 | P10: =O10 -> 41454 | Q10: =P10 -> 41454 | R10: =Q10 -> 41454
A11: BU1 | B11: Project 3 | C11: Milestone 9 | D11: 41547 | E11: =R11 -> 41603 | F11: =D11 -> 41547 | G11: =F11 -> 41547 | H11: =G11 -> 41547 | I11: =H11+56 -> 41603 | J11: =I11 -> 41603 | K11: =J11 -> 41603 | L11: =K11 -> 41603 | M11: =L11 -> 41603 | N11: =M11 -> 41603 | O11: =N11 -> 41603 | P11: =O11 -> 41603 | Q11: =P11 -> 41603 | R11: =Q11 -> 41603
A12: BU1 | B12: Project 3 | C12: Milestone 10 | D12: 41486 | E12: =R12 -> 41542 | F12: =D12 -> 41486 | G12: =F12 -> 41486 | H12: =G12 -> 41486 | I12: =H12+56 -> 41542 | J12: =I12 -> 41542 | K12: =J12 -> 41542 | L12: =K12 -> 41542 | M12: =L12 -> 41542 | N12: =M12 -> 41542 | O12: =N12 -> 41542 | P12: =O12 -> 41542 | Q12: =P12 -> 41542 | R12: =Q12 -> 41542
A13: BU1 | B13: Project 3 | C13: Milestone 11 | D13: 41517 | E13: =R13 -> 41573 | F13: =D13 -> 41517 | G13: =F13 -> 41517 | H13: =G13 -> 41517 | I13: =H13+56 -> 41573 | J13: =I13 -> 41573 | K13: =J13 -> 41573 | L13: =K13 -> 41573 | M13: =L13 -> 41573 | N13: =M13 -> 41573 | O13: =N13 -> 41573 | P13: =O13 -> 41573 | Q13: =P13 -> 41573 | R13: =Q13 -> 41573
A14: BU1 | B14: Project 3 | C14: Milestone 12 | D14: 41517 | E14: =R14 -> 41573 | F14: =D14 -> 41517 | G14: =F14 -> 41517 | H14: =G14 -> 41517 | I14: =H14+56 -> 41573 | J14: =I14 -> 41573 | K14: =J14 -> 41573 | L14: =K14 -> 41573 | M14: =L14 -> 41573 | N14: =M14 -> 41573 | O14: =N14 -> 41573 | P14: =O14 -> 41573 | Q14: =P14 -> 41573 | R14: =Q14 -> 41573
A15: BU1 | B15: Project 3 | C15: Milestone 13 | D15: 41517 | E15: =R15 -> 41573 | F15: =D15 -> 41517 | G15: =F15 -> 41517 | H15: =G15 -> 41517 | I15: =H15+56 -> 41573 | J15: =I15 -> 41573 | K15: =J15 -> 41573 | L15: =K15 -> 41573 | M15: =L15 -> 41573 | N15: =M15 -> 41573 | O15: =N15 -> 41573 | P15: =O15 -> 41573 | Q15: =P15 -> 41573 | R15: =Q15 -> 41573
A16: BU1 | B16: Project 3 | C16: Milestone 14 | D16: 41364 | E16: =R16 -> 41420 | F16: =D16 -> 41364 | G16: =F16 -> 41364 | H16: =G16 -> 41364 | I16: =H16+56 -> 41420 | J16: =I16 -> 41420 | K16: =J16 -> 41420 | L16: =K16 -> 41420 | M16: =L16 -> 41420 | N16: =M16 -> 41420 | O16: =N16 -> 41420 | P16: =O16 -> 41420 | Q16: =P16 -> 41420 | R16: =Q16 -> 41420
A17: BU1 | B17: Project 3 | C17: Milestone 15 | D17: 41333 | E17: =R17 -> 41333 | F17: =D17 -> 41333 | G17: =F17 -> 41333 | H17: =G17 -> 41333 | I17: =H17 -> 41333 | J17: =I17 -> 41333 | K17: =J17 -> 41333 | L17: =K17 -> 41333 | M17: =L17 -> 41333 | N17: =M17 -> 41333 | ... R17: =Q17 -> 41333
A18: BU1 | B18: Project 3 | C18: Milestone 16 | D18: 41455 | E18: =R18 -> 41455 | F18: =D18 -> 41455 | G18: =F18 -> 41455 | H18: =G18 -> 41455 | I18: =H18 -> 41455 | J18: =I18 -> 41455 | K18: =J18 -> 41455 | L18: =K18 -> 41455 | M18: =L18 -> 41455 | N18: =M18 -> 41455 | ... R18: =Q18 -> 41455
A19: BU1 | B19: Project 3 | C19: Milestone 17 | D19: 41289 | E19: =R19 -> 41289 | F19: =D19 -> 41289 | G19: =F19 -> 41289 | H19: =G19 -> 41289 | I19: =H19 -> 41289 | J19: =I19 -> 41289 | K19: =J19 -> 41289 | L19: =K19 -> 41289 | M19: =L19 -> 41289 | N19: =M19 -> 41289 | ... R19: =Q19 -> 41289
A20: BU1 | B20: Project 4 | C20: Milestone 18 | D20: 41289 | E20: =R20 -> 41289 | F20: =D20 -> 41289 | G20: =F20 -> 41289 | H20: =G20 -> 41289 | I20: =H20 -> 41289 | J20: =I20 -> 41289 | K20: =J20 -> 41289 | L20: =K20 -> 41289 | M20: =L20 -> 41289 | N20: =M20 -> 41289 | ... R20: =Q20 -> 41289
A21: BU1 | B21: Project 4 | C21: Milestone 19 | D21: 41289 | E21: =R21 -> 41289 | F21: =D21 -> 41289 | G21: =F21 -> 41289 | H21: =G21 -> 41289 | I21: =H21 -> 41289 | J21: =I21 -> 41289 | K21: =J21 -> 41289 | L21: =K21 -> 41289 | M21: =L21 -> 41289 | N21: =M21 -> 41289 | ... R21: =Q21 -> 41289
A22: BU1 | B22: Project 4 | C22: Milestone 20 | D22: 41333 | E22: =R22 -> 41333 | F22: =D22 -> 41333 | G22: =F22 -> 41333 | H22: =G22 -> 41333 | I22: =H22 -> 41333 | J22: =I22 -> 41333 | K22: =J22 -> 41333 | L22: =K22 -> 41333 | M22: =L22 -> 41333 | N22: =M22 -> 41333 | ... R22: =Q22 -> 41333
A23: BU1 | B23: Project 5 | C23: Milestone 21 | D23: 41333 | E23: =R23 -> 41333 | F23: =D23 -> 41333 | G23: =F23 -> 41333 | H23: =G23 -> 41333 | I23: =H23 -> 41333 | J23: =I23 -> 41333 | K23: =J23 -> 41333 | L23: =K23 -> 41333 | M23: =L23 -> 41333 | N23: =M23 -> 41333 | ... R23: =Q23 -> 41333
A24: BU2 | B24: Project 6 | C24: Milestone 22 | D24: 41517 | E24: =R24 -> 41517 | F24: =D24 -> 41517 | G24: =F24 -> 41517 | H24: =G24 -> 41517 | I24: =H24 -> 41517 | J24: =I24 -> 41517 | K24: =J24 -> 41517 | L24: =K24 -> 41517 | M24: =L24 -> 41517 | N24: =M24 -> 41517 | ... R24: =Q24 -> 41517
A25: BU2 | B25: Project 6 | C25: Milestone 23 | D25: 41547 | E25: =R25 -> 41547 | F25: =D25 -> 41547 | G25: =F25 -> 41547 | H25: =G25 -> 41547 | I25: =H25 -> 41547 | J25: =I25 -> 41547 | K25: =J25 -> 41547 | L25: =K25 -> 41547 | M25: =L25 -> 41547 | N25: =M25 -> 41547 | ... R25: =Q25 -> 41547
A26: BU2 | B26: Project 6 | C26: Milestone 25 | D26: 41362 | E26: =R26 -> 41362 | F26: =D26 -> 41362 | G26: =F26 -> 41362 | H26: =G26 -> 41362 | I26: =H26 -> 41362 | J26: =I26 -> 41362 | K26: =J26 -> 41362 | L26: =K26 -> 41362 | M26: =L26 -> 41362 | N26: =M26 -> 41362 | ... R26: =Q26 -> 41362
A27: BU2 | B27: Project 6 | C27: Milestone 26 | D27: 41393 | E27: =R27 -> 41393 | F27: =D27 -> 41393 | G27: =F27 -> 41393 | H27: =G27 -> 41393 | I27: =H27 -> 41393 | J27: =I27 -> 41393 | K27: =J27 -> 41393 | L27: =K27 -> 41393 | M27: =L27 -> 41393 | N27: =M27 -> 41393 | ... R27: =Q27 -> 41393
A28: BU2 | B28: Project 6 | C28: Milestone 27 | D28: 41455 | E28: =R28 -> 41455 | F28: =D28 -> 41455 | G28: =F28 -> 41455 | H28: =G28 -> 41455 | I28: =H28 -> 41455 | J28: =I28 -> 41455 | K28: =J28 -> 41455 | L28: =K28 -> 41455 | M28: =L28 -> 41455 | N28: =M28 -> 41455 | ... R28: =Q28 -> 41455
A29: BU2 | B29: Project 6 | C29: Milestone 28 | D29: 41575 | E29: =R29 -> 41541 | F29: =D29 -> 41575 | G29: =F29 -> 41575 | H29: =G29 -> 41575 | I29: =H29 -> 41575 | J29: =I29 -> 41575 | K29: =J29 -> 41575 | L29: =K29 -> 41575 | M29: =L29 -> 41575 | N29: =M29-34 -> 41541 | O29: =N29 -> 41541 | P29: =O29 -> 41541 | Q29: =P29 -> 41541 | R29: =Q29 -> 41541
A30: BU2 | B30: Project 7 | C30: Milestone 29 | D30: 41577 | E30: =R30 -> 41577 | F30: =D30 -> 41577 | G30: =F30 -> 41577 | H30: =G30 -> 41577 | I30: =H30 -> 41577 | J30: =I30 -> 41577 | K30: =J30 -> 41577 | L30: =K30 -> 41577 | M30: =L30 -> 41577 | N30: =M30 -> 41577 | ... R30: =Q30 -> 41577
A31: BU2 | B31: Project 7 | C31: Milestone 30 | D31: 41639 | E31: =R31 -> 41639 | F31: =D31 -> 41639 | G31: =F31 -> 41639 | H31: =G31 -> 41639 | I31: =H31 -> 41639 | J31: =I31 -> 41639 | K31: =J31 -> 41639 | L31: =K31 -> 41639 | M31: =L31 -> 41639 | N31: =M31 -> 41639 | ... R31: =Q31 -> 41639
A32: BU2 | B32: Project 7 | C32: Milestone 31 | D32: 41639 | E32: =R32 -> 41639 | F32: =D32 -> 41639 | G32: =F32 -> 41639 | H32: =G32 -> 41639 | I32: =H32 -> 41639 | J32: =I32 -> 41639 | K32: =J32 -> 41639 | L32: =K32 -> 41639 | M32: =L32 -> 41639 | N32: =M32 -> 41639 | ... R32: =Q32 -> 41639
A33: BU2 | B33: Project 7 | C33: Milestone 32 | D33: 41449 | E33: =R33 -> 41449 | F33: =D33 -> 41449 | G33: =F33 -> 41449 | H33: =G33 -> 41449 | I33: =H33 -> 41449 | J33: =I33 -> 41449 | K33: =J33 -> 41449 | L33: =K33 -> 41449 | M33: =L33 -> 41449 | N33: =M33 -> 41449 | ... R33: =Q33 -> 41449
A34: BU2 | B34: Project 7 | C34: Milestone 33 | D34: 41576 | E34: =R34 -> 41576 | F34: =D34 -> 41576 | G34: =F34 -> 41576 | H34: =G34 -> 41576 | I34: =H34 -> 41576 | J34: =I34 -> 41576 | K34: =J34 -> 41576 | L34: =K34 -> 41576 | M34: =L34 -> 41576 | N34: =M34 -> 41576 | ... R34: =Q34 -> 41576
A35: BU2 | B35: Project 8 | C35: Milestone 34 | D35: 41517 | E35: =R35 -> 41563 | F35: =D35 -> 41517 | G35: =F35 -> 41517 | H35: =G35 -> 41517 | I35: =H35 -> 41517 | J35: =I35 -> 41517 | K35: =J35 -> 41517 | L35: =K35 -> 41517 | M35: =L35 -> 41517 | N35: =M35+46 -> 41563 | O35: =N35 -> 41563 | P35: =O35 -> 41563 | Q35: =P35 -> 41563 | R35: =Q35 -> 41563
A36: BU2 | B36: Project 8 | C36: Milestone 35 | D36: 41348 | E36: =R36 -> 41348 | F36: =D36 -> 41348 | G36: =F36 -> 41348 | H36: =G36 -> 41348 | I36: =H36 -> 41348 | J36: =I36 -> 41348 | K36: =J36 -> 41348 | L36: =K36 -> 41348 | M36: =L36 -> 41348 | N36: =M36 -> 41348 | ... R36: =Q36 -> 41348
A37: BU2 | B37: Project 8 | C37: Milestone 36 | D37: 41362 | E37: =R37 -> 41362 | F37: =D37 -> 41362 | G37: =F37 -> 41362 | H37: =G37 -> 41362 | I37: =H37 -> 41362 | J37: =I37 -> 41362 | K37: =J37 -> 41362 | L37: =K37 -> 41362 | M37: =L37 -> 41362 | N37: =M37 -> 41362 | ... R37: =Q37 -> 41362
A38: BU2 | B38: Project 8 | C38: Milestone 37 | D38: 41439 | E38: =R38 -> 41439 | F38: =D38 -> 41439 | G38: =F38 -> 41439 | H38: =G38 -> 41439 | I38: =H38 -> 41439 | J38: =I38 -> 41439 | K38: =J38 -> 41439 | L38: =K38 -> 41439 | M38: =L38 -> 41439 | N38: =M38 -> 41439 | ... R38: =Q38 -> 41439
A39: BU2 | B39: Project 8 | C39: Milestone 38 | D39: 41467 | E39: =R39 -> 41467 | F39: =D39 -> 41467 | G39: =F39 -> 41467 | H39: =G39 -> 41467 | I39: =H39 -> 41467 | J39: =I39 -> 41467 | K39: =J39 -> 41467 | L39: =K39 -> 41467 | M39: =L39 -> 41467 | N39: =M39 -> 41467 | ... R39: =Q39 -> 41467
A40: BU2 | B40: Project 8 | C40: Milestone 39 | D40: 41517 | E40: =R40 -> 41517 | F40: =D40 -> 41517 | G40: =F40 -> 41517 | H40: =G40 -> 41517 | I40: =H40 -> 41517 | J40: =I40 -> 41517 | K40: =J40 -> 41517 | L40: =K40 -> 41517 | M40: =L40 -> 41517 | N40: =M40 -> 41517 | ... R40: =Q40 -> 41517
...

Sheet Milestones
C1: =Dates!F2 -> 41275 | D1: =Dates!G2 -> 41306 | E1: =Dates!H2 -> 41334 | F1: =Dates!I2 -> 41365 | G1: =Dates!J2 -> 41395 | H1: =Dates!K2 -> 41426 | I1: =Dates!L2 -> 41456 | J1: =Dates!M2 -> 41487 | ... P1: =Dates!S2 -> 41671
A2: Initial target | C2: =SUMPRODUCT((target>=C$1)*(target<D$1)) -> 4 | D2: =SUMPRODUCT((target>=D$1)*(target<E$1)) -> 7 | E2: =SUMPRODUCT((target>=E$1)*(target<F$1)) -> 11 | F2: =SUMPRODUCT((target>=F$1)*(target<G$1)) -> 10 | G2: =SUMPRODUCT((target>=G$1)*(target<H$1)) -> 3 | H2: =SUMPRODUCT((target>=H$1)*(target<I$1)) -> 16 | I2: =SUMPRODUCT((target>=I$1)*(target<J$1)) -> 11 | J2: =SUMPRODUCT((target>=J$1)*(target<K$1)) -> 9 | ... O2: =SUMPRODUCT((target>=O$1)*(target<P$1)) -> 0
A3: Initial target - cmltd | C3: =SUM($C2:C2) -> 4 | D3: =SUM($C2:D2) -> 11 | E3: =SUM($C2:E2) -> 22 | F3: =SUM($C2:F2) -> 32 | G3: =SUM($C2:G2) -> 35 | H3: =SUM($C2:H2) -> 51 | I3: =SUM($C2:I2) -> 62 | J3: =SUM($C2:J2) -> 71 | ... O3: =SUM($C2:O2) -> 100
A4: Current target | C4: =SUMPRODUCT((jan>=C$1)*(jan<D$1)) -> 4 | D4: =SUMPRODUCT((feb>=D$1)*(feb<E$1)) -> 6 | E4: =SUMPRODUCT((mar>=E$1)*(mar<F$1)) -> 8 | F4: =SUMPRODUCT((apr>=F$1)*(apr<G$1)) -> 9 | G4: =SUMPRODUCT((may>=G$1)*(may<H$1)) -> 1 | H4: =SUMPRODUCT((jun>=H$1)*(jun<I$1)) -> 14 | I4: =SUMPRODUCT((jul>=I$1)*(jul<J$1)) -> 8 | J4: =SUMPRODUCT((aug>=J$1)*(aug<K$1)) -> 5 | K4: =SUMPRODUCT((sep>=K$1)*(sep<L$1)) -> 12 | L4: =SUMPRODUCT((oct>=L$1)*(oct<M$1)) -> 10 | M4: =SUMPRODUCT((nov>=M$1)*(nov<N$1)) -> 3 | N4: =SUMPRODUCT((dec>=N$1)*(dec<O$1)) -> 5 | O4: =SUMPRODUCT((jan>=O$1)*(jan<P$1)) -> 0
A5: Updated target - cmltd | C5: =C4 -> 4 | D5: =SUM($C6:C6)+D4 -> 10 | E5: =SUM($C6:D6)+E4 -> 20 | F5: =SUM($C6:E6)+F4 -> 29 | G5: =SUM($C6:F6)+G4 -> 28 | H5: =SUM($C6:G6)+H4 -> 44 | I5: =SUM($C6:H6)+I4 -> 51 | J5: =SUM($C6:I6)+J4 -> 53 | K5: =SUM($C6:J6)+K4 -> 64 | ... O5: =SUM($C6:N6)+O4 -> 82
A6: Met | C6: =SUMPRODUCT((met>=C$1)*(met<D$1)) -> 4 | D6: =SUMPRODUCT((met>=D$1)*(met<E$1)) -> 8 | E6: =SUMPRODUCT((met>=E$1)*(met<F$1)) -> 8 | F6: =SUMPRODUCT((met>=F$1)*(met<G$1)) -> 7 | G6: =SUMPRODUCT((met>=G$1)*(met<H$1)) -> 3 | H6: =SUMPRODUCT((met>=H$1)*(met<I$1)) -> 13 | I6: =SUMPRODUCT((met>=I$1)*(met<J$1)) -> 5 | J6: =SUMPRODUCT((met>=J$1)*(met<K$1)) -> 4 | ... O6: =SUMPRODUCT((met>=O$1)*(met<P$1)) -> 1
A7: Met late | C7: =SUMPRODUCT((met>=C$1)*(met<D$1)*(met>jan)) -> 0 | D7: =SUMPRODUCT((met>=D$1)*(met<E$1)*(met>feb)) -> 0 | E7: =SUMPRODUCT((met>=E$1)*(met<F$1)*(met>mar)) -> 1 | F7: =SUMPRODUCT((met>=F$1)*(met<G$1)*(met>apr)) -> 1 | G7: =SUMPRODUCT((met>=G$1)*(met<H$1)*(met>may)) -> 2 | H7: =SUMPRODUCT((met>=H$1)*(met<I$1)*(met>jun)) -> 0 | I7: =SUMPRODUCT((met>=I$1)*(met<J$1)*(met>jul)) -> 0 | J7: =SUMPRODUCT((met>=J$1)*(met<K$1)*(met>aug)) -> 2 | K7: =SUMPRODUCT((met>=K$1)*(met<L$1)*(met>sep)) -> 1 | L7: =SUMPRODUCT((met>=L$1)*(met<M$1)*(met>oct)) -> 2 | M7: =SUMPRODUCT((met>=M$1)*(met<N$1)*(met>nov)) -> 0 | N7: =SUMPRODUCT((met>=N$1)*(met<O$1)*(met>dec)) -> 0 | O7: =SUMPRODUCT((met>=O$1)*(met<P$1)*(met>nextjan)) -> 1
A8: Late - cmltd | C8: =SUM($C7:C7) -> 0 | D8: =SUM($C7:D7) -> 0 | E8: =SUM($C7:E7) -> 1 | F8: =SUM(C7:F7) -> 2 | G8: =SUM($C7:G7) -> 4 | H8: =SUM($C7:H7) -> 4 | I8: =SUM($C7:I7) -> 4 | J8: =SUM($C7:J7) -> 6 | K8: =SUM($C7:K7) -> 7 | L8: =SUM($C7:L7) -> 9 | M8: =SUM($C7:M7) -> 9 | N8: =SUM($C7:N7) -> 9 | O8: =SUM($C7:O7) -> 10
A9: Met just in time | C9: =SUMPRODUCT((met>=C$1)*(met<D$1)*(met=jan)) -> 4 | D9: =SUMPRODUCT((met>=D$1)*(met<E$1)*(met=feb)) -> 5 | E9: =SUMPRODUCT((met>=E$1)*(met<F$1)*(met=mar)) -> 7 | F9: =SUMPRODUCT((met>=F$1)*(met<G$1)*(met=apr)) -> 6 | G9: =SUMPRODUCT((met>=G$1)*(met<H$1)*(met=may)) -> 1 | H9: =SUMPRODUCT((met>=H$1)*(met<I$1)*(met=jun)) -> 13 | I9: =SUMPRODUCT((met>=I$1)*(met<J$1)*(met=jul)) -> 5 | J9: =SUMPRODUCT((met>=J$1)*(met<K$1)*(met=aug)) -> 2 | K9: =SUMPRODUCT((met>=K$1)*(met<L$1)*(met=sep)) -> 10 | L9: =SUMPRODUCT((met>=L$1)*(met<M$1)*(met=oct)) -> 10 | M9: =SUMPRODUCT((met>=M$1)*(met<N$1)*(met=nov)) -> 3 | N9: =SUMPRODUCT((met>=N$1)*(met<O$1)*(met=dec)) -> 4 | O9: =SUMPRODUCT((met>=O$1)*(met<P$1)*(met=nextjan)) -> 0
A10: In time - cmltd | C10: =SUM($C9:C9) -> 4 | D10: =SUM($C9:D9) -> 9 | E10: =SUM($C9:E9) -> 16 | F10: =SUM($C9:F9) -> 22 | G10: =SUM($C9:G9) -> 23 | H10: =SUM($C9:H9) -> 36 | I10: =SUM($C9:I9) -> 41 | J10: =SUM($C9:J9) -> 43 | ... O10: =SUM($C9:O9) -> 70
A11: Met in advance | C11: =SUMPRODUCT((met>=C$1)*(met<D$1)*(met<jan)) -> 0 | D11: =SUMPRODUCT((met>=D$1)*(met<E$1)*(met<feb)) -> 3 | E11: =SUMPRODUCT((met>=E$1)*(met<F$1)*(met<mar)) -> 0 | F11: =SUMPRODUCT((met>=F$1)*(met<G$1)*(met<apr)) -> 0 | G11: =SUMPRODUCT((met>=G$1)*(met<H$1)*(met<may)) -> 0 | H11: =SUMPRODUCT((met>=H$1)*(met<I$1)*(met<jun)) -> 0 | I11: =SUMPRODUCT((met>=I$1)*(met<J$1)*(met<jul)) -> 0 | J11: =SUMPRODUCT((met>=J$1)*(met<K$1)*(met<aug)) -> 0 | K11: =SUMPRODUCT((met>=K$1)*(met<L$1)*(met<sep)) -> 0 | L11: =SUMPRODUCT((met>=L$1)*(met<M$1)*(met<oct)) -> 0 | M11: =SUMPRODUCT((met>=M$1)*(met<N$1)*(met<nov)) -> 0 | N11: =SUMPRODUCT((met>=N$1)*(met<O$1)*(met<dec)) -> 0 | O11: =SUMPRODUCT((met>=O$1)*(met<P$1)*(met<nextjan)) -> 0
A12: In advance - cmltd | C12: =SUM($C11:C11) -> 0 | D12: =SUM($C11:D11) -> 3 | E12: =SUM($C11:E11) -> 3 | F12: =SUM($C11:F11) -> 3 | G12: =SUM($C11:G11) -> 3 | H12: =SUM($C11:H11) -> 3 | I12: =SUM($C11:I11) -> 3 | J12: =SUM($C11:J11) -> 3 | ... O12: =SUM($C11:O11) -> 3
A13: Late | C13: =SUMPRODUCT((met="")*(target<>"")*(jan<D$1)) -> 0 | D13: =SUMPRODUCT((met="")*(target<>"")*(feb<E$1)) -> 0 | E13: =SUMPRODUCT((met="")*(target<>"")*(mar<F$1)) -> 0 | F13: =SUMPRODUCT((met="")*(target<>"")*(apr<G$1)) -> 0 | G13: =SUMPRODUCT((met="")*(target<>"")*(may<H$1)) -> 0 | H13: =SUMPRODUCT((met="")*(target<>"")*(jun<I$1)) -> 0 | I13: =SUMPRODUCT((met="")*(target<>"")*(jul<J$1)) -> 0 | J13: =SUMPRODUCT((met="")*(target<>"")*(aug<K$1)) -> 0 | K13: =SUMPRODUCT((met="")*(target<>"")*(sep<L$1)) -> 0 | L13: =SUMPRODUCT((met="")*(target<>"")*(oct<M$1)) -> 0 | M13: =SUMPRODUCT((met="")*(target<>"")*(nov<N$1)) -> 0 | N13: =SUMPRODUCT((met="")*(target<>"")*(dec<O$1)) -> 0 | O13: =SUMPRODUCT((met="")*(target<>"")*(nextjan<P$1)) -> 0
A14: Postponed | C14: =SUMPRODUCT((jan>target)*(target<>"")) -> 15 | D14: =SUMPRODUCT((feb>jan)*(target<>"")) -> 1 | E14: =SUMPRODUCT((mar>feb)*(target<>"")) -> 2 | F14: =SUMPRODUCT((apr>mar)*(target<>"")) -> 9 | G14: =SUMPRODUCT((may>apr)*(target<>"")) -> 2 | H14: =SUMPRODUCT((jun>may)*(target<>"")) -> 2 | I14: =SUMPRODUCT((jul>jun)*(target<>"")) -> 2 | J14: =SUMPRODUCT((aug>jul)*(target<>"")) -> 1 | K14: =SUMPRODUCT((sep>aug)*(target<>"")) -> 3 | L14: =SUMPRODUCT((oct>sep)*(target<>"")) -> 1 | M14: =SUMPRODUCT((nov>oct)*(target<>"")) -> 0 | N14: =SUMPRODUCT((dec>nov)*(target<>"")) -> 0 | O14: =SUMPRODUCT((nextjan>dec)*(target<>"")) -> 0
