Workbook

Sheet Tous
B1: Nom de l'entreprise | C1: Site | D1: Date de création | E1: Taille | F1: Forme juridique | G1: CA | H1: Clients ciblés | I1: Activité globale de l'entreprise | J1: Produits/Services proposés en matière de DD | K1: Contact | L1: Remarques | M1: Références | N1: Autres | O1: Département 1 | P1: Département 2 | Q1: Département 3 | R1: Calcul
B2: LBMG Worklabs,doc | C2: http://www.lbmg-worklabs.com & www.neo-nomade.com | D2: 2010 | E2: 3 à 5 | F2: société par actions simplifiée | G2: ? Capital variable : 16 000 euros | H2: grandes entreprises, PME,TPE / collectivités et particuliers | I2: WORKLABS est un cabinet d'expertise dans les ressources humaines spécialisé dans la mise en place du travail à distance ainsi qu'une offre de lieux d'espaces de travail alternatif du café au centre d'affaires. Les sujets que le cabinet traite sont transverses et nécessitent des expertises diverses et précises, et ils sont donc entourés d’un réseau d’experts partenaires. Stratégie immobilière, développement durable, RH... | J2: Spécialiste du travail à distance et des tiers-lieux Diagnostic et mise en place du travail à distance, modèles économiques et localisation de nouveaux espaces de travail grâce à un seul interlocuteur,LBMG WORKLABS fait de l'expertise unique, met en place des outils innovants et un réseau de partenaires experts pour accompagner la mise en place de télétravail. LBMG intervient dans quatre domaines pour: - Sensibiliser les entreprises, administrations et employés aux enjeux du travail à distance - Conseiller les entreprises dans la mise en œuvre de programmes de travail à distance - Imaginer de nouveaux espaces de travail et soutenir les créateurs de tiers-lieux - Relier les télétravailleurs et les tiers-lieux à travers notre site www.neo-nomade.com | K2: LBMG WORKLABS 40 Rue Eugene Oudine 75013 Paris Président Natael MATHIEU Tel : 06 61 31 96 39 Mail : nathanael.mathieu@lbmg-worklabs.com Contact presse Baptiste Broughton – contact@neo-nomade.com Tel : 0632736377 | L2: Création du site www.neo-nomade.com permettant aux utilisateurs du télétravail de trouver un espace de travail.Déclinaison pour trouver les lieux en application pour Smartphones. Création d'un logiciel permettant de calculer les coûts liés à la mise en place du télétravail au sein d'une entreprise ou collectivité. http://www.lbmg-worklabs.com/calculator/index.php | M2: Seine et Marne Développement, Novotel, Caisse des dépots, Mille-Alliance,l'Atelier | O2: 75 | R2: 1
B3: ADÉQUATION CONSULTING | C3: www.adequationconsulting.fr | D3: 38246 | E3: 4 | F3: S.A.R.L au capital de 15 000 euros | G3: CA de 2010 : 310.400 | H3: Petites et grandes entreprises / administrations publiques | I3: + ADEQUATION Consulting apporte à ses clients conseil et formation en Management, Organisation et Ressources Humaines. Fort de 10 années d’expérience auprès de structures et de contextes variés, nous vous accompagnons dans vos projets et vos réflexions en vue d’améliorer la performance de vos organisations de façon durable dans l'accompagnement des organisations sociales et médico-sociales, dans le conseil en ressources humaines et santé au travail, dans le management d'équipe et de projets, dans des audits d'organisation, dans les démarches qualités et dans le développement durable et RSE. Les engagements d'Adéquation Consulting : - Elaborer des propositions claires adaptées aux spécificités de la structure. - Garantir la plus stricte confidentialité dans le cadre de nos missions - Garantir la mise en œuvre des moyens adaptés à vos enjeux - Intervenir dans le respect du projet et de la culture d’entreprise - Accompagner toute structure dans son développement et dans la mise en œuvre de ses projets en étroite collaboration avec tous les acteurs internes (dirigeants, encadrement de proximité, équipes de travail). | J3: Réalisation du Bilan Carbone Mise en place d’une démarche RSE (ISO 26000) Diagnostic social et sociétal de l’entreprise - construction et accompagnement à la mise en œuvre d’un plan d’action | K3: Gérant : Xavier PREVOST Tel : 06 61 45 03 63 Mail : x.prevost@adequationconsulting.fr 18 rue Amiral Cécille Immeuble Le Montréal 76100 ROUEN Tél : 02 35 63 03 63 Fax : 02 35 63 10 44 | L3: Réseau : Adéquation développement et Adéquation sécurité | M3: Sanitaire, Social et Médico-social Entreprises Sport professionnel Administrations et entreprises publiques | O3: 76 | R3: 1
B4: Equineo | C4: http://www.equineo.com/ | D4: 38418 | E4: 7 | F4: SARL au capital de 15 000 euros | G4: CA 2010 : 473.200 | H4: les collectivités, les entreprises et les établissements scolaires | I4: 2 pôles d'expertise : Pôle Energie Climat Pôle Développement Durable Décliné en 7 services: - Projets territoriaux de développement durable - Etudes et accompagnements - Energie et climat - Adaptation au changement climatique - Formation - Education à l'environnement et au développement durable - Communication | J4: Agenda 21 local, rapport développement durable, approche Environnementale de l'Urbanisme, formation sur mesure, conférences et évènements, actions de sensibilisation, vulnérabilité au DD et stratégie d'adaptation, letre d'information et Magazine développement durable, veille et études, plan climat energie territorial, ateliers énergie et climat, aténuation des émissions de GES, accompagnement et ingénieurie de projets, bilan carbone collectivités et entreprises, agenda 21 scolaire, agenda 21 de la culture, pré-diagnostics et études, maîtirse de l'énergie et énergies renouvelables et multimédia et nouvelles technologies. | K4: 2 agences : eQuiNeo à Montpellier 22 rue du Saint Sépulcre 34000 Montpellier Tel : 04 67 29 94 21 eQuiNeo à Paris 18 rue de Vincennes 93100 Montreuil-sous-bois Tel : 06 12 96 28 38 | L4: eQuiNeo est membre des associations CLER, AMORCE, Energie Partagée, Comité 21 et compense l'ensemble des émissions générées par son activité auprès du programme CO2 Solidaire du GERES. | M4: Communauté urbaine de bordeaux : accompagnement dans sa démarche de labellisation cit'ergie, bilan carbone du site d'impression du midi libre, définition et mise en œuvre de l'agenda 21 de la culure de la ville de Saint-Herblain, formation au développment durable à la cour d'appel de Pau, agenda 21 scolaire dans 13 CFA de la région PACA, intervention à Paris Dauphine, | N4: Equineo est résolument tourné vers les collectivité avec une spécialisation sur les questions énergies et climat. Leur second champ de compétence est la formation, notamment auprès des établissement scolaires. Leur équipe comptait 8 personnes au moment où cela a été rentrée dans cette base. L'organigramme et la photo compte 7 personnes, alors que seulement 6 sont présentées sur le site. Peut être une baisse d'effectif. Leur résultat net a progressé de 1% mais tourne autour des 60Keuros.Le CA lui a augmenté de 10%. Leur bilan a augmenté de 50% (2011/2010) | O4: 93 | P4: 34 | R4: 1
B5: Groupe Alexandrie | C5: http://www.alexandrie.fr/ | D5: 36125 | E5: 6 ( + 50 experts qui les accompagnent) | F5: société par actions simplifiée | G5: ? | H5: collectivité, PME, grandes entreprises | I5: Alexandrie Groupe, anciennement groupe CPI, est implanté dans le grand ouest depuis 1989 et propose un accompagnement de projets technologies numériques innovantes et de développement durable. Pour cela Alexandrie groupe fait appel à ces 3 entités d'activités en formation, consulting et ingénierie. Les entités : AEMYS, SOKRATE et ACC CONSULING. AEMYS est un centre de formation certifié CPLS par Microsoft, il accompagne et conseille sur la conduite et la réussite de projet de formation développement durable et informatique. Il traie notamment de la problématique RH et développement durable. ACC CONSULTING guide et conseil la démarche développement durable. SOKRATE est un bureau d'étude qui met en place des solutions techniques et spécifiques adaptées à un projet développement durable. | J5: AEMY : Bâtiment : diagnostic énergétique, maîtrise de l'énergie, conception BBC et logiciel de calcul thermique Transport et Urbanisme : approche environnementale de l'Urbanisme, développement durable et bonnes pratiques, plan déplacements entreprise, green IT / télétravail, accessibilité.Management RH : eco-conception, achats responsables; développement durable et fonction RH et développement durable et RSE. ACC CONSULTING : conseil en énergie : offre aux collectivités et aux entreprises un accompagnement, une gestion et une optimisation de leur consommation énergétique. SOKRATE : accompagnement pour la mise en place de solutions technologiques numériques pour le développement durable : visio conférences, communication unifiées, portails, applications mobiles, technologies embarquées et mobiles, management de projets | K5: Alexandrie Groupe Président : Eric JOYEN-CONSEIL 4, Rue Andreï Sakharov 76130 Mont-Saint-Aignan Tél : +33 (0)2 35 590 591 Fax : +33 (0)2 35 80 82 99 mail : alexandrie@alexandrie.fr | L5: Introduction de RSE dans la fonction RH | M5: Collectivité : région Haute-Normandie, Communaué de communes de Caux de Seine. Entreprises : Total, CCI Rouen, Caisse d'Epargne, AFPA, Legrand, Crédit Agricole.. | O5: 76 | R5: 1
B6: Nouveaux Territoires Consultants | C6: http://www.nouveaux-territoires.fr/Ntc_officiel.html | D6: 37355 | E6: 4 | F6: Groupement d'intérêt économique | G6: CA 2011 : 480 000 | H6: collectivités locales et leur regroupement, ministères et services déconcentrés de l'Etat, partenaires techniques et financiers de la coopération internationale | I6: Nouveaux territoires est un cabinet de consultants spécialisé sur les territoires plus précisément dans la territorialisation des politiques publiques, la définition concertée de projets territoriaux d'aménagement et de développement durable, l'animation des dynamiques d'acteurs. Le nombre resserré de consultants est garant d'un conseil sur mesure et adapté aux attentes tout cela dans un souci constant d'indépendance de vue et d'analyse. | J6: Intercommunalité de projet : projets de territoire, développement et simplification de l'intercommunalité Projet urbain : planification stratégique et requalification urbaine et patrimoniale Agenda 21 - Evaluation : à toutes les échelles et évaluation des politiques publiques Politique de l'Etat : territorialisation de politiques de l'Etat International : expertises et/ou évaluation des politiques de coopération internationnale et intervention thématiques Economie et emploi durables : territorialisation des politiques de l'emploi, de la formation et de l'insertion et territorialisation des politiques de développement économique Pays, régions et départements : stratégie terrioriale et coopération interurbaine Services à la personne : approche territoriale des services Les procédures utilisées : Agenda 21 Charte de pays Charte de PNR Contrat d objectif territorial (COT) Contrat urbain de cohésion sociale (CUCS) Engagements de développement de l emploi et des compétences (EDDEC) Plan de déplacement (PDU / PDE / PDA) Plan national de rénovation urbaine (PNRU) Programmes européens Pôle d excellence rurale (PER) Schéma de cohérence territoriale (SCoT) Schéma régional d aménagement et de développement durable du territoire (SRADDT) Schéma régional d aménagement et de développement économique (SRDE) | K6: 2 agences : Paris 20 Boulevard de Sebastopol 75004 PARIS 04 Tel : 01.44.54.13.65 Fax : 01.48.87.19.95 Tours 27 rue Bois 37000 Tours Tel : 02.47.64.33.06 Fax : 02.47.64.95.84 Email : contact@nouveaux-territoires.fr Email administrateur : d.charlou@nouveaux-territoires.fr | L6: Site internet très interactif | M6: Intercommunalité de projet : Projet de territoire de la communauté de communes du Pays de l'Hermitage Projet urbain : Etude de reconversion d'une ancienne filature à Louvriers Agenda 21 - Evaluation : Agenda 21 du Pays Loire Touraine Politique de l'Etat : DATAR - Préfecture de la Manche (50)Diagnostic sur la situation des services au public en zone rurale dans le département de la Manche International : AFDEvaluation de la politique nationale d'aménagement du territoire en Tunisie Economie et emploi durables : élaboration de la Charte " accueil - information - orientation" pour l'emploi et la formation en Bourgogne. Pays, régions et départements : animation du Conseil de développement du territoire ( CDT) du Pays Sud-Vendée Services à la personne : diagnostic sur les services au public en milieu rural dans la Manche Voir les plaquettes avec toutes les références | N6: Pas de changements significatifs. Pas de références pour l'année 2012 alors qu'elles sont assez nombreuses pour 2011. Soit le site n'a pas été mis à jour, soit ça va mal. Aucun compte n'est publié. | O6: 75 | R6: 1
B7: S2DC Stratégie Développement Durable Consulting et Coaching | C7: http://www.s2dc-consulting.com/ | D7: 40443 | E7: 3 | F7: SARL unipersonnelle | G7: Capital social : 15.000,00 euros | H7: grands comptes, Entreprises de Taille Intermédiaire (en particulier les entreprises impactées par la loi Grenelle 2) ou PME, Administrations ou Collectivités territoriales | I7: S2DC est spécialisé dans l'expertise développement durable, les modes accompagnement et la formation. | J7: Expertises Développement Durable/RSE : Diagnostic Developpement Durable, Responsabilité Sociétale – Iso 26000, Modèle d’excellence EFQM, Bilan carbone Modes d’accompagnement : Coaching stratégique, Coaching d’équipe, Coaching de manager Formation : Développement durable, Développement personnel | K7: Gérant M. William MONLOUIS FELICITE 28 Rue de Londres 75009 PARIS Tel :+33 (0) 1 78 42 35 35 Port. +33(0) 6 43 07 36 95 Mail : contact@s2dc-consulting.com | L7: Introduction DD/RSE : Coaching individuel et collecif. | M7: Référence partenaires : ecocert, linkup coaching, aract, finan cités, linkup resource, entrepreuneurs d'avenir, parc naturel régional de martinique, fruidor, cerf, az partenaires, accompagnement coaching&consulting, qwad, e-zero, Total, 1001 experts comptables, makrelaj, rca | O7: 75 | R7: 1
B8: Planète Publique | C8: http://www.planetepublique.fr/ | D8: 38922 | E8: 12 | F8: Société à responsabilité limitée | G8: CA 2011 : 989.500 | H8: Etat, collectiviés locales, établissements publics, international | I8: Conseil et accompagnement de politiques publiques durables. Planète publique intervient sur trois axes articulés entre eux : • évaluation et conception de politiques publiques • environnement et développement durable • concertation et débat citoyen | J8: Métiers: Evaluation des politiques publiques Organisation et animation de dispositifs participatifs Conseil, conception et stratégie Formation à l'évaluation Domaines: Développement durable Développement humain Participation citoyenne Santé Environnement Culture Transport et déplacements Aménagements de la ville et des territoires | K8: Gérant M. Benoit SIMON Gérant M. Francois MOUTERDE 30 Rue de Fleurus 75006 PARISTél : 01 - 80 - 05 - 16 - 05 ; Fax : 01 - 53 - 80 - 05 - 41 contact@planetepublique.fr | M8: Développement durable : Conseil général de Gironde; Evaluation stratégique et partagée de l'A21 de la Gironde Développement humain : Ville de Grenoble; Evaluation du dispositif expérimental de vidéosurveillance de la ville de Grenoble Participation citoyenne : Conseil régional Rhône-Alpes; Évaluation de la politique régionale en faveur de la démocratie participative Santé : ADEME; Etude des besoins des établissements de santé en matière d'outils et méthodes sur l'éco-responsabilité Environnement : Communauté urbaine de Bordeaux; Assistance à maitrise d’ouvrage pour la réalisation d’une enquête et la mise en œuvre d’une participation citoyenne à l’élaboration de la politique des déchets Culture : Conseil régional Limousin; Evaluation de la politique de développement culturel Transport et déplacements : Angers Loire Métropole; Evaluation à mi-parcours du Plan de Déplacements Urbains Aménagements de la ville et des territoires : Conseil général Gard; Evaluation de l'expérimentation d'une nouvelle politique d'aide aux communes | N8: L'équipe compte 2 personnes de plus. Leur bilan a augmenté de 50%, le CA stagne et le résultat a baissé de 70%. Cette entreprise a clairement un rayonnement national, parfois international. | O8: 75 | R8: 1
B9: Stratégie durable | C9: http://www.strategie-durable.fr/index.php | D9: 39845 | E9: 1 | F9: Affaire personnelle profession libérale | G9: ? | H9: Collectivité territoriale | I9: Domaine d'action : territoires, environnement, énergie, stratégies durables. Philippe DEVIS fait du conseil et de l'accompagnement de projets et politiques territoriales autour de 3 pôles : conception et conduite, évaluation et suivi et information et communication. | J9: Conception et conduite : Diagnostics territoriaux et prospective stratégique Appui à la définition de politiques et programmes d’actions Accompagnement de projets territoriaux Organisation et animation de concertations et démarches de participation Animation de réseaux Evaluation et suivi : Evaluation de projets territoriaux de développement durable Evaluation environnementale de politiques, plans et programmes Evaluation de politiques environnementales Reporting environnemental Dispositifs de suivi et de pilotage, observatoires, tableaux de bord et systèmes d’information Information et communication : Interventions et présentations orales. Préparation et animation de réunions d’information, séminaires de travail, échanges d’expériences, voyages d’étude Organisation et animation d'ateliers-citoyens Conception et rédaction de documents et supports de diffusion | K9: Dirigeant Philippe DEVIS 7 bis impasse Jeanne d'Arc 26100 Romans-sur-Isère 2 rue Josserand de Brancion 21160 Marsannay-la-CôteTel : 09 81 68 85 85 | M9: Conception et conduite : Messimy (Rhône) - Accompagnement de la Ville de Messimy dans l'élaboration d'un Agenda 21 Pays Seine et Tilles en Bourgogne - Etude préalable à la mise en œuvre du Plan Climat Energie Territorial (en collaboration avec Explicit) Evaluation et suivi : Communauté Urbaine Creusot-Montceau - Accompagnement à la mise en place d'une démarche de suivi et d'évaluation des actions duContrat d'agglomération et de l'Agenda 21 Communauté d’Agglomération du Pays Ajaccien - Accompagnement à l'évaluation des politiques publiques de la CAPA (en partenariat avec le GRETA Viva 5) Information et communication : Ville de Dole - "Une démarche éco-responsable : pourquoi, comment ?" Conférences Directeur de publication jusqu’en 2007 de « Repères », la publication trimestrielle de l'Observatoire régional de l'environnement de Bourgogne puis d'Alterre Bourgogne. | N9: Travail régulièrement en partenariat avec "Explicit" (cabinet de 15 personnes, expert dans les questions energie et climat), voire avec d'autres cabinets. Son activité est basée sur la partie Est, notamment Sud Est et milieu Est. | O9: 26 | P9: 21 | R9: 1
B10: Advolys | C10: http://www.advolys.fr/# | D10: 39722 | E10: ? Aucune information, tout laisse penser qu'il est seul | F10: Affaire personnelle profession libérale | G10: ? | H10: collectivité, PME, grandes entreprises | I10: Depuis 2008, Advolys accompagne les entreprises, les collectivités ... dans leur démarche de Développement Durable, de la définition stratégique à la mise en place opérationnelle. Advolys est une structure de conseil, de formation et d'évaluation. | J10: Introduction aux enjeux et préconisations du Développement Durable, Diagnostic Développement Durable selon les référentiels (AFNOR 26000 …), Achats responsables (et plan d’actions), Bilan Carbone® (méthodologie ADEME), Mise en œuvre de la Charte Objectif CO2 - les transporteurs s'engagent PDE (Plan de Déplacements Entreprise), RSE - Responsabilité Sociétale de l'Entreprise - (cf. l'ISO 26000), Pratique d'un Management responsable. Et d’autres actions bâties sur mesure selon les spécificités de vos activités et vos desiderata. Au delà de la réduction des charges, Advolys conseille sur les aides financières | K10: Hubert LOQUET : consultant et gérant 18 rue Ferdinand BUISSON 27000 EVREUX & CAEN T: 02 32 38 41 80 T: 06 50 02 16 44 Fax: 08 11 38 41 80 Mail : hubert.loquet@advolys.fr | L10: Partenaire et consultant pour le Label LUCIE. Monsieur LOQUET a exercé auparavant le métier de DRH. | M10: L'Association GRANddE, L'Institut des Techniques d'Ingénieur de l'Industrie,Le Groupe CESI, Label LUCIE Alexandrie, Association des professionnels des Achats, Le Département Formation de la CCI de l’Eure, Club RECREE, Consultant développement accrédité au Parlement Européenen, ITS-IAE Etudes et Conseils | O10: 27 | P10: 14 | R10: 1
B11: Extra Muros | C11: http://www.extra-muros.coop/ | D11: 34060 | E11: 7 salariés + 3 stagiaires | F11: SARL coopérative avec un staut de SCOP | G11: CA 2010 : 490.500 | H11: les collectivités territoriales, les institutions, les PME et les Associations. | I11: Extra-Muros est une coopérative de consultants spécialisée dans la conduite de projets. Leur valeur ajoutée, est un accompagnement concret qui permettra à toutes les parties prenantes de s’inscrire dans la dynamique du projet. Passant par Extra-Muros, par-dessus les murs qui les séparent, les acteurs clefs pourront se focaliser sur la cohérence et le sens de leur projet. L’équipe pluridisciplinaire d’Extra Muros conduit des projets dans la : promotion du développement durable, de l’économie solidaire, de la citoyenneté active ou de toute forme de solidarité dans les territoires. Les 3 pôles de travail sont : l'Action publique durable, le Développement économique durable et l'Urbanisme durable et citoyenneté active. Les differents métiers proposés sont : - Mobilisation, Sensibilisation, Formation - Etudes et Diagnostics - Accompagnement stratégique et opérationnel - Mise en œuvreEvaluation. | J11: Pôle Action Publique Durable Evaluation des politiques publiques et des programmes européens Préparation, élaboration, évaluation Agendas 21 Politique de la ville et Cohésion Sociale Sensibilisation / formation au développement durable en direction de vos habitants, services, élus Etude environnementale, Etude socio-économique Pôle Développement Economique Responsable Accompagnement de projet d’établissement Dispositifs locaux d’accompagnement (DLA) Insertion par l’activité économique (vita, PLIE, formation) Démarche de progrès, mise en place de l’outil HQ21 Mise en place d’un service achats responsable, commande responsable Accompagnement à la création (SCIC, SCOP, Association) Politique de développement économique Création d’éco-activités Reconversion Pôle Urbanisme Durable et Citoyenneté Active Conventions de Gestion Urbaine de Proximité Accompagnement des Projets de Rénovation Urbaine Elaboration concertée de quartiers durables NTIC et E-démocratie | K11: Gérant Mme Caroline SENEZ 51 Rue du Maire Andre 59800 LILLE Tél : 03 20 01 00 41 Fax : 03 20 01 00 40 Mail gérante : c.senez@extra-muros.coop Mail cabinet : contact@extra-muros.coop | L11: Partenaires : APES - Acteurs pour une Economie Solidaire Maison de l’Economie Solidaire - 4D CITé européenne des Récollets - Cerdd Ecopôle - COPAS Conseil en Pratique et Analyse Sociale - SCIL Société Coopérative d'Informatique Libre - Réseau des Ressourceries - Initiatives et Cité ( cluster d'entreprise solidaire) | M11: Communauté Urbaine de Bordeaux, Communauté d’Agglomération Seine Eure, Ville de Saint Egrève, Canton de Bois Guillaume, Ville de Grand Couronne,ville de Lille, Ville de Nantes, Metaleurop, | N11: Extra Muros est principalement tourné vers les collectivité, puis vers les acteurs de l'ESS. Leur cœur de métier est l'accompagnement, de l'étude jusqu'à la mise en œuvre de projet. Pour leur valeur ajoutée, ils ont mis en place un outil numérique, E-démocratie ( http://demos.extra-muros.coop/wordpress/ ). Leur équipe est passée de 9 personnes et 2 stagiaires (info de base) à 7 personnes et 3 stagiaires. Leur résultat net est passé en positif en 2011, le CA monte légèrement (+3%) et leur bilan a gonflé d'environ 8.5%. | O11: 59 | R11: 1
B12: MCM Conseil | C12: http://www.inffolor.org/portail/public/fr/content/mcm-conseil | D12: 36739 | E12: 1 | F12: Affaire personnelle personne physique | H12: Elus Enseignants Professions libérales Agents de la fonction publique territoriale Etudiants | I12: Domaines de formation : ENVIRONNEMENT AMENAGEMENT - Spécialité(s): Développement durable. SCIENCE POLITIQUE - Spécialité(s): Evaluation de politiques publiques, Prospective territoriale, Concertation et débat public. | J12: Mission(s) Enseignement de disciplines pratiquées professionnellement (évaluation / prospective/concertation, développement durable) - important réseau dans différents domaines dont transfrontalier formation-action animatrice du club lorrain transfrontalier d'évaluation et de prospective | K12: Gérante : Marie Claude Malhomme 12 Rue du Saint Quentin 57160 SCY CHAZELLES Tél1 :03.87.65.91.75 Fax :03.87.65.91.96 Mail :mcmconseil@wanadoo.fr | L12: Pas de site internet : difficile de trouver des informations sur ce cabinet Partenariat avec C&S conseils ( communication publique) Moyens Pédagogiques - Apports conceptuels et théoriques à partir d'exemples pratiques - Mise en situation et utilisation concrète d'outils - formation -action - Supports : vidéo projection, documentation diversifiée, bibliographie, contacts, adresses Internet | O12: 57 | R12: 1
B13: Impact et environnement | C13: http://www.impact-environnement.fr/index.html | D13: 36557 | E13: 12 salariés dont 3 consultants séniors | F13: Société à responsabilité limitée | G13: CA 2011 : 856.300 euros | H13: Administrations et collectivité Agriculture Agro-alimentaire BTP et construction Chimie, parachimie Industries | I13: IMPACT ET ENVIRONNEMENT, une équipe de proximité qui met à votre disposition plus de quinze ans d’expérience dans le management QSE des entreprises et l’approche Développement Durable de projets. IMPACT ET ENVIRONNEMENT, depuis 10 ans, nous développons des prestations qui vous permettent d’allier croissance économique, préservation de la planète et valorisation des ressources humaines. Audit et diagnostics (Audit - Conseil - Etudes - Ingénierie) Certifications Iso 14000 (Audit - Conseil - Etudes - Ingénierie) Etude, conseil (Audit - Conseil - Etudes - Ingénierie) Politiques territoriales de Développement Durable (Mise en place) (Mise en œuvre du Développement Durable) Veille juridique, technique et technologique (Réglementation) | J13: Accompagnement de la démarche responsabilité sociétale des entreprises : ISO 26000 Accompagnement à une démarche de certification QSE : ISO 90001, ISO 14 001, OHSAS 18001, ISO-OHS 2001 Réalisation de bilan carbone Réglementation ICPE : dossier autorisation, enregistrement, déclaration Impact sonore, mesure du bruit, étude préviosnnelles accoustique Etude de dispersion dans l'air de polluant et d'odeurs | K13: Gérant : Phlippe DOUILLARD 2 Rue Amedeo Avogadro 49070 BEAUCOUZE Tél : 02 41 72 14 16 Fax : 02 41 72 14 18 Email : contact@impact-environnement.fr | L13: Fait partie du réseau plan et terre , voici les partenaires du réseau : Vue d'ici : urbanisme – Conception paysagère – Expertise des grands territoires – Maîtrise d'oeuvre Pragma ingéniueurie: Etudes et maîtrise d'œuvre Voirie-Réseaux-Divers (VRD) Alain FOUIN : Conseil, conception et établissement des plans et dossiers administratifs liés à des projets de constructions des entreprises notamment agricoles | M13: ADEME (opération pilote -10% déchets), AFAQ AFNOR CERTIFICATION, AFFINERIE D'ANJOU, ALCAN PECHINEY AVIATUBE, APROCHIM, ARIST, ATPF, AUDRAIN, BRANGEON, BUISARD, CARRIERES (Seiches/Loir et Montreuil/Loir), Chambre d’Agriculture, Chambre de Commerce et d'Industrie du Maine-et-Loire, Chambre de Commerce et d'Industrie de Loire-Atlantique, Chambre de Commerce et d'Industrie de la Sarthe, COLORALU, COMO, DEFONTAINE, ED (filiale Carrefour), ERSAM, Evron Peintures Industrielles (EPI), FARGES LAQUAGE, FERRON SA, FIXATOR, FLEURON D’ANJOU, GALVA-MAINE, GALVANOPLASTIE, GALVANOTECH, GEORGET SUN CHEMICAL, GOUBAULT, GRELLIER, GRIMAUD Frères Sélection, GRIMAUD Eclosion, GROLLEAU FLEXTRONICS, GUILLOUARD, HABITAT 49, HOUDOUIN SA, HUTCHINSON, INSUDIET, JOHNSON CONTROLS INDUSTRIES, JOHNSON CONTROLS NEIGE, KANIO GRAPHICS, LAHAYE TP, LINPAC PLASTICS, MARGER INDUSTRIES, MARTIN TECHNOLOGIES, MD ANGORA, Mercure Boys Manufacture (MBM), MÉTAL’OUEST, Modelage Mécanique du Maine (M3), NATAC, ORÉ, OUTILLAGE PROGRESS, PCM, PCS SERI-RELIEF, Pâtisserie PASQUIER Ouest, Peintures Finition Industrielle (PFI), PLAQUES ET DECOUPES, Radio Frequency Systeme (RFS), RACCORDS HYDRAULIQUES (RH), SA GOUBIN, SA MALTA, SA Victor Lépidi, SCACC - Groupe France Champignons, SCANIA FRANCE SAS, SCANIA PRODUCTION ANGERS, SCRELEC, SELVA, SERIG, SERIPHARM, Société de Peintures Industrielles (SPI), Société Vendéenne de Peinture et Métallisation (SVPM), Société de Tôlerie Industrielle Française (STIF), SODEMEL, SOGETRAP, SOURIAU, STIMY, TANNERIES DUPIRE, TEAM PLASTIQUE, TECHNI-INDUSTRIE, TIF, Transformation de la Viande Régionale (TVR), 3 AXES, UNITED BISCUITS (LU), VILMORIN, VITEX SAIDAC … | O13: 49 | R13: 1
B14: JLO Conseil :Ressources Humaines Responsables | C14: http://www.jlo-conseil.com/ | D14: 2005 | E14: 45 salariés (dont 14% sont reconnus travailleurs handicapés) | F14: SARL | G14: CA 2010 : 3.912.600 | H14: entreprises ( TPE, PME, Multinationale ), collectivités, administrations | I14: JLO Conseil est un cabinet spécialisé dans les Ressources Humaines qui accompagne, depuis 2005, les entreprises, collectivités et administrations dans la dynamisation de leur politique d’emploi liée au handicap, à la diversité et à la santé au travail. Nous proposons une offre de service complète quelle que soit la maturité, l’état d’avancement de votre projet et vous accompagnons à différents niveaux : des premières questions sur l’opportunité et la faisabilité de la mise en place d’un projet, à la définition et la signature d’un accord en faveur d’une politique d’emploi spécifique, à l’application des termes de l’accord, et son suivi. | J14: Handicap Construire une politique d’emploi des travailleurs handicapés au sein d’une entreprise est un processus progressif, impliquant différentes compétences et touchant des domaines variés. Les champs d'applications : Pilotage global - Maintien dans l'emploi - Convention accord - Communication - Recrutement Accompagnement individuel - Diagnostic conseil - Formation Santé au travail Améliorer le bien-être de l'entreprise. Les offres sont : pilotage - Diagnostic et évaluation du stress - Maintien dans l'emploi des seniors - Diagnostic évaluation des risques psychosociaux - Diagnostic prévention des TMS- Formation Diversité Diagnostic - Recrutement - Formation - Négociations - Communication - Juniors - Seniors - Egalité H-F - Travailleurs Handicapés - Minorités socioculturelles et ethniques Ergonomie Amélioration des conditions de travail - Diagnostic evaluation des risques professionnels - Formation - Diagnostic Accessibilite - Diagnostic situation de handicap et travail | K14: JLO Conseil dispose de 6 bureaux régionaux. Vos référents sont : Rouen : Nathalie Bériard Nantes : Anne-Marguerite Creis Paris : Stéphane Roose Nancy : Stéphane Roose Lyon : Albine Gasquet Siège social de l'entreprise 598 Boulevard Albert Camus 69400 Villefranche sur Saône Tél : 04 74 09 08 67 Fax : 04 74 03 64 37 Email : contactjlo@jlo-conseil.com | L14: De nombreuses études de cas disponible sur leur site internet | M14: France television, Agefiph, Darty, Gefco, Assurance Maladie, Banque Populaire,Aviva, Opcalia, Shneider Electric, Areva, Eiffel, Ville de Nice, Ville de Mérignac, INRA, Ville de Saint-Etienne, Tan… | O14: 69 | R14: 1
B117: Sept conseil.doc | C117: http://www.septconseil.com/contact/ | D117: 2000 | E117: 1 | F117: SARL Unipersonnelle | G117: 89000 | H117: Entreprises publiques ou privées, collectivités | I117: stratégies d'entreprises et de territoires | J117: Vous êtes une entreprise publique ou privée, nous vous accompagnons pour •Définir une stratégie de conquête de nouveaux marchés, •Développer de nouveaux services et produits par une approche éco-responsable •Ajuster votre offre en fonction des opportunités ou menaces du marché. •Décider d’un plan d’attaque et de sa mise en œuvre opérationnelle. •Mettre en place un management RSE. > Vous êtes un acteur territorial, nous vous accompagnons pour •Elaborer des stratégies de développement économique et de développement durable adaptées à vos objectifs politiques et à vos ressources. •Optimiser les moyens mobilisés : Politique d’aides , Etude de faisabilité technico-économique d’équipements, création d’outils de marketing territorial, animation de réseaux, mise en place de système d’évaluation… | K117: SEPT CONSEIL Corinne FRANCOIS 9, rue Louis Varney 31200 TOULOUSE Tél : 05 61 47 33 53 Portable : 06 72 76 79 81 E-mail : sept.conseil@wanadoo.fr | M117: Collectivité territoriales 2007 /2009 •Mise en place et pilotage du Pôle d’Excellence Rurale « Pôle d’innovation Marqueterie et métiers d’art associé » - Communauté de Communes Sorézois, Revel et Lauragais. •Elaboration du schéma stratégique de construction durable du Conseil Général de Seine Saint Denis. •Etude de faisabilité économique et programmation d’un aménagement HQE R d’un village-golf dans le département de l’Aude - Investisseur privé - •Positionnement marketing de l’agglomération Castres- Mazamet, définition du programme d’actions - Communauté de Commune Castres - Mazamet. •Etude de faisabilité et mise en place d’un pôle « Allongement de la vie » au sein de l’Hôpital Charles Foix - Conseil Général du Val de Marne et DRIRE. (Université Paris 6). Entreprises 2007/2009 TECUMSEH (Mécanique), COMAREG (Edition), SERB REGAIN (Fabrication textile), IMARA (regroupement d’entreprises d’ébénisterie et des arts décoratifs), Fédération nationale de coopératives du bâtiment (Construction de maisons individuelles), NAVOCAP (Système d’information), CITEL (Travaux Publics | O117: 31 | R117: 1

Sheet Stats
A1: Département | B1: Dép 1 | C1: Dép 2 | D1: Dép 3 | E1: Somme | G1: Région | H1: Somme
A2: 01 Ain | B2: =SUMIF(Tous!O:O,"01",Tous!$R:$R) -> 0 | C2: =SUMIF(Tous!P:P,"01",Tous!$R:$R) -> 0 | D2: =SUMIF(Tous!Q:Q,"01",Tous!$R:$R) -> 0 | E2: =SUM(B2:D2) -> 0 | G2: Alsace | H2: =E69+E70 -> 0 | I2: x
A3: 02 Aisne | B3: =SUMIF(Tous!O:O,"02",Tous!$R:$R) -> 0 | C3: =SUMIF(Tous!P:P,"02",Tous!$R:$R) -> 0 | D3: =SUMIF(Tous!Q:Q,"02",Tous!$R:$R) -> 0 | E3: =SUM(B3:D3) -> 0 | G3: Aquitaine | H3: =E26+E35+E42+E49+E66 -> 0
A4: 03 Allier | B4: =SUMIF(Tous!O:O,"03",Tous!$R:$R) -> 0 | C4: =SUMIF(Tous!P:P,"03",Tous!$R:$R) -> 0 | D4: =SUMIF(Tous!Q:Q,"03",Tous!$R:$R) -> 0 | E4: =SUM(B4:D4) -> 0 | G4: Auvergne | H4: =E4+E16+E45+E65 -> 0
A5: 04 Alpes-de-Haute-Provence | B5: =SUMIF(Tous!O:O,"04",Tous!$R:$R) -> 0 | C5: =SUMIF(Tous!P:P,"04",Tous!$R:$R) -> 0 | D5: =SUMIF(Tous!Q:Q,"04",Tous!$R:$R) -> 0 | E5: =SUM(B5:D5) -> 0 | G5: Basse-Normandie | H5: =E15+E53+E62 -> 1 | I5: x
A6: 05 Hautes-Alpes | B6: =SUMIF(Tous!O:O,"05",Tous!$R:$R) -> 0 | C6: =SUMIF(Tous!P:P,"05",Tous!$R:$R) -> 0 | D6: =SUMIF(Tous!Q:Q,"05",Tous!$R:$R) -> 0 | E6: =SUM(B6:D6) -> 0 | G6: Bourgogne | H6: =E23+E60+E73+E91 -> 1 | I6: x
A7: 06 Alpes-Maritimes | B7: =SUMIF(Tous!O:O,"06",Tous!$R:$R) -> 0 | C7: =SUMIF(Tous!P:P,"06",Tous!$R:$R) -> 0 | D7: =SUMIF(Tous!Q:Q,"06",Tous!$R:$R) -> 0 | E7: =SUM(B7:D7) -> 0 | G7: Bretagne | H7: =E24+E31+E37+E58 -> 0
A8: 07 Ardèche | B8: =SUMIF(Tous!O:O,"07",Tous!$R:$R) -> 0 | C8: =SUMIF(Tous!P:P,"07",Tous!$R:$R) -> 0 | D8: =SUMIF(Tous!Q:Q,"07",Tous!$R:$R) -> 0 | E8: =SUM(B8:D8) -> 0 | G8: Centre | H8: =E19+E30+E38+E39+E43+E47 -> 0
A9: 08 Ardennes | B9: =SUMIF(Tous!O:O,"08",Tous!$R:$R) -> 0 | C9: =SUMIF(Tous!P:P,"08",Tous!$R:$R) -> 0 | D9: =SUMIF(Tous!Q:Q,"08",Tous!$R:$R) -> 0 | E9: =SUM(B9:D9) -> 0 | G9: Champagne-Ardenne | H9: =E9+E11+E53+E54 -> 0 | I9: x
A10: 09 Ariège | B10: =SUMIF(Tous!O:O,"09",Tous!$R:$R) -> 0 | C10: =SUMIF(Tous!P:P,"09",Tous!$R:$R) -> 0 | D10: =SUMIF(Tous!Q:Q,"09",Tous!$R:$R) -> 0 | E10: =SUM(B10:D10) -> 0 | G10: Corse | H10: =E21+E22 -> 0
A11: 10 Aube | B11: =SUMIF(Tous!O:O,"10",Tous!$R:$R) -> 0 | C11: =SUMIF(Tous!P:P,"10",Tous!$R:$R) -> 0 | D11: =SUMIF(Tous!Q:Q,"10",Tous!$R:$R) -> 0 | E11: =SUM(B11:D11) -> 0 | G11: Franche-Comté | H11: =E27+E41+E72+E92 -> 0
A12: 11 Aude | B12: =SUMIF(Tous!O:O,"11",Tous!$R:$R) -> 0 | C12: =SUMIF(Tous!P:P,"11",Tous!$R:$R) -> 0 | D12: =SUMIF(Tous!Q:Q,"11",Tous!$R:$R) -> 0 | E12: =SUM(B12:D12) -> 0 | G12: Haute-Normandie | H12: =E29+E78 -> 3 | I12: x
A13: 12 Aveyron | B13: =SUMIF(Tous!O:O,"12",Tous!$R:$R) -> 0 | C13: =SUMIF(Tous!P:P,"12",Tous!$R:$R) -> 0 | D13: =SUMIF(Tous!Q:Q,"12",Tous!$R:$R) -> 0 | E13: =SUM(B13:D13) -> 0 | G13: Ile-de-France | H13: =E77+E79+E80+E93+E94+E95+E96+E97 -> 5 | I13: x
A14: 13 Bouches-du-Rhône | B14: =SUMIF(Tous!O:O,"13",Tous!$R:$R) -> 0 | C14: =SUMIF(Tous!P:P,"13",Tous!$R:$R) -> 0 | D14: =SUMIF(Tous!Q:Q,"13",Tous!$R:$R) -> 0 | E14: =SUM(B14:D14) -> 0 | G14: Languedoc-Roussillon | H14: =E12+E32+E36+E50+E68 -> 1
A15: 14 Calvados | B15: =SUMIF(Tous!O:O,"14",Tous!$R:$R) -> 0 | C15: =SUMIF(Tous!P:P,"14",Tous!$R:$R) -> 1 | D15: =SUMIF(Tous!Q:Q,"14",Tous!$R:$R) -> 0 | E15: =SUM(B15:D15) -> 1 | G15: Limousin | H15: =E20+E25+E89 -> 0
A16: 15 Cantal | B16: =SUMIF(Tous!O:O,"15",Tous!$R:$R) -> 0 | C16: =SUMIF(Tous!P:P,"15",Tous!$R:$R) -> 0 | D16: =SUMIF(Tous!Q:Q,"15",Tous!$R:$R) -> 0 | E16: =SUM(B16:D16) -> 0 | G16: Lorraine | H16: =E56+E57+E59+E90 -> 1 | I16: x
A17: 16 Charente | B17: =SUMIF(Tous!O:O,"16",Tous!$R:$R) -> 0 | C17: =SUMIF(Tous!P:P,"16",Tous!$R:$R) -> 0 | D17: =SUMIF(Tous!Q:Q,"16",Tous!$R:$R) -> 0 | E17: =SUM(B17:D17) -> 0 | G17: Midi-Pyrénées | H17: =E10+E13+E33+E34+E48+E67+E83+E84 -> 1 | I17: x
A18: 17 Charente-Maritime | B18: =SUMIF(Tous!O:O,"17",Tous!$R:$R) -> 0 | C18: =SUMIF(Tous!P:P,"17",Tous!$R:$R) -> 0 | D18: =SUMIF(Tous!Q:Q,"17",Tous!$R:$R) -> 0 | E18: =SUM(B18:D18) -> 0 | G18: Nord-Pas-de-Calais | H18: =E61+E64 -> 1 | I18: x
A19: 18 Cher | B19: =SUMIF(Tous!O:O,"18",Tous!$R:$R) -> 0 | C19: =SUMIF(Tous!P:P,"18",Tous!$R:$R) -> 0 | D19: =SUMIF(Tous!Q:Q,"18",Tous!$R:$R) -> 0 | E19: =SUM(B19:D19) -> 0 | G19: Pays-de-la-Loire | H19: =E46+E51+E55+E74+E87 -> 1
A20: 19 Corrèze | B20: =SUMIF(Tous!O:O,"19",Tous!$R:$R) -> 0 | C20: =SUMIF(Tous!P:P,"19",Tous!$R:$R) -> 0 | D20: =SUMIF(Tous!Q:Q,"19",Tous!$R:$R) -> 0 | E20: =SUM(B20:D20) -> 0 | G20: Picardie | H20: =E3+E62+E82 -> 0 | I20: x
A21: 2A Corse-du-Sud | B21: =SUMIF(Tous!O:O,"2A",Tous!$R:$R) -> 0 | C21: =SUMIF(Tous!P:P,"2A",Tous!$R:$R) -> 0 | D21: =SUMIF(Tous!Q:Q,"2A",Tous!$R:$R) -> 0 | E21: =SUM(B21:D21) -> 0 | G21: Poitou-Charentes | H21: =E17+E18+E81+E88 -> 0
A22: 2B Haute-Corse | B22: =SUMIF(Tous!O:O,"2B",Tous!$R:$R) -> 0 | C22: =SUMIF(Tous!P:P,"2B",Tous!$R:$R) -> 0 | D22: =SUMIF(Tous!Q:Q,"2B",Tous!$R:$R) -> 0 | E22: =SUM(B22:D22) -> 0 | G22: Provence-Alpes-Côte-d'Azur | H22: =E5+E6+E7+E14+E85+E86 -> 0
A23: 21 Côte-d'Or | B23: =SUMIF(Tous!O:O,"21",Tous!$R:$R) -> 0 | C23: =SUMIF(Tous!P:P,"21",Tous!$R:$R) -> 1 | D23: =SUMIF(Tous!Q:Q,"21",Tous!$R:$R) -> 0 | E23: =SUM(B23:D23) -> 1 | G23: Rhône-Alpes | H23: =E2+E8+E28+E40+E44+E71+E75+E76 -> 2
A24: 22 Côtes-d'Armor | B24: =SUMIF(Tous!O:O,"22",Tous!$R:$R) -> 0 | C24: =SUMIF(Tous!P:P,"22",Tous!$R:$R) -> 0 | D24: =SUMIF(Tous!Q:Q,"22",Tous!$R:$R) -> 0 | E24: =SUM(B24:D24) -> 0 | G24: Total | H24: =SUM(H2:H23) -> 17
A25: 23 Creuse | B25: =SUMIF(Tous!O:O,"23",Tous!$R:$R) -> 0 | C25: =SUMIF(Tous!P:P,"23",Tous!$R:$R) -> 0 | D25: =SUMIF(Tous!Q:Q,"23",Tous!$R:$R) -> 0 | E25: =SUM(B25:D25) -> 0
A26: 24 Dordogne | B26: =SUMIF(Tous!O:O,"24",Tous!$R:$R) -> 0 | C26: =SUMIF(Tous!P:P,"24",Tous!$R:$R) -> 0 | D26: =SUMIF(Tous!Q:Q,"24",Tous!$R:$R) -> 0 | E26: =SUM(B26:D26) -> 0
A27: 25 Doubs | B27: =SUMIF(Tous!O:O,"25",Tous!$R:$R) -> 0 | C27: =SUMIF(Tous!P:P,"25",Tous!$R:$R) -> 0 | D27: =SUMIF(Tous!Q:Q,"25",Tous!$R:$R) -> 0 | E27: =SUM(B27:D27) -> 0
A28: 26 Drôme | B28: =SUMIF(Tous!O:O,"26",Tous!$R:$R) -> 1 | C28: =SUMIF(Tous!P:P,"26",Tous!$R:$R) -> 0 | D28: =SUMIF(Tous!Q:Q,"26",Tous!$R:$R) -> 0 | E28: =SUM(B28:D28) -> 1
A29: 27 Eure | B29: =SUMIF(Tous!O:O,"27",Tous!$R:$R) -> 1 | C29: =SUMIF(Tous!P:P,"27",Tous!$R:$R) -> 0 | D29: =SUMIF(Tous!Q:Q,"27",Tous!$R:$R) -> 0 | E29: =SUM(B29:D29) -> 1
A30: 28 Eure-et-Loir | B30: =SUMIF(Tous!O:O,"28",Tous!$R:$R) -> 0 | C30: =SUMIF(Tous!P:P,"28",Tous!$R:$R) -> 0 | D30: =SUMIF(Tous!Q:Q,"28",Tous!$R:$R) -> 0 | E30: =SUM(B30:D30) -> 0
A31: 29 Finistère | B31: =SUMIF(Tous!O:O,"29",Tous!$R:$R) -> 0 | C31: =SUMIF(Tous!P:P,"29",Tous!$R:$R) -> 0 | D31: =SUMIF(Tous!Q:Q,"29",Tous!$R:$R) -> 0 | E31: =SUM(B31:D31) -> 0
A32: 30 Gard | B32: =SUMIF(Tous!O:O,"30",Tous!$R:$R) -> 0 | C32: =SUMIF(Tous!P:P,"30",Tous!$R:$R) -> 0 | D32: =SUMIF(Tous!Q:Q,"30",Tous!$R:$R) -> 0 | E32: =SUM(B32:D32) -> 0
A33: 31 Haute-Garonne | B33: =SUMIF(Tous!O:O,"31",Tous!$R:$R) -> 1 | C33: =SUMIF(Tous!P:P,"31",Tous!$R:$R) -> 0 | D33: =SUMIF(Tous!Q:Q,"31",Tous!$R:$R) -> 0 | E33: =SUM(B33:D33) -> 1
A34: 32 Gers | B34: =SUMIF(Tous!O:O,"32",Tous!$R:$R) -> 0 | C34: =SUMIF(Tous!P:P,"32",Tous!$R:$R) -> 0 | D34: =SUMIF(Tous!Q:Q,"32",Tous!$R:$R) -> 0 | E34: =SUM(B34:D34) -> 0
A35: 33 Gironde | B35: =SUMIF(Tous!O:O,"33",Tous!$R:$R) -> 0 | C35: =SUMIF(Tous!P:P,"33",Tous!$R:$R) -> 0 | D35: =SUMIF(Tous!Q:Q,"33",Tous!$R:$R) -> 0 | E35: =SUM(B35:D35) -> 0
A36: 34 Hérault | B36: =SUMIF(Tous!O:O,"34",Tous!$R:$R) -> 0 | C36: =SUMIF(Tous!P:P,"34",Tous!$R:$R) -> 1 | D36: =SUMIF(Tous!Q:Q,"34",Tous!$R:$R) -> 0 | E36: =SUM(B36:D36) -> 1
A37: 35 Ille-et-Vilaine | B37: =SUMIF(Tous!O:O,"35",Tous!$R:$R) -> 0 | C37: =SUMIF(Tous!P:P,"35",Tous!$R:$R) -> 0 | D37: =SUMIF(Tous!Q:Q,"35",Tous!$R:$R) -> 0 | E37: =SUM(B37:D37) -> 0
A38: 36 Indre | B38: =SUMIF(Tous!O:O,"36",Tous!$R:$R) -> 0 | C38: =SUMIF(Tous!P:P,"36",Tous!$R:$R) -> 0 | D38: =SUMIF(Tous!Q:Q,"36",Tous!$R:$R) -> 0 | E38: =SUM(B38:D38) -> 0
A39: 37 Indre-et-Loire | B39: =SUMIF(Tous!O:O,"37",Tous!$R:$R) -> 0 | C39: =SUMIF(Tous!P:P,"37",Tous!$R:$R) -> 0 | D39: =SUMIF(Tous!Q:Q,"37",Tous!$R:$R) -> 0 | E39: =SUM(B39:D39) -> 0
A40: 38 Isère | B40: =SUMIF(Tous!O:O,"38",Tous!$R:$R) -> 0 | C40: =SUMIF(Tous!P:P,"38",Tous!$R:$R) -> 0 | D40: =SUMIF(Tous!Q:Q,"38",Tous!$R:$R) -> 0 | E40: =SUM(B40:D40) -> 0
...

Sheet Alsace
B1: Nom de l'entreprise | C1: Site | D1: Date de création | E1: Taille | F1: Forme juridique | G1: CA | H1: Clients ciblés | I1: Activité globale de l'entreprise | J1: Produits/Services proposés en matière de DD | K1: Contact | L1: Remarques | M1: Références | N1: Autres | O1: Département 1 | P1: Département 2 | Q1: Département 3 | R1: Calcul

Sheet Aquitaine
B1: Nom de l'entreprise | C1: Site | D1: Date de création | E1: Taille | F1: Forme juridique | G1: CA | H1: Clients ciblés | I1: Activité globale de l'entreprise | J1: Produits/Services proposés en matière de DD | K1: Contact | L1: Remarques | M1: Références | N1: Autres | O1: Département 1 | P1: Département 2 | Q1: Département 3 | R1: Calcul
A2: ? | R2: 1
R3: 1
R4: 1
A5: 1*, à creuser | R5: 1
R6: 1
R7: 1

Sheet Bretagne
B1: Nom de l'entreprise | C1: Site | D1: Date de création | E1: Taille | F1: Forme juridique | G1: CA | H1: Clients ciblés | I1: Activité globale de l'entreprise | J1: Produits/Services proposés en matière de DD | K1: Contact | L1: Remarques | M1: Références | N1: Autres | O1: Département 1 | P1: Département 2 | Q1: Département 3 | R1: Calcul

Sheet Ile de France
B1: Nom de l'entreprise | C1: Site | D1: Date de création | E1: Taille | F1: Forme juridique | G1: CA | H1: Clients ciblés | I1: Activité globale de l'entreprise | J1: Produits/Services proposés en matière de DD | K1: Contact | L1: Remarques | M1: Références | N1: Autres | O1: Département 1 | P1: Département 2 | Q1: Département 3 | R1: Calcul
B2: LBMG Worklabs,doc | C2: http://www.lbmg-worklabs.com & www.neo-nomade.com | D2: 2010 | E2: 3 à 5 | F2: société par actions simplifiée | G2: ? Capital variable : 16 000 euros | H2: grandes entreprises, PME,TPE / collectivités et particuliers | I2: WORKLABS est un cabinet d'expertise dans les ressources humaines spécialisé dans la mise en place du travail à distance ainsi qu'une offre de lieux d'espaces de travail alternatif du café au centre d'affaires. Les sujets que le cabinet traite sont transverses et nécessitent des expertises diverses et précises, et ils sont donc entourés d’un réseau d’experts partenaires. Stratégie immobilière, développement durable, RH... | J2: Spécialiste du travail à distance et des tiers-lieux Diagnostic et mise en place du travail à distance, modèles économiques et localisation de nouveaux espaces de travail grâce à un seul interlocuteur,LBMG WORKLABS fait de l'expertise unique, met en place des outils innovants et un réseau de partenaires experts pour accompagner la mise en place de télétravail. LBMG intervient dans quatre domaines pour: - Sensibiliser les entreprises, administrations et employés aux enjeux du travail à distance - Conseiller les entreprises dans la mise en œuvre de programmes de travail à distance - Imaginer de nouveaux espaces de travail et soutenir les créateurs de tiers-lieux - Relier les télétravailleurs et les tiers-lieux à travers notre site www.neo-nomade.com | K2: LBMG WORKLABS 40 Rue Eugene Oudine 75013 Paris Président Natael MATHIEU Tel : 06 61 31 96 39 Mail : nathanael.mathieu@lbmg-worklabs.com Contact presse Baptiste Broughton – contact@neo-nomade.com Tel : 0632736377 | L2: Création du site www.neo-nomade.com permettant aux utilisateurs du télétravail de trouver un espace de travail.Déclinaison pour trouver les lieux en application pour Smartphones. Création d'un logiciel permettant de calculer les coûts liés à la mise en place du télétravail au sein d'une entreprise ou collectivité. http://www.lbmg-worklabs.com/calculator/index.php | M2: Seine et Marne Développement, Novotel, Caisse des dépots, Mille-Alliance,l'Atelier | O2: 75 | R2: 1
B3: ADÉQUATION CONSULTING | C3: www.adequationconsulting.fr | D3: 38246 | E3: 4 | F3: S.A.R.L au capital de 15 000 euros | G3: CA de 2010 : 310.400 | H3: Petites et grandes entreprises / administrations publiques | I3: + ADEQUATION Consulting apporte à ses clients conseil et formation en Management, Organisation et Ressources Humaines. Fort de 10 années d’expérience auprès de structures et de contextes variés, nous vous accompagnons dans vos projets et vos réflexions en vue d’améliorer la performance de vos organisations de façon durable dans l'accompagnement des organisations sociales et médico-sociales, dans le conseil en ressources humaines et santé au travail, dans le management d'équipe et de projets, dans des audits d'organisation, dans les démarches qualités et dans le développement durable et RSE. Les engagements d'Adéquation Consulting : - Elaborer des propositions claires adaptées aux spécificités de la structure. - Garantir la plus stricte confidentialité dans le cadre de nos missions - Garantir la mise en œuvre des moyens adaptés à vos enjeux - Intervenir dans le respect du projet et de la culture d’entreprise - Accompagner toute structure dans son développement et dans la mise en œuvre de ses projets en étroite collaboration avec tous les acteurs internes (dirigeants, encadrement de proximité, équipes de travail). | J3: Réalisation du Bilan Carbone Mise en place d’une démarche RSE (ISO 26000) Diagnostic social et sociétal de l’entreprise - construction et accompagnement à la mise en œuvre d’un plan d’action | K3: Gérant : Xavier PREVOST Tel : 06 61 45 03 63 Mail : x.prevost@adequationconsulting.fr 18 rue Amiral Cécille Immeuble Le Montréal 76100 ROUEN Tél : 02 35 63 03 63 Fax : 02 35 63 10 44 | L3: Réseau : Adéquation développement et Adéquation sécurité | M3: Sanitaire, Social et Médico-social Entreprises Sport professionnel Administrations et entreprises publiques | O3: 76 | R3: 1
B4: Equineo | C4: http://www.equineo.com/ | D4: 38418 | E4: 8 | F4: SARL au capital de 15 000 euros | G4: CA 2010 : 473.200 | H4: les collectivités, les entreprises et les établissements scolaires | I4: eQuiNeo est une agence qui accompagne les collectivités, les entreprises et les établissements scolaires dans leurs projets et leurs politiques de développement durable. lac-extrait eQuiNeo a développé des outils spécifiques et méthodologiques dans différents domaines pour chacune des étapes des projets de développement durable en matière de : veille, sensibilisation, formation, échanges avec les parties prenantes, diagnostics et études, conduite du changement, évaluation (indicateurs, tableaux de bord), rapports développement durable, chartes et communication. Nous travaillons de manière régulière avec un ensemble de partenaires experts dans leurs domaines afin de bien pouvoir appréhender les enjeux de développement durable des politiques et des projets sur lesquels nous travaillons (énergie, mobilité, urbanisme, concertation, organisation d'évènements, climat, solidarité, outils techniques et pédagogiques d'éducation et de sensibilisation, formation...). Cela nous permet également de proposer un ensemble de métiers complémentaires. Voici les 7 champsd'expertises : projets territoriaux de développement durable, éudes et accompagnements, énergie et climat, adaptation au changement climatique, formation, éducation à l'environnement et au développemen durable, communication | J4: Agenda 21 local, rapport développement durable, approche Environnementale de l'Urbanisme, formation sur mesure, conférences et évènements, actions de sensibilisation, vulnérabilité au DD et stratégie d'adaptation, letre d'information et Magazine développement durable, veille et études, plan climat energie territorial, ateliers énergie et climat, aténuation des émissions de GES, accompagnement et ingénieurie de projets, bilan carbone collectivités et entreprises, agenda 21 scolaire, agenda 21 de la culture, pré-diagnostics et études, maîtirse de l'énergie et énergies renouvelables et multimédia et nouvelles technologies. | K4: 2 agences : eQuiNeo à Montpellier 22 rue du Saint Sépulcre 34000 Montpellier Tel : 04 67 29 94 21 eQuiNeo à Paris 18 rue de Vincennes 93100 Montreuil-sous-bois Tel : 06 12 96 28 38 | L4: eQuiNeo est membre des associations CLER, AMORCE, Energie Partagée, Comité 21 et compense l'ensemble des émissions générées par son activité auprès du programme CO2 Solidaire du GERES. | M4: Communauté urbaine de bordeaux : accompagnement dans sa démarche de labellisation cit'ergie, bilan carbone du site d'impression du midi libre, définition et mise en œuvre de l'agenda 21 de la culure de la ville de Saint-Herblain, formation au développment durable à la cour d'appel de Pau, agenda 21 scolaire dans 13 CFA de la région PACA, intervention à Paris Dauphine, | O4: 93 | P4: 34 | R4: 1
B5: Groupe Alexandrie | C5: http://www.alexandrie.fr/ | D5: 36125 | E5: 6 ( + 50 experts qui les accompagnent) | F5: société par actions simplifiée | G5: ? | H5: collectivité, PME, grandes entreprises | I5: Alexandrie Groupe, anciennement groupe CPI, est implanté dans le grand ouest depuis 1989 et propose un accompagnement de projets technologies numériques innovantes et de développement durable. Pour cela Alexandrie groupe fait appel à ces 3 entités d'activités en formation, consulting et ingénierie. Les entités : AEMYS, SOKRATE et ACC CONSULING. AEMYS est un centre de formation certifié CPLS par Microsoft, il accompagne et conseille sur la conduite et la réussite de projet de formation développement durable et informatique. Il traie notamment de la problématique RH et développement durable. ACC CONSULTING guide et conseil la démarche développement durable. SOKRATE est un bureau d'étude qui met en place des solutions techniques et spécifiques adaptées à un projet développement durable. | J5: AEMY : Bâtiment : diagnostic énergétique, maîtrise de l'énergie, conception BBC et logiciel de calcul thermique Transport et Urbanisme : approche environnementale de l'Urbanisme, développement durable et bonnes pratiques, plan déplacements entreprise, green IT / télétravail, accessibilité.Management RH : eco-conception, achats responsables; développement durable et fonction RH et développement durable et RSE. ACC CONSULTING : conseil en énergie : offre aux collectivités et aux entreprises un accompagnement, une gestion et une optimisation de leur consommation énergétique. SOKRATE : accompagnement pour la mise en place de solutions technologiques numériques pour le développement durable : visio conférences, communication unifiées, portails, applications mobiles, technologies embarquées et mobiles, management de projets | K5: Alexandrie Groupe Président : Eric JOYEN-CONSEIL 4, Rue Andreï Sakharov 76130 Mont-Saint-Aignan Tél : +33 (0)2 35 590 591 Fax : +33 (0)2 35 80 82 99 mail : alexandrie@alexandrie.fr | L5: Introduction de RSE dans la fonction RH | M5: Collectivité : région Haute-Normandie, Communaué de communes de Caux de Seine. Entreprises : Total, CCI Rouen, Caisse d'Epargne, AFPA, Legrand, Crédit Agricole.. | O5: 76 | R5: 1
B6: Nouveaux Territoires | C6: http://www.nouveaux-territoires.fr/Ntc_officiel.html | D6: 37355 | E6: 4 | F6: Groupement d'intérêt économique | G6: CA 2011 : 480 000 | H6: collectivités locales et leur regroupement, ministères et services déconcentrés de l'Etat, partenaires techniques et financiers de la coopération internationale | I6: Nouveaux territoires est un cabinet de consultants spécialisé sur les territoires plus précisément dans la territorialisation des politiques publiques, la définition concertée de projets territoriaux d'aménagement et de développement durable, l'animation des dynamiques d'acteurs. Le nombre resserré de consultants est garant d'un conseil sur mesure et adapté aux attentes tout cela dans un souci constant d'indépendance de vue et d'analyse. | J6: Intercommunalité de projet : projets de territoire, développement et simplification de l'intercommunalité Projet urbain : planification stratégique et requalification urbaine et patrimoniale Agenda 21 - Evaluation : à toutes les échelles et évaluation des politiques publiques Politique de l'Etat : territorialisation de politiques de l'Etat International : expertises et/ou évaluation des politiques de coopération internationnale et intervention thématiques Economie et emploi durables : territorialisation des politiques de l'emploi, de la formation et de l'insertion et territorialisation des politiques de développement économique Pays, régions et départements : stratégie terrioriale et coopération interurbaine Services à la personne : approche territoriale des services Les procédures utilisées : Agenda 21 Charte de pays Charte de PNR Contrat d objectif territorial (COT) Contrat urbain de cohésion sociale (CUCS) Engagements de développement de l emploi et des compétences (EDDEC) Plan de déplacement (PDU / PDE / PDA) Plan national de rénovation urbaine (PNRU) Programmes européens Pôle d excellence rurale (PER) Schéma de cohérence territoriale (SCoT) Schéma régional d aménagement et de développement durable du territoire (SRADDT) Schéma régional d aménagement et de développement économique (SRDE) | K6: 2 agences : Paris 20 Boulevard de Sebastopol 75004 PARIS 04 Tel : 01.44.54.13.65 Fax : 01.48.87.19.95 Tours 27 rue Bois 37000 Tours Tel : 02.47.64.33.06 Fax : 02.47.64.95.84 Email : contact@nouveaux-territoires.fr Email administrateur : d.charlou@nouveaux-territoires.fr | L6: Site internet très interactif | M6: Intercommunalité de projet : Projet de territoire de la communauté de communes du Pays de l'Hermitage Projet urbain : Etude de reconversion d'une ancienne filature à Louvriers Agenda 21 - Evaluation : Agenda 21 du Pays Loire Touraine Politique de l'Etat : DATAR - Préfecture de la Manche (50)Diagnostic sur la situation des services au public en zone rurale dans le département de la Manche International : AFDEvaluation de la politique nationale d'aménagement du territoire en Tunisie Economie et emploi durables : élaboration de la Charte " accueil - information - orientation" pour l'emploi et la formation en Bourgogne. Pays, régions et départements : animation du Conseil de développement du territoire ( CDT) du Pays Sud-Vendée Services à la personne : diagnostic sur les services au public en milieu rural dans la Manche Voir les plaquettes avec toutes les références | O6: 75 | R6: 1
B7: S2DC Stratégie Développement Durable Consulting et Coaching | C7: http://www.s2dc-consulting.com/ | D7: 40443 | E7: 3 | F7: SARL unipersonnelle | G7: Capital social : 15.000,00 euros | H7: grands comptes, Entreprises de Taille Intermédiaire (en particulier les entreprises impactées par la loi Grenelle 2) ou PME, Administrations ou Collectivités territoriales | I7: S2DC est spécialisé dans l'expertise développement durable, les modes accompagnement et la formation. | J7: Expertises Développement Durable/RSE : Diagnostic Developpement Durable, Responsabilité Sociétale – Iso 26000, Modèle d’excellence EFQM, Bilan carbone Modes d’accompagnement : Coaching stratégique, Coaching d’équipe, Coaching de manager Formation : Développement durable, Développement personnel | K7: Gérant M. William MONLOUIS FELICITE 28 Rue de Londres 75009 PARIS Tel :+33 (0) 1 78 42 35 35 Port. +33(0) 6 43 07 36 95 Mail : contact@s2dc-consulting.com | L7: Inroduction DD/RSE : Coaching individuel et collecif. | M7: Référence partenaires : ecocert, linkup coaching, aract, finan cités, linkup resource, entrepreuneurs d'avenir, parc naturel régional de martinique, fruidor, cerf, az partenaires, accompagnement coaching&consulting, qwad, e-zero, Total, 1001 experts comptables, makrelaj, rca | O7: 75 | R7: 1
B8: Planète Publique | C8: http://www.planetepublique.fr/ | D8: 38922 | E8: 10 | F8: Société à responsabilité limitée | G8: CA 2011 : 989.500 | H8: Etat, collectiviés locales, établissements publics, international | I8: Conseil et accompagnement de politiques publiques durables. Planète publique intervient sur trois axes articulés entre eux : • évaluation et conception de politiques publiques • environnement et développement durable • concertation et débat citoyen | J8: Développement durable Développement humain Participation citoyenne Santé Environnement Culture Transport et déplacements Aménagements de la ville et des territoires | K8: Gérant M. Benoit SIMON Gérant M. Francois MOUTERDE 30 Rue de Fleurus 75006 PARISTél : 01 - 80 - 05 - 16 - 05 ; Fax : 01 - 53 - 80 - 05 - 41 contact@planetepublique.fr | M8: Développement durable : Conseil général de Gironde; Evaluation stratégique et partagée de l'A21 de la Gironde Développement humain : Ville de Grenoble; Evaluation du dispositif expérimental de vidéosurveillance de la ville de Grenoble Participation citoyenne : Conseil régional Rhône-Alpes; Évaluation de la politique régionale en faveur de la démocratie participative Santé : ADEME; Etude des besoins des établissements de santé en matière d'outils et méthodes sur l'éco-responsabilité Environnement : Communauté urbaine de Bordeaux; Assistance à maitrise d’ouvrage pour la réalisation d’une enquête et la mise en œuvre d’une participation citoyenne à l’élaboration de la politique des déchets Culture : Conseil régional Limousin; Evaluation de la politique de développement culturel Transport et déplacements : Angers Loire Métropole; Evaluation à mi-parcours du Plan de Déplacements Urbains Aménagements de la ville et des territoires : Conseil général Gard; Evaluation de l'expérimentation d'une nouvelle politique d'aide aux communes | O8: 75 | R8: 1

Sheet Languedoc-R
A1: Nom de l'entreprise | B1: Site | C1: Date de création | D1: Taille | E1: Forme juridique | F1: CA | G1: Clients ciblés | H1: Activité globale de l'entreprise | I1: Produits/Services proposés en matière de DD | J1: Contact | K1: Remarques | L1: Références | M1: Autres | N1: Département 1 | O1: Département 2 | P1: Département 3 | Q1: Calcul

Sheet Midi-Pyrénées
