Workbook

Sheet camion  1
C2: Tour n° | D2: Tour n° | E2: Tour n° | F2: Tour n° | G2: Tour n° | H2: Tour n° | I2: Tour n° | J2: Tour n° | K2: Tour n° | L2: Tour n° | M2: Tour n° | N2: Tour n°
B3: Gravat 1 | C3: 1 | D3: 2 | E3: 3 | F3: 4 | G3: 5 | H3: 6 | I3: 7 | J3: 8 | K3: 9 | L3: 10 | M3: 11 | N3: 12 | O3: Total
B4: 42314 | O4: =SUM(C4:N4) -> 0
B5: 42315 | O5: =SUM(C5:N5) -> 0
B6: 42316 | O6: =SUM(C6:N6) -> 0
B7: 42317 | O7: =SUM(C7:N7) -> 0
B8: 42318 | O8: =SUM(C8:N8) -> 0
B9: 42319 | O9: =SUM(C9:N9) -> 0
B10: 42320 | O10: =SUM(C10:N10) -> 0
B11: 42321 | O11: =SUM(C11:N11) -> 0
B12: 42322 | O12: =SUM(C12:N12) -> 0
B13: 42323 | O13: =SUM(C13:N13) -> 0
B14: 42324 | O14: =SUM(C14:N14) -> 0
M16: ="Total Chantier "&B3 -> Total Chantier Gravat 1 | O16: =SUM(O4:O15) -> 0 | P16: Tonnes
C23: Tour n° | D23: Tour n° | E23: Tour n° | F23: Tour n° | G23: Tour n° | H23: Tour n° | I23: Tour n° | J23: Tour n° | K23: Tour n° | L23: Tour n° | M23: Tour n° | N23: Tour n°
B24: Gravat 2 | C24: 1 | D24: 2 | E24: 3 | F24: 4 | G24: 5 | H24: 6 | I24: 7 | J24: 8 | K24: 9 | L24: 10 | M24: 11 | N24: 12 | O24: Total
B25: 42314 | O25: =SUM(C25:N25) -> 0
B26: 42315 | O26: =SUM(C26:N26) -> 0
B27: 42316 | O27: =SUM(C27:N27) -> 0
B28: 42317 | O28: =SUM(C28:N28) -> 0
B29: 42318 | O29: =SUM(C29:N29) -> 0
B30: 42319 | O30: =SUM(C30:N30) -> 0
B31: 42320 | O31: =SUM(C31:N31) -> 0
B32: 42321 | O32: =SUM(C32:N32) -> 0
B33: 42322 | O33: =SUM(C33:N33) -> 0
B34: 42323 | O34: =SUM(C34:N34) -> 0
B35: 42324 | O35: =SUM(C35:N35) -> 0
M37: ="Total Chantier "&B24 -> Total Chantier Gravat 2 | O37: =SUM(O25:O36) -> 0 | P37: Tonnes
C44: Tour n° | D44: Tour n° | E44: Tour n° | F44: Tour n° | G44: Tour n° | H44: Tour n° | I44: Tour n° | J44: Tour n° | K44: Tour n° | L44: Tour n° | M44: Tour n° | N44: Tour n°
B45: Gravat 3 | C45: 1 | D45: 2 | E45: 3 | F45: 4 | G45: 5 | H45: 6 | I45: 7 | J45: 8 | K45: 9 | L45: 10 | M45: 11 | N45: 12 | O45: Total
B46: 42314 | O46: =SUM(C46:N46) -> 0
B47: 42315 | O47: =SUM(C47:N47) -> 0
B48: 42316 | O48: =SUM(C48:N48) -> 0
B49: 42317 | O49: =SUM(C49:N49) -> 0
B50: 42318 | O50: =SUM(C50:N50) -> 0
B51: 42319 | O51: =SUM(C51:N51) -> 0
B52: 42320 | O52: =SUM(C52:N52) -> 0
B53: 42321 | O53: =SUM(C53:N53) -> 0
B54: 42322 | O54: =SUM(C54:N54) -> 0
B55: 42323 | O55: =SUM(C55:N55) -> 0
...

Sheet camion  2
C2: Tour n° | D2: Tour n° | E2: Tour n° | F2: Tour n° | G2: Tour n° | H2: Tour n° | I2: Tour n° | J2: Tour n° | K2: Tour n° | L2: Tour n° | M2: Tour n° | N2: Tour n°
B3: Gravat 1 | C3: 1 | D3: 2 | E3: 3 | F3: 4 | G3: 5 | H3: 6 | I3: 7 | J3: 8 | K3: 9 | L3: 10 | M3: 11 | N3: 12 | O3: Total
B4: 42314 | O4: =SUM(C4:N4) -> 0
B5: 42315 | O5: =SUM(C5:N5) -> 0
B6: 42316 | O6: =SUM(C6:N6) -> 0
B7: 42317 | O7: =SUM(C7:N7) -> 0
B8: 42318 | O8: =SUM(C8:N8) -> 0
B9: 42319 | O9: =SUM(C9:N9) -> 0
B10: 42320 | O10: =SUM(C10:N10) -> 0
B11: 42321 | O11: =SUM(C11:N11) -> 0
B12: 42322 | O12: =SUM(C12:N12) -> 0
B13: 42323 | O13: =SUM(C13:N13) -> 0
B14: 42324 | O14: =SUM(C14:N14) -> 0
M16: ="Total Chantier "&B3 -> Total Chantier Gravat 1 | O16: =SUM(O4:O15) -> 0 | P16: Tonnes
C23: Tour n° | D23: Tour n° | E23: Tour n° | F23: Tour n° | G23: Tour n° | H23: Tour n° | I23: Tour n° | J23: Tour n° | K23: Tour n° | L23: Tour n° | M23: Tour n° | N23: Tour n°
B24: Gravat 2 | C24: 1 | D24: 2 | E24: 3 | F24: 4 | G24: 5 | H24: 6 | I24: 7 | J24: 8 | K24: 9 | L24: 10 | M24: 11 | N24: 12 | O24: Total
B25: 42314 | O25: =SUM(C25:N25) -> 0
B26: 42315 | O26: =SUM(C26:N26) -> 0
B27: 42316 | O27: =SUM(C27:N27) -> 0
B28: 42317 | O28: =SUM(C28:N28) -> 0
B29: 42318 | O29: =SUM(C29:N29) -> 0
B30: 42319 | O30: =SUM(C30:N30) -> 0
B31: 42320 | O31: =SUM(C31:N31) -> 0
B32: 42321 | O32: =SUM(C32:N32) -> 0
B33: 42322 | O33: =SUM(C33:N33) -> 0
B34: 42323 | O34: =SUM(C34:N34) -> 0
B35: 42324 | O35: =SUM(C35:N35) -> 0
M37: ="Total Chantier "&B24 -> Total Chantier Gravat 2 | O37: =SUM(O25:O36) -> 0 | P37: Tonnes
C44: Tour n° | D44: Tour n° | E44: Tour n° | F44: Tour n° | G44: Tour n° | H44: Tour n° | I44: Tour n° | J44: Tour n° | K44: Tour n° | L44: Tour n° | M44: Tour n° | N44: Tour n°
B45: Gravat 3 | C45: 1 | D45: 2 | E45: 3 | F45: 4 | G45: 5 | H45: 6 | I45: 7 | J45: 8 | K45: 9 | L45: 10 | M45: 11 | N45: 12 | O45: Total
B46: 42314 | O46: =SUM(C46:N46) -> 0
B47: 42315 | O47: =SUM(C47:N47) -> 0
B48: 42316 | O48: =SUM(C48:N48) -> 0
B49: 42317 | O49: =SUM(C49:N49) -> 0
B50: 42318 | O50: =SUM(C50:N50) -> 0
B51: 42319 | O51: =SUM(C51:N51) -> 0
B52: 42320 | O52: =SUM(C52:N52) -> 0
B53: 42321 | O53: =SUM(C53:N53) -> 0
B54: 42322 | O54: =SUM(C54:N54) -> 0
B55: 42323 | O55: =SUM(C55:N55) -> 0
...

Sheet camion  3
C2: Tour n° | D2: Tour n° | E2: Tour n° | F2: Tour n° | G2: Tour n° | H2: Tour n° | I2: Tour n° | J2: Tour n° | K2: Tour n° | L2: Tour n° | M2: Tour n° | N2: Tour n°
B3: Gravat 1 | C3: 1 | D3: 2 | E3: 3 | F3: 4 | G3: 5 | H3: 6 | I3: 7 | J3: 8 | K3: 9 | L3: 10 | M3: 11 | N3: 12 | O3: Total
B4: 42314 | O4: =SUM(C4:N4) -> 0
B5: 42315 | O5: =SUM(C5:N5) -> 0
B6: 42316 | O6: =SUM(C6:N6) -> 0
B7: 42317 | O7: =SUM(C7:N7) -> 0
B8: 42318 | O8: =SUM(C8:N8) -> 0
B9: 42319 | O9: =SUM(C9:N9) -> 0
B10: 42320 | O10: =SUM(C10:N10) -> 0
B11: 42321 | O11: =SUM(C11:N11) -> 0
B12: 42322 | O12: =SUM(C12:N12) -> 0
B13: 42323 | O13: =SUM(C13:N13) -> 0
B14: 42324 | O14: =SUM(C14:N14) -> 0
M16: ="Total Chantier "&B3 -> Total Chantier Gravat 1 | O16: =SUM(O4:O15) -> 0 | P16: Tonnes
C23: Tour n° | D23: Tour n° | E23: Tour n° | F23: Tour n° | G23: Tour n° | H23: Tour n° | I23: Tour n° | J23: Tour n° | K23: Tour n° | L23: Tour n° | M23: Tour n° | N23: Tour n°
B24: Gravat 2 | C24: 1 | D24: 2 | E24: 3 | F24: 4 | G24: 5 | H24: 6 | I24: 7 | J24: 8 | K24: 9 | L24: 10 | M24: 11 | N24: 12 | O24: Total
B25: 42314 | O25: =SUM(C25:N25) -> 0
B26: 42315 | O26: =SUM(C26:N26) -> 0
B27: 42316 | O27: =SUM(C27:N27) -> 0
B28: 42317 | O28: =SUM(C28:N28) -> 0
B29: 42318 | O29: =SUM(C29:N29) -> 0
B30: 42319 | O30: =SUM(C30:N30) -> 0
B31: 42320 | O31: =SUM(C31:N31) -> 0
B32: 42321 | O32: =SUM(C32:N32) -> 0
B33: 42322 | O33: =SUM(C33:N33) -> 0
B34: 42323 | O34: =SUM(C34:N34) -> 0
B35: 42324 | O35: =SUM(C35:N35) -> 0
M37: ="Total Chantier "&B24 -> Total Chantier Gravat 2 | O37: =SUM(O25:O36) -> 0 | P37: Tonnes
C44: Tour n° | D44: Tour n° | E44: Tour n° | F44: Tour n° | G44: Tour n° | H44: Tour n° | I44: Tour n° | J44: Tour n° | K44: Tour n° | L44: Tour n° | M44: Tour n° | N44: Tour n°
B45: Gravat 3 | C45: 1 | D45: 2 | E45: 3 | F45: 4 | G45: 5 | H45: 6 | I45: 7 | J45: 8 | K45: 9 | L45: 10 | M45: 11 | N45: 12 | O45: Total
B46: 42314 | O46: =SUM(C46:N46) -> 0
B47: 42315 | O47: =SUM(C47:N47) -> 0
B48: 42316 | O48: =SUM(C48:N48) -> 0
B49: 42317 | O49: =SUM(C49:N49) -> 0
B50: 42318 | O50: =SUM(C50:N50) -> 0
B51: 42319 | O51: =SUM(C51:N51) -> 0
B52: 42320 | O52: =SUM(C52:N52) -> 0
B53: 42321 | O53: =SUM(C53:N53) -> 0
B54: 42322 | O54: =SUM(C54:N54) -> 0
B55: 42323 | O55: =SUM(C55:N55) -> 0
...

Sheet total chantier
B4: GRAVAT 1 | C4: CAMION 1 | D4: CAMION 2 | E4: CAMION 3
B5: 42314 | C5: ='camion 1'!O4 -> 0 | D5: ='camion 2'!O4 -> 0 | E5: ='camion 3'!O4 -> 0
B6: 42315 | C6: ='camion 1'!O5 -> 0 | D6: ='camion 2'!O5 -> 0 | E6: ='camion 3'!O5 -> 0
B7: 42316 | C7: ='camion 1'!O6 -> 0 | D7: ='camion 2'!O6 -> 0 | E7: ='camion 3'!O6 -> 0
B8: 42317 | C8: ='camion 1'!O7 -> 0 | D8: ='camion 2'!O7 -> 0 | E8: ='camion 3'!O7 -> 0
B9: 42318 | C9: ='camion 1'!O8 -> 0 | D9: ='camion 2'!O8 -> 0 | E9: ='camion 3'!O8 -> 0
B10: 42319 | C10: ='camion 1'!O9 -> 0 | D10: ='camion 2'!O9 -> 0 | E10: ='camion 3'!O9 -> 0
B11: 42320 | C11: ='camion 1'!O10 -> 0 | D11: ='camion 2'!O10 -> 0 | E11: ='camion 3'!O10 -> 0
B12: 42321 | C12: ='camion 1'!O11 -> 0 | D12: ='camion 2'!O11 -> 0 | E12: ='camion 3'!O11 -> 0
B13: 42322 | C13: ='camion 1'!O12 -> 0 | D13: ='camion 2'!O12 -> 0 | E13: ='camion 3'!O12 -> 0
B14: 42323 | C14: ='camion 1'!O13 -> 0 | D14: ='camion 2'!O13 -> 0 | E14: ='camion 3'!O13 -> 0
B15: 42324 | C15: ='camion 1'!O14 -> 0 | D15: ='camion 2'!O14 -> 0 | E15: ='camion 3'!O14 -> 0
B19: GRAVAT 2 | C19: CAMION 1 | D19: CAMION 2 | E19: CAMION 3
B20: 42314 | C20: ='camion 1'!O25 -> 0 | D20: ='camion 2'!O25 -> 0 | E20: ='camion 3'!O25 -> 0
B21: 42315 | C21: ='camion 1'!O26 -> 0 | D21: ='camion 2'!O26 -> 0 | E21: ='camion 3'!O26 -> 0
B22: 42316 | C22: ='camion 1'!O27 -> 0 | D22: ='camion 2'!O27 -> 0 | E22: ='camion 3'!O27 -> 0
B23: 42317 | C23: ='camion 1'!O28 -> 0 | D23: ='camion 2'!O28 -> 0 | E23: ='camion 3'!O28 -> 0
B24: 42318 | C24: ='camion 1'!O29 -> 0 | D24: ='camion 2'!O29 -> 0 | E24: ='camion 3'!O29 -> 0
B25: 42319 | C25: ='camion 1'!O30 -> 0 | D25: ='camion 2'!O30 -> 0 | E25: ='camion 3'!O30 -> 0
B26: 42320 | C26: ='camion 1'!O31 -> 0 | D26: ='camion 2'!O31 -> 0 | E26: ='camion 3'!O31 -> 0
B27: 42321 | C27: ='camion 1'!O32 -> 0 | D27: ='camion 2'!O32 -> 0 | E27: ='camion 3'!O32 -> 0
B28: 42322 | C28: ='camion 1'!O33 -> 0 | D28: ='camion 2'!O33 -> 0 | E28: ='camion 3'!O33 -> 0
B29: 42323 | C29: ='camion 1'!O34 -> 0 | D29: ='camion 2'!O34 -> 0 | E29: ='camion 3'!O34 -> 0
B30: 42324 | C30: ='camion 1'!O35 -> 0 | D30: ='camion 2'!O35 -> 0 | E30: ='camion 3'!O35 -> 0
B34: GRAVAT 3 | C34: CAMION 1 | D34: CAMION 2 | E34: CAMION 3
B35: 42314 | C35: ='camion 1'!O46 -> 0 | D35: ='camion 2'!O46 -> 0 | E35: ='camion 3'!O46 -> 0
B36: 42315 | C36: ='camion 1'!O47 -> 0 | D36: ='camion 2'!O47 -> 0 | E36: ='camion 3'!O47 -> 0
B37: 42316 | C37: ='camion 1'!O48 -> 0 | D37: ='camion 2'!O48 -> 0 | E37: ='camion 3'!O48 -> 0
B38: 42317 | C38: ='camion 1'!O49 -> 0 | D38: ='camion 2'!O49 -> 0 | E38: ='camion 3'!O49 -> 0
B39: 42318 | C39: ='camion 1'!O50 -> 0 | D39: ='camion 2'!O50 -> 0 | E39: ='camion 3'!O50 -> 0
B40: 42319 | C40: ='camion 1'!O51 -> 0 | D40: ='camion 2'!O51 -> 0 | E40: ='camion 3'!O51 -> 0
B41: 42320 | C41: ='camion 1'!O52 -> 0 | D41: ='camion 2'!O52 -> 0 | E41: ='camion 3'!O52 -> 0
B42: 42321 | C42: ='camion 1'!O53 -> 0 | D42: ='camion 2'!O53 -> 0 | E42: ='camion 3'!O53 -> 0
B43: 42322 | C43: ='camion 1'!O54 -> 0 | D43: ='camion 2'!O54 -> 0 | E43: ='camion 3'!O54 -> 0
B44: 42323 | C44: ='camion 1'!O55 -> 0 | D44: ='camion 2'!O55 -> 0 | E44: ='camion 3'!O55 -> 0
B45: 42324 | C45: ='camion 1'!O56 -> 0 | D45: ='camion 2'!O56 -> 0 | E45: ='camion 3'!O56 -> 0

Sheet model
B3: gravat 1 | C3: 42314 | D3: 42317 | E3: 42318 | F3: 42319 | G3: 42320 | H3: 42321 | I3: 42324 | J3: 42325
B4: tour n°1
B5: tour n°2
B6: tour n°3
B7: tour n°4
B8: tour n°5
B9: tour n°6
B10: tour n°7
B11: tour n°8
B12: tour n°9
B13: tour n°10
B14: tour n°11
B15: tour n°12
B16: TOTAL jour | C16: =SUM(C4:C15) -> 0 | D16: =SUM(D4:D15) -> 0 | E16: =SUM(E4:E15) -> 0 | F16: =SUM(F4:F15) -> 0 | G16: =SUM(G4:G15) -> 0 | H16: =SUM(H4:H15) -> 0 | I16: =SUM(I4:I15) -> 0 | J16: =SUM(J4:J15) -> 0
B18: TOTAL CHANTIER GRAVAT 1 | C18: =SUM(C16:I16) -> 0
D19: TONNES
B24: gravat 2 | C24: 42314 | D24: 42315 | E24: 42316 | F24: 42317 | G24: 42318 | H24: 42319 | I24: 42320 | J24: 42321
B25: tour n°1
B26: tour n°2
B27: tour n°3
B28: tour n°4
B29: tour n°5
B30: tour n°6
B31: tour n°7
B32: tour n°8
B33: tour n°9
B34: tour n°10
B35: tour n°11
B36: tour n°12
B37: TOTAL jour | C37: =SUM(C25:C36) -> 0 | D37: =SUM(D25:D36) -> 0 | E37: =SUM(E25:E36) -> 0 | F37: =SUM(F25:F36) -> 0 | G37: =SUM(G25:G36) -> 0 | H37: =SUM(H25:H36) -> 0 | I37: =SUM(I25:I36) -> 0 | J37: =SUM(J25:J36) -> 0
B39: TOTAL CHANTIER GRAVAT 2 | C39: =SUM(C37:I37) -> 0
D40: TONNES
B45: gravat 3 | C45: 42314 | D45: 42315 | E45: 42316 | F45: 42317 | G45: 42318 | H45: 42319 | I45: 42320 | J45: 42321
B46: tour n°1
B47: tour n°2
B48: tour n°3
B49: tour n°4
B50: tour n°5
B51: tour n°6
B52: tour n°7
...
