Workbook
Name ARGENTEUIL: #REF!
Name CHOISY: #REF!
Name CO_MARNE: #REF!,#REF!
Name CO_MARNE: #REF!,#REF!
Name CO_OISE: #REF!,#REF!
Name CO_OISE: #REF!,#REF!
Name CO_SEINE: #REF!,#REF!
Name CO_SEINE: #REF!,#REF!
Name Communes: #REF!
Name Communes2: #REF!
Name data: [1]Détails!$A$1:$F$141
Name data: Détails!$A$1:$H$1
Name EPINAY: #REF!
Name LE_PLESSIS: #REF!
Name NOISY: #REF!
Name PAVILLONS: #REF!
Name ZONING: #REF!

Sheet Synthèse
A1: NOMBRE D'INTERVENTIONS D'URGENCE PAR CENTRE & SIT
A3: Dates | B3: Centre 1 | F3: Centre 2 | J3: Centre 3 | N3: TOTAL
B4: PARIS 1 | D4: PARIS 2 | F4: LYON 1 | H4: LYON 2 | J4: MARSEILLE 1 | L4: MARSEILLE 2
B5: Journée | C5: Astreinte | D5: Journée | E5: Astreinte | F5: Journée | G5: Astreinte | H5: Journée | I5: Astreinte | J5: Journée | K5: Astreinte | L5: Journée | M5: Astreinte
A6: 41313 | B6: =COUNTIFS(Détails!$B:$B,Détails!$B$2,Détails!$H:$H,Détails!$H$2,Détails!$D:$D,Détails!$D$62) -> 4 | C6: =COUNTIFS(Détails!$B:$B,Détails!$B$2,Détails!$H:$H,Détails!$H$19,Détails!$D:$D,Détails!$D$62) -> 1 | D6: =COUNTIFS(Détails!$B:$B,Détails!$B$14,Détails!$H:$H,Détails!$H$2,Détails!$D:$D,Détails!$D$62) -> 6 | E6: =COUNTIFS(Détails!$B:$B,Détails!$B$14,Détails!$H:$H,Détails!$H$19,Détails!$D:$D,Détails!$D$62) -> 1 | F6: =COUNTIFS(Détails!$B:$B,Détails!$B$16,Détails!$H:$H,Détails!$H$2,Détails!$D:$D,Détails!$D$62) -> 3 | G6: =COUNTIFS(Détails!$B:$B,Détails!$B$16,Détails!$H:$H,Détails!$H$19,Détails!$D:$D,Détails!$D$62) -> 2 | H6: =COUNTIFS(Détails!$B:$B,Détails!$B$9,Détails!$H:$H,Détails!$H$2,Détails!$D:$D,Détails!$D$62) -> 0 | I6: =COUNTIFS(Détails!$B:$B,Détails!$B$9,Détails!$H:$H,Détails!$H$19,Détails!$D:$D,Détails!$D$62) -> 0 | J6: =COUNTIFS(Détails!$B:$B,Détails!$B$4,Détails!$H:$H,Détails!$H$2,Détails!$D:$D,Détails!$D$62) -> 0 | K6: =COUNTIFS(Détails!$B:$B,Détails!$B$4,Détails!$H:$H,Détails!$H$19,Détails!$D:$D,Détails!$D$62) -> 0 | L6: =COUNTIFS(Détails!$B:$B,Détails!$B$10,Détails!$H:$H,Détails!$H$2,Détails!$D:$D,Détails!$D$62) -> 0 | M6: =COUNTIFS(Détails!$B:$B,Détails!$B$10,Détails!$H:$H,Détails!$H$19,Détails!$D:$D,Détails!$D$62) -> 0 | N6: =SUM(B6:M6) -> 17
A7: 41314 | B7: =COUNTIFS(Détails!$B:$B,Détails!$B$2,Détails!$H:$H,Détails!$H$2,Détails!$D:$D,Détails!$D$68) -> 0 | C7: =COUNTIFS(Détails!$B:$B,Détails!$B$2,Détails!$H:$H,Détails!$H$19,Détails!$D:$D,Détails!$D$68) -> 1 | D7: =COUNTIFS(Détails!$B:$B,Détails!$B$14,Détails!$H:$H,Détails!$H$2,Détails!$D:$D,Détails!$D$68) -> 0 | E7: =COUNTIFS(Détails!$B:$B,Détails!$B$14,Détails!$H:$H,Détails!$H$19,Détails!$D:$D,Détails!$D$68) -> 2 | F7: =COUNTIFS(Détails!$B:$B,Détails!$B$16,Détails!$H:$H,Détails!$H$2,Détails!$D:$D,Détails!$D$68) -> 0 | G7: =COUNTIFS(Détails!$B:$B,Détails!$B$16,Détails!$H:$H,Détails!$H$19,Détails!$D:$D,Détails!$D$68) -> 0 | H7: =COUNTIFS(Détails!$B:$B,Détails!$B$9,Détails!$H:$H,Détails!$H$2,Détails!$D:$D,Détails!$D$68) -> 0 | I7: =COUNTIFS(Détails!$B:$B,Détails!$B$9,Détails!$H:$H,Détails!$H$19,Détails!$D:$D,Détails!$D$68) -> 3 | J7: =COUNTIFS(Détails!$B:$B,Détails!$B$4,Détails!$H:$H,Détails!$H$2,Détails!$D:$D,Détails!$D$68) -> 0 | K7: =COUNTIFS(Détails!$B:$B,Détails!$B$4,Détails!$H:$H,Détails!$H$19,Détails!$D:$D,Détails!$D$68) -> 0 | L7: =COUNTIFS(Détails!$B:$B,Détails!$B$10,Détails!$H:$H,Détails!$H$2,Détails!$D:$D,Détails!$D$68) -> 0 | M7: =COUNTIFS(Détails!$B:$B,Détails!$B$10,Détails!$H:$H,Détails!$H$19,Détails!$D:$D,Détails!$D$68) -> 0 | N7: =SUM(B7:M7) -> 6
A8: 41315 | B8: =COUNTIFS(Détails!$B:$B,Détails!$B$2,Détails!$H:$H,Détails!$H$2,Détails!$D:$D,Détails!$D$72) -> 0 | C8: =COUNTIFS(Détails!$B:$B,Détails!$B$2,Détails!$H:$H,Détails!$H$19,Détails!$D:$D,Détails!$D$72) -> 1 | D8: =COUNTIFS(Détails!$B:$B,Détails!$B$14,Détails!$H:$H,Détails!$H$2,Détails!$D:$D,Détails!$D$72) -> 0 | E8: =COUNTIFS(Détails!$B:$B,Détails!$B$14,Détails!$H:$H,Détails!$H$19,Détails!$D:$D,Détails!$D$72) -> 1 | F8: =COUNTIFS(Détails!$B:$B,Détails!$B$16,Détails!$H:$H,Détails!$H$2,Détails!$D:$D,Détails!$D$72) -> 0 | G8: =COUNTIFS(Détails!$B:$B,Détails!$B$16,Détails!$H:$H,Détails!$H$19,Détails!$D:$D,Détails!$D$72) -> 1 | H8: =COUNTIFS(Détails!$B:$B,Détails!$B$9,Détails!$H:$H,Détails!$H$2,Détails!$D:$D,Détails!$D$72) -> 0 | I8: =COUNTIFS(Détails!$B:$B,Détails!$B$9,Détails!$H:$H,Détails!$H$19,Détails!$D:$D,Détails!$D$72) -> 0 | J8: =COUNTIFS(Détails!$B:$B,Détails!$B$4,Détails!$H:$H,Détails!$H$2,Détails!$D:$D,Détails!$D$72) -> 0 | K8: =COUNTIFS(Détails!$B:$B,Détails!$B$4,Détails!$H:$H,Détails!$H$19,Détails!$D:$D,Détails!$D$72) -> 1 | L8: =COUNTIFS(Détails!$B:$B,Détails!$B$10,Détails!$H:$H,Détails!$H$2,Détails!$D:$D,Détails!$D$72) -> 0 | M8: =COUNTIFS(Détails!$B:$B,Détails!$B$10,Détails!$H:$H,Détails!$H$19,Détails!$D:$D,Détails!$D$72) -> 0 | N8: =SUM(B8:M8) -> 4
A9: 41316 | B9: =COUNTIFS(Détails!$B:$B,Détails!$B$2,Détails!$H:$H,Détails!$H$2,Détails!$D:$D,Détails!$D$93) -> 3 | C9: =COUNTIFS(Détails!$B:$B,Détails!$B$2,Détails!$H:$H,Détails!$H$19,Détails!$D:$D,Détails!$D$93) -> 1 | D9: =COUNTIFS(Détails!$B:$B,Détails!$B$14,Détails!$H:$H,Détails!$H$2,Détails!$D:$D,Détails!$D$93) -> 3 | E9: =COUNTIFS(Détails!$B:$B,Détails!$B$14,Détails!$H:$H,Détails!$H$19,Détails!$D:$D,Détails!$D$93) -> 3 | F9: =COUNTIFS(Détails!$B:$B,Détails!$B$16,Détails!$H:$H,Détails!$H$2,Détails!$D:$D,Détails!$D$93) -> 2 | G9: =COUNTIFS(Détails!$B:$B,Détails!$B$16,Détails!$H:$H,Détails!$H$19,Détails!$D:$D,Détails!$D$93) -> 3 | H9: =COUNTIFS(Détails!$B:$B,Détails!$B$9,Détails!$H:$H,Détails!$H$2,Détails!$D:$D,Détails!$D$93) -> 2 | I9: =COUNTIFS(Détails!$B:$B,Détails!$B$9,Détails!$H:$H,Détails!$H$19,Détails!$D:$D,Détails!$D$93) -> 1 | J9: =COUNTIFS(Détails!$B:$B,Détails!$B$4,Détails!$H:$H,Détails!$H$2,Détails!$D:$D,Détails!$D$93) -> 2 | K9: =COUNTIFS(Détails!$B:$B,Détails!$B$4,Détails!$H:$H,Détails!$H$19,Détails!$D:$D,Détails!$D$93) -> 1 | L9: =COUNTIFS(Détails!$B:$B,Détails!$B$10,Détails!$H:$H,Détails!$H$2,Détails!$D:$D,Détails!$D$93) -> 0 | M9: =COUNTIFS(Détails!$B:$B,Détails!$B$10,Détails!$H:$H,Détails!$H$19,Détails!$D:$D,Détails!$D$93) -> 0 | N9: =SUM(B9:M9) -> 21
A10: 41317 | B10: =COUNTIFS(Détails!$B:$B,Détails!$B$2,Détails!$H:$H,Détails!$H$2,Détails!$D:$D,Détails!$D$115) -> 2 | C10: =COUNTIFS(Détails!$B:$B,Détails!$B$2,Détails!$H:$H,Détails!$H$19,Détails!$D:$D,Détails!$D$115) -> 1 | D10: =COUNTIFS(Détails!$B:$B,Détails!$B$14,Détails!$H:$H,Détails!$H$2,Détails!$D:$D,Détails!$D$115) -> 6 | E10: =COUNTIFS(Détails!$B:$B,Détails!$B$14,Détails!$H:$H,Détails!$H$19,Détails!$D:$D,Détails!$D$115) -> 3 | F10: =COUNTIFS(Détails!$B:$B,Détails!$B$16,Détails!$H:$H,Détails!$H$2,Détails!$D:$D,Détails!$D$115) -> 1 | G10: =COUNTIFS(Détails!$B:$B,Détails!$B$16,Détails!$H:$H,Détails!$H$19,Détails!$D:$D,Détails!$D$115) -> 0 | H10: =COUNTIFS(Détails!$B:$B,Détails!$B$9,Détails!$H:$H,Détails!$H$2,Détails!$D:$D,Détails!$D$115) -> 1 | I10: =COUNTIFS(Détails!$B:$B,Détails!$B$9,Détails!$H:$H,Détails!$H$19,Détails!$D:$D,Détails!$D$115) -> 2 | J10: =COUNTIFS(Détails!$B:$B,Détails!$B$4,Détails!$H:$H,Détails!$H$2,Détails!$D:$D,Détails!$D$115) -> 5 | K10: =COUNTIFS(Détails!$B:$B,Détails!$B$4,Détails!$H:$H,Détails!$H$19,Détails!$D:$D,Détails!$D$115) -> 0 | L10: =COUNTIFS(Détails!$B:$B,Détails!$B$10,Détails!$H:$H,Détails!$H$2,Détails!$D:$D,Détails!$D$115) -> 1 | M10: =COUNTIFS(Détails!$B:$B,Détails!$B$10,Détails!$H:$H,Détails!$H$19,Détails!$D:$D,Détails!$D$115) -> 0 | N10: =SUM(B10:M10) -> 22
A11: 41318 | B11: =COUNTIFS(Détails!$B:$B,Détails!$B$2,Détails!$H:$H,Détails!$H$2,Détails!$D:$D,Détails!$D$137) -> 5 | C11: =COUNTIFS(Détails!$B:$B,Détails!$B$2,Détails!$H:$H,Détails!$H$19,Détails!$D:$D,Détails!$D$137) -> 1 | D11: =COUNTIFS(Détails!$B:$B,Détails!$B$14,Détails!$H:$H,Détails!$H$2,Détails!$D:$D,Détails!$D$137) -> 6 | E11: =COUNTIFS(Détails!$B:$B,Détails!$B$14,Détails!$H:$H,Détails!$H$19,Détails!$D:$D,Détails!$D$137) -> 1 | F11: =COUNTIFS(Détails!$B:$B,Détails!$B$16,Détails!$H:$H,Détails!$H$2,Détails!$D:$D,Détails!$D$137) -> 3 | G11: =COUNTIFS(Détails!$B:$B,Détails!$B$16,Détails!$H:$H,Détails!$H$19,Détails!$D:$D,Détails!$D$137) -> 1 | H11: =COUNTIFS(Détails!$B:$B,Détails!$B$9,Détails!$H:$H,Détails!$H$2,Détails!$D:$D,Détails!$D$137) -> 2 | I11: =COUNTIFS(Détails!$B:$B,Détails!$B$9,Détails!$H:$H,Détails!$H$19,Détails!$D:$D,Détails!$D$137) -> 1 | J11: =COUNTIFS(Détails!$B:$B,Détails!$B$4,Détails!$H:$H,Détails!$H$2,Détails!$D:$D,Détails!$D$137) -> 2 | K11: =COUNTIFS(Détails!$B:$B,Détails!$B$4,Détails!$H:$H,Détails!$H$19,Détails!$D:$D,Détails!$D$137) -> 0 | L11: =COUNTIFS(Détails!$B:$B,Détails!$B$10,Détails!$H:$H,Détails!$H$2,Détails!$D:$D,Détails!$D$137) -> 0 | M11: =COUNTIFS(Détails!$B:$B,Détails!$B$10,Détails!$H:$H,Détails!$H$19,Détails!$D:$D,Détails!$D$137) -> 0 | N11: =SUM(B11:M11) -> 22
A12: 41319 | B12: =COUNTIFS(Détails!$B:$B,Détails!$B$2,Détails!$H:$H,Détails!$H$2,Détails!$D:$D,Détails!$D$153) -> 2 | C12: =COUNTIFS(Détails!$B:$B,Détails!$B$2,Détails!$H:$H,Détails!$H$19,Détails!$D:$D,Détails!$D$153) -> 2 | D12: =COUNTIFS(Détails!$B:$B,Détails!$B$14,Détails!$H:$H,Détails!$H$2,Détails!$D:$D,Détails!$D$153) -> 5 | E12: =COUNTIFS(Détails!$B:$B,Détails!$B$14,Détails!$H:$H,Détails!$H$19,Détails!$D:$D,Détails!$D$153) -> 0 | F12: =COUNTIFS(Détails!$B:$B,Détails!$B$16,Détails!$H:$H,Détails!$H$2,Détails!$D:$D,Détails!$D$153) -> 1 | G12: =COUNTIFS(Détails!$B:$B,Détails!$B$16,Détails!$H:$H,Détails!$H$19,Détails!$D:$D,Détails!$D$153) -> 0 | H12: =COUNTIFS(Détails!$B:$B,Détails!$B$9,Détails!$H:$H,Détails!$H$2,Détails!$D:$D,Détails!$D$153) -> 3 | I12: =COUNTIFS(Détails!$B:$B,Détails!$B$9,Détails!$H:$H,Détails!$H$19,Détails!$D:$D,Détails!$D$153) -> 0 | J12: =COUNTIFS(Détails!$B:$B,Détails!$B$4,Détails!$H:$H,Détails!$H$2,Détails!$D:$D,Détails!$D$153) -> 2 | K12: =COUNTIFS(Détails!$B:$B,Détails!$B$4,Détails!$H:$H,Détails!$H$19,Détails!$D:$D,Détails!$D$153) -> 0 | L12: =COUNTIFS(Détails!$B:$B,Détails!$B$10,Détails!$H:$H,Détails!$H$2,Détails!$D:$D,Détails!$D$153) -> 1 | M12: =COUNTIFS(Détails!$B:$B,Détails!$B$10,Détails!$H:$H,Détails!$H$19,Détails!$D:$D,Détails!$D$153) -> 0 | N12: =SUM(B12:M12) -> 16
A13: TOTAL | B13: =SUM(B6:B12) -> 16 | C13: =SUM(C6:C12) -> 8 | D13: =SUM(D6:D12) -> 26 | E13: =SUM(E6:E12) -> 11 | F13: =SUM(F6:F12) -> 10 | G13: =SUM(G6:G12) -> 7 | H13: =SUM(H6:H12) -> 8 | I13: =SUM(I6:I12) -> 7 | ... M13: =SUM(M6:M12) -> 0 | N13: =SUM(B13:M13) -> 108

Sheet Détails
A1: Zone CO | B1: Zone | C1: Date & heure | D1: Date | E1: Jour | F1: Jour | G1: Heure | H1: Journée=1 pour ≥8h00 et <16h30 Astreinte=0 pour <8h00 et ≥16h30
A2: COM | B2: PARIS 1 | C2: 41311.438 | D2: =ROUNDDOWN(C2,0) -> 41311 | E2: =TEXT(D2,"jjjj") -> mercredi | F2: mercredi | G2: =C2-D2 -> 0.4375 | H2: =IF(AND(G2>=0.333333333333334,G2<0.6875,$F$2:$F$500<>$F$63,$F$2:$F$500<>$F$69),1,0) -> 1
A3: COM | B3: PARIS 1 | C3: 41311.549 | D3: =ROUNDDOWN(C3,0) -> 41311 | E3: =TEXT(D3,"jjjj") -> mercredi | F3: mercredi | G3: =C3-D3 -> 0.54861111 | H3: =IF(AND(G3>=0.333333333333334,G3<0.6875,$F$2:$F$500<>$F$63,$F$2:$F$500<>$F$69),1,0) -> 1
A4: COS | B4: MARSEILLE 1 | C4: 41311.354 | D4: =ROUNDDOWN(C4,0) -> 41311 | E4: =TEXT(D4,"jjjj") -> mercredi | F4: mercredi | G4: =C4-D4 -> 0.35416667 | H4: =IF(AND(G4>=0.333333333333334,G4<0.6875,$F$2:$F$500<>$F$63,$F$2:$F$500<>$F$69),1,0) -> 1
A5: COS | B5: MARSEILLE 1 | C5: 41311.368 | D5: =ROUNDDOWN(C5,0) -> 41311 | E5: =TEXT(D5,"jjjj") -> mercredi | F5: mercredi | G5: =C5-D5 -> 0.36805556 | H5: =IF(AND(G5>=0.333333333333334,G5<0.6875,$F$2:$F$500<>$F$63,$F$2:$F$500<>$F$69),1,0) -> 1
A6: COM | B6: PARIS 1 | C6: 41311.385 | D6: =ROUNDDOWN(C6,0) -> 41311 | E6: =TEXT(D6,"jjjj") -> mercredi | F6: mercredi | G6: =C6-D6 -> 0.38541667 | H6: =IF(AND(G6>=0.333333333333334,G6<0.6875,$F$2:$F$500<>$F$63,$F$2:$F$500<>$F$69),1,0) -> 1
A7: COS | B7: MARSEILLE 1 | C7: 41311.427 | D7: =ROUNDDOWN(C7,0) -> 41311 | E7: =TEXT(D7,"jjjj") -> mercredi | F7: mercredi | G7: =C7-D7 -> 0.42708333 | H7: =IF(AND(G7>=0.333333333333334,G7<0.6875,$F$2:$F$500<>$F$63,$F$2:$F$500<>$F$69),1,0) -> 1
A8: COM | B8: PARIS 1 | C8: 41311.438 | D8: =ROUNDDOWN(C8,0) -> 41311 | E8: =TEXT(D8,"jjjj") -> mercredi | F8: mercredi | G8: =C8-D8 -> 0.4375 | H8: =IF(AND(G8>=0.333333333333334,G8<0.6875,$F$2:$F$500<>$F$63,$F$2:$F$500<>$F$69),1,0) -> 1
A9: COO | B9: LYON 2 | C9: 41311.448 | D9: =ROUNDDOWN(C9,0) -> 41311 | E9: =TEXT(D9,"jjjj") -> mercredi | F9: mercredi | G9: =C9-D9 -> 0.44791667 | H9: =IF(AND(G9>=0.333333333333334,G9<0.6875,$F$2:$F$500<>$F$63,$F$2:$F$500<>$F$69),1,0) -> 1
A10: COS | B10: MARSEILLE 2 | C10: 41311.469 | D10: =ROUNDDOWN(C10,0) -> 41311 | E10: =TEXT(D10,"jjjj") -> mercredi | F10: mercredi | G10: =C10-D10 -> 0.46875 | H10: =IF(AND(G10>=0.333333333333334,G10<0.6875,$F$2:$F$500<>$F$63,$F$2:$F$500<>$F$69),1,0) -> 1
A11: COS | B11: MARSEILLE 2 | C11: 41311.479 | D11: =ROUNDDOWN(C11,0) -> 41311 | E11: =TEXT(D11,"jjjj") -> mercredi | F11: mercredi | G11: =C11-D11 -> 0.47916667 | H11: =IF(AND(G11>=0.333333333333334,G11<0.6875,$F$2:$F$500<>$F$63,$F$2:$F$500<>$F$69),1,0) -> 1
A12: COS | B12: MARSEILLE 2 | C12: 41311.5 | D12: =ROUNDDOWN(C12,0) -> 41311 | E12: =TEXT(D12,"jjjj") -> mercredi | F12: mercredi | G12: =C12-D12 -> 0.5 | H12: =IF(AND(G12>=0.333333333333334,G12<0.6875,$F$2:$F$500<>$F$63,$F$2:$F$500<>$F$69),1,0) -> 1
A13: COM | B13: PARIS 1 | C13: 41311.5 | D13: =ROUNDDOWN(C13,0) -> 41311 | E13: =TEXT(D13,"jjjj") -> mercredi | F13: mercredi | G13: =C13-D13 -> 0.5 | H13: =IF(AND(G13>=0.333333333333334,G13<0.6875,$F$2:$F$500<>$F$63,$F$2:$F$500<>$F$69),1,0) -> 1
... A153: COO | B153: LYON 2 | C153: 41319.656 | D153: =ROUNDDOWN(C153,0) -> 41319 | E153: =TEXT(D153,"jjjj") -> jeudi | F153: jeudi | G153: =C153-D153 -> 0.65625 | H153: =IF(AND(G153>=0.333333333333334,G153<0.6875,$F$2:$F$500<>$F$63,$F$2:$F$500<>$F$69),1,0) -> 1
D154: =ROUNDDOWN(C154,0) -> 0 | E154: =TEXT(D154,"jjjj") -> samedi | F154: samedi | G154: =C154-D154 -> 0 | H154: =IF(AND(G154>=0.333333333333334,G154<0.6875,$F$2:$F$500<>$F$63,$F$2:$F$500<>$F$69),1,0) -> 0
D155: =ROUNDDOWN(C155,0) -> 0 | E155: =TEXT(D155,"jjjj") -> samedi | F155: samedi | G155: =C155-D155 -> 0 | H155: =IF(AND(G155>=0.333333333333334,G155<0.6875,$F$2:$F$500<>$F$63,$F$2:$F$500<>$F$69),1,0) -> 0
D156: =ROUNDDOWN(C156,0) -> 0 | E156: =TEXT(D156,"jjjj") -> samedi | F156: samedi | G156: =C156-D156 -> 0 | H156: =IF(AND(G156>=0.333333333333334,G156<0.6875,$F$2:$F$500<>$F$63,$F$2:$F$500<>$F$69),1,0) -> 0
D157: =ROUNDDOWN(C157,0) -> 0 | E157: =TEXT(D157,"jjjj") -> samedi | F157: samedi | G157: =C157-D157 -> 0 | H157: =IF(AND(G157>=0.333333333333334,G157<0.6875,$F$2:$F$500<>$F$63,$F$2:$F$500<>$F$69),1,0) -> 0
D158: =ROUNDDOWN(C158,0) -> 0 | E158: =TEXT(D158,"jjjj") -> samedi | F158: samedi | G158: =C158-D158 -> 0 | H158: =IF(AND(G158>=0.333333333333334,G158<0.6875,$F$2:$F$500<>$F$63,$F$2:$F$500<>$F$69),1,0) -> 0
D159: =ROUNDDOWN(C159,0) -> 0 | E159: =TEXT(D159,"jjjj") -> samedi | F159: samedi | G159: =C159-D159 -> 0 | H159: =IF(AND(G159>=0.333333333333334,G159<0.6875,$F$2:$F$500<>$F$63,$F$2:$F$500<>$F$69),1,0) -> 0
D160: =ROUNDDOWN(C160,0) -> 0 | E160: =TEXT(D160,"jjjj") -> samedi | F160: samedi | G160: =C160-D160 -> 0 | H160: =IF(AND(G160>=0.333333333333334,G160<0.6875,$F$2:$F$500<>$F$63,$F$2:$F$500<>$F$69),1,0) -> 0
D161: =ROUNDDOWN(C161,0) -> 0 | E161: =TEXT(D161,"jjjj") -> samedi | F161: samedi | G161: =C161-D161 -> 0 | H161: =IF(AND(G161>=0.333333333333334,G161<0.6875,$F$2:$F$500<>$F$63,$F$2:$F$500<>$F$69),1,0) -> 0
D162: =ROUNDDOWN(C162,0) -> 0 | E162: =TEXT(D162,"jjjj") -> samedi | F162: samedi | G162: =C162-D162 -> 0 | H162: =IF(AND(G162>=0.333333333333334,G162<0.6875,$F$2:$F$500<>$F$63,$F$2:$F$500<>$F$69),1,0) -> 0
D163: =ROUNDDOWN(C163,0) -> 0 | E163: =TEXT(D163,"jjjj") -> samedi | F163: samedi | G163: =C163-D163 -> 0 | H163: =IF(AND(G163>=0.333333333333334,G163<0.6875,$F$2:$F$500<>$F$63,$F$2:$F$500<>$F$69),1,0) -> 0
D164: =ROUNDDOWN(C164,0) -> 0 | E164: =TEXT(D164,"jjjj") -> samedi | F164: samedi | G164: =C164-D164 -> 0 | H164: =IF(AND(G164>=0.333333333333334,G164<0.6875,$F$2:$F$500<>$F$63,$F$2:$F$500<>$F$69),1,0) -> 0
D165: =ROUNDDOWN(C165,0) -> 0 | E165: =TEXT(D165,"jjjj") -> samedi | F165: samedi | G165: =C165-D165 -> 0 | H165: =IF(AND(G165>=0.333333333333334,G165<0.6875,$F$2:$F$500<>$F$63,$F$2:$F$500<>$F$69),1,0) -> 0
... D500: =ROUNDDOWN(C500,0) -> 0 | E500: =TEXT(D500,"jjjj") -> samedi | F500: samedi | G500: =C500-D500 -> 0 | H500: =IF(AND(G500>=0.333333333333334,G500<0.6875,$F$2:$F$500<>$F$63,$F$2:$F$500<>$F$69),1,0) -> 0
C501: =SUBTOTAL(3,C2:C500) -> 152
