Workbook

Sheet Import
A1: 41183.376 | B1: 41183.647 | C1: Moyenne | D1: Incident > Habilit. / Droits / Authentif.
A2: 41183.377 | B2: 41190.379 | C2: Moyenne | D2: Incident > Appli. Bureautique > Word
A3: 41183.378 | B3: 41183.422 | C3: Haute | D3: Incident > Matériel > Autre
A4: 41183.422 | B4: 41183.649 | C4: Moyenne | D4: Incident > Lien réseau
A5: 41183.436 | B5: 41183.651 | C5: Moyenne | D5: Service > Droits & habilitations > Création
A6: 41183.549 | B6: 41183.651 | C6: Moyenne | D6: Service > Installation & Maj. Logiciel > Cnam / Pmf
A7: 41183.632 | B7: 41184.497 | C7: Moyenne | D7: Incident > Messagerie
A8: 41183.637 | B8: 41183.678 | C8: Moyenne | D8: Incident > Système > Windows
A9: 41184.333 | B9: 41184.488 | C9: Très basse | D9: Service > Réservation Visioconférence
A10: 41184.334 | B10: 41184.488 | C10: Moyenne | D10: Service > Configuration Poste de Travail
A11: 41184.335 | B11: 41184.49 | C11: Très basse | D11: Service > Réservation Visioconférence
A12: 41184.34 | B12: 41184.49 | C12: Très basse | D12: Service > Droits & habilitations > Modification
... A309: 41205.392 | B309: 41205.394 | C309: Très basse | D309: Service > Droits & habilitations > Modification
A310: 41185.395 | C310: Moyenne | D310: Incident > Impression
A311: 41205.398 | B311: 41205.399 | C311: Moyenne | D311: Service > Réservation Visioconférence
A312: 41205.407 | B312: 41205.41 | C312: Très basse | D312: Service > Droits & habilitations > Modification
A313: 41205.43 | B313: 41205.433 | C313: Moyenne | D313: Incident > Appli. Métier > Sirepa
A314: 41205.438 | B314: 41205.44 | C314: Moyenne | D314: Incident > Appli. Métier
A315: 41205.483 | B315: 41205.485 | C315: Moyenne | D315: Incident > Appli. Métier > Sirepa
A316: 41205.508 | B316: 41207.46 | C316: Moyenne | D316: Incident > Matériel > Autre
A317: 41205.515 | B317: 41205.59 | C317: Très basse | D317: Service > Droits & habilitations > Modification
A318: 41205.585 | B318: 41205.588 | C318: Moyenne | D318: Incident > Matériel > Imprimante
A319: 41205.594 | B319: 41205.608 | C319: Très basse | D319: Service > Droits & habilitations > Création
A320: 41185.608 | C320: Très basse | D320: Service > Droits & habilitations > Modification
A321: 41205.609 | B321: 41205.673 | C321: Moyenne | D321: Service > Configuration Poste de Travail
A322: 41205.614 | B322: 41208.495 | C322: Très basse | D322: Service > Droits & habilitations > Modification
A323: 41206.382 | B323: 41206.404 | C323: Moyenne | D323: Incident > Appli. Métier > Ligne 1000
A324: 41206.397 | B324: 41206.407 | C324: Moyenne | D324: Service > Assist. Utilisateur
A325: 41206.406 | B325: 41206.709 | C325: Très basse | D325: Service > Droits & habilitations > Modification
A326: 41206.445 | B326: 41206.447 | C326: Moyenne | D326: Incident > Messagerie
A327: 41206.576 | B327: 41206.594 | C327: Moyenne | D327: Incident > Messagerie
A328: 41206.588 | B328: 41206.59 | C328: Moyenne | D328: Incident > Appli. Métier > Civitas
A329: 41206.637 | B329: 41208.495 | C329: Très basse | D329: Service > Réservation Visioconférence
A330: 41206.68 | B330: 41206.681 | C330: Très basse | D330: Service > Droits & habilitations > Modification
A331: 41206.709 | B331: 41206.74 | C331: Moyenne | D331: Service > Assist. Utilisateur
A332: 41206.74 | B332: 41206.743 | C332: Très basse | D332: Service > Réservation Visioconférence
... A358: 41208.477 | B358: 41208.479 | C358: Moyenne | D358: Service > Installation & Maj. Logiciel > Autre
A359: 41188.655 | C359: Moyenne | D359: Incident > Appli. Métier > Erasme
A360: 41208.656 | B360: 41208.657 | C360: Moyenne | D360: Incident > Appli. Métier > Sirepa
A361: 41211.371 | B361: 41211.381 | C361: Moyenne | D361: Service > Configuration Poste de Travail
...

Sheet Sla
B3: Année : | C3: =Import!A1 -> 41183.376
B4: Mois : | C4: =Import!A1 -> 41183.376
D7: Délai de résolution
B8: Nb total de dossiers 225 | C8: =CalculSLA!C2 -> 241 | D8: <= à 10:00:00 | E8: <= à 20:00:00 | F8: <= à 50:00:00 | G8: >à 50:00:00
B9: Critique | C9: =CalculSLA!D2 -> 0
D10: =CalculSLA!D4 -> 0 | E10: =CalculSLA!D5 -> 0
B14: Urgent | C14: =CalculSLA!E2 -> 1
E15: =CalculSLA!E4 -> 1
E16: =CalculSLA!E8 -> 1
E17: 0.15416667
B19: Non urgent | C19: =CalculSLA!F2 -> 100
F20: =CalculSLA!F4 -> 98 | G20: =CalculSLA!F5 -> 2
F21: =CalculSLA!F8 -> 0.98 | G21: =CalculSLA!F9 -> 0.02
F22: =CalculSLA!F13 -> 0 | G22: =CalculSLA!F14 -> 0
B24: Planifié | C24: =CalculSLA!G2 -> 140
D25: =CalculSLA!H3 -> 134 | E25: =CalculSLA!H4 -> 4 | F25: =CalculSLA!H5 -> 1 | G25: =CalculSLA!H6 -> 1
D26: =CalculSLA!H8 -> 0.95714286 | E26: =CalculSLA!H9 -> 0.028571429 | F26: =CalculSLA!H10 -> 0.0071428571 | G26: =CalculSLA!H11 -> 0.0071428571
D27: 0.059027778 | E27: 0.67013889 | F27: 1.4097222 | G27: 4.8472222
B30: Dans une cellule, de haut en bas, sont indiqués : Le nombre d'incidents, le pourcentage de résolution, le délai moyen. Niveau SLA requis >= 95 % dans la fourchette définie en BLEU. Si SLA < 95 % affichage en ROUGE.
B37: Année : 2012
B38: Mois : 12
D41: Délai de résolution
B42: Nb total de dossiers 225 | C42: 268 | D42: <= à 10:00:00 | E42: <= à 20:00:00 | F42: <= à 50:00:00 | G42: >à 50:00:00
B43: Critique | C43: 1 | D43: 1 100,00 % 00:23:00
B44: Urgent | C44: 0
B45: Non urgent | C45: 132 | F45: 119 100,00 % 3:41:00
B46: Planifié | C46: 135 | D46: 96 92,31 % 1:25:00 | E46: 1 00,96 % 16:05:00 | F46: 2 1,92% 33:50:00 | G46: 5 04,81 % 116:20:00
B48: Dans une cellule, de haut en bas, sont indiqués : Le nombre d'incidents, le pourcentage de résolution, le délai moyen. Niveau SLA requis >= 95 % dans la fourchette définie en BLEU. Si SLA < 95 % affichage en ROUGE.
B55: Année : 2013
B56: Mois : 01
D59: Délai de résolution
B60: Nb total de dossiers 225 | D60: <= à 10:00:00 | E60: <= à 20:00:00 | F60: <= à 50:00:00 | G60: >à 50:00:00
B61: Critique | C61: 0 | D61: 1 100,00 % 00:23:00
B62: Urgent | C62: 0
B63: Non urgent | C63: 0 | F63: 119 100,00 % 3:41:00
B64: Planifié | C64: 0 | D64: 96 92,31 % 1:25:00 | E64: 1 00,96 % 16:05:00 | F64: 2 1,92% 33:50:00 | G64: 5 04,81 % 116:20:00
B66: Dans une cellule, de haut en bas, sont indiqués : Le nombre d'incidents, le pourcentage de résolution, le délai moyen. Niveau SLA requis >= 95 % dans la fourchette définie en BLEU. Si SLA < 95 % affichage en ROUGE.

Sheet Nbre requêtes par classificat°
A3: Requête Incidents
A4: Incidents | B4: =Import!A1 -> 41183.376
A6: Classification dossiers | B6: Nombre | C6: Pourcentage
A7: Appli. Bureautique | B7: =COUNTIF(Import!D1:D500,"*Incident > Appli. Bureautique*") -> 5 | C7: =B7/B25 -> 0.03875969
A8: Appli. Métier | B8: =COUNTIF(Import!D1:D500,"*Incident > Appli. Métier*") -> 29 | C8: =B8/B25 -> 0.2248062
A9: Appli. Technique | B9: =COUNTIF(Import!D1:D500,"*Incident > Appli. Technique*") -> 9 | C9: =B9/B25 -> 0.069767442
A10: Appli. Diverse | B10: =COUNTIF(Import!D1:D500,"*Incident > Appli. Diverse*") -> 3 | C10: =B10/B25 -> 0.023255814
A11: Système Citrix | B11: =COUNTIF(Import!D1:D500,"*Incident > Système > Citrix*") -> 8 | C11: =B11/B25 -> 0.062015504
A12: Système Access Master | B12: =COUNTIF(Import!D1:D500,"*Incident > Système > Acces Master*") -> 1 | C12: =B12/B25 -> 0.007751938
A13: Système Windows | B13: =COUNTIF(Import!D1:D500,"*Incident > Système > Windows*") -> 1 | C13: =B13/B25 -> 0.007751938
A14: Erreur Utilisateur | B14: =COUNTIF(Import!D1:D500,"*Incident > Erreur Utilisateur*") -> 5 | C14: =B14/B25 -> 0.03875969
A15: Habilit. / Droits / Authentif. | B15: =COUNTIF(Import!D1:D500,"*Incident > Habilit. / Droits / Authentif. *") -> 17 | C15: =B15/B25 -> 0.13178295
A16: Impression | B16: =COUNTIF(Import!D1:D500,"*Incident > Impression*") -> 10 | C16: =B16/B25 -> 0.07751938
A17: Lien réseau | B17: =COUNTIF(Import!D1:D500,"*Incident > Lien réseau*") -> 3 | C17: =B17/B25 -> 0.023255814
A18: Matériel : Imprimante | B18: =COUNTIF(Import!D1:D500,"*Incident > Matériel > Imprimante*") -> 7 | C18: =B18/B25 -> 0.054263566
A19: Matériel : Poste de travail | B19: =COUNTIF(Import!D1:D500,"*Incident > Matériel > Poste de travail*") -> 1 | C19: =B19/B25 -> 0.007751938
A20: Matériel : Fax | B20: =COUNTIF(Import!D1:D500,"*Incident > Matériel > Fax*") -> 0 | C20: =B20/B25 -> 0
A21: Matériel : Serveur | B21: =COUNTIF(Import!D1:D500,"*Incident > Matériel > Serveur*") -> 0 | C21: =B21/B25 -> 0
A22: Messagerie | B22: =COUNTIF(Import!D1:D500,"*Incident > Messagerie*") -> 25 | C22: =B22/B25 -> 0.19379845
A23: Matériel : Réseau | B23: =COUNTIF(Import!D1:D500,"*Incident > Matériel > Réseau*") -> 2 | C23: =B23/B25 -> 0.015503876
A24: Matériel : Autre | B24: =COUNTIF(Import!D1:D500,"*Incident > Matériel > Autre*") -> 3 | C24: =B24/B25 -> 0.023255814
A25: Total | B25: =SUM(B7:B24) -> 129
A28: Requête Incidents Métier
A29: Incidents / Métier | B29: =Import!A1 -> 41183.376
A31: Classification dossiers | B31: Nombre | C31: Pourcentage
A32: Alcor | B32: =COUNTIF(Import!D1:D500,"*Incident > Appli. Métier > Alcor*") -> 1 | C32: =B32/B68 -> 0.035714286
A33: Amaril | B33: =COUNTIF(Import!D1:D500,"*Incident > Appli. Métier > Amaril*") -> 2 | C33: =B33/B68 -> 0.071428571
A34: Astérie | B34: =COUNTIF(Import!D1:D500,"*Incident > Appli. Métier > Astérie*") -> 0 | C34: =B34/B68 -> 0
A35: Bdca | B35: =COUNTIF(Import!D1:D500,"*Incident > Appli. Métier > Bdca*") -> 0 | C35: =B35/B68 -> 0
A36: Civitas | B36: =COUNTIF(Import!D1:D500,"*Incident > Appli. Métier > Civitas*") -> 3 | C36: =B36/B68 -> 0.10714286
A37: Contiol-D | B37: =COUNTIF(Import!D1:D500,"*Incident > Appli. Métier > Control-D*") -> 0 | C37: =B37/B68 -> 0
A38: Eopps | B38: =COUNTIF(Import!D1:D500,"*Incident > Appli. Métier > Eopps*") -> 0 | C38: =B38/B68 -> 0
A39: Equatis | B39: =COUNTIF(Import!D1:D500,"*Incident > Appli. Métier > Equatis*") -> 0 | C39: =B39/B68 -> 0
A40: Erasme | B40: =COUNTIF(Import!D1:D500,"*Incident > Appli. Métier > Erasme*") -> 2 | C40: =B40/B68 -> 0.071428571
A41: Fnps | B41: =COUNTIF(Import!D1:D500,"*Incident > Appli. Métier > Fnps*") -> 0 | C41: =B41/B68 -> 0
A42: Ged | B42: =COUNTIF(Import!D1:D500,"*Incident > Appli. Métier > Ged*") -> 0 | C42: =B42/B68 -> 0
A43: Hippocrate | B43: =COUNTIF(Import!D1:D500,"*Incident > Appli. Métier > Hippocrate*") -> 1 | C43: =B43/B68 -> 0.035714286
A44: If | B44: =COUNTIF(Import!D1:D500,"*Incident > Appli. Métier > If*") -> 0 | C44: =B44/B68 -> 0
A45: Image | B45: =COUNTIF(Import!D1:D500,"*Incident > Appli. Métier > Image*") -> 1 | C45: =B45/B68 -> 0.035714286
A46: ImmosNet | B46: =COUNTIF(Import!D1:D500,"*Incident > Appli. Métier > ImmosNet*") -> 1 | C46: =B46/B68 -> 0.035714286
...

Sheet CalculSLA
C1: Nbre Dossiers | D1: Très Haute | E1: Haute | F1: Moyenne | G1: Très Basse
C2: =COUNTIF(C21:C520,"**") -> 241 | D2: =COUNTIF(C21:C520,"*s haute*") -> 0 | E2: =COUNTIF(C21:C520,"haute") -> 1 | F2: =COUNTIF(C21:C520,"*moyenne*") -> 100 | G2: =COUNTIF(C21:C520,"*basse*") -> 140
D3: < ou = à 10H | E3: < ou = à 20H | F3: < ou = à 50H | G3: <10H | H3: =COUNTIFS($C$21:$C$520,G1,$F$21:$F$520,"<=" & 10/24) -> 134 | M3: Total | N3: =SUBTOTAL(9,G21:G520) -> 30.288889
C4: Nbre en Delai | D4: =COUNTIFS($C$21:$C$520,D1,$F$21:$F$520,"<=" & 10/24) -> 0 | E4: =COUNTIFS($C$21:$C$520,E1,$F$21:$F$520,"<=" & 20/24) -> 1 | F4: =COUNTIFS($C$21:$C$520,F1,$F$21:$F$520,"<=" & 50/24) -> 98 | G4: <20H | H4: =COUNTIFS($C$21:$C$520,G1,$F$21:$F$520,"<=" & 20/24)-COUNTIFS($C$21:$C$520,G1,$F$21:$F$520,"<=" & 10/24) -> 4
C5: Nbre hors Délai | D5: =COUNTIFS($C$21:$C$520,D1,$F$21:$F$520,">" & 10/24) -> 0 | E5: =COUNTIFS($C$21:$C$520,E1,$F$21:$F$520,">" & 20/24) -> 0 | F5: =COUNTIFS($C$21:$C$520,F1,$F$21:$F$520,">" & 50/24) -> 2 | G5: <50H | H5: =COUNTIFS($C$21:$C$520,G1,$F$21:$F$520,"<=" & 50/24)-COUNTIFS($C$21:$C$520,G1,$F$21:$F$520,"<=" & 20/24) -> 1 | M5: En heure | N5: =N3 -> 30.288889
G6: >50H | H6: =COUNTIFS($C$21:$C$520,G1,$F$21:$F$520,">" & 50/24) -> 1
K7: Temp moyen par dossier | N7: =N5/I522 -> 0.060577778
C8: % en Delai | D8: =IF(OR(D4="",D4=0),"",D4/D2) | E8: =IF(OR(E4="",E4=0),"",E4/E2) -> 1 | F8: =IF(OR(F4="",F4=0),"",F4/F2) -> 0.98 | G8: <10H | H8: =IF(OR(G2="",G2=0),"",H3/G2) -> 0.95714286
C9: % hors Délai | D9: =IF(OR(D5="",D5=0),"",D5/D2) | E9: =IF(OR(E5="",E5=0),"",E5/E2) | F9: =IF(OR(F5="",F5=0),"",F5/F2) -> 0.02 | G9: <20H | H9: =IF(OR(G2="",G2=0),"",H4/G2) -> 0.028571429
G10: <50H | H10: =IF(OR(G2="",G2=0),"",H5/G2) -> 0.0071428571
G11: >50H | H11: =IF(OR(G2="",G2=0),"",H6/G2) -> 0.0071428571
C13: Délai moyen | G13: <10H | L13: Je cherche a avoir le temps moyen du nombre de dossier "moyenne" en delai, c’est-à-dire, inferieur ou égal à 50 heures par rapport au tableau ci-dessous.
C14: Hors Délai moyen | G14: <20H
G15: <50H
G16: >50H
B20: N° | C20: Priorite | D20: Date Début | E20: Date Fin | F20: DureeH | G20: DureeJ | I20: I
B21: 1 | C21: Très basse | D21: 41215.349 | E21: 41215.351 | F21: =E21-D21 -> 0.0020833333 | G21: =F21 -> 0.0020833333 | I21: 1
B22: 2 | C22: Très basse | D22: 41215.351 | E22: 41215.356 | F22: =E22-D22 -> 0.0055555556 | G22: =F22 -> 0.0055555556 | I22: 1
B23: 3 | C23: Très basse | D23: 41215.357 | E23: 41215.361 | F23: =E23-D23 -> 0.0041666667 | G23: =F23 -> 0.0041666667 | I23: 1
B24: 4 | C24: Moyenne | D24: 41215.414 | E24: 41215.431 | F24: =E24-D24 -> 0.017361111 | G24: =F24 -> 0.017361111 | I24: 1
B25: 5 | C25: Très basse | D25: 41215.442 | E25: 41215.46 | F25: =E25-D25 -> 0.018055556 | G25: =F25 -> 0.018055556 | I25: 1
B26: 6 | C26: Très basse | D26: 41215.478 | E26: 41215.483 | F26: =E26-D26 -> 0.0048611111 | G26: =F26 -> 0.0048611111 | I26: 1
B27: 7 | C27: Moyenne | D27: 41215.599 | E27: 41215.605 | F27: =E27-D27 -> 0.00625 | G27: =F27 -> 0.00625 | I27: 1
B28: 8 | C28: Moyenne | D28: 41218.34 | E28: 41218.366 | F28: =E28-D28 -> 0.025694444 | G28: =F28 -> 0.025694444 | I28: 1
B29: 9 | C29: Très basse | D29: 41218.341 | E29: 41218.367 | F29: =E29-D29 -> 0.025694444 | G29: =F29 -> 0.025694444 | I29: 1
B30: 10 | C30: Très basse | D30: 41218.342 | E30: 41218.367 | F30: =E30-D30 -> 0.025 | G30: =F30 -> 0.025 | I30: 1
B31: 11 | C31: Très basse | D31: 41218.342 | E31: 41218.367 | F31: =E31-D31 -> 0.024305556 | G31: =F31 -> 0.024305556 | I31: 1
B32: 12 | C32: Moyenne | D32: 41218.345 | E32: 41218.367 | F32: =E32-D32 -> 0.022222222 | G32: =F32 -> 0.022222222 | I32: 1
... B261: 241 | C261: Très basse | D261: 41243.699 | E261: 41243.704 | F261: =E261-D261 -> 0.0048611111 | G261: =F261 -> 0.0048611111 | I261: 1
B262: 242 | F262: =E262-D262 -> 0 | G262: =F262 -> 0 | I262: 1
B263: 243 | F263: =E263-D263 -> 0 | G263: =F263 -> 0 | I263: 1
B264: 244 | F264: =E264-D264 -> 0 | G264: =F264 -> 0 | I264: 1
B265: 245 | F265: =E265-D265 -> 0 | G265: =F265 -> 0 | I265: 1
B266: 246 | F266: =E266-D266 -> 0 | G266: =F266 -> 0 | I266: 1
B267: 247 | F267: =E267-D267 -> 0 | G267: =F267 -> 0 | I267: 1
B268: 248 | F268: =E268-D268 -> 0 | G268: =F268 -> 0 | I268: 1
B269: 249 | F269: =E269-D269 -> 0 | G269: =F269 -> 0 | I269: 1
B270: 250 | F270: =E270-D270 -> 0 | G270: =F270 -> 0 | I270: 1
B271: 251 | F271: =E271-D271 -> 0 | G271: =F271 -> 0 | I271: 1
B272: 252 | F272: =E272-D272 -> 0 | G272: =F272 -> 0 | I272: 1
...

Sheet Feuil3
