Workbook
Name ANNEE: #REF!
Name Chantier: #REF!
Name MOIS: #REF!
Name N°: #REF!

Sheet 1-03-2014

Sheet 2-03-2014
C3: ='1-03-2014'!C3 -> 0 | D3: ='1-03-2014'!D3 -> 0 | E3: ='1-03-2014'!E3 -> 0 | F3: ='1-03-2014'!F3 -> 0 | G3: ='1-03-2014'!G3 -> 0 | H3: ='1-03-2014'!H3 -> 0 | I3: ='1-03-2014'!I3 -> 0 | J3: ='1-03-2014'!J3 -> 0 | K3: ='1-03-2014'!K3 -> 0
C4: ='1-03-2014'!C4 -> 0 | D4: ='1-03-2014'!D4 -> 0 | E4: ='1-03-2014'!E4 -> 0 | F4: ='1-03-2014'!F4 -> 0 | G4: ='1-03-2014'!G4 -> 0 | H4: ='1-03-2014'!H4 -> 0 | I4: ='1-03-2014'!I4 -> 0 | J4: ='1-03-2014'!J4 -> 0 | K4: ='1-03-2014'!K4 -> 0
C5: ='1-03-2014'!C5 -> 0 | D5: ='1-03-2014'!D5 -> 0 | E5: ='1-03-2014'!E5 -> 0 | F5: ='1-03-2014'!F5 -> 0 | G5: ='1-03-2014'!G5 -> 0 | H5: ='1-03-2014'!H5 -> 0 | I5: ='1-03-2014'!I5 -> 0 | J5: ='1-03-2014'!J5 -> 0 | K5: ='1-03-2014'!K5 -> 0
A6: ='1-03-2014'!A6 -> 0 | B6: ='1-03-2014'!B6 -> 0
A7: ='1-03-2014'!A7 -> 0 | B7: ='1-03-2014'!B7 -> 0
A8: ='1-03-2014'!A8 -> 0 | B8: ='1-03-2014'!B8 -> 0
A9: ='1-03-2014'!A9 -> 0 | B9: ='1-03-2014'!B9 -> 0
A10: ='1-03-2014'!A10 -> 0 | B10: ='1-03-2014'!B10 -> 0
A11: ='1-03-2014'!A11 -> 0 | B11: ='1-03-2014'!B11 -> 0
A12: ='1-03-2014'!A12 -> 0 | B12: ='1-03-2014'!B12 -> 0
A13: ='1-03-2014'!A13 -> 0 | B13: ='1-03-2014'!B13 -> 0
A14: ='1-03-2014'!A14 -> 0 | B14: ='1-03-2014'!B14 -> 0
A15: ='1-03-2014'!A15 -> 0 | B15: ='1-03-2014'!B15 -> 0
A16: ='1-03-2014'!A16 -> 0 | B16: ='1-03-2014'!B16 -> 0
A17: ='1-03-2014'!A17 -> 0 | B17: ='1-03-2014'!B17 -> 0
... A34: ='1-03-2014'!A34 -> 0 | B34: ='1-03-2014'!B34 -> 0
C37: ='1-03-2014'!C37 -> 0 | D37: ='1-03-2014'!D37 -> 0 | E37: ='1-03-2014'!E37 -> 0 | F37: ='1-03-2014'!F37 -> 0 | G37: ='1-03-2014'!G37 -> 0 | H37: ='1-03-2014'!H37 -> 0 | I37: ='1-03-2014'!I37 -> 0 | J37: ='1-03-2014'!J37 -> 0 | K37: ='1-03-2014'!K37 -> 0
C38: ='1-03-2014'!C38 -> 0 | D38: ='1-03-2014'!D38 -> 0 | E38: ='1-03-2014'!E38 -> 0 | F38: ='1-03-2014'!F38 -> 0 | G38: ='1-03-2014'!G38 -> 0 | H38: ='1-03-2014'!H38 -> 0 | I38: ='1-03-2014'!I38 -> 0 | J38: ='1-03-2014'!J38 -> 0 | K38: ='1-03-2014'!K38 -> 0
C39: ='1-03-2014'!C39 -> 0 | D39: ='1-03-2014'!D39 -> 0 | E39: ='1-03-2014'!E39 -> 0 | F39: ='1-03-2014'!F39 -> 0 | G39: ='1-03-2014'!G39 -> 0 | H39: ='1-03-2014'!H39 -> 0 | I39: ='1-03-2014'!I39 -> 0 | J39: ='1-03-2014'!J39 -> 0 | K39: ='1-03-2014'!K39 -> 0
A40: ='1-03-2014'!A40 -> 0 | B40: ='1-03-2014'!B40 -> 0
A41: ='1-03-2014'!A41 -> 0 | B41: ='1-03-2014'!B41 -> 0
A42: ='1-03-2014'!A42 -> 0 | B42: ='1-03-2014'!B42 -> 0
A43: ='1-03-2014'!A43 -> 0 | B43: ='1-03-2014'!B43 -> 0
A44: ='1-03-2014'!A44 -> 0 | B44: ='1-03-2014'!B44 -> 0
A45: ='1-03-2014'!A45 -> 0 | B45: ='1-03-2014'!B45 -> 0
A46: ='1-03-2014'!A46 -> 0 | B46: ='1-03-2014'!B46 -> 0
A47: ='1-03-2014'!A47 -> 0 | B47: ='1-03-2014'!B47 -> 0
A48: ='1-03-2014'!A48 -> 0 | B48: ='1-03-2014'!B48 -> 0
A49: ='1-03-2014'!A49 -> 0 | B49: ='1-03-2014'!B49 -> 0
A50: ='1-03-2014'!A50 -> 0 | B50: ='1-03-2014'!B50 -> 0
A51: ='1-03-2014'!A51 -> 0 | B51: ='1-03-2014'!B51 -> 0
... A68: ='1-03-2014'!A68 -> 0 | B68: ='1-03-2014'!B68 -> 0
C71: ='1-03-2014'!C71 -> 0 | D71: ='1-03-2014'!D71 -> 0 | E71: ='1-03-2014'!E71 -> 0 | F71: ='1-03-2014'!F71 -> 0 | G71: ='1-03-2014'!G71 -> 0 | H71: ='1-03-2014'!H71 -> 0 | I71: ='1-03-2014'!I71 -> 0 | J71: ='1-03-2014'!J71 -> 0 | K71: ='1-03-2014'!K71 -> 0
C72: ='1-03-2014'!C72 -> 0 | D72: ='1-03-2014'!D72 -> 0 | E72: ='1-03-2014'!E72 -> 0 | F72: ='1-03-2014'!F72 -> 0 | G72: ='1-03-2014'!G72 -> 0 | H72: ='1-03-2014'!H72 -> 0 | I72: ='1-03-2014'!I72 -> 0 | J72: ='1-03-2014'!J72 -> 0 | K72: ='1-03-2014'!K72 -> 0
C73: ='1-03-2014'!C73 -> 0 | D73: ='1-03-2014'!D73 -> 0 | E73: ='1-03-2014'!E73 -> 0 | F73: ='1-03-2014'!F73 -> 0 | G73: ='1-03-2014'!G73 -> 0 | H73: ='1-03-2014'!H73 -> 0 | I73: ='1-03-2014'!I73 -> 0 | J73: ='1-03-2014'!J73 -> 0 | K73: ='1-03-2014'!K73 -> 0
A74: ='1-03-2014'!A74 -> 0 | B74: ='1-03-2014'!B74 -> 0
A75: ='1-03-2014'!A75 -> 0 | B75: ='1-03-2014'!B75 -> 0
A76: ='1-03-2014'!A76 -> 0 | B76: ='1-03-2014'!B76 -> 0
A77: ='1-03-2014'!A77 -> 0 | B77: ='1-03-2014'!B77 -> 0
A78: ='1-03-2014'!A78 -> 0 | B78: ='1-03-2014'!B78 -> 0
A79: ='1-03-2014'!A79 -> 0 | B79: ='1-03-2014'!B79 -> 0
A80: ='1-03-2014'!A80 -> 0 | B80: ='1-03-2014'!B80 -> 0
A81: ='1-03-2014'!A81 -> 0 | B81: ='1-03-2014'!B81 -> 0
A82: ='1-03-2014'!A82 -> 0 | B82: ='1-03-2014'!B82 -> 0
A83: ='1-03-2014'!A83 -> 0 | B83: ='1-03-2014'!B83 -> 0
A84: ='1-03-2014'!A84 -> 0 | B84: ='1-03-2014'!B84 -> 0
A85: ='1-03-2014'!A85 -> 0 | B85: ='1-03-2014'!B85 -> 0
... A102: ='1-03-2014'!A102 -> 0 | B102: ='1-03-2014'!B102 -> 0
C105: ='1-03-2014'!C105 -> 0 | D105: ='1-03-2014'!D105 -> 0 | E105: ='1-03-2014'!E105 -> 0 | F105: ='1-03-2014'!F105 -> 0 | G105: ='1-03-2014'!G105 -> 0 | H105: ='1-03-2014'!H105 -> 0 | I105: ='1-03-2014'!I105 -> 0 | J105: ='1-03-2014'!J105 -> 0 | K105: ='1-03-2014'!K105 -> 0
C106: ='1-03-2014'!C106 -> 0 | D106: ='1-03-2014'!D106 -> 0 | E106: ='1-03-2014'!E106 -> 0 | F106: ='1-03-2014'!F106 -> 0 | G106: ='1-03-2014'!G106 -> 0 | H106: ='1-03-2014'!H106 -> 0 | I106: ='1-03-2014'!I106 -> 0 | J106: ='1-03-2014'!J106 -> 0 | K106: ='1-03-2014'!K106 -> 0
C107: ='1-03-2014'!C107 -> 0 | D107: ='1-03-2014'!D107 -> 0 | E107: ='1-03-2014'!E107 -> 0 | F107: ='1-03-2014'!F107 -> 0 | G107: ='1-03-2014'!G107 -> 0 | H107: ='1-03-2014'!H107 -> 0 | I107: ='1-03-2014'!I107 -> 0 | J107: ='1-03-2014'!J107 -> 0 | K107: ='1-03-2014'!K107 -> 0
A108: ='1-03-2014'!A108 -> 0 | B108: ='1-03-2014'!B108 -> 0
A109: ='1-03-2014'!A109 -> 0 | B109: ='1-03-2014'!B109 -> 0
A110: ='1-03-2014'!A110 -> 0 | B110: ='1-03-2014'!B110 -> 0
A111: ='1-03-2014'!A111 -> 0 | B111: ='1-03-2014'!B111 -> 0
A112: ='1-03-2014'!A112 -> 0 | B112: ='1-03-2014'!B112 -> 0
A113: ='1-03-2014'!A113 -> 0 | B113: ='1-03-2014'!B113 -> 0
A114: ='1-03-2014'!A114 -> 0 | B114: ='1-03-2014'!B114 -> 0
A115: ='1-03-2014'!A115 -> 0 | B115: ='1-03-2014'!B115 -> 0
A116: ='1-03-2014'!A116 -> 0 | B116: ='1-03-2014'!B116 -> 0
A117: ='1-03-2014'!A117 -> 0 | B117: ='1-03-2014'!B117 -> 0
A118: ='1-03-2014'!A118 -> 0 | B118: ='1-03-2014'!B118 -> 0
A119: ='1-03-2014'!A119 -> 0 | B119: ='1-03-2014'!B119 -> 0
... A136: ='1-03-2014'!A136 -> 0 | B136: ='1-03-2014'!B136 -> 0

Sheet 3-03-2014
C3: ='2-03-2014'!C3 -> 0 | D3: ='2-03-2014'!D3 -> 0 | E3: ='2-03-2014'!E3 -> 0 | F3: ='2-03-2014'!F3 -> 0 | G3: ='2-03-2014'!G3 -> 0 | H3: ='2-03-2014'!H3 -> 0 | I3: ='2-03-2014'!I3 -> 0 | J3: ='2-03-2014'!J3 -> 0 | K3: ='2-03-2014'!K3 -> 0
C4: ='2-03-2014'!C4 -> 0 | D4: ='2-03-2014'!D4 -> 0 | E4: ='2-03-2014'!E4 -> 0 | F4: ='2-03-2014'!F4 -> 0 | G4: ='2-03-2014'!G4 -> 0 | H4: ='2-03-2014'!H4 -> 0 | I4: ='2-03-2014'!I4 -> 0 | J4: ='2-03-2014'!J4 -> 0 | K4: ='2-03-2014'!K4 -> 0
C5: ='2-03-2014'!C5 -> 0 | D5: ='2-03-2014'!D5 -> 0 | E5: ='2-03-2014'!E5 -> 0 | F5: ='2-03-2014'!F5 -> 0 | G5: ='2-03-2014'!G5 -> 0 | H5: ='2-03-2014'!H5 -> 0 | I5: ='2-03-2014'!I5 -> 0 | J5: ='2-03-2014'!J5 -> 0 | K5: ='2-03-2014'!K5 -> 0
A6: ='2-03-2014'!A6 -> 0 | B6: ='2-03-2014'!B6 -> 0
A7: ='2-03-2014'!A7 -> 0 | B7: ='2-03-2014'!B7 -> 0
A8: ='2-03-2014'!A8 -> 0 | B8: ='2-03-2014'!B8 -> 0
A9: ='2-03-2014'!A9 -> 0 | B9: ='2-03-2014'!B9 -> 0
A10: ='2-03-2014'!A10 -> 0 | B10: ='2-03-2014'!B10 -> 0
A11: ='2-03-2014'!A11 -> 0 | B11: ='2-03-2014'!B11 -> 0
A12: ='2-03-2014'!A12 -> 0 | B12: ='2-03-2014'!B12 -> 0
A13: ='2-03-2014'!A13 -> 0 | B13: ='2-03-2014'!B13 -> 0
A14: ='2-03-2014'!A14 -> 0 | B14: ='2-03-2014'!B14 -> 0
A15: ='2-03-2014'!A15 -> 0 | B15: ='2-03-2014'!B15 -> 0
A16: ='2-03-2014'!A16 -> 0 | B16: ='2-03-2014'!B16 -> 0
A17: ='2-03-2014'!A17 -> 0 | B17: ='2-03-2014'!B17 -> 0
... A34: ='2-03-2014'!A34 -> 0 | B34: ='2-03-2014'!B34 -> 0
C37: ='1-03-2014'!C37 -> 0 | D37: ='1-03-2014'!D37 -> 0 | E37: ='1-03-2014'!E37 -> 0 | F37: ='1-03-2014'!F37 -> 0 | G37: ='1-03-2014'!G37 -> 0 | H37: ='1-03-2014'!H37 -> 0 | I37: ='1-03-2014'!I37 -> 0 | J37: ='1-03-2014'!J37 -> 0 | K37: ='1-03-2014'!K37 -> 0
C38: ='1-03-2014'!C38 -> 0 | D38: ='1-03-2014'!D38 -> 0 | E38: ='1-03-2014'!E38 -> 0 | F38: ='1-03-2014'!F38 -> 0 | G38: ='1-03-2014'!G38 -> 0 | H38: ='1-03-2014'!H38 -> 0 | I38: ='1-03-2014'!I38 -> 0 | J38: ='1-03-2014'!J38 -> 0 | K38: ='1-03-2014'!K38 -> 0
C39: ='1-03-2014'!C39 -> 0 | D39: ='1-03-2014'!D39 -> 0 | E39: ='1-03-2014'!E39 -> 0 | F39: ='1-03-2014'!F39 -> 0 | G39: ='1-03-2014'!G39 -> 0 | H39: ='1-03-2014'!H39 -> 0 | I39: ='1-03-2014'!I39 -> 0 | J39: ='1-03-2014'!J39 -> 0 | K39: ='1-03-2014'!K39 -> 0
A40: ='2-03-2014'!A40 -> 0 | B40: ='2-03-2014'!B40 -> 0
A41: ='2-03-2014'!A41 -> 0 | B41: ='2-03-2014'!B41 -> 0
A42: ='2-03-2014'!A42 -> 0 | B42: ='2-03-2014'!B42 -> 0
A43: ='2-03-2014'!A43 -> 0 | B43: ='2-03-2014'!B43 -> 0
A44: ='2-03-2014'!A44 -> 0 | B44: ='2-03-2014'!B44 -> 0
A45: ='2-03-2014'!A45 -> 0 | B45: ='2-03-2014'!B45 -> 0
A46: ='2-03-2014'!A46 -> 0 | B46: ='2-03-2014'!B46 -> 0
A47: ='2-03-2014'!A47 -> 0 | B47: ='2-03-2014'!B47 -> 0
A48: ='2-03-2014'!A48 -> 0 | B48: ='2-03-2014'!B48 -> 0
A49: ='2-03-2014'!A49 -> 0 | B49: ='2-03-2014'!B49 -> 0
A50: ='2-03-2014'!A50 -> 0 | B50: ='2-03-2014'!B50 -> 0
A51: ='2-03-2014'!A51 -> 0 | B51: ='2-03-2014'!B51 -> 0
... A68: ='2-03-2014'!A68 -> 0 | B68: ='2-03-2014'!B68 -> 0
C71: ='1-03-2014'!C71 -> 0 | D71: ='1-03-2014'!D71 -> 0 | E71: ='1-03-2014'!E71 -> 0 | F71: ='1-03-2014'!F71 -> 0 | G71: ='1-03-2014'!G71 -> 0 | H71: ='1-03-2014'!H71 -> 0 | I71: ='1-03-2014'!I71 -> 0 | J71: ='1-03-2014'!J71 -> 0 | K71: ='1-03-2014'!K71 -> 0
C72: ='1-03-2014'!C72 -> 0 | D72: ='1-03-2014'!D72 -> 0 | E72: ='1-03-2014'!E72 -> 0 | F72: ='1-03-2014'!F72 -> 0 | G72: ='1-03-2014'!G72 -> 0 | H72: ='1-03-2014'!H72 -> 0 | I72: ='1-03-2014'!I72 -> 0 | J72: ='1-03-2014'!J72 -> 0 | K72: ='1-03-2014'!K72 -> 0
C73: ='1-03-2014'!C73 -> 0 | D73: ='1-03-2014'!D73 -> 0 | E73: ='1-03-2014'!E73 -> 0 | F73: ='1-03-2014'!F73 -> 0 | G73: ='1-03-2014'!G73 -> 0 | H73: ='1-03-2014'!H73 -> 0 | I73: ='1-03-2014'!I73 -> 0 | J73: ='1-03-2014'!J73 -> 0 | K73: ='1-03-2014'!K73 -> 0
A74: ='2-03-2014'!A74 -> 0 | B74: ='2-03-2014'!B74 -> 0
A75: ='2-03-2014'!A75 -> 0 | B75: ='2-03-2014'!B75 -> 0
A76: ='2-03-2014'!A76 -> 0 | B76: ='2-03-2014'!B76 -> 0
A77: ='2-03-2014'!A77 -> 0 | B77: ='2-03-2014'!B77 -> 0
A78: ='2-03-2014'!A78 -> 0 | B78: ='2-03-2014'!B78 -> 0
A79: ='2-03-2014'!A79 -> 0 | B79: ='2-03-2014'!B79 -> 0
A80: ='2-03-2014'!A80 -> 0 | B80: ='2-03-2014'!B80 -> 0
A81: ='2-03-2014'!A81 -> 0 | B81: ='2-03-2014'!B81 -> 0
A82: ='2-03-2014'!A82 -> 0 | B82: ='2-03-2014'!B82 -> 0
A83: ='2-03-2014'!A83 -> 0 | B83: ='2-03-2014'!B83 -> 0
A84: ='2-03-2014'!A84 -> 0 | B84: ='2-03-2014'!B84 -> 0
A85: ='2-03-2014'!A85 -> 0 | B85: ='2-03-2014'!B85 -> 0
... A102: ='2-03-2014'!A102 -> 0 | B102: ='2-03-2014'!B102 -> 0
C105: ='1-03-2014'!C105 -> 0 | D105: ='1-03-2014'!D105 -> 0 | E105: ='1-03-2014'!E105 -> 0 | F105: ='1-03-2014'!F105 -> 0 | G105: ='1-03-2014'!G105 -> 0 | H105: ='1-03-2014'!H105 -> 0 | I105: ='1-03-2014'!I105 -> 0 | J105: ='1-03-2014'!J105 -> 0 | K105: ='1-03-2014'!K105 -> 0
C106: ='1-03-2014'!C106 -> 0 | D106: ='1-03-2014'!D106 -> 0 | E106: ='1-03-2014'!E106 -> 0 | F106: ='1-03-2014'!F106 -> 0 | G106: ='1-03-2014'!G106 -> 0 | H106: ='1-03-2014'!H106 -> 0 | I106: ='1-03-2014'!I106 -> 0 | J106: ='1-03-2014'!J106 -> 0 | K106: ='1-03-2014'!K106 -> 0
C107: ='1-03-2014'!C107 -> 0 | D107: ='1-03-2014'!D107 -> 0 | E107: ='1-03-2014'!E107 -> 0 | F107: ='1-03-2014'!F107 -> 0 | G107: ='1-03-2014'!G107 -> 0 | H107: ='1-03-2014'!H107 -> 0 | I107: ='1-03-2014'!I107 -> 0 | J107: ='1-03-2014'!J107 -> 0 | K107: ='1-03-2014'!K107 -> 0
A108: ='2-03-2014'!A108 -> 0 | B108: ='2-03-2014'!B108 -> 0
A109: ='2-03-2014'!A109 -> 0 | B109: ='2-03-2014'!B109 -> 0
A110: ='2-03-2014'!A110 -> 0 | B110: ='2-03-2014'!B110 -> 0
A111: ='2-03-2014'!A111 -> 0 | B111: ='2-03-2014'!B111 -> 0
A112: ='2-03-2014'!A112 -> 0 | B112: ='2-03-2014'!B112 -> 0
A113: ='2-03-2014'!A113 -> 0 | B113: ='2-03-2014'!B113 -> 0
A114: ='2-03-2014'!A114 -> 0 | B114: ='2-03-2014'!B114 -> 0
A115: ='2-03-2014'!A115 -> 0 | B115: ='2-03-2014'!B115 -> 0
A116: ='2-03-2014'!A116 -> 0 | B116: ='2-03-2014'!B116 -> 0
A117: ='2-03-2014'!A117 -> 0 | B117: ='2-03-2014'!B117 -> 0
A118: ='2-03-2014'!A118 -> 0 | B118: ='2-03-2014'!B118 -> 0
A119: ='2-03-2014'!A119 -> 0 | B119: ='2-03-2014'!B119 -> 0
... A136: ='2-03-2014'!A136 -> 0 | B136: ='2-03-2014'!B136 -> 0

Sheet 4-03-2014
C3: ='3-03-2014'!C3 -> 0 | D3: ='3-03-2014'!D3 -> 0 | E3: ='3-03-2014'!E3 -> 0 | F3: ='3-03-2014'!F3 -> 0 | G3: ='3-03-2014'!G3 -> 0 | H3: ='3-03-2014'!H3 -> 0 | I3: ='3-03-2014'!I3 -> 0 | J3: ='3-03-2014'!J3 -> 0 | K3: ='3-03-2014'!K3 -> 0
C4: ='3-03-2014'!C4 -> 0 | D4: ='3-03-2014'!D4 -> 0 | E4: ='3-03-2014'!E4 -> 0 | F4: ='3-03-2014'!F4 -> 0 | G4: ='3-03-2014'!G4 -> 0 | H4: ='3-03-2014'!H4 -> 0 | I4: ='3-03-2014'!I4 -> 0 | J4: ='3-03-2014'!J4 -> 0 | K4: ='3-03-2014'!K4 -> 0
C5: ='3-03-2014'!C5 -> 0 | D5: ='3-03-2014'!D5 -> 0 | E5: ='3-03-2014'!E5 -> 0 | F5: ='3-03-2014'!F5 -> 0 | G5: ='3-03-2014'!G5 -> 0 | H5: ='3-03-2014'!H5 -> 0 | I5: ='3-03-2014'!I5 -> 0 | J5: ='3-03-2014'!J5 -> 0 | K5: ='3-03-2014'!K5 -> 0
A6: ='3-03-2014'!A6 -> 0 | B6: ='3-03-2014'!B6 -> 0
A7: ='3-03-2014'!A7 -> 0 | B7: ='3-03-2014'!B7 -> 0
A8: ='3-03-2014'!A8 -> 0 | B8: ='3-03-2014'!B8 -> 0
A9: ='3-03-2014'!A9 -> 0 | B9: ='3-03-2014'!B9 -> 0
A10: ='3-03-2014'!A10 -> 0 | B10: ='3-03-2014'!B10 -> 0
A11: ='3-03-2014'!A11 -> 0 | B11: ='3-03-2014'!B11 -> 0
A12: ='3-03-2014'!A12 -> 0 | B12: ='3-03-2014'!B12 -> 0
A13: ='3-03-2014'!A13 -> 0 | B13: ='3-03-2014'!B13 -> 0
A14: ='3-03-2014'!A14 -> 0 | B14: ='3-03-2014'!B14 -> 0
A15: ='3-03-2014'!A15 -> 0 | B15: ='3-03-2014'!B15 -> 0
A16: ='3-03-2014'!A16 -> 0 | B16: ='3-03-2014'!B16 -> 0
A17: ='3-03-2014'!A17 -> 0 | B17: ='3-03-2014'!B17 -> 0
... A34: ='3-03-2014'!A34 -> 0 | B34: ='3-03-2014'!B34 -> 0
C37: ='1-03-2014'!C37 -> 0 | D37: ='1-03-2014'!D37 -> 0 | E37: ='1-03-2014'!E37 -> 0 | F37: ='1-03-2014'!F37 -> 0 | G37: ='1-03-2014'!G37 -> 0 | H37: ='1-03-2014'!H37 -> 0 | I37: ='1-03-2014'!I37 -> 0 | J37: ='1-03-2014'!J37 -> 0 | K37: ='1-03-2014'!K37 -> 0
C38: ='1-03-2014'!C38 -> 0 | D38: ='1-03-2014'!D38 -> 0 | E38: ='1-03-2014'!E38 -> 0 | F38: ='1-03-2014'!F38 -> 0 | G38: ='1-03-2014'!G38 -> 0 | H38: ='1-03-2014'!H38 -> 0 | I38: ='1-03-2014'!I38 -> 0 | J38: ='1-03-2014'!J38 -> 0 | K38: ='1-03-2014'!K38 -> 0
C39: ='1-03-2014'!C39 -> 0 | D39: ='1-03-2014'!D39 -> 0 | E39: ='1-03-2014'!E39 -> 0 | F39: ='1-03-2014'!F39 -> 0 | G39: ='1-03-2014'!G39 -> 0 | H39: ='1-03-2014'!H39 -> 0 | I39: ='1-03-2014'!I39 -> 0 | J39: ='1-03-2014'!J39 -> 0 | K39: ='1-03-2014'!K39 -> 0
A40: ='3-03-2014'!A40 -> 0 | B40: ='3-03-2014'!B40 -> 0
A41: ='3-03-2014'!A41 -> 0 | B41: ='3-03-2014'!B41 -> 0
A42: ='3-03-2014'!A42 -> 0 | B42: ='3-03-2014'!B42 -> 0
A43: ='3-03-2014'!A43 -> 0 | B43: ='3-03-2014'!B43 -> 0
A44: ='3-03-2014'!A44 -> 0 | B44: ='3-03-2014'!B44 -> 0
A45: ='3-03-2014'!A45 -> 0 | B45: ='3-03-2014'!B45 -> 0
A46: ='3-03-2014'!A46 -> 0 | B46: ='3-03-2014'!B46 -> 0
A47: ='3-03-2014'!A47 -> 0 | B47: ='3-03-2014'!B47 -> 0
A48: ='3-03-2014'!A48 -> 0 | B48: ='3-03-2014'!B48 -> 0
A49: ='3-03-2014'!A49 -> 0 | B49: ='3-03-2014'!B49 -> 0
A50: ='3-03-2014'!A50 -> 0 | B50: ='3-03-2014'!B50 -> 0
A51: ='3-03-2014'!A51 -> 0 | B51: ='3-03-2014'!B51 -> 0
... A68: ='3-03-2014'!A68 -> 0 | B68: ='3-03-2014'!B68 -> 0
C71: ='1-03-2014'!C71 -> 0 | D71: ='1-03-2014'!D71 -> 0 | E71: ='1-03-2014'!E71 -> 0 | F71: ='1-03-2014'!F71 -> 0 | G71: ='1-03-2014'!G71 -> 0 | H71: ='1-03-2014'!H71 -> 0 | I71: ='1-03-2014'!I71 -> 0 | J71: ='1-03-2014'!J71 -> 0 | K71: ='1-03-2014'!K71 -> 0
C72: ='1-03-2014'!C72 -> 0 | D72: ='1-03-2014'!D72 -> 0 | E72: ='1-03-2014'!E72 -> 0 | F72: ='1-03-2014'!F72 -> 0 | G72: ='1-03-2014'!G72 -> 0 | H72: ='1-03-2014'!H72 -> 0 | I72: ='1-03-2014'!I72 -> 0 | J72: ='1-03-2014'!J72 -> 0 | K72: ='1-03-2014'!K72 -> 0
C73: ='1-03-2014'!C73 -> 0 | D73: ='1-03-2014'!D73 -> 0 | E73: ='1-03-2014'!E73 -> 0 | F73: ='1-03-2014'!F73 -> 0 | G73: ='1-03-2014'!G73 -> 0 | H73: ='1-03-2014'!H73 -> 0 | I73: ='1-03-2014'!I73 -> 0 | J73: ='1-03-2014'!J73 -> 0 | K73: ='1-03-2014'!K73 -> 0
A74: ='3-03-2014'!A74 -> 0 | B74: ='3-03-2014'!B74 -> 0
A75: ='3-03-2014'!A75 -> 0 | B75: ='3-03-2014'!B75 -> 0
A76: ='3-03-2014'!A76 -> 0 | B76: ='3-03-2014'!B76 -> 0
A77: ='3-03-2014'!A77 -> 0 | B77: ='3-03-2014'!B77 -> 0
A78: ='3-03-2014'!A78 -> 0 | B78: ='3-03-2014'!B78 -> 0
A79: ='3-03-2014'!A79 -> 0 | B79: ='3-03-2014'!B79 -> 0
A80: ='3-03-2014'!A80 -> 0 | B80: ='3-03-2014'!B80 -> 0
A81: ='3-03-2014'!A81 -> 0 | B81: ='3-03-2014'!B81 -> 0
A82: ='3-03-2014'!A82 -> 0 | B82: ='3-03-2014'!B82 -> 0
A83: ='3-03-2014'!A83 -> 0 | B83: ='3-03-2014'!B83 -> 0
A84: ='3-03-2014'!A84 -> 0 | B84: ='3-03-2014'!B84 -> 0
A85: ='3-03-2014'!A85 -> 0 | B85: ='3-03-2014'!B85 -> 0
... A102: ='3-03-2014'!A102 -> 0 | B102: ='3-03-2014'!B102 -> 0
C105: ='1-03-2014'!C105 -> 0 | D105: ='1-03-2014'!D105 -> 0 | E105: ='1-03-2014'!E105 -> 0 | F105: ='1-03-2014'!F105 -> 0 | G105: ='1-03-2014'!G105 -> 0 | H105: ='1-03-2014'!H105 -> 0 | I105: ='1-03-2014'!I105 -> 0 | J105: ='1-03-2014'!J105 -> 0 | K105: ='1-03-2014'!K105 -> 0
C106: ='1-03-2014'!C106 -> 0 | D106: ='1-03-2014'!D106 -> 0 | E106: ='1-03-2014'!E106 -> 0 | F106: ='1-03-2014'!F106 -> 0 | G106: ='1-03-2014'!G106 -> 0 | H106: ='1-03-2014'!H106 -> 0 | I106: ='1-03-2014'!I106 -> 0 | J106: ='1-03-2014'!J106 -> 0 | K106: ='1-03-2014'!K106 -> 0
C107: ='1-03-2014'!C107 -> 0 | D107: ='1-03-2014'!D107 -> 0 | E107: ='1-03-2014'!E107 -> 0 | F107: ='1-03-2014'!F107 -> 0 | G107: ='1-03-2014'!G107 -> 0 | H107: ='1-03-2014'!H107 -> 0 | I107: ='1-03-2014'!I107 -> 0 | J107: ='1-03-2014'!J107 -> 0 | K107: ='1-03-2014'!K107 -> 0
A108: ='3-03-2014'!A108 -> 0 | B108: ='3-03-2014'!B108 -> 0
A109: ='3-03-2014'!A109 -> 0 | B109: ='3-03-2014'!B109 -> 0
A110: ='3-03-2014'!A110 -> 0 | B110: ='3-03-2014'!B110 -> 0
A111: ='3-03-2014'!A111 -> 0 | B111: ='3-03-2014'!B111 -> 0
A112: ='3-03-2014'!A112 -> 0 | B112: ='3-03-2014'!B112 -> 0
A113: ='3-03-2014'!A113 -> 0 | B113: ='3-03-2014'!B113 -> 0
A114: ='3-03-2014'!A114 -> 0 | B114: ='3-03-2014'!B114 -> 0
A115: ='3-03-2014'!A115 -> 0 | B115: ='3-03-2014'!B115 -> 0
A116: ='3-03-2014'!A116 -> 0 | B116: ='3-03-2014'!B116 -> 0
A117: ='3-03-2014'!A117 -> 0 | B117: ='3-03-2014'!B117 -> 0
A118: ='3-03-2014'!A118 -> 0 | B118: ='3-03-2014'!B118 -> 0
A119: ='3-03-2014'!A119 -> 0 | B119: ='3-03-2014'!B119 -> 0
... A136: ='3-03-2014'!A136 -> 0 | B136: ='3-03-2014'!B136 -> 0

Sheet 5-03-2014
C3: ='4-03-2014'!C3 -> 0 | D3: ='4-03-2014'!D3 -> 0 | E3: ='4-03-2014'!E3 -> 0 | F3: ='4-03-2014'!F3 -> 0 | G3: ='4-03-2014'!G3 -> 0 | H3: ='4-03-2014'!H3 -> 0 | I3: ='4-03-2014'!I3 -> 0 | J3: ='4-03-2014'!J3 -> 0 | K3: ='4-03-2014'!K3 -> 0
C4: ='4-03-2014'!C4 -> 0 | D4: ='4-03-2014'!D4 -> 0 | E4: ='4-03-2014'!E4 -> 0 | F4: ='4-03-2014'!F4 -> 0 | G4: ='4-03-2014'!G4 -> 0 | H4: ='4-03-2014'!H4 -> 0 | I4: ='4-03-2014'!I4 -> 0 | J4: ='4-03-2014'!J4 -> 0 | K4: ='4-03-2014'!K4 -> 0
C5: ='4-03-2014'!C5 -> 0 | D5: ='4-03-2014'!D5 -> 0 | E5: ='4-03-2014'!E5 -> 0 | F5: ='4-03-2014'!F5 -> 0 | G5: ='4-03-2014'!G5 -> 0 | H5: ='4-03-2014'!H5 -> 0 | I5: ='4-03-2014'!I5 -> 0 | J5: ='4-03-2014'!J5 -> 0 | K5: ='4-03-2014'!K5 -> 0
A6: ='4-03-2014'!A6 -> 0 | B6: ='4-03-2014'!B6 -> 0
A7: ='4-03-2014'!A7 -> 0 | B7: ='4-03-2014'!B7 -> 0
A8: ='4-03-2014'!A8 -> 0 | B8: ='4-03-2014'!B8 -> 0
A9: ='4-03-2014'!A9 -> 0 | B9: ='4-03-2014'!B9 -> 0
A10: ='4-03-2014'!A10 -> 0 | B10: ='4-03-2014'!B10 -> 0
A11: ='4-03-2014'!A11 -> 0 | B11: ='4-03-2014'!B11 -> 0
A12: ='4-03-2014'!A12 -> 0 | B12: ='4-03-2014'!B12 -> 0
A13: ='4-03-2014'!A13 -> 0 | B13: ='4-03-2014'!B13 -> 0
A14: ='4-03-2014'!A14 -> 0 | B14: ='4-03-2014'!B14 -> 0
A15: ='4-03-2014'!A15 -> 0 | B15: ='4-03-2014'!B15 -> 0
A16: ='4-03-2014'!A16 -> 0 | B16: ='4-03-2014'!B16 -> 0
A17: ='4-03-2014'!A17 -> 0 | B17: ='4-03-2014'!B17 -> 0
... A34: ='4-03-2014'!A34 -> 0 | B34: ='4-03-2014'!B34 -> 0
C37: ='1-03-2014'!C37 -> 0 | D37: ='1-03-2014'!D37 -> 0 | E37: ='1-03-2014'!E37 -> 0 | F37: ='1-03-2014'!F37 -> 0 | G37: ='1-03-2014'!G37 -> 0 | H37: ='1-03-2014'!H37 -> 0 | I37: ='1-03-2014'!I37 -> 0 | J37: ='1-03-2014'!J37 -> 0 | K37: ='1-03-2014'!K37 -> 0
C38: ='1-03-2014'!C38 -> 0 | D38: ='1-03-2014'!D38 -> 0 | E38: ='1-03-2014'!E38 -> 0 | F38: ='1-03-2014'!F38 -> 0 | G38: ='1-03-2014'!G38 -> 0 | H38: ='1-03-2014'!H38 -> 0 | I38: ='1-03-2014'!I38 -> 0 | J38: ='1-03-2014'!J38 -> 0 | K38: ='1-03-2014'!K38 -> 0
C39: ='1-03-2014'!C39 -> 0 | D39: ='1-03-2014'!D39 -> 0 | E39: ='1-03-2014'!E39 -> 0 | F39: ='1-03-2014'!F39 -> 0 | G39: ='1-03-2014'!G39 -> 0 | H39: ='1-03-2014'!H39 -> 0 | I39: ='1-03-2014'!I39 -> 0 | J39: ='1-03-2014'!J39 -> 0 | K39: ='1-03-2014'!K39 -> 0
A40: ='4-03-2014'!A40 -> 0 | B40: ='4-03-2014'!B40 -> 0
A41: ='4-03-2014'!A41 -> 0 | B41: ='4-03-2014'!B41 -> 0
A42: ='4-03-2014'!A42 -> 0 | B42: ='4-03-2014'!B42 -> 0
A43: ='4-03-2014'!A43 -> 0 | B43: ='4-03-2014'!B43 -> 0
A44: ='4-03-2014'!A44 -> 0 | B44: ='4-03-2014'!B44 -> 0
A45: ='4-03-2014'!A45 -> 0 | B45: ='4-03-2014'!B45 -> 0
A46: ='4-03-2014'!A46 -> 0 | B46: ='4-03-2014'!B46 -> 0
A47: ='4-03-2014'!A47 -> 0 | B47: ='4-03-2014'!B47 -> 0
A48: ='4-03-2014'!A48 -> 0 | B48: ='4-03-2014'!B48 -> 0
A49: ='4-03-2014'!A49 -> 0 | B49: ='4-03-2014'!B49 -> 0
A50: ='4-03-2014'!A50 -> 0 | B50: ='4-03-2014'!B50 -> 0
A51: ='4-03-2014'!A51 -> 0 | B51: ='4-03-2014'!B51 -> 0
... A68: ='4-03-2014'!A68 -> 0 | B68: ='4-03-2014'!B68 -> 0
C71: ='1-03-2014'!C71 -> 0 | D71: ='1-03-2014'!D71 -> 0 | E71: ='1-03-2014'!E71 -> 0 | F71: ='1-03-2014'!F71 -> 0 | G71: ='1-03-2014'!G71 -> 0 | H71: ='1-03-2014'!H71 -> 0 | I71: ='1-03-2014'!I71 -> 0 | J71: ='1-03-2014'!J71 -> 0 | K71: ='1-03-2014'!K71 -> 0
C72: ='1-03-2014'!C72 -> 0 | D72: ='1-03-2014'!D72 -> 0 | E72: ='1-03-2014'!E72 -> 0 | F72: ='1-03-2014'!F72 -> 0 | G72: ='1-03-2014'!G72 -> 0 | H72: ='1-03-2014'!H72 -> 0 | I72: ='1-03-2014'!I72 -> 0 | J72: ='1-03-2014'!J72 -> 0 | K72: ='1-03-2014'!K72 -> 0
C73: ='1-03-2014'!C73 -> 0 | D73: ='1-03-2014'!D73 -> 0 | E73: ='1-03-2014'!E73 -> 0 | F73: ='1-03-2014'!F73 -> 0 | G73: ='1-03-2014'!G73 -> 0 | H73: ='1-03-2014'!H73 -> 0 | I73: ='1-03-2014'!I73 -> 0 | J73: ='1-03-2014'!J73 -> 0 | K73: ='1-03-2014'!K73 -> 0
A74: ='4-03-2014'!A74 -> 0 | B74: ='4-03-2014'!B74 -> 0
A75: ='4-03-2014'!A75 -> 0 | B75: ='4-03-2014'!B75 -> 0
A76: ='4-03-2014'!A76 -> 0 | B76: ='4-03-2014'!B76 -> 0
A77: ='4-03-2014'!A77 -> 0 | B77: ='4-03-2014'!B77 -> 0
A78: ='4-03-2014'!A78 -> 0 | B78: ='4-03-2014'!B78 -> 0
A79: ='4-03-2014'!A79 -> 0 | B79: ='4-03-2014'!B79 -> 0
A80: ='4-03-2014'!A80 -> 0 | B80: ='4-03-2014'!B80 -> 0
A81: ='4-03-2014'!A81 -> 0 | B81: ='4-03-2014'!B81 -> 0
A82: ='4-03-2014'!A82 -> 0 | B82: ='4-03-2014'!B82 -> 0
A83: ='4-03-2014'!A83 -> 0 | B83: ='4-03-2014'!B83 -> 0
A84: ='4-03-2014'!A84 -> 0 | B84: ='4-03-2014'!B84 -> 0
A85: ='4-03-2014'!A85 -> 0 | B85: ='4-03-2014'!B85 -> 0
... A102: ='4-03-2014'!A102 -> 0 | B102: ='4-03-2014'!B102 -> 0
C105: ='1-03-2014'!C105 -> 0 | D105: ='1-03-2014'!D105 -> 0 | E105: ='1-03-2014'!E105 -> 0 | F105: ='1-03-2014'!F105 -> 0 | G105: ='1-03-2014'!G105 -> 0 | H105: ='1-03-2014'!H105 -> 0 | I105: ='1-03-2014'!I105 -> 0 | J105: ='1-03-2014'!J105 -> 0 | K105: ='1-03-2014'!K105 -> 0
C106: ='1-03-2014'!C106 -> 0 | D106: ='1-03-2014'!D106 -> 0 | E106: ='1-03-2014'!E106 -> 0 | F106: ='1-03-2014'!F106 -> 0 | G106: ='1-03-2014'!G106 -> 0 | H106: ='1-03-2014'!H106 -> 0 | I106: ='1-03-2014'!I106 -> 0 | J106: ='1-03-2014'!J106 -> 0 | K106: ='1-03-2014'!K106 -> 0
C107: ='1-03-2014'!C107 -> 0 | D107: ='1-03-2014'!D107 -> 0 | E107: ='1-03-2014'!E107 -> 0 | F107: ='1-03-2014'!F107 -> 0 | G107: ='1-03-2014'!G107 -> 0 | H107: ='1-03-2014'!H107 -> 0 | I107: ='1-03-2014'!I107 -> 0 | J107: ='1-03-2014'!J107 -> 0 | K107: ='1-03-2014'!K107 -> 0
A108: ='4-03-2014'!A108 -> 0 | B108: ='4-03-2014'!B108 -> 0
A109: ='4-03-2014'!A109 -> 0 | B109: ='4-03-2014'!B109 -> 0
A110: ='4-03-2014'!A110 -> 0 | B110: ='4-03-2014'!B110 -> 0
A111: ='4-03-2014'!A111 -> 0 | B111: ='4-03-2014'!B111 -> 0
A112: ='4-03-2014'!A112 -> 0 | B112: ='4-03-2014'!B112 -> 0
A113: ='4-03-2014'!A113 -> 0 | B113: ='4-03-2014'!B113 -> 0
A114: ='4-03-2014'!A114 -> 0 | B114: ='4-03-2014'!B114 -> 0
A115: ='4-03-2014'!A115 -> 0 | B115: ='4-03-2014'!B115 -> 0
A116: ='4-03-2014'!A116 -> 0 | B116: ='4-03-2014'!B116 -> 0
A117: ='4-03-2014'!A117 -> 0 | B117: ='4-03-2014'!B117 -> 0
A118: ='4-03-2014'!A118 -> 0 | B118: ='4-03-2014'!B118 -> 0
A119: ='4-03-2014'!A119 -> 0 | B119: ='4-03-2014'!B119 -> 0
... A136: ='4-03-2014'!A136 -> 0 | B136: ='4-03-2014'!B136 -> 0

Sheet 6-03-2014
C3: ='5-03-2014'!C3 -> 0 | D3: ='5-03-2014'!D3 -> 0 | E3: ='5-03-2014'!E3 -> 0 | F3: ='5-03-2014'!F3 -> 0 | G3: ='5-03-2014'!G3 -> 0 | H3: ='5-03-2014'!H3 -> 0 | I3: ='5-03-2014'!I3 -> 0 | J3: ='5-03-2014'!J3 -> 0 | K3: ='5-03-2014'!K3 -> 0
C4: ='5-03-2014'!C4 -> 0 | D4: ='5-03-2014'!D4 -> 0 | E4: ='5-03-2014'!E4 -> 0 | F4: ='5-03-2014'!F4 -> 0 | G4: ='5-03-2014'!G4 -> 0 | H4: ='5-03-2014'!H4 -> 0 | I4: ='5-03-2014'!I4 -> 0 | J4: ='5-03-2014'!J4 -> 0 | K4: ='5-03-2014'!K4 -> 0
C5: ='5-03-2014'!C5 -> 0 | D5: ='5-03-2014'!D5 -> 0 | E5: ='5-03-2014'!E5 -> 0 | F5: ='5-03-2014'!F5 -> 0 | G5: ='5-03-2014'!G5 -> 0 | H5: ='5-03-2014'!H5 -> 0 | I5: ='5-03-2014'!I5 -> 0 | J5: ='5-03-2014'!J5 -> 0 | K5: ='5-03-2014'!K5 -> 0
A6: ='5-03-2014'!A6 -> 0 | B6: ='5-03-2014'!B6 -> 0
A7: ='5-03-2014'!A7 -> 0 | B7: ='5-03-2014'!B7 -> 0
A8: ='5-03-2014'!A8 -> 0 | B8: ='5-03-2014'!B8 -> 0
A9: ='5-03-2014'!A9 -> 0 | B9: ='5-03-2014'!B9 -> 0
A10: ='5-03-2014'!A10 -> 0 | B10: ='5-03-2014'!B10 -> 0
A11: ='5-03-2014'!A11 -> 0 | B11: ='5-03-2014'!B11 -> 0
A12: ='5-03-2014'!A12 -> 0 | B12: ='5-03-2014'!B12 -> 0
A13: ='5-03-2014'!A13 -> 0 | B13: ='5-03-2014'!B13 -> 0
A14: ='5-03-2014'!A14 -> 0 | B14: ='5-03-2014'!B14 -> 0
A15: ='5-03-2014'!A15 -> 0 | B15: ='5-03-2014'!B15 -> 0
A16: ='5-03-2014'!A16 -> 0 | B16: ='5-03-2014'!B16 -> 0
A17: ='5-03-2014'!A17 -> 0 | B17: ='5-03-2014'!B17 -> 0
... A34: ='5-03-2014'!A34 -> 0 | B34: ='5-03-2014'!B34 -> 0
C37: ='1-03-2014'!C37 -> 0 | D37: ='1-03-2014'!D37 -> 0 | E37: ='1-03-2014'!E37 -> 0 | F37: ='1-03-2014'!F37 -> 0 | G37: ='1-03-2014'!G37 -> 0 | H37: ='1-03-2014'!H37 -> 0 | I37: ='1-03-2014'!I37 -> 0 | J37: ='1-03-2014'!J37 -> 0 | K37: ='1-03-2014'!K37 -> 0
C38: ='1-03-2014'!C38 -> 0 | D38: ='1-03-2014'!D38 -> 0 | E38: ='1-03-2014'!E38 -> 0 | F38: ='1-03-2014'!F38 -> 0 | G38: ='1-03-2014'!G38 -> 0 | H38: ='1-03-2014'!H38 -> 0 | I38: ='1-03-2014'!I38 -> 0 | J38: ='1-03-2014'!J38 -> 0 | K38: ='1-03-2014'!K38 -> 0
C39: ='1-03-2014'!C39 -> 0 | D39: ='1-03-2014'!D39 -> 0 | E39: ='1-03-2014'!E39 -> 0 | F39: ='1-03-2014'!F39 -> 0 | G39: ='1-03-2014'!G39 -> 0 | H39: ='1-03-2014'!H39 -> 0 | I39: ='1-03-2014'!I39 -> 0 | J39: ='1-03-2014'!J39 -> 0 | K39: ='1-03-2014'!K39 -> 0
A40: ='5-03-2014'!A40 -> 0 | B40: ='5-03-2014'!B40 -> 0
A41: ='5-03-2014'!A41 -> 0 | B41: ='5-03-2014'!B41 -> 0
A42: ='5-03-2014'!A42 -> 0 | B42: ='5-03-2014'!B42 -> 0
A43: ='5-03-2014'!A43 -> 0 | B43: ='5-03-2014'!B43 -> 0
A44: ='5-03-2014'!A44 -> 0 | B44: ='5-03-2014'!B44 -> 0
A45: ='5-03-2014'!A45 -> 0 | B45: ='5-03-2014'!B45 -> 0
A46: ='5-03-2014'!A46 -> 0 | B46: ='5-03-2014'!B46 -> 0
A47: ='5-03-2014'!A47 -> 0 | B47: ='5-03-2014'!B47 -> 0
A48: ='5-03-2014'!A48 -> 0 | B48: ='5-03-2014'!B48 -> 0
A49: ='5-03-2014'!A49 -> 0 | B49: ='5-03-2014'!B49 -> 0
A50: ='5-03-2014'!A50 -> 0 | B50: ='5-03-2014'!B50 -> 0
A51: ='5-03-2014'!A51 -> 0 | B51: ='5-03-2014'!B51 -> 0
... A68: ='5-03-2014'!A68 -> 0 | B68: ='5-03-2014'!B68 -> 0
C71: ='1-03-2014'!C71 -> 0 | D71: ='1-03-2014'!D71 -> 0 | E71: ='1-03-2014'!E71 -> 0 | F71: ='1-03-2014'!F71 -> 0 | G71: ='1-03-2014'!G71 -> 0 | H71: ='1-03-2014'!H71 -> 0 | I71: ='1-03-2014'!I71 -> 0 | J71: ='1-03-2014'!J71 -> 0 | K71: ='1-03-2014'!K71 -> 0
C72: ='1-03-2014'!C72 -> 0 | D72: ='1-03-2014'!D72 -> 0 | E72: ='1-03-2014'!E72 -> 0 | F72: ='1-03-2014'!F72 -> 0 | G72: ='1-03-2014'!G72 -> 0 | H72: ='1-03-2014'!H72 -> 0 | I72: ='1-03-2014'!I72 -> 0 | J72: ='1-03-2014'!J72 -> 0 | K72: ='1-03-2014'!K72 -> 0
C73: ='1-03-2014'!C73 -> 0 | D73: ='1-03-2014'!D73 -> 0 | E73: ='1-03-2014'!E73 -> 0 | F73: ='1-03-2014'!F73 -> 0 | G73: ='1-03-2014'!G73 -> 0 | H73: ='1-03-2014'!H73 -> 0 | I73: ='1-03-2014'!I73 -> 0 | J73: ='1-03-2014'!J73 -> 0 | K73: ='1-03-2014'!K73 -> 0
A74: ='5-03-2014'!A74 -> 0 | B74: ='5-03-2014'!B74 -> 0
A75: ='5-03-2014'!A75 -> 0 | B75: ='5-03-2014'!B75 -> 0
A76: ='5-03-2014'!A76 -> 0 | B76: ='5-03-2014'!B76 -> 0
A77: ='5-03-2014'!A77 -> 0 | B77: ='5-03-2014'!B77 -> 0
A78: ='5-03-2014'!A78 -> 0 | B78: ='5-03-2014'!B78 -> 0
A79: ='5-03-2014'!A79 -> 0 | B79: ='5-03-2014'!B79 -> 0
A80: ='5-03-2014'!A80 -> 0 | B80: ='5-03-2014'!B80 -> 0
A81: ='5-03-2014'!A81 -> 0 | B81: ='5-03-2014'!B81 -> 0
A82: ='5-03-2014'!A82 -> 0 | B82: ='5-03-2014'!B82 -> 0
A83: ='5-03-2014'!A83 -> 0 | B83: ='5-03-2014'!B83 -> 0
A84: ='5-03-2014'!A84 -> 0 | B84: ='5-03-2014'!B84 -> 0
A85: ='5-03-2014'!A85 -> 0 | B85: ='5-03-2014'!B85 -> 0
... A102: ='5-03-2014'!A102 -> 0 | B102: ='5-03-2014'!B102 -> 0
C105: ='1-03-2014'!C105 -> 0 | D105: ='1-03-2014'!D105 -> 0 | E105: ='1-03-2014'!E105 -> 0 | F105: ='1-03-2014'!F105 -> 0 | G105: ='1-03-2014'!G105 -> 0 | H105: ='1-03-2014'!H105 -> 0 | I105: ='1-03-2014'!I105 -> 0 | J105: ='1-03-2014'!J105 -> 0 | K105: ='1-03-2014'!K105 -> 0
C106: ='1-03-2014'!C106 -> 0 | D106: ='1-03-2014'!D106 -> 0 | E106: ='1-03-2014'!E106 -> 0 | F106: ='1-03-2014'!F106 -> 0 | G106: ='1-03-2014'!G106 -> 0 | H106: ='1-03-2014'!H106 -> 0 | I106: ='1-03-2014'!I106 -> 0 | J106: ='1-03-2014'!J106 -> 0 | K106: ='1-03-2014'!K106 -> 0
C107: ='1-03-2014'!C107 -> 0 | D107: ='1-03-2014'!D107 -> 0 | E107: ='1-03-2014'!E107 -> 0 | F107: ='1-03-2014'!F107 -> 0 | G107: ='1-03-2014'!G107 -> 0 | H107: ='1-03-2014'!H107 -> 0 | I107: ='1-03-2014'!I107 -> 0 | J107: ='1-03-2014'!J107 -> 0 | K107: ='1-03-2014'!K107 -> 0
A108: ='5-03-2014'!A108 -> 0 | B108: ='5-03-2014'!B108 -> 0
A109: ='5-03-2014'!A109 -> 0 | B109: ='5-03-2014'!B109 -> 0
A110: ='5-03-2014'!A110 -> 0 | B110: ='5-03-2014'!B110 -> 0
A111: ='5-03-2014'!A111 -> 0 | B111: ='5-03-2014'!B111 -> 0
A112: ='5-03-2014'!A112 -> 0 | B112: ='5-03-2014'!B112 -> 0
A113: ='5-03-2014'!A113 -> 0 | B113: ='5-03-2014'!B113 -> 0
A114: ='5-03-2014'!A114 -> 0 | B114: ='5-03-2014'!B114 -> 0
A115: ='5-03-2014'!A115 -> 0 | B115: ='5-03-2014'!B115 -> 0
A116: ='5-03-2014'!A116 -> 0 | B116: ='5-03-2014'!B116 -> 0
A117: ='5-03-2014'!A117 -> 0 | B117: ='5-03-2014'!B117 -> 0
A118: ='5-03-2014'!A118 -> 0 | B118: ='5-03-2014'!B118 -> 0
A119: ='5-03-2014'!A119 -> 0 | B119: ='5-03-2014'!B119 -> 0
... A136: ='5-03-2014'!A136 -> 0 | B136: ='5-03-2014'!B136 -> 0

Sheet 7-03-2014
C3: ='6-03-2014'!C3 -> 0 | D3: ='6-03-2014'!D3 -> 0 | E3: ='6-03-2014'!E3 -> 0 | F3: ='6-03-2014'!F3 -> 0 | G3: ='6-03-2014'!G3 -> 0 | H3: ='6-03-2014'!H3 -> 0 | I3: ='6-03-2014'!I3 -> 0 | J3: ='6-03-2014'!J3 -> 0 | K3: ='6-03-2014'!K3 -> 0
C4: ='6-03-2014'!C4 -> 0 | D4: ='6-03-2014'!D4 -> 0 | E4: ='6-03-2014'!E4 -> 0 | F4: ='6-03-2014'!F4 -> 0 | G4: ='6-03-2014'!G4 -> 0 | H4: ='6-03-2014'!H4 -> 0 | I4: ='6-03-2014'!I4 -> 0 | J4: ='6-03-2014'!J4 -> 0 | K4: ='6-03-2014'!K4 -> 0
C5: ='6-03-2014'!C5 -> 0 | D5: ='6-03-2014'!D5 -> 0 | E5: ='6-03-2014'!E5 -> 0 | F5: ='6-03-2014'!F5 -> 0 | G5: ='6-03-2014'!G5 -> 0 | H5: ='6-03-2014'!H5 -> 0 | I5: ='6-03-2014'!I5 -> 0 | J5: ='6-03-2014'!J5 -> 0 | K5: ='6-03-2014'!K5 -> 0
A6: ='6-03-2014'!A6 -> 0 | B6: ='6-03-2014'!B6 -> 0
A7: ='6-03-2014'!A7 -> 0 | B7: ='6-03-2014'!B7 -> 0
A8: ='6-03-2014'!A8 -> 0 | B8: ='6-03-2014'!B8 -> 0
A9: ='6-03-2014'!A9 -> 0 | B9: ='6-03-2014'!B9 -> 0
A10: ='6-03-2014'!A10 -> 0 | B10: ='6-03-2014'!B10 -> 0
A11: ='6-03-2014'!A11 -> 0 | B11: ='6-03-2014'!B11 -> 0
A12: ='6-03-2014'!A12 -> 0 | B12: ='6-03-2014'!B12 -> 0
A13: ='6-03-2014'!A13 -> 0 | B13: ='6-03-2014'!B13 -> 0
A14: ='6-03-2014'!A14 -> 0 | B14: ='6-03-2014'!B14 -> 0
A15: ='6-03-2014'!A15 -> 0 | B15: ='6-03-2014'!B15 -> 0
A16: ='6-03-2014'!A16 -> 0 | B16: ='6-03-2014'!B16 -> 0
A17: ='6-03-2014'!A17 -> 0 | B17: ='6-03-2014'!B17 -> 0
... A34: ='6-03-2014'!A34 -> 0 | B34: ='6-03-2014'!B34 -> 0
C37: ='1-03-2014'!C37 -> 0 | D37: ='1-03-2014'!D37 -> 0 | E37: ='1-03-2014'!E37 -> 0 | F37: ='1-03-2014'!F37 -> 0 | G37: ='1-03-2014'!G37 -> 0 | H37: ='1-03-2014'!H37 -> 0 | I37: ='1-03-2014'!I37 -> 0 | J37: ='1-03-2014'!J37 -> 0 | K37: ='1-03-2014'!K37 -> 0
C38: ='1-03-2014'!C38 -> 0 | D38: ='1-03-2014'!D38 -> 0 | E38: ='1-03-2014'!E38 -> 0 | F38: ='1-03-2014'!F38 -> 0 | G38: ='1-03-2014'!G38 -> 0 | H38: ='1-03-2014'!H38 -> 0 | I38: ='1-03-2014'!I38 -> 0 | J38: ='1-03-2014'!J38 -> 0 | K38: ='1-03-2014'!K38 -> 0
C39: ='1-03-2014'!C39 -> 0 | D39: ='1-03-2014'!D39 -> 0 | E39: ='1-03-2014'!E39 -> 0 | F39: ='1-03-2014'!F39 -> 0 | G39: ='1-03-2014'!G39 -> 0 | H39: ='1-03-2014'!H39 -> 0 | I39: ='1-03-2014'!I39 -> 0 | J39: ='1-03-2014'!J39 -> 0 | K39: ='1-03-2014'!K39 -> 0
A40: ='6-03-2014'!A40 -> 0 | B40: ='6-03-2014'!B40 -> 0
A41: ='6-03-2014'!A41 -> 0 | B41: ='6-03-2014'!B41 -> 0
A42: ='6-03-2014'!A42 -> 0 | B42: ='6-03-2014'!B42 -> 0
A43: ='6-03-2014'!A43 -> 0 | B43: ='6-03-2014'!B43 -> 0
A44: ='6-03-2014'!A44 -> 0 | B44: ='6-03-2014'!B44 -> 0
A45: ='6-03-2014'!A45 -> 0 | B45: ='6-03-2014'!B45 -> 0
A46: ='6-03-2014'!A46 -> 0 | B46: ='6-03-2014'!B46 -> 0
A47: ='6-03-2014'!A47 -> 0 | B47: ='6-03-2014'!B47 -> 0
A48: ='6-03-2014'!A48 -> 0 | B48: ='6-03-2014'!B48 -> 0
A49: ='6-03-2014'!A49 -> 0 | B49: ='6-03-2014'!B49 -> 0
A50: ='6-03-2014'!A50 -> 0 | B50: ='6-03-2014'!B50 -> 0
A51: ='6-03-2014'!A51 -> 0 | B51: ='6-03-2014'!B51 -> 0
... A68: ='6-03-2014'!A68 -> 0 | B68: ='6-03-2014'!B68 -> 0
C71: ='1-03-2014'!C71 -> 0 | D71: ='1-03-2014'!D71 -> 0 | E71: ='1-03-2014'!E71 -> 0 | F71: ='1-03-2014'!F71 -> 0 | G71: ='1-03-2014'!G71 -> 0 | H71: ='1-03-2014'!H71 -> 0 | I71: ='1-03-2014'!I71 -> 0 | J71: ='1-03-2014'!J71 -> 0 | K71: ='1-03-2014'!K71 -> 0
C72: ='1-03-2014'!C72 -> 0 | D72: ='1-03-2014'!D72 -> 0 | E72: ='1-03-2014'!E72 -> 0 | F72: ='1-03-2014'!F72 -> 0 | G72: ='1-03-2014'!G72 -> 0 | H72: ='1-03-2014'!H72 -> 0 | I72: ='1-03-2014'!I72 -> 0 | J72: ='1-03-2014'!J72 -> 0 | K72: ='1-03-2014'!K72 -> 0
C73: ='1-03-2014'!C73 -> 0 | D73: ='1-03-2014'!D73 -> 0 | E73: ='1-03-2014'!E73 -> 0 | F73: ='1-03-2014'!F73 -> 0 | G73: ='1-03-2014'!G73 -> 0 | H73: ='1-03-2014'!H73 -> 0 | I73: ='1-03-2014'!I73 -> 0 | J73: ='1-03-2014'!J73 -> 0 | K73: ='1-03-2014'!K73 -> 0
A74: ='6-03-2014'!A74 -> 0 | B74: ='6-03-2014'!B74 -> 0
A75: ='6-03-2014'!A75 -> 0 | B75: ='6-03-2014'!B75 -> 0
A76: ='6-03-2014'!A76 -> 0 | B76: ='6-03-2014'!B76 -> 0
A77: ='6-03-2014'!A77 -> 0 | B77: ='6-03-2014'!B77 -> 0
A78: ='6-03-2014'!A78 -> 0 | B78: ='6-03-2014'!B78 -> 0
A79: ='6-03-2014'!A79 -> 0 | B79: ='6-03-2014'!B79 -> 0
A80: ='6-03-2014'!A80 -> 0 | B80: ='6-03-2014'!B80 -> 0
A81: ='6-03-2014'!A81 -> 0 | B81: ='6-03-2014'!B81 -> 0
A82: ='6-03-2014'!A82 -> 0 | B82: ='6-03-2014'!B82 -> 0
A83: ='6-03-2014'!A83 -> 0 | B83: ='6-03-2014'!B83 -> 0
A84: ='6-03-2014'!A84 -> 0 | B84: ='6-03-2014'!B84 -> 0
A85: ='6-03-2014'!A85 -> 0 | B85: ='6-03-2014'!B85 -> 0
... A102: ='6-03-2014'!A102 -> 0 | B102: ='6-03-2014'!B102 -> 0
C105: ='1-03-2014'!C105 -> 0 | D105: ='1-03-2014'!D105 -> 0 | E105: ='1-03-2014'!E105 -> 0 | F105: ='1-03-2014'!F105 -> 0 | G105: ='1-03-2014'!G105 -> 0 | H105: ='1-03-2014'!H105 -> 0 | I105: ='1-03-2014'!I105 -> 0 | J105: ='1-03-2014'!J105 -> 0 | K105: ='1-03-2014'!K105 -> 0
C106: ='1-03-2014'!C106 -> 0 | D106: ='1-03-2014'!D106 -> 0 | E106: ='1-03-2014'!E106 -> 0 | F106: ='1-03-2014'!F106 -> 0 | G106: ='1-03-2014'!G106 -> 0 | H106: ='1-03-2014'!H106 -> 0 | I106: ='1-03-2014'!I106 -> 0 | J106: ='1-03-2014'!J106 -> 0 | K106: ='1-03-2014'!K106 -> 0
C107: ='1-03-2014'!C107 -> 0 | D107: ='1-03-2014'!D107 -> 0 | E107: ='1-03-2014'!E107 -> 0 | F107: ='1-03-2014'!F107 -> 0 | G107: ='1-03-2014'!G107 -> 0 | H107: ='1-03-2014'!H107 -> 0 | I107: ='1-03-2014'!I107 -> 0 | J107: ='1-03-2014'!J107 -> 0 | K107: ='1-03-2014'!K107 -> 0
A108: ='6-03-2014'!A108 -> 0 | B108: ='6-03-2014'!B108 -> 0
A109: ='6-03-2014'!A109 -> 0 | B109: ='6-03-2014'!B109 -> 0
A110: ='6-03-2014'!A110 -> 0 | B110: ='6-03-2014'!B110 -> 0
A111: ='6-03-2014'!A111 -> 0 | B111: ='6-03-2014'!B111 -> 0
A112: ='6-03-2014'!A112 -> 0 | B112: ='6-03-2014'!B112 -> 0
A113: ='6-03-2014'!A113 -> 0 | B113: ='6-03-2014'!B113 -> 0
A114: ='6-03-2014'!A114 -> 0 | B114: ='6-03-2014'!B114 -> 0
A115: ='6-03-2014'!A115 -> 0 | B115: ='6-03-2014'!B115 -> 0
A116: ='6-03-2014'!A116 -> 0 | B116: ='6-03-2014'!B116 -> 0
A117: ='6-03-2014'!A117 -> 0 | B117: ='6-03-2014'!B117 -> 0
A118: ='6-03-2014'!A118 -> 0 | B118: ='6-03-2014'!B118 -> 0
A119: ='6-03-2014'!A119 -> 0 | B119: ='6-03-2014'!B119 -> 0
... A136: ='6-03-2014'!A136 -> 0 | B136: ='6-03-2014'!B136 -> 0

Sheet 8-03-2014
C3: ='7-03-2014'!C3 -> 0 | D3: ='7-03-2014'!D3 -> 0 | E3: ='7-03-2014'!E3 -> 0 | F3: ='7-03-2014'!F3 -> 0 | G3: ='7-03-2014'!G3 -> 0 | H3: ='7-03-2014'!H3 -> 0 | I3: ='7-03-2014'!I3 -> 0 | J3: ='7-03-2014'!J3 -> 0 | K3: ='7-03-2014'!K3 -> 0
C4: ='7-03-2014'!C4 -> 0 | D4: ='7-03-2014'!D4 -> 0 | E4: ='7-03-2014'!E4 -> 0 | F4: ='7-03-2014'!F4 -> 0 | G4: ='7-03-2014'!G4 -> 0 | H4: ='7-03-2014'!H4 -> 0 | I4: ='7-03-2014'!I4 -> 0 | J4: ='7-03-2014'!J4 -> 0 | K4: ='7-03-2014'!K4 -> 0
C5: ='7-03-2014'!C5 -> 0 | D5: ='7-03-2014'!D5 -> 0 | E5: ='7-03-2014'!E5 -> 0 | F5: ='7-03-2014'!F5 -> 0 | G5: ='7-03-2014'!G5 -> 0 | H5: ='7-03-2014'!H5 -> 0 | I5: ='7-03-2014'!I5 -> 0 | J5: ='7-03-2014'!J5 -> 0 | K5: ='7-03-2014'!K5 -> 0
A6: ='7-03-2014'!A6 -> 0 | B6: ='7-03-2014'!B6 -> 0
A7: ='7-03-2014'!A7 -> 0 | B7: ='7-03-2014'!B7 -> 0
A8: ='7-03-2014'!A8 -> 0 | B8: ='7-03-2014'!B8 -> 0
A9: ='7-03-2014'!A9 -> 0 | B9: ='7-03-2014'!B9 -> 0
A10: ='7-03-2014'!A10 -> 0 | B10: ='7-03-2014'!B10 -> 0
A11: ='7-03-2014'!A11 -> 0 | B11: ='7-03-2014'!B11 -> 0
A12: ='7-03-2014'!A12 -> 0 | B12: ='7-03-2014'!B12 -> 0
A13: ='7-03-2014'!A13 -> 0 | B13: ='7-03-2014'!B13 -> 0
A14: ='7-03-2014'!A14 -> 0 | B14: ='7-03-2014'!B14 -> 0
A15: ='7-03-2014'!A15 -> 0 | B15: ='7-03-2014'!B15 -> 0
A16: ='7-03-2014'!A16 -> 0 | B16: ='7-03-2014'!B16 -> 0
A17: ='7-03-2014'!A17 -> 0 | B17: ='7-03-2014'!B17 -> 0
... A34: ='7-03-2014'!A34 -> 0 | B34: ='7-03-2014'!B34 -> 0
C37: ='1-03-2014'!C37 -> 0 | D37: ='1-03-2014'!D37 -> 0 | E37: ='1-03-2014'!E37 -> 0 | F37: ='1-03-2014'!F37 -> 0 | G37: ='1-03-2014'!G37 -> 0 | H37: ='1-03-2014'!H37 -> 0 | I37: ='1-03-2014'!I37 -> 0 | J37: ='1-03-2014'!J37 -> 0 | K37: ='1-03-2014'!K37 -> 0
C38: ='1-03-2014'!C38 -> 0 | D38: ='1-03-2014'!D38 -> 0 | E38: ='1-03-2014'!E38 -> 0 | F38: ='1-03-2014'!F38 -> 0 | G38: ='1-03-2014'!G38 -> 0 | H38: ='1-03-2014'!H38 -> 0 | I38: ='1-03-2014'!I38 -> 0 | J38: ='1-03-2014'!J38 -> 0 | K38: ='1-03-2014'!K38 -> 0
C39: ='1-03-2014'!C39 -> 0 | D39: ='1-03-2014'!D39 -> 0 | E39: ='1-03-2014'!E39 -> 0 | F39: ='1-03-2014'!F39 -> 0 | G39: ='1-03-2014'!G39 -> 0 | H39: ='1-03-2014'!H39 -> 0 | I39: ='1-03-2014'!I39 -> 0 | J39: ='1-03-2014'!J39 -> 0 | K39: ='1-03-2014'!K39 -> 0
A40: ='7-03-2014'!A40 -> 0 | B40: ='7-03-2014'!B40 -> 0
A41: ='7-03-2014'!A41 -> 0 | B41: ='7-03-2014'!B41 -> 0
A42: ='7-03-2014'!A42 -> 0 | B42: ='7-03-2014'!B42 -> 0
A43: ='7-03-2014'!A43 -> 0 | B43: ='7-03-2014'!B43 -> 0
A44: ='7-03-2014'!A44 -> 0 | B44: ='7-03-2014'!B44 -> 0
A45: ='7-03-2014'!A45 -> 0 | B45: ='7-03-2014'!B45 -> 0
A46: ='7-03-2014'!A46 -> 0 | B46: ='7-03-2014'!B46 -> 0
A47: ='7-03-2014'!A47 -> 0 | B47: ='7-03-2014'!B47 -> 0
A48: ='7-03-2014'!A48 -> 0 | B48: ='7-03-2014'!B48 -> 0
A49: ='7-03-2014'!A49 -> 0 | B49: ='7-03-2014'!B49 -> 0
A50: ='7-03-2014'!A50 -> 0 | B50: ='7-03-2014'!B50 -> 0
A51: ='7-03-2014'!A51 -> 0 | B51: ='7-03-2014'!B51 -> 0
... A68: ='7-03-2014'!A68 -> 0 | B68: ='7-03-2014'!B68 -> 0
C71: ='1-03-2014'!C71 -> 0 | D71: ='1-03-2014'!D71 -> 0 | E71: ='1-03-2014'!E71 -> 0 | F71: ='1-03-2014'!F71 -> 0 | G71: ='1-03-2014'!G71 -> 0 | H71: ='1-03-2014'!H71 -> 0 | I71: ='1-03-2014'!I71 -> 0 | J71: ='1-03-2014'!J71 -> 0 | K71: ='1-03-2014'!K71 -> 0
C72: ='1-03-2014'!C72 -> 0 | D72: ='1-03-2014'!D72 -> 0 | E72: ='1-03-2014'!E72 -> 0 | F72: ='1-03-2014'!F72 -> 0 | G72: ='1-03-2014'!G72 -> 0 | H72: ='1-03-2014'!H72 -> 0 | I72: ='1-03-2014'!I72 -> 0 | J72: ='1-03-2014'!J72 -> 0 | K72: ='1-03-2014'!K72 -> 0
C73: ='1-03-2014'!C73 -> 0 | D73: ='1-03-2014'!D73 -> 0 | E73: ='1-03-2014'!E73 -> 0 | F73: ='1-03-2014'!F73 -> 0 | G73: ='1-03-2014'!G73 -> 0 | H73: ='1-03-2014'!H73 -> 0 | I73: ='1-03-2014'!I73 -> 0 | J73: ='1-03-2014'!J73 -> 0 | K73: ='1-03-2014'!K73 -> 0
A74: ='7-03-2014'!A74 -> 0 | B74: ='7-03-2014'!B74 -> 0
A75: ='7-03-2014'!A75 -> 0 | B75: ='7-03-2014'!B75 -> 0
A76: ='7-03-2014'!A76 -> 0 | B76: ='7-03-2014'!B76 -> 0
A77: ='7-03-2014'!A77 -> 0 | B77: ='7-03-2014'!B77 -> 0
A78: ='7-03-2014'!A78 -> 0 | B78: ='7-03-2014'!B78 -> 0
A79: ='7-03-2014'!A79 -> 0 | B79: ='7-03-2014'!B79 -> 0
A80: ='7-03-2014'!A80 -> 0 | B80: ='7-03-2014'!B80 -> 0
A81: ='7-03-2014'!A81 -> 0 | B81: ='7-03-2014'!B81 -> 0
A82: ='7-03-2014'!A82 -> 0 | B82: ='7-03-2014'!B82 -> 0
A83: ='7-03-2014'!A83 -> 0 | B83: ='7-03-2014'!B83 -> 0
A84: ='7-03-2014'!A84 -> 0 | B84: ='7-03-2014'!B84 -> 0
A85: ='7-03-2014'!A85 -> 0 | B85: ='7-03-2014'!B85 -> 0
... A102: ='7-03-2014'!A102 -> 0 | B102: ='7-03-2014'!B102 -> 0
C105: ='1-03-2014'!C105 -> 0 | D105: ='1-03-2014'!D105 -> 0 | E105: ='1-03-2014'!E105 -> 0 | F105: ='1-03-2014'!F105 -> 0 | G105: ='1-03-2014'!G105 -> 0 | H105: ='1-03-2014'!H105 -> 0 | I105: ='1-03-2014'!I105 -> 0 | J105: ='1-03-2014'!J105 -> 0 | K105: ='1-03-2014'!K105 -> 0
C106: ='1-03-2014'!C106 -> 0 | D106: ='1-03-2014'!D106 -> 0 | E106: ='1-03-2014'!E106 -> 0 | F106: ='1-03-2014'!F106 -> 0 | G106: ='1-03-2014'!G106 -> 0 | H106: ='1-03-2014'!H106 -> 0 | I106: ='1-03-2014'!I106 -> 0 | J106: ='1-03-2014'!J106 -> 0 | K106: ='1-03-2014'!K106 -> 0
C107: ='1-03-2014'!C107 -> 0 | D107: ='1-03-2014'!D107 -> 0 | E107: ='1-03-2014'!E107 -> 0 | F107: ='1-03-2014'!F107 -> 0 | G107: ='1-03-2014'!G107 -> 0 | H107: ='1-03-2014'!H107 -> 0 | I107: ='1-03-2014'!I107 -> 0 | J107: ='1-03-2014'!J107 -> 0 | K107: ='1-03-2014'!K107 -> 0
A108: ='7-03-2014'!A108 -> 0 | B108: ='7-03-2014'!B108 -> 0
A109: ='7-03-2014'!A109 -> 0 | B109: ='7-03-2014'!B109 -> 0
A110: ='7-03-2014'!A110 -> 0 | B110: ='7-03-2014'!B110 -> 0
A111: ='7-03-2014'!A111 -> 0 | B111: ='7-03-2014'!B111 -> 0
A112: ='7-03-2014'!A112 -> 0 | B112: ='7-03-2014'!B112 -> 0
A113: ='7-03-2014'!A113 -> 0 | B113: ='7-03-2014'!B113 -> 0
A114: ='7-03-2014'!A114 -> 0 | B114: ='7-03-2014'!B114 -> 0
A115: ='7-03-2014'!A115 -> 0 | B115: ='7-03-2014'!B115 -> 0
A116: ='7-03-2014'!A116 -> 0 | B116: ='7-03-2014'!B116 -> 0
A117: ='7-03-2014'!A117 -> 0 | B117: ='7-03-2014'!B117 -> 0
A118: ='7-03-2014'!A118 -> 0 | B118: ='7-03-2014'!B118 -> 0
A119: ='7-03-2014'!A119 -> 0 | B119: ='7-03-2014'!B119 -> 0
... A136: ='7-03-2014'!A136 -> 0 | B136: ='7-03-2014'!B136 -> 0

Sheet 9-03-2014
C3: ='8-03-2014'!C3 -> 0 | D3: ='8-03-2014'!D3 -> 0 | E3: ='8-03-2014'!E3 -> 0 | F3: ='8-03-2014'!F3 -> 0 | G3: ='8-03-2014'!G3 -> 0 | H3: ='8-03-2014'!H3 -> 0 | I3: ='8-03-2014'!I3 -> 0 | J3: ='8-03-2014'!J3 -> 0 | K3: ='8-03-2014'!K3 -> 0
C4: ='8-03-2014'!C4 -> 0 | D4: ='8-03-2014'!D4 -> 0 | E4: ='8-03-2014'!E4 -> 0 | F4: ='8-03-2014'!F4 -> 0 | G4: ='8-03-2014'!G4 -> 0 | H4: ='8-03-2014'!H4 -> 0 | I4: ='8-03-2014'!I4 -> 0 | J4: ='8-03-2014'!J4 -> 0 | K4: ='8-03-2014'!K4 -> 0
C5: ='8-03-2014'!C5 -> 0 | D5: ='8-03-2014'!D5 -> 0 | E5: ='8-03-2014'!E5 -> 0 | F5: ='8-03-2014'!F5 -> 0 | G5: ='8-03-2014'!G5 -> 0 | H5: ='8-03-2014'!H5 -> 0 | I5: ='8-03-2014'!I5 -> 0 | J5: ='8-03-2014'!J5 -> 0 | K5: ='8-03-2014'!K5 -> 0
A6: ='8-03-2014'!A6 -> 0 | B6: ='8-03-2014'!B6 -> 0
A7: ='8-03-2014'!A7 -> 0 | B7: ='8-03-2014'!B7 -> 0
A8: ='8-03-2014'!A8 -> 0 | B8: ='8-03-2014'!B8 -> 0
A9: ='8-03-2014'!A9 -> 0 | B9: ='8-03-2014'!B9 -> 0
A10: ='8-03-2014'!A10 -> 0 | B10: ='8-03-2014'!B10 -> 0
A11: ='8-03-2014'!A11 -> 0 | B11: ='8-03-2014'!B11 -> 0
A12: ='8-03-2014'!A12 -> 0 | B12: ='8-03-2014'!B12 -> 0
A13: ='8-03-2014'!A13 -> 0 | B13: ='8-03-2014'!B13 -> 0
A14: ='8-03-2014'!A14 -> 0 | B14: ='8-03-2014'!B14 -> 0
A15: ='8-03-2014'!A15 -> 0 | B15: ='8-03-2014'!B15 -> 0
A16: ='8-03-2014'!A16 -> 0 | B16: ='8-03-2014'!B16 -> 0
A17: ='8-03-2014'!A17 -> 0 | B17: ='8-03-2014'!B17 -> 0
... A34: ='8-03-2014'!A34 -> 0 | B34: ='8-03-2014'!B34 -> 0
C37: ='1-03-2014'!C37 -> 0 | D37: ='1-03-2014'!D37 -> 0 | E37: ='1-03-2014'!E37 -> 0 | F37: ='1-03-2014'!F37 -> 0 | G37: ='1-03-2014'!G37 -> 0 | H37: ='1-03-2014'!H37 -> 0 | I37: ='1-03-2014'!I37 -> 0 | J37: ='1-03-2014'!J37 -> 0 | K37: ='1-03-2014'!K37 -> 0
C38: ='1-03-2014'!C38 -> 0 | D38: ='1-03-2014'!D38 -> 0 | E38: ='1-03-2014'!E38 -> 0 | F38: ='1-03-2014'!F38 -> 0 | G38: ='1-03-2014'!G38 -> 0 | H38: ='1-03-2014'!H38 -> 0 | I38: ='1-03-2014'!I38 -> 0 | J38: ='1-03-2014'!J38 -> 0 | K38: ='1-03-2014'!K38 -> 0
C39: ='1-03-2014'!C39 -> 0 | D39: ='1-03-2014'!D39 -> 0 | E39: ='1-03-2014'!E39 -> 0 | F39: ='1-03-2014'!F39 -> 0 | G39: ='1-03-2014'!G39 -> 0 | H39: ='1-03-2014'!H39 -> 0 | I39: ='1-03-2014'!I39 -> 0 | J39: ='1-03-2014'!J39 -> 0 | K39: ='1-03-2014'!K39 -> 0
A40: ='8-03-2014'!A40 -> 0 | B40: ='8-03-2014'!B40 -> 0
A41: ='8-03-2014'!A41 -> 0 | B41: ='8-03-2014'!B41 -> 0
A42: ='8-03-2014'!A42 -> 0 | B42: ='8-03-2014'!B42 -> 0
A43: ='8-03-2014'!A43 -> 0 | B43: ='8-03-2014'!B43 -> 0
A44: ='8-03-2014'!A44 -> 0 | B44: ='8-03-2014'!B44 -> 0
A45: ='8-03-2014'!A45 -> 0 | B45: ='8-03-2014'!B45 -> 0
A46: ='8-03-2014'!A46 -> 0 | B46: ='8-03-2014'!B46 -> 0
A47: ='8-03-2014'!A47 -> 0 | B47: ='8-03-2014'!B47 -> 0
A48: ='8-03-2014'!A48 -> 0 | B48: ='8-03-2014'!B48 -> 0
A49: ='8-03-2014'!A49 -> 0 | B49: ='8-03-2014'!B49 -> 0
A50: ='8-03-2014'!A50 -> 0 | B50: ='8-03-2014'!B50 -> 0
A51: ='8-03-2014'!A51 -> 0 | B51: ='8-03-2014'!B51 -> 0
... A68: ='8-03-2014'!A68 -> 0 | B68: ='8-03-2014'!B68 -> 0
C71: ='1-03-2014'!C71 -> 0 | D71: ='1-03-2014'!D71 -> 0 | E71: ='1-03-2014'!E71 -> 0 | F71: ='1-03-2014'!F71 -> 0 | G71: ='1-03-2014'!G71 -> 0 | H71: ='1-03-2014'!H71 -> 0 | I71: ='1-03-2014'!I71 -> 0 | J71: ='1-03-2014'!J71 -> 0 | K71: ='1-03-2014'!K71 -> 0
C72: ='1-03-2014'!C72 -> 0 | D72: ='1-03-2014'!D72 -> 0 | E72: ='1-03-2014'!E72 -> 0 | F72: ='1-03-2014'!F72 -> 0 | G72: ='1-03-2014'!G72 -> 0 | H72: ='1-03-2014'!H72 -> 0 | I72: ='1-03-2014'!I72 -> 0 | J72: ='1-03-2014'!J72 -> 0 | K72: ='1-03-2014'!K72 -> 0
C73: ='1-03-2014'!C73 -> 0 | D73: ='1-03-2014'!D73 -> 0 | E73: ='1-03-2014'!E73 -> 0 | F73: ='1-03-2014'!F73 -> 0 | G73: ='1-03-2014'!G73 -> 0 | H73: ='1-03-2014'!H73 -> 0 | I73: ='1-03-2014'!I73 -> 0 | J73: ='1-03-2014'!J73 -> 0 | K73: ='1-03-2014'!K73 -> 0
A74: ='8-03-2014'!A74 -> 0 | B74: ='8-03-2014'!B74 -> 0
A75: ='8-03-2014'!A75 -> 0 | B75: ='8-03-2014'!B75 -> 0
A76: ='8-03-2014'!A76 -> 0 | B76: ='8-03-2014'!B76 -> 0
A77: ='8-03-2014'!A77 -> 0 | B77: ='8-03-2014'!B77 -> 0
A78: ='8-03-2014'!A78 -> 0 | B78: ='8-03-2014'!B78 -> 0
A79: ='8-03-2014'!A79 -> 0 | B79: ='8-03-2014'!B79 -> 0
A80: ='8-03-2014'!A80 -> 0 | B80: ='8-03-2014'!B80 -> 0
A81: ='8-03-2014'!A81 -> 0 | B81: ='8-03-2014'!B81 -> 0
A82: ='8-03-2014'!A82 -> 0 | B82: ='8-03-2014'!B82 -> 0
A83: ='8-03-2014'!A83 -> 0 | B83: ='8-03-2014'!B83 -> 0
A84: ='8-03-2014'!A84 -> 0 | B84: ='8-03-2014'!B84 -> 0
A85: ='8-03-2014'!A85 -> 0 | B85: ='8-03-2014'!B85 -> 0
... A102: ='8-03-2014'!A102 -> 0 | B102: ='8-03-2014'!B102 -> 0
C105: ='1-03-2014'!C105 -> 0 | D105: ='1-03-2014'!D105 -> 0 | E105: ='1-03-2014'!E105 -> 0 | F105: ='1-03-2014'!F105 -> 0 | G105: ='1-03-2014'!G105 -> 0 | H105: ='1-03-2014'!H105 -> 0 | I105: ='1-03-2014'!I105 -> 0 | J105: ='1-03-2014'!J105 -> 0 | K105: ='1-03-2014'!K105 -> 0
C106: ='1-03-2014'!C106 -> 0 | D106: ='1-03-2014'!D106 -> 0 | E106: ='1-03-2014'!E106 -> 0 | F106: ='1-03-2014'!F106 -> 0 | G106: ='1-03-2014'!G106 -> 0 | H106: ='1-03-2014'!H106 -> 0 | I106: ='1-03-2014'!I106 -> 0 | J106: ='1-03-2014'!J106 -> 0 | K106: ='1-03-2014'!K106 -> 0
C107: ='1-03-2014'!C107 -> 0 | D107: ='1-03-2014'!D107 -> 0 | E107: ='1-03-2014'!E107 -> 0 | F107: ='1-03-2014'!F107 -> 0 | G107: ='1-03-2014'!G107 -> 0 | H107: ='1-03-2014'!H107 -> 0 | I107: ='1-03-2014'!I107 -> 0 | J107: ='1-03-2014'!J107 -> 0 | K107: ='1-03-2014'!K107 -> 0
A108: ='8-03-2014'!A108 -> 0 | B108: ='8-03-2014'!B108 -> 0
A109: ='8-03-2014'!A109 -> 0 | B109: ='8-03-2014'!B109 -> 0
A110: ='8-03-2014'!A110 -> 0 | B110: ='8-03-2014'!B110 -> 0
A111: ='8-03-2014'!A111 -> 0 | B111: ='8-03-2014'!B111 -> 0
A112: ='8-03-2014'!A112 -> 0 | B112: ='8-03-2014'!B112 -> 0
A113: ='8-03-2014'!A113 -> 0 | B113: ='8-03-2014'!B113 -> 0
A114: ='8-03-2014'!A114 -> 0 | B114: ='8-03-2014'!B114 -> 0
A115: ='8-03-2014'!A115 -> 0 | B115: ='8-03-2014'!B115 -> 0
A116: ='8-03-2014'!A116 -> 0 | B116: ='8-03-2014'!B116 -> 0
A117: ='8-03-2014'!A117 -> 0 | B117: ='8-03-2014'!B117 -> 0
A118: ='8-03-2014'!A118 -> 0 | B118: ='8-03-2014'!B118 -> 0
A119: ='8-03-2014'!A119 -> 0 | B119: ='8-03-2014'!B119 -> 0
... A136: ='8-03-2014'!A136 -> 0 | B136: ='8-03-2014'!B136 -> 0

Sheet 10-03-2014
C3: ='9-03-2014'!C3 -> 0 | D3: ='9-03-2014'!D3 -> 0 | E3: ='9-03-2014'!E3 -> 0 | F3: ='9-03-2014'!F3 -> 0 | G3: ='9-03-2014'!G3 -> 0 | H3: ='9-03-2014'!H3 -> 0 | I3: ='9-03-2014'!I3 -> 0 | J3: ='9-03-2014'!J3 -> 0 | K3: ='9-03-2014'!K3 -> 0
C4: ='9-03-2014'!C4 -> 0 | D4: ='9-03-2014'!D4 -> 0 | E4: ='9-03-2014'!E4 -> 0 | F4: ='9-03-2014'!F4 -> 0 | G4: ='9-03-2014'!G4 -> 0 | H4: ='9-03-2014'!H4 -> 0 | I4: ='9-03-2014'!I4 -> 0 | J4: ='9-03-2014'!J4 -> 0 | K4: ='9-03-2014'!K4 -> 0
C5: ='9-03-2014'!C5 -> 0 | D5: ='9-03-2014'!D5 -> 0 | E5: ='9-03-2014'!E5 -> 0 | F5: ='9-03-2014'!F5 -> 0 | G5: ='9-03-2014'!G5 -> 0 | H5: ='9-03-2014'!H5 -> 0 | I5: ='9-03-2014'!I5 -> 0 | J5: ='9-03-2014'!J5 -> 0 | K5: ='9-03-2014'!K5 -> 0
A6: ='9-03-2014'!A6 -> 0 | B6: ='9-03-2014'!B6 -> 0
A7: ='9-03-2014'!A7 -> 0 | B7: ='9-03-2014'!B7 -> 0
A8: ='9-03-2014'!A8 -> 0 | B8: ='9-03-2014'!B8 -> 0
A9: ='9-03-2014'!A9 -> 0 | B9: ='9-03-2014'!B9 -> 0
A10: ='9-03-2014'!A10 -> 0 | B10: ='9-03-2014'!B10 -> 0
A11: ='9-03-2014'!A11 -> 0 | B11: ='9-03-2014'!B11 -> 0
A12: ='9-03-2014'!A12 -> 0 | B12: ='9-03-2014'!B12 -> 0
A13: ='9-03-2014'!A13 -> 0 | B13: ='9-03-2014'!B13 -> 0
A14: ='9-03-2014'!A14 -> 0 | B14: ='9-03-2014'!B14 -> 0
A15: ='9-03-2014'!A15 -> 0 | B15: ='9-03-2014'!B15 -> 0
A16: ='9-03-2014'!A16 -> 0 | B16: ='9-03-2014'!B16 -> 0
A17: ='9-03-2014'!A17 -> 0 | B17: ='9-03-2014'!B17 -> 0
... A34: ='9-03-2014'!A34 -> 0 | B34: ='9-03-2014'!B34 -> 0
C37: ='1-03-2014'!C37 -> 0 | D37: ='1-03-2014'!D37 -> 0 | E37: ='1-03-2014'!E37 -> 0 | F37: ='1-03-2014'!F37 -> 0 | G37: ='1-03-2014'!G37 -> 0 | H37: ='1-03-2014'!H37 -> 0 | I37: ='1-03-2014'!I37 -> 0 | J37: ='1-03-2014'!J37 -> 0 | K37: ='1-03-2014'!K37 -> 0
C38: ='1-03-2014'!C38 -> 0 | D38: ='1-03-2014'!D38 -> 0 | E38: ='1-03-2014'!E38 -> 0 | F38: ='1-03-2014'!F38 -> 0 | G38: ='1-03-2014'!G38 -> 0 | H38: ='1-03-2014'!H38 -> 0 | I38: ='1-03-2014'!I38 -> 0 | J38: ='1-03-2014'!J38 -> 0 | K38: ='1-03-2014'!K38 -> 0
C39: ='1-03-2014'!C39 -> 0 | D39: ='1-03-2014'!D39 -> 0 | E39: ='1-03-2014'!E39 -> 0 | F39: ='1-03-2014'!F39 -> 0 | G39: ='1-03-2014'!G39 -> 0 | H39: ='1-03-2014'!H39 -> 0 | I39: ='1-03-2014'!I39 -> 0 | J39: ='1-03-2014'!J39 -> 0 | K39: ='1-03-2014'!K39 -> 0
A40: ='9-03-2014'!A40 -> 0 | B40: ='9-03-2014'!B40 -> 0
A41: ='9-03-2014'!A41 -> 0 | B41: ='9-03-2014'!B41 -> 0
A42: ='9-03-2014'!A42 -> 0 | B42: ='9-03-2014'!B42 -> 0
A43: ='9-03-2014'!A43 -> 0 | B43: ='9-03-2014'!B43 -> 0
A44: ='9-03-2014'!A44 -> 0 | B44: ='9-03-2014'!B44 -> 0
A45: ='9-03-2014'!A45 -> 0 | B45: ='9-03-2014'!B45 -> 0
A46: ='9-03-2014'!A46 -> 0 | B46: ='9-03-2014'!B46 -> 0
A47: ='9-03-2014'!A47 -> 0 | B47: ='9-03-2014'!B47 -> 0
A48: ='9-03-2014'!A48 -> 0 | B48: ='9-03-2014'!B48 -> 0
A49: ='9-03-2014'!A49 -> 0 | B49: ='9-03-2014'!B49 -> 0
A50: ='9-03-2014'!A50 -> 0 | B50: ='9-03-2014'!B50 -> 0
A51: ='9-03-2014'!A51 -> 0 | B51: ='9-03-2014'!B51 -> 0
... A68: ='9-03-2014'!A68 -> 0 | B68: ='9-03-2014'!B68 -> 0
C71: ='1-03-2014'!C71 -> 0 | D71: ='1-03-2014'!D71 -> 0 | E71: ='1-03-2014'!E71 -> 0 | F71: ='1-03-2014'!F71 -> 0 | G71: ='1-03-2014'!G71 -> 0 | H71: ='1-03-2014'!H71 -> 0 | I71: ='1-03-2014'!I71 -> 0 | J71: ='1-03-2014'!J71 -> 0 | K71: ='1-03-2014'!K71 -> 0
C72: ='1-03-2014'!C72 -> 0 | D72: ='1-03-2014'!D72 -> 0 | E72: ='1-03-2014'!E72 -> 0 | F72: ='1-03-2014'!F72 -> 0 | G72: ='1-03-2014'!G72 -> 0 | H72: ='1-03-2014'!H72 -> 0 | I72: ='1-03-2014'!I72 -> 0 | J72: ='1-03-2014'!J72 -> 0 | K72: ='1-03-2014'!K72 -> 0
C73: ='1-03-2014'!C73 -> 0 | D73: ='1-03-2014'!D73 -> 0 | E73: ='1-03-2014'!E73 -> 0 | F73: ='1-03-2014'!F73 -> 0 | G73: ='1-03-2014'!G73 -> 0 | H73: ='1-03-2014'!H73 -> 0 | I73: ='1-03-2014'!I73 -> 0 | J73: ='1-03-2014'!J73 -> 0 | K73: ='1-03-2014'!K73 -> 0
A74: ='9-03-2014'!A74 -> 0 | B74: ='9-03-2014'!B74 -> 0
A75: ='9-03-2014'!A75 -> 0 | B75: ='9-03-2014'!B75 -> 0
A76: ='9-03-2014'!A76 -> 0 | B76: ='9-03-2014'!B76 -> 0
A77: ='9-03-2014'!A77 -> 0 | B77: ='9-03-2014'!B77 -> 0
A78: ='9-03-2014'!A78 -> 0 | B78: ='9-03-2014'!B78 -> 0
A79: ='9-03-2014'!A79 -> 0 | B79: ='9-03-2014'!B79 -> 0
A80: ='9-03-2014'!A80 -> 0 | B80: ='9-03-2014'!B80 -> 0
A81: ='9-03-2014'!A81 -> 0 | B81: ='9-03-2014'!B81 -> 0
A82: ='9-03-2014'!A82 -> 0 | B82: ='9-03-2014'!B82 -> 0
A83: ='9-03-2014'!A83 -> 0 | B83: ='9-03-2014'!B83 -> 0
A84: ='9-03-2014'!A84 -> 0 | B84: ='9-03-2014'!B84 -> 0
A85: ='9-03-2014'!A85 -> 0 | B85: ='9-03-2014'!B85 -> 0
... A102: ='9-03-2014'!A102 -> 0 | B102: ='9-03-2014'!B102 -> 0
C105: ='1-03-2014'!C105 -> 0 | D105: ='1-03-2014'!D105 -> 0 | E105: ='1-03-2014'!E105 -> 0 | F105: ='1-03-2014'!F105 -> 0 | G105: ='1-03-2014'!G105 -> 0 | H105: ='1-03-2014'!H105 -> 0 | I105: ='1-03-2014'!I105 -> 0 | J105: ='1-03-2014'!J105 -> 0 | K105: ='1-03-2014'!K105 -> 0
C106: ='1-03-2014'!C106 -> 0 | D106: ='1-03-2014'!D106 -> 0 | E106: ='1-03-2014'!E106 -> 0 | F106: ='1-03-2014'!F106 -> 0 | G106: ='1-03-2014'!G106 -> 0 | H106: ='1-03-2014'!H106 -> 0 | I106: ='1-03-2014'!I106 -> 0 | J106: ='1-03-2014'!J106 -> 0 | K106: ='1-03-2014'!K106 -> 0
C107: ='1-03-2014'!C107 -> 0 | D107: ='1-03-2014'!D107 -> 0 | E107: ='1-03-2014'!E107 -> 0 | F107: ='1-03-2014'!F107 -> 0 | G107: ='1-03-2014'!G107 -> 0 | H107: ='1-03-2014'!H107 -> 0 | I107: ='1-03-2014'!I107 -> 0 | J107: ='1-03-2014'!J107 -> 0 | K107: ='1-03-2014'!K107 -> 0
A108: ='9-03-2014'!A108 -> 0 | B108: ='9-03-2014'!B108 -> 0
A109: ='9-03-2014'!A109 -> 0 | B109: ='9-03-2014'!B109 -> 0
A110: ='9-03-2014'!A110 -> 0 | B110: ='9-03-2014'!B110 -> 0
A111: ='9-03-2014'!A111 -> 0 | B111: ='9-03-2014'!B111 -> 0
A112: ='9-03-2014'!A112 -> 0 | B112: ='9-03-2014'!B112 -> 0
A113: ='9-03-2014'!A113 -> 0 | B113: ='9-03-2014'!B113 -> 0
A114: ='9-03-2014'!A114 -> 0 | B114: ='9-03-2014'!B114 -> 0
A115: ='9-03-2014'!A115 -> 0 | B115: ='9-03-2014'!B115 -> 0
A116: ='9-03-2014'!A116 -> 0 | B116: ='9-03-2014'!B116 -> 0
A117: ='9-03-2014'!A117 -> 0 | B117: ='9-03-2014'!B117 -> 0
A118: ='9-03-2014'!A118 -> 0 | B118: ='9-03-2014'!B118 -> 0
A119: ='9-03-2014'!A119 -> 0 | B119: ='9-03-2014'!B119 -> 0
... A136: ='9-03-2014'!A136 -> 0 | B136: ='9-03-2014'!B136 -> 0

Sheet 11-03-2014
C3: ='10-03-2014'!C3 -> 0 | D3: ='10-03-2014'!D3 -> 0 | E3: ='10-03-2014'!E3 -> 0 | F3: ='10-03-2014'!F3 -> 0 | G3: ='10-03-2014'!G3 -> 0 | H3: ='10-03-2014'!H3 -> 0 | I3: ='10-03-2014'!I3 -> 0 | J3: ='10-03-2014'!J3 -> 0 | K3: ='10-03-2014'!K3 -> 0
C4: ='10-03-2014'!C4 -> 0 | D4: ='10-03-2014'!D4 -> 0 | E4: ='10-03-2014'!E4 -> 0 | F4: ='10-03-2014'!F4 -> 0 | G4: ='10-03-2014'!G4 -> 0 | H4: ='10-03-2014'!H4 -> 0 | I4: ='10-03-2014'!I4 -> 0 | J4: ='10-03-2014'!J4 -> 0 | K4: ='10-03-2014'!K4 -> 0
C5: ='10-03-2014'!C5 -> 0 | D5: ='10-03-2014'!D5 -> 0 | E5: ='10-03-2014'!E5 -> 0 | F5: ='10-03-2014'!F5 -> 0 | G5: ='10-03-2014'!G5 -> 0 | H5: ='10-03-2014'!H5 -> 0 | I5: ='10-03-2014'!I5 -> 0 | J5: ='10-03-2014'!J5 -> 0 | K5: ='10-03-2014'!K5 -> 0
A6: ='10-03-2014'!A6 -> 0 | B6: ='10-03-2014'!B6 -> 0
A7: ='10-03-2014'!A7 -> 0 | B7: ='10-03-2014'!B7 -> 0
A8: ='10-03-2014'!A8 -> 0 | B8: ='10-03-2014'!B8 -> 0
A9: ='10-03-2014'!A9 -> 0 | B9: ='10-03-2014'!B9 -> 0
A10: ='10-03-2014'!A10 -> 0 | B10: ='10-03-2014'!B10 -> 0
A11: ='10-03-2014'!A11 -> 0 | B11: ='10-03-2014'!B11 -> 0
A12: ='10-03-2014'!A12 -> 0 | B12: ='10-03-2014'!B12 -> 0
A13: ='10-03-2014'!A13 -> 0 | B13: ='10-03-2014'!B13 -> 0
A14: ='10-03-2014'!A14 -> 0 | B14: ='10-03-2014'!B14 -> 0
A15: ='10-03-2014'!A15 -> 0 | B15: ='10-03-2014'!B15 -> 0
A16: ='10-03-2014'!A16 -> 0 | B16: ='10-03-2014'!B16 -> 0
A17: ='10-03-2014'!A17 -> 0 | B17: ='10-03-2014'!B17 -> 0
... A34: ='10-03-2014'!A34 -> 0 | B34: ='10-03-2014'!B34 -> 0
C37: ='1-03-2014'!C37 -> 0 | D37: ='1-03-2014'!D37 -> 0 | E37: ='1-03-2014'!E37 -> 0 | F37: ='1-03-2014'!F37 -> 0 | G37: ='1-03-2014'!G37 -> 0 | H37: ='1-03-2014'!H37 -> 0 | I37: ='1-03-2014'!I37 -> 0 | J37: ='1-03-2014'!J37 -> 0 | K37: ='1-03-2014'!K37 -> 0
C38: ='1-03-2014'!C38 -> 0 | D38: ='1-03-2014'!D38 -> 0 | E38: ='1-03-2014'!E38 -> 0 | F38: ='1-03-2014'!F38 -> 0 | G38: ='1-03-2014'!G38 -> 0 | H38: ='1-03-2014'!H38 -> 0 | I38: ='1-03-2014'!I38 -> 0 | J38: ='1-03-2014'!J38 -> 0 | K38: ='1-03-2014'!K38 -> 0
C39: ='1-03-2014'!C39 -> 0 | D39: ='1-03-2014'!D39 -> 0 | E39: ='1-03-2014'!E39 -> 0 | F39: ='1-03-2014'!F39 -> 0 | G39: ='1-03-2014'!G39 -> 0 | H39: ='1-03-2014'!H39 -> 0 | I39: ='1-03-2014'!I39 -> 0 | J39: ='1-03-2014'!J39 -> 0 | K39: ='1-03-2014'!K39 -> 0
A40: ='10-03-2014'!A40 -> 0 | B40: ='10-03-2014'!B40 -> 0
A41: ='10-03-2014'!A41 -> 0 | B41: ='10-03-2014'!B41 -> 0
A42: ='10-03-2014'!A42 -> 0 | B42: ='10-03-2014'!B42 -> 0
A43: ='10-03-2014'!A43 -> 0 | B43: ='10-03-2014'!B43 -> 0
A44: ='10-03-2014'!A44 -> 0 | B44: ='10-03-2014'!B44 -> 0
A45: ='10-03-2014'!A45 -> 0 | B45: ='10-03-2014'!B45 -> 0
A46: ='10-03-2014'!A46 -> 0 | B46: ='10-03-2014'!B46 -> 0
A47: ='10-03-2014'!A47 -> 0 | B47: ='10-03-2014'!B47 -> 0
A48: ='10-03-2014'!A48 -> 0 | B48: ='10-03-2014'!B48 -> 0
A49: ='10-03-2014'!A49 -> 0 | B49: ='10-03-2014'!B49 -> 0
A50: ='10-03-2014'!A50 -> 0 | B50: ='10-03-2014'!B50 -> 0
A51: ='10-03-2014'!A51 -> 0 | B51: ='10-03-2014'!B51 -> 0
... A68: ='10-03-2014'!A68 -> 0 | B68: ='10-03-2014'!B68 -> 0
C71: ='1-03-2014'!C71 -> 0 | D71: ='1-03-2014'!D71 -> 0 | E71: ='1-03-2014'!E71 -> 0 | F71: ='1-03-2014'!F71 -> 0 | G71: ='1-03-2014'!G71 -> 0 | H71: ='1-03-2014'!H71 -> 0 | I71: ='1-03-2014'!I71 -> 0 | J71: ='1-03-2014'!J71 -> 0 | K71: ='1-03-2014'!K71 -> 0
C72: ='1-03-2014'!C72 -> 0 | D72: ='1-03-2014'!D72 -> 0 | E72: ='1-03-2014'!E72 -> 0 | F72: ='1-03-2014'!F72 -> 0 | G72: ='1-03-2014'!G72 -> 0 | H72: ='1-03-2014'!H72 -> 0 | I72: ='1-03-2014'!I72 -> 0 | J72: ='1-03-2014'!J72 -> 0 | K72: ='1-03-2014'!K72 -> 0
C73: ='1-03-2014'!C73 -> 0 | D73: ='1-03-2014'!D73 -> 0 | E73: ='1-03-2014'!E73 -> 0 | F73: ='1-03-2014'!F73 -> 0 | G73: ='1-03-2014'!G73 -> 0 | H73: ='1-03-2014'!H73 -> 0 | I73: ='1-03-2014'!I73 -> 0 | J73: ='1-03-2014'!J73 -> 0 | K73: ='1-03-2014'!K73 -> 0
A74: ='10-03-2014'!A74 -> 0 | B74: ='10-03-2014'!B74 -> 0
A75: ='10-03-2014'!A75 -> 0 | B75: ='10-03-2014'!B75 -> 0
A76: ='10-03-2014'!A76 -> 0 | B76: ='10-03-2014'!B76 -> 0
A77: ='10-03-2014'!A77 -> 0 | B77: ='10-03-2014'!B77 -> 0
A78: ='10-03-2014'!A78 -> 0 | B78: ='10-03-2014'!B78 -> 0
A79: ='10-03-2014'!A79 -> 0 | B79: ='10-03-2014'!B79 -> 0
A80: ='10-03-2014'!A80 -> 0 | B80: ='10-03-2014'!B80 -> 0
A81: ='10-03-2014'!A81 -> 0 | B81: ='10-03-2014'!B81 -> 0
A82: ='10-03-2014'!A82 -> 0 | B82: ='10-03-2014'!B82 -> 0
A83: ='10-03-2014'!A83 -> 0 | B83: ='10-03-2014'!B83 -> 0
A84: ='10-03-2014'!A84 -> 0 | B84: ='10-03-2014'!B84 -> 0
A85: ='10-03-2014'!A85 -> 0 | B85: ='10-03-2014'!B85 -> 0
... A102: ='10-03-2014'!A102 -> 0 | B102: ='10-03-2014'!B102 -> 0
C105: ='1-03-2014'!C105 -> 0 | D105: ='1-03-2014'!D105 -> 0 | E105: ='1-03-2014'!E105 -> 0 | F105: ='1-03-2014'!F105 -> 0 | G105: ='1-03-2014'!G105 -> 0 | H105: ='1-03-2014'!H105 -> 0 | I105: ='1-03-2014'!I105 -> 0 | J105: ='1-03-2014'!J105 -> 0 | K105: ='1-03-2014'!K105 -> 0
C106: ='1-03-2014'!C106 -> 0 | D106: ='1-03-2014'!D106 -> 0 | E106: ='1-03-2014'!E106 -> 0 | F106: ='1-03-2014'!F106 -> 0 | G106: ='1-03-2014'!G106 -> 0 | H106: ='1-03-2014'!H106 -> 0 | I106: ='1-03-2014'!I106 -> 0 | J106: ='1-03-2014'!J106 -> 0 | K106: ='1-03-2014'!K106 -> 0
C107: ='1-03-2014'!C107 -> 0 | D107: ='1-03-2014'!D107 -> 0 | E107: ='1-03-2014'!E107 -> 0 | F107: ='1-03-2014'!F107 -> 0 | G107: ='1-03-2014'!G107 -> 0 | H107: ='1-03-2014'!H107 -> 0 | I107: ='1-03-2014'!I107 -> 0 | J107: ='1-03-2014'!J107 -> 0 | K107: ='1-03-2014'!K107 -> 0
A108: ='10-03-2014'!A108 -> 0 | B108: ='10-03-2014'!B108 -> 0
A109: ='10-03-2014'!A109 -> 0 | B109: ='10-03-2014'!B109 -> 0
A110: ='10-03-2014'!A110 -> 0 | B110: ='10-03-2014'!B110 -> 0
A111: ='10-03-2014'!A111 -> 0 | B111: ='10-03-2014'!B111 -> 0
A112: ='10-03-2014'!A112 -> 0 | B112: ='10-03-2014'!B112 -> 0
A113: ='10-03-2014'!A113 -> 0 | B113: ='10-03-2014'!B113 -> 0
A114: ='10-03-2014'!A114 -> 0 | B114: ='10-03-2014'!B114 -> 0
A115: ='10-03-2014'!A115 -> 0 | B115: ='10-03-2014'!B115 -> 0
A116: ='10-03-2014'!A116 -> 0 | B116: ='10-03-2014'!B116 -> 0
A117: ='10-03-2014'!A117 -> 0 | B117: ='10-03-2014'!B117 -> 0
A118: ='10-03-2014'!A118 -> 0 | B118: ='10-03-2014'!B118 -> 0
A119: ='10-03-2014'!A119 -> 0 | B119: ='10-03-2014'!B119 -> 0
... A136: ='10-03-2014'!A136 -> 0 | B136: ='10-03-2014'!B136 -> 0

Sheet 12-03-2014
C3: ='11-03-2014'!C3 -> 0 | D3: ='11-03-2014'!D3 -> 0 | E3: ='11-03-2014'!E3 -> 0 | F3: ='11-03-2014'!F3 -> 0 | G3: ='11-03-2014'!G3 -> 0 | H3: ='11-03-2014'!H3 -> 0 | I3: ='11-03-2014'!I3 -> 0 | J3: ='11-03-2014'!J3 -> 0 | K3: ='11-03-2014'!K3 -> 0
C4: ='11-03-2014'!C4 -> 0 | D4: ='11-03-2014'!D4 -> 0 | E4: ='11-03-2014'!E4 -> 0 | F4: ='11-03-2014'!F4 -> 0 | G4: ='11-03-2014'!G4 -> 0 | H4: ='11-03-2014'!H4 -> 0 | I4: ='11-03-2014'!I4 -> 0 | J4: ='11-03-2014'!J4 -> 0 | K4: ='11-03-2014'!K4 -> 0
C5: ='11-03-2014'!C5 -> 0 | D5: ='11-03-2014'!D5 -> 0 | E5: ='11-03-2014'!E5 -> 0 | F5: ='11-03-2014'!F5 -> 0 | G5: ='11-03-2014'!G5 -> 0 | H5: ='11-03-2014'!H5 -> 0 | I5: ='11-03-2014'!I5 -> 0 | J5: ='11-03-2014'!J5 -> 0 | K5: ='11-03-2014'!K5 -> 0
A6: ='11-03-2014'!A6 -> 0 | B6: ='11-03-2014'!B6 -> 0
A7: ='11-03-2014'!A7 -> 0 | B7: ='11-03-2014'!B7 -> 0
A8: ='11-03-2014'!A8 -> 0 | B8: ='11-03-2014'!B8 -> 0
A9: ='11-03-2014'!A9 -> 0 | B9: ='11-03-2014'!B9 -> 0
A10: ='11-03-2014'!A10 -> 0 | B10: ='11-03-2014'!B10 -> 0
A11: ='11-03-2014'!A11 -> 0 | B11: ='11-03-2014'!B11 -> 0
A12: ='11-03-2014'!A12 -> 0 | B12: ='11-03-2014'!B12 -> 0
A13: ='11-03-2014'!A13 -> 0 | B13: ='11-03-2014'!B13 -> 0
A14: ='11-03-2014'!A14 -> 0 | B14: ='11-03-2014'!B14 -> 0
A15: ='11-03-2014'!A15 -> 0 | B15: ='11-03-2014'!B15 -> 0
A16: ='11-03-2014'!A16 -> 0 | B16: ='11-03-2014'!B16 -> 0
A17: ='11-03-2014'!A17 -> 0 | B17: ='11-03-2014'!B17 -> 0
... A34: ='11-03-2014'!A34 -> 0 | B34: ='11-03-2014'!B34 -> 0
C37: ='1-03-2014'!C37 -> 0 | D37: ='1-03-2014'!D37 -> 0 | E37: ='1-03-2014'!E37 -> 0 | F37: ='1-03-2014'!F37 -> 0 | G37: ='1-03-2014'!G37 -> 0 | H37: ='1-03-2014'!H37 -> 0 | I37: ='1-03-2014'!I37 -> 0 | J37: ='1-03-2014'!J37 -> 0 | K37: ='1-03-2014'!K37 -> 0
C38: ='1-03-2014'!C38 -> 0 | D38: ='1-03-2014'!D38 -> 0 | E38: ='1-03-2014'!E38 -> 0 | F38: ='1-03-2014'!F38 -> 0 | G38: ='1-03-2014'!G38 -> 0 | H38: ='1-03-2014'!H38 -> 0 | I38: ='1-03-2014'!I38 -> 0 | J38: ='1-03-2014'!J38 -> 0 | K38: ='1-03-2014'!K38 -> 0
C39: ='1-03-2014'!C39 -> 0 | D39: ='1-03-2014'!D39 -> 0 | E39: ='1-03-2014'!E39 -> 0 | F39: ='1-03-2014'!F39 -> 0 | G39: ='1-03-2014'!G39 -> 0 | H39: ='1-03-2014'!H39 -> 0 | I39: ='1-03-2014'!I39 -> 0 | J39: ='1-03-2014'!J39 -> 0 | K39: ='1-03-2014'!K39 -> 0
A40: ='11-03-2014'!A40 -> 0 | B40: ='11-03-2014'!B40 -> 0
A41: ='11-03-2014'!A41 -> 0 | B41: ='11-03-2014'!B41 -> 0
A42: ='11-03-2014'!A42 -> 0 | B42: ='11-03-2014'!B42 -> 0
A43: ='11-03-2014'!A43 -> 0 | B43: ='11-03-2014'!B43 -> 0
A44: ='11-03-2014'!A44 -> 0 | B44: ='11-03-2014'!B44 -> 0
A45: ='11-03-2014'!A45 -> 0 | B45: ='11-03-2014'!B45 -> 0
A46: ='11-03-2014'!A46 -> 0 | B46: ='11-03-2014'!B46 -> 0
A47: ='11-03-2014'!A47 -> 0 | B47: ='11-03-2014'!B47 -> 0
A48: ='11-03-2014'!A48 -> 0 | B48: ='11-03-2014'!B48 -> 0
A49: ='11-03-2014'!A49 -> 0 | B49: ='11-03-2014'!B49 -> 0
A50: ='11-03-2014'!A50 -> 0 | B50: ='11-03-2014'!B50 -> 0
A51: ='11-03-2014'!A51 -> 0 | B51: ='11-03-2014'!B51 -> 0
... A68: ='11-03-2014'!A68 -> 0 | B68: ='11-03-2014'!B68 -> 0
C71: ='1-03-2014'!C71 -> 0 | D71: ='1-03-2014'!D71 -> 0 | E71: ='1-03-2014'!E71 -> 0 | F71: ='1-03-2014'!F71 -> 0 | G71: ='1-03-2014'!G71 -> 0 | H71: ='1-03-2014'!H71 -> 0 | I71: ='1-03-2014'!I71 -> 0 | J71: ='1-03-2014'!J71 -> 0 | K71: ='1-03-2014'!K71 -> 0
C72: ='1-03-2014'!C72 -> 0 | D72: ='1-03-2014'!D72 -> 0 | E72: ='1-03-2014'!E72 -> 0 | F72: ='1-03-2014'!F72 -> 0 | G72: ='1-03-2014'!G72 -> 0 | H72: ='1-03-2014'!H72 -> 0 | I72: ='1-03-2014'!I72 -> 0 | J72: ='1-03-2014'!J72 -> 0 | K72: ='1-03-2014'!K72 -> 0
C73: ='1-03-2014'!C73 -> 0 | D73: ='1-03-2014'!D73 -> 0 | E73: ='1-03-2014'!E73 -> 0 | F73: ='1-03-2014'!F73 -> 0 | G73: ='1-03-2014'!G73 -> 0 | H73: ='1-03-2014'!H73 -> 0 | I73: ='1-03-2014'!I73 -> 0 | J73: ='1-03-2014'!J73 -> 0 | K73: ='1-03-2014'!K73 -> 0
A74: ='11-03-2014'!A74 -> 0 | B74: ='11-03-2014'!B74 -> 0
A75: ='11-03-2014'!A75 -> 0 | B75: ='11-03-2014'!B75 -> 0
A76: ='11-03-2014'!A76 -> 0 | B76: ='11-03-2014'!B76 -> 0
A77: ='11-03-2014'!A77 -> 0 | B77: ='11-03-2014'!B77 -> 0
A78: ='11-03-2014'!A78 -> 0 | B78: ='11-03-2014'!B78 -> 0
A79: ='11-03-2014'!A79 -> 0 | B79: ='11-03-2014'!B79 -> 0
A80: ='11-03-2014'!A80 -> 0 | B80: ='11-03-2014'!B80 -> 0
A81: ='11-03-2014'!A81 -> 0 | B81: ='11-03-2014'!B81 -> 0
A82: ='11-03-2014'!A82 -> 0 | B82: ='11-03-2014'!B82 -> 0
A83: ='11-03-2014'!A83 -> 0 | B83: ='11-03-2014'!B83 -> 0
A84: ='11-03-2014'!A84 -> 0 | B84: ='11-03-2014'!B84 -> 0
A85: ='11-03-2014'!A85 -> 0 | B85: ='11-03-2014'!B85 -> 0
... A102: ='11-03-2014'!A102 -> 0 | B102: ='11-03-2014'!B102 -> 0
C105: ='1-03-2014'!C105 -> 0 | D105: ='1-03-2014'!D105 -> 0 | E105: ='1-03-2014'!E105 -> 0 | F105: ='1-03-2014'!F105 -> 0 | G105: ='1-03-2014'!G105 -> 0 | H105: ='1-03-2014'!H105 -> 0 | I105: ='1-03-2014'!I105 -> 0 | J105: ='1-03-2014'!J105 -> 0 | K105: ='1-03-2014'!K105 -> 0
C106: ='1-03-2014'!C106 -> 0 | D106: ='1-03-2014'!D106 -> 0 | E106: ='1-03-2014'!E106 -> 0 | F106: ='1-03-2014'!F106 -> 0 | G106: ='1-03-2014'!G106 -> 0 | H106: ='1-03-2014'!H106 -> 0 | I106: ='1-03-2014'!I106 -> 0 | J106: ='1-03-2014'!J106 -> 0 | K106: ='1-03-2014'!K106 -> 0
C107: ='1-03-2014'!C107 -> 0 | D107: ='1-03-2014'!D107 -> 0 | E107: ='1-03-2014'!E107 -> 0 | F107: ='1-03-2014'!F107 -> 0 | G107: ='1-03-2014'!G107 -> 0 | H107: ='1-03-2014'!H107 -> 0 | I107: ='1-03-2014'!I107 -> 0 | J107: ='1-03-2014'!J107 -> 0 | K107: ='1-03-2014'!K107 -> 0
A108: ='11-03-2014'!A108 -> 0 | B108: ='11-03-2014'!B108 -> 0
A109: ='11-03-2014'!A109 -> 0 | B109: ='11-03-2014'!B109 -> 0
A110: ='11-03-2014'!A110 -> 0 | B110: ='11-03-2014'!B110 -> 0
A111: ='11-03-2014'!A111 -> 0 | B111: ='11-03-2014'!B111 -> 0
A112: ='11-03-2014'!A112 -> 0 | B112: ='11-03-2014'!B112 -> 0
A113: ='11-03-2014'!A113 -> 0 | B113: ='11-03-2014'!B113 -> 0
A114: ='11-03-2014'!A114 -> 0 | B114: ='11-03-2014'!B114 -> 0
A115: ='11-03-2014'!A115 -> 0 | B115: ='11-03-2014'!B115 -> 0
A116: ='11-03-2014'!A116 -> 0 | B116: ='11-03-2014'!B116 -> 0
A117: ='11-03-2014'!A117 -> 0 | B117: ='11-03-2014'!B117 -> 0
A118: ='11-03-2014'!A118 -> 0 | B118: ='11-03-2014'!B118 -> 0
A119: ='11-03-2014'!A119 -> 0 | B119: ='11-03-2014'!B119 -> 0
... A136: ='11-03-2014'!A136 -> 0 | B136: ='11-03-2014'!B136 -> 0

Sheet 13-03-2014
C3: ='12-03-2014'!C3 -> 0 | D3: ='12-03-2014'!D3 -> 0 | E3: ='12-03-2014'!E3 -> 0 | F3: ='12-03-2014'!F3 -> 0 | G3: ='12-03-2014'!G3 -> 0 | H3: ='12-03-2014'!H3 -> 0 | I3: ='12-03-2014'!I3 -> 0 | J3: ='12-03-2014'!J3 -> 0 | K3: ='12-03-2014'!K3 -> 0
C4: ='12-03-2014'!C4 -> 0 | D4: ='12-03-2014'!D4 -> 0 | E4: ='12-03-2014'!E4 -> 0 | F4: ='12-03-2014'!F4 -> 0 | G4: ='12-03-2014'!G4 -> 0 | H4: ='12-03-2014'!H4 -> 0 | I4: ='12-03-2014'!I4 -> 0 | J4: ='12-03-2014'!J4 -> 0 | K4: ='12-03-2014'!K4 -> 0
C5: ='12-03-2014'!C5 -> 0 | D5: ='12-03-2014'!D5 -> 0 | E5: ='12-03-2014'!E5 -> 0 | F5: ='12-03-2014'!F5 -> 0 | G5: ='12-03-2014'!G5 -> 0 | H5: ='12-03-2014'!H5 -> 0 | I5: ='12-03-2014'!I5 -> 0 | J5: ='12-03-2014'!J5 -> 0 | K5: ='12-03-2014'!K5 -> 0
A6: ='12-03-2014'!A6 -> 0 | B6: ='12-03-2014'!B6 -> 0
A7: ='12-03-2014'!A7 -> 0 | B7: ='12-03-2014'!B7 -> 0
A8: ='12-03-2014'!A8 -> 0 | B8: ='12-03-2014'!B8 -> 0
A9: ='12-03-2014'!A9 -> 0 | B9: ='12-03-2014'!B9 -> 0
A10: ='12-03-2014'!A10 -> 0 | B10: ='12-03-2014'!B10 -> 0
A11: ='12-03-2014'!A11 -> 0 | B11: ='12-03-2014'!B11 -> 0
A12: ='12-03-2014'!A12 -> 0 | B12: ='12-03-2014'!B12 -> 0
A13: ='12-03-2014'!A13 -> 0 | B13: ='12-03-2014'!B13 -> 0
A14: ='12-03-2014'!A14 -> 0 | B14: ='12-03-2014'!B14 -> 0
A15: ='12-03-2014'!A15 -> 0 | B15: ='12-03-2014'!B15 -> 0
A16: ='12-03-2014'!A16 -> 0 | B16: ='12-03-2014'!B16 -> 0
A17: ='12-03-2014'!A17 -> 0 | B17: ='12-03-2014'!B17 -> 0
... A34: ='12-03-2014'!A34 -> 0 | B34: ='12-03-2014'!B34 -> 0
C37: ='1-03-2014'!C37 -> 0 | D37: ='1-03-2014'!D37 -> 0 | E37: ='1-03-2014'!E37 -> 0 | F37: ='1-03-2014'!F37 -> 0 | G37: ='1-03-2014'!G37 -> 0 | H37: ='1-03-2014'!H37 -> 0 | I37: ='1-03-2014'!I37 -> 0 | J37: ='1-03-2014'!J37 -> 0 | K37: ='1-03-2014'!K37 -> 0
C38: ='1-03-2014'!C38 -> 0 | D38: ='1-03-2014'!D38 -> 0 | E38: ='1-03-2014'!E38 -> 0 | F38: ='1-03-2014'!F38 -> 0 | G38: ='1-03-2014'!G38 -> 0 | H38: ='1-03-2014'!H38 -> 0 | I38: ='1-03-2014'!I38 -> 0 | J38: ='1-03-2014'!J38 -> 0 | K38: ='1-03-2014'!K38 -> 0
C39: ='1-03-2014'!C39 -> 0 | D39: ='1-03-2014'!D39 -> 0 | E39: ='1-03-2014'!E39 -> 0 | F39: ='1-03-2014'!F39 -> 0 | G39: ='1-03-2014'!G39 -> 0 | H39: ='1-03-2014'!H39 -> 0 | I39: ='1-03-2014'!I39 -> 0 | J39: ='1-03-2014'!J39 -> 0 | K39: ='1-03-2014'!K39 -> 0
A40: ='12-03-2014'!A40 -> 0 | B40: ='12-03-2014'!B40 -> 0
A41: ='12-03-2014'!A41 -> 0 | B41: ='12-03-2014'!B41 -> 0
A42: ='12-03-2014'!A42 -> 0 | B42: ='12-03-2014'!B42 -> 0
A43: ='12-03-2014'!A43 -> 0 | B43: ='12-03-2014'!B43 -> 0
A44: ='12-03-2014'!A44 -> 0 | B44: ='12-03-2014'!B44 -> 0
A45: ='12-03-2014'!A45 -> 0 | B45: ='12-03-2014'!B45 -> 0
A46: ='12-03-2014'!A46 -> 0 | B46: ='12-03-2014'!B46 -> 0
A47: ='12-03-2014'!A47 -> 0 | B47: ='12-03-2014'!B47 -> 0
A48: ='12-03-2014'!A48 -> 0 | B48: ='12-03-2014'!B48 -> 0
A49: ='12-03-2014'!A49 -> 0 | B49: ='12-03-2014'!B49 -> 0
A50: ='12-03-2014'!A50 -> 0 | B50: ='12-03-2014'!B50 -> 0
A51: ='12-03-2014'!A51 -> 0 | B51: ='12-03-2014'!B51 -> 0
... A68: ='12-03-2014'!A68 -> 0 | B68: ='12-03-2014'!B68 -> 0
C71: ='1-03-2014'!C71 -> 0 | D71: ='1-03-2014'!D71 -> 0 | E71: ='1-03-2014'!E71 -> 0 | F71: ='1-03-2014'!F71 -> 0 | G71: ='1-03-2014'!G71 -> 0 | H71: ='1-03-2014'!H71 -> 0 | I71: ='1-03-2014'!I71 -> 0 | J71: ='1-03-2014'!J71 -> 0 | K71: ='1-03-2014'!K71 -> 0
C72: ='1-03-2014'!C72 -> 0 | D72: ='1-03-2014'!D72 -> 0 | E72: ='1-03-2014'!E72 -> 0 | F72: ='1-03-2014'!F72 -> 0 | G72: ='1-03-2014'!G72 -> 0 | H72: ='1-03-2014'!H72 -> 0 | I72: ='1-03-2014'!I72 -> 0 | J72: ='1-03-2014'!J72 -> 0 | K72: ='1-03-2014'!K72 -> 0
C73: ='1-03-2014'!C73 -> 0 | D73: ='1-03-2014'!D73 -> 0 | E73: ='1-03-2014'!E73 -> 0 | F73: ='1-03-2014'!F73 -> 0 | G73: ='1-03-2014'!G73 -> 0 | H73: ='1-03-2014'!H73 -> 0 | I73: ='1-03-2014'!I73 -> 0 | J73: ='1-03-2014'!J73 -> 0 | K73: ='1-03-2014'!K73 -> 0
A74: ='12-03-2014'!A74 -> 0 | B74: ='12-03-2014'!B74 -> 0
A75: ='12-03-2014'!A75 -> 0 | B75: ='12-03-2014'!B75 -> 0
A76: ='12-03-2014'!A76 -> 0 | B76: ='12-03-2014'!B76 -> 0
A77: ='12-03-2014'!A77 -> 0 | B77: ='12-03-2014'!B77 -> 0
A78: ='12-03-2014'!A78 -> 0 | B78: ='12-03-2014'!B78 -> 0
A79: ='12-03-2014'!A79 -> 0 | B79: ='12-03-2014'!B79 -> 0
A80: ='12-03-2014'!A80 -> 0 | B80: ='12-03-2014'!B80 -> 0
A81: ='12-03-2014'!A81 -> 0 | B81: ='12-03-2014'!B81 -> 0
A82: ='12-03-2014'!A82 -> 0 | B82: ='12-03-2014'!B82 -> 0
A83: ='12-03-2014'!A83 -> 0 | B83: ='12-03-2014'!B83 -> 0
A84: ='12-03-2014'!A84 -> 0 | B84: ='12-03-2014'!B84 -> 0
A85: ='12-03-2014'!A85 -> 0 | B85: ='12-03-2014'!B85 -> 0
... A102: ='12-03-2014'!A102 -> 0 | B102: ='12-03-2014'!B102 -> 0
C105: ='1-03-2014'!C105 -> 0 | D105: ='1-03-2014'!D105 -> 0 | E105: ='1-03-2014'!E105 -> 0 | F105: ='1-03-2014'!F105 -> 0 | G105: ='1-03-2014'!G105 -> 0 | H105: ='1-03-2014'!H105 -> 0 | I105: ='1-03-2014'!I105 -> 0 | J105: ='1-03-2014'!J105 -> 0 | K105: ='1-03-2014'!K105 -> 0
C106: ='1-03-2014'!C106 -> 0 | D106: ='1-03-2014'!D106 -> 0 | E106: ='1-03-2014'!E106 -> 0 | F106: ='1-03-2014'!F106 -> 0 | G106: ='1-03-2014'!G106 -> 0 | H106: ='1-03-2014'!H106 -> 0 | I106: ='1-03-2014'!I106 -> 0 | J106: ='1-03-2014'!J106 -> 0 | K106: ='1-03-2014'!K106 -> 0
C107: ='1-03-2014'!C107 -> 0 | D107: ='1-03-2014'!D107 -> 0 | E107: ='1-03-2014'!E107 -> 0 | F107: ='1-03-2014'!F107 -> 0 | G107: ='1-03-2014'!G107 -> 0 | H107: ='1-03-2014'!H107 -> 0 | I107: ='1-03-2014'!I107 -> 0 | J107: ='1-03-2014'!J107 -> 0 | K107: ='1-03-2014'!K107 -> 0
A108: ='12-03-2014'!A108 -> 0 | B108: ='12-03-2014'!B108 -> 0
A109: ='12-03-2014'!A109 -> 0 | B109: ='12-03-2014'!B109 -> 0
A110: ='12-03-2014'!A110 -> 0 | B110: ='12-03-2014'!B110 -> 0
A111: ='12-03-2014'!A111 -> 0 | B111: ='12-03-2014'!B111 -> 0
A112: ='12-03-2014'!A112 -> 0 | B112: ='12-03-2014'!B112 -> 0
A113: ='12-03-2014'!A113 -> 0 | B113: ='12-03-2014'!B113 -> 0
A114: ='12-03-2014'!A114 -> 0 | B114: ='12-03-2014'!B114 -> 0
A115: ='12-03-2014'!A115 -> 0 | B115: ='12-03-2014'!B115 -> 0
A116: ='12-03-2014'!A116 -> 0 | B116: ='12-03-2014'!B116 -> 0
A117: ='12-03-2014'!A117 -> 0 | B117: ='12-03-2014'!B117 -> 0
A118: ='12-03-2014'!A118 -> 0 | B118: ='12-03-2014'!B118 -> 0
A119: ='12-03-2014'!A119 -> 0 | B119: ='12-03-2014'!B119 -> 0
... A136: ='12-03-2014'!A136 -> 0 | B136: ='12-03-2014'!B136 -> 0

Sheet 14-03-2014
C3: ='13-03-2014'!C3 -> 0 | D3: ='13-03-2014'!D3 -> 0 | E3: ='13-03-2014'!E3 -> 0 | F3: ='13-03-2014'!F3 -> 0 | G3: ='13-03-2014'!G3 -> 0 | H3: ='13-03-2014'!H3 -> 0 | I3: ='13-03-2014'!I3 -> 0 | J3: ='13-03-2014'!J3 -> 0 | K3: ='13-03-2014'!K3 -> 0
C4: ='13-03-2014'!C4 -> 0 | D4: ='13-03-2014'!D4 -> 0 | E4: ='13-03-2014'!E4 -> 0 | F4: ='13-03-2014'!F4 -> 0 | G4: ='13-03-2014'!G4 -> 0 | H4: ='13-03-2014'!H4 -> 0 | I4: ='13-03-2014'!I4 -> 0 | J4: ='13-03-2014'!J4 -> 0 | K4: ='13-03-2014'!K4 -> 0
C5: ='13-03-2014'!C5 -> 0 | D5: ='13-03-2014'!D5 -> 0 | E5: ='13-03-2014'!E5 -> 0 | F5: ='13-03-2014'!F5 -> 0 | G5: ='13-03-2014'!G5 -> 0 | H5: ='13-03-2014'!H5 -> 0 | I5: ='13-03-2014'!I5 -> 0 | J5: ='13-03-2014'!J5 -> 0 | K5: ='13-03-2014'!K5 -> 0
A6: ='13-03-2014'!A6 -> 0 | B6: ='13-03-2014'!B6 -> 0
A7: ='13-03-2014'!A7 -> 0 | B7: ='13-03-2014'!B7 -> 0
A8: ='13-03-2014'!A8 -> 0 | B8: ='13-03-2014'!B8 -> 0
A9: ='13-03-2014'!A9 -> 0 | B9: ='13-03-2014'!B9 -> 0
A10: ='13-03-2014'!A10 -> 0 | B10: ='13-03-2014'!B10 -> 0
A11: ='13-03-2014'!A11 -> 0 | B11: ='13-03-2014'!B11 -> 0
A12: ='13-03-2014'!A12 -> 0 | B12: ='13-03-2014'!B12 -> 0
A13: ='13-03-2014'!A13 -> 0 | B13: ='13-03-2014'!B13 -> 0
A14: ='13-03-2014'!A14 -> 0 | B14: ='13-03-2014'!B14 -> 0
A15: ='13-03-2014'!A15 -> 0 | B15: ='13-03-2014'!B15 -> 0
A16: ='13-03-2014'!A16 -> 0 | B16: ='13-03-2014'!B16 -> 0
A17: ='13-03-2014'!A17 -> 0 | B17: ='13-03-2014'!B17 -> 0
... A34: ='13-03-2014'!A34 -> 0 | B34: ='13-03-2014'!B34 -> 0
C37: ='1-03-2014'!C37 -> 0 | D37: ='1-03-2014'!D37 -> 0 | E37: ='1-03-2014'!E37 -> 0 | F37: ='1-03-2014'!F37 -> 0 | G37: ='1-03-2014'!G37 -> 0 | H37: ='1-03-2014'!H37 -> 0 | I37: ='1-03-2014'!I37 -> 0 | J37: ='1-03-2014'!J37 -> 0 | K37: ='1-03-2014'!K37 -> 0
C38: ='1-03-2014'!C38 -> 0 | D38: ='1-03-2014'!D38 -> 0 | E38: ='1-03-2014'!E38 -> 0 | F38: ='1-03-2014'!F38 -> 0 | G38: ='1-03-2014'!G38 -> 0 | H38: ='1-03-2014'!H38 -> 0 | I38: ='1-03-2014'!I38 -> 0 | J38: ='1-03-2014'!J38 -> 0 | K38: ='1-03-2014'!K38 -> 0
C39: ='1-03-2014'!C39 -> 0 | D39: ='1-03-2014'!D39 -> 0 | E39: ='1-03-2014'!E39 -> 0 | F39: ='1-03-2014'!F39 -> 0 | G39: ='1-03-2014'!G39 -> 0 | H39: ='1-03-2014'!H39 -> 0 | I39: ='1-03-2014'!I39 -> 0 | J39: ='1-03-2014'!J39 -> 0 | K39: ='1-03-2014'!K39 -> 0
A40: ='13-03-2014'!A40 -> 0 | B40: ='13-03-2014'!B40 -> 0
A41: ='13-03-2014'!A41 -> 0 | B41: ='13-03-2014'!B41 -> 0
A42: ='13-03-2014'!A42 -> 0 | B42: ='13-03-2014'!B42 -> 0
A43: ='13-03-2014'!A43 -> 0 | B43: ='13-03-2014'!B43 -> 0
A44: ='13-03-2014'!A44 -> 0 | B44: ='13-03-2014'!B44 -> 0
A45: ='13-03-2014'!A45 -> 0 | B45: ='13-03-2014'!B45 -> 0
A46: ='13-03-2014'!A46 -> 0 | B46: ='13-03-2014'!B46 -> 0
A47: ='13-03-2014'!A47 -> 0 | B47: ='13-03-2014'!B47 -> 0
A48: ='13-03-2014'!A48 -> 0 | B48: ='13-03-2014'!B48 -> 0
A49: ='13-03-2014'!A49 -> 0 | B49: ='13-03-2014'!B49 -> 0
A50: ='13-03-2014'!A50 -> 0 | B50: ='13-03-2014'!B50 -> 0
A51: ='13-03-2014'!A51 -> 0 | B51: ='13-03-2014'!B51 -> 0
... A68: ='13-03-2014'!A68 -> 0 | B68: ='13-03-2014'!B68 -> 0
C71: ='1-03-2014'!C71 -> 0 | D71: ='1-03-2014'!D71 -> 0 | E71: ='1-03-2014'!E71 -> 0 | F71: ='1-03-2014'!F71 -> 0 | G71: ='1-03-2014'!G71 -> 0 | H71: ='1-03-2014'!H71 -> 0 | I71: ='1-03-2014'!I71 -> 0 | J71: ='1-03-2014'!J71 -> 0 | K71: ='1-03-2014'!K71 -> 0
C72: ='1-03-2014'!C72 -> 0 | D72: ='1-03-2014'!D72 -> 0 | E72: ='1-03-2014'!E72 -> 0 | F72: ='1-03-2014'!F72 -> 0 | G72: ='1-03-2014'!G72 -> 0 | H72: ='1-03-2014'!H72 -> 0 | I72: ='1-03-2014'!I72 -> 0 | J72: ='1-03-2014'!J72 -> 0 | K72: ='1-03-2014'!K72 -> 0
C73: ='1-03-2014'!C73 -> 0 | D73: ='1-03-2014'!D73 -> 0 | E73: ='1-03-2014'!E73 -> 0 | F73: ='1-03-2014'!F73 -> 0 | G73: ='1-03-2014'!G73 -> 0 | H73: ='1-03-2014'!H73 -> 0 | I73: ='1-03-2014'!I73 -> 0 | J73: ='1-03-2014'!J73 -> 0 | K73: ='1-03-2014'!K73 -> 0
A74: ='13-03-2014'!A74 -> 0 | B74: ='13-03-2014'!B74 -> 0
A75: ='13-03-2014'!A75 -> 0 | B75: ='13-03-2014'!B75 -> 0
A76: ='13-03-2014'!A76 -> 0 | B76: ='13-03-2014'!B76 -> 0
A77: ='13-03-2014'!A77 -> 0 | B77: ='13-03-2014'!B77 -> 0
A78: ='13-03-2014'!A78 -> 0 | B78: ='13-03-2014'!B78 -> 0
A79: ='13-03-2014'!A79 -> 0 | B79: ='13-03-2014'!B79 -> 0
A80: ='13-03-2014'!A80 -> 0 | B80: ='13-03-2014'!B80 -> 0
A81: ='13-03-2014'!A81 -> 0 | B81: ='13-03-2014'!B81 -> 0
A82: ='13-03-2014'!A82 -> 0 | B82: ='13-03-2014'!B82 -> 0
A83: ='13-03-2014'!A83 -> 0 | B83: ='13-03-2014'!B83 -> 0
A84: ='13-03-2014'!A84 -> 0 | B84: ='13-03-2014'!B84 -> 0
A85: ='13-03-2014'!A85 -> 0 | B85: ='13-03-2014'!B85 -> 0
... A102: ='13-03-2014'!A102 -> 0 | B102: ='13-03-2014'!B102 -> 0
C105: ='1-03-2014'!C105 -> 0 | D105: ='1-03-2014'!D105 -> 0 | E105: ='1-03-2014'!E105 -> 0 | F105: ='1-03-2014'!F105 -> 0 | G105: ='1-03-2014'!G105 -> 0 | H105: ='1-03-2014'!H105 -> 0 | I105: ='1-03-2014'!I105 -> 0 | J105: ='1-03-2014'!J105 -> 0 | K105: ='1-03-2014'!K105 -> 0
C106: ='1-03-2014'!C106 -> 0 | D106: ='1-03-2014'!D106 -> 0 | E106: ='1-03-2014'!E106 -> 0 | F106: ='1-03-2014'!F106 -> 0 | G106: ='1-03-2014'!G106 -> 0 | H106: ='1-03-2014'!H106 -> 0 | I106: ='1-03-2014'!I106 -> 0 | J106: ='1-03-2014'!J106 -> 0 | K106: ='1-03-2014'!K106 -> 0
C107: ='1-03-2014'!C107 -> 0 | D107: ='1-03-2014'!D107 -> 0 | E107: ='1-03-2014'!E107 -> 0 | F107: ='1-03-2014'!F107 -> 0 | G107: ='1-03-2014'!G107 -> 0 | H107: ='1-03-2014'!H107 -> 0 | I107: ='1-03-2014'!I107 -> 0 | J107: ='1-03-2014'!J107 -> 0 | K107: ='1-03-2014'!K107 -> 0
A108: ='13-03-2014'!A108 -> 0 | B108: ='13-03-2014'!B108 -> 0
A109: ='13-03-2014'!A109 -> 0 | B109: ='13-03-2014'!B109 -> 0
A110: ='13-03-2014'!A110 -> 0 | B110: ='13-03-2014'!B110 -> 0
A111: ='13-03-2014'!A111 -> 0 | B111: ='13-03-2014'!B111 -> 0
A112: ='13-03-2014'!A112 -> 0 | B112: ='13-03-2014'!B112 -> 0
A113: ='13-03-2014'!A113 -> 0 | B113: ='13-03-2014'!B113 -> 0
A114: ='13-03-2014'!A114 -> 0 | B114: ='13-03-2014'!B114 -> 0
A115: ='13-03-2014'!A115 -> 0 | B115: ='13-03-2014'!B115 -> 0
A116: ='13-03-2014'!A116 -> 0 | B116: ='13-03-2014'!B116 -> 0
A117: ='13-03-2014'!A117 -> 0 | B117: ='13-03-2014'!B117 -> 0
A118: ='13-03-2014'!A118 -> 0 | B118: ='13-03-2014'!B118 -> 0
A119: ='13-03-2014'!A119 -> 0 | B119: ='13-03-2014'!B119 -> 0
... A136: ='13-03-2014'!A136 -> 0 | B136: ='13-03-2014'!B136 -> 0

Sheet 15-03-2014
C3: ='14-03-2014'!C3 -> 0 | D3: ='14-03-2014'!D3 -> 0 | E3: ='14-03-2014'!E3 -> 0 | F3: ='14-03-2014'!F3 -> 0 | G3: ='14-03-2014'!G3 -> 0 | H3: ='14-03-2014'!H3 -> 0 | I3: ='14-03-2014'!I3 -> 0 | J3: ='14-03-2014'!J3 -> 0 | K3: ='14-03-2014'!K3 -> 0
C4: ='14-03-2014'!C4 -> 0 | D4: ='14-03-2014'!D4 -> 0 | E4: ='14-03-2014'!E4 -> 0 | F4: ='14-03-2014'!F4 -> 0 | G4: ='14-03-2014'!G4 -> 0 | H4: ='14-03-2014'!H4 -> 0 | I4: ='14-03-2014'!I4 -> 0 | J4: ='14-03-2014'!J4 -> 0 | K4: ='14-03-2014'!K4 -> 0
C5: ='14-03-2014'!C5 -> 0 | D5: ='14-03-2014'!D5 -> 0 | E5: ='14-03-2014'!E5 -> 0 | F5: ='14-03-2014'!F5 -> 0 | G5: ='14-03-2014'!G5 -> 0 | H5: ='14-03-2014'!H5 -> 0 | I5: ='14-03-2014'!I5 -> 0 | J5: ='14-03-2014'!J5 -> 0 | K5: ='14-03-2014'!K5 -> 0
A6: ='14-03-2014'!A6 -> 0 | B6: ='14-03-2014'!B6 -> 0
A7: ='14-03-2014'!A7 -> 0 | B7: ='14-03-2014'!B7 -> 0
A8: ='14-03-2014'!A8 -> 0 | B8: ='14-03-2014'!B8 -> 0
A9: ='14-03-2014'!A9 -> 0 | B9: ='14-03-2014'!B9 -> 0
A10: ='14-03-2014'!A10 -> 0 | B10: ='14-03-2014'!B10 -> 0
A11: ='14-03-2014'!A11 -> 0 | B11: ='14-03-2014'!B11 -> 0
A12: ='14-03-2014'!A12 -> 0 | B12: ='14-03-2014'!B12 -> 0
A13: ='14-03-2014'!A13 -> 0 | B13: ='14-03-2014'!B13 -> 0
A14: ='14-03-2014'!A14 -> 0 | B14: ='14-03-2014'!B14 -> 0
A15: ='14-03-2014'!A15 -> 0 | B15: ='14-03-2014'!B15 -> 0
A16: ='14-03-2014'!A16 -> 0 | B16: ='14-03-2014'!B16 -> 0
A17: ='14-03-2014'!A17 -> 0 | B17: ='14-03-2014'!B17 -> 0
... A34: ='14-03-2014'!A34 -> 0 | B34: ='14-03-2014'!B34 -> 0
C37: ='1-03-2014'!C37 -> 0 | D37: ='1-03-2014'!D37 -> 0 | E37: ='1-03-2014'!E37 -> 0 | F37: ='1-03-2014'!F37 -> 0 | G37: ='1-03-2014'!G37 -> 0 | H37: ='1-03-2014'!H37 -> 0 | I37: ='1-03-2014'!I37 -> 0 | J37: ='1-03-2014'!J37 -> 0 | K37: ='1-03-2014'!K37 -> 0
C38: ='1-03-2014'!C38 -> 0 | D38: ='1-03-2014'!D38 -> 0 | E38: ='1-03-2014'!E38 -> 0 | F38: ='1-03-2014'!F38 -> 0 | G38: ='1-03-2014'!G38 -> 0 | H38: ='1-03-2014'!H38 -> 0 | I38: ='1-03-2014'!I38 -> 0 | J38: ='1-03-2014'!J38 -> 0 | K38: ='1-03-2014'!K38 -> 0
C39: ='1-03-2014'!C39 -> 0 | D39: ='1-03-2014'!D39 -> 0 | E39: ='1-03-2014'!E39 -> 0 | F39: ='1-03-2014'!F39 -> 0 | G39: ='1-03-2014'!G39 -> 0 | H39: ='1-03-2014'!H39 -> 0 | I39: ='1-03-2014'!I39 -> 0 | J39: ='1-03-2014'!J39 -> 0 | K39: ='1-03-2014'!K39 -> 0
A40: ='14-03-2014'!A40 -> 0 | B40: ='14-03-2014'!B40 -> 0
A41: ='14-03-2014'!A41 -> 0 | B41: ='14-03-2014'!B41 -> 0
A42: ='14-03-2014'!A42 -> 0 | B42: ='14-03-2014'!B42 -> 0
A43: ='14-03-2014'!A43 -> 0 | B43: ='14-03-2014'!B43 -> 0
A44: ='14-03-2014'!A44 -> 0 | B44: ='14-03-2014'!B44 -> 0
A45: ='14-03-2014'!A45 -> 0 | B45: ='14-03-2014'!B45 -> 0
A46: ='14-03-2014'!A46 -> 0 | B46: ='14-03-2014'!B46 -> 0
A47: ='14-03-2014'!A47 -> 0 | B47: ='14-03-2014'!B47 -> 0
A48: ='14-03-2014'!A48 -> 0 | B48: ='14-03-2014'!B48 -> 0
A49: ='14-03-2014'!A49 -> 0 | B49: ='14-03-2014'!B49 -> 0
A50: ='14-03-2014'!A50 -> 0 | B50: ='14-03-2014'!B50 -> 0
A51: ='14-03-2014'!A51 -> 0 | B51: ='14-03-2014'!B51 -> 0
... A68: ='14-03-2014'!A68 -> 0 | B68: ='14-03-2014'!B68 -> 0
C71: ='1-03-2014'!C71 -> 0 | D71: ='1-03-2014'!D71 -> 0 | E71: ='1-03-2014'!E71 -> 0 | F71: ='1-03-2014'!F71 -> 0 | G71: ='1-03-2014'!G71 -> 0 | H71: ='1-03-2014'!H71 -> 0 | I71: ='1-03-2014'!I71 -> 0 | J71: ='1-03-2014'!J71 -> 0 | K71: ='1-03-2014'!K71 -> 0
C72: ='1-03-2014'!C72 -> 0 | D72: ='1-03-2014'!D72 -> 0 | E72: ='1-03-2014'!E72 -> 0 | F72: ='1-03-2014'!F72 -> 0 | G72: ='1-03-2014'!G72 -> 0 | H72: ='1-03-2014'!H72 -> 0 | I72: ='1-03-2014'!I72 -> 0 | J72: ='1-03-2014'!J72 -> 0 | K72: ='1-03-2014'!K72 -> 0
C73: ='1-03-2014'!C73 -> 0 | D73: ='1-03-2014'!D73 -> 0 | E73: ='1-03-2014'!E73 -> 0 | F73: ='1-03-2014'!F73 -> 0 | G73: ='1-03-2014'!G73 -> 0 | H73: ='1-03-2014'!H73 -> 0 | I73: ='1-03-2014'!I73 -> 0 | J73: ='1-03-2014'!J73 -> 0 | K73: ='1-03-2014'!K73 -> 0
A74: ='14-03-2014'!A74 -> 0 | B74: ='14-03-2014'!B74 -> 0
A75: ='14-03-2014'!A75 -> 0 | B75: ='14-03-2014'!B75 -> 0
A76: ='14-03-2014'!A76 -> 0 | B76: ='14-03-2014'!B76 -> 0
A77: ='14-03-2014'!A77 -> 0 | B77: ='14-03-2014'!B77 -> 0
A78: ='14-03-2014'!A78 -> 0 | B78: ='14-03-2014'!B78 -> 0
A79: ='14-03-2014'!A79 -> 0 | B79: ='14-03-2014'!B79 -> 0
A80: ='14-03-2014'!A80 -> 0 | B80: ='14-03-2014'!B80 -> 0
A81: ='14-03-2014'!A81 -> 0 | B81: ='14-03-2014'!B81 -> 0
A82: ='14-03-2014'!A82 -> 0 | B82: ='14-03-2014'!B82 -> 0
A83: ='14-03-2014'!A83 -> 0 | B83: ='14-03-2014'!B83 -> 0
A84: ='14-03-2014'!A84 -> 0 | B84: ='14-03-2014'!B84 -> 0
A85: ='14-03-2014'!A85 -> 0 | B85: ='14-03-2014'!B85 -> 0
... A102: ='14-03-2014'!A102 -> 0 | B102: ='14-03-2014'!B102 -> 0
C105: ='1-03-2014'!C105 -> 0 | D105: ='1-03-2014'!D105 -> 0 | E105: ='1-03-2014'!E105 -> 0 | F105: ='1-03-2014'!F105 -> 0 | G105: ='1-03-2014'!G105 -> 0 | H105: ='1-03-2014'!H105 -> 0 | I105: ='1-03-2014'!I105 -> 0 | J105: ='1-03-2014'!J105 -> 0 | K105: ='1-03-2014'!K105 -> 0
C106: ='1-03-2014'!C106 -> 0 | D106: ='1-03-2014'!D106 -> 0 | E106: ='1-03-2014'!E106 -> 0 | F106: ='1-03-2014'!F106 -> 0 | G106: ='1-03-2014'!G106 -> 0 | H106: ='1-03-2014'!H106 -> 0 | I106: ='1-03-2014'!I106 -> 0 | J106: ='1-03-2014'!J106 -> 0 | K106: ='1-03-2014'!K106 -> 0
C107: ='1-03-2014'!C107 -> 0 | D107: ='1-03-2014'!D107 -> 0 | E107: ='1-03-2014'!E107 -> 0 | F107: ='1-03-2014'!F107 -> 0 | G107: ='1-03-2014'!G107 -> 0 | H107: ='1-03-2014'!H107 -> 0 | I107: ='1-03-2014'!I107 -> 0 | J107: ='1-03-2014'!J107 -> 0 | K107: ='1-03-2014'!K107 -> 0
A108: ='14-03-2014'!A108 -> 0 | B108: ='14-03-2014'!B108 -> 0
A109: ='14-03-2014'!A109 -> 0 | B109: ='14-03-2014'!B109 -> 0
A110: ='14-03-2014'!A110 -> 0 | B110: ='14-03-2014'!B110 -> 0
A111: ='14-03-2014'!A111 -> 0 | B111: ='14-03-2014'!B111 -> 0
A112: ='14-03-2014'!A112 -> 0 | B112: ='14-03-2014'!B112 -> 0
A113: ='14-03-2014'!A113 -> 0 | B113: ='14-03-2014'!B113 -> 0
A114: ='14-03-2014'!A114 -> 0 | B114: ='14-03-2014'!B114 -> 0
A115: ='14-03-2014'!A115 -> 0 | B115: ='14-03-2014'!B115 -> 0
A116: ='14-03-2014'!A116 -> 0 | B116: ='14-03-2014'!B116 -> 0
A117: ='14-03-2014'!A117 -> 0 | B117: ='14-03-2014'!B117 -> 0
A118: ='14-03-2014'!A118 -> 0 | B118: ='14-03-2014'!B118 -> 0
A119: ='14-03-2014'!A119 -> 0 | B119: ='14-03-2014'!B119 -> 0
... A136: ='14-03-2014'!A136 -> 0 | B136: ='14-03-2014'!B136 -> 0

Sheet Récap. Semaine Chantiers
A1: 41699 | C1: =(#REF!&" "&#REF!&" "&#REF!) -> #REF!
A3: =YEAR(A1) -> 2014
A4: =INT((A1-SUM(MOD(DATE(YEAR(A1-MOD(A1-2,7)+3),1,2),{1E+99;7})*{1;-1})+5)/7) -> 9
A6: MAINS D'ŒUVRES
C8: =DATE($A$3,1,4)-WEEKDAY(DATE($A$3,1,4),2)+1+7*(A4-1) -> 41694 | D8: =C8+1 -> 41695 | E8: =D8+1 -> 41696 | F8: =E8+1 -> 41697 | G8: =F8+1 -> 41698 | H8: =G8+1 -> 41699 | I8: =H8+1 -> 41700
A9: Noms | B9: N° | C9: Colonne1 | D9: Colonne2 | E9: Colonne3 | F9: Colonne4 | G9: Colonne5 | H9: Colonne6 | I9: Colonne7 | J9: Remarques
H10: =IF(SUM('1-03-2014'!C6)=0,'1-03-2014'!K6,SUM('1-03-2014'!C6)) -> 0 | I10: =IF(SUM('2-03-2014'!C6)=0,'2-03-2014'!K6,SUM('2-03-2014'!C6)) -> 0
H11: =IF(SUM('1-03-2014'!C7)=0,'1-03-2014'!K7,SUM('1-03-2014'!C7)) -> 0 | I11: =IF(SUM('2-03-2014'!C7)=0,'2-03-2014'!K7,SUM('2-03-2014'!C7)) -> 0
H12: =IF(SUM('1-03-2014'!C8)=0,'1-03-2014'!K8,SUM('1-03-2014'!C8)) -> 0 | I12: =IF(SUM('2-03-2014'!C8)=0,'2-03-2014'!K8,SUM('2-03-2014'!C8)) -> 0
H13: =IF(SUM('1-03-2014'!C9)=0,'1-03-2014'!K9,SUM('1-03-2014'!C9)) -> 0 | I13: =IF(SUM('2-03-2014'!C9)=0,'2-03-2014'!K9,SUM('2-03-2014'!C9)) -> 0
H14: =IF(SUM('1-03-2014'!C10)=0,'1-03-2014'!K10,SUM('1-03-2014'!C10)) -> 0 | I14: =IF(SUM('2-03-2014'!C10)=0,'2-03-2014'!K10,SUM('2-03-2014'!C10)) -> 0
H15: =IF(SUM('1-03-2014'!C11)=0,'1-03-2014'!K11,SUM('1-03-2014'!C11)) -> 0 | I15: =IF(SUM('2-03-2014'!C11)=0,'2-03-2014'!K11,SUM('2-03-2014'!C11)) -> 0
H16: =IF(SUM('1-03-2014'!C12)=0,'1-03-2014'!K12,SUM('1-03-2014'!C12)) -> 0 | I16: =IF(SUM('2-03-2014'!C12)=0,'2-03-2014'!K12,SUM('2-03-2014'!C12)) -> 0
H17: =IF(SUM('1-03-2014'!C13)=0,'1-03-2014'!K13,SUM('1-03-2014'!C13)) -> 0 | I17: =IF(SUM('2-03-2014'!C13)=0,'2-03-2014'!K13,SUM('2-03-2014'!C13)) -> 0
H18: =IF(SUM('1-03-2014'!C14)=0,'1-03-2014'!K14,SUM('1-03-2014'!C14)) -> 0 | I18: =IF(SUM('2-03-2014'!C14)=0,'2-03-2014'!K14,SUM('2-03-2014'!C14)) -> 0
H19: =IF(SUM('1-03-2014'!C15)=0,'1-03-2014'!K15,SUM('1-03-2014'!C15)) -> 0 | I19: =IF(SUM('2-03-2014'!C15)=0,'2-03-2014'!K15,SUM('2-03-2014'!C15)) -> 0
H20: =IF(SUM('1-03-2014'!C16)=0,'1-03-2014'!K16,SUM('1-03-2014'!C16)) -> 0 | I20: =IF(SUM('2-03-2014'!C16)=0,'2-03-2014'!K16,SUM('2-03-2014'!C16)) -> 0
H21: =IF(SUM('1-03-2014'!C17)=0,'1-03-2014'!K17,SUM('1-03-2014'!C17)) -> 0 | I21: =IF(SUM('2-03-2014'!C17)=0,'2-03-2014'!K17,SUM('2-03-2014'!C17)) -> 0
... H38: =IF(SUM('1-03-2014'!C34)=0,'1-03-2014'!K34,SUM('1-03-2014'!C34)) -> 0 | I38: =IF(SUM('2-03-2014'!C34)=0,'2-03-2014'!K34,SUM('2-03-2014'!C34)) -> 0
A39: =A1 -> 41699
A41: =INT((A39-SUM(MOD(DATE(YEAR(A39-MOD(A39-2,7)+3),1,2),{1E+99;7})*{1;-1})+5)/7) -> 9
A43: MACHINES
C45: =DATE($A$3,1,4)-WEEKDAY(DATE($A$3,1,4),2)+1+7*(A41-1) -> 41694 | D45: =C45+1 -> 41695 | E45: =D45+1 -> 41696 | F45: =E45+1 -> 41697 | G45: =F45+1 -> 41698 | H45: =G45+1 -> 41699 | I45: =H45+1 -> 41700
A46: Noms | B46: N° | C46: Colonne1 | D46: Colonne2 | E46: Colonne3 | F46: Colonne4 | G46: Colonne5 | H46: Colonne6 | I46: Colonne7 | J46: Remarques
H47: =SUM('1-03-2014'!C40) -> 0 | I47: =SUM('2-03-2014'!C40) -> 0
H48: =SUM('1-03-2014'!C40) -> 0 | I48: =SUM('2-03-2014'!C40) -> 0
H49: =SUM('1-03-2014'!C41) -> 0 | I49: =SUM('2-03-2014'!C41) -> 0
H50: =SUM('1-03-2014'!C42) -> 0 | I50: =SUM('2-03-2014'!C42) -> 0
H51: =SUM('1-03-2014'!C43) -> 0 | I51: =SUM('2-03-2014'!C43) -> 0
H52: =SUM('1-03-2014'!C44) -> 0 | I52: =SUM('2-03-2014'!C44) -> 0
H53: =SUM('1-03-2014'!C45) -> 0 | I53: =SUM('2-03-2014'!C45) -> 0
H54: =SUM('1-03-2014'!C46) -> 0 | I54: =SUM('2-03-2014'!C46) -> 0
H55: =SUM('1-03-2014'!C47) -> 0 | I55: =SUM('2-03-2014'!C47) -> 0
H56: =SUM('1-03-2014'!C48) -> 0 | I56: =SUM('2-03-2014'!C48) -> 0
H57: =SUM('1-03-2014'!C49) -> 0 | I57: =SUM('2-03-2014'!C49) -> 0
H58: =SUM('1-03-2014'!C50) -> 0 | I58: =SUM('2-03-2014'!C50) -> 0
H59: =SUM('1-03-2014'!C51) -> 0 | I59: =SUM('2-03-2014'!C51) -> 0
... H76: =SUM('1-03-2014'!C68) -> 0 | I76: =SUM('2-03-2014'!C68) -> 0
A77: =A39 -> 41699
A79: =INT((A77-SUM(MOD(DATE(YEAR(A77-MOD(A77-2,7)+3),1,2),{1E+99;7})*{1;-1})+5)/7) -> 9
A81: CAMIONS
C83: =DATE($A$3,1,4)-WEEKDAY(DATE($A$3,1,4),2)+1+7*(A79-1) -> 41694 | D83: =C83+1 -> 41695 | E83: =D83+1 -> 41696 | F83: =E83+1 -> 41697 | G83: =F83+1 -> 41698 | H83: =G83+1 -> 41699 | I83: =H83+1 -> 41700
A84: Noms | B84: N° | C84: Colonne1 | D84: Colonne2 | E84: Colonne3 | F84: Colonne4 | G84: Colonne5 | H84: Colonne6 | I84: Colonne7 | J84: Remarques
H85: =SUM('1-03-2014'!C74) -> 0 | I85: =SUM('2-03-2014'!C74) -> 0
H86: =SUM('1-03-2014'!C75) -> 0 | I86: =SUM('2-03-2014'!C75) -> 0
H87: =SUM('1-03-2014'!C76) -> 0 | I87: =SUM('2-03-2014'!C76) -> 0
H88: =SUM('1-03-2014'!C77) -> 0 | I88: =SUM('2-03-2014'!C77) -> 0
H89: =SUM('1-03-2014'!C78) -> 0 | I89: =SUM('2-03-2014'!C78) -> 0
H90: =SUM('1-03-2014'!C79) -> 0 | I90: =SUM('2-03-2014'!C79) -> 0
H91: =SUM('1-03-2014'!C80) -> 0 | I91: =SUM('2-03-2014'!C80) -> 0
H92: =SUM('1-03-2014'!C81) -> 0 | I92: =SUM('2-03-2014'!C81) -> 0
H93: =SUM('1-03-2014'!C82) -> 0 | I93: =SUM('2-03-2014'!C82) -> 0
H94: =SUM('1-03-2014'!C83) -> 0 | I94: =SUM('2-03-2014'!C83) -> 0
H95: =SUM('1-03-2014'!C84) -> 0 | I95: =SUM('2-03-2014'!C84) -> 0
H96: =SUM('1-03-2014'!C85) -> 0 | I96: =SUM('2-03-2014'!C85) -> 0
... H113: =SUM('1-03-2014'!C102) -> 0 | I113: =SUM('2-03-2014'!C102) -> 0
A114: =A77 -> 41699
A116: =INT((A114-SUM(MOD(DATE(YEAR(A114-MOD(A114-2,7)+3),1,2),{1E+99;7})*{1;-1})+5)/7) -> 9
A118: SOUS-TRAITANTS
C120: =DATE($A$3,1,4)-WEEKDAY(DATE($A$3,1,4),2)+1+7*(A116-1) -> 41694 | D120: =C120+1 -> 41695 | E120: =D120+1 -> 41696 | F120: =E120+1 -> 41697 | G120: =F120+1 -> 41698 | H120: =G120+1 -> 41699 | I120: =H120+1 -> 41700
A121: Noms | B121: N° | C121: Colonne1 | D121: Colonne2 | E121: Colonne3 | F121: Colonne4 | G121: Colonne5 | H121: Colonne6 | I121: Colonne7 | J121: Remarques
H122: =SUM('1-03-2014'!C108) -> 0 | I122: =SUM('2-03-2014'!C108) -> 0
H123: =SUM('1-03-2014'!C109) -> 0 | I123: =SUM('2-03-2014'!C109) -> 0
H124: =SUM('1-03-2014'!C110) -> 0 | I124: =SUM('2-03-2014'!C110) -> 0
H125: =SUM('1-03-2014'!C111) -> 0 | I125: =SUM('2-03-2014'!C111) -> 0
H126: =SUM('1-03-2014'!C112) -> 0 | I126: =SUM('2-03-2014'!C112) -> 0
H127: =SUM('1-03-2014'!C113) -> 0 | I127: =SUM('2-03-2014'!C113) -> 0
H128: =SUM('1-03-2014'!C114) -> 0 | I128: =SUM('2-03-2014'!C114) -> 0
H129: =SUM('1-03-2014'!C115) -> 0 | I129: =SUM('2-03-2014'!C115) -> 0
H130: =SUM('1-03-2014'!C116) -> 0 | I130: =SUM('2-03-2014'!C116) -> 0
H131: =SUM('1-03-2014'!C117) -> 0 | I131: =SUM('2-03-2014'!C117) -> 0
H132: =SUM('1-03-2014'!C118) -> 0 | I132: =SUM('2-03-2014'!C118) -> 0
H133: =SUM('1-03-2014'!C119) -> 0 | I133: =SUM('2-03-2014'!C119) -> 0
... H150: =SUM('1-03-2014'!C136) -> 0 | I150: =SUM('2-03-2014'!C136) -> 0
A152: 41730 | C152: =(#REF!&" "&#REF!&" "&#REF!) -> #REF!
A154: =YEAR(A152) -> 2014
A155: =INT((A152-SUM(MOD(DATE(YEAR(A152-MOD(A152-2,7)+3),1,2),{1E+99;7})*{1;-1})+5)/7) -> 14
A157: MAINS D'ŒUVRES
C159: =I8+1 -> 41701 | D159: =C159+1 -> 41702 | E159: =D159+1 -> 41703 | F159: =E159+1 -> 41704 | G159: =F159+1 -> 41705 | H159: =G159+1 -> 41706 | I159: =H159+1 -> 41707
A160: Noms | B160: N° | C160: Colonne1 | D160: Colonne2 | E160: Colonne3 | F160: Colonne4 | G160: Colonne5 | H160: Colonne6 | I160: Colonne7 | J160: Remarques
C161: =IF(SUM('3-03-2014'!C6)=0,'3-03-2014'!K6,SUM('3-03-2014'!C6)) -> 0 | D161: =IF(SUM('4-03-2014'!C6)=0,'4-03-2014'!K6,SUM('4-03-2014'!C6)) -> 0 | E161: =IF(SUM('5-03-2014'!C6)=0,'5-03-2014'!K6,SUM('5-03-2014'!C6)) -> 0 | F161: =IF(SUM('6-03-2014'!C6)=0,'6-03-2014'!K6,SUM('6-03-2014'!C6)) -> 0 | G161: =IF(SUM('7-03-2014'!C6)=0,'7-03-2014'!K6,SUM('7-03-2014'!C6)) -> 0 | H161: =IF(SUM('8-03-2014'!C6)=0,'8-03-2014'!K6,SUM('8-03-2014'!C6)) -> 0 | I161: =IF(SUM('9-03-2014'!C6)=0,'9-03-2014'!K6,SUM('9-03-2014'!C6)) -> 0
C162: =IF(SUM('3-03-2014'!C7)=0,'3-03-2014'!K7,SUM('3-03-2014'!C7)) -> 0 | D162: =IF(SUM('4-03-2014'!C7)=0,'4-03-2014'!K7,SUM('4-03-2014'!C7)) -> 0 | E162: =IF(SUM('5-03-2014'!C7)=0,'5-03-2014'!K7,SUM('5-03-2014'!C7)) -> 0 | F162: =IF(SUM('6-03-2014'!C7)=0,'6-03-2014'!K7,SUM('6-03-2014'!C7)) -> 0 | G162: =IF(SUM('7-03-2014'!C7)=0,'7-03-2014'!K7,SUM('7-03-2014'!C7)) -> 0 | H162: =IF(SUM('8-03-2014'!C7)=0,'8-03-2014'!K7,SUM('8-03-2014'!C7)) -> 0 | I162: =IF(SUM('9-03-2014'!C7)=0,'9-03-2014'!K7,SUM('9-03-2014'!C7)) -> 0
C163: =IF(SUM('3-03-2014'!C8)=0,'3-03-2014'!K8,SUM('3-03-2014'!C8)) -> 0 | D163: =IF(SUM('4-03-2014'!C8)=0,'4-03-2014'!K8,SUM('4-03-2014'!C8)) -> 0 | E163: =IF(SUM('5-03-2014'!C8)=0,'5-03-2014'!K8,SUM('5-03-2014'!C8)) -> 0 | F163: =IF(SUM('6-03-2014'!C8)=0,'6-03-2014'!K8,SUM('6-03-2014'!C8)) -> 0 | G163: =IF(SUM('7-03-2014'!C8)=0,'7-03-2014'!K8,SUM('7-03-2014'!C8)) -> 0 | H163: =IF(SUM('8-03-2014'!C8)=0,'8-03-2014'!K8,SUM('8-03-2014'!C8)) -> 0 | I163: =IF(SUM('9-03-2014'!C8)=0,'9-03-2014'!K8,SUM('9-03-2014'!C8)) -> 0
C164: =IF(SUM('3-03-2014'!C9)=0,'3-03-2014'!K9,SUM('3-03-2014'!C9)) -> 0 | D164: =IF(SUM('4-03-2014'!C9)=0,'4-03-2014'!K9,SUM('4-03-2014'!C9)) -> 0 | E164: =IF(SUM('5-03-2014'!C9)=0,'5-03-2014'!K9,SUM('5-03-2014'!C9)) -> 0 | F164: =IF(SUM('6-03-2014'!C9)=0,'6-03-2014'!K9,SUM('6-03-2014'!C9)) -> 0 | G164: =IF(SUM('7-03-2014'!C9)=0,'7-03-2014'!K9,SUM('7-03-2014'!C9)) -> 0 | H164: =IF(SUM('8-03-2014'!C9)=0,'8-03-2014'!K9,SUM('8-03-2014'!C9)) -> 0 | I164: =IF(SUM('9-03-2014'!C9)=0,'9-03-2014'!K9,SUM('9-03-2014'!C9)) -> 0
C165: =IF(SUM('3-03-2014'!C10)=0,'3-03-2014'!K10,SUM('3-03-2014'!C10)) -> 0 | D165: =IF(SUM('4-03-2014'!C10)=0,'4-03-2014'!K10,SUM('4-03-2014'!C10)) -> 0 | E165: =IF(SUM('5-03-2014'!C10)=0,'5-03-2014'!K10,SUM('5-03-2014'!C10)) -> 0 | F165: =IF(SUM('6-03-2014'!C10)=0,'6-03-2014'!K10,SUM('6-03-2014'!C10)) -> 0 | G165: =IF(SUM('7-03-2014'!C10)=0,'7-03-2014'!K10,SUM('7-03-2014'!C10)) -> 0 | H165: =IF(SUM('8-03-2014'!C10)=0,'8-03-2014'!K10,SUM('8-03-2014'!C10)) -> 0 | I165: =IF(SUM('9-03-2014'!C10)=0,'9-03-2014'!K10,SUM('9-03-2014'!C10)) -> 0
C166: =IF(SUM('3-03-2014'!C11)=0,'3-03-2014'!K11,SUM('3-03-2014'!C11)) -> 0 | D166: =IF(SUM('4-03-2014'!C11)=0,'4-03-2014'!K11,SUM('4-03-2014'!C11)) -> 0 | E166: =IF(SUM('5-03-2014'!C11)=0,'5-03-2014'!K11,SUM('5-03-2014'!C11)) -> 0 | F166: =IF(SUM('6-03-2014'!C11)=0,'6-03-2014'!K11,SUM('6-03-2014'!C11)) -> 0 | G166: =IF(SUM('7-03-2014'!C11)=0,'7-03-2014'!K11,SUM('7-03-2014'!C11)) -> 0 | H166: =IF(SUM('8-03-2014'!C11)=0,'8-03-2014'!K11,SUM('8-03-2014'!C11)) -> 0 | I166: =IF(SUM('9-03-2014'!C11)=0,'9-03-2014'!K11,SUM('9-03-2014'!C11)) -> 0
C167: =IF(SUM('3-03-2014'!C12)=0,'3-03-2014'!K12,SUM('3-03-2014'!C12)) -> 0 | D167: =IF(SUM('4-03-2014'!C12)=0,'4-03-2014'!K12,SUM('4-03-2014'!C12)) -> 0 | E167: =IF(SUM('5-03-2014'!C12)=0,'5-03-2014'!K12,SUM('5-03-2014'!C12)) -> 0 | F167: =IF(SUM('6-03-2014'!C12)=0,'6-03-2014'!K12,SUM('6-03-2014'!C12)) -> 0 | G167: =IF(SUM('7-03-2014'!C12)=0,'7-03-2014'!K12,SUM('7-03-2014'!C12)) -> 0 | H167: =IF(SUM('8-03-2014'!C12)=0,'8-03-2014'!K12,SUM('8-03-2014'!C12)) -> 0 | I167: =IF(SUM('9-03-2014'!C12)=0,'9-03-2014'!K12,SUM('9-03-2014'!C12)) -> 0
C168: =IF(SUM('3-03-2014'!C13)=0,'3-03-2014'!K13,SUM('3-03-2014'!C13)) -> 0 | D168: =IF(SUM('4-03-2014'!C13)=0,'4-03-2014'!K13,SUM('4-03-2014'!C13)) -> 0 | E168: =IF(SUM('5-03-2014'!C13)=0,'5-03-2014'!K13,SUM('5-03-2014'!C13)) -> 0 | F168: =IF(SUM('6-03-2014'!C13)=0,'6-03-2014'!K13,SUM('6-03-2014'!C13)) -> 0 | G168: =IF(SUM('7-03-2014'!C13)=0,'7-03-2014'!K13,SUM('7-03-2014'!C13)) -> 0 | H168: =IF(SUM('8-03-2014'!C13)=0,'8-03-2014'!K13,SUM('8-03-2014'!C13)) -> 0 | I168: =IF(SUM('9-03-2014'!C13)=0,'9-03-2014'!K13,SUM('9-03-2014'!C13)) -> 0
C169: =IF(SUM('3-03-2014'!C14)=0,'3-03-2014'!K14,SUM('3-03-2014'!C14)) -> 0 | D169: =IF(SUM('4-03-2014'!C14)=0,'4-03-2014'!K14,SUM('4-03-2014'!C14)) -> 0 | E169: =IF(SUM('5-03-2014'!C14)=0,'5-03-2014'!K14,SUM('5-03-2014'!C14)) -> 0 | F169: =IF(SUM('6-03-2014'!C14)=0,'6-03-2014'!K14,SUM('6-03-2014'!C14)) -> 0 | G169: =IF(SUM('7-03-2014'!C14)=0,'7-03-2014'!K14,SUM('7-03-2014'!C14)) -> 0 | H169: =IF(SUM('8-03-2014'!C14)=0,'8-03-2014'!K14,SUM('8-03-2014'!C14)) -> 0 | I169: =IF(SUM('9-03-2014'!C14)=0,'9-03-2014'!K14,SUM('9-03-2014'!C14)) -> 0
C170: =IF(SUM('3-03-2014'!C15)=0,'3-03-2014'!K15,SUM('3-03-2014'!C15)) -> 0 | D170: =IF(SUM('4-03-2014'!C15)=0,'4-03-2014'!K15,SUM('4-03-2014'!C15)) -> 0 | E170: =IF(SUM('5-03-2014'!C15)=0,'5-03-2014'!K15,SUM('5-03-2014'!C15)) -> 0 | F170: =IF(SUM('6-03-2014'!C15)=0,'6-03-2014'!K15,SUM('6-03-2014'!C15)) -> 0 | G170: =IF(SUM('7-03-2014'!C15)=0,'7-03-2014'!K15,SUM('7-03-2014'!C15)) -> 0 | H170: =IF(SUM('8-03-2014'!C15)=0,'8-03-2014'!K15,SUM('8-03-2014'!C15)) -> 0 | I170: =IF(SUM('9-03-2014'!C15)=0,'9-03-2014'!K15,SUM('9-03-2014'!C15)) -> 0
C171: =IF(SUM('3-03-2014'!C16)=0,'3-03-2014'!K16,SUM('3-03-2014'!C16)) -> 0 | D171: =IF(SUM('4-03-2014'!C16)=0,'4-03-2014'!K16,SUM('4-03-2014'!C16)) -> 0 | E171: =IF(SUM('5-03-2014'!C16)=0,'5-03-2014'!K16,SUM('5-03-2014'!C16)) -> 0 | F171: =IF(SUM('6-03-2014'!C16)=0,'6-03-2014'!K16,SUM('6-03-2014'!C16)) -> 0 | G171: =IF(SUM('7-03-2014'!C16)=0,'7-03-2014'!K16,SUM('7-03-2014'!C16)) -> 0 | H171: =IF(SUM('8-03-2014'!C16)=0,'8-03-2014'!K16,SUM('8-03-2014'!C16)) -> 0 | I171: =IF(SUM('9-03-2014'!C16)=0,'9-03-2014'!K16,SUM('9-03-2014'!C16)) -> 0
C172: =IF(SUM('3-03-2014'!C17)=0,'3-03-2014'!K17,SUM('3-03-2014'!C17)) -> 0 | D172: =IF(SUM('4-03-2014'!C17)=0,'4-03-2014'!K17,SUM('4-03-2014'!C17)) -> 0 | E172: =IF(SUM('5-03-2014'!C17)=0,'5-03-2014'!K17,SUM('5-03-2014'!C17)) -> 0 | F172: =IF(SUM('6-03-2014'!C17)=0,'6-03-2014'!K17,SUM('6-03-2014'!C17)) -> 0 | G172: =IF(SUM('7-03-2014'!C17)=0,'7-03-2014'!K17,SUM('7-03-2014'!C17)) -> 0 | H172: =IF(SUM('8-03-2014'!C17)=0,'8-03-2014'!K17,SUM('8-03-2014'!C17)) -> 0 | I172: =IF(SUM('9-03-2014'!C17)=0,'9-03-2014'!K17,SUM('9-03-2014'!C17)) -> 0
... C189: =IF(SUM('3-03-2014'!C34)=0,'3-03-2014'!K34,SUM('3-03-2014'!C34)) -> 0 | D189: =IF(SUM('4-03-2014'!C34)=0,'4-03-2014'!K34,SUM('4-03-2014'!C34)) -> 0 | E189: =IF(SUM('5-03-2014'!C34)=0,'5-03-2014'!K34,SUM('5-03-2014'!C34)) -> 0 | F189: =IF(SUM('6-03-2014'!C34)=0,'6-03-2014'!K34,SUM('6-03-2014'!C34)) -> 0 | G189: =IF(SUM('7-03-2014'!C34)=0,'7-03-2014'!K34,SUM('7-03-2014'!C34)) -> 0 | H189: =IF(SUM('8-03-2014'!C34)=0,'8-03-2014'!K34,SUM('8-03-2014'!C34)) -> 0 | I189: =IF(SUM('9-03-2014'!C34)=0,'9-03-2014'!K34,SUM('9-03-2014'!C34)) -> 0
A190: =A152 -> 41730
A192: =INT((A190-SUM(MOD(DATE(YEAR(A190-MOD(A190-2,7)+3),1,2),{1E+99;7})*{1;-1})+5)/7) -> 14
A194: MACHINES
C196: =I45+1 -> 41701 | D196: =C196+1 -> 41702 | E196: =D196+1 -> 41703 | F196: =E196+1 -> 41704 | G196: =F196+1 -> 41705 | H196: =G196+1 -> 41706 | I196: =H196+1 -> 41707
A197: Noms | B197: N° | C197: Colonne1 | D197: Colonne2 | E197: Colonne3 | F197: Colonne4 | G197: Colonne5 | H197: Colonne6 | I197: Colonne7 | J197: Remarques
C198: =SUM('3-03-2014'!C40) -> 0 | D198: =SUM('4-03-2014'!C40) -> 0 | E198: =SUM('5-03-2014'!C40) -> 0 | F198: =SUM('6-03-2014'!C40) -> 0 | G198: =SUM('7-03-2014'!C40) -> 0 | H198: =SUM('8-03-2014'!C40) -> 0 | I198: =SUM('9-03-2014'!C40) -> 0
C199: =SUM('3-03-2014'!C41) -> 0 | D199: =SUM('4-03-2014'!C41) -> 0 | E199: =SUM('5-03-2014'!C41) -> 0 | F199: =SUM('6-03-2014'!C41) -> 0 | G199: =SUM('7-03-2014'!C41) -> 0 | H199: =SUM('8-03-2014'!C41) -> 0 | I199: =SUM('9-03-2014'!C41) -> 0
...
