Workbook
Name ANNEE: #REF!
Name Chantier: #REF!
Name MOIS: #REF!
Name N°: #REF!

Sheet 1-03-2014

Sheet 2-03-2014
C3: ='1-03-2014'!C3 -> 0 | D3: ='1-03-2014'!D3 -> 0 | E3: ='1-03-2014'!E3 -> 0 | F3: ='1-03-2014'!F3 -> 0 | G3: ='1-03-2014'!G3 -> 0 | H3: ='1-03-2014'!H3 -> 0 | I3: ='1-03-2014'!I3 -> 0 | J3: ='1-03-2014'!J3 -> 0 | K3: ='1-03-2014'!K3 -> 0
C4: ='1-03-2014'!C4 -> 0 | D4: ='1-03-2014'!D4 -> 0 | E4: ='1-03-2014'!E4 -> 0 | F4: ='1-03-2014'!F4 -> 0 | G4: ='1-03-2014'!G4 -> 0 | H4: ='1-03-2014'!H4 -> 0 | I4: ='1-03-2014'!I4 -> 0 | J4: ='1-03-2014'!J4 -> 0 | K4: ='1-03-2014'!K4 -> 0
C5: ='1-03-2014'!C5 -> 0 | D5: ='1-03-2014'!D5 -> 0 | E5: ='1-03-2014'!E5 -> 0 | F5: ='1-03-2014'!F5 -> 0 | G5: ='1-03-2014'!G5 -> 0 | H5: ='1-03-2014'!H5 -> 0 | I5: ='1-03-2014'!I5 -> 0 | J5: ='1-03-2014'!J5 -> 0 | K5: ='1-03-2014'!K5 -> 0
A6: ='1-03-2014'!A6 -> 0 | B6: ='1-03-2014'!B6 -> 0
A7: ='1-03-2014'!A7 -> 0 | B7: ='1-03-2014'!B7 -> 0
A8: ='1-03-2014'!A8 -> 0 | B8: ='1-03-2014'!B8 -> 0
A9: ='1-03-2014'!A9 -> 0 | B9: ='1-03-2014'!B9 -> 0
A10: ='1-03-2014'!A10 -> 0 | B10: ='1-03-2014'!B10 -> 0
A11: ='1-03-2014'!A11 -> 0 | B11: ='1-03-2014'!B11 -> 0
A12: ='1-03-2014'!A12 -> 0 | B12: ='1-03-2014'!B12 -> 0
A13: ='1-03-2014'!A13 -> 0 | B13: ='1-03-2014'!B13 -> 0
A14: ='1-03-2014'!A14 -> 0 | B14: ='1-03-2014'!B14 -> 0
A15: ='1-03-2014'!A15 -> 0 | B15: ='1-03-2014'!B15 -> 0
A16: ='1-03-2014'!A16 -> 0 | B16: ='1-03-2014'!B16 -> 0
A17: ='1-03-2014'!A17 -> 0 | B17: ='1-03-2014'!B17 -> 0
... A34: ='1-03-2014'!A34 -> 0 | B34: ='1-03-2014'!B34 -> 0
C37: ='1-03-2014'!C37 -> 0 | D37: ='1-03-2014'!D37 -> 0 | E37: ='1-03-2014'!E37 -> 0 | F37: ='1-03-2014'!F37 -> 0 | G37: ='1-03-2014'!G37 -> 0 | H37: ='1-03-2014'!H37 -> 0 | I37: ='1-03-2014'!I37 -> 0 | J37: ='1-03-2014'!J37 -> 0 | K37: ='1-03-2014'!K37 -> 0
C38: ='1-03-2014'!C38 -> 0 | D38: ='1-03-2014'!D38 -> 0 | E38: ='1-03-2014'!E38 -> 0 | F38: ='1-03-2014'!F38 -> 0 | G38: ='1-03-2014'!G38 -> 0 | H38: ='1-03-2014'!H38 -> 0 | I38: ='1-03-2014'!I38 -> 0 | J38: ='1-03-2014'!J38 -> 0 | K38: ='1-03-2014'!K38 -> 0
C39: ='1-03-2014'!C39 -> 0 | D39: ='1-03-2014'!D39 -> 0 | E39: ='1-03-2014'!E39 -> 0 | F39: ='1-03-2014'!F39 -> 0 | G39: ='1-03-2014'!G39 -> 0 | H39: ='1-03-2014'!H39 -> 0 | I39: ='1-03-2014'!I39 -> 0 | J39: ='1-03-2014'!J39 -> 0 | K39: ='1-03-2014'!K39 -> 0
A40: ='1-03-2014'!A40 -> 0 | B40: ='1-03-2014'!B40 -> 0
A41: ='1-03-2014'!A41 -> 0 | B41: ='1-03-2014'!B41 -> 0
A42: ='1-03-2014'!A42 -> 0 | B42: ='1-03-2014'!B42 -> 0
A43: ='1-03-2014'!A43 -> 0 | B43: ='1-03-2014'!B43 -> 0
A44: ='1-03-2014'!A44 -> 0 | B44: ='1-03-2014'!B44 -> 0
A45: ='1-03-2014'!A45 -> 0 | B45: ='1-03-2014'!B45 -> 0
A46: ='1-03-2014'!A46 -> 0 | B46: ='1-03-2014'!B46 -> 0
A47: ='1-03-2014'!A47 -> 0 | B47: ='1-03-2014'!B47 -> 0
A48: ='1-03-2014'!A48 -> 0 | B48: ='1-03-2014'!B48 -> 0
A49: ='1-03-2014'!A49 -> 0 | B49: ='1-03-2014'!B49 -> 0
A50: ='1-03-2014'!A50 -> 0 | B50: ='1-03-2014'!B50 -> 0
A51: ='1-03-2014'!A51 -> 0 | B51: ='1-03-2014'!B51 -> 0
... A68: ='1-03-2014'!A68 -> 0 | B68: ='1-03-2014'!B68 -> 0
C71: ='1-03-2014'!C71 -> 0 | D71: ='1-03-2014'!D71 -> 0 | E71: ='1-03-2014'!E71 -> 0 | F71: ='1-03-2014'!F71 -> 0 | G71: ='1-03-2014'!G71 -> 0 | H71: ='1-03-2014'!H71 -> 0 | I71: ='1-03-2014'!I71 -> 0 | J71: ='1-03-2014'!J71 -> 0 | K71: ='1-03-2014'!K71 -> 0
C72: ='1-03-2014'!C72 -> 0 | D72: ='1-03-2014'!D72 -> 0 | E72: ='1-03-2014'!E72 -> 0 | F72: ='1-03-2014'!F72 -> 0 | G72: ='1-03-2014'!G72 -> 0 | H72: ='1-03-2014'!H72 -> 0 | I72: ='1-03-2014'!I72 -> 0 | J72: ='1-03-2014'!J72 -> 0 | K72: ='1-03-2014'!K72 -> 0
C73: ='1-03-2014'!C73 -> 0 | D73: ='1-03-2014'!D73 -> 0 | E73: ='1-03-2014'!E73 -> 0 | F73: ='1-03-2014'!F73 -> 0 | G73: ='1-03-2014'!G73 -> 0 | H73: ='1-03-2014'!H73 -> 0 | I73: ='1-03-2014'!I73 -> 0 | J73: ='1-03-2014'!J73 -> 0 | K73: ='1-03-2014'!K73 -> 0
A74: ='1-03-2014'!A74 -> 0 | B74: ='1-03-2014'!B74 -> 0
A75: ='1-03-2014'!A75 -> 0 | B75: ='1-03-2014'!B75 -> 0
A76: ='1-03-2014'!A76 -> 0 | B76: ='1-03-2014'!B76 -> 0
A77: ='1-03-2014'!A77 -> 0 | B77: ='1-03-2014'!B77 -> 0
A78: ='1-03-2014'!A78 -> 0 | B78: ='1-03-2014'!B78 -> 0
...

Sheet 3-03-2014
C3: ='2-03-2014'!C3 -> 0 | D3: ='2-03-2014'!D3 -> 0 | E3: ='2-03-2014'!E3 -> 0 | F3: ='2-03-2014'!F3 -> 0 | G3: ='2-03-2014'!G3 -> 0 | H3: ='2-03-2014'!H3 -> 0 | I3: ='2-03-2014'!I3 -> 0 | J3: ='2-03-2014'!J3 -> 0 | K3: ='2-03-2014'!K3 -> 0
C4: ='2-03-2014'!C4 -> 0 | D4: ='2-03-2014'!D4 -> 0 | E4: ='2-03-2014'!E4 -> 0 | F4: ='2-03-2014'!F4 -> 0 | G4: ='2-03-2014'!G4 -> 0 | H4: ='2-03-2014'!H4 -> 0 | I4: ='2-03-2014'!I4 -> 0 | J4: ='2-03-2014'!J4 -> 0 | K4: ='2-03-2014'!K4 -> 0
C5: ='2-03-2014'!C5 -> 0 | D5: ='2-03-2014'!D5 -> 0 | E5: ='2-03-2014'!E5 -> 0 | F5: ='2-03-2014'!F5 -> 0 | G5: ='2-03-2014'!G5 -> 0 | H5: ='2-03-2014'!H5 -> 0 | I5: ='2-03-2014'!I5 -> 0 | J5: ='2-03-2014'!J5 -> 0 | K5: ='2-03-2014'!K5 -> 0
A6: ='2-03-2014'!A6 -> 0 | B6: ='2-03-2014'!B6 -> 0
A7: ='2-03-2014'!A7 -> 0 | B7: ='2-03-2014'!B7 -> 0
A8: ='2-03-2014'!A8 -> 0 | B8: ='2-03-2014'!B8 -> 0
A9: ='2-03-2014'!A9 -> 0 | B9: ='2-03-2014'!B9 -> 0
A10: ='2-03-2014'!A10 -> 0 | B10: ='2-03-2014'!B10 -> 0
A11: ='2-03-2014'!A11 -> 0 | B11: ='2-03-2014'!B11 -> 0
A12: ='2-03-2014'!A12 -> 0 | B12: ='2-03-2014'!B12 -> 0
A13: ='2-03-2014'!A13 -> 0 | B13: ='2-03-2014'!B13 -> 0
A14: ='2-03-2014'!A14 -> 0 | B14: ='2-03-2014'!B14 -> 0
A15: ='2-03-2014'!A15 -> 0 | B15: ='2-03-2014'!B15 -> 0
A16: ='2-03-2014'!A16 -> 0 | B16: ='2-03-2014'!B16 -> 0
A17: ='2-03-2014'!A17 -> 0 | B17: ='2-03-2014'!B17 -> 0
... A34: ='2-03-2014'!A34 -> 0 | B34: ='2-03-2014'!B34 -> 0
C37: ='1-03-2014'!C37 -> 0 | D37: ='1-03-2014'!D37 -> 0 | E37: ='1-03-2014'!E37 -> 0 | F37: ='1-03-2014'!F37 -> 0 | G37: ='1-03-2014'!G37 -> 0 | H37: ='1-03-2014'!H37 -> 0 | I37: ='1-03-2014'!I37 -> 0 | J37: ='1-03-2014'!J37 -> 0 | K37: ='1-03-2014'!K37 -> 0
C38: ='1-03-2014'!C38 -> 0 | D38: ='1-03-2014'!D38 -> 0 | E38: ='1-03-2014'!E38 -> 0 | F38: ='1-03-2014'!F38 -> 0 | G38: ='1-03-2014'!G38 -> 0 | H38: ='1-03-2014'!H38 -> 0 | I38: ='1-03-2014'!I38 -> 0 | J38: ='1-03-2014'!J38 -> 0 | K38: ='1-03-2014'!K38 -> 0
C39: ='1-03-2014'!C39 -> 0 | D39: ='1-03-2014'!D39 -> 0 | E39: ='1-03-2014'!E39 -> 0 | F39: ='1-03-2014'!F39 -> 0 | G39: ='1-03-2014'!G39 -> 0 | H39: ='1-03-2014'!H39 -> 0 | I39: ='1-03-2014'!I39 -> 0 | J39: ='1-03-2014'!J39 -> 0 | K39: ='1-03-2014'!K39 -> 0
A40: ='2-03-2014'!A40 -> 0 | B40: ='2-03-2014'!B40 -> 0
A41: ='2-03-2014'!A41 -> 0 | B41: ='2-03-2014'!B41 -> 0
A42: ='2-03-2014'!A42 -> 0 | B42: ='2-03-2014'!B42 -> 0
A43: ='2-03-2014'!A43 -> 0 | B43: ='2-03-2014'!B43 -> 0
A44: ='2-03-2014'!A44 -> 0 | B44: ='2-03-2014'!B44 -> 0
A45: ='2-03-2014'!A45 -> 0 | B45: ='2-03-2014'!B45 -> 0
A46: ='2-03-2014'!A46 -> 0 | B46: ='2-03-2014'!B46 -> 0
A47: ='2-03-2014'!A47 -> 0 | B47: ='2-03-2014'!B47 -> 0
A48: ='2-03-2014'!A48 -> 0 | B48: ='2-03-2014'!B48 -> 0
A49: ='2-03-2014'!A49 -> 0 | B49: ='2-03-2014'!B49 -> 0
A50: ='2-03-2014'!A50 -> 0 | B50: ='2-03-2014'!B50 -> 0
A51: ='2-03-2014'!A51 -> 0 | B51: ='2-03-2014'!B51 -> 0
... A68: ='2-03-2014'!A68 -> 0 | B68: ='2-03-2014'!B68 -> 0
C71: ='1-03-2014'!C71 -> 0 | D71: ='1-03-2014'!D71 -> 0 | E71: ='1-03-2014'!E71 -> 0 | F71: ='1-03-2014'!F71 -> 0 | G71: ='1-03-2014'!G71 -> 0 | H71: ='1-03-2014'!H71 -> 0 | I71: ='1-03-2014'!I71 -> 0 | J71: ='1-03-2014'!J71 -> 0 | K71: ='1-03-2014'!K71 -> 0
C72: ='1-03-2014'!C72 -> 0 | D72: ='1-03-2014'!D72 -> 0 | E72: ='1-03-2014'!E72 -> 0 | F72: ='1-03-2014'!F72 -> 0 | G72: ='1-03-2014'!G72 -> 0 | H72: ='1-03-2014'!H72 -> 0 | I72: ='1-03-2014'!I72 -> 0 | J72: ='1-03-2014'!J72 -> 0 | K72: ='1-03-2014'!K72 -> 0
C73: ='1-03-2014'!C73 -> 0 | D73: ='1-03-2014'!D73 -> 0 | E73: ='1-03-2014'!E73 -> 0 | F73: ='1-03-2014'!F73 -> 0 | G73: ='1-03-2014'!G73 -> 0 | H73: ='1-03-2014'!H73 -> 0 | I73: ='1-03-2014'!I73 -> 0 | J73: ='1-03-2014'!J73 -> 0 | K73: ='1-03-2014'!K73 -> 0
A74: ='2-03-2014'!A74 -> 0 | B74: ='2-03-2014'!B74 -> 0
A75: ='2-03-2014'!A75 -> 0 | B75: ='2-03-2014'!B75 -> 0
A76: ='2-03-2014'!A76 -> 0 | B76: ='2-03-2014'!B76 -> 0
A77: ='2-03-2014'!A77 -> 0 | B77: ='2-03-2014'!B77 -> 0
A78: ='2-03-2014'!A78 -> 0 | B78: ='2-03-2014'!B78 -> 0
...

Sheet 4-03-2014
C3: ='3-03-2014'!C3 -> 0 | D3: ='3-03-2014'!D3 -> 0 | E3: ='3-03-2014'!E3 -> 0 | F3: ='3-03-2014'!F3 -> 0 | G3: ='3-03-2014'!G3 -> 0 | H3: ='3-03-2014'!H3 -> 0 | I3: ='3-03-2014'!I3 -> 0 | J3: ='3-03-2014'!J3 -> 0 | K3: ='3-03-2014'!K3 -> 0
C4: ='3-03-2014'!C4 -> 0 | D4: ='3-03-2014'!D4 -> 0 | E4: ='3-03-2014'!E4 -> 0 | F4: ='3-03-2014'!F4 -> 0 | G4: ='3-03-2014'!G4 -> 0 | H4: ='3-03-2014'!H4 -> 0 | I4: ='3-03-2014'!I4 -> 0 | J4: ='3-03-2014'!J4 -> 0 | K4: ='3-03-2014'!K4 -> 0
C5: ='3-03-2014'!C5 -> 0 | D5: ='3-03-2014'!D5 -> 0 | E5: ='3-03-2014'!E5 -> 0 | F5: ='3-03-2014'!F5 -> 0 | G5: ='3-03-2014'!G5 -> 0 | H5: ='3-03-2014'!H5 -> 0 | I5: ='3-03-2014'!I5 -> 0 | J5: ='3-03-2014'!J5 -> 0 | K5: ='3-03-2014'!K5 -> 0
A6: ='3-03-2014'!A6 -> 0 | B6: ='3-03-2014'!B6 -> 0
A7: ='3-03-2014'!A7 -> 0 | B7: ='3-03-2014'!B7 -> 0
A8: ='3-03-2014'!A8 -> 0 | B8: ='3-03-2014'!B8 -> 0
A9: ='3-03-2014'!A9 -> 0 | B9: ='3-03-2014'!B9 -> 0
A10: ='3-03-2014'!A10 -> 0 | B10: ='3-03-2014'!B10 -> 0
A11: ='3-03-2014'!A11 -> 0 | B11: ='3-03-2014'!B11 -> 0
A12: ='3-03-2014'!A12 -> 0 | B12: ='3-03-2014'!B12 -> 0
A13: ='3-03-2014'!A13 -> 0 | B13: ='3-03-2014'!B13 -> 0
A14: ='3-03-2014'!A14 -> 0 | B14: ='3-03-2014'!B14 -> 0
A15: ='3-03-2014'!A15 -> 0 | B15: ='3-03-2014'!B15 -> 0
A16: ='3-03-2014'!A16 -> 0 | B16: ='3-03-2014'!B16 -> 0
A17: ='3-03-2014'!A17 -> 0 | B17: ='3-03-2014'!B17 -> 0
... A34: ='3-03-2014'!A34 -> 0 | B34: ='3-03-2014'!B34 -> 0
C37: ='1-03-2014'!C37 -> 0 | D37: ='1-03-2014'!D37 -> 0 | E37: ='1-03-2014'!E37 -> 0 | F37: ='1-03-2014'!F37 -> 0 | G37: ='1-03-2014'!G37 -> 0 | H37: ='1-03-2014'!H37 -> 0 | I37: ='1-03-2014'!I37 -> 0 | J37: ='1-03-2014'!J37 -> 0 | K37: ='1-03-2014'!K37 -> 0
C38: ='1-03-2014'!C38 -> 0 | D38: ='1-03-2014'!D38 -> 0 | E38: ='1-03-2014'!E38 -> 0 | F38: ='1-03-2014'!F38 -> 0 | G38: ='1-03-2014'!G38 -> 0 | H38: ='1-03-2014'!H38 -> 0 | I38: ='1-03-2014'!I38 -> 0 | J38: ='1-03-2014'!J38 -> 0 | K38: ='1-03-2014'!K38 -> 0
C39: ='1-03-2014'!C39 -> 0 | D39: ='1-03-2014'!D39 -> 0 | E39: ='1-03-2014'!E39 -> 0 | F39: ='1-03-2014'!F39 -> 0 | G39: ='1-03-2014'!G39 -> 0 | H39: ='1-03-2014'!H39 -> 0 | I39: ='1-03-2014'!I39 -> 0 | J39: ='1-03-2014'!J39 -> 0 | K39: ='1-03-2014'!K39 -> 0
A40: ='3-03-2014'!A40 -> 0 | B40: ='3-03-2014'!B40 -> 0
A41: ='3-03-2014'!A41 -> 0 | B41: ='3-03-2014'!B41 -> 0
A42: ='3-03-2014'!A42 -> 0 | B42: ='3-03-2014'!B42 -> 0
A43: ='3-03-2014'!A43 -> 0 | B43: ='3-03-2014'!B43 -> 0
A44: ='3-03-2014'!A44 -> 0 | B44: ='3-03-2014'!B44 -> 0
A45: ='3-03-2014'!A45 -> 0 | B45: ='3-03-2014'!B45 -> 0
A46: ='3-03-2014'!A46 -> 0 | B46: ='3-03-2014'!B46 -> 0
A47: ='3-03-2014'!A47 -> 0 | B47: ='3-03-2014'!B47 -> 0
A48: ='3-03-2014'!A48 -> 0 | B48: ='3-03-2014'!B48 -> 0
A49: ='3-03-2014'!A49 -> 0 | B49: ='3-03-2014'!B49 -> 0
A50: ='3-03-2014'!A50 -> 0 | B50: ='3-03-2014'!B50 -> 0
A51: ='3-03-2014'!A51 -> 0 | B51: ='3-03-2014'!B51 -> 0
... A68: ='3-03-2014'!A68 -> 0 | B68: ='3-03-2014'!B68 -> 0
C71: ='1-03-2014'!C71 -> 0 | D71: ='1-03-2014'!D71 -> 0 | E71: ='1-03-2014'!E71 -> 0 | F71: ='1-03-2014'!F71 -> 0 | G71: ='1-03-2014'!G71 -> 0 | H71: ='1-03-2014'!H71 -> 0 | I71: ='1-03-2014'!I71 -> 0 | J71: ='1-03-2014'!J71 -> 0 | K71: ='1-03-2014'!K71 -> 0
C72: ='1-03-2014'!C72 -> 0 | D72: ='1-03-2014'!D72 -> 0 | E72: ='1-03-2014'!E72 -> 0 | F72: ='1-03-2014'!F72 -> 0 | G72: ='1-03-2014'!G72 -> 0 | H72: ='1-03-2014'!H72 -> 0 | I72: ='1-03-2014'!I72 -> 0 | J72: ='1-03-2014'!J72 -> 0 | K72: ='1-03-2014'!K72 -> 0
C73: ='1-03-2014'!C73 -> 0 | D73: ='1-03-2014'!D73 -> 0 | E73: ='1-03-2014'!E73 -> 0 | F73: ='1-03-2014'!F73 -> 0 | G73: ='1-03-2014'!G73 -> 0 | H73: ='1-03-2014'!H73 -> 0 | I73: ='1-03-2014'!I73 -> 0 | J73: ='1-03-2014'!J73 -> 0 | K73: ='1-03-2014'!K73 -> 0
A74: ='3-03-2014'!A74 -> 0 | B74: ='3-03-2014'!B74 -> 0
A75: ='3-03-2014'!A75 -> 0 | B75: ='3-03-2014'!B75 -> 0
A76: ='3-03-2014'!A76 -> 0 | B76: ='3-03-2014'!B76 -> 0
A77: ='3-03-2014'!A77 -> 0 | B77: ='3-03-2014'!B77 -> 0
A78: ='3-03-2014'!A78 -> 0 | B78: ='3-03-2014'!B78 -> 0
...

Sheet 5-03-2014
C3: ='4-03-2014'!C3 -> 0 | D3: ='4-03-2014'!D3 -> 0 | E3: ='4-03-2014'!E3 -> 0 | F3: ='4-03-2014'!F3 -> 0 | G3: ='4-03-2014'!G3 -> 0 | H3: ='4-03-2014'!H3 -> 0 | I3: ='4-03-2014'!I3 -> 0 | J3: ='4-03-2014'!J3 -> 0 | K3: ='4-03-2014'!K3 -> 0
C4: ='4-03-2014'!C4 -> 0 | D4: ='4-03-2014'!D4 -> 0 | E4: ='4-03-2014'!E4 -> 0 | F4: ='4-03-2014'!F4 -> 0 | G4: ='4-03-2014'!G4 -> 0 | H4: ='4-03-2014'!H4 -> 0 | I4: ='4-03-2014'!I4 -> 0 | J4: ='4-03-2014'!J4 -> 0 | K4: ='4-03-2014'!K4 -> 0
C5: ='4-03-2014'!C5 -> 0 | D5: ='4-03-2014'!D5 -> 0 | E5: ='4-03-2014'!E5 -> 0 | F5: ='4-03-2014'!F5 -> 0 | G5: ='4-03-2014'!G5 -> 0 | H5: ='4-03-2014'!H5 -> 0 | I5: ='4-03-2014'!I5 -> 0 | J5: ='4-03-2014'!J5 -> 0 | K5: ='4-03-2014'!K5 -> 0
A6: ='4-03-2014'!A6 -> 0 | B6: ='4-03-2014'!B6 -> 0
A7: ='4-03-2014'!A7 -> 0 | B7: ='4-03-2014'!B7 -> 0
A8: ='4-03-2014'!A8 -> 0 | B8: ='4-03-2014'!B8 -> 0
A9: ='4-03-2014'!A9 -> 0 | B9: ='4-03-2014'!B9 -> 0
A10: ='4-03-2014'!A10 -> 0 | B10: ='4-03-2014'!B10 -> 0
A11: ='4-03-2014'!A11 -> 0 | B11: ='4-03-2014'!B11 -> 0
A12: ='4-03-2014'!A12 -> 0 | B12: ='4-03-2014'!B12 -> 0
A13: ='4-03-2014'!A13 -> 0 | B13: ='4-03-2014'!B13 -> 0
A14: ='4-03-2014'!A14 -> 0 | B14: ='4-03-2014'!B14 -> 0
A15: ='4-03-2014'!A15 -> 0 | B15: ='4-03-2014'!B15 -> 0
A16: ='4-03-2014'!A16 -> 0 | B16: ='4-03-2014'!B16 -> 0
A17: ='4-03-2014'!A17 -> 0 | B17: ='4-03-2014'!B17 -> 0
... A34: ='4-03-2014'!A34 -> 0 | B34: ='4-03-2014'!B34 -> 0
C37: ='1-03-2014'!C37 -> 0 | D37: ='1-03-2014'!D37 -> 0 | E37: ='1-03-2014'!E37 -> 0 | F37: ='1-03-2014'!F37 -> 0 | G37: ='1-03-2014'!G37 -> 0 | H37: ='1-03-2014'!H37 -> 0 | I37: ='1-03-2014'!I37 -> 0 | J37: ='1-03-2014'!J37 -> 0 | K37: ='1-03-2014'!K37 -> 0
C38: ='1-03-2014'!C38 -> 0 | D38: ='1-03-2014'!D38 -> 0 | E38: ='1-03-2014'!E38 -> 0 | F38: ='1-03-2014'!F38 -> 0 | G38: ='1-03-2014'!G38 -> 0 | H38: ='1-03-2014'!H38 -> 0 | I38: ='1-03-2014'!I38 -> 0 | J38: ='1-03-2014'!J38 -> 0 | K38: ='1-03-2014'!K38 -> 0
C39: ='1-03-2014'!C39 -> 0 | D39: ='1-03-2014'!D39 -> 0 | E39: ='1-03-2014'!E39 -> 0 | F39: ='1-03-2014'!F39 -> 0 | G39: ='1-03-2014'!G39 -> 0 | H39: ='1-03-2014'!H39 -> 0 | I39: ='1-03-2014'!I39 -> 0 | J39: ='1-03-2014'!J39 -> 0 | K39: ='1-03-2014'!K39 -> 0
A40: ='4-03-2014'!A40 -> 0 | B40: ='4-03-2014'!B40 -> 0
A41: ='4-03-2014'!A41 -> 0 | B41: ='4-03-2014'!B41 -> 0
A42: ='4-03-2014'!A42 -> 0 | B42: ='4-03-2014'!B42 -> 0
A43: ='4-03-2014'!A43 -> 0 | B43: ='4-03-2014'!B43 -> 0
A44: ='4-03-2014'!A44 -> 0 | B44: ='4-03-2014'!B44 -> 0
A45: ='4-03-2014'!A45 -> 0 | B45: ='4-03-2014'!B45 -> 0
A46: ='4-03-2014'!A46 -> 0 | B46: ='4-03-2014'!B46 -> 0
A47: ='4-03-2014'!A47 -> 0 | B47: ='4-03-2014'!B47 -> 0
A48: ='4-03-2014'!A48 -> 0 | B48: ='4-03-2014'!B48 -> 0
A49: ='4-03-2014'!A49 -> 0 | B49: ='4-03-2014'!B49 -> 0
A50: ='4-03-2014'!A50 -> 0 | B50: ='4-03-2014'!B50 -> 0
A51: ='4-03-2014'!A51 -> 0 | B51: ='4-03-2014'!B51 -> 0
... A68: ='4-03-2014'!A68 -> 0 | B68: ='4-03-2014'!B68 -> 0
C71: ='1-03-2014'!C71 -> 0 | D71: ='1-03-2014'!D71 -> 0 | E71: ='1-03-2014'!E71 -> 0 | F71: ='1-03-2014'!F71 -> 0 | G71: ='1-03-2014'!G71 -> 0 | H71: ='1-03-2014'!H71 -> 0 | I71: ='1-03-2014'!I71 -> 0 | J71: ='1-03-2014'!J71 -> 0 | K71: ='1-03-2014'!K71 -> 0
C72: ='1-03-2014'!C72 -> 0 | D72: ='1-03-2014'!D72 -> 0 | E72: ='1-03-2014'!E72 -> 0 | F72: ='1-03-2014'!F72 -> 0 | G72: ='1-03-2014'!G72 -> 0 | H72: ='1-03-2014'!H72 -> 0 | I72: ='1-03-2014'!I72 -> 0 | J72: ='1-03-2014'!J72 -> 0 | K72: ='1-03-2014'!K72 -> 0
C73: ='1-03-2014'!C73 -> 0 | D73: ='1-03-2014'!D73 -> 0 | E73: ='1-03-2014'!E73 -> 0 | F73: ='1-03-2014'!F73 -> 0 | G73: ='1-03-2014'!G73 -> 0 | H73: ='1-03-2014'!H73 -> 0 | I73: ='1-03-2014'!I73 -> 0 | J73: ='1-03-2014'!J73 -> 0 | K73: ='1-03-2014'!K73 -> 0
A74: ='4-03-2014'!A74 -> 0 | B74: ='4-03-2014'!B74 -> 0
A75: ='4-03-2014'!A75 -> 0 | B75: ='4-03-2014'!B75 -> 0
A76: ='4-03-2014'!A76 -> 0 | B76: ='4-03-2014'!B76 -> 0
A77: ='4-03-2014'!A77 -> 0 | B77: ='4-03-2014'!B77 -> 0
A78: ='4-03-2014'!A78 -> 0 | B78: ='4-03-2014'!B78 -> 0
...

Sheet 6-03-2014
C3: ='5-03-2014'!C3 -> 0 | D3: ='5-03-2014'!D3 -> 0 | E3: ='5-03-2014'!E3 -> 0 | F3: ='5-03-2014'!F3 -> 0 | G3: ='5-03-2014'!G3 -> 0 | H3: ='5-03-2014'!H3 -> 0 | I3: ='5-03-2014'!I3 -> 0 | J3: ='5-03-2014'!J3 -> 0 | K3: ='5-03-2014'!K3 -> 0
C4: ='5-03-2014'!C4 -> 0 | D4: ='5-03-2014'!D4 -> 0 | E4: ='5-03-2014'!E4 -> 0 | F4: ='5-03-2014'!F4 -> 0 | G4: ='5-03-2014'!G4 -> 0 | H4: ='5-03-2014'!H4 -> 0 | I4: ='5-03-2014'!I4 -> 0 | J4: ='5-03-2014'!J4 -> 0 | K4: ='5-03-2014'!K4 -> 0
C5: ='5-03-2014'!C5 -> 0 | D5: ='5-03-2014'!D5 -> 0 | E5: ='5-03-2014'!E5 -> 0 | F5: ='5-03-2014'!F5 -> 0 | G5: ='5-03-2014'!G5 -> 0 | H5: ='5-03-2014'!H5 -> 0 | I5: ='5-03-2014'!I5 -> 0 | J5: ='5-03-2014'!J5 -> 0 | K5: ='5-03-2014'!K5 -> 0
A6: ='5-03-2014'!A6 -> 0 | B6: ='5-03-2014'!B6 -> 0
A7: ='5-03-2014'!A7 -> 0 | B7: ='5-03-2014'!B7 -> 0
A8: ='5-03-2014'!A8 -> 0 | B8: ='5-03-2014'!B8 -> 0
A9: ='5-03-2014'!A9 -> 0 | B9: ='5-03-2014'!B9 -> 0
A10: ='5-03-2014'!A10 -> 0 | B10: ='5-03-2014'!B10 -> 0
A11: ='5-03-2014'!A11 -> 0 | B11: ='5-03-2014'!B11 -> 0
A12: ='5-03-2014'!A12 -> 0 | B12: ='5-03-2014'!B12 -> 0
A13: ='5-03-2014'!A13 -> 0 | B13: ='5-03-2014'!B13 -> 0
A14: ='5-03-2014'!A14 -> 0 | B14: ='5-03-2014'!B14 -> 0
A15: ='5-03-2014'!A15 -> 0 | B15: ='5-03-2014'!B15 -> 0
A16: ='5-03-2014'!A16 -> 0 | B16: ='5-03-2014'!B16 -> 0
A17: ='5-03-2014'!A17 -> 0 | B17: ='5-03-2014'!B17 -> 0
... A34: ='5-03-2014'!A34 -> 0 | B34: ='5-03-2014'!B34 -> 0
C37: ='1-03-2014'!C37 -> 0 | D37: ='1-03-2014'!D37 -> 0 | E37: ='1-03-2014'!E37 -> 0 | F37: ='1-03-2014'!F37 -> 0 | G37: ='1-03-2014'!G37 -> 0 | H37: ='1-03-2014'!H37 -> 0 | I37: ='1-03-2014'!I37 -> 0 | J37: ='1-03-2014'!J37 -> 0 | K37: ='1-03-2014'!K37 -> 0
C38: ='1-03-2014'!C38 -> 0 | D38: ='1-03-2014'!D38 -> 0 | E38: ='1-03-2014'!E38 -> 0 | F38: ='1-03-2014'!F38 -> 0 | G38: ='1-03-2014'!G38 -> 0 | H38: ='1-03-2014'!H38 -> 0 | I38: ='1-03-2014'!I38 -> 0 | J38: ='1-03-2014'!J38 -> 0 | K38: ='1-03-2014'!K38 -> 0
C39: ='1-03-2014'!C39 -> 0 | D39: ='1-03-2014'!D39 -> 0 | E39: ='1-03-2014'!E39 -> 0 | F39: ='1-03-2014'!F39 -> 0 | G39: ='1-03-2014'!G39 -> 0 | H39: ='1-03-2014'!H39 -> 0 | I39: ='1-03-2014'!I39 -> 0 | J39: ='1-03-2014'!J39 -> 0 | K39: ='1-03-2014'!K39 -> 0
A40: ='5-03-2014'!A40 -> 0 | B40: ='5-03-2014'!B40 -> 0
A41: ='5-03-2014'!A41 -> 0 | B41: ='5-03-2014'!B41 -> 0
A42: ='5-03-2014'!A42 -> 0 | B42: ='5-03-2014'!B42 -> 0
A43: ='5-03-2014'!A43 -> 0 | B43: ='5-03-2014'!B43 -> 0
A44: ='5-03-2014'!A44 -> 0 | B44: ='5-03-2014'!B44 -> 0
A45: ='5-03-2014'!A45 -> 0 | B45: ='5-03-2014'!B45 -> 0
A46: ='5-03-2014'!A46 -> 0 | B46: ='5-03-2014'!B46 -> 0
A47: ='5-03-2014'!A47 -> 0 | B47: ='5-03-2014'!B47 -> 0
A48: ='5-03-2014'!A48 -> 0 | B48: ='5-03-2014'!B48 -> 0
A49: ='5-03-2014'!A49 -> 0 | B49: ='5-03-2014'!B49 -> 0
A50: ='5-03-2014'!A50 -> 0 | B50: ='5-03-2014'!B50 -> 0
A51: ='5-03-2014'!A51 -> 0 | B51: ='5-03-2014'!B51 -> 0
... A68: ='5-03-2014'!A68 -> 0 | B68: ='5-03-2014'!B68 -> 0
C71: ='1-03-2014'!C71 -> 0 | D71: ='1-03-2014'!D71 -> 0 | E71: ='1-03-2014'!E71 -> 0 | F71: ='1-03-2014'!F71 -> 0 | G71: ='1-03-2014'!G71 -> 0 | H71: ='1-03-2014'!H71 -> 0 | I71: ='1-03-2014'!I71 -> 0 | J71: ='1-03-2014'!J71 -> 0 | K71: ='1-03-2014'!K71 -> 0
C72: ='1-03-2014'!C72 -> 0 | D72: ='1-03-2014'!D72 -> 0 | E72: ='1-03-2014'!E72 -> 0 | F72: ='1-03-2014'!F72 -> 0 | G72: ='1-03-2014'!G72 -> 0 | H72: ='1-03-2014'!H72 -> 0 | I72: ='1-03-2014'!I72 -> 0 | J72: ='1-03-2014'!J72 -> 0 | K72: ='1-03-2014'!K72 -> 0
C73: ='1-03-2014'!C73 -> 0 | D73: ='1-03-2014'!D73 -> 0 | E73: ='1-03-2014'!E73 -> 0 | F73: ='1-03-2014'!F73 -> 0 | G73: ='1-03-2014'!G73 -> 0 | H73: ='1-03-2014'!H73 -> 0 | I73: ='1-03-2014'!I73 -> 0 | J73: ='1-03-2014'!J73 -> 0 | K73: ='1-03-2014'!K73 -> 0
A74: ='5-03-2014'!A74 -> 0 | B74: ='5-03-2014'!B74 -> 0
A75: ='5-03-2014'!A75 -> 0 | B75: ='5-03-2014'!B75 -> 0
A76: ='5-03-2014'!A76 -> 0 | B76: ='5-03-2014'!B76 -> 0
A77: ='5-03-2014'!A77 -> 0 | B77: ='5-03-2014'!B77 -> 0
A78: ='5-03-2014'!A78 -> 0 | B78: ='5-03-2014'!B78 -> 0
...

Sheet 7-03-2014
C3: ='6-03-2014'!C3 -> 0 | D3: ='6-03-2014'!D3 -> 0 | E3: ='6-03-2014'!E3 -> 0 | F3: ='6-03-2014'!F3 -> 0 | G3: ='6-03-2014'!G3 -> 0 | H3: ='6-03-2014'!H3 -> 0 | I3: ='6-03-2014'!I3 -> 0 | J3: ='6-03-2014'!J3 -> 0 | K3: ='6-03-2014'!K3 -> 0
C4: ='6-03-2014'!C4 -> 0 | D4: ='6-03-2014'!D4 -> 0 | E4: ='6-03-2014'!E4 -> 0 | F4: ='6-03-2014'!F4 -> 0 | G4: ='6-03-2014'!G4 -> 0 | H4: ='6-03-2014'!H4 -> 0 | I4: ='6-03-2014'!I4 -> 0 | J4: ='6-03-2014'!J4 -> 0 | K4: ='6-03-2014'!K4 -> 0
C5: ='6-03-2014'!C5 -> 0 | D5: ='6-03-2014'!D5 -> 0 | E5: ='6-03-2014'!E5 -> 0 | F5: ='6-03-2014'!F5 -> 0 | G5: ='6-03-2014'!G5 -> 0 | H5: ='6-03-2014'!H5 -> 0 | I5: ='6-03-2014'!I5 -> 0 | J5: ='6-03-2014'!J5 -> 0 | K5: ='6-03-2014'!K5 -> 0
A6: ='6-03-2014'!A6 -> 0 | B6: ='6-03-2014'!B6 -> 0
A7: ='6-03-2014'!A7 -> 0 | B7: ='6-03-2014'!B7 -> 0
A8: ='6-03-2014'!A8 -> 0 | B8: ='6-03-2014'!B8 -> 0
A9: ='6-03-2014'!A9 -> 0 | B9: ='6-03-2014'!B9 -> 0
A10: ='6-03-2014'!A10 -> 0 | B10: ='6-03-2014'!B10 -> 0
A11: ='6-03-2014'!A11 -> 0 | B11: ='6-03-2014'!B11 -> 0
A12: ='6-03-2014'!A12 -> 0 | B12: ='6-03-2014'!B12 -> 0
A13: ='6-03-2014'!A13 -> 0 | B13: ='6-03-2014'!B13 -> 0
A14: ='6-03-2014'!A14 -> 0 | B14: ='6-03-2014'!B14 -> 0
A15: ='6-03-2014'!A15 -> 0 | B15: ='6-03-2014'!B15 -> 0
A16: ='6-03-2014'!A16 -> 0 | B16: ='6-03-2014'!B16 -> 0
A17: ='6-03-2014'!A17 -> 0 | B17: ='6-03-2014'!B17 -> 0
... A34: ='6-03-2014'!A34 -> 0 | B34: ='6-03-2014'!B34 -> 0
C37: ='1-03-2014'!C37 -> 0 | D37: ='1-03-2014'!D37 -> 0 | E37: ='1-03-2014'!E37 -> 0 | F37: ='1-03-2014'!F37 -> 0 | G37: ='1-03-2014'!G37 -> 0 | H37: ='1-03-2014'!H37 -> 0 | I37: ='1-03-2014'!I37 -> 0 | J37: ='1-03-2014'!J37 -> 0 | K37: ='1-03-2014'!K37 -> 0
C38: ='1-03-2014'!C38 -> 0 | D38: ='1-03-2014'!D38 -> 0 | E38: ='1-03-2014'!E38 -> 0 | F38: ='1-03-2014'!F38 -> 0 | G38: ='1-03-2014'!G38 -> 0 | H38: ='1-03-2014'!H38 -> 0 | I38: ='1-03-2014'!I38 -> 0 | J38: ='1-03-2014'!J38 -> 0 | K38: ='1-03-2014'!K38 -> 0
C39: ='1-03-2014'!C39 -> 0 | D39: ='1-03-2014'!D39 -> 0 | E39: ='1-03-2014'!E39 -> 0 | F39: ='1-03-2014'!F39 -> 0 | G39: ='1-03-2014'!G39 -> 0 | H39: ='1-03-2014'!H39 -> 0 | I39: ='1-03-2014'!I39 -> 0 | J39: ='1-03-2014'!J39 -> 0 | K39: ='1-03-2014'!K39 -> 0
A40: ='6-03-2014'!A40 -> 0 | B40: ='6-03-2014'!B40 -> 0
A41: ='6-03-2014'!A41 -> 0 | B41: ='6-03-2014'!B41 -> 0
A42: ='6-03-2014'!A42 -> 0 | B42: ='6-03-2014'!B42 -> 0
A43: ='6-03-2014'!A43 -> 0 | B43: ='6-03-2014'!B43 -> 0
A44: ='6-03-2014'!A44 -> 0 | B44: ='6-03-2014'!B44 -> 0
A45: ='6-03-2014'!A45 -> 0 | B45: ='6-03-2014'!B45 -> 0
A46: ='6-03-2014'!A46 -> 0 | B46: ='6-03-2014'!B46 -> 0
A47: ='6-03-2014'!A47 -> 0 | B47: ='6-03-2014'!B47 -> 0
A48: ='6-03-2014'!A48 -> 0 | B48: ='6-03-2014'!B48 -> 0
A49: ='6-03-2014'!A49 -> 0 | B49: ='6-03-2014'!B49 -> 0
A50: ='6-03-2014'!A50 -> 0 | B50: ='6-03-2014'!B50 -> 0
A51: ='6-03-2014'!A51 -> 0 | B51: ='6-03-2014'!B51 -> 0
... A68: ='6-03-2014'!A68 -> 0 | B68: ='6-03-2014'!B68 -> 0
C71: ='1-03-2014'!C71 -> 0 | D71: ='1-03-2014'!D71 -> 0 | E71: ='1-03-2014'!E71 -> 0 | F71: ='1-03-2014'!F71 -> 0 | G71: ='1-03-2014'!G71 -> 0 | H71: ='1-03-2014'!H71 -> 0 | I71: ='1-03-2014'!I71 -> 0 | J71: ='1-03-2014'!J71 -> 0 | K71: ='1-03-2014'!K71 -> 0
C72: ='1-03-2014'!C72 -> 0 | D72: ='1-03-2014'!D72 -> 0 | E72: ='1-03-2014'!E72 -> 0 | F72: ='1-03-2014'!F72 -> 0 | G72: ='1-03-2014'!G72 -> 0 | H72: ='1-03-2014'!H72 -> 0 | I72: ='1-03-2014'!I72 -> 0 | J72: ='1-03-2014'!J72 -> 0 | K72: ='1-03-2014'!K72 -> 0
C73: ='1-03-2014'!C73 -> 0 | D73: ='1-03-2014'!D73 -> 0 | E73: ='1-03-2014'!E73 -> 0 | F73: ='1-03-2014'!F73 -> 0 | G73: ='1-03-2014'!G73 -> 0 | H73: ='1-03-2014'!H73 -> 0 | I73: ='1-03-2014'!I73 -> 0 | J73: ='1-03-2014'!J73 -> 0 | K73: ='1-03-2014'!K73 -> 0
A74: ='6-03-2014'!A74 -> 0 | B74: ='6-03-2014'!B74 -> 0
A75: ='6-03-2014'!A75 -> 0 | B75: ='6-03-2014'!B75 -> 0
A76: ='6-03-2014'!A76 -> 0 | B76: ='6-03-2014'!B76 -> 0
A77: ='6-03-2014'!A77 -> 0 | B77: ='6-03-2014'!B77 -> 0
A78: ='6-03-2014'!A78 -> 0 | B78: ='6-03-2014'!B78 -> 0
...

Sheet 8-03-2014
C3: ='7-03-2014'!C3 -> 0 | D3: ='7-03-2014'!D3 -> 0 | E3: ='7-03-2014'!E3 -> 0 | F3: ='7-03-2014'!F3 -> 0 | G3: ='7-03-2014'!G3 -> 0 | H3: ='7-03-2014'!H3 -> 0 | I3: ='7-03-2014'!I3 -> 0 | J3: ='7-03-2014'!J3 -> 0 | K3: ='7-03-2014'!K3 -> 0
C4: ='7-03-2014'!C4 -> 0 | D4: ='7-03-2014'!D4 -> 0 | E4: ='7-03-2014'!E4 -> 0 | F4: ='7-03-2014'!F4 -> 0 | G4: ='7-03-2014'!G4 -> 0 | H4: ='7-03-2014'!H4 -> 0 | I4: ='7-03-2014'!I4 -> 0 | J4: ='7-03-2014'!J4 -> 0 | K4: ='7-03-2014'!K4 -> 0
C5: ='7-03-2014'!C5 -> 0 | D5: ='7-03-2014'!D5 -> 0 | E5: ='7-03-2014'!E5 -> 0 | F5: ='7-03-2014'!F5 -> 0 | G5: ='7-03-2014'!G5 -> 0 | H5: ='7-03-2014'!H5 -> 0 | I5: ='7-03-2014'!I5 -> 0 | J5: ='7-03-2014'!J5 -> 0 | K5: ='7-03-2014'!K5 -> 0
A6: ='7-03-2014'!A6 -> 0 | B6: ='7-03-2014'!B6 -> 0
A7: ='7-03-2014'!A7 -> 0 | B7: ='7-03-2014'!B7 -> 0
A8: ='7-03-2014'!A8 -> 0 | B8: ='7-03-2014'!B8 -> 0
A9: ='7-03-2014'!A9 -> 0 | B9: ='7-03-2014'!B9 -> 0
A10: ='7-03-2014'!A10 -> 0 | B10: ='7-03-2014'!B10 -> 0
A11: ='7-03-2014'!A11 -> 0 | B11: ='7-03-2014'!B11 -> 0
A12: ='7-03-2014'!A12 -> 0 | B12: ='7-03-2014'!B12 -> 0
A13: ='7-03-2014'!A13 -> 0 | B13: ='7-03-2014'!B13 -> 0
A14: ='7-03-2014'!A14 -> 0 | B14: ='7-03-2014'!B14 -> 0
A15: ='7-03-2014'!A15 -> 0 | B15: ='7-03-2014'!B15 -> 0
A16: ='7-03-2014'!A16 -> 0 | B16: ='7-03-2014'!B16 -> 0
A17: ='7-03-2014'!A17 -> 0 | B17: ='7-03-2014'!B17 -> 0
... A34: ='7-03-2014'!A34 -> 0 | B34: ='7-03-2014'!B34 -> 0
C37: ='1-03-2014'!C37 -> 0 | D37: ='1-03-2014'!D37 -> 0 | E37: ='1-03-2014'!E37 -> 0 | F37: ='1-03-2014'!F37 -> 0 | G37: ='1-03-2014'!G37 -> 0 | H37: ='1-03-2014'!H37 -> 0 | I37: ='1-03-2014'!I37 -> 0 | J37: ='1-03-2014'!J37 -> 0 | K37: ='1-03-2014'!K37 -> 0
C38: ='1-03-2014'!C38 -> 0 | D38: ='1-03-2014'!D38 -> 0 | E38: ='1-03-2014'!E38 -> 0 | F38: ='1-03-2014'!F38 -> 0 | G38: ='1-03-2014'!G38 -> 0 | H38: ='1-03-2014'!H38 -> 0 | I38: ='1-03-2014'!I38 -> 0 | J38: ='1-03-2014'!J38 -> 0 | K38: ='1-03-2014'!K38 -> 0
C39: ='1-03-2014'!C39 -> 0 | D39: ='1-03-2014'!D39 -> 0 | E39: ='1-03-2014'!E39 -> 0 | F39: ='1-03-2014'!F39 -> 0 | G39: ='1-03-2014'!G39 -> 0 | H39: ='1-03-2014'!H39 -> 0 | I39: ='1-03-2014'!I39 -> 0 | J39: ='1-03-2014'!J39 -> 0 | K39: ='1-03-2014'!K39 -> 0
A40: ='7-03-2014'!A40 -> 0 | B40: ='7-03-2014'!B40 -> 0
A41: ='7-03-2014'!A41 -> 0 | B41: ='7-03-2014'!B41 -> 0
A42: ='7-03-2014'!A42 -> 0 | B42: ='7-03-2014'!B42 -> 0
A43: ='7-03-2014'!A43 -> 0 | B43: ='7-03-2014'!B43 -> 0
A44: ='7-03-2014'!A44 -> 0 | B44: ='7-03-2014'!B44 -> 0
A45: ='7-03-2014'!A45 -> 0 | B45: ='7-03-2014'!B45 -> 0
A46: ='7-03-2014'!A46 -> 0 | B46: ='7-03-2014'!B46 -> 0
A47: ='7-03-2014'!A47 -> 0 | B47: ='7-03-2014'!B47 -> 0
A48: ='7-03-2014'!A48 -> 0 | B48: ='7-03-2014'!B48 -> 0
A49: ='7-03-2014'!A49 -> 0 | B49: ='7-03-2014'!B49 -> 0
A50: ='7-03-2014'!A50 -> 0 | B50: ='7-03-2014'!B50 -> 0
A51: ='7-03-2014'!A51 -> 0 | B51: ='7-03-2014'!B51 -> 0
... A68: ='7-03-2014'!A68 -> 0 | B68: ='7-03-2014'!B68 -> 0
C71: ='1-03-2014'!C71 -> 0 | D71: ='1-03-2014'!D71 -> 0 | E71: ='1-03-2014'!E71 -> 0 | F71: ='1-03-2014'!F71 -> 0 | G71: ='1-03-2014'!G71 -> 0 | H71: ='1-03-2014'!H71 -> 0 | I71: ='1-03-2014'!I71 -> 0 | J71: ='1-03-2014'!J71 -> 0 | K71: ='1-03-2014'!K71 -> 0
C72: ='1-03-2014'!C72 -> 0 | D72: ='1-03-2014'!D72 -> 0 | E72: ='1-03-2014'!E72 -> 0 | F72: ='1-03-2014'!F72 -> 0 | G72: ='1-03-2014'!G72 -> 0 | H72: ='1-03-2014'!H72 -> 0 | I72: ='1-03-2014'!I72 -> 0 | J72: ='1-03-2014'!J72 -> 0 | K72: ='1-03-2014'!K72 -> 0
C73: ='1-03-2014'!C73 -> 0 | D73: ='1-03-2014'!D73 -> 0 | E73: ='1-03-2014'!E73 -> 0 | F73: ='1-03-2014'!F73 -> 0 | G73: ='1-03-2014'!G73 -> 0 | H73: ='1-03-2014'!H73 -> 0 | I73: ='1-03-2014'!I73 -> 0 | J73: ='1-03-2014'!J73 -> 0 | K73: ='1-03-2014'!K73 -> 0
A74: ='7-03-2014'!A74 -> 0 | B74: ='7-03-2014'!B74 -> 0
A75: ='7-03-2014'!A75 -> 0 | B75: ='7-03-2014'!B75 -> 0
A76: ='7-03-2014'!A76 -> 0 | B76: ='7-03-2014'!B76 -> 0
A77: ='7-03-2014'!A77 -> 0 | B77: ='7-03-2014'!B77 -> 0
A78: ='7-03-2014'!A78 -> 0 | B78: ='7-03-2014'!B78 -> 0
...

Sheet 9-03-2014
C3: ='8-03-2014'!C3 -> 0 | D3: ='8-03-2014'!D3 -> 0 | E3: ='8-03-2014'!E3 -> 0 | F3: ='8-03-2014'!F3 -> 0 | G3: ='8-03-2014'!G3 -> 0 | H3: ='8-03-2014'!H3 -> 0 | I3: ='8-03-2014'!I3 -> 0 | J3: ='8-03-2014'!J3 -> 0 | K3: ='8-03-2014'!K3 -> 0
C4: ='8-03-2014'!C4 -> 0 | D4: ='8-03-2014'!D4 -> 0 | E4: ='8-03-2014'!E4 -> 0 | F4: ='8-03-2014'!F4 -> 0 | G4: ='8-03-2014'!G4 -> 0 | H4: ='8-03-2014'!H4 -> 0 | I4: ='8-03-2014'!I4 -> 0 | J4: ='8-03-2014'!J4 -> 0 | K4: ='8-03-2014'!K4 -> 0
C5: ='8-03-2014'!C5 -> 0 | D5: ='8-03-2014'!D5 -> 0 | E5: ='8-03-2014'!E5 -> 0 | F5: ='8-03-2014'!F5 -> 0 | G5: ='8-03-2014'!G5 -> 0 | H5: ='8-03-2014'!H5 -> 0 | I5: ='8-03-2014'!I5 -> 0 | J5: ='8-03-2014'!J5 -> 0 | K5: ='8-03-2014'!K5 -> 0
A6: ='8-03-2014'!A6 -> 0 | B6: ='8-03-2014'!B6 -> 0
A7: ='8-03-2014'!A7 -> 0 | B7: ='8-03-2014'!B7 -> 0
A8: ='8-03-2014'!A8 -> 0 | B8: ='8-03-2014'!B8 -> 0
A9: ='8-03-2014'!A9 -> 0 | B9: ='8-03-2014'!B9 -> 0
A10: ='8-03-2014'!A10 -> 0 | B10: ='8-03-2014'!B10 -> 0
A11: ='8-03-2014'!A11 -> 0 | B11: ='8-03-2014'!B11 -> 0
A12: ='8-03-2014'!A12 -> 0 | B12: ='8-03-2014'!B12 -> 0
A13: ='8-03-2014'!A13 -> 0 | B13: ='8-03-2014'!B13 -> 0
A14: ='8-03-2014'!A14 -> 0 | B14: ='8-03-2014'!B14 -> 0
A15: ='8-03-2014'!A15 -> 0 | B15: ='8-03-2014'!B15 -> 0
A16: ='8-03-2014'!A16 -> 0 | B16: ='8-03-2014'!B16 -> 0
A17: ='8-03-2014'!A17 -> 0 | B17: ='8-03-2014'!B17 -> 0
... A34: ='8-03-2014'!A34 -> 0 | B34: ='8-03-2014'!B34 -> 0
C37: ='1-03-2014'!C37 -> 0 | D37: ='1-03-2014'!D37 -> 0 | E37: ='1-03-2014'!E37 -> 0 | F37: ='1-03-2014'!F37 -> 0 | G37: ='1-03-2014'!G37 -> 0 | H37: ='1-03-2014'!H37 -> 0 | I37: ='1-03-2014'!I37 -> 0 | J37: ='1-03-2014'!J37 -> 0 | K37: ='1-03-2014'!K37 -> 0
C38: ='1-03-2014'!C38 -> 0 | D38: ='1-03-2014'!D38 -> 0 | E38: ='1-03-2014'!E38 -> 0 | F38: ='1-03-2014'!F38 -> 0 | G38: ='1-03-2014'!G38 -> 0 | H38: ='1-03-2014'!H38 -> 0 | I38: ='1-03-2014'!I38 -> 0 | J38: ='1-03-2014'!J38 -> 0 | K38: ='1-03-2014'!K38 -> 0
C39: ='1-03-2014'!C39 -> 0 | D39: ='1-03-2014'!D39 -> 0 | E39: ='1-03-2014'!E39 -> 0 | F39: ='1-03-2014'!F39 -> 0 | G39: ='1-03-2014'!G39 -> 0 | H39: ='1-03-2014'!H39 -> 0 | I39: ='1-03-2014'!I39 -> 0 | J39: ='1-03-2014'!J39 -> 0 | K39: ='1-03-2014'!K39 -> 0
A40: ='8-03-2014'!A40 -> 0 | B40: ='8-03-2014'!B40 -> 0
A41: ='8-03-2014'!A41 -> 0 | B41: ='8-03-2014'!B41 -> 0
A42: ='8-03-2014'!A42 -> 0 | B42: ='8-03-2014'!B42 -> 0
A43: ='8-03-2014'!A43 -> 0 | B43: ='8-03-2014'!B43 -> 0
A44: ='8-03-2014'!A44 -> 0 | B44: ='8-03-2014'!B44 -> 0
A45: ='8-03-2014'!A45 -> 0 | B45: ='8-03-2014'!B45 -> 0
A46: ='8-03-2014'!A46 -> 0 | B46: ='8-03-2014'!B46 -> 0
A47: ='8-03-2014'!A47 -> 0 | B47: ='8-03-2014'!B47 -> 0
A48: ='8-03-2014'!A48 -> 0 | B48: ='8-03-2014'!B48 -> 0
A49: ='8-03-2014'!A49 -> 0 | B49: ='8-03-2014'!B49 -> 0
A50: ='8-03-2014'!A50 -> 0 | B50: ='8-03-2014'!B50 -> 0
A51: ='8-03-2014'!A51 -> 0 | B51: ='8-03-2014'!B51 -> 0
... A68: ='8-03-2014'!A68 -> 0 | B68: ='8-03-2014'!B68 -> 0
C71: ='1-03-2014'!C71 -> 0 | D71: ='1-03-2014'!D71 -> 0 | E71: ='1-03-2014'!E71 -> 0 | F71: ='1-03-2014'!F71 -> 0 | G71: ='1-03-2014'!G71 -> 0 | H71: ='1-03-2014'!H71 -> 0 | I71: ='1-03-2014'!I71 -> 0 | J71: ='1-03-2014'!J71 -> 0 | K71: ='1-03-2014'!K71 -> 0
C72: ='1-03-2014'!C72 -> 0 | D72: ='1-03-2014'!D72 -> 0 | E72: ='1-03-2014'!E72 -> 0 | F72: ='1-03-2014'!F72 -> 0 | G72: ='1-03-2014'!G72 -> 0 | H72: ='1-03-2014'!H72 -> 0 | I72: ='1-03-2014'!I72 -> 0 | J72: ='1-03-2014'!J72 -> 0 | K72: ='1-03-2014'!K72 -> 0
C73: ='1-03-2014'!C73 -> 0 | D73: ='1-03-2014'!D73 -> 0 | E73: ='1-03-2014'!E73 -> 0 | F73: ='1-03-2014'!F73 -> 0 | G73: ='1-03-2014'!G73 -> 0 | H73: ='1-03-2014'!H73 -> 0 | I73: ='1-03-2014'!I73 -> 0 | J73: ='1-03-2014'!J73 -> 0 | K73: ='1-03-2014'!K73 -> 0
A74: ='8-03-2014'!A74 -> 0 | B74: ='8-03-2014'!B74 -> 0
A75: ='8-03-2014'!A75 -> 0 | B75: ='8-03-2014'!B75 -> 0
A76: ='8-03-2014'!A76 -> 0 | B76: ='8-03-2014'!B76 -> 0
A77: ='8-03-2014'!A77 -> 0 | B77: ='8-03-2014'!B77 -> 0
A78: ='8-03-2014'!A78 -> 0 | B78: ='8-03-2014'!B78 -> 0
...

Sheet 10-03-2014
C3: ='9-03-2014'!C3 -> 0 | D3: ='9-03-2014'!D3 -> 0 | E3: ='9-03-2014'!E3 -> 0 | F3: ='9-03-2014'!F3 -> 0 | G3: ='9-03-2014'!G3 -> 0 | H3: ='9-03-2014'!H3 -> 0 | I3: ='9-03-2014'!I3 -> 0 | J3: ='9-03-2014'!J3 -> 0 | K3: ='9-03-2014'!K3 -> 0
C4: ='9-03-2014'!C4 -> 0 | D4: ='9-03-2014'!D4 -> 0 | E4: ='9-03-2014'!E4 -> 0 | F4: ='9-03-2014'!F4 -> 0 | G4: ='9-03-2014'!G4 -> 0 | H4: ='9-03-2014'!H4 -> 0 | I4: ='9-03-2014'!I4 -> 0 | J4: ='9-03-2014'!J4 -> 0 | K4: ='9-03-2014'!K4 -> 0
C5: ='9-03-2014'!C5 -> 0 | D5: ='9-03-2014'!D5 -> 0 | E5: ='9-03-2014'!E5 -> 0 | F5: ='9-03-2014'!F5 -> 0 | G5: ='9-03-2014'!G5 -> 0 | H5: ='9-03-2014'!H5 -> 0 | I5: ='9-03-2014'!I5 -> 0 | J5: ='9-03-2014'!J5 -> 0 | K5: ='9-03-2014'!K5 -> 0
A6: ='9-03-2014'!A6 -> 0 | B6: ='9-03-2014'!B6 -> 0
A7: ='9-03-2014'!A7 -> 0 | B7: ='9-03-2014'!B7 -> 0
A8: ='9-03-2014'!A8 -> 0 | B8: ='9-03-2014'!B8 -> 0
A9: ='9-03-2014'!A9 -> 0 | B9: ='9-03-2014'!B9 -> 0
A10: ='9-03-2014'!A10 -> 0 | B10: ='9-03-2014'!B10 -> 0
A11: ='9-03-2014'!A11 -> 0 | B11: ='9-03-2014'!B11 -> 0
A12: ='9-03-2014'!A12 -> 0 | B12: ='9-03-2014'!B12 -> 0
A13: ='9-03-2014'!A13 -> 0 | B13: ='9-03-2014'!B13 -> 0
A14: ='9-03-2014'!A14 -> 0 | B14: ='9-03-2014'!B14 -> 0
A15: ='9-03-2014'!A15 -> 0 | B15: ='9-03-2014'!B15 -> 0
A16: ='9-03-2014'!A16 -> 0 | B16: ='9-03-2014'!B16 -> 0
A17: ='9-03-2014'!A17 -> 0 | B17: ='9-03-2014'!B17 -> 0
... A34: ='9-03-2014'!A34 -> 0 | B34: ='9-03-2014'!B34 -> 0
C37: ='1-03-2014'!C37 -> 0 | D37: ='1-03-2014'!D37 -> 0 | E37: ='1-03-2014'!E37 -> 0 | F37: ='1-03-2014'!F37 -> 0 | G37: ='1-03-2014'!G37 -> 0 | H37: ='1-03-2014'!H37 -> 0 | I37: ='1-03-2014'!I37 -> 0 | J37: ='1-03-2014'!J37 -> 0 | K37: ='1-03-2014'!K37 -> 0
C38: ='1-03-2014'!C38 -> 0 | D38: ='1-03-2014'!D38 -> 0 | E38: ='1-03-2014'!E38 -> 0 | F38: ='1-03-2014'!F38 -> 0 | G38: ='1-03-2014'!G38 -> 0 | H38: ='1-03-2014'!H38 -> 0 | I38: ='1-03-2014'!I38 -> 0 | J38: ='1-03-2014'!J38 -> 0 | K38: ='1-03-2014'!K38 -> 0
C39: ='1-03-2014'!C39 -> 0 | D39: ='1-03-2014'!D39 -> 0 | E39: ='1-03-2014'!E39 -> 0 | F39: ='1-03-2014'!F39 -> 0 | G39: ='1-03-2014'!G39 -> 0 | H39: ='1-03-2014'!H39 -> 0 | I39: ='1-03-2014'!I39 -> 0 | J39: ='1-03-2014'!J39 -> 0 | K39: ='1-03-2014'!K39 -> 0
A40: ='9-03-2014'!A40 -> 0 | B40: ='9-03-2014'!B40 -> 0
A41: ='9-03-2014'!A41 -> 0 | B41: ='9-03-2014'!B41 -> 0
A42: ='9-03-2014'!A42 -> 0 | B42: ='9-03-2014'!B42 -> 0
A43: ='9-03-2014'!A43 -> 0 | B43: ='9-03-2014'!B43 -> 0
A44: ='9-03-2014'!A44 -> 0 | B44: ='9-03-2014'!B44 -> 0
A45: ='9-03-2014'!A45 -> 0 | B45: ='9-03-2014'!B45 -> 0
A46: ='9-03-2014'!A46 -> 0 | B46: ='9-03-2014'!B46 -> 0
A47: ='9-03-2014'!A47 -> 0 | B47: ='9-03-2014'!B47 -> 0
A48: ='9-03-2014'!A48 -> 0 | B48: ='9-03-2014'!B48 -> 0
A49: ='9-03-2014'!A49 -> 0 | B49: ='9-03-2014'!B49 -> 0
A50: ='9-03-2014'!A50 -> 0 | B50: ='9-03-2014'!B50 -> 0
A51: ='9-03-2014'!A51 -> 0 | B51: ='9-03-2014'!B51 -> 0
... A68: ='9-03-2014'!A68 -> 0 | B68: ='9-03-2014'!B68 -> 0
C71: ='1-03-2014'!C71 -> 0 | D71: ='1-03-2014'!D71 -> 0 | E71: ='1-03-2014'!E71 -> 0 | F71: ='1-03-2014'!F71 -> 0 | G71: ='1-03-2014'!G71 -> 0 | H71: ='1-03-2014'!H71 -> 0 | I71: ='1-03-2014'!I71 -> 0 | J71: ='1-03-2014'!J71 -> 0 | K71: ='1-03-2014'!K71 -> 0
C72: ='1-03-2014'!C72 -> 0 | D72: ='1-03-2014'!D72 -> 0 | E72: ='1-03-2014'!E72 -> 0 | F72: ='1-03-2014'!F72 -> 0 | G72: ='1-03-2014'!G72 -> 0 | H72: ='1-03-2014'!H72 -> 0 | I72: ='1-03-2014'!I72 -> 0 | J72: ='1-03-2014'!J72 -> 0 | K72: ='1-03-2014'!K72 -> 0
C73: ='1-03-2014'!C73 -> 0 | D73: ='1-03-2014'!D73 -> 0 | E73: ='1-03-2014'!E73 -> 0 | F73: ='1-03-2014'!F73 -> 0 | G73: ='1-03-2014'!G73 -> 0 | H73: ='1-03-2014'!H73 -> 0 | I73: ='1-03-2014'!I73 -> 0 | J73: ='1-03-2014'!J73 -> 0 | K73: ='1-03-2014'!K73 -> 0
A74: ='9-03-2014'!A74 -> 0 | B74: ='9-03-2014'!B74 -> 0
A75: ='9-03-2014'!A75 -> 0 | B75: ='9-03-2014'!B75 -> 0
A76: ='9-03-2014'!A76 -> 0 | B76: ='9-03-2014'!B76 -> 0
A77: ='9-03-2014'!A77 -> 0 | B77: ='9-03-2014'!B77 -> 0
A78: ='9-03-2014'!A78 -> 0 | B78: ='9-03-2014'!B78 -> 0
...

Sheet 11-03-2014
C3: ='10-03-2014'!C3 -> 0 | D3: ='10-03-2014'!D3 -> 0 | E3: ='10-03-2014'!E3 -> 0 | F3: ='10-03-2014'!F3 -> 0 | G3: ='10-03-2014'!G3 -> 0 | H3: ='10-03-2014'!H3 -> 0 | I3: ='10-03-2014'!I3 -> 0 | J3: ='10-03-2014'!J3 -> 0 | K3: ='10-03-2014'!K3 -> 0
C4: ='10-03-2014'!C4 -> 0 | D4: ='10-03-2014'!D4 -> 0 | E4: ='10-03-2014'!E4 -> 0 | F4: ='10-03-2014'!F4 -> 0 | G4: ='10-03-2014'!G4 -> 0 | H4: ='10-03-2014'!H4 -> 0 | I4: ='10-03-2014'!I4 -> 0 | J4: ='10-03-2014'!J4 -> 0 | K4: ='10-03-2014'!K4 -> 0
C5: ='10-03-2014'!C5 -> 0 | D5: ='10-03-2014'!D5 -> 0 | E5: ='10-03-2014'!E5 -> 0 | F5: ='10-03-2014'!F5 -> 0 | G5: ='10-03-2014'!G5 -> 0 | H5: ='10-03-2014'!H5 -> 0 | I5: ='10-03-2014'!I5 -> 0 | J5: ='10-03-2014'!J5 -> 0 | K5: ='10-03-2014'!K5 -> 0
A6: ='10-03-2014'!A6 -> 0 | B6: ='10-03-2014'!B6 -> 0
A7: ='10-03-2014'!A7 -> 0 | B7: ='10-03-2014'!B7 -> 0
A8: ='10-03-2014'!A8 -> 0 | B8: ='10-03-2014'!B8 -> 0
A9: ='10-03-2014'!A9 -> 0 | B9: ='10-03-2014'!B9 -> 0
A10: ='10-03-2014'!A10 -> 0 | B10: ='10-03-2014'!B10 -> 0
A11: ='10-03-2014'!A11 -> 0 | B11: ='10-03-2014'!B11 -> 0
A12: ='10-03-2014'!A12 -> 0 | B12: ='10-03-2014'!B12 -> 0
A13: ='10-03-2014'!A13 -> 0 | B13: ='10-03-2014'!B13 -> 0
A14: ='10-03-2014'!A14 -> 0 | B14: ='10-03-2014'!B14 -> 0
A15: ='10-03-2014'!A15 -> 0 | B15: ='10-03-2014'!B15 -> 0
A16: ='10-03-2014'!A16 -> 0 | B16: ='10-03-2014'!B16 -> 0
A17: ='10-03-2014'!A17 -> 0 | B17: ='10-03-2014'!B17 -> 0
... A34: ='10-03-2014'!A34 -> 0 | B34: ='10-03-2014'!B34 -> 0
C37: ='1-03-2014'!C37 -> 0 | D37: ='1-03-2014'!D37 -> 0 | E37: ='1-03-2014'!E37 -> 0 | F37: ='1-03-2014'!F37 -> 0 | G37: ='1-03-2014'!G37 -> 0 | H37: ='1-03-2014'!H37 -> 0 | I37: ='1-03-2014'!I37 -> 0 | J37: ='1-03-2014'!J37 -> 0 | K37: ='1-03-2014'!K37 -> 0
C38: ='1-03-2014'!C38 -> 0 | D38: ='1-03-2014'!D38 -> 0 | E38: ='1-03-2014'!E38 -> 0 | F38: ='1-03-2014'!F38 -> 0 | G38: ='1-03-2014'!G38 -> 0 | H38: ='1-03-2014'!H38 -> 0 | I38: ='1-03-2014'!I38 -> 0 | J38: ='1-03-2014'!J38 -> 0 | K38: ='1-03-2014'!K38 -> 0
C39: ='1-03-2014'!C39 -> 0 | D39: ='1-03-2014'!D39 -> 0 | E39: ='1-03-2014'!E39 -> 0 | F39: ='1-03-2014'!F39 -> 0 | G39: ='1-03-2014'!G39 -> 0 | H39: ='1-03-2014'!H39 -> 0 | I39: ='1-03-2014'!I39 -> 0 | J39: ='1-03-2014'!J39 -> 0 | K39: ='1-03-2014'!K39 -> 0
A40: ='10-03-2014'!A40 -> 0 | B40: ='10-03-2014'!B40 -> 0
A41: ='10-03-2014'!A41 -> 0 | B41: ='10-03-2014'!B41 -> 0
A42: ='10-03-2014'!A42 -> 0 | B42: ='10-03-2014'!B42 -> 0
A43: ='10-03-2014'!A43 -> 0 | B43: ='10-03-2014'!B43 -> 0
A44: ='10-03-2014'!A44 -> 0 | B44: ='10-03-2014'!B44 -> 0
A45: ='10-03-2014'!A45 -> 0 | B45: ='10-03-2014'!B45 -> 0
A46: ='10-03-2014'!A46 -> 0 | B46: ='10-03-2014'!B46 -> 0
A47: ='10-03-2014'!A47 -> 0 | B47: ='10-03-2014'!B47 -> 0
A48: ='10-03-2014'!A48 -> 0 | B48: ='10-03-2014'!B48 -> 0
A49: ='10-03-2014'!A49 -> 0 | B49: ='10-03-2014'!B49 -> 0
A50: ='10-03-2014'!A50 -> 0 | B50: ='10-03-2014'!B50 -> 0
A51: ='10-03-2014'!A51 -> 0 | B51: ='10-03-2014'!B51 -> 0
... A68: ='10-03-2014'!A68 -> 0 | B68: ='10-03-2014'!B68 -> 0
C71: ='1-03-2014'!C71 -> 0 | D71: ='1-03-2014'!D71 -> 0 | E71: ='1-03-2014'!E71 -> 0 | F71: ='1-03-2014'!F71 -> 0 | G71: ='1-03-2014'!G71 -> 0 | H71: ='1-03-2014'!H71 -> 0 | I71: ='1-03-2014'!I71 -> 0 | J71: ='1-03-2014'!J71 -> 0 | K71: ='1-03-2014'!K71 -> 0
C72: ='1-03-2014'!C72 -> 0 | D72: ='1-03-2014'!D72 -> 0 | E72: ='1-03-2014'!E72 -> 0 | F72: ='1-03-2014'!F72 -> 0 | G72: ='1-03-2014'!G72 -> 0 | H72: ='1-03-2014'!H72 -> 0 | I72: ='1-03-2014'!I72 -> 0 | J72: ='1-03-2014'!J72 -> 0 | K72: ='1-03-2014'!K72 -> 0
C73: ='1-03-2014'!C73 -> 0 | D73: ='1-03-2014'!D73 -> 0 | E73: ='1-03-2014'!E73 -> 0 | F73: ='1-03-2014'!F73 -> 0 | G73: ='1-03-2014'!G73 -> 0 | H73: ='1-03-2014'!H73 -> 0 | I73: ='1-03-2014'!I73 -> 0 | J73: ='1-03-2014'!J73 -> 0 | K73: ='1-03-2014'!K73 -> 0
A74: ='10-03-2014'!A74 -> 0 | B74: ='10-03-2014'!B74 -> 0
A75: ='10-03-2014'!A75 -> 0 | B75: ='10-03-2014'!B75 -> 0
A76: ='10-03-2014'!A76 -> 0 | B76: ='10-03-2014'!B76 -> 0
A77: ='10-03-2014'!A77 -> 0 | B77: ='10-03-2014'!B77 -> 0
A78: ='10-03-2014'!A78 -> 0 | B78: ='10-03-2014'!B78 -> 0
...

Sheet 12-03-2014
C3: ='11-03-2014'!C3 -> 0 | D3: ='11-03-2014'!D3 -> 0 | E3: ='11-03-2014'!E3 -> 0 | F3: ='11-03-2014'!F3 -> 0 | G3: ='11-03-2014'!G3 -> 0 | H3: ='11-03-2014'!H3 -> 0 | I3: ='11-03-2014'!I3 -> 0 | J3: ='11-03-2014'!J3 -> 0 | K3: ='11-03-2014'!K3 -> 0
C4: ='11-03-2014'!C4 -> 0 | D4: ='11-03-2014'!D4 -> 0 | E4: ='11-03-2014'!E4 -> 0 | F4: ='11-03-2014'!F4 -> 0 | G4: ='11-03-2014'!G4 -> 0 | H4: ='11-03-2014'!H4 -> 0 | I4: ='11-03-2014'!I4 -> 0 | J4: ='11-03-2014'!J4 -> 0 | K4: ='11-03-2014'!K4 -> 0
C5: ='11-03-2014'!C5 -> 0 | D5: ='11-03-2014'!D5 -> 0 | E5: ='11-03-2014'!E5 -> 0 | F5: ='11-03-2014'!F5 -> 0 | G5: ='11-03-2014'!G5 -> 0 | H5: ='11-03-2014'!H5 -> 0 | I5: ='11-03-2014'!I5 -> 0 | J5: ='11-03-2014'!J5 -> 0 | K5: ='11-03-2014'!K5 -> 0
A6: ='11-03-2014'!A6 -> 0 | B6: ='11-03-2014'!B6 -> 0
A7: ='11-03-2014'!A7 -> 0 | B7: ='11-03-2014'!B7 -> 0
A8: ='11-03-2014'!A8 -> 0 | B8: ='11-03-2014'!B8 -> 0
A9: ='11-03-2014'!A9 -> 0 | B9: ='11-03-2014'!B9 -> 0
A10: ='11-03-2014'!A10 -> 0 | B10: ='11-03-2014'!B10 -> 0
A11: ='11-03-2014'!A11 -> 0 | B11: ='11-03-2014'!B11 -> 0
A12: ='11-03-2014'!A12 -> 0 | B12: ='11-03-2014'!B12 -> 0
A13: ='11-03-2014'!A13 -> 0 | B13: ='11-03-2014'!B13 -> 0
A14: ='11-03-2014'!A14 -> 0 | B14: ='11-03-2014'!B14 -> 0
A15: ='11-03-2014'!A15 -> 0 | B15: ='11-03-2014'!B15 -> 0
A16: ='11-03-2014'!A16 -> 0 | B16: ='11-03-2014'!B16 -> 0
A17: ='11-03-2014'!A17 -> 0 | B17: ='11-03-2014'!B17 -> 0
... A34: ='11-03-2014'!A34 -> 0 | B34: ='11-03-2014'!B34 -> 0
C37: ='1-03-2014'!C37 -> 0 | D37: ='1-03-2014'!D37 -> 0 | E37: ='1-03-2014'!E37 -> 0 | F37: ='1-03-2014'!F37 -> 0 | G37: ='1-03-2014'!G37 -> 0 | H37: ='1-03-2014'!H37 -> 0 | I37: ='1-03-2014'!I37 -> 0 | J37: ='1-03-2014'!J37 -> 0 | K37: ='1-03-2014'!K37 -> 0
C38: ='1-03-2014'!C38 -> 0 | D38: ='1-03-2014'!D38 -> 0 | E38: ='1-03-2014'!E38 -> 0 | F38: ='1-03-2014'!F38 -> 0 | G38: ='1-03-2014'!G38 -> 0 | H38: ='1-03-2014'!H38 -> 0 | I38: ='1-03-2014'!I38 -> 0 | J38: ='1-03-2014'!J38 -> 0 | K38: ='1-03-2014'!K38 -> 0
C39: ='1-03-2014'!C39 -> 0 | D39: ='1-03-2014'!D39 -> 0 | E39: ='1-03-2014'!E39 -> 0 | F39: ='1-03-2014'!F39 -> 0 | G39: ='1-03-2014'!G39 -> 0 | H39: ='1-03-2014'!H39 -> 0 | I39: ='1-03-2014'!I39 -> 0 | J39: ='1-03-2014'!J39 -> 0 | K39: ='1-03-2014'!K39 -> 0
A40: ='11-03-2014'!A40 -> 0 | B40: ='11-03-2014'!B40 -> 0
A41: ='11-03-2014'!A41 -> 0 | B41: ='11-03-2014'!B41 -> 0
A42: ='11-03-2014'!A42 -> 0 | B42: ='11-03-2014'!B42 -> 0
A43: ='11-03-2014'!A43 -> 0 | B43: ='11-03-2014'!B43 -> 0
A44: ='11-03-2014'!A44 -> 0 | B44: ='11-03-2014'!B44 -> 0
A45: ='11-03-2014'!A45 -> 0 | B45: ='11-03-2014'!B45 -> 0
A46: ='11-03-2014'!A46 -> 0 | B46: ='11-03-2014'!B46 -> 0
A47: ='11-03-2014'!A47 -> 0 | B47: ='11-03-2014'!B47 -> 0
A48: ='11-03-2014'!A48 -> 0 | B48: ='11-03-2014'!B48 -> 0
A49: ='11-03-2014'!A49 -> 0 | B49: ='11-03-2014'!B49 -> 0
A50: ='11-03-2014'!A50 -> 0 | B50: ='11-03-2014'!B50 -> 0
A51: ='11-03-2014'!A51 -> 0 | B51: ='11-03-2014'!B51 -> 0
... A68: ='11-03-2014'!A68 -> 0 | B68: ='11-03-2014'!B68 -> 0
C71: ='1-03-2014'!C71 -> 0 | D71: ='1-03-2014'!D71 -> 0 | E71: ='1-03-2014'!E71 -> 0 | F71: ='1-03-2014'!F71 -> 0 | G71: ='1-03-2014'!G71 -> 0 | H71: ='1-03-2014'!H71 -> 0 | I71: ='1-03-2014'!I71 -> 0 | J71: ='1-03-2014'!J71 -> 0 | K71: ='1-03-2014'!K71 -> 0
C72: ='1-03-2014'!C72 -> 0 | D72: ='1-03-2014'!D72 -> 0 | E72: ='1-03-2014'!E72 -> 0 | F72: ='1-03-2014'!F72 -> 0 | G72: ='1-03-2014'!G72 -> 0 | H72: ='1-03-2014'!H72 -> 0 | I72: ='1-03-2014'!I72 -> 0 | J72: ='1-03-2014'!J72 -> 0 | K72: ='1-03-2014'!K72 -> 0
C73: ='1-03-2014'!C73 -> 0 | D73: ='1-03-2014'!D73 -> 0 | E73: ='1-03-2014'!E73 -> 0 | F73: ='1-03-2014'!F73 -> 0 | G73: ='1-03-2014'!G73 -> 0 | H73: ='1-03-2014'!H73 -> 0 | I73: ='1-03-2014'!I73 -> 0 | J73: ='1-03-2014'!J73 -> 0 | K73: ='1-03-2014'!K73 -> 0
A74: ='11-03-2014'!A74 -> 0 | B74: ='11-03-2014'!B74 -> 0
A75: ='11-03-2014'!A75 -> 0 | B75: ='11-03-2014'!B75 -> 0
A76: ='11-03-2014'!A76 -> 0 | B76: ='11-03-2014'!B76 -> 0
A77: ='11-03-2014'!A77 -> 0 | B77: ='11-03-2014'!B77 -> 0
A78: ='11-03-2014'!A78 -> 0 | B78: ='11-03-2014'!B78 -> 0
...

Sheet 13-03-2014
C3: ='12-03-2014'!C3 -> 0 | D3: ='12-03-2014'!D3 -> 0 | E3: ='12-03-2014'!E3 -> 0 | F3: ='12-03-2014'!F3 -> 0 | G3: ='12-03-2014'!G3 -> 0 | H3: ='12-03-2014'!H3 -> 0 | I3: ='12-03-2014'!I3 -> 0 | J3: ='12-03-2014'!J3 -> 0 | K3: ='12-03-2014'!K3 -> 0
C4: ='12-03-2014'!C4 -> 0 | D4: ='12-03-2014'!D4 -> 0 | E4: ='12-03-2014'!E4 -> 0 | F4: ='12-03-2014'!F4 -> 0 | G4: ='12-03-2014'!G4 -> 0 | H4: ='12-03-2014'!H4 -> 0 | I4: ='12-03-2014'!I4 -> 0 | J4: ='12-03-2014'!J4 -> 0 | K4: ='12-03-2014'!K4 -> 0
C5: ='12-03-2014'!C5 -> 0 | D5: ='12-03-2014'!D5 -> 0 | E5: ='12-03-2014'!E5 -> 0 | F5: ='12-03-2014'!F5 -> 0 | G5: ='12-03-2014'!G5 -> 0 | H5: ='12-03-2014'!H5 -> 0 | I5: ='12-03-2014'!I5 -> 0 | J5: ='12-03-2014'!J5 -> 0 | K5: ='12-03-2014'!K5 -> 0
A6: ='12-03-2014'!A6 -> 0 | B6: ='12-03-2014'!B6 -> 0
A7: ='12-03-2014'!A7 -> 0 | B7: ='12-03-2014'!B7 -> 0
A8: ='12-03-2014'!A8 -> 0 | B8: ='12-03-2014'!B8 -> 0
A9: ='12-03-2014'!A9 -> 0 | B9: ='12-03-2014'!B9 -> 0
A10: ='12-03-2014'!A10 -> 0 | B10: ='12-03-2014'!B10 -> 0
A11: ='12-03-2014'!A11 -> 0 | B11: ='12-03-2014'!B11 -> 0
A12: ='12-03-2014'!A12 -> 0 | B12: ='12-03-2014'!B12 -> 0
A13: ='12-03-2014'!A13 -> 0 | B13: ='12-03-2014'!B13 -> 0
A14: ='12-03-2014'!A14 -> 0 | B14: ='12-03-2014'!B14 -> 0
A15: ='12-03-2014'!A15 -> 0 | B15: ='12-03-2014'!B15 -> 0
A16: ='12-03-2014'!A16 -> 0 | B16: ='12-03-2014'!B16 -> 0
A17: ='12-03-2014'!A17 -> 0 | B17: ='12-03-2014'!B17 -> 0
... A34: ='12-03-2014'!A34 -> 0 | B34: ='12-03-2014'!B34 -> 0
C37: ='1-03-2014'!C37 -> 0 | D37: ='1-03-2014'!D37 -> 0 | E37: ='1-03-2014'!E37 -> 0 | F37: ='1-03-2014'!F37 -> 0 | G37: ='1-03-2014'!G37 -> 0 | H37: ='1-03-2014'!H37 -> 0 | I37: ='1-03-2014'!I37 -> 0 | J37: ='1-03-2014'!J37 -> 0 | K37: ='1-03-2014'!K37 -> 0
C38: ='1-03-2014'!C38 -> 0 | D38: ='1-03-2014'!D38 -> 0 | E38: ='1-03-2014'!E38 -> 0 | F38: ='1-03-2014'!F38 -> 0 | G38: ='1-03-2014'!G38 -> 0 | H38: ='1-03-2014'!H38 -> 0 | I38: ='1-03-2014'!I38 -> 0 | J38: ='1-03-2014'!J38 -> 0 | K38: ='1-03-2014'!K38 -> 0
C39: ='1-03-2014'!C39 -> 0 | D39: ='1-03-2014'!D39 -> 0 | E39: ='1-03-2014'!E39 -> 0 | F39: ='1-03-2014'!F39 -> 0 | G39: ='1-03-2014'!G39 -> 0 | H39: ='1-03-2014'!H39 -> 0 | I39: ='1-03-2014'!I39 -> 0 | J39: ='1-03-2014'!J39 -> 0 | K39: ='1-03-2014'!K39 -> 0
A40: ='12-03-2014'!A40 -> 0 | B40: ='12-03-2014'!B40 -> 0
A41: ='12-03-2014'!A41 -> 0 | B41: ='12-03-2014'!B41 -> 0
A42: ='12-03-2014'!A42 -> 0 | B42: ='12-03-2014'!B42 -> 0
A43: ='12-03-2014'!A43 -> 0 | B43: ='12-03-2014'!B43 -> 0
A44: ='12-03-2014'!A44 -> 0 | B44: ='12-03-2014'!B44 -> 0
A45: ='12-03-2014'!A45 -> 0 | B45: ='12-03-2014'!B45 -> 0
A46: ='12-03-2014'!A46 -> 0 | B46: ='12-03-2014'!B46 -> 0
A47: ='12-03-2014'!A47 -> 0 | B47: ='12-03-2014'!B47 -> 0
A48: ='12-03-2014'!A48 -> 0 | B48: ='12-03-2014'!B48 -> 0
A49: ='12-03-2014'!A49 -> 0 | B49: ='12-03-2014'!B49 -> 0
A50: ='12-03-2014'!A50 -> 0 | B50: ='12-03-2014'!B50 -> 0
A51: ='12-03-2014'!A51 -> 0 | B51: ='12-03-2014'!B51 -> 0
... A68: ='12-03-2014'!A68 -> 0 | B68: ='12-03-2014'!B68 -> 0
C71: ='1-03-2014'!C71 -> 0 | D71: ='1-03-2014'!D71 -> 0 | E71: ='1-03-2014'!E71 -> 0 | F71: ='1-03-2014'!F71 -> 0 | G71: ='1-03-2014'!G71 -> 0 | H71: ='1-03-2014'!H71 -> 0 | I71: ='1-03-2014'!I71 -> 0 | J71: ='1-03-2014'!J71 -> 0 | K71: ='1-03-2014'!K71 -> 0
C72: ='1-03-2014'!C72 -> 0 | D72: ='1-03-2014'!D72 -> 0 | E72: ='1-03-2014'!E72 -> 0 | F72: ='1-03-2014'!F72 -> 0 | G72: ='1-03-2014'!G72 -> 0 | H72: ='1-03-2014'!H72 -> 0 | I72: ='1-03-2014'!I72 -> 0 | J72: ='1-03-2014'!J72 -> 0 | K72: ='1-03-2014'!K72 -> 0
C73: ='1-03-2014'!C73 -> 0 | D73: ='1-03-2014'!D73 -> 0 | E73: ='1-03-2014'!E73 -> 0 | F73: ='1-03-2014'!F73 -> 0 | G73: ='1-03-2014'!G73 -> 0 | H73: ='1-03-2014'!H73 -> 0 | I73: ='1-03-2014'!I73 -> 0 | J73: ='1-03-2014'!J73 -> 0 | K73: ='1-03-2014'!K73 -> 0
A74: ='12-03-2014'!A74 -> 0 | B74: ='12-03-2014'!B74 -> 0
A75: ='12-03-2014'!A75 -> 0 | B75: ='12-03-2014'!B75 -> 0
A76: ='12-03-2014'!A76 -> 0 | B76: ='12-03-2014'!B76 -> 0
A77: ='12-03-2014'!A77 -> 0 | B77: ='12-03-2014'!B77 -> 0
A78: ='12-03-2014'!A78 -> 0 | B78: ='12-03-2014'!B78 -> 0
...

Sheet 14-03-2014
C3: ='13-03-2014'!C3 -> 0 | D3: ='13-03-2014'!D3 -> 0 | E3: ='13-03-2014'!E3 -> 0 | F3: ='13-03-2014'!F3 -> 0 | G3: ='13-03-2014'!G3 -> 0 | H3: ='13-03-2014'!H3 -> 0 | I3: ='13-03-2014'!I3 -> 0 | J3: ='13-03-2014'!J3 -> 0 | K3: ='13-03-2014'!K3 -> 0
C4: ='13-03-2014'!C4 -> 0 | D4: ='13-03-2014'!D4 -> 0 | E4: ='13-03-2014'!E4 -> 0 | F4: ='13-03-2014'!F4 -> 0 | G4: ='13-03-2014'!G4 -> 0 | H4: ='13-03-2014'!H4 -> 0 | I4: ='13-03-2014'!I4 -> 0 | J4: ='13-03-2014'!J4 -> 0 | K4: ='13-03-2014'!K4 -> 0
C5: ='13-03-2014'!C5 -> 0 | D5: ='13-03-2014'!D5 -> 0 | E5: ='13-03-2014'!E5 -> 0 | F5: ='13-03-2014'!F5 -> 0 | G5: ='13-03-2014'!G5 -> 0 | H5: ='13-03-2014'!H5 -> 0 | I5: ='13-03-2014'!I5 -> 0 | J5: ='13-03-2014'!J5 -> 0 | K5: ='13-03-2014'!K5 -> 0
A6: ='13-03-2014'!A6 -> 0 | B6: ='13-03-2014'!B6 -> 0
A7: ='13-03-2014'!A7 -> 0 | B7: ='13-03-2014'!B7 -> 0
A8: ='13-03-2014'!A8 -> 0 | B8: ='13-03-2014'!B8 -> 0
A9: ='13-03-2014'!A9 -> 0 | B9: ='13-03-2014'!B9 -> 0
A10: ='13-03-2014'!A10 -> 0 | B10: ='13-03-2014'!B10 -> 0
A11: ='13-03-2014'!A11 -> 0 | B11: ='13-03-2014'!B11 -> 0
A12: ='13-03-2014'!A12 -> 0 | B12: ='13-03-2014'!B12 -> 0
A13: ='13-03-2014'!A13 -> 0 | B13: ='13-03-2014'!B13 -> 0
A14: ='13-03-2014'!A14 -> 0 | B14: ='13-03-2014'!B14 -> 0
A15: ='13-03-2014'!A15 -> 0 | B15: ='13-03-2014'!B15 -> 0
A16: ='13-03-2014'!A16 -> 0 | B16: ='13-03-2014'!B16 -> 0
A17: ='13-03-2014'!A17 -> 0 | B17: ='13-03-2014'!B17 -> 0
... A34: ='13-03-2014'!A34 -> 0 | B34: ='13-03-2014'!B34 -> 0
C37: ='1-03-2014'!C37 -> 0 | D37: ='1-03-2014'!D37 -> 0 | E37: ='1-03-2014'!E37 -> 0 | F37: ='1-03-2014'!F37 -> 0 | G37: ='1-03-2014'!G37 -> 0 | H37: ='1-03-2014'!H37 -> 0 | I37: ='1-03-2014'!I37 -> 0 | J37: ='1-03-2014'!J37 -> 0 | K37: ='1-03-2014'!K37 -> 0
C38: ='1-03-2014'!C38 -> 0 | D38: ='1-03-2014'!D38 -> 0 | E38: ='1-03-2014'!E38 -> 0 | F38: ='1-03-2014'!F38 -> 0 | G38: ='1-03-2014'!G38 -> 0 | H38: ='1-03-2014'!H38 -> 0 | I38: ='1-03-2014'!I38 -> 0 | J38: ='1-03-2014'!J38 -> 0 | K38: ='1-03-2014'!K38 -> 0
C39: ='1-03-2014'!C39 -> 0 | D39: ='1-03-2014'!D39 -> 0 | E39: ='1-03-2014'!E39 -> 0 | F39: ='1-03-2014'!F39 -> 0 | G39: ='1-03-2014'!G39 -> 0 | H39: ='1-03-2014'!H39 -> 0 | I39: ='1-03-2014'!I39 -> 0 | J39: ='1-03-2014'!J39 -> 0 | K39: ='1-03-2014'!K39 -> 0
A40: ='13-03-2014'!A40 -> 0 | B40: ='13-03-2014'!B40 -> 0
A41: ='13-03-2014'!A41 -> 0 | B41: ='13-03-2014'!B41 -> 0
A42: ='13-03-2014'!A42 -> 0 | B42: ='13-03-2014'!B42 -> 0
A43: ='13-03-2014'!A43 -> 0 | B43: ='13-03-2014'!B43 -> 0
A44: ='13-03-2014'!A44 -> 0 | B44: ='13-03-2014'!B44 -> 0
A45: ='13-03-2014'!A45 -> 0 | B45: ='13-03-2014'!B45 -> 0
A46: ='13-03-2014'!A46 -> 0 | B46: ='13-03-2014'!B46 -> 0
A47: ='13-03-2014'!A47 -> 0 | B47: ='13-03-2014'!B47 -> 0
A48: ='13-03-2014'!A48 -> 0 | B48: ='13-03-2014'!B48 -> 0
A49: ='13-03-2014'!A49 -> 0 | B49: ='13-03-2014'!B49 -> 0
A50: ='13-03-2014'!A50 -> 0 | B50: ='13-03-2014'!B50 -> 0
A51: ='13-03-2014'!A51 -> 0 | B51: ='13-03-2014'!B51 -> 0
... A68: ='13-03-2014'!A68 -> 0 | B68: ='13-03-2014'!B68 -> 0
C71: ='1-03-2014'!C71 -> 0 | D71: ='1-03-2014'!D71 -> 0 | E71: ='1-03-2014'!E71 -> 0 | F71: ='1-03-2014'!F71 -> 0 | G71: ='1-03-2014'!G71 -> 0 | H71: ='1-03-2014'!H71 -> 0 | I71: ='1-03-2014'!I71 -> 0 | J71: ='1-03-2014'!J71 -> 0 | K71: ='1-03-2014'!K71 -> 0
C72: ='1-03-2014'!C72 -> 0 | D72: ='1-03-2014'!D72 -> 0 | E72: ='1-03-2014'!E72 -> 0 | F72: ='1-03-2014'!F72 -> 0 | G72: ='1-03-2014'!G72 -> 0 | H72: ='1-03-2014'!H72 -> 0 | I72: ='1-03-2014'!I72 -> 0 | J72: ='1-03-2014'!J72 -> 0 | K72: ='1-03-2014'!K72 -> 0
C73: ='1-03-2014'!C73 -> 0 | D73: ='1-03-2014'!D73 -> 0 | E73: ='1-03-2014'!E73 -> 0 | F73: ='1-03-2014'!F73 -> 0 | G73: ='1-03-2014'!G73 -> 0 | H73: ='1-03-2014'!H73 -> 0 | I73: ='1-03-2014'!I73 -> 0 | J73: ='1-03-2014'!J73 -> 0 | K73: ='1-03-2014'!K73 -> 0
A74: ='13-03-2014'!A74 -> 0 | B74: ='13-03-2014'!B74 -> 0
A75: ='13-03-2014'!A75 -> 0 | B75: ='13-03-2014'!B75 -> 0
A76: ='13-03-2014'!A76 -> 0 | B76: ='13-03-2014'!B76 -> 0
A77: ='13-03-2014'!A77 -> 0 | B77: ='13-03-2014'!B77 -> 0
A78: ='13-03-2014'!A78 -> 0 | B78: ='13-03-2014'!B78 -> 0
...

Sheet 15-03-2014
C3: ='14-03-2014'!C3 -> 0 | D3: ='14-03-2014'!D3 -> 0 | E3: ='14-03-2014'!E3 -> 0 | F3: ='14-03-2014'!F3 -> 0 | G3: ='14-03-2014'!G3 -> 0 | H3: ='14-03-2014'!H3 -> 0 | I3: ='14-03-2014'!I3 -> 0 | J3: ='14-03-2014'!J3 -> 0 | K3: ='14-03-2014'!K3 -> 0
C4: ='14-03-2014'!C4 -> 0 | D4: ='14-03-2014'!D4 -> 0 | E4: ='14-03-2014'!E4 -> 0 | F4: ='14-03-2014'!F4 -> 0 | G4: ='14-03-2014'!G4 -> 0 | H4: ='14-03-2014'!H4 -> 0 | I4: ='14-03-2014'!I4 -> 0 | J4: ='14-03-2014'!J4 -> 0 | K4: ='14-03-2014'!K4 -> 0
C5: ='14-03-2014'!C5 -> 0 | D5: ='14-03-2014'!D5 -> 0 | E5: ='14-03-2014'!E5 -> 0 | F5: ='14-03-2014'!F5 -> 0 | G5: ='14-03-2014'!G5 -> 0 | H5: ='14-03-2014'!H5 -> 0 | I5: ='14-03-2014'!I5 -> 0 | J5: ='14-03-2014'!J5 -> 0 | K5: ='14-03-2014'!K5 -> 0
A6: ='14-03-2014'!A6 -> 0 | B6: ='14-03-2014'!B6 -> 0
A7: ='14-03-2014'!A7 -> 0 | B7: ='14-03-2014'!B7 -> 0
A8: ='14-03-2014'!A8 -> 0 | B8: ='14-03-2014'!B8 -> 0
A9: ='14-03-2014'!A9 -> 0 | B9: ='14-03-2014'!B9 -> 0
A10: ='14-03-2014'!A10 -> 0 | B10: ='14-03-2014'!B10 -> 0
A11: ='14-03-2014'!A11 -> 0 | B11: ='14-03-2014'!B11 -> 0
A12: ='14-03-2014'!A12 -> 0 | B12: ='14-03-2014'!B12 -> 0
A13: ='14-03-2014'!A13 -> 0 | B13: ='14-03-2014'!B13 -> 0
A14: ='14-03-2014'!A14 -> 0 | B14: ='14-03-2014'!B14 -> 0
A15: ='14-03-2014'!A15 -> 0 | B15: ='14-03-2014'!B15 -> 0
A16: ='14-03-2014'!A16 -> 0 | B16: ='14-03-2014'!B16 -> 0
A17: ='14-03-2014'!A17 -> 0 | B17: ='14-03-2014'!B17 -> 0
... A34: ='14-03-2014'!A34 -> 0 | B34: ='14-03-2014'!B34 -> 0
C37: ='1-03-2014'!C37 -> 0 | D37: ='1-03-2014'!D37 -> 0 | E37: ='1-03-2014'!E37 -> 0 | F37: ='1-03-2014'!F37 -> 0 | G37: ='1-03-2014'!G37 -> 0 | H37: ='1-03-2014'!H37 -> 0 | I37: ='1-03-2014'!I37 -> 0 | J37: ='1-03-2014'!J37 -> 0 | K37: ='1-03-2014'!K37 -> 0
C38: ='1-03-2014'!C38 -> 0 | D38: ='1-03-2014'!D38 -> 0 | E38: ='1-03-2014'!E38 -> 0 | F38: ='1-03-2014'!F38 -> 0 | G38: ='1-03-2014'!G38 -> 0 | H38: ='1-03-2014'!H38 -> 0 | I38: ='1-03-2014'!I38 -> 0 | J38: ='1-03-2014'!J38 -> 0 | K38: ='1-03-2014'!K38 -> 0
C39: ='1-03-2014'!C39 -> 0 | D39: ='1-03-2014'!D39 -> 0 | E39: ='1-03-2014'!E39 -> 0 | F39: ='1-03-2014'!F39 -> 0 | G39: ='1-03-2014'!G39 -> 0 | H39: ='1-03-2014'!H39 -> 0 | I39: ='1-03-2014'!I39 -> 0 | J39: ='1-03-2014'!J39 -> 0 | K39: ='1-03-2014'!K39 -> 0
A40: ='14-03-2014'!A40 -> 0 | B40: ='14-03-2014'!B40 -> 0
A41: ='14-03-2014'!A41 -> 0 | B41: ='14-03-2014'!B41 -> 0
A42: ='14-03-2014'!A42 -> 0 | B42: ='14-03-2014'!B42 -> 0
A43: ='14-03-2014'!A43 -> 0 | B43: ='14-03-2014'!B43 -> 0
A44: ='14-03-2014'!A44 -> 0 | B44: ='14-03-2014'!B44 -> 0
A45: ='14-03-2014'!A45 -> 0 | B45: ='14-03-2014'!B45 -> 0
A46: ='14-03-2014'!A46 -> 0 | B46: ='14-03-2014'!B46 -> 0
A47: ='14-03-2014'!A47 -> 0 | B47: ='14-03-2014'!B47 -> 0
A48: ='14-03-2014'!A48 -> 0 | B48: ='14-03-2014'!B48 -> 0
A49: ='14-03-2014'!A49 -> 0 | B49: ='14-03-2014'!B49 -> 0
A50: ='14-03-2014'!A50 -> 0 | B50: ='14-03-2014'!B50 -> 0
A51: ='14-03-2014'!A51 -> 0 | B51: ='14-03-2014'!B51 -> 0
... A68: ='14-03-2014'!A68 -> 0 | B68: ='14-03-2014'!B68 -> 0
C71: ='1-03-2014'!C71 -> 0 | D71: ='1-03-2014'!D71 -> 0 | E71: ='1-03-2014'!E71 -> 0 | F71: ='1-03-2014'!F71 -> 0 | G71: ='1-03-2014'!G71 -> 0 | H71: ='1-03-2014'!H71 -> 0 | I71: ='1-03-2014'!I71 -> 0 | J71: ='1-03-2014'!J71 -> 0 | K71: ='1-03-2014'!K71 -> 0
C72: ='1-03-2014'!C72 -> 0 | D72: ='1-03-2014'!D72 -> 0 | E72: ='1-03-2014'!E72 -> 0 | F72: ='1-03-2014'!F72 -> 0 | G72: ='1-03-2014'!G72 -> 0 | H72: ='1-03-2014'!H72 -> 0 | I72: ='1-03-2014'!I72 -> 0 | J72: ='1-03-2014'!J72 -> 0 | K72: ='1-03-2014'!K72 -> 0
C73: ='1-03-2014'!C73 -> 0 | D73: ='1-03-2014'!D73 -> 0 | E73: ='1-03-2014'!E73 -> 0 | F73: ='1-03-2014'!F73 -> 0 | G73: ='1-03-2014'!G73 -> 0 | H73: ='1-03-2014'!H73 -> 0 | I73: ='1-03-2014'!I73 -> 0 | J73: ='1-03-2014'!J73 -> 0 | K73: ='1-03-2014'!K73 -> 0
A74: ='14-03-2014'!A74 -> 0 | B74: ='14-03-2014'!B74 -> 0
A75: ='14-03-2014'!A75 -> 0 | B75: ='14-03-2014'!B75 -> 0
A76: ='14-03-2014'!A76 -> 0 | B76: ='14-03-2014'!B76 -> 0
A77: ='14-03-2014'!A77 -> 0 | B77: ='14-03-2014'!B77 -> 0
A78: ='14-03-2014'!A78 -> 0 | B78: ='14-03-2014'!B78 -> 0
...

Sheet Récap. Semaine Chantiers
A1: 41699 | C1: =(#REF!&" "&#REF!&" "&#REF!) -> #REF!
A3: =YEAR(A1) -> 2014
A4: =INT((A1-SUM(MOD(DATE(YEAR(A1-MOD(A1-2,7)+3),1,2),{1E+99;7})*{1;-1})+5)/7) -> 9
A6: MAINS D'ŒUVRES
C8: =DATE($A$3,1,4)-WEEKDAY(DATE($A$3,1,4),2)+1+7*(A4-1) -> 41694 | D8: =C8+1 -> 41695 | E8: =D8+1 -> 41696 | F8: =E8+1 -> 41697 | G8: =F8+1 -> 41698 | H8: =G8+1 -> 41699 | I8: =H8+1 -> 41700
A9: Noms | B9: N° | C9: Colonne1 | D9: Colonne2 | E9: Colonne3 | F9: Colonne4 | G9: Colonne5 | H9: Colonne6 | I9: Colonne7 | J9: Remarques
H10: =IF(SUM('1-03-2014'!C6)=0,'1-03-2014'!K6,SUM('1-03-2014'!C6)) -> 0 | I10: =IF(SUM('2-03-2014'!C6)=0,'2-03-2014'!K6,SUM('2-03-2014'!C6)) -> 0
H11: =IF(SUM('1-03-2014'!C7)=0,'1-03-2014'!K7,SUM('1-03-2014'!C7)) -> 0 | I11: =IF(SUM('2-03-2014'!C7)=0,'2-03-2014'!K7,SUM('2-03-2014'!C7)) -> 0
H12: =IF(SUM('1-03-2014'!C8)=0,'1-03-2014'!K8,SUM('1-03-2014'!C8)) -> 0 | I12: =IF(SUM('2-03-2014'!C8)=0,'2-03-2014'!K8,SUM('2-03-2014'!C8)) -> 0
H13: =IF(SUM('1-03-2014'!C9)=0,'1-03-2014'!K9,SUM('1-03-2014'!C9)) -> 0 | I13: =IF(SUM('2-03-2014'!C9)=0,'2-03-2014'!K9,SUM('2-03-2014'!C9)) -> 0
H14: =IF(SUM('1-03-2014'!C10)=0,'1-03-2014'!K10,SUM('1-03-2014'!C10)) -> 0 | I14: =IF(SUM('2-03-2014'!C10)=0,'2-03-2014'!K10,SUM('2-03-2014'!C10)) -> 0
H15: =IF(SUM('1-03-2014'!C11)=0,'1-03-2014'!K11,SUM('1-03-2014'!C11)) -> 0 | I15: =IF(SUM('2-03-2014'!C11)=0,'2-03-2014'!K11,SUM('2-03-2014'!C11)) -> 0
H16: =IF(SUM('1-03-2014'!C12)=0,'1-03-2014'!K12,SUM('1-03-2014'!C12)) -> 0 | I16: =IF(SUM('2-03-2014'!C12)=0,'2-03-2014'!K12,SUM('2-03-2014'!C12)) -> 0
H17: =IF(SUM('1-03-2014'!C13)=0,'1-03-2014'!K13,SUM('1-03-2014'!C13)) -> 0 | I17: =IF(SUM('2-03-2014'!C13)=0,'2-03-2014'!K13,SUM('2-03-2014'!C13)) -> 0
H18: =IF(SUM('1-03-2014'!C14)=0,'1-03-2014'!K14,SUM('1-03-2014'!C14)) -> 0 | I18: =IF(SUM('2-03-2014'!C14)=0,'2-03-2014'!K14,SUM('2-03-2014'!C14)) -> 0
H19: =IF(SUM('1-03-2014'!C15)=0,'1-03-2014'!K15,SUM('1-03-2014'!C15)) -> 0 | I19: =IF(SUM('2-03-2014'!C15)=0,'2-03-2014'!K15,SUM('2-03-2014'!C15)) -> 0
H20: =IF(SUM('1-03-2014'!C16)=0,'1-03-2014'!K16,SUM('1-03-2014'!C16)) -> 0 | I20: =IF(SUM('2-03-2014'!C16)=0,'2-03-2014'!K16,SUM('2-03-2014'!C16)) -> 0
H21: =IF(SUM('1-03-2014'!C17)=0,'1-03-2014'!K17,SUM('1-03-2014'!C17)) -> 0 | I21: =IF(SUM('2-03-2014'!C17)=0,'2-03-2014'!K17,SUM('2-03-2014'!C17)) -> 0
... H38: =IF(SUM('1-03-2014'!C34)=0,'1-03-2014'!K34,SUM('1-03-2014'!C34)) -> 0 | I38: =IF(SUM('2-03-2014'!C34)=0,'2-03-2014'!K34,SUM('2-03-2014'!C34)) -> 0
A39: =A1 -> 41699
A41: =INT((A39-SUM(MOD(DATE(YEAR(A39-MOD(A39-2,7)+3),1,2),{1E+99;7})*{1;-1})+5)/7) -> 9
A43: MACHINES
C45: =DATE($A$3,1,4)-WEEKDAY(DATE($A$3,1,4),2)+1+7*(A41-1) -> 41694 | D45: =C45+1 -> 41695 | E45: =D45+1 -> 41696 | F45: =E45+1 -> 41697 | G45: =F45+1 -> 41698 | H45: =G45+1 -> 41699 | I45: =H45+1 -> 41700
A46: Noms | B46: N° | C46: Colonne1 | D46: Colonne2 | E46: Colonne3 | F46: Colonne4 | G46: Colonne5 | H46: Colonne6 | I46: Colonne7 | J46: Remarques
H47: =SUM('1-03-2014'!C40) -> 0 | I47: =SUM('2-03-2014'!C40) -> 0
