Workbook
Name Joueurs: Base!$E$2:$E$51

Sheet Base
A1: N° | B1: Sous catégorie | C1: Nom | D1: Prénom | E1: Nom Complet | F1: Né(e) le | G1: Photos | H1: Voie-rue | I1: Code postal | J1: COMMUNE | K1: domicile | L1: Mobile | M1: Email principal | N1: Numéro personne
A2: 1 | B2: U11 | C2: BARBIER | D2: Johann | E2: =CONCATENATE(C2," ",D2) -> BARBIER Johann | N2: 2546395952
A3: 2 | B3: U11 | C3: BALLUAIS | D3: Joris | E3: =CONCATENATE(C3," ",D3) -> BALLUAIS Joris | N3: 2546395974
A4: 3 | B4: U11 | C4: BRINDEJONC | D4: Thibaud | E4: =CONCATENATE(C4," ",D4) -> BRINDEJONC Thibaud | N4: 2545589148
A5: 4 | B5: U11 | C5: CARDOSO | D5: Allan | E5: =CONCATENATE(C5," ",D5) -> CARDOSO Allan | N5: 2545488535
A6: 5 | B6: U11 | C6: CHESNAIS | D6: Florian | E6: =CONCATENATE(C6," ",D6) -> CHESNAIS Florian | N6: 2545540256
A7: 6 | B7: U11 | C7: CHESNAIS | D7: Melvin | E7: =CONCATENATE(C7," ",D7) -> CHESNAIS Melvin | N7: 2546871254
A8: 7 | B8: U11 | C8: DENIEUL | D8: Léo | E8: =CONCATENATE(C8," ",D8) -> DENIEUL Léo | N8: 2545544783
A9: 8 | B9: U11 | C9: DESSIMIETTI | D9: Kylian | E9: =CONCATENATE(C9," ",D9) -> DESSIMIETTI Kylian | N9: 2546269946
A10: 9 | B10: U11 | C10: DOUIHAK | D10: Wassime | E10: =CONCATENATE(C10," ",D10) -> DOUIHAK Wassime
A11: 10 | B11: U11 | C11: DUPONT | D11: Nicolas | E11: =CONCATENATE(C11," ",D11) -> DUPONT Nicolas | N11: 2546022738
A12: 11 | B12: U11 | C12: ESNAULT | D12: Elouen | E12: =CONCATENATE(C12," ",D12) -> ESNAULT Elouen | N12: 2545890762
A13: 12 | B13: U11 | C13: FONTAINE | D13: Aelia | E13: =CONCATENATE(C13," ",D13) -> FONTAINE Aelia | N13: 2546061173
A14: 13 | B14: U11 | C14: GAUTIER | D14: Mathéo | E14: =CONCATENATE(C14," ",D14) -> GAUTIER Mathéo
A15: 14 | B15: U11 | C15: GERARD | D15: Enzo | E15: =CONCATENATE(C15," ",D15) -> GERARD Enzo | N15: 2546016879
A16: 15 | B16: U11 | C16: GUIHARD | D16: Samuel | E16: =CONCATENATE(C16," ",D16) -> GUIHARD Samuel | N16: 2546038133
A17: 16 | B17: U11 | C17: GUILLEMOT | D17: Gwen | E17: =CONCATENATE(C17," ",D17) -> GUILLEMOT Gwen | N17: 2546331821
A18: 17 | B18: U11 | C18: GUILLOT | D18: Romain | E18: =CONCATENATE(C18," ",D18) -> GUILLOT Romain | N18: 2545594775
A19: 18 | B19: U11 | C19: GUYOMARD | D19: Arthur | E19: =CONCATENATE(C19," ",D19) -> GUYOMARD Arthur | N19: 2546053895
A20: 19 | B20: U11 | C20: HELIGON | D20: Elouan | E20: =CONCATENATE(C20," ",D20) -> HELIGON Elouan | N20: 2546143826
A21: 20 | B21: U11 | C21: HOMO | D21: Bryan | E21: =CONCATENATE(C21," ",D21) -> HOMO Bryan | N21: 2545501070
A22: 21 | B22: U11 | C22: KOMES | D22: Justin | E22: =CONCATENATE(C22," ",D22) -> KOMES Justin
A23: 22 | B23: U11 | C23: LE BIHAN | D23: Kevin | E23: =CONCATENATE(C23," ",D23) -> LE BIHAN Kevin | N23: 2545501130
A24: 23 | B24: U11 | C24: LE TEXIER | D24: Jules | E24: =CONCATENATE(C24," ",D24) -> LE TEXIER Jules | N24: 2546030963
A25: 24 | B25: U11 | C25: LEMARCHAND DENOUAL | D25: Matteo | E25: =CONCATENATE(C25," ",D25) -> LEMARCHAND DENOUAL Matteo | N25: 2545945443
A26: 25 | B26: U11 | C26: LISSILLOUR | D26: Matteo | E26: =CONCATENATE(C26," ",D26) -> LISSILLOUR Matteo | N26: 2546052081
A27: 26 | B27: U11 | C27: MACE | D27: Swan | E27: =CONCATENATE(C27," ",D27) -> MACE Swan | N27: 2546087443
A28: 27 | B28: U11 | C28: MARET | D28: Valentin | E28: =CONCATENATE(C28," ",D28) -> MARET Valentin | N28: 2546023575
A29: 28 | B29: U11 | C29: MAUDET | D29: Lucas | E29: =CONCATENATE(C29," ",D29) -> MAUDET Lucas | N29: 2545492953
A30: 29 | B30: U11 | C30: NEGARET | D30: Noe | E30: =CONCATENATE(C30," ",D30) -> NEGARET Noe | N30: 2546624342
A31: 30 | B31: U11 | C31: PATRU | D31: Mathys | E31: =CONCATENATE(C31," ",D31) -> PATRU Mathys | N31: 2546129402
A32: 31 | B32: U11 | C32: PERIGOIS | D32: Evan | E32: =CONCATENATE(C32," ",D32) -> PERIGOIS Evan | N32: 2546350402
A33: 32 | B33: U11 | C33: PIERRE | D33: Bastien | E33: =CONCATENATE(C33," ",D33) -> PIERRE Bastien | N33: 2546342381
A34: 33 | B34: U11 | C34: RAIMONDEAU | D34: Antoine | E34: =CONCATENATE(C34," ",D34) -> RAIMONDEAU Antoine | N34: 2545448978
... A47: 46 | B47: U9 | C47: ZIMMER | D47: Corentin | E47: =CONCATENATE(C47," ",D47) -> ZIMMER Corentin | N47: 2546250129
A48: 47 | B48: U9
A49: 48 | B49: U9
A50: 49 | B50: U9
A51: 50 | B51: U9
A54: 1 | B54: dirigeant | C54: ESNAULTJérôme | N54: 2210633157
...

Sheet Vierge
A1: Convocations U11 Samedi 28 Septembre 2013
A2: Rdv : 13H15 à Pleumeleuc match à Pleumeleuc | D2: Rdv : 13H15 à Pleumeleuc match à Pleumeleuc | G2: Rdv : 9h30 à Pleumeleuc match à La Chapelle du Lou | J2: Rdv : 13h00 à Pleumeleuc match à Monterfil
A3: Contre : US Bécherel/Min/Lang 1 | D3: Contre : JS Boisgervilly | G3: Contre : La Chapelle du Lou | J3: Contre : Eskouadenn/Le Verger 3
A4: Transport : sans objet | D4: Transport : sans objet | G4: Transport : CARDOSO / GUIHARD / SOARES | J4: Transport : PERIGOIS / GAUTIER / GUILLEMOT
A5: Lavage des maillots : GERARD | D5: Lavage des maillots : DUPONT | G5: Lavage des maillots : CARDOSO | J5: Lavage des maillots : PERIGOIS
A6: 1 | B6: BALLUAIS Joris | C6: =LOOKUP(B6,Base!E2:E51,Base!N) -> #NAME? | D6: 1 | F6: =IF($E6="BARBIER Johann",Base!$N$2,IF($E6="BALLUAIS Joris",Base!$N$3,0)) -> 0 | G6: 1 | J6: 1 | O6: absents
A7: 2 | B7: BARBIER Johann | C7: =IF($B7="BARBIER Johann",Base!$N$2,IF($B7="BALLUAIS Joris",Base!$N$3,0)) -> 2546395952 | D7: 2 | F7: =IF($E7="BARBIER Johann",Base!$N$2,IF($E7="BALLUAIS Joris",Base!$N$3,0)) -> 0 | G7: 2 | J7: 2 | N7: 1 | O7: VILLANNEAU | P7: Steven
A8: 3 | C8: =IF($B8="BARBIER Johann",Base!$N$2,IF($B8="BALLUAIS Joris",Base!$N$3,0)) -> 0 | D8: 3 | F8: =IF($E8="BARBIER Johann",Base!$N$2,IF($E8="BALLUAIS Joris",Base!$N$3,0)) -> 0 | G8: 3 | J8: 3 | N8: 2 | O8: BALLUAIS | P8: Joris
A9: 4 | C9: =IF($B9="BARBIER Johann",Base!$N$2,IF($B9="BALLUAIS Joris",Base!$N$3,0)) -> 0 | D9: 4 | F9: =IF($E9="BARBIER Johann",Base!$N$2,IF($E9="BALLUAIS Joris",Base!$N$3,0)) -> 0 | G9: 4 | J9: 4 | N9: 3 | O9: DESSIMIETTI | P9: Kylian
A10: 5 | C10: =IF($B10="BARBIER Johann",Base!$N$2,IF($B10="BALLUAIS Joris",Base!$N$3,0)) -> 0 | D10: 5 | F10: =IF($E10="BARBIER Johann",Base!$N$2,IF($E10="BALLUAIS Joris",Base!$N$3,0)) -> 0 | G10: 5 | J10: 5 | N10: 4 | O10: NEGARET | P10: Noe
A11: 6 | C11: =IF($B11="BARBIER Johann",Base!$N$2,IF($B11="BALLUAIS Joris",Base!$N$3,0)) -> 0 | D11: 6 | F11: =IF($E11="BARBIER Johann",Base!$N$2,IF($E11="BALLUAIS Joris",Base!$N$3,0)) -> 0 | G11: 6 | J11: 6 | N11: 5 | O11: CHESNAIS | P11: Melvin
A12: 7 | C12: =IF($B12="BARBIER Johann",Base!$N$2,IF($B12="BALLUAIS Joris",Base!$N$3,0)) -> 0 | D12: 7 | F12: =IF($E12="BARBIER Johann",Base!$N$2,IF($E12="BALLUAIS Joris",Base!$N$3,0)) -> 0 | G12: 7 | J12: 7 | N12: 6 | O12: PATRU | P12: MATHYS
A13: 8 | C13: =IF($B13="BARBIER Johann",Base!$N$2,IF($B13="BALLUAIS Joris",Base!$N$3,0)) -> 0 | D13: 8 | F13: =IF($E13="BARBIER Johann",Base!$N$2,IF($E13="BALLUAIS Joris",Base!$N$3,0)) -> 0 | G13: 8 | J13: 8 | N13: 7 | O13: GUILLOT | P13: Romain
A14: 9 | C14: =IF($B14="BARBIER Johann",Base!$N$2,IF($B14="BALLUAIS Joris",Base!$N$3,0)) -> 0 | D14: 9 | F14: =IF($E14="BARBIER Johann",Base!$N$2,IF($E14="BALLUAIS Joris",Base!$N$3,0)) -> 0 | G14: 9 | J14: 9 | N14: 8 | O14: KOMES | P14: Justin
A15: 10 | D15: 10 | G15: 10 | J15: 10
A16: 11 | D16: 11 | G16: 11 | J16: 11
A17: 12 | D17: 12 | G17: 12 | J17: 12
A19: Dirigeants : | D19: Dirigeant : | G19: Dirigeants : | J19: Dirigeant :
B20: P. LE BIHAN / C. MACE | E20: M. MARET | H20: F. BARBIER / J. ESNAULT | K20: JM. CORVAISIER
