Workbook

Sheet Feuil1
J1: ANOMALIES AGENTS
A4: janvier | C4: 1 | D4: 2 | E4: 3 | F4: 4 | G4: 5 | H4: 6 | I4: 7 | J4: 8 | K4: 9 | L4: 10 | M4: 11 | N4: 12 | O4: 13 | P4: 14 | Q4: 15 | R4: 16 | S4: 17 | T4: 18 | U4: 19 | V4: 20 | W4: 21 | X4: 22 | Y4: 23 | Z4: 24 | AA4: 25 | AB4: 26 | AC4: 27 | AD4: 28 | AE4: 29 | AF4: 30 | AG4: 31
C5: M | D5: M | E5: J | F5: V | G5: S | H5: D | I5: L | J5: M | K5: M | L5: J | M5: V | N5: S | O5: D | P5: L | Q5: M | R5: M | S5: J | T5: V | U5: S | V5: D | W5: L | X5: M | Y5: M | Z5: J | AA5: V | AB5: S | AC5: D | AD5: L | AE5: M | AF5: M | AG5: J
A7: Absence injustifiée | AH7: OBSERVATIONS:
A8: Remplacement et attente
A9: Retard
A10: Non respect des consignes
A11: Tenue non conforme
A12: Perte materiel
A13: Casse matériel
A15: Absence injustifiée | AH15: OBSERVATIONS:
A16: Remplacement et attente
A17: Retard
A18: Non respect des consignes
A19: Tenue non conforme
A20: Perte materiel
A21: Casse matériel
A23: Absence injustifiée | G23: X | K23: X | P23: X | AH23: enleve 1 a chaques fois
A24: Remplacement et attente | AH24: ajoute 1 a chaques fois
A25: Retard | AC25: X | AH25: enleve 0,5 a chaque fois
A26: Non respect des consignes | AH26: enleve 2 a chaques fois
A27: Tenue non conforme | AH27: enleve 0,5 a chaque fois
A28: Perte materiel | Q28: X | U28: X | AH28: enleve 2 a chaques fois
A29: Casse matériel | AH29: enleve 2 a chaques fois
A31: Absence injustifiée | AH31: OBSERVATIONS:
A32: Remplacement et attente
A33: Retard
A34: Non respect des consignes
A35: Tenue non conforme
A36: Perte materiel
A37: Casse matériel
A39: Absence injustifiée
A40: Remplacement et attente
A41: Retard
A42: Non respect des consignes
A43: Tenue non conforme
A44: Perte materiel
A45: Casse matériel
A47: Absence injustifiée | AH47: OBSERVATIONS:
A48: Remplacement et attente
A49: Retard | L49: X
A50: Non respect des consignes
A51: Tenue non conforme
A52: Perte materiel
A53: Casse matériel
A55: Absence injustifiée | AH55: OBSERVATIONS:
A56: Remplacement et attente
A57: Retard
A58: Non respect des consignes
A59: Tenue non conforme
A60: Perte materiel
A61: Casse matériel
A63: Absence injustifiée | AH63: OBSERVATIONS:
A64: Remplacement et attente
A65: Retard
A66: Non respect des consignes
A67: Tenue non conforme
A68: Perte materiel
A69: Casse matériel
A71: Absence injustifiée | AH71: OBSERVATIONS:
A72: Remplacement et attente
A73: Retard
A74: Non respect des consignes
A75: Tenue non conforme
A76: Perte materiel
A77: Casse matériel
A79: Absence injustifiée
A80: Remplacement et attente
A81: Retard
A82: Non respect des consignes | Q82: X
A83: Tenue non conforme
A84: Perte materiel | Q84: X
A85: Casse matériel
A87: Absence injustifiée
A88: Remplacement et attente
A89: Retard
A90: Non respect des consignes
A91: Tenue non conforme
A92: Perte materiel
A93: Casse matériel
A95: Absence injustifiée | AH95: OBSERVATIONS:
A96: Remplacement et attente
A97: Retard
A98: Non respect des consignes
A99: Tenue non conforme
A100: Perte materiel
A101: Casse matériel
A103: Absence injustifiée | AH103: OBSERVATIONS:
A104: Remplacement et attente
A105: Retard
A106: Non respect des consignes
A107: Tenue non conforme
A108: Perte materiel
A109: Casse matériel
A111: Absence injustifiée
A112: Remplacement et attente
A113: Retard
A114: Non respect des consignes
A115: Tenue non conforme
A116: Perte materiel
...

Sheet Feuil2
J1: ANOMALIES AGENTS
A4: janvier | C4: 1 | D4: 2 | E4: 3 | F4: 4 | G4: 5 | H4: 6 | I4: 7 | J4: 8 | K4: 9 | L4: 10 | M4: 11 | N4: 12 | O4: 13 | P4: 14 | Q4: 15 | R4: 16 | S4: 17 | T4: 18 | U4: 19 | V4: 20 | W4: 21 | X4: 22 | Y4: 23 | Z4: 24 | AA4: 25 | AB4: 26 | AC4: 27 | AD4: 28 | AE4: 29 | AF4: 30 | AG4: 31
C5: M | D5: M | E5: J | F5: V | G5: S | H5: D | I5: L | J5: M | K5: M | L5: J | M5: V | N5: S | O5: D | P5: L | Q5: M | R5: M | S5: J | T5: V | U5: S | V5: D | W5: L | X5: M | Y5: M | Z5: J | AA5: V | AB5: S | AC5: D | AD5: L | AE5: M | AF5: M | AG5: J
A7: Absence injustifiée | AH7: OBSERVATIONS:
A8: Remplacement et attente
A9: Retard
A10: Non respect des consignes
A11: Tenue non conforme
A12: Perte materiel
A13: Casse matériel
A15: Absence injustifiée | AH15: OBSERVATIONS:
A16: Remplacement et attente
A17: Retard
A18: Non respect des consignes
A19: Tenue non conforme
A20: Perte materiel
A21: Casse matériel
A23: Absence injustifiée | G23: X | K23: X | P23: X
A24: Remplacement et attente
A25: Retard | AC25: X
A26: Non respect des consignes
A27: Tenue non conforme
A28: Perte materiel | Q28: X | U28: X
A29: Casse matériel
A31: Absence injustifiée | AH31: OBSERVATIONS:
A32: Remplacement et attente
A33: Retard
A34: Non respect des consignes
A35: Tenue non conforme
A36: Perte materiel
A37: Casse matériel
A39: Absence injustifiée
A40: Remplacement et attente
A41: Retard
A42: Non respect des consignes
A43: Tenue non conforme
A44: Perte materiel
A45: Casse matériel
A47: Absence injustifiée | AH47: OBSERVATIONS:
A48: Remplacement et attente
A49: Retard | L49: X
A50: Non respect des consignes
A51: Tenue non conforme
A52: Perte materiel
A53: Casse matériel
A55: Absence injustifiée | AH55: OBSERVATIONS:
A56: Remplacement et attente
A57: Retard
A58: Non respect des consignes
A59: Tenue non conforme
A60: Perte materiel
A61: Casse matériel
A63: Absence injustifiée | AH63: OBSERVATIONS:
A64: Remplacement et attente
A65: Retard
A66: Non respect des consignes
A67: Tenue non conforme
A68: Perte materiel
A69: Casse matériel
A71: Absence injustifiée | AH71: OBSERVATIONS:
A72: Remplacement et attente
A73: Retard
A74: Non respect des consignes
A75: Tenue non conforme
A76: Perte materiel
A77: Casse matériel
A79: Absence injustifiée
A80: Remplacement et attente
A81: Retard
A82: Non respect des consignes | Q82: X
A83: Tenue non conforme
A84: Perte materiel | Q84: X
A85: Casse matériel
A87: Absence injustifiée
A88: Remplacement et attente
A89: Retard
A90: Non respect des consignes
A91: Tenue non conforme
A92: Perte materiel
A93: Casse matériel
A95: Absence injustifiée | AH95: OBSERVATIONS:
A96: Remplacement et attente
A97: Retard
A98: Non respect des consignes
A99: Tenue non conforme
A100: Perte materiel
A101: Casse matériel
A103: Absence injustifiée | AH103: OBSERVATIONS:
A104: Remplacement et attente
A105: Retard
A106: Non respect des consignes
A107: Tenue non conforme
A108: Perte materiel
A109: Casse matériel
A111: Absence injustifiée
A112: Remplacement et attente
A113: Retard
A114: Non respect des consignes
A115: Tenue non conforme
A116: Perte materiel
...

Sheet Feuil3
J1: ANOMALIES AGENTS
A4: janvier | C4: 1 | D4: 2 | E4: 3 | F4: 4 | G4: 5 | H4: 6 | I4: 7 | J4: 8 | K4: 9 | L4: 10 | M4: 11 | N4: 12 | O4: 13 | P4: 14 | Q4: 15 | R4: 16 | S4: 17 | T4: 18 | U4: 19 | V4: 20 | W4: 21 | X4: 22 | Y4: 23 | Z4: 24 | AA4: 25 | AB4: 26 | AC4: 27 | AD4: 28 | AE4: 29 | AF4: 30 | AG4: 31
C5: M | D5: M | E5: J | F5: V | G5: S | H5: D | I5: L | J5: M | K5: M | L5: J | M5: V | N5: S | O5: D | P5: L | Q5: M | R5: M | S5: J | T5: V | U5: S | V5: D | W5: L | X5: M | Y5: M | Z5: J | AA5: V | AB5: S | AC5: D | AD5: L | AE5: M | AF5: M | AG5: J
A7: Absence injustifiée | AH7: OBSERVATIONS:
A8: Remplacement et attente
A9: Retard
A10: Non respect des consignes
A11: Tenue non conforme
A12: Perte materiel
A13: Casse matériel
A15: Absence injustifiée | AH15: OBSERVATIONS:
A16: Remplacement et attente
A17: Retard
A18: Non respect des consignes
A19: Tenue non conforme
A20: Perte materiel
A21: Casse matériel
A23: Absence injustifiée | G23: X | K23: X | P23: X
A24: Remplacement et attente
A25: Retard | AC25: X
A26: Non respect des consignes
A27: Tenue non conforme
A28: Perte materiel | Q28: X | U28: X
A29: Casse matériel
A31: Absence injustifiée | AH31: OBSERVATIONS:
A32: Remplacement et attente
A33: Retard
A34: Non respect des consignes
A35: Tenue non conforme
A36: Perte materiel
A37: Casse matériel
A39: Absence injustifiée
A40: Remplacement et attente
A41: Retard
A42: Non respect des consignes
A43: Tenue non conforme
A44: Perte materiel
A45: Casse matériel
A47: Absence injustifiée | AH47: OBSERVATIONS:
A48: Remplacement et attente
A49: Retard | L49: X
A50: Non respect des consignes
A51: Tenue non conforme
A52: Perte materiel
A53: Casse matériel
A55: Absence injustifiée | AH55: OBSERVATIONS:
A56: Remplacement et attente
A57: Retard
A58: Non respect des consignes
A59: Tenue non conforme
A60: Perte materiel
A61: Casse matériel
A63: Absence injustifiée | AH63: OBSERVATIONS:
A64: Remplacement et attente
A65: Retard
A66: Non respect des consignes
A67: Tenue non conforme
A68: Perte materiel
A69: Casse matériel
A71: Absence injustifiée | AH71: OBSERVATIONS:
A72: Remplacement et attente
A73: Retard
A74: Non respect des consignes
A75: Tenue non conforme
A76: Perte materiel
A77: Casse matériel
A79: Absence injustifiée
A80: Remplacement et attente
A81: Retard
A82: Non respect des consignes | Q82: X
A83: Tenue non conforme
A84: Perte materiel | Q84: X
A85: Casse matériel
A87: Absence injustifiée
A88: Remplacement et attente
A89: Retard
A90: Non respect des consignes
A91: Tenue non conforme
A92: Perte materiel
A93: Casse matériel
A95: Absence injustifiée | AH95: OBSERVATIONS:
A96: Remplacement et attente
A97: Retard
A98: Non respect des consignes
A99: Tenue non conforme
A100: Perte materiel
A101: Casse matériel
A103: Absence injustifiée | AH103: OBSERVATIONS:
A104: Remplacement et attente
A105: Retard
A106: Non respect des consignes
A107: Tenue non conforme
A108: Perte materiel
A109: Casse matériel
A111: Absence injustifiée
A112: Remplacement et attente
A113: Retard
A114: Non respect des consignes
A115: Tenue non conforme
A116: Perte materiel
...

Sheet Feuil4
D1: ANOMALIES TRIMESTRE
B5: a | C5: b | D5: c | E5: e | F5: f | G5: g | H5: h | I5: i | J5: j | K5: k
A6: Absence injustifiée | B6: =COUNTIF([1]janvier!C7:AG7,"X")*1+COUNTIF([1]février!C7:AG7,"X")*1+COUNTIF([1]mars!C7:AG7,"x")*1 -> 0 | C6: =COUNTIF([1]janvier!C15:AG15,"X")*1+COUNTIF([1]février!C15:AG15,"X")*1+COUNTIF([1]mars!C15:AG15,"X")*1 -> 0 | D6: =COUNTIF([1]janvier!C23:AG23,"X")*1+COUNTIF([1]février!C23:AG23,"x")*1+COUNTIF([1]mars!C23:AG23,"x")*1 -> 3 | E6: =COUNTIF([1]janvier!C31:AG31,"X")*1+COUNTIF([1]février!C31:AG31,"x")*1+COUNTIF([1]mars!C31:AG31,"x")*1 -> 0 | F6: =COUNTIF([1]janvier!C39:AG39,"X")*1+COUNTIF([1]février!C39:AG39,"x")*1+COUNTIF([1]mars!C39:AG39,"x")*1 -> 0 | G6: =COUNTIF([1]janvier!C47:AG47,"X")*1+COUNTIF([1]février!C47:AG47,"x")*1+COUNTIF([1]mars!C47:AG47,"x")*1 -> 0 | H6: =COUNTIF([1]janvier!C55:AG55,"X")*1+COUNTIF([1]février!C55:AG55,"x")*1+COUNTIF([1]mars!C55:AG55,"x")*1 -> 0 | I6: =COUNTIF([1]janvier!C63:AG63,"X")*1+COUNTIF([1]février!C63:AG63,"x")*1+COUNTIF([1]mars!C63:AG63,"x")*1 -> 0 | J6: =COUNTIF([1]janvier!C71:AG71,"X")*1+COUNTIF([1]février!C71:AG71,"x")*1+COUNTIF([1]mars!C71:AG71,"x")*1 -> 0 | K6: =COUNTIF([1]janvier!C79:AG79,"X")*1+COUNTIF([1]février!C79:AG79,"x")*1+COUNTIF([1]mars!C79:AG79,"x")*1 -> 0
A7: Remplacement et attente | B7: =COUNTIF([1]janvier!C8:AG8,"X")*1+COUNTIF([1]février!C8:AG8,"X")*1+COUNTIF([1]mars!C8:AG8,"x")*1 -> 0 | C7: =COUNTIF([1]janvier!C16:AG16,"X")*1+COUNTIF([1]février!C16:AG16,"X")*1+COUNTIF([1]mars!C16:AG16,"X")*1 -> 0 | D7: =COUNTIF([1]janvier!C24:AG24,"X")*1+COUNTIF([1]février!C24:AG24,"x")*1+COUNTIF([1]mars!C24:AG24,"x")*1 -> 0 | E7: =COUNTIF([1]janvier!C32:AG32,"X")*1+COUNTIF([1]février!C32:AG32,"x")*1+COUNTIF([1]mars!C32:AG32,"x")*1 -> 0 | F7: =COUNTIF([1]janvier!C40:AG40,"X")*1+COUNTIF([1]février!C40:AG40,"x")*1+COUNTIF([1]mars!C40:AG40,"x")*1 -> 0 | G7: =COUNTIF([1]janvier!C48:AG48,"X")*1+COUNTIF([1]février!C48:AG48,"x")*1+COUNTIF([1]mars!C48:AG48,"x")*1 -> 0 | H7: =COUNTIF([1]janvier!C56:AG56,"X")*1+COUNTIF([1]février!C56:AG56,"x")*1+COUNTIF([1]mars!C56:AG56,"x")*1 -> 0 | I7: =COUNTIF([1]janvier!C64:AG64,"X")*1+COUNTIF([1]février!C64:AG64,"x")*1+COUNTIF([1]mars!C64:AG64,"x")*1 -> 0 | J7: =COUNTIF([1]janvier!C72:AG72,"X")*1+COUNTIF([1]février!C72:AG72,"x")*1+COUNTIF([1]mars!C72:AG72,"x")*1 -> 0 | K7: =COUNTIF([1]janvier!C80:AG80,"X")*1+COUNTIF([1]février!C80:AG80,"x")*1+COUNTIF([1]mars!C80:AG80,"x")*1 -> 0
A8: Retard | B8: =COUNTIF([1]janvier!C9:AG9,"X")*1+COUNTIF([1]février!C9:AG9,"X")*1+COUNTIF([1]mars!C9:AG9,"x")*1 -> 0 | C8: =COUNTIF([1]janvier!C17:AG17,"X")*1+COUNTIF([1]février!C17:AG17,"X")*1+COUNTIF([1]mars!C17:AG17,"X")*1 -> 0 | D8: =COUNTIF([1]janvier!C25:AG25,"X")*1+COUNTIF([1]février!C25:AG25,"x")*1+COUNTIF([1]mars!C25:AG25,"x")*1 -> 1 | E8: =COUNTIF([1]janvier!C33:AG33,"X")*1+COUNTIF([1]février!C33:AG33,"x")*1+COUNTIF([1]mars!C33:AG33,"x")*1 -> 0 | F8: =COUNTIF([1]janvier!C41:AG41,"X")*1+COUNTIF([1]février!C41:AG41,"x")*1+COUNTIF([1]mars!C41:AG41,"x")*1 -> 0 | G8: =COUNTIF([1]janvier!C49:AG49,"X")*1+COUNTIF([1]février!C49:AG49,"x")*1+COUNTIF([1]mars!C49:AG49,"x")*1 -> 1 | H8: =COUNTIF([1]janvier!C57:AG57,"X")*1+COUNTIF([1]février!C57:AG57,"x")*1+COUNTIF([1]mars!C57:AG57,"x")*1 -> 0 | I8: =COUNTIF([1]janvier!C65:AG65,"X")*1+COUNTIF([1]février!C65:AG65,"x")*1+COUNTIF([1]mars!C65:AG65,"x")*1 -> 0 | J8: =COUNTIF([1]janvier!C73:AG73,"X")*1+COUNTIF([1]février!C73:AG73,"x")*1+COUNTIF([1]mars!C73:AG73,"x")*1 -> 0 | K8: =COUNTIF([1]janvier!C81:AG81,"X")*1+COUNTIF([1]février!C81:AG81,"x")*1+COUNTIF([1]mars!C81:AG81,"x")*1 -> 0
A9: Non respect des consignes | B9: =COUNTIF([1]janvier!C10:AG10,"X")*1+COUNTIF([1]février!C10:AG10,"X")*1+COUNTIF([1]mars!C10:AG10,"x")*1 -> 0 | C9: =COUNTIF([1]janvier!C18:AG18,"X")*1+COUNTIF([1]février!C18:AG18,"X")*1+COUNTIF([1]mars!C18:AG18,"X")*1 -> 0 | D9: =COUNTIF([1]janvier!C26:AG26,"X")*1+COUNTIF([1]février!C26:AG26,"x")*1+COUNTIF([1]mars!C26:AG26,"x")*1 -> 0 | E9: =COUNTIF([1]janvier!C34:AG34,"X")*1+COUNTIF([1]février!C34:AG34,"x")*1+COUNTIF([1]mars!C34:AG34,"x")*1 -> 0 | F9: =COUNTIF([1]janvier!C42:AG42,"X")*1+COUNTIF([1]février!C42:AG42,"x")*1+COUNTIF([1]mars!C42:AG42,"x")*1 -> 0 | G9: =COUNTIF([1]janvier!C50:AG50,"X")*1+COUNTIF([1]février!C50:AG50,"x")*1+COUNTIF([1]mars!C50:AG50,"x")*1 -> 0 | H9: =COUNTIF([1]janvier!C58:AG58,"X")*1+COUNTIF([1]février!C58:AG58,"x")*1+COUNTIF([1]mars!C58:AG58,"x")*1 -> 0 | I9: =COUNTIF([1]janvier!C66:AG66,"X")*1+COUNTIF([1]février!C66:AG66,"x")*1+COUNTIF([1]mars!C66:AG66,"x")*1 -> 0 | J9: =COUNTIF([1]janvier!C74:AG74,"X")*1+COUNTIF([1]février!C74:AG74,"x")*1+COUNTIF([1]mars!C74:AG74,"x")*1 -> 0 | K9: =COUNTIF([1]janvier!C82:AG82,"X")*1+COUNTIF([1]février!C82:AG82,"x")*1+COUNTIF([1]mars!C82:AG82,"x")*1 -> 1
A10: Tenue non conforme | B10: =COUNTIF([1]janvier!C11:AG11,"X")*1+COUNTIF([1]février!C11:AG11,"X")*1+COUNTIF([1]mars!C11:AG11,"x")*1 -> 0 | C10: =COUNTIF([1]janvier!C19:AG19,"X")*1+COUNTIF([1]février!C19:AG19,"X")*1+COUNTIF([1]mars!C19:AG19,"X")*1 -> 0 | D10: =COUNTIF([1]janvier!C27:AG27,"X")*1+COUNTIF([1]février!C27:AG27,"x")*1+COUNTIF([1]mars!C27:AG27,"x")*1 -> 0 | E10: =COUNTIF([1]janvier!C35:AG35,"X")*1+COUNTIF([1]février!C35:AG35,"x")*1+COUNTIF([1]mars!C35:AG35,"x")*1 -> 0 | F10: =COUNTIF([1]janvier!C43:AG43,"X")*1+COUNTIF([1]février!C43:AG43,"x")*1+COUNTIF([1]mars!C43:AG43,"x")*1 -> 0 | G10: =COUNTIF([1]janvier!C51:AG51,"X")*1+COUNTIF([1]février!C51:AG51,"x")*1+COUNTIF([1]mars!C51:AG51,"x")*1 -> 0 | H10: =COUNTIF([1]janvier!C59:AG59,"X")*1+COUNTIF([1]février!C59:AG59,"x")*1+COUNTIF([1]mars!C59:AG59,"x")*1 -> 0 | I10: =COUNTIF([1]janvier!C67:AG67,"X")*1+COUNTIF([1]février!C67:AG67,"x")*1+COUNTIF([1]mars!C67:AG67,"x")*1 -> 0 | J10: =COUNTIF([1]janvier!C75:AG75,"X")*1+COUNTIF([1]février!C75:AG75,"x")*1+COUNTIF([1]mars!C75:AG75,"x")*1 -> 0 | K10: =COUNTIF([1]janvier!C83:AG83,"X")*1+COUNTIF([1]février!C83:AG83,"x")*1+COUNTIF([1]mars!C83:AG83,"x")*1 -> 0
A11: Perte materiel | B11: =COUNTIF([1]janvier!C12:AG12,"X")*1+COUNTIF([1]février!C12:AG12,"X")*1+COUNTIF([1]mars!C12:AG12,"x")*1 -> 0 | C11: =COUNTIF([1]janvier!C20:AG20,"X")*1+COUNTIF([1]février!C20:AG20,"X")*1+COUNTIF([1]mars!C20:AG20,"X")*1 -> 0 | D11: =COUNTIF([1]janvier!C28:AG28,"X")*1+COUNTIF([1]février!C28:AG28,"x")*1+COUNTIF([1]mars!C28:AG28,"x")*1 -> 2 | E11: =COUNTIF([1]janvier!C36:AG36,"X")*1+COUNTIF([1]février!C36:AG36,"x")*1+COUNTIF([1]mars!C36:AG36,"x")*1 -> 0 | F11: =COUNTIF([1]janvier!C44:AG44,"X")*1+COUNTIF([1]février!C44:AG44,"x")*1+COUNTIF([1]mars!C44:AG44,"x")*1 -> 0 | G11: =COUNTIF([1]janvier!C52:AG52,"X")*1+COUNTIF([1]février!C52:AG52,"x")*1+COUNTIF([1]mars!C52:AG52,"x")*1 -> 0 | H11: =COUNTIF([1]janvier!C60:AG60,"X")*1+COUNTIF([1]février!C60:AG60,"x")*1+COUNTIF([1]mars!C60:AG60,"x")*1 -> 0 | I11: =COUNTIF([1]janvier!C68:AG68,"X")*1+COUNTIF([1]février!C68:AG68,"x")*1+COUNTIF([1]mars!C68:AG68,"x")*1 -> 0 | J11: =COUNTIF([1]janvier!C76:AG76,"X")*1+COUNTIF([1]février!C76:AG76,"x")*1+COUNTIF([1]mars!C76:AG76,"x")*1 -> 0 | K11: =COUNTIF([1]janvier!C84:AG84,"X")*1+COUNTIF([1]février!C84:AG84,"x")*1+COUNTIF([1]mars!C84:AG84,"x")*1 -> 1
A12: Casse matériel | B12: =COUNTIF([1]janvier!C13:AG13,"X")*1+COUNTIF([1]février!C13:AG13,"X")*1+COUNTIF([1]mars!C13:AG13,"x")*1 -> 0 | C12: =COUNTIF([1]janvier!C21:AG21,"X")*1+COUNTIF([1]février!C21:AG21,"X")*1+COUNTIF([1]mars!C21:AG21,"X")*1 -> 0 | D12: =COUNTIF([1]janvier!C29:AG29,"X")*1+COUNTIF([1]février!C29:AG29,"x")*1+COUNTIF([1]mars!C29:AG29,"x")*1 -> 0 | E12: =COUNTIF([1]janvier!C37:AG37,"X")*1+COUNTIF([1]février!C37:AG37,"x")*1+COUNTIF([1]mars!C37:AG37,"x")*1 -> 0 | F12: =COUNTIF([1]janvier!C45:AG45,"X")*1+COUNTIF([1]février!C45:AG45,"x")*1+COUNTIF([1]mars!C45:AG45,"x")*1 -> 0 | G12: =COUNTIF([1]janvier!C53:AG53,"X")*1+COUNTIF([1]février!C53:AG53,"x")*1+COUNTIF([1]mars!C53:AG53,"x")*1 -> 0 | H12: =COUNTIF([1]janvier!C61:AG61,"X")*1+COUNTIF([1]février!C61:AG61,"x")*1+COUNTIF([1]mars!C61:AG61,"x")*1 -> 0 | I12: =COUNTIF([1]janvier!C69:AG69,"X")*1+COUNTIF([1]février!C69:AG69,"x")*1+COUNTIF([1]mars!C69:AG69,"x")*1 -> 0 | J12: =COUNTIF([1]janvier!C77:AG77,"X")*1+COUNTIF([1]février!C77:AG77,"x")*1+COUNTIF([1]mars!C77:AG77,"x")*1 -> 0 | K12: =COUNTIF([1]janvier!C85:AG85,"X")*1+COUNTIF([1]février!C85:AG85,"x")*1+COUNTIF([1]mars!C85:AG85,"x")*1 -> 0
A13: TOTAL TRIMESTRE | B13: =SUM(B6:B12) -> 0 | C13: =SUM(C6:C12) -> 0 | D13: =SUM(D6:D12) -> 6 | E13: =SUM(E6:E12) -> 0 | F13: =SUM(F6:F12) -> 0 | G13: =SUM(G6:G12) -> 1 | H13: =SUM(H6:H12) -> 0 | I13: =SUM(I6:I12) -> 0 | ... K13: =SUM(K6:K12) -> 2
A15: total note
B18: l | C18: m | D18: n | E18: o | F18: p | G18: q | H18: r | I18: s | J18: t | K18: u
A19: Absence injustifiée | B19: =COUNTIF([1]janvier!C87:AG87,"X")*1+COUNTIF([1]février!C87:AG87,"x")*1+COUNTIF([1]mars!C87:AG87,"x")*1 -> 0 | C19: =COUNTIF([1]janvier!C95:AG95,"X")*1+COUNTIF([1]février!C95:AG95,"x")*1+COUNTIF([1]mars!C95:AG95,"x")*1 -> 0 | D19: =COUNTIF([1]janvier!C103:AG103,"X")*1+COUNTIF([1]février!C103:AG103,"x")*1+COUNTIF([1]mars!C103:AG103,"x")*1 -> 0 | E19: =COUNTIF([1]janvier!C111:AG111,"X")*1+COUNTIF([1]février!C111:AG111,"x")*1+COUNTIF([1]mars!C111:AG111,"x")*1 -> 0 | F19: =COUNTIF([1]janvier!C119:AG119,"X")*1+COUNTIF([1]février!C119:AG119,"x")*1+COUNTIF([1]mars!C119:AG119,"x")*1 -> 0 | G19: =COUNTIF([1]janvier!C127:AG127,"X")*1+COUNTIF([1]février!C127:AG127,"x")*1+COUNTIF([1]mars!C127:AG127,"x")*1 -> 0 | H19: =COUNTIF([1]janvier!C135:AG135,"X")*1+COUNTIF([1]février!C135:AG135,"x")*1+COUNTIF([1]mars!C135:AG135,"x")*1 -> 0 | I19: =COUNTIF([1]janvier!C143:AG143,"X")*1+COUNTIF([1]février!C143:AG143,"x")*1+COUNTIF([1]mars!C143:AG143,"x")*1 -> 0 | J19: =COUNTIF([1]janvier!C151:AG151,"X")*1+COUNTIF([1]février!C151:AG151,"x")*1+COUNTIF([1]mars!C151:AG151,"x")*1 -> 0 | K19: =COUNTIF([1]janvier!C159:AG159,"X")*1+COUNTIF([1]février!C159:AG159,"x")*1+COUNTIF([1]mars!C159:AG159,"x")*1 -> 0
A20: Remplacement et attente | B20: =COUNTIF([1]janvier!C88:AG88,"X")*1+COUNTIF([1]février!C88:AG88,"x")*1+COUNTIF([1]mars!C88:AG88,"x")*1 -> 0 | C20: =COUNTIF([1]janvier!C96:AG96,"X")*1+COUNTIF([1]février!C96:AG96,"x")*1+COUNTIF([1]mars!C96:AG96,"x")*1 -> 0 | D20: =COUNTIF([1]janvier!C104:AG104,"X")*1+COUNTIF([1]février!C104:AG104,"x")*1+COUNTIF([1]mars!C104:AG104,"x")*1 -> 0 | E20: =COUNTIF([1]janvier!C112:AG112,"X")*1+COUNTIF([1]février!C112:AG112,"x")*1+COUNTIF([1]mars!C112:AG112,"x")*1 -> 0 | F20: =COUNTIF([1]janvier!C120:AG120,"X")*1+COUNTIF([1]février!C120:AG120,"x")*1+COUNTIF([1]mars!C120:AG120,"x")*1 -> 1 | G20: =COUNTIF([1]janvier!C128:AG128,"X")*1+COUNTIF([1]février!C128:AG128,"x")*1+COUNTIF([1]mars!C128:AG128,"x")*1 -> 0 | H20: =COUNTIF([1]janvier!C136:AG136,"X")*1+COUNTIF([1]février!C136:AG136,"x")*1+COUNTIF([1]mars!C136:AG136,"x")*1 -> 0 | I20: =COUNTIF([1]janvier!C144:AG144,"X")*1+COUNTIF([1]février!C144:AG144,"x")*1+COUNTIF([1]mars!C144:AG144,"x")*1 -> 0 | J20: =COUNTIF([1]janvier!C152:AG152,"X")*1+COUNTIF([1]février!C152:AG152,"x")*1+COUNTIF([1]mars!C152:AG152,"x")*1 -> 0 | K20: =COUNTIF([1]janvier!C160:AG160,"X")*1+COUNTIF([1]février!C160:AG160,"x")*1+COUNTIF([1]mars!C160:AG160,"x")*1 -> 0
A21: Retard | B21: =COUNTIF([1]janvier!C89:AG89,"X")*1+COUNTIF([1]février!C89:AG89,"x")*1+COUNTIF([1]mars!C89:AG89,"x")*1 -> 0 | C21: =COUNTIF([1]janvier!C97:AG97,"X")*1+COUNTIF([1]février!C97:AG97,"x")*1+COUNTIF([1]mars!C97:AG97,"x")*1 -> 0 | D21: =COUNTIF([1]janvier!C105:AG105,"X")*1+COUNTIF([1]février!C105:AG105,"x")*1+COUNTIF([1]mars!C105:AG105,"x")*1 -> 0 | E21: =COUNTIF([1]janvier!C113:AG113,"X")*1+COUNTIF([1]février!C113:AG113,"x")*1+COUNTIF([1]mars!C113:AG113,"x")*1 -> 0 | F21: =COUNTIF([1]janvier!C121:AG121,"X")*1+COUNTIF([1]février!C121:AG121,"x")*1+COUNTIF([1]mars!C121:AG121,"x")*1 -> 0 | G21: =COUNTIF([1]janvier!C129:AG129,"X")*1+COUNTIF([1]février!C129:AG129,"x")*1+COUNTIF([1]mars!C129:AG129,"x")*1 -> 0 | H21: =COUNTIF([1]janvier!C137:AG137,"X")*1+COUNTIF([1]février!C137:AG137,"x")*1+COUNTIF([1]mars!C137:AG137,"x")*1 -> 1 | I21: =COUNTIF([1]janvier!C145:AG145,"X")*1+COUNTIF([1]février!C145:AG145,"x")*1+COUNTIF([1]mars!C145:AG145,"x")*1 -> 0 | J21: =COUNTIF([1]janvier!C153:AG153,"X")*1+COUNTIF([1]février!C153:AG153,"x")*1+COUNTIF([1]mars!C153:AG153,"x")*1 -> 0 | K21: =COUNTIF([1]janvier!C161:AG161,"X")*1+COUNTIF([1]février!C161:AG161,"x")*1+COUNTIF([1]mars!C161:AG161,"x")*1 -> 3
A22: Non respect des consignes | B22: =COUNTIF([1]janvier!C90:AG90,"X")*1+COUNTIF([1]février!C90:AG90,"x")*1+COUNTIF([1]mars!C90:AG90,"x")*1 -> 0 | C22: =COUNTIF([1]janvier!C98:AG98,"X")*1+COUNTIF([1]février!C98:AG98,"x")*1+COUNTIF([1]mars!C98:AG98,"x")*1 -> 0 | D22: =COUNTIF([1]janvier!C106:AG106,"X")*1+COUNTIF([1]février!C106:AG106,"x")*1+COUNTIF([1]mars!C106:AG106,"x")*1 -> 0 | E22: =COUNTIF([1]janvier!C114:AG114,"X")*1+COUNTIF([1]février!C114:AG114,"x")*1+COUNTIF([1]mars!C114:AG114,"x")*1 -> 0 | F22: =COUNTIF([1]janvier!C122:AG122,"X")*1+COUNTIF([1]février!C122:AG122,"x")*1+COUNTIF([1]mars!C122:AG122,"x")*1 -> 0 | G22: =COUNTIF([1]janvier!C130:AG130,"X")*1+COUNTIF([1]février!C130:AG130,"x")*1+COUNTIF([1]mars!C130:AG130,"x")*1 -> 0 | H22: =COUNTIF([1]janvier!C138:AG138,"X")*1+COUNTIF([1]février!C138:AG138,"x")*1+COUNTIF([1]mars!C138:AG138,"x")*1 -> 0 | I22: =COUNTIF([1]janvier!C146:AG146,"X")*1+COUNTIF([1]février!C146:AG146,"x")*1+COUNTIF([1]mars!C146:AG146,"x")*1 -> 0 | J22: =COUNTIF([1]janvier!C154:AG154,"X")*1+COUNTIF([1]février!C154:AG154,"x")*1+COUNTIF([1]mars!C154:AG154,"x")*1 -> 2 | K22: =COUNTIF([1]janvier!C162:AG162,"X")*1+COUNTIF([1]février!C162:AG162,"x")*1+COUNTIF([1]mars!C162:AG162,"x")*1 -> 2
A23: Tenue non conforme | B23: =COUNTIF([1]janvier!C91:AG91,"X")*1+COUNTIF([1]février!C91:AG91,"x")*1+COUNTIF([1]mars!C91:AG91,"x")*1 -> 0 | C23: =COUNTIF([1]janvier!C99:AG99,"X")*1+COUNTIF([1]février!C99:AG99,"x")*1+COUNTIF([1]mars!C99:AG99,"x")*1 -> 0 | D23: =COUNTIF([1]janvier!C107:AG107,"X")*1+COUNTIF([1]février!C107:AG107,"x")*1+COUNTIF([1]mars!C107:AG107,"x")*1 -> 0 | E23: =COUNTIF([1]janvier!C115:AG115,"X")*1+COUNTIF([1]février!C115:AG115,"x")*1+COUNTIF([1]mars!C115:AG115,"x")*1 -> 0 | F23: =COUNTIF([1]janvier!C123:AG123,"X")*1+COUNTIF([1]février!C123:AG123,"x")*1+COUNTIF([1]mars!C123:AG123,"x")*1 -> 0 | G23: =COUNTIF([1]janvier!C131:AG131,"X")*1+COUNTIF([1]février!C131:AG131,"x")*1+COUNTIF([1]mars!C131:AG131,"x")*1 -> 0 | H23: =COUNTIF([1]janvier!C139:AG139,"X")*1+COUNTIF([1]février!C139:AG139,"x")*1+COUNTIF([1]mars!C139:AG139,"x")*1 -> 0 | I23: =COUNTIF([1]janvier!C147:AG147,"X")*1+COUNTIF([1]février!C147:AG147,"x")*1+COUNTIF([1]mars!C147:AG147,"x")*1 -> 0 | J23: =COUNTIF([1]janvier!C155:AG155,"X")*1+COUNTIF([1]février!C155:AG155,"x")*1+COUNTIF([1]mars!C155:AG155,"x")*1 -> 0 | K23: =COUNTIF([1]janvier!C163:AG163,"X")*1+COUNTIF([1]février!C163:AG163,"x")*1+COUNTIF([1]mars!C163:AG163,"x")*1 -> 0
A24: Perte materiel | B24: =COUNTIF([1]janvier!C92:AG92,"X")*1+COUNTIF([1]février!C92:AG92,"x")*1+COUNTIF([1]mars!C92:AG92,"x")*1 -> 0 | C24: =COUNTIF([1]janvier!C100:AG100,"X")*1+COUNTIF([1]février!C100:AG100,"x")*1+COUNTIF([1]mars!C100:AG100,"x")*1 -> 0 | D24: =COUNTIF([1]janvier!C108:AG108,"X")*1+COUNTIF([1]février!C108:AG108,"x")*1+COUNTIF([1]mars!C108:AG108,"x")*1 -> 0 | E24: =COUNTIF([1]janvier!C116:AG116,"X")*1+COUNTIF([1]février!C116:AG116,"x")*1+COUNTIF([1]mars!C116:AG116,"x")*1 -> 0 | F24: =COUNTIF([1]janvier!C124:AG124,"X")*1+COUNTIF([1]février!C124:AG124,"x")*1+COUNTIF([1]mars!C124:AG124,"x")*1 -> 0 | G24: =COUNTIF([1]janvier!C132:AG132,"X")*1+COUNTIF([1]février!C132:AG132,"x")*1+COUNTIF([1]mars!C132:AG132,"x")*1 -> 0 | H24: =COUNTIF([1]janvier!C140:AG140,"X")*1+COUNTIF([1]février!C140:AG140,"x")*1+COUNTIF([1]mars!C140:AG140,"x")*1 -> 0 | I24: =COUNTIF([1]janvier!C148:AG148,"X")*1+COUNTIF([1]février!C148:AG148,"x")*1+COUNTIF([1]mars!C148:AG148,"x")*1 -> 0 | J24: =COUNTIF([1]janvier!C156:AG156,"X")*1+COUNTIF([1]février!C156:AG156,"x")*1+COUNTIF([1]mars!C156:AG156,"x")*1 -> 0 | K24: =COUNTIF([1]janvier!C164:AG164,"X")*1+COUNTIF([1]février!C164:AG164,"x")*1+COUNTIF([1]mars!C164:AG164,"x")*1 -> 0
A25: Casse matériel | B25: =COUNTIF([1]janvier!C93:AG93,"X")*1+COUNTIF([1]février!C93:AG93,"x")*1+COUNTIF([1]mars!C93:AG93,"x")*1 -> 0 | C25: =COUNTIF([1]janvier!C101:AG101,"X")*1+COUNTIF([1]février!C101:AG101,"x")*1+COUNTIF([1]mars!C101:AG101,"x")*1 -> 0 | D25: =COUNTIF([1]janvier!C109:AG109,"X")*1+COUNTIF([1]février!C109:AG109,"x")*1+COUNTIF([1]mars!C109:AG109,"x")*1 -> 0 | E25: =COUNTIF([1]janvier!C117:AG117,"X")*1+COUNTIF([1]février!C117:AG117,"x")*1+COUNTIF([1]mars!C117:AG117,"x")*1 -> 0 | F25: =COUNTIF([1]janvier!C125:AG125,"X")*1+COUNTIF([1]février!C125:AG125,"x")*1+COUNTIF([1]mars!C125:AG125,"x")*1 -> 0 | G25: =COUNTIF([1]janvier!C133:AG133,"X")*1+COUNTIF([1]février!C133:AG133,"x")*1+COUNTIF([1]mars!C133:AG133,"x")*1 -> 0 | H25: =COUNTIF([1]janvier!C141:AG141,"X")*1+COUNTIF([1]février!C141:AG141,"x")*1+COUNTIF([1]mars!C141:AG141,"x")*1 -> 0 | I25: =COUNTIF([1]janvier!C149:AG149,"X")*1+COUNTIF([1]février!C149:AG149,"x")*1+COUNTIF([1]mars!C149:AG149,"x")*1 -> 0 | J25: =COUNTIF([1]janvier!C157:AG157,"X")*1+COUNTIF([1]février!C157:AG157,"x")*1+COUNTIF([1]mars!C157:AG157,"x")*1 -> 1 | K25: =COUNTIF([1]janvier!C165:AG165,"X")*1+COUNTIF([1]février!C165:AG165,"x")*1+COUNTIF([1]mars!C165:AG165,"x")*1 -> 0
A26: TOTAL TRIMESTRE | B26: =SUM(B19:B25) -> 0 | C26: =SUM(C19:C25) -> 0 | D26: =SUM(D19:D25) -> 0 | E26: =SUM(E19:E25) -> 0 | F26: =SUM(F19:F25) -> 1 | G26: =SUM(G19:G25) -> 0 | H26: =SUM(H19:H25) -> 1 | I26: =SUM(I19:I25) -> 0 | ... K26: =SUM(K19:K25) -> 5
A28: total note
A31: chaque croix mise dans les feuilles précedentes augmente la note ou la diminiue selon la formule
