Workbook

Sheet Résultat
B2: Résultat voulu
C4: 1 | D4: 2 | E4: 3 | F4: 4 | G4: 5 | H4: 6
B5: A | C5: {=INDEX(data!$B$1:$B$18,MIN(IF(data!$C$4:$C$18=C$4,IF(COUNTIF(C$4:C4,data!$B$4:$B$18)=0,ROW(data!$B$4:$B$18)))))&""} -> a | D5: {=INDEX(data!$B$1:$B$18,MIN(IF(data!$C$4:$C$18=D$4,IF(COUNTIF(D$4:D4,data!$B$4:$B$18)=0,ROW(data!$B$4:$B$18)))))&""} -> c | E5: {=INDEX(data!$B$1:$B$18,MIN(IF(data!$C$4:$C$18=E$4,IF(COUNTIF(E$4:E4,data!$B$4:$B$18)=0,ROW(data!$B$4:$B$18)))))&""} -> d | F5: {=INDEX(data!$B$1:$B$18,MIN(IF(data!$C$4:$C$18=F$4,IF(COUNTIF(F$4:F4,data!$B$4:$B$18)=0,ROW(data!$B$4:$B$18)))))&""} -> e | G5: {=INDEX(data!$B$1:$B$18,MIN(IF(data!$C$4:$C$18=G$4,IF(COUNTIF(G$4:G4,data!$B$4:$B$18)=0,ROW(data!$B$4:$B$18)))))&""} -> m | H5: {=INDEX(data!$B$1:$B$18,MIN(IF(data!$C$4:$C$18=H$4,IF(COUNTIF(H$4:H4,data!$B$4:$B$18)=0,ROW(data!$B$4:$B$18)))))&""} -> o
C6: {=INDEX(data!$B$1:$B$18,MIN(IF(data!$C$4:$C$18=C$4,IF(COUNTIF(C$4:C5,data!$B$4:$B$18)=0,ROW(data!$B$4:$B$18)))))&""} -> b | D6: {=INDEX(data!$B$1:$B$18,MIN(IF(data!$C$4:$C$18=D$4,IF(COUNTIF(D$4:D5,data!$B$4:$B$18)=0,ROW(data!$B$4:$B$18)))))&""} -> g | E6: {=INDEX(data!$B$1:$B$18,MIN(IF(data!$C$4:$C$18=E$4,IF(COUNTIF(E$4:E5,data!$B$4:$B$18)=0,ROW(data!$B$4:$B$18)))))&""} -> i | F6: {=INDEX(data!$B$1:$B$18,MIN(IF(data!$C$4:$C$18=F$4,IF(COUNTIF(F$4:F5,data!$B$4:$B$18)=0,ROW(data!$B$4:$B$18)))))&""} -> k | G6: {=INDEX(data!$B$1:$B$18,MIN(IF(data!$C$4:$C$18=G$4,IF(COUNTIF(G$4:G5,data!$B$4:$B$18)=0,ROW(data!$B$4:$B$18)))))&""} -> n | H6: {=INDEX(data!$B$1:$B$18,MIN(IF(data!$C$4:$C$18=H$4,IF(COUNTIF(H$4:H5,data!$B$4:$B$18)=0,ROW(data!$B$4:$B$18)))))&""}
C7: {=INDEX(data!$B$1:$B$18,MIN(IF(data!$C$4:$C$18=C$4,IF(COUNTIF(C$4:C6,data!$B$4:$B$18)=0,ROW(data!$B$4:$B$18)))))&""} -> f | D7: {=INDEX(data!$B$1:$B$18,MIN(IF(data!$C$4:$C$18=D$4,IF(COUNTIF(D$4:D6,data!$B$4:$B$18)=0,ROW(data!$B$4:$B$18)))))&""} -> h | E7: {=INDEX(data!$B$1:$B$18,MIN(IF(data!$C$4:$C$18=E$4,IF(COUNTIF(E$4:E6,data!$B$4:$B$18)=0,ROW(data!$B$4:$B$18)))))&""} -> j | F7: {=INDEX(data!$B$1:$B$18,MIN(IF(data!$C$4:$C$18=F$4,IF(COUNTIF(F$4:F6,data!$B$4:$B$18)=0,ROW(data!$B$4:$B$18)))))&""} | G7: {=INDEX(data!$B$1:$B$18,MIN(IF(data!$C$4:$C$18=G$4,IF(COUNTIF(G$4:G6,data!$B$4:$B$18)=0,ROW(data!$B$4:$B$18)))))&""} | H7: {=INDEX(data!$B$1:$B$18,MIN(IF(data!$C$4:$C$18=H$4,IF(COUNTIF(H$4:H6,data!$B$4:$B$18)=0,ROW(data!$B$4:$B$18)))))&""}
C8: {=INDEX(data!$B$1:$B$18,MIN(IF(data!$C$4:$C$18=C$4,IF(COUNTIF(C$4:C7,data!$B$4:$B$18)=0,ROW(data!$B$4:$B$18)))))&""} -> l | D8: {=INDEX(data!$B$1:$B$18,MIN(IF(data!$C$4:$C$18=D$4,IF(COUNTIF(D$4:D7,data!$B$4:$B$18)=0,ROW(data!$B$4:$B$18)))))&""} | E8: {=INDEX(data!$B$1:$B$18,MIN(IF(data!$C$4:$C$18=E$4,IF(COUNTIF(E$4:E7,data!$B$4:$B$18)=0,ROW(data!$B$4:$B$18)))))&""} | F8: {=INDEX(data!$B$1:$B$18,MIN(IF(data!$C$4:$C$18=F$4,IF(COUNTIF(F$4:F7,data!$B$4:$B$18)=0,ROW(data!$B$4:$B$18)))))&""} | G8: {=INDEX(data!$B$1:$B$18,MIN(IF(data!$C$4:$C$18=G$4,IF(COUNTIF(G$4:G7,data!$B$4:$B$18)=0,ROW(data!$B$4:$B$18)))))&""} | H8: {=INDEX(data!$B$1:$B$18,MIN(IF(data!$C$4:$C$18=H$4,IF(COUNTIF(H$4:H7,data!$B$4:$B$18)=0,ROW(data!$B$4:$B$18)))))&""}

Sheet data
B3: A | C3: B | D3: C | E3: D
B4: a | C4: 1 | D4: 1 | E4: done
B5: b | C5: 1
B6: c | C6: 2
B7: d | C7: 3
B8: e | C8: 4
B9: f | C9: 1
B10: g | C10: 2
B11: h | C11: 2
B12: i | C12: 3
B13: j | C13: 3
B14: k | C14: 4
B15: l | C15: 1
B16: m | C16: 5
... B18: o | C18: 6
