Workbook
Name loire_atlantique.html?tx_obladygesthand_pi1_5Bcompetition_id_5D_16405_cHash_e163c26e075a5f3601e653937f3f0c29: Feuil1!$A$1:$J$717

Sheet Feuil1
A1: Arbitrage et Services
A3: Fédération française de Handball - On est tous Handballeurs
A5: FFHB
A6: Equipes de France
A7: Pratiquer
A8: Compétitions
A9: DTN
A10: Sites dédiés
A11: Vos outils
A13: Présentation
A14: Composition
A15: Histoire
... A148: Statistiques joueurs
B150: Équipes | C150: Pts | D150: J | E150: G | F150: Nuls | G150: P | H150: Buts + | I150: Buts - | J150: Diff
A151: 1 | B151: RACC NANTES 2 | C151: 40 | D151: 14 | E151: 13 | F151: 0 | G151: 1 | H151: 420 | I151: 307 | J151: 113
A152: 2 | B152: FANS HB LIGNE 2 | C152: 34 | D152: 14 | E152: 10 | F152: 0 | G152: 4 | H152: 358 | I152: 339 | J152: 19
A153: 3 | B153: HIRONDELLE ST YO HB 2 | C153: 33 | D153: 14 | E153: 9 | F153: 1 | G153: 4 | H153: 403 | I153: 339 | J153: 64
A154: 4 | B154: AL PORTERIE AC HANDBALL | C154: 32 | D154: 14 | E154: 9 | F154: 0 | G154: 5 | H154: 349 | I154: 336 | J154: 13
A155: 5 | B155: ASC LA MONTAGNE | C155: 30 | D155: 14 | E155: 8 | F155: 0 | G155: 6 | H155: 359 | I155: 346 | J155: 13
A156: 6 | B156: ASPTT NANTES 2 | C156: 30 | D156: 14 | E156: 7 | F156: 2 | G156: 5 | H156: 352 | I156: 323 | J156: 29
A157: 7 | B157: AL CHATEAUBRIANT | C157: 28 | D157: 14 | E157: 6 | F157: 2 | G157: 6 | H157: 364 | I157: 373 | J157: -9
A158: 8 | B158: THOUARE HANDBALL CLUB | C158: 24 | D158: 14 | E158: 5 | F158: 0 | G158: 9 | H158: 311 | I158: 346 | J158: -35
A159: 9 | B159: TRIGNAC HANDBALL 3 | C159: 24 | D159: 14 | E159: 4 | F159: 2 | G159: 8 | H159: 322 | I159: 368 | J159: -46
A160: 10 | B160: CHABOSSIERE OLYMPIQUE CLUB HB 2 | C160: 24 | D160: 14 | E160: 4 | F160: 2 | G160: 8 | H160: 356 | I160: 381 | J160: -25
A161: 11 | B161: HANDBALL CLISSON | C161: 23 | D161: 14 | E161: 4 | F161: 1 | G161: 9 | H161: 328 | I161: 361 | J161: -33
A162: 12 | B162: ASAG HAYE FOUASSIERE | C162: 14 | D162: 14 | E162: 0 | F162: 0 | G162: 14 | H162: 292 | I162: 395 | J162: -103
A164: Replier
A166: Journée 1 du 10/09/2012 au 16/09/2012
A168: 41167 | B168: 22 HIRONDELLE ST YO HB 2 | C168: arbitrage | D168: FDM | E168: info
A169: 0.79166667
B170: 26 AL PORTERIE AC HANDBALL
A171: 41167 | B171: 19 THOUARE HANDBALL CLUB | C171: arbitrage | D171: FDM | E171: info
A172: 0.79166667
B173: 25 TRIGNAC HANDBALL 3
A174: 27/10/2012 (R) | B174: 22 CHABOSSIERE OLYMPIQUE CLUB HB 2 | C174: arbitrage | D174: FDM | E174: info
A175: 0.91666667
B176: 22 AL CHATEAUBRIANT
A177: 41167 | B177: 29 ASAG HAYE FOUASSIERE | C177: arbitrage | D177: FDM | E177: info
A178: 0.79166667
B179: 32 ASPTT NANTES 2
A180: 41167 | B180: 31 RACC NANTES 2 | C180: arbitrage | D180: FDM | E180: info
A181: 0.79166667
B182: 23 FANS HB LIGNE 2
A183: 41167 | B183: 20 HANDBALL CLISSON | C183: arbitrage | D183: FDM | E183: info
A184: 0.79166667
B185: 19 ASC LA MONTAGNE
A187: Journée 2 du 17/09/2012 au 23/09/2012
A189: 41174 | B189: 23 ASC LA MONTAGNE | C189: arbitrage | D189: FDM | E189: info
A190: 0.875
B191: 42 RACC NANTES 2
A192: 41174 | B192: 24 FANS HB LIGNE 2 | C192: arbitrage | D192: FDM | E192: info
A193: 0.79166667
B194: 20 TRIGNAC HANDBALL 3
A195: 41174 | B195: 30 THOUARE HANDBALL CLUB | C195: arbitrage | D195: FDM | E195: info
A196: 0.79166667
B197: 23 ASAG HAYE FOUASSIERE
A198: 41175 | B198: 24 ASPTT NANTES 2 | C198: arbitrage | D198: FDM | E198: info
A199: 0.66666667
B200: 24 CHABOSSIERE OLYMPIQUE CLUB HB 2
A201: 41174 | B201: 26 AL CHATEAUBRIANT | C201: arbitrage | D201: FDM | E201: info
A202: 0.89583333
B203: 31 HIRONDELLE ST YO HB 2
A204: 41174 | B204: 18 AL PORTERIE AC HANDBALL | C204: arbitrage | D204: FDM | E204: info
A205: 0.79166667
B206: 37 HANDBALL CLISSON
A208: Journée 3 du 01/10/2012 au 07/10/2012
A210: 41188 | B210: 25 ASC LA MONTAGNE | C210: arbitrage | D210: FDM | E210: info
A211: 0.85416667
B212: 24 AL PORTERIE AC HANDBALL
A213: 06/10/2012 (R) | B213: 33 HIRONDELLE ST YO HB 2 | C213: arbitrage | D213: FDM | E213: info
A214: 0.875
B215: 33 ASPTT NANTES 2
A216: 41188 | B216: 18 CHABOSSIERE OLYMPIQUE CLUB HB 2 | C216: arbitrage | D216: FDM | E216: info
A217: 0.91666667
B218: 30 THOUARE HANDBALL CLUB
A219: 41188 | B219: 20 ASAG HAYE FOUASSIERE | C219: arbitrage | D219: FDM | E219: info
A220: 0.79166667
B221: 28 FANS HB LIGNE 2
A222: 41188 | B222: 23 TRIGNAC HANDBALL 3 | C222: arbitrage | D222: FDM | E222: info
A223: 0.79166667
B224: 41 RACC NANTES 2
A225: 41188 | B225: 20 HANDBALL CLISSON | C225: arbitrage | D225: FDM | E225: info
A226: 0.79166667
B227: 27 AL CHATEAUBRIANT
A229: Journée 4 du 08/10/2012 au 14/10/2012
A231: 41195 | B231: 32 FANS HB LIGNE 2 | C231: arbitrage | D231: FDM | E231: info
A232: 0.79166667
B233: 30 CHABOSSIERE OLYMPIQUE CLUB HB 2
A234: 13/10/2012 (R) | B234: 19 THOUARE HANDBALL CLUB | C234: arbitrage | D234: FDM | E234: info
A235: 0.875
B236: 28 HIRONDELLE ST YO HB 2
A237: 41196 | B237: 23 ASPTT NANTES 2 | C237: arbitrage | D237: FDM | E237: info
A238: 0.66666667
B239: 16 HANDBALL CLISSON
A240: 41195 | B240: 28 AL CHATEAUBRIANT | C240: arbitrage | D240: FDM | E240: info
A241: 0.89583333
B242: 32 AL PORTERIE AC HANDBALL
A243: 41195 | B243: 23 TRIGNAC HANDBALL 3 | C243: arbitrage | D243: FDM | E243: info
A244: 0.91666667
B245: 33 ASC LA MONTAGNE
...

Sheet Feuil2
C2: CLASSEMENT
C3: =Feuil1!B150 -> Équipes | D3: =Feuil1!C150 -> Pts | E3: =Feuil1!D150 -> J | F3: =Feuil1!E150 -> G | G3: =Feuil1!F150 -> Nuls | H3: =Feuil1!G150 -> P | I3: =Feuil1!H150 -> Buts + | J3: =Feuil1!I150 -> Buts - | K3: =Feuil1!J150 -> Diff
B4: =Feuil1!A151 -> 1 | C4: =Feuil1!B151 -> RACC NANTES 2 | D4: =Feuil1!C151 -> 40 | E4: =Feuil1!D151 -> 14 | F4: =Feuil1!E151 -> 13 | G4: =Feuil1!F151 -> 0 | H4: =Feuil1!G151 -> 1 | I4: =Feuil1!H151 -> 420 | ... K4: =Feuil1!J151 -> 113
B5: =Feuil1!A152 -> 2 | C5: =Feuil1!B152 -> FANS HB LIGNE 2 | D5: =Feuil1!C152 -> 34 | E5: =Feuil1!D152 -> 14 | F5: =Feuil1!E152 -> 10 | G5: =Feuil1!F152 -> 0 | H5: =Feuil1!G152 -> 4 | I5: =Feuil1!H152 -> 358 | ... K5: =Feuil1!J152 -> 19
B6: =Feuil1!A153 -> 3 | C6: =Feuil1!B153 -> HIRONDELLE ST YO HB 2 | D6: =Feuil1!C153 -> 33 | E6: =Feuil1!D153 -> 14 | F6: =Feuil1!E153 -> 9 | G6: =Feuil1!F153 -> 1 | H6: =Feuil1!G153 -> 4 | I6: =Feuil1!H153 -> 403 | ... K6: =Feuil1!J153 -> 64
B7: =Feuil1!A154 -> 4 | C7: =Feuil1!B154 -> AL PORTERIE AC HANDBALL | D7: =Feuil1!C154 -> 32 | E7: =Feuil1!D154 -> 14 | F7: =Feuil1!E154 -> 9 | G7: =Feuil1!F154 -> 0 | H7: =Feuil1!G154 -> 5 | I7: =Feuil1!H154 -> 349 | ... K7: =Feuil1!J154 -> 13
B8: =Feuil1!A155 -> 5 | C8: =Feuil1!B155 -> ASC LA MONTAGNE | D8: =Feuil1!C155 -> 30 | E8: =Feuil1!D155 -> 14 | F8: =Feuil1!E155 -> 8 | G8: =Feuil1!F155 -> 0 | H8: =Feuil1!G155 -> 6 | I8: =Feuil1!H155 -> 359 | ... K8: =Feuil1!J155 -> 13
B9: =Feuil1!A156 -> 6 | C9: =Feuil1!B156 -> ASPTT NANTES 2 | D9: =Feuil1!C156 -> 30 | E9: =Feuil1!D156 -> 14 | F9: =Feuil1!E156 -> 7 | G9: =Feuil1!F156 -> 2 | H9: =Feuil1!G156 -> 5 | I9: =Feuil1!H156 -> 352 | ... K9: =Feuil1!J156 -> 29
B10: =Feuil1!A157 -> 7 | C10: =Feuil1!B157 -> AL CHATEAUBRIANT | D10: =Feuil1!C157 -> 28 | E10: =Feuil1!D157 -> 14 | F10: =Feuil1!E157 -> 6 | G10: =Feuil1!F157 -> 2 | H10: =Feuil1!G157 -> 6 | I10: =Feuil1!H157 -> 364 | ... K10: =Feuil1!J157 -> -9
B11: =Feuil1!A158 -> 8 | C11: =Feuil1!B158 -> THOUARE HANDBALL CLUB | D11: =Feuil1!C158 -> 24 | E11: =Feuil1!D158 -> 14 | F11: =Feuil1!E158 -> 5 | G11: =Feuil1!F158 -> 0 | H11: =Feuil1!G158 -> 9 | I11: =Feuil1!H158 -> 311 | ... K11: =Feuil1!J158 -> -35
B12: =Feuil1!A159 -> 9 | C12: =Feuil1!B159 -> TRIGNAC HANDBALL 3 | D12: =Feuil1!C159 -> 24 | E12: =Feuil1!D159 -> 14 | F12: =Feuil1!E159 -> 4 | G12: =Feuil1!F159 -> 2 | H12: =Feuil1!G159 -> 8 | I12: =Feuil1!H159 -> 322 | ... K12: =Feuil1!J159 -> -46
B13: =Feuil1!A160 -> 10 | C13: =Feuil1!B160 -> CHABOSSIERE OLYMPIQUE CLUB HB 2 | D13: =Feuil1!C160 -> 24 | E13: =Feuil1!D160 -> 14 | F13: =Feuil1!E160 -> 4 | G13: =Feuil1!F160 -> 2 | H13: =Feuil1!G160 -> 8 | I13: =Feuil1!H160 -> 356 | ... K13: =Feuil1!J160 -> -25
B14: =Feuil1!A161 -> 11 | C14: =Feuil1!B161 -> HANDBALL CLISSON | D14: =Feuil1!C161 -> 23 | E14: =Feuil1!D161 -> 14 | F14: =Feuil1!E161 -> 4 | G14: =Feuil1!F161 -> 1 | H14: =Feuil1!G161 -> 9 | I14: =Feuil1!H161 -> 328 | ... K14: =Feuil1!J161 -> -33
B15: =Feuil1!A162 -> 12 | C15: =Feuil1!B162 -> ASAG HAYE FOUASSIERE | D15: =Feuil1!C162 -> 14 | E15: =Feuil1!D162 -> 14 | F15: =Feuil1!E162 -> 0 | G15: =Feuil1!F162 -> 0 | H15: =Feuil1!G162 -> 14 | I15: =Feuil1!H162 -> 292 | ... K15: =Feuil1!J162 -> -103

Sheet Feuil3
A2: résultats
A3: journée | B3: date | C3: heure | D3: domicile | E3: score domicile | F3: score visiteur | G3: visisteur
