Workbook

Sheet REF
A1: REF Variable FIXE
A4: INFORMATIONS
A5: Coût communication a la minute | B5: 0.04
A6: Limite du dépassement (hh:mm) | B6: 0.125
A8: TARIFS MENSUELS
A9: Cout Abonnement | B9: 1
A10: Cout Forfait CC & CD | B10: 6
A11: Cout Forfait ASS | B11: 15
A12: Cout Forfait CIR | B12: 15
A13: Cout Forfait CAR | B13: 6
A18: Cout Carte Jumelle | B18: 6
A21: LISTE DEROULANTE
A22: code | B22: Signification | C22: Contrôle
A23: ASS | B23: Associé | C23: Non
A24: CC | B24: Chargé Clientèle | C24: Oui
A25: CD | B25: Chargé Dossier | C25: Oui
A26: CIR | B26: Correspondant Informatique Régional | C26: Non
A27: DIV | B27: Autres Fonctions | C27: Non

Sheet Cholet
A1: Nom | B1: Prénom | C1: Numéro | D1: Fonction | E1: Date d'ouverture ligne | F1: Date achat Carte Jumelle | G1: Cout abonnement | H1: Temps de communication (HH:MM) | AR1: Cout opérations diverses (€) | CB1: TOTAL ANNUEL
H2: 41121 | N2: 41122 | T2: 41153 | Z2: 41183 | AF2: 41214 | AL2: 41244 | AR2: 41275 | AX2: 41306 | BD2: 41334 | BJ2: 41365 | BP2: 41395 | BV2: 41426 | CB2: Temps Comm | CC2: Opé Diverse
A3: d | D3: ASS | E3: 40946 | G3: =IF(A3="","",IF(D3="ASS",REF!B$11+REF!B$9,IF(D3="CC",REF!B$10+REF!B$9,IF(D3="CIR",REF!B$12+REF!B$9,IF(D3="CD",REF!B$10+REF!B$9,IF(D3="DIV",REF!B$13+REF!B$9,"erreur")))))) -> 16 | I3: =(HOUR(H3)*60)+MINUTE(H3) -> 0 | J3: =IF(H$2>E3,G3,0) -> 16 | K3: =IF(F3="","",IF(F3<H$2,REF!$B$18,"")) | L3: =IF((H3>=REF!$B$6),(IF(H3="","",IF(OR(D3="ASS",$D3="CIR",$D3=""),"",IF(OR($D3="CC",$D3="CD",$D3="DIV"),H3-(3/24),"")))),"") | O3: =(HOUR(N3)*60)+MINUTE(N3) -> 0 | P3: =IF(N$2>E3,G3,0) -> 16 | Q3: =IF(F3="","",IF(F3<N$2,REF!$B$18,"")) | R3: =IF((N3>=REF!$B$6),(IF(N3="","",IF(OR(J3="ASS",$D3="CIR",$D3=""),"",IF(OR($D3="CC",$D3="CD",$D3="DIV"),N3-(3/24),"")))),"") | U3: =(HOUR(T3)*60)+MINUTE(T3) -> 0 | V3: =IF(T$2>E3,G3,0) -> 16 | W3: =IF(F3="","",IF(F3<T$2,REF!$B$18,"")) | X3: =IF((T3>=REF!$B$6),(IF(T3="","",IF(OR(P3="ASS",$D3="CIR",$D3=""),"",IF(OR($D3="CC",$D3="CD",$D3="DIV"),T3-(3/24),"")))),"") | AA3: =(HOUR(Z3)*60)+MINUTE(Z3) -> 0 | AB3: =IF(Z$2>E3,G3,0) -> 16 | AC3: =IF(F3="","",IF(F3<Z$2,REF!$B$18,"")) | AD3: =IF((Z3>=REF!$B$6),(IF(Z3="","",IF(OR(V3="ASS",$D3="CIR",$D3=""),"",IF(OR($D3="CC",$D3="CD",$D3="DIV"),Z3-(3/24),"")))),"") | AG3: =(HOUR(AF3)*60)+MINUTE(AF3) -> 0 | AH3: =IF(AF$2>E3,G3,0) -> 16 | AI3: =IF(F3="","",IF(F3<AF$2,REF!$B$18,"")) | AJ3: =IF((AF3>=REF!$B$6),(IF(AF3="","",IF(OR(AB3="ASS",$D3="CIR",$D3=""),"",IF(OR($D3="CC",$D3="CD",$D3="DIV"),AF3-(3/24),"")))),"") | AM3: =(HOUR(AL3)*60)+MINUTE(AL3) -> 0 | AN3: =IF(AL$2>E3,G3,0) -> 16 | AO3: =IF(F3="","",IF(F3<AL$2,REF!$B$18,"")) | AP3: =IF((AL3>=REF!$B$6),(IF(AL3="","",IF(OR(AH3="ASS",$D3="CIR",$D3=""),"",IF(OR($D3="CC",$D3="CD",$D3="DIV"),AL3-(3/24),"")))),"") | AS3: =(HOUR(AR3)*60)+MINUTE(AR3) -> 0 | AT3: =IF(AR$2>E3,G3,0) -> 16 | AU3: =IF(F3="","",IF(F3<AR$2,REF!$B$18,"")) | AV3: =IF((AR3>=REF!$B$6),(IF(AR3="","",IF(OR(AN3="ASS",$D3="CIR",$D3=""),"",IF(OR($D3="CC",$D3="CD",$D3="DIV"),AR3-(3/24),"")))),"") | AY3: =(HOUR(AX3)*60)+MINUTE(AX3) -> 0 | AZ3: =IF(AX$2>E3,G3,0) -> 16 | BA3: =IF(F3="","",IF(F3<AX$2,REF!$B$18,"")) | BB3: =IF((AX3>=REF!$B$6),(IF(AX3="","",IF(OR(AT3="ASS",$D3="CIR",$D3=""),"",IF(OR($D3="CC",$D3="CD",$D3="DIV"),AX3-(3/24),"")))),"") | BE3: =(HOUR(BD3)*60)+MINUTE(BD3) -> 0 | BF3: =IF(BD$2>E3,G3,0) -> 16 | BG3: =IF(F3="","",IF(F3<BD$2,REF!$B$18,"")) | BH3: =IF((BD3>=REF!$B$6),(IF(BD3="","",IF(OR(AZ3="ASS",$D3="CIR",$D3=""),"",IF(OR($D3="CC",$D3="CD",$D3="DIV"),BD3-(3/24),"")))),"") | BK3: =(HOUR(BJ3)*60)+MINUTE(BJ3) -> 0 | BL3: =IF(BJ$2>E3,G3,0) -> 16 | BM3: =IF(F3="","",IF(F3<BJ$2,REF!$B$18,"")) | BN3: =IF((BJ3>=REF!$B$6),(IF(BJ3="","",IF(OR(BF3="ASS",$D3="CIR",$D3=""),"",IF(OR($D3="CC",$D3="CD",$D3="DIV"),BJ3-(3/24),"")))),"") | BQ3: =(HOUR(BP3)*60)+MINUTE(BP3) -> 0 | BR3: =IF(BP$2>E3,G3,0) -> 16 | BS3: =IF(F3="","",IF(F3<BP$2,REF!$B$18,"")) | BT3: =IF((BP3>=REF!$B$6),(IF(BP3="","",IF(OR(BL3="ASS",$D3="CIR",$D3=""),"",IF(OR($D3="CC",$D3="CD",$D3="DIV"),BP3-(3/24),"")))),"") | BW3: =(HOUR(BV3)*60)+MINUTE(BV3) -> 0 | BX3: =IF(BV$2>E3,G3,0) -> 16 | BY3: =IF(F3="","",IF(F3<BV$2,REF!$B$18,"")) | BZ3: =IF((BV3>=REF!$B$6),(IF(BV3="","",IF(OR(BR3="ASS",$D3="CIR",$D3=""),"",IF(OR($D3="CC",$D3="CD",$D3="DIV"),BV3-(3/24),"")))),"") | CB3: =SUM(H3,N3,T3,Z3,AF3,AL3,AR3,AX3,BD3,BJ3,BP3,BV3) -> 0 | CC3: =SUM(M3,S3,Y3,AE3,AK3,AQ3,AW3,BC3,BI3,BO3,BU3,CA3) -> 0
A4: d | D4: ASS | E4: 40948 | F4: 41081 | G4: =IF(A4="","",IF(D4="ASS",REF!B$11+REF!B$9,IF(D4="CC",REF!B$10+REF!B$9,IF(D4="CIR",REF!B$12+REF!B$9,IF(D4="CD",REF!B$10+REF!B$9,IF(D4="DIV",REF!B$13+REF!B$9,"erreur")))))) -> 16 | I4: =(HOUR(H4)*60)+MINUTE(H4) -> 0 | J4: =IF(H$2>E4,G4,0) -> 16 | K4: =IF(F4="","",IF(F4<H$2,REF!$B$18,"")) -> 6 | L4: =IF((H4>=REF!$B$6),(IF(H4="","",IF(OR(D4="ASS",$D4="CIR",$D4=""),"",IF(OR($D4="CC",$D4="CD",$D4="DIV"),H4-(3/24),"")))),"") | O4: =(HOUR(N4)*60)+MINUTE(N4) -> 0 | P4: =IF(N$2>E4,G4,0) -> 16 | Q4: =IF(F4="","",IF(F4<N$2,REF!$B$18,"")) -> 6 | R4: =IF((N4>=REF!$B$6),(IF(N4="","",IF(OR(J4="ASS",$D4="CIR",$D4=""),"",IF(OR($D4="CC",$D4="CD",$D4="DIV"),N4-(3/24),"")))),"") | U4: =(HOUR(T4)*60)+MINUTE(T4) -> 0 | V4: =IF(T$2>E4,G4,0) -> 16 | W4: =IF(F4="","",IF(F4<T$2,REF!$B$18,"")) -> 6 | X4: =IF((T4>=REF!$B$6),(IF(T4="","",IF(OR(P4="ASS",$D4="CIR",$D4=""),"",IF(OR($D4="CC",$D4="CD",$D4="DIV"),T4-(3/24),"")))),"") | AA4: =(HOUR(Z4)*60)+MINUTE(Z4) -> 0 | AB4: =IF(Z$2>E4,G4,0) -> 16 | AC4: =IF(F4="","",IF(F4<Z$2,REF!$B$18,"")) -> 6 | AD4: =IF((Z4>=REF!$B$6),(IF(Z4="","",IF(OR(V4="ASS",$D4="CIR",$D4=""),"",IF(OR($D4="CC",$D4="CD",$D4="DIV"),Z4-(3/24),"")))),"") | AG4: =(HOUR(AF4)*60)+MINUTE(AF4) -> 0 | AH4: =IF(AF$2>E4,G4,0) -> 16 | AI4: =IF(F4="","",IF(F4<AF$2,REF!$B$18,"")) -> 6 | AJ4: =IF((AF4>=REF!$B$6),(IF(AF4="","",IF(OR(AB4="ASS",$D4="CIR",$D4=""),"",IF(OR($D4="CC",$D4="CD",$D4="DIV"),AF4-(3/24),"")))),"") | AM4: =(HOUR(AL4)*60)+MINUTE(AL4) -> 0 | AN4: =IF(AL$2>E4,G4,0) -> 16 | AO4: =IF(F4="","",IF(F4<AL$2,REF!$B$18,"")) -> 6 | AP4: =IF((AL4>=REF!$B$6),(IF(AL4="","",IF(OR(AH4="ASS",$D4="CIR",$D4=""),"",IF(OR($D4="CC",$D4="CD",$D4="DIV"),AL4-(3/24),"")))),"") | AS4: =(HOUR(AR4)*60)+MINUTE(AR4) -> 0 | AT4: =IF(AR$2>E4,G4,0) -> 16 | AU4: =IF(F4="","",IF(F4<AR$2,REF!$B$18,"")) -> 6 | AV4: =IF((AR4>=REF!$B$6),(IF(AR4="","",IF(OR(AN4="ASS",$D4="CIR",$D4=""),"",IF(OR($D4="CC",$D4="CD",$D4="DIV"),AR4-(3/24),"")))),"") | AY4: =(HOUR(AX4)*60)+MINUTE(AX4) -> 0 | AZ4: =IF(AX$2>E4,G4,0) -> 16 | BA4: =IF(F4="","",IF(F4<AX$2,REF!$B$18,"")) -> 6 | BB4: =IF((AX4>=REF!$B$6),(IF(AX4="","",IF(OR(AT4="ASS",$D4="CIR",$D4=""),"",IF(OR($D4="CC",$D4="CD",$D4="DIV"),AX4-(3/24),"")))),"") | BE4: =(HOUR(BD4)*60)+MINUTE(BD4) -> 0 | BF4: =IF(BD$2>E4,G4,0) -> 16 | BG4: =IF(F4="","",IF(F4<BD$2,REF!$B$18,"")) -> 6 | BH4: =IF((BD4>=REF!$B$6),(IF(BD4="","",IF(OR(AZ4="ASS",$D4="CIR",$D4=""),"",IF(OR($D4="CC",$D4="CD",$D4="DIV"),BD4-(3/24),"")))),"") | BK4: =(HOUR(BJ4)*60)+MINUTE(BJ4) -> 0 | BL4: =IF(BJ$2>E4,G4,0) -> 16 | BM4: =IF(F4="","",IF(F4<BJ$2,REF!$B$18,"")) -> 6 | BN4: =IF((BJ4>=REF!$B$6),(IF(BJ4="","",IF(OR(BF4="ASS",$D4="CIR",$D4=""),"",IF(OR($D4="CC",$D4="CD",$D4="DIV"),BJ4-(3/24),"")))),"") | BQ4: =(HOUR(BP4)*60)+MINUTE(BP4) -> 0 | BR4: =IF(BP$2>E4,G4,0) -> 16 | BS4: =IF(F4="","",IF(F4<BP$2,REF!$B$18,"")) -> 6 | BT4: =IF((BP4>=REF!$B$6),(IF(BP4="","",IF(OR(BL4="ASS",$D4="CIR",$D4=""),"",IF(OR($D4="CC",$D4="CD",$D4="DIV"),BP4-(3/24),"")))),"") | BW4: =(HOUR(BV4)*60)+MINUTE(BV4) -> 0 | BX4: =IF(BV$2>E4,G4,0) -> 16 | BY4: =IF(F4="","",IF(F4<BV$2,REF!$B$18,"")) -> 6 | BZ4: =IF((BV4>=REF!$B$6),(IF(BV4="","",IF(OR(BR4="ASS",$D4="CIR",$D4=""),"",IF(OR($D4="CC",$D4="CD",$D4="DIV"),BV4-(3/24),"")))),"") | CB4: =SUM(H4,N4,T4,Z4,AF4,AL4,AR4,AX4,BD4,BJ4,BP4,BV4) -> 0 | CC4: =SUM(M4,S4,Y4,AE4,AK4,AQ4,AW4,BC4,BI4,BO4,BU4,CA4) -> 0
A5: xcbv | D5: CC | G5: =IF(A5="","",IF(D5="ASS",REF!B$11+REF!B$9,IF(D5="CC",REF!B$10+REF!B$9,IF(D5="CIR",REF!B$12+REF!B$9,IF(D5="CD",REF!B$10+REF!B$9,IF(D5="DIV",REF!B$13+REF!B$9,"erreur")))))) -> 7 | I5: =(HOUR(H5)*60)+MINUTE(H5) -> 0 | J5: =IF(H$2>E5,G5,0) -> 7 | K5: =IF(F5="","",IF(F5<H$2,REF!$B$18,"")) | L5: =IF((H5>=REF!$B$6),(IF(H5="","",IF(OR(D5="ASS",$D5="CIR",$D5=""),"",IF(OR($D5="CC",$D5="CD",$D5="DIV"),H5-(3/24),"")))),"") | O5: =(HOUR(N5)*60)+MINUTE(N5) -> 0 | P5: =IF(N$2>E5,G5,0) -> 7 | Q5: =IF(F5="","",IF(F5<N$2,REF!$B$18,"")) | R5: =IF((N5>=REF!$B$6),(IF(N5="","",IF(OR(J5="ASS",$D5="CIR",$D5=""),"",IF(OR($D5="CC",$D5="CD",$D5="DIV"),N5-(3/24),"")))),"") | U5: =(HOUR(T5)*60)+MINUTE(T5) -> 0 | V5: =IF(T$2>E5,G5,0) -> 7 | W5: =IF(F5="","",IF(F5<T$2,REF!$B$18,"")) | X5: =IF((T5>=REF!$B$6),(IF(T5="","",IF(OR(P5="ASS",$D5="CIR",$D5=""),"",IF(OR($D5="CC",$D5="CD",$D5="DIV"),T5-(3/24),"")))),"") | AA5: =(HOUR(Z5)*60)+MINUTE(Z5) -> 0 | AB5: =IF(Z$2>E5,G5,0) -> 7 | AC5: =IF(F5="","",IF(F5<Z$2,REF!$B$18,"")) | AD5: =IF((Z5>=REF!$B$6),(IF(Z5="","",IF(OR(V5="ASS",$D5="CIR",$D5=""),"",IF(OR($D5="CC",$D5="CD",$D5="DIV"),Z5-(3/24),"")))),"") | AG5: =(HOUR(AF5)*60)+MINUTE(AF5) -> 0 | AH5: =IF(AF$2>E5,G5,0) -> 7 | AI5: =IF(F5="","",IF(F5<AF$2,REF!$B$18,"")) | AJ5: =IF((AF5>=REF!$B$6),(IF(AF5="","",IF(OR(AB5="ASS",$D5="CIR",$D5=""),"",IF(OR($D5="CC",$D5="CD",$D5="DIV"),AF5-(3/24),"")))),"") | AM5: =(HOUR(AL5)*60)+MINUTE(AL5) -> 0 | AN5: =IF(AL$2>E5,G5,0) -> 7 | AO5: =IF(F5="","",IF(F5<AL$2,REF!$B$18,"")) | AP5: =IF((AL5>=REF!$B$6),(IF(AL5="","",IF(OR(AH5="ASS",$D5="CIR",$D5=""),"",IF(OR($D5="CC",$D5="CD",$D5="DIV"),AL5-(3/24),"")))),"") | AS5: =(HOUR(AR5)*60)+MINUTE(AR5) -> 0 | AT5: =IF(AR$2>E5,G5,0) -> 7 | AU5: =IF(F5="","",IF(F5<AR$2,REF!$B$18,"")) | AV5: =IF((AR5>=REF!$B$6),(IF(AR5="","",IF(OR(AN5="ASS",$D5="CIR",$D5=""),"",IF(OR($D5="CC",$D5="CD",$D5="DIV"),AR5-(3/24),"")))),"") | AY5: =(HOUR(AX5)*60)+MINUTE(AX5) -> 0 | AZ5: =IF(AX$2>E5,G5,0) -> 7 | BA5: =IF(F5="","",IF(F5<AX$2,REF!$B$18,"")) | BB5: =IF((AX5>=REF!$B$6),(IF(AX5="","",IF(OR(AT5="ASS",$D5="CIR",$D5=""),"",IF(OR($D5="CC",$D5="CD",$D5="DIV"),AX5-(3/24),"")))),"") | BE5: =(HOUR(BD5)*60)+MINUTE(BD5) -> 0 | BF5: =IF(BD$2>E5,G5,0) -> 7 | BG5: =IF(F5="","",IF(F5<BD$2,REF!$B$18,"")) | BH5: =IF((BD5>=REF!$B$6),(IF(BD5="","",IF(OR(AZ5="ASS",$D5="CIR",$D5=""),"",IF(OR($D5="CC",$D5="CD",$D5="DIV"),BD5-(3/24),"")))),"") | BK5: =(HOUR(BJ5)*60)+MINUTE(BJ5) -> 0 | BL5: =IF(BJ$2>E5,G5,0) -> 7 | BM5: =IF(F5="","",IF(F5<BJ$2,REF!$B$18,"")) | BN5: =IF((BJ5>=REF!$B$6),(IF(BJ5="","",IF(OR(BF5="ASS",$D5="CIR",$D5=""),"",IF(OR($D5="CC",$D5="CD",$D5="DIV"),BJ5-(3/24),"")))),"") | BQ5: =(HOUR(BP5)*60)+MINUTE(BP5) -> 0 | BR5: =IF(BP$2>E5,G5,0) -> 7 | BS5: =IF(F5="","",IF(F5<BP$2,REF!$B$18,"")) | BT5: =IF((BP5>=REF!$B$6),(IF(BP5="","",IF(OR(BL5="ASS",$D5="CIR",$D5=""),"",IF(OR($D5="CC",$D5="CD",$D5="DIV"),BP5-(3/24),"")))),"") | BW5: =(HOUR(BV5)*60)+MINUTE(BV5) -> 0 | BX5: =IF(BV$2>E5,G5,0) -> 7 | BY5: =IF(F5="","",IF(F5<BV$2,REF!$B$18,"")) | BZ5: =IF((BV5>=REF!$B$6),(IF(BV5="","",IF(OR(BR5="ASS",$D5="CIR",$D5=""),"",IF(OR($D5="CC",$D5="CD",$D5="DIV"),BV5-(3/24),"")))),"") | CB5: =SUM(H5,N5,T5,Z5,AF5,AL5,AR5,AX5,BD5,BJ5,BP5,BV5) -> 0 | CC5: =SUM(M5,S5,Y5,AE5,AK5,AQ5,AW5,BC5,BI5,BO5,BU5,CA5) -> 0
A6: d | D6: ASS | E6: 40945 | G6: =IF(A6="","",IF(D6="ASS",REF!B$11+REF!B$9,IF(D6="CC",REF!B$10+REF!B$9,IF(D6="CIR",REF!B$12+REF!B$9,IF(D6="CD",REF!B$10+REF!B$9,IF(D6="DIV",REF!B$13+REF!B$9,"erreur")))))) -> 16 | I6: =(HOUR(H6)*60)+MINUTE(H6) -> 0 | J6: =IF(H$2>E6,G6,0) -> 16 | K6: =IF(F6="","",IF(F6<H$2,REF!$B$18,"")) | L6: =IF((H6>=REF!$B$6),(IF(H6="","",IF(OR(D6="ASS",$D6="CIR",$D6=""),"",IF(OR($D6="CC",$D6="CD",$D6="DIV"),H6-(3/24),"")))),"") | O6: =(HOUR(N6)*60)+MINUTE(N6) -> 0 | P6: =IF(N$2>E6,G6,0) -> 16 | Q6: =IF(F6="","",IF(F6<N$2,REF!$B$18,"")) | R6: =IF((N6>=REF!$B$6),(IF(N6="","",IF(OR(J6="ASS",$D6="CIR",$D6=""),"",IF(OR($D6="CC",$D6="CD",$D6="DIV"),N6-(3/24),"")))),"") | U6: =(HOUR(T6)*60)+MINUTE(T6) -> 0 | V6: =IF(T$2>E6,G6,0) -> 16 | W6: =IF(F6="","",IF(F6<T$2,REF!$B$18,"")) | X6: =IF((T6>=REF!$B$6),(IF(T6="","",IF(OR(P6="ASS",$D6="CIR",$D6=""),"",IF(OR($D6="CC",$D6="CD",$D6="DIV"),T6-(3/24),"")))),"") | AA6: =(HOUR(Z6)*60)+MINUTE(Z6) -> 0 | AB6: =IF(Z$2>E6,G6,0) -> 16 | AC6: =IF(F6="","",IF(F6<Z$2,REF!$B$18,"")) | AD6: =IF((Z6>=REF!$B$6),(IF(Z6="","",IF(OR(V6="ASS",$D6="CIR",$D6=""),"",IF(OR($D6="CC",$D6="CD",$D6="DIV"),Z6-(3/24),"")))),"") | AG6: =(HOUR(AF6)*60)+MINUTE(AF6) -> 0 | AH6: =IF(AF$2>E6,G6,0) -> 16 | AI6: =IF(F6="","",IF(F6<AF$2,REF!$B$18,"")) | AJ6: =IF((AF6>=REF!$B$6),(IF(AF6="","",IF(OR(AB6="ASS",$D6="CIR",$D6=""),"",IF(OR($D6="CC",$D6="CD",$D6="DIV"),AF6-(3/24),"")))),"") | AM6: =(HOUR(AL6)*60)+MINUTE(AL6) -> 0 | AN6: =IF(AL$2>E6,G6,0) -> 16 | AO6: =IF(F6="","",IF(F6<AL$2,REF!$B$18,"")) | AP6: =IF((AL6>=REF!$B$6),(IF(AL6="","",IF(OR(AH6="ASS",$D6="CIR",$D6=""),"",IF(OR($D6="CC",$D6="CD",$D6="DIV"),AL6-(3/24),"")))),"") | AS6: =(HOUR(AR6)*60)+MINUTE(AR6) -> 0 | AT6: =IF(AR$2>E6,G6,0) -> 16 | AU6: =IF(F6="","",IF(F6<AR$2,REF!$B$18,"")) | AV6: =IF((AR6>=REF!$B$6),(IF(AR6="","",IF(OR(AN6="ASS",$D6="CIR",$D6=""),"",IF(OR($D6="CC",$D6="CD",$D6="DIV"),AR6-(3/24),"")))),"") | AY6: =(HOUR(AX6)*60)+MINUTE(AX6) -> 0 | AZ6: =IF(AX$2>E6,G6,0) -> 16 | BA6: =IF(F6="","",IF(F6<AX$2,REF!$B$18,"")) | BB6: =IF((AX6>=REF!$B$6),(IF(AX6="","",IF(OR(AT6="ASS",$D6="CIR",$D6=""),"",IF(OR($D6="CC",$D6="CD",$D6="DIV"),AX6-(3/24),"")))),"") | BE6: =(HOUR(BD6)*60)+MINUTE(BD6) -> 0 | BF6: =IF(BD$2>E6,G6,0) -> 16 | BG6: =IF(F6="","",IF(F6<BD$2,REF!$B$18,"")) | BH6: =IF((BD6>=REF!$B$6),(IF(BD6="","",IF(OR(AZ6="ASS",$D6="CIR",$D6=""),"",IF(OR($D6="CC",$D6="CD",$D6="DIV"),BD6-(3/24),"")))),"") | BK6: =(HOUR(BJ6)*60)+MINUTE(BJ6) -> 0 | BL6: =IF(BJ$2>E6,G6,0) -> 16 | BM6: =IF(F6="","",IF(F6<BJ$2,REF!$B$18,"")) | BN6: =IF((BJ6>=REF!$B$6),(IF(BJ6="","",IF(OR(BF6="ASS",$D6="CIR",$D6=""),"",IF(OR($D6="CC",$D6="CD",$D6="DIV"),BJ6-(3/24),"")))),"") | BQ6: =(HOUR(BP6)*60)+MINUTE(BP6) -> 0 | BR6: =IF(BP$2>E6,G6,0) -> 16 | BS6: =IF(F6="","",IF(F6<BP$2,REF!$B$18,"")) | BT6: =IF((BP6>=REF!$B$6),(IF(BP6="","",IF(OR(BL6="ASS",$D6="CIR",$D6=""),"",IF(OR($D6="CC",$D6="CD",$D6="DIV"),BP6-(3/24),"")))),"") | BW6: =(HOUR(BV6)*60)+MINUTE(BV6) -> 0 | BX6: =IF(BV$2>E6,G6,0) -> 16 | BY6: =IF(F6="","",IF(F6<BV$2,REF!$B$18,"")) | BZ6: =IF((BV6>=REF!$B$6),(IF(BV6="","",IF(OR(BR6="ASS",$D6="CIR",$D6=""),"",IF(OR($D6="CC",$D6="CD",$D6="DIV"),BV6-(3/24),"")))),"") | CB6: =SUM(H6,N6,T6,Z6,AF6,AL6,AR6,AX6,BD6,BJ6,BP6,BV6) -> 0 | CC6: =SUM(M6,S6,Y6,AE6,AK6,AQ6,AW6,BC6,BI6,BO6,BU6,CA6) -> 0
A7: d | D7: ASS | E7: 40940 | G7: =IF(A7="","",IF(D7="ASS",REF!B$11+REF!B$9,IF(D7="CC",REF!B$10+REF!B$9,IF(D7="CIR",REF!B$12+REF!B$9,IF(D7="CD",REF!B$10+REF!B$9,IF(D7="DIV",REF!B$13+REF!B$9,"erreur")))))) -> 16 | I7: =(HOUR(H7)*60)+MINUTE(H7) -> 0 | J7: =IF(H$2>E7,G7,0) -> 16 | K7: =IF(F7="","",IF(F7<H$2,REF!$B$18,"")) | L7: =IF((H7>=REF!$B$6),(IF(H7="","",IF(OR(D7="ASS",$D7="CIR",$D7=""),"",IF(OR($D7="CC",$D7="CD",$D7="DIV"),H7-(3/24),"")))),"") | O7: =(HOUR(N7)*60)+MINUTE(N7) -> 0 | P7: =IF(N$2>E7,G7,0) -> 16 | Q7: =IF(F7="","",IF(F7<N$2,REF!$B$18,"")) | R7: =IF((N7>=REF!$B$6),(IF(N7="","",IF(OR(J7="ASS",$D7="CIR",$D7=""),"",IF(OR($D7="CC",$D7="CD",$D7="DIV"),N7-(3/24),"")))),"") | U7: =(HOUR(T7)*60)+MINUTE(T7) -> 0 | V7: =IF(T$2>E7,G7,0) -> 16 | W7: =IF(F7="","",IF(F7<T$2,REF!$B$18,"")) | X7: =IF((T7>=REF!$B$6),(IF(T7="","",IF(OR(P7="ASS",$D7="CIR",$D7=""),"",IF(OR($D7="CC",$D7="CD",$D7="DIV"),T7-(3/24),"")))),"") | AA7: =(HOUR(Z7)*60)+MINUTE(Z7) -> 0 | AB7: =IF(Z$2>E7,G7,0) -> 16 | AC7: =IF(F7="","",IF(F7<Z$2,REF!$B$18,"")) | AD7: =IF((Z7>=REF!$B$6),(IF(Z7="","",IF(OR(V7="ASS",$D7="CIR",$D7=""),"",IF(OR($D7="CC",$D7="CD",$D7="DIV"),Z7-(3/24),"")))),"") | AG7: =(HOUR(AF7)*60)+MINUTE(AF7) -> 0 | AH7: =IF(AF$2>E7,G7,0) -> 16 | AI7: =IF(F7="","",IF(F7<AF$2,REF!$B$18,"")) | AJ7: =IF((AF7>=REF!$B$6),(IF(AF7="","",IF(OR(AB7="ASS",$D7="CIR",$D7=""),"",IF(OR($D7="CC",$D7="CD",$D7="DIV"),AF7-(3/24),"")))),"") | AM7: =(HOUR(AL7)*60)+MINUTE(AL7) -> 0 | AN7: =IF(AL$2>E7,G7,0) -> 16 | AO7: =IF(F7="","",IF(F7<AL$2,REF!$B$18,"")) | AP7: =IF((AL7>=REF!$B$6),(IF(AL7="","",IF(OR(AH7="ASS",$D7="CIR",$D7=""),"",IF(OR($D7="CC",$D7="CD",$D7="DIV"),AL7-(3/24),"")))),"") | AS7: =(HOUR(AR7)*60)+MINUTE(AR7) -> 0 | AT7: =IF(AR$2>E7,G7,0) -> 16 | AU7: =IF(F7="","",IF(F7<AR$2,REF!$B$18,"")) | AV7: =IF((AR7>=REF!$B$6),(IF(AR7="","",IF(OR(AN7="ASS",$D7="CIR",$D7=""),"",IF(OR($D7="CC",$D7="CD",$D7="DIV"),AR7-(3/24),"")))),"") | AY7: =(HOUR(AX7)*60)+MINUTE(AX7) -> 0 | AZ7: =IF(AX$2>E7,G7,0) -> 16 | BA7: =IF(F7="","",IF(F7<AX$2,REF!$B$18,"")) | BB7: =IF((AX7>=REF!$B$6),(IF(AX7="","",IF(OR(AT7="ASS",$D7="CIR",$D7=""),"",IF(OR($D7="CC",$D7="CD",$D7="DIV"),AX7-(3/24),"")))),"") | BE7: =(HOUR(BD7)*60)+MINUTE(BD7) -> 0 | BF7: =IF(BD$2>E7,G7,0) -> 16 | BG7: =IF(F7="","",IF(F7<BD$2,REF!$B$18,"")) | BH7: =IF((BD7>=REF!$B$6),(IF(BD7="","",IF(OR(AZ7="ASS",$D7="CIR",$D7=""),"",IF(OR($D7="CC",$D7="CD",$D7="DIV"),BD7-(3/24),"")))),"") | BK7: =(HOUR(BJ7)*60)+MINUTE(BJ7) -> 0 | BL7: =IF(BJ$2>E7,G7,0) -> 16 | BM7: =IF(F7="","",IF(F7<BJ$2,REF!$B$18,"")) | BN7: =IF((BJ7>=REF!$B$6),(IF(BJ7="","",IF(OR(BF7="ASS",$D7="CIR",$D7=""),"",IF(OR($D7="CC",$D7="CD",$D7="DIV"),BJ7-(3/24),"")))),"") | BQ7: =(HOUR(BP7)*60)+MINUTE(BP7) -> 0 | BR7: =IF(BP$2>E7,G7,0) -> 16 | BS7: =IF(F7="","",IF(F7<BP$2,REF!$B$18,"")) | BT7: =IF((BP7>=REF!$B$6),(IF(BP7="","",IF(OR(BL7="ASS",$D7="CIR",$D7=""),"",IF(OR($D7="CC",$D7="CD",$D7="DIV"),BP7-(3/24),"")))),"") | BW7: =(HOUR(BV7)*60)+MINUTE(BV7) -> 0 | BX7: =IF(BV$2>E7,G7,0) -> 16 | BY7: =IF(F7="","",IF(F7<BV$2,REF!$B$18,"")) | BZ7: =IF((BV7>=REF!$B$6),(IF(BV7="","",IF(OR(BR7="ASS",$D7="CIR",$D7=""),"",IF(OR($D7="CC",$D7="CD",$D7="DIV"),BV7-(3/24),"")))),"") | CB7: =SUM(H7,N7,T7,Z7,AF7,AL7,AR7,AX7,BD7,BJ7,BP7,BV7) -> 0 | CC7: =SUM(M7,S7,Y7,AE7,AK7,AQ7,AW7,BC7,BI7,BO7,BU7,CA7) -> 0
A8: d | D8: ASS | E8: 40950 | G8: =IF(A8="","",IF(D8="ASS",REF!B$11+REF!B$9,IF(D8="CC",REF!B$10+REF!B$9,IF(D8="CIR",REF!B$12+REF!B$9,IF(D8="CD",REF!B$10+REF!B$9,IF(D8="DIV",REF!B$13+REF!B$9,"erreur")))))) -> 16 | I8: =(HOUR(H8)*60)+MINUTE(H8) -> 0 | J8: =IF(H$2>E8,G8,0) -> 16 | K8: =IF(F8="","",IF(F8<H$2,REF!$B$18,"")) | L8: =IF((H8>=REF!$B$6),(IF(H8="","",IF(OR(D8="ASS",$D8="CIR",$D8=""),"",IF(OR($D8="CC",$D8="CD",$D8="DIV"),H8-(3/24),"")))),"") | O8: =(HOUR(N8)*60)+MINUTE(N8) -> 0 | P8: =IF(N$2>E8,G8,0) -> 16 | Q8: =IF(F8="","",IF(F8<N$2,REF!$B$18,"")) | R8: =IF((N8>=REF!$B$6),(IF(N8="","",IF(OR(J8="ASS",$D8="CIR",$D8=""),"",IF(OR($D8="CC",$D8="CD",$D8="DIV"),N8-(3/24),"")))),"") | U8: =(HOUR(T8)*60)+MINUTE(T8) -> 0 | V8: =IF(T$2>E8,G8,0) -> 16 | W8: =IF(F8="","",IF(F8<T$2,REF!$B$18,"")) | X8: =IF((T8>=REF!$B$6),(IF(T8="","",IF(OR(P8="ASS",$D8="CIR",$D8=""),"",IF(OR($D8="CC",$D8="CD",$D8="DIV"),T8-(3/24),"")))),"") | AA8: =(HOUR(Z8)*60)+MINUTE(Z8) -> 0 | AB8: =IF(Z$2>E8,G8,0) -> 16 | AC8: =IF(F8="","",IF(F8<Z$2,REF!$B$18,"")) | AD8: =IF((Z8>=REF!$B$6),(IF(Z8="","",IF(OR(V8="ASS",$D8="CIR",$D8=""),"",IF(OR($D8="CC",$D8="CD",$D8="DIV"),Z8-(3/24),"")))),"") | AG8: =(HOUR(AF8)*60)+MINUTE(AF8) -> 0 | AH8: =IF(AF$2>E8,G8,0) -> 16 | AI8: =IF(F8="","",IF(F8<AF$2,REF!$B$18,"")) | AJ8: =IF((AF8>=REF!$B$6),(IF(AF8="","",IF(OR(AB8="ASS",$D8="CIR",$D8=""),"",IF(OR($D8="CC",$D8="CD",$D8="DIV"),AF8-(3/24),"")))),"") | AM8: =(HOUR(AL8)*60)+MINUTE(AL8) -> 0 | AN8: =IF(AL$2>E8,G8,0) -> 16 | AO8: =IF(F8="","",IF(F8<AL$2,REF!$B$18,"")) | AP8: =IF((AL8>=REF!$B$6),(IF(AL8="","",IF(OR(AH8="ASS",$D8="CIR",$D8=""),"",IF(OR($D8="CC",$D8="CD",$D8="DIV"),AL8-(3/24),"")))),"") | AS8: =(HOUR(AR8)*60)+MINUTE(AR8) -> 0 | AT8: =IF(AR$2>E8,G8,0) -> 16 | AU8: =IF(F8="","",IF(F8<AR$2,REF!$B$18,"")) | AV8: =IF((AR8>=REF!$B$6),(IF(AR8="","",IF(OR(AN8="ASS",$D8="CIR",$D8=""),"",IF(OR($D8="CC",$D8="CD",$D8="DIV"),AR8-(3/24),"")))),"") | AY8: =(HOUR(AX8)*60)+MINUTE(AX8) -> 0 | AZ8: =IF(AX$2>E8,G8,0) -> 16 | BA8: =IF(F8="","",IF(F8<AX$2,REF!$B$18,"")) | BB8: =IF((AX8>=REF!$B$6),(IF(AX8="","",IF(OR(AT8="ASS",$D8="CIR",$D8=""),"",IF(OR($D8="CC",$D8="CD",$D8="DIV"),AX8-(3/24),"")))),"") | BE8: =(HOUR(BD8)*60)+MINUTE(BD8) -> 0 | BF8: =IF(BD$2>E8,G8,0) -> 16 | BG8: =IF(F8="","",IF(F8<BD$2,REF!$B$18,"")) | BH8: =IF((BD8>=REF!$B$6),(IF(BD8="","",IF(OR(AZ8="ASS",$D8="CIR",$D8=""),"",IF(OR($D8="CC",$D8="CD",$D8="DIV"),BD8-(3/24),"")))),"") | BK8: =(HOUR(BJ8)*60)+MINUTE(BJ8) -> 0 | BL8: =IF(BJ$2>E8,G8,0) -> 16 | BM8: =IF(F8="","",IF(F8<BJ$2,REF!$B$18,"")) | BN8: =IF((BJ8>=REF!$B$6),(IF(BJ8="","",IF(OR(BF8="ASS",$D8="CIR",$D8=""),"",IF(OR($D8="CC",$D8="CD",$D8="DIV"),BJ8-(3/24),"")))),"") | BQ8: =(HOUR(BP8)*60)+MINUTE(BP8) -> 0 | BR8: =IF(BP$2>E8,G8,0) -> 16 | BS8: =IF(F8="","",IF(F8<BP$2,REF!$B$18,"")) | BT8: =IF((BP8>=REF!$B$6),(IF(BP8="","",IF(OR(BL8="ASS",$D8="CIR",$D8=""),"",IF(OR($D8="CC",$D8="CD",$D8="DIV"),BP8-(3/24),"")))),"") | BW8: =(HOUR(BV8)*60)+MINUTE(BV8) -> 0 | BX8: =IF(BV$2>E8,G8,0) -> 16 | BY8: =IF(F8="","",IF(F8<BV$2,REF!$B$18,"")) | BZ8: =IF((BV8>=REF!$B$6),(IF(BV8="","",IF(OR(BR8="ASS",$D8="CIR",$D8=""),"",IF(OR($D8="CC",$D8="CD",$D8="DIV"),BV8-(3/24),"")))),"") | CB8: =SUM(H8,N8,T8,Z8,AF8,AL8,AR8,AX8,BD8,BJ8,BP8,BV8) -> 0 | CC8: =SUM(M8,S8,Y8,AE8,AK8,AQ8,AW8,BC8,BI8,BO8,BU8,CA8) -> 0
A9: d | D9: CIR | E9: 40947 | G9: =IF(A9="","",IF(D9="ASS",REF!B$11+REF!B$9,IF(D9="CC",REF!B$10+REF!B$9,IF(D9="CIR",REF!B$12+REF!B$9,IF(D9="CD",REF!B$10+REF!B$9,IF(D9="DIV",REF!B$13+REF!B$9,"erreur")))))) -> 16 | I9: =(HOUR(H9)*60)+MINUTE(H9) -> 0 | J9: =IF(H$2>E9,G9,0) -> 16 | K9: =IF(F9="","",IF(F9<H$2,REF!$B$18,"")) | L9: =IF((H9>=REF!$B$6),(IF(H9="","",IF(OR(D9="ASS",$D9="CIR",$D9=""),"",IF(OR($D9="CC",$D9="CD",$D9="DIV"),H9-(3/24),"")))),"") | O9: =(HOUR(N9)*60)+MINUTE(N9) -> 0 | P9: =IF(N$2>E9,G9,0) -> 16 | Q9: =IF(F9="","",IF(F9<N$2,REF!$B$18,"")) | R9: =IF((N9>=REF!$B$6),(IF(N9="","",IF(OR(J9="ASS",$D9="CIR",$D9=""),"",IF(OR($D9="CC",$D9="CD",$D9="DIV"),N9-(3/24),"")))),"") | U9: =(HOUR(T9)*60)+MINUTE(T9) -> 0 | V9: =IF(T$2>E9,G9,0) -> 16 | W9: =IF(F9="","",IF(F9<T$2,REF!$B$18,"")) | X9: =IF((T9>=REF!$B$6),(IF(T9="","",IF(OR(P9="ASS",$D9="CIR",$D9=""),"",IF(OR($D9="CC",$D9="CD",$D9="DIV"),T9-(3/24),"")))),"") | AA9: =(HOUR(Z9)*60)+MINUTE(Z9) -> 0 | AB9: =IF(Z$2>E9,G9,0) -> 16 | AC9: =IF(F9="","",IF(F9<Z$2,REF!$B$18,"")) | AD9: =IF((Z9>=REF!$B$6),(IF(Z9="","",IF(OR(V9="ASS",$D9="CIR",$D9=""),"",IF(OR($D9="CC",$D9="CD",$D9="DIV"),Z9-(3/24),"")))),"") | AG9: =(HOUR(AF9)*60)+MINUTE(AF9) -> 0 | AH9: =IF(AF$2>E9,G9,0) -> 16 | AI9: =IF(F9="","",IF(F9<AF$2,REF!$B$18,"")) | AJ9: =IF((AF9>=REF!$B$6),(IF(AF9="","",IF(OR(AB9="ASS",$D9="CIR",$D9=""),"",IF(OR($D9="CC",$D9="CD",$D9="DIV"),AF9-(3/24),"")))),"") | AM9: =(HOUR(AL9)*60)+MINUTE(AL9) -> 0 | AN9: =IF(AL$2>E9,G9,0) -> 16 | AO9: =IF(F9="","",IF(F9<AL$2,REF!$B$18,"")) | AP9: =IF((AL9>=REF!$B$6),(IF(AL9="","",IF(OR(AH9="ASS",$D9="CIR",$D9=""),"",IF(OR($D9="CC",$D9="CD",$D9="DIV"),AL9-(3/24),"")))),"") | AS9: =(HOUR(AR9)*60)+MINUTE(AR9) -> 0 | AT9: =IF(AR$2>E9,G9,0) -> 16 | AU9: =IF(F9="","",IF(F9<AR$2,REF!$B$18,"")) | AV9: =IF((AR9>=REF!$B$6),(IF(AR9="","",IF(OR(AN9="ASS",$D9="CIR",$D9=""),"",IF(OR($D9="CC",$D9="CD",$D9="DIV"),AR9-(3/24),"")))),"") | AY9: =(HOUR(AX9)*60)+MINUTE(AX9) -> 0 | AZ9: =IF(AX$2>E9,G9,0) -> 16 | BA9: =IF(F9="","",IF(F9<AX$2,REF!$B$18,"")) | BB9: =IF((AX9>=REF!$B$6),(IF(AX9="","",IF(OR(AT9="ASS",$D9="CIR",$D9=""),"",IF(OR($D9="CC",$D9="CD",$D9="DIV"),AX9-(3/24),"")))),"") | BE9: =(HOUR(BD9)*60)+MINUTE(BD9) -> 0 | BF9: =IF(BD$2>E9,G9,0) -> 16 | BG9: =IF(F9="","",IF(F9<BD$2,REF!$B$18,"")) | BH9: =IF((BD9>=REF!$B$6),(IF(BD9="","",IF(OR(AZ9="ASS",$D9="CIR",$D9=""),"",IF(OR($D9="CC",$D9="CD",$D9="DIV"),BD9-(3/24),"")))),"") | BK9: =(HOUR(BJ9)*60)+MINUTE(BJ9) -> 0 | BL9: =IF(BJ$2>E9,G9,0) -> 16 | BM9: =IF(F9="","",IF(F9<BJ$2,REF!$B$18,"")) | BN9: =IF((BJ9>=REF!$B$6),(IF(BJ9="","",IF(OR(BF9="ASS",$D9="CIR",$D9=""),"",IF(OR($D9="CC",$D9="CD",$D9="DIV"),BJ9-(3/24),"")))),"") | BQ9: =(HOUR(BP9)*60)+MINUTE(BP9) -> 0 | BR9: =IF(BP$2>E9,G9,0) -> 16 | BS9: =IF(F9="","",IF(F9<BP$2,REF!$B$18,"")) | BT9: =IF((BP9>=REF!$B$6),(IF(BP9="","",IF(OR(BL9="ASS",$D9="CIR",$D9=""),"",IF(OR($D9="CC",$D9="CD",$D9="DIV"),BP9-(3/24),"")))),"") | BW9: =(HOUR(BV9)*60)+MINUTE(BV9) -> 0 | BX9: =IF(BV$2>E9,G9,0) -> 16 | BY9: =IF(F9="","",IF(F9<BV$2,REF!$B$18,"")) | BZ9: =IF((BV9>=REF!$B$6),(IF(BV9="","",IF(OR(BR9="ASS",$D9="CIR",$D9=""),"",IF(OR($D9="CC",$D9="CD",$D9="DIV"),BV9-(3/24),"")))),"") | CB9: =SUM(H9,N9,T9,Z9,AF9,AL9,AR9,AX9,BD9,BJ9,BP9,BV9) -> 0 | CC9: =SUM(M9,S9,Y9,AE9,AK9,AQ9,AW9,BC9,BI9,BO9,BU9,CA9) -> 0
A10: d | D10: DIV | E10: 40954 | F10: 41180 | G10: =IF(A10="","",IF(D10="ASS",REF!B$11+REF!B$9,IF(D10="CC",REF!B$10+REF!B$9,IF(D10="CIR",REF!B$12+REF!B$9,IF(D10="CD",REF!B$10+REF!B$9,IF(D10="DIV",REF!B$13+REF!B$9,"erreur")))))) -> 7 | I10: =(HOUR(H10)*60)+MINUTE(H10) -> 0 | J10: =IF(H$2>E10,G10,0) -> 7 | K10: =IF(F10="","",IF(F10<H$2,REF!$B$18,"")) | L10: =IF((H10>=REF!$B$6),(IF(H10="","",IF(OR(D10="ASS",$D10="CIR",$D10=""),"",IF(OR($D10="CC",$D10="CD",$D10="DIV"),H10-(3/24),"")))),"") | O10: =(HOUR(N10)*60)+MINUTE(N10) -> 0 | P10: =IF(N$2>E10,G10,0) -> 7 | Q10: =IF(F10="","",IF(F10<N$2,REF!$B$18,"")) | R10: =IF((N10>=REF!$B$6),(IF(N10="","",IF(OR(J10="ASS",$D10="CIR",$D10=""),"",IF(OR($D10="CC",$D10="CD",$D10="DIV"),N10-(3/24),"")))),"") | U10: =(HOUR(T10)*60)+MINUTE(T10) -> 0 | V10: =IF(T$2>E10,G10,0) -> 7 | W10: =IF(F10="","",IF(F10<T$2,REF!$B$18,"")) | X10: =IF((T10>=REF!$B$6),(IF(T10="","",IF(OR(P10="ASS",$D10="CIR",$D10=""),"",IF(OR($D10="CC",$D10="CD",$D10="DIV"),T10-(3/24),"")))),"") | AA10: =(HOUR(Z10)*60)+MINUTE(Z10) -> 0 | AB10: =IF(Z$2>E10,G10,0) -> 7 | AC10: =IF(F10="","",IF(F10<Z$2,REF!$B$18,"")) -> 6 | AD10: =IF((Z10>=REF!$B$6),(IF(Z10="","",IF(OR(V10="ASS",$D10="CIR",$D10=""),"",IF(OR($D10="CC",$D10="CD",$D10="DIV"),Z10-(3/24),"")))),"") | AG10: =(HOUR(AF10)*60)+MINUTE(AF10) -> 0 | AH10: =IF(AF$2>E10,G10,0) -> 7 | AI10: =IF(F10="","",IF(F10<AF$2,REF!$B$18,"")) -> 6 | AJ10: =IF((AF10>=REF!$B$6),(IF(AF10="","",IF(OR(AB10="ASS",$D10="CIR",$D10=""),"",IF(OR($D10="CC",$D10="CD",$D10="DIV"),AF10-(3/24),"")))),"") | AM10: =(HOUR(AL10)*60)+MINUTE(AL10) -> 0 | AN10: =IF(AL$2>E10,G10,0) -> 7 | AO10: =IF(F10="","",IF(F10<AL$2,REF!$B$18,"")) -> 6 | AP10: =IF((AL10>=REF!$B$6),(IF(AL10="","",IF(OR(AH10="ASS",$D10="CIR",$D10=""),"",IF(OR($D10="CC",$D10="CD",$D10="DIV"),AL10-(3/24),"")))),"") | AS10: =(HOUR(AR10)*60)+MINUTE(AR10) -> 0 | AT10: =IF(AR$2>E10,G10,0) -> 7 | AU10: =IF(F10="","",IF(F10<AR$2,REF!$B$18,"")) -> 6 | AV10: =IF((AR10>=REF!$B$6),(IF(AR10="","",IF(OR(AN10="ASS",$D10="CIR",$D10=""),"",IF(OR($D10="CC",$D10="CD",$D10="DIV"),AR10-(3/24),"")))),"") | AY10: =(HOUR(AX10)*60)+MINUTE(AX10) -> 0 | AZ10: =IF(AX$2>E10,G10,0) -> 7 | BA10: =IF(F10="","",IF(F10<AX$2,REF!$B$18,"")) -> 6 | BB10: =IF((AX10>=REF!$B$6),(IF(AX10="","",IF(OR(AT10="ASS",$D10="CIR",$D10=""),"",IF(OR($D10="CC",$D10="CD",$D10="DIV"),AX10-(3/24),"")))),"") | BE10: =(HOUR(BD10)*60)+MINUTE(BD10) -> 0 | BF10: =IF(BD$2>E10,G10,0) -> 7 | BG10: =IF(F10="","",IF(F10<BD$2,REF!$B$18,"")) -> 6 | BH10: =IF((BD10>=REF!$B$6),(IF(BD10="","",IF(OR(AZ10="ASS",$D10="CIR",$D10=""),"",IF(OR($D10="CC",$D10="CD",$D10="DIV"),BD10-(3/24),"")))),"") | BK10: =(HOUR(BJ10)*60)+MINUTE(BJ10) -> 0 | BL10: =IF(BJ$2>E10,G10,0) -> 7 | BM10: =IF(F10="","",IF(F10<BJ$2,REF!$B$18,"")) -> 6 | BN10: =IF((BJ10>=REF!$B$6),(IF(BJ10="","",IF(OR(BF10="ASS",$D10="CIR",$D10=""),"",IF(OR($D10="CC",$D10="CD",$D10="DIV"),BJ10-(3/24),"")))),"") | BQ10: =(HOUR(BP10)*60)+MINUTE(BP10) -> 0 | BR10: =IF(BP$2>E10,G10,0) -> 7 | BS10: =IF(F10="","",IF(F10<BP$2,REF!$B$18,"")) -> 6 | BT10: =IF((BP10>=REF!$B$6),(IF(BP10="","",IF(OR(BL10="ASS",$D10="CIR",$D10=""),"",IF(OR($D10="CC",$D10="CD",$D10="DIV"),BP10-(3/24),"")))),"") | BW10: =(HOUR(BV10)*60)+MINUTE(BV10) -> 0 | BX10: =IF(BV$2>E10,G10,0) -> 7 | BY10: =IF(F10="","",IF(F10<BV$2,REF!$B$18,"")) -> 6 | BZ10: =IF((BV10>=REF!$B$6),(IF(BV10="","",IF(OR(BR10="ASS",$D10="CIR",$D10=""),"",IF(OR($D10="CC",$D10="CD",$D10="DIV"),BV10-(3/24),"")))),"") | CB10: =SUM(H10,N10,T10,Z10,AF10,AL10,AR10,AX10,BD10,BJ10,BP10,BV10) -> 0 | CC10: =SUM(M10,S10,Y10,AE10,AK10,AQ10,AW10,BC10,BI10,BO10,BU10,CA10) -> 0
A11: d | D11: CC | E11: 40943 | G11: =IF(A11="","",IF(D11="ASS",REF!B$11+REF!B$9,IF(D11="CC",REF!B$10+REF!B$9,IF(D11="CIR",REF!B$12+REF!B$9,IF(D11="CD",REF!B$10+REF!B$9,IF(D11="DIV",REF!B$13+REF!B$9,"erreur")))))) -> 7 | I11: =(HOUR(H11)*60)+MINUTE(H11) -> 0 | J11: =IF(H$2>E11,G11,0) -> 7 | K11: =IF(F11="","",IF(F11<H$2,REF!$B$18,"")) | L11: =IF((H11>=REF!$B$6),(IF(H11="","",IF(OR(D11="ASS",$D11="CIR",$D11=""),"",IF(OR($D11="CC",$D11="CD",$D11="DIV"),H11-(3/24),"")))),"") | O11: =(HOUR(N11)*60)+MINUTE(N11) -> 0 | P11: =IF(N$2>E11,G11,0) -> 7 | Q11: =IF(F11="","",IF(F11<N$2,REF!$B$18,"")) | R11: =IF((N11>=REF!$B$6),(IF(N11="","",IF(OR(J11="ASS",$D11="CIR",$D11=""),"",IF(OR($D11="CC",$D11="CD",$D11="DIV"),N11-(3/24),"")))),"") | U11: =(HOUR(T11)*60)+MINUTE(T11) -> 0 | V11: =IF(T$2>E11,G11,0) -> 7 | W11: =IF(F11="","",IF(F11<T$2,REF!$B$18,"")) | X11: =IF((T11>=REF!$B$6),(IF(T11="","",IF(OR(P11="ASS",$D11="CIR",$D11=""),"",IF(OR($D11="CC",$D11="CD",$D11="DIV"),T11-(3/24),"")))),"") | AA11: =(HOUR(Z11)*60)+MINUTE(Z11) -> 0 | AB11: =IF(Z$2>E11,G11,0) -> 7 | AC11: =IF(F11="","",IF(F11<Z$2,REF!$B$18,"")) | AD11: =IF((Z11>=REF!$B$6),(IF(Z11="","",IF(OR(V11="ASS",$D11="CIR",$D11=""),"",IF(OR($D11="CC",$D11="CD",$D11="DIV"),Z11-(3/24),"")))),"") | AG11: =(HOUR(AF11)*60)+MINUTE(AF11) -> 0 | AH11: =IF(AF$2>E11,G11,0) -> 7 | AI11: =IF(F11="","",IF(F11<AF$2,REF!$B$18,"")) | AJ11: =IF((AF11>=REF!$B$6),(IF(AF11="","",IF(OR(AB11="ASS",$D11="CIR",$D11=""),"",IF(OR($D11="CC",$D11="CD",$D11="DIV"),AF11-(3/24),"")))),"") | AM11: =(HOUR(AL11)*60)+MINUTE(AL11) -> 0 | AN11: =IF(AL$2>E11,G11,0) -> 7 | AO11: =IF(F11="","",IF(F11<AL$2,REF!$B$18,"")) | AP11: =IF((AL11>=REF!$B$6),(IF(AL11="","",IF(OR(AH11="ASS",$D11="CIR",$D11=""),"",IF(OR($D11="CC",$D11="CD",$D11="DIV"),AL11-(3/24),"")))),"") | AS11: =(HOUR(AR11)*60)+MINUTE(AR11) -> 0 | AT11: =IF(AR$2>E11,G11,0) -> 7 | AU11: =IF(F11="","",IF(F11<AR$2,REF!$B$18,"")) | AV11: =IF((AR11>=REF!$B$6),(IF(AR11="","",IF(OR(AN11="ASS",$D11="CIR",$D11=""),"",IF(OR($D11="CC",$D11="CD",$D11="DIV"),AR11-(3/24),"")))),"") | AY11: =(HOUR(AX11)*60)+MINUTE(AX11) -> 0 | AZ11: =IF(AX$2>E11,G11,0) -> 7 | BA11: =IF(F11="","",IF(F11<AX$2,REF!$B$18,"")) | BB11: =IF((AX11>=REF!$B$6),(IF(AX11="","",IF(OR(AT11="ASS",$D11="CIR",$D11=""),"",IF(OR($D11="CC",$D11="CD",$D11="DIV"),AX11-(3/24),"")))),"") | BE11: =(HOUR(BD11)*60)+MINUTE(BD11) -> 0 | BF11: =IF(BD$2>E11,G11,0) -> 7 | BG11: =IF(F11="","",IF(F11<BD$2,REF!$B$18,"")) | BH11: =IF((BD11>=REF!$B$6),(IF(BD11="","",IF(OR(AZ11="ASS",$D11="CIR",$D11=""),"",IF(OR($D11="CC",$D11="CD",$D11="DIV"),BD11-(3/24),"")))),"") | BK11: =(HOUR(BJ11)*60)+MINUTE(BJ11) -> 0 | BL11: =IF(BJ$2>E11,G11,0) -> 7 | BM11: =IF(F11="","",IF(F11<BJ$2,REF!$B$18,"")) | BN11: =IF((BJ11>=REF!$B$6),(IF(BJ11="","",IF(OR(BF11="ASS",$D11="CIR",$D11=""),"",IF(OR($D11="CC",$D11="CD",$D11="DIV"),BJ11-(3/24),"")))),"") | BQ11: =(HOUR(BP11)*60)+MINUTE(BP11) -> 0 | BR11: =IF(BP$2>E11,G11,0) -> 7 | BS11: =IF(F11="","",IF(F11<BP$2,REF!$B$18,"")) | BT11: =IF((BP11>=REF!$B$6),(IF(BP11="","",IF(OR(BL11="ASS",$D11="CIR",$D11=""),"",IF(OR($D11="CC",$D11="CD",$D11="DIV"),BP11-(3/24),"")))),"") | BW11: =(HOUR(BV11)*60)+MINUTE(BV11) -> 0 | BX11: =IF(BV$2>E11,G11,0) -> 7 | BY11: =IF(F11="","",IF(F11<BV$2,REF!$B$18,"")) | BZ11: =IF((BV11>=REF!$B$6),(IF(BV11="","",IF(OR(BR11="ASS",$D11="CIR",$D11=""),"",IF(OR($D11="CC",$D11="CD",$D11="DIV"),BV11-(3/24),"")))),"") | CB11: =SUM(H11,N11,T11,Z11,AF11,AL11,AR11,AX11,BD11,BJ11,BP11,BV11) -> 0 | CC11: =SUM(M11,S11,Y11,AE11,AK11,AQ11,AW11,BC11,BI11,BO11,BU11,CA11) -> 0
A12: d | D12: CC | E12: 40944 | G12: =IF(A12="","",IF(D12="ASS",REF!B$11+REF!B$9,IF(D12="CC",REF!B$10+REF!B$9,IF(D12="CIR",REF!B$12+REF!B$9,IF(D12="CD",REF!B$10+REF!B$9,IF(D12="DIV",REF!B$13+REF!B$9,"erreur")))))) -> 7 | I12: =(HOUR(H12)*60)+MINUTE(H12) -> 0 | J12: =IF(H$2>E12,G12,0) -> 7 | K12: =IF(F12="","",IF(F12<H$2,REF!$B$18,"")) | L12: =IF((H12>=REF!$B$6),(IF(H12="","",IF(OR(D12="ASS",$D12="CIR",$D12=""),"",IF(OR($D12="CC",$D12="CD",$D12="DIV"),H12-(3/24),"")))),"") | O12: =(HOUR(N12)*60)+MINUTE(N12) -> 0 | P12: =IF(N$2>E12,G12,0) -> 7 | Q12: =IF(F12="","",IF(F12<N$2,REF!$B$18,"")) | R12: =IF((N12>=REF!$B$6),(IF(N12="","",IF(OR(J12="ASS",$D12="CIR",$D12=""),"",IF(OR($D12="CC",$D12="CD",$D12="DIV"),N12-(3/24),"")))),"") | U12: =(HOUR(T12)*60)+MINUTE(T12) -> 0 | V12: =IF(T$2>E12,G12,0) -> 7 | W12: =IF(F12="","",IF(F12<T$2,REF!$B$18,"")) | X12: =IF((T12>=REF!$B$6),(IF(T12="","",IF(OR(P12="ASS",$D12="CIR",$D12=""),"",IF(OR($D12="CC",$D12="CD",$D12="DIV"),T12-(3/24),"")))),"") | AA12: =(HOUR(Z12)*60)+MINUTE(Z12) -> 0 | AB12: =IF(Z$2>E12,G12,0) -> 7 | AC12: =IF(F12="","",IF(F12<Z$2,REF!$B$18,"")) | AD12: =IF((Z12>=REF!$B$6),(IF(Z12="","",IF(OR(V12="ASS",$D12="CIR",$D12=""),"",IF(OR($D12="CC",$D12="CD",$D12="DIV"),Z12-(3/24),"")))),"") | AG12: =(HOUR(AF12)*60)+MINUTE(AF12) -> 0 | AH12: =IF(AF$2>E12,G12,0) -> 7 | AI12: =IF(F12="","",IF(F12<AF$2,REF!$B$18,"")) | AJ12: =IF((AF12>=REF!$B$6),(IF(AF12="","",IF(OR(AB12="ASS",$D12="CIR",$D12=""),"",IF(OR($D12="CC",$D12="CD",$D12="DIV"),AF12-(3/24),"")))),"") | AM12: =(HOUR(AL12)*60)+MINUTE(AL12) -> 0 | AN12: =IF(AL$2>E12,G12,0) -> 7 | AO12: =IF(F12="","",IF(F12<AL$2,REF!$B$18,"")) | AP12: =IF((AL12>=REF!$B$6),(IF(AL12="","",IF(OR(AH12="ASS",$D12="CIR",$D12=""),"",IF(OR($D12="CC",$D12="CD",$D12="DIV"),AL12-(3/24),"")))),"") | AS12: =(HOUR(AR12)*60)+MINUTE(AR12) -> 0 | AT12: =IF(AR$2>E12,G12,0) -> 7 | AU12: =IF(F12="","",IF(F12<AR$2,REF!$B$18,"")) | AV12: =IF((AR12>=REF!$B$6),(IF(AR12="","",IF(OR(AN12="ASS",$D12="CIR",$D12=""),"",IF(OR($D12="CC",$D12="CD",$D12="DIV"),AR12-(3/24),"")))),"") | AY12: =(HOUR(AX12)*60)+MINUTE(AX12) -> 0 | AZ12: =IF(AX$2>E12,G12,0) -> 7 | BA12: =IF(F12="","",IF(F12<AX$2,REF!$B$18,"")) | BB12: =IF((AX12>=REF!$B$6),(IF(AX12="","",IF(OR(AT12="ASS",$D12="CIR",$D12=""),"",IF(OR($D12="CC",$D12="CD",$D12="DIV"),AX12-(3/24),"")))),"") | BE12: =(HOUR(BD12)*60)+MINUTE(BD12) -> 0 | BF12: =IF(BD$2>E12,G12,0) -> 7 | BG12: =IF(F12="","",IF(F12<BD$2,REF!$B$18,"")) | BH12: =IF((BD12>=REF!$B$6),(IF(BD12="","",IF(OR(AZ12="ASS",$D12="CIR",$D12=""),"",IF(OR($D12="CC",$D12="CD",$D12="DIV"),BD12-(3/24),"")))),"") | BK12: =(HOUR(BJ12)*60)+MINUTE(BJ12) -> 0 | BL12: =IF(BJ$2>E12,G12,0) -> 7 | BM12: =IF(F12="","",IF(F12<BJ$2,REF!$B$18,"")) | BN12: =IF((BJ12>=REF!$B$6),(IF(BJ12="","",IF(OR(BF12="ASS",$D12="CIR",$D12=""),"",IF(OR($D12="CC",$D12="CD",$D12="DIV"),BJ12-(3/24),"")))),"") | BQ12: =(HOUR(BP12)*60)+MINUTE(BP12) -> 0 | BR12: =IF(BP$2>E12,G12,0) -> 7 | BS12: =IF(F12="","",IF(F12<BP$2,REF!$B$18,"")) | BT12: =IF((BP12>=REF!$B$6),(IF(BP12="","",IF(OR(BL12="ASS",$D12="CIR",$D12=""),"",IF(OR($D12="CC",$D12="CD",$D12="DIV"),BP12-(3/24),"")))),"") | BW12: =(HOUR(BV12)*60)+MINUTE(BV12) -> 0 | BX12: =IF(BV$2>E12,G12,0) -> 7 | BY12: =IF(F12="","",IF(F12<BV$2,REF!$B$18,"")) | BZ12: =IF((BV12>=REF!$B$6),(IF(BV12="","",IF(OR(BR12="ASS",$D12="CIR",$D12=""),"",IF(OR($D12="CC",$D12="CD",$D12="DIV"),BV12-(3/24),"")))),"") | CB12: =SUM(H12,N12,T12,Z12,AF12,AL12,AR12,AX12,BD12,BJ12,BP12,BV12) -> 0 | CC12: =SUM(M12,S12,Y12,AE12,AK12,AQ12,AW12,BC12,BI12,BO12,BU12,CA12) -> 0
A13: d | D13: CC | E13: 40942 | G13: =IF(A13="","",IF(D13="ASS",REF!B$11+REF!B$9,IF(D13="CC",REF!B$10+REF!B$9,IF(D13="CIR",REF!B$12+REF!B$9,IF(D13="CD",REF!B$10+REF!B$9,IF(D13="DIV",REF!B$13+REF!B$9,"erreur")))))) -> 7 | I13: =(HOUR(H13)*60)+MINUTE(H13) -> 0 | J13: =IF(H$2>E13,G13,0) -> 7 | K13: =IF(F13="","",IF(F13<H$2,REF!$B$18,"")) | L13: =IF((H13>=REF!$B$6),(IF(H13="","",IF(OR(D13="ASS",$D13="CIR",$D13=""),"",IF(OR($D13="CC",$D13="CD",$D13="DIV"),H13-(3/24),"")))),"") | O13: =(HOUR(N13)*60)+MINUTE(N13) -> 0 | P13: =IF(N$2>E13,G13,0) -> 7 | Q13: =IF(F13="","",IF(F13<N$2,REF!$B$18,"")) | R13: =IF((N13>=REF!$B$6),(IF(N13="","",IF(OR(J13="ASS",$D13="CIR",$D13=""),"",IF(OR($D13="CC",$D13="CD",$D13="DIV"),N13-(3/24),"")))),"") | U13: =(HOUR(T13)*60)+MINUTE(T13) -> 0 | V13: =IF(T$2>E13,G13,0) -> 7 | W13: =IF(F13="","",IF(F13<T$2,REF!$B$18,"")) | X13: =IF((T13>=REF!$B$6),(IF(T13="","",IF(OR(P13="ASS",$D13="CIR",$D13=""),"",IF(OR($D13="CC",$D13="CD",$D13="DIV"),T13-(3/24),"")))),"") | AA13: =(HOUR(Z13)*60)+MINUTE(Z13) -> 0 | AB13: =IF(Z$2>E13,G13,0) -> 7 | AC13: =IF(F13="","",IF(F13<Z$2,REF!$B$18,"")) | AD13: =IF((Z13>=REF!$B$6),(IF(Z13="","",IF(OR(V13="ASS",$D13="CIR",$D13=""),"",IF(OR($D13="CC",$D13="CD",$D13="DIV"),Z13-(3/24),"")))),"") | AG13: =(HOUR(AF13)*60)+MINUTE(AF13) -> 0 | AH13: =IF(AF$2>E13,G13,0) -> 7 | AI13: =IF(F13="","",IF(F13<AF$2,REF!$B$18,"")) | AJ13: =IF((AF13>=REF!$B$6),(IF(AF13="","",IF(OR(AB13="ASS",$D13="CIR",$D13=""),"",IF(OR($D13="CC",$D13="CD",$D13="DIV"),AF13-(3/24),"")))),"") | AM13: =(HOUR(AL13)*60)+MINUTE(AL13) -> 0 | AN13: =IF(AL$2>E13,G13,0) -> 7 | AO13: =IF(F13="","",IF(F13<AL$2,REF!$B$18,"")) | AP13: =IF((AL13>=REF!$B$6),(IF(AL13="","",IF(OR(AH13="ASS",$D13="CIR",$D13=""),"",IF(OR($D13="CC",$D13="CD",$D13="DIV"),AL13-(3/24),"")))),"") | AS13: =(HOUR(AR13)*60)+MINUTE(AR13) -> 0 | AT13: =IF(AR$2>E13,G13,0) -> 7 | AU13: =IF(F13="","",IF(F13<AR$2,REF!$B$18,"")) | AV13: =IF((AR13>=REF!$B$6),(IF(AR13="","",IF(OR(AN13="ASS",$D13="CIR",$D13=""),"",IF(OR($D13="CC",$D13="CD",$D13="DIV"),AR13-(3/24),"")))),"") | AY13: =(HOUR(AX13)*60)+MINUTE(AX13) -> 0 | AZ13: =IF(AX$2>E13,G13,0) -> 7 | BA13: =IF(F13="","",IF(F13<AX$2,REF!$B$18,"")) | BB13: =IF((AX13>=REF!$B$6),(IF(AX13="","",IF(OR(AT13="ASS",$D13="CIR",$D13=""),"",IF(OR($D13="CC",$D13="CD",$D13="DIV"),AX13-(3/24),"")))),"") | BE13: =(HOUR(BD13)*60)+MINUTE(BD13) -> 0 | BF13: =IF(BD$2>E13,G13,0) -> 7 | BG13: =IF(F13="","",IF(F13<BD$2,REF!$B$18,"")) | BH13: =IF((BD13>=REF!$B$6),(IF(BD13="","",IF(OR(AZ13="ASS",$D13="CIR",$D13=""),"",IF(OR($D13="CC",$D13="CD",$D13="DIV"),BD13-(3/24),"")))),"") | BK13: =(HOUR(BJ13)*60)+MINUTE(BJ13) -> 0 | BL13: =IF(BJ$2>E13,G13,0) -> 7 | BM13: =IF(F13="","",IF(F13<BJ$2,REF!$B$18,"")) | BN13: =IF((BJ13>=REF!$B$6),(IF(BJ13="","",IF(OR(BF13="ASS",$D13="CIR",$D13=""),"",IF(OR($D13="CC",$D13="CD",$D13="DIV"),BJ13-(3/24),"")))),"") | BQ13: =(HOUR(BP13)*60)+MINUTE(BP13) -> 0 | BR13: =IF(BP$2>E13,G13,0) -> 7 | BS13: =IF(F13="","",IF(F13<BP$2,REF!$B$18,"")) | BT13: =IF((BP13>=REF!$B$6),(IF(BP13="","",IF(OR(BL13="ASS",$D13="CIR",$D13=""),"",IF(OR($D13="CC",$D13="CD",$D13="DIV"),BP13-(3/24),"")))),"") | BW13: =(HOUR(BV13)*60)+MINUTE(BV13) -> 0 | BX13: =IF(BV$2>E13,G13,0) -> 7 | BY13: =IF(F13="","",IF(F13<BV$2,REF!$B$18,"")) | BZ13: =IF((BV13>=REF!$B$6),(IF(BV13="","",IF(OR(BR13="ASS",$D13="CIR",$D13=""),"",IF(OR($D13="CC",$D13="CD",$D13="DIV"),BV13-(3/24),"")))),"") | CB13: =SUM(H13,N13,T13,Z13,AF13,AL13,AR13,AX13,BD13,BJ13,BP13,BV13) -> 0 | CC13: =SUM(M13,S13,Y13,AE13,AK13,AQ13,AW13,BC13,BI13,BO13,BU13,CA13) -> 0
A14: d | D14: CC | E14: 40941 | G14: =IF(A14="","",IF(D14="ASS",REF!B$11+REF!B$9,IF(D14="CC",REF!B$10+REF!B$9,IF(D14="CIR",REF!B$12+REF!B$9,IF(D14="CD",REF!B$10+REF!B$9,IF(D14="DIV",REF!B$13+REF!B$9,"erreur")))))) -> 7 | I14: =(HOUR(H14)*60)+MINUTE(H14) -> 0 | J14: =IF(H$2>E14,G14,0) -> 7 | K14: =IF(F14="","",IF(F14<H$2,REF!$B$18,"")) | L14: =IF((H14>=REF!$B$6),(IF(H14="","",IF(OR(D14="ASS",$D14="CIR",$D14=""),"",IF(OR($D14="CC",$D14="CD",$D14="DIV"),H14-(3/24),"")))),"") | O14: =(HOUR(N14)*60)+MINUTE(N14) -> 0 | P14: =IF(N$2>E14,G14,0) -> 7 | Q14: =IF(F14="","",IF(F14<N$2,REF!$B$18,"")) | R14: =IF((N14>=REF!$B$6),(IF(N14="","",IF(OR(J14="ASS",$D14="CIR",$D14=""),"",IF(OR($D14="CC",$D14="CD",$D14="DIV"),N14-(3/24),"")))),"") | U14: =(HOUR(T14)*60)+MINUTE(T14) -> 0 | V14: =IF(T$2>E14,G14,0) -> 7 | W14: =IF(F14="","",IF(F14<T$2,REF!$B$18,"")) | X14: =IF((T14>=REF!$B$6),(IF(T14="","",IF(OR(P14="ASS",$D14="CIR",$D14=""),"",IF(OR($D14="CC",$D14="CD",$D14="DIV"),T14-(3/24),"")))),"") | AA14: =(HOUR(Z14)*60)+MINUTE(Z14) -> 0 | AB14: =IF(Z$2>E14,G14,0) -> 7 | AC14: =IF(F14="","",IF(F14<Z$2,REF!$B$18,"")) | AD14: =IF((Z14>=REF!$B$6),(IF(Z14="","",IF(OR(V14="ASS",$D14="CIR",$D14=""),"",IF(OR($D14="CC",$D14="CD",$D14="DIV"),Z14-(3/24),"")))),"") | AG14: =(HOUR(AF14)*60)+MINUTE(AF14) -> 0 | AH14: =IF(AF$2>E14,G14,0) -> 7 | AI14: =IF(F14="","",IF(F14<AF$2,REF!$B$18,"")) | AJ14: =IF((AF14>=REF!$B$6),(IF(AF14="","",IF(OR(AB14="ASS",$D14="CIR",$D14=""),"",IF(OR($D14="CC",$D14="CD",$D14="DIV"),AF14-(3/24),"")))),"") | AM14: =(HOUR(AL14)*60)+MINUTE(AL14) -> 0 | AN14: =IF(AL$2>E14,G14,0) -> 7 | AO14: =IF(F14="","",IF(F14<AL$2,REF!$B$18,"")) | AP14: =IF((AL14>=REF!$B$6),(IF(AL14="","",IF(OR(AH14="ASS",$D14="CIR",$D14=""),"",IF(OR($D14="CC",$D14="CD",$D14="DIV"),AL14-(3/24),"")))),"") | AS14: =(HOUR(AR14)*60)+MINUTE(AR14) -> 0 | AT14: =IF(AR$2>E14,G14,0) -> 7 | AU14: =IF(F14="","",IF(F14<AR$2,REF!$B$18,"")) | AV14: =IF((AR14>=REF!$B$6),(IF(AR14="","",IF(OR(AN14="ASS",$D14="CIR",$D14=""),"",IF(OR($D14="CC",$D14="CD",$D14="DIV"),AR14-(3/24),"")))),"") | AY14: =(HOUR(AX14)*60)+MINUTE(AX14) -> 0 | AZ14: =IF(AX$2>E14,G14,0) -> 7 | BA14: =IF(F14="","",IF(F14<AX$2,REF!$B$18,"")) | BB14: =IF((AX14>=REF!$B$6),(IF(AX14="","",IF(OR(AT14="ASS",$D14="CIR",$D14=""),"",IF(OR($D14="CC",$D14="CD",$D14="DIV"),AX14-(3/24),"")))),"") | BE14: =(HOUR(BD14)*60)+MINUTE(BD14) -> 0 | BF14: =IF(BD$2>E14,G14,0) -> 7 | BG14: =IF(F14="","",IF(F14<BD$2,REF!$B$18,"")) | BH14: =IF((BD14>=REF!$B$6),(IF(BD14="","",IF(OR(AZ14="ASS",$D14="CIR",$D14=""),"",IF(OR($D14="CC",$D14="CD",$D14="DIV"),BD14-(3/24),"")))),"") | BK14: =(HOUR(BJ14)*60)+MINUTE(BJ14) -> 0 | BL14: =IF(BJ$2>E14,G14,0) -> 7 | BM14: =IF(F14="","",IF(F14<BJ$2,REF!$B$18,"")) | BN14: =IF((BJ14>=REF!$B$6),(IF(BJ14="","",IF(OR(BF14="ASS",$D14="CIR",$D14=""),"",IF(OR($D14="CC",$D14="CD",$D14="DIV"),BJ14-(3/24),"")))),"") | BQ14: =(HOUR(BP14)*60)+MINUTE(BP14) -> 0 | BR14: =IF(BP$2>E14,G14,0) -> 7 | BS14: =IF(F14="","",IF(F14<BP$2,REF!$B$18,"")) | BT14: =IF((BP14>=REF!$B$6),(IF(BP14="","",IF(OR(BL14="ASS",$D14="CIR",$D14=""),"",IF(OR($D14="CC",$D14="CD",$D14="DIV"),BP14-(3/24),"")))),"") | BW14: =(HOUR(BV14)*60)+MINUTE(BV14) -> 0 | BX14: =IF(BV$2>E14,G14,0) -> 7 | BY14: =IF(F14="","",IF(F14<BV$2,REF!$B$18,"")) | BZ14: =IF((BV14>=REF!$B$6),(IF(BV14="","",IF(OR(BR14="ASS",$D14="CIR",$D14=""),"",IF(OR($D14="CC",$D14="CD",$D14="DIV"),BV14-(3/24),"")))),"") | CB14: =SUM(H14,N14,T14,Z14,AF14,AL14,AR14,AX14,BD14,BJ14,BP14,BV14) -> 0 | CC14: =SUM(M14,S14,Y14,AE14,AK14,AQ14,AW14,BC14,BI14,BO14,BU14,CA14) -> 0
A15: d | D15: CC | E15: 40951 | G15: =IF(A15="","",IF(D15="ASS",REF!B$11+REF!B$9,IF(D15="CC",REF!B$10+REF!B$9,IF(D15="CIR",REF!B$12+REF!B$9,IF(D15="CD",REF!B$10+REF!B$9,IF(D15="DIV",REF!B$13+REF!B$9,"erreur")))))) -> 7 | I15: =(HOUR(H15)*60)+MINUTE(H15) -> 0 | J15: =IF(H$2>E15,G15,0) -> 7 | K15: =IF(F15="","",IF(F15<H$2,REF!$B$18,"")) | L15: =IF((H15>=REF!$B$6),(IF(H15="","",IF(OR(D15="ASS",$D15="CIR",$D15=""),"",IF(OR($D15="CC",$D15="CD",$D15="DIV"),H15-(3/24),"")))),"") | O15: =(HOUR(N15)*60)+MINUTE(N15) -> 0 | P15: =IF(N$2>E15,G15,0) -> 7 | Q15: =IF(F15="","",IF(F15<N$2,REF!$B$18,"")) | R15: =IF((N15>=REF!$B$6),(IF(N15="","",IF(OR(J15="ASS",$D15="CIR",$D15=""),"",IF(OR($D15="CC",$D15="CD",$D15="DIV"),N15-(3/24),"")))),"") | U15: =(HOUR(T15)*60)+MINUTE(T15) -> 0 | V15: =IF(T$2>E15,G15,0) -> 7 | W15: =IF(F15="","",IF(F15<T$2,REF!$B$18,"")) | X15: =IF((T15>=REF!$B$6),(IF(T15="","",IF(OR(P15="ASS",$D15="CIR",$D15=""),"",IF(OR($D15="CC",$D15="CD",$D15="DIV"),T15-(3/24),"")))),"") | AA15: =(HOUR(Z15)*60)+MINUTE(Z15) -> 0 | AB15: =IF(Z$2>E15,G15,0) -> 7 | AC15: =IF(F15="","",IF(F15<Z$2,REF!$B$18,"")) | AD15: =IF((Z15>=REF!$B$6),(IF(Z15="","",IF(OR(V15="ASS",$D15="CIR",$D15=""),"",IF(OR($D15="CC",$D15="CD",$D15="DIV"),Z15-(3/24),"")))),"") | AG15: =(HOUR(AF15)*60)+MINUTE(AF15) -> 0 | AH15: =IF(AF$2>E15,G15,0) -> 7 | AI15: =IF(F15="","",IF(F15<AF$2,REF!$B$18,"")) | AJ15: =IF((AF15>=REF!$B$6),(IF(AF15="","",IF(OR(AB15="ASS",$D15="CIR",$D15=""),"",IF(OR($D15="CC",$D15="CD",$D15="DIV"),AF15-(3/24),"")))),"") | AM15: =(HOUR(AL15)*60)+MINUTE(AL15) -> 0 | AN15: =IF(AL$2>E15,G15,0) -> 7 | AO15: =IF(F15="","",IF(F15<AL$2,REF!$B$18,"")) | AP15: =IF((AL15>=REF!$B$6),(IF(AL15="","",IF(OR(AH15="ASS",$D15="CIR",$D15=""),"",IF(OR($D15="CC",$D15="CD",$D15="DIV"),AL15-(3/24),"")))),"") | AS15: =(HOUR(AR15)*60)+MINUTE(AR15) -> 0 | AT15: =IF(AR$2>E15,G15,0) -> 7 | AU15: =IF(F15="","",IF(F15<AR$2,REF!$B$18,"")) | AV15: =IF((AR15>=REF!$B$6),(IF(AR15="","",IF(OR(AN15="ASS",$D15="CIR",$D15=""),"",IF(OR($D15="CC",$D15="CD",$D15="DIV"),AR15-(3/24),"")))),"") | AY15: =(HOUR(AX15)*60)+MINUTE(AX15) -> 0 | AZ15: =IF(AX$2>E15,G15,0) -> 7 | BA15: =IF(F15="","",IF(F15<AX$2,REF!$B$18,"")) | BB15: =IF((AX15>=REF!$B$6),(IF(AX15="","",IF(OR(AT15="ASS",$D15="CIR",$D15=""),"",IF(OR($D15="CC",$D15="CD",$D15="DIV"),AX15-(3/24),"")))),"") | BE15: =(HOUR(BD15)*60)+MINUTE(BD15) -> 0 | BF15: =IF(BD$2>E15,G15,0) -> 7 | BG15: =IF(F15="","",IF(F15<BD$2,REF!$B$18,"")) | BH15: =IF((BD15>=REF!$B$6),(IF(BD15="","",IF(OR(AZ15="ASS",$D15="CIR",$D15=""),"",IF(OR($D15="CC",$D15="CD",$D15="DIV"),BD15-(3/24),"")))),"") | BK15: =(HOUR(BJ15)*60)+MINUTE(BJ15) -> 0 | BL15: =IF(BJ$2>E15,G15,0) -> 7 | BM15: =IF(F15="","",IF(F15<BJ$2,REF!$B$18,"")) | BN15: =IF((BJ15>=REF!$B$6),(IF(BJ15="","",IF(OR(BF15="ASS",$D15="CIR",$D15=""),"",IF(OR($D15="CC",$D15="CD",$D15="DIV"),BJ15-(3/24),"")))),"") | BQ15: =(HOUR(BP15)*60)+MINUTE(BP15) -> 0 | BR15: =IF(BP$2>E15,G15,0) -> 7 | BS15: =IF(F15="","",IF(F15<BP$2,REF!$B$18,"")) | BT15: =IF((BP15>=REF!$B$6),(IF(BP15="","",IF(OR(BL15="ASS",$D15="CIR",$D15=""),"",IF(OR($D15="CC",$D15="CD",$D15="DIV"),BP15-(3/24),"")))),"") | BW15: =(HOUR(BV15)*60)+MINUTE(BV15) -> 0 | BX15: =IF(BV$2>E15,G15,0) -> 7 | BY15: =IF(F15="","",IF(F15<BV$2,REF!$B$18,"")) | BZ15: =IF((BV15>=REF!$B$6),(IF(BV15="","",IF(OR(BR15="ASS",$D15="CIR",$D15=""),"",IF(OR($D15="CC",$D15="CD",$D15="DIV"),BV15-(3/24),"")))),"") | CB15: =SUM(H15,N15,T15,Z15,AF15,AL15,AR15,AX15,BD15,BJ15,BP15,BV15) -> 0 | CC15: =SUM(M15,S15,Y15,AE15,AK15,AQ15,AW15,BC15,BI15,BO15,BU15,CA15) -> 0
A16: d | D16: CD | E16: 40953 | G16: =IF(A16="","",IF(D16="ASS",REF!B$11+REF!B$9,IF(D16="CC",REF!B$10+REF!B$9,IF(D16="CIR",REF!B$12+REF!B$9,IF(D16="CD",REF!B$10+REF!B$9,IF(D16="DIV",REF!B$13+REF!B$9,"erreur")))))) -> 7 | I16: =(HOUR(H16)*60)+MINUTE(H16) -> 0 | J16: =IF(H$2>E16,G16,0) -> 7 | K16: =IF(F16="","",IF(F16<H$2,REF!$B$18,"")) | L16: =IF((H16>=REF!$B$6),(IF(H16="","",IF(OR(D16="ASS",$D16="CIR",$D16=""),"",IF(OR($D16="CC",$D16="CD",$D16="DIV"),H16-(3/24),"")))),"") | O16: =(HOUR(N16)*60)+MINUTE(N16) -> 0 | P16: =IF(N$2>E16,G16,0) -> 7 | Q16: =IF(F16="","",IF(F16<N$2,REF!$B$18,"")) | R16: =IF((N16>=REF!$B$6),(IF(N16="","",IF(OR(J16="ASS",$D16="CIR",$D16=""),"",IF(OR($D16="CC",$D16="CD",$D16="DIV"),N16-(3/24),"")))),"") | U16: =(HOUR(T16)*60)+MINUTE(T16) -> 0 | V16: =IF(T$2>E16,G16,0) -> 7 | W16: =IF(F16="","",IF(F16<T$2,REF!$B$18,"")) | X16: =IF((T16>=REF!$B$6),(IF(T16="","",IF(OR(P16="ASS",$D16="CIR",$D16=""),"",IF(OR($D16="CC",$D16="CD",$D16="DIV"),T16-(3/24),"")))),"") | AA16: =(HOUR(Z16)*60)+MINUTE(Z16) -> 0 | AB16: =IF(Z$2>E16,G16,0) -> 7 | AC16: =IF(F16="","",IF(F16<Z$2,REF!$B$18,"")) | AD16: =IF((Z16>=REF!$B$6),(IF(Z16="","",IF(OR(V16="ASS",$D16="CIR",$D16=""),"",IF(OR($D16="CC",$D16="CD",$D16="DIV"),Z16-(3/24),"")))),"") | AG16: =(HOUR(AF16)*60)+MINUTE(AF16) -> 0 | AH16: =IF(AF$2>E16,G16,0) -> 7 | AI16: =IF(F16="","",IF(F16<AF$2,REF!$B$18,"")) | AJ16: =IF((AF16>=REF!$B$6),(IF(AF16="","",IF(OR(AB16="ASS",$D16="CIR",$D16=""),"",IF(OR($D16="CC",$D16="CD",$D16="DIV"),AF16-(3/24),"")))),"") | AM16: =(HOUR(AL16)*60)+MINUTE(AL16) -> 0 | AN16: =IF(AL$2>E16,G16,0) -> 7 | AO16: =IF(F16="","",IF(F16<AL$2,REF!$B$18,"")) | AP16: =IF((AL16>=REF!$B$6),(IF(AL16="","",IF(OR(AH16="ASS",$D16="CIR",$D16=""),"",IF(OR($D16="CC",$D16="CD",$D16="DIV"),AL16-(3/24),"")))),"") | AS16: =(HOUR(AR16)*60)+MINUTE(AR16) -> 0 | AT16: =IF(AR$2>E16,G16,0) -> 7 | AU16: =IF(F16="","",IF(F16<AR$2,REF!$B$18,"")) | AV16: =IF((AR16>=REF!$B$6),(IF(AR16="","",IF(OR(AN16="ASS",$D16="CIR",$D16=""),"",IF(OR($D16="CC",$D16="CD",$D16="DIV"),AR16-(3/24),"")))),"") | AY16: =(HOUR(AX16)*60)+MINUTE(AX16) -> 0 | AZ16: =IF(AX$2>E16,G16,0) -> 7 | BA16: =IF(F16="","",IF(F16<AX$2,REF!$B$18,"")) | BB16: =IF((AX16>=REF!$B$6),(IF(AX16="","",IF(OR(AT16="ASS",$D16="CIR",$D16=""),"",IF(OR($D16="CC",$D16="CD",$D16="DIV"),AX16-(3/24),"")))),"") | BE16: =(HOUR(BD16)*60)+MINUTE(BD16) -> 0 | BF16: =IF(BD$2>E16,G16,0) -> 7 | BG16: =IF(F16="","",IF(F16<BD$2,REF!$B$18,"")) | BH16: =IF((BD16>=REF!$B$6),(IF(BD16="","",IF(OR(AZ16="ASS",$D16="CIR",$D16=""),"",IF(OR($D16="CC",$D16="CD",$D16="DIV"),BD16-(3/24),"")))),"") | BK16: =(HOUR(BJ16)*60)+MINUTE(BJ16) -> 0 | BL16: =IF(BJ$2>E16,G16,0) -> 7 | BM16: =IF(F16="","",IF(F16<BJ$2,REF!$B$18,"")) | BN16: =IF((BJ16>=REF!$B$6),(IF(BJ16="","",IF(OR(BF16="ASS",$D16="CIR",$D16=""),"",IF(OR($D16="CC",$D16="CD",$D16="DIV"),BJ16-(3/24),"")))),"") | BQ16: =(HOUR(BP16)*60)+MINUTE(BP16) -> 0 | BR16: =IF(BP$2>E16,G16,0) -> 7 | BS16: =IF(F16="","",IF(F16<BP$2,REF!$B$18,"")) | BT16: =IF((BP16>=REF!$B$6),(IF(BP16="","",IF(OR(BL16="ASS",$D16="CIR",$D16=""),"",IF(OR($D16="CC",$D16="CD",$D16="DIV"),BP16-(3/24),"")))),"") | BW16: =(HOUR(BV16)*60)+MINUTE(BV16) -> 0 | BX16: =IF(BV$2>E16,G16,0) -> 7 | BY16: =IF(F16="","",IF(F16<BV$2,REF!$B$18,"")) | BZ16: =IF((BV16>=REF!$B$6),(IF(BV16="","",IF(OR(BR16="ASS",$D16="CIR",$D16=""),"",IF(OR($D16="CC",$D16="CD",$D16="DIV"),BV16-(3/24),"")))),"") | CB16: =SUM(H16,N16,T16,Z16,AF16,AL16,AR16,AX16,BD16,BJ16,BP16,BV16) -> 0 | CC16: =SUM(M16,S16,Y16,AE16,AK16,AQ16,AW16,BC16,BI16,BO16,BU16,CA16) -> 0
A17: d | D17: CD | E17: 40952 | G17: =IF(A17="","",IF(D17="ASS",REF!B$11+REF!B$9,IF(D17="CC",REF!B$10+REF!B$9,IF(D17="CIR",REF!B$12+REF!B$9,IF(D17="CD",REF!B$10+REF!B$9,IF(D17="DIV",REF!B$13+REF!B$9,"erreur")))))) -> 7 | I17: =(HOUR(H17)*60)+MINUTE(H17) -> 0 | J17: =IF(H$2>E17,G17,0) -> 7 | K17: =IF(F17="","",IF(F17<H$2,REF!$B$18,"")) | L17: =IF((H17>=REF!$B$6),(IF(H17="","",IF(OR(D17="ASS",$D17="CIR",$D17=""),"",IF(OR($D17="CC",$D17="CD",$D17="DIV"),H17-(3/24),"")))),"") | O17: =(HOUR(N17)*60)+MINUTE(N17) -> 0 | P17: =IF(N$2>E17,G17,0) -> 7 | Q17: =IF(F17="","",IF(F17<N$2,REF!$B$18,"")) | R17: =IF((N17>=REF!$B$6),(IF(N17="","",IF(OR(J17="ASS",$D17="CIR",$D17=""),"",IF(OR($D17="CC",$D17="CD",$D17="DIV"),N17-(3/24),"")))),"") | U17: =(HOUR(T17)*60)+MINUTE(T17) -> 0 | V17: =IF(T$2>E17,G17,0) -> 7 | W17: =IF(F17="","",IF(F17<T$2,REF!$B$18,"")) | X17: =IF((T17>=REF!$B$6),(IF(T17="","",IF(OR(P17="ASS",$D17="CIR",$D17=""),"",IF(OR($D17="CC",$D17="CD",$D17="DIV"),T17-(3/24),"")))),"") | AA17: =(HOUR(Z17)*60)+MINUTE(Z17) -> 0 | AB17: =IF(Z$2>E17,G17,0) -> 7 | AC17: =IF(F17="","",IF(F17<Z$2,REF!$B$18,"")) | AD17: =IF((Z17>=REF!$B$6),(IF(Z17="","",IF(OR(V17="ASS",$D17="CIR",$D17=""),"",IF(OR($D17="CC",$D17="CD",$D17="DIV"),Z17-(3/24),"")))),"") | AG17: =(HOUR(AF17)*60)+MINUTE(AF17) -> 0 | AH17: =IF(AF$2>E17,G17,0) -> 7 | AI17: =IF(F17="","",IF(F17<AF$2,REF!$B$18,"")) | AJ17: =IF((AF17>=REF!$B$6),(IF(AF17="","",IF(OR(AB17="ASS",$D17="CIR",$D17=""),"",IF(OR($D17="CC",$D17="CD",$D17="DIV"),AF17-(3/24),"")))),"") | AM17: =(HOUR(AL17)*60)+MINUTE(AL17) -> 0 | AN17: =IF(AL$2>E17,G17,0) -> 7 | AO17: =IF(F17="","",IF(F17<AL$2,REF!$B$18,"")) | AP17: =IF((AL17>=REF!$B$6),(IF(AL17="","",IF(OR(AH17="ASS",$D17="CIR",$D17=""),"",IF(OR($D17="CC",$D17="CD",$D17="DIV"),AL17-(3/24),"")))),"") | AS17: =(HOUR(AR17)*60)+MINUTE(AR17) -> 0 | AT17: =IF(AR$2>E17,G17,0) -> 7 | AU17: =IF(F17="","",IF(F17<AR$2,REF!$B$18,"")) | AV17: =IF((AR17>=REF!$B$6),(IF(AR17="","",IF(OR(AN17="ASS",$D17="CIR",$D17=""),"",IF(OR($D17="CC",$D17="CD",$D17="DIV"),AR17-(3/24),"")))),"") | AY17: =(HOUR(AX17)*60)+MINUTE(AX17) -> 0 | AZ17: =IF(AX$2>E17,G17,0) -> 7 | BA17: =IF(F17="","",IF(F17<AX$2,REF!$B$18,"")) | BB17: =IF((AX17>=REF!$B$6),(IF(AX17="","",IF(OR(AT17="ASS",$D17="CIR",$D17=""),"",IF(OR($D17="CC",$D17="CD",$D17="DIV"),AX17-(3/24),"")))),"") | BE17: =(HOUR(BD17)*60)+MINUTE(BD17) -> 0 | BF17: =IF(BD$2>E17,G17,0) -> 7 | BG17: =IF(F17="","",IF(F17<BD$2,REF!$B$18,"")) | BH17: =IF((BD17>=REF!$B$6),(IF(BD17="","",IF(OR(AZ17="ASS",$D17="CIR",$D17=""),"",IF(OR($D17="CC",$D17="CD",$D17="DIV"),BD17-(3/24),"")))),"") | BK17: =(HOUR(BJ17)*60)+MINUTE(BJ17) -> 0 | BL17: =IF(BJ$2>E17,G17,0) -> 7 | BM17: =IF(F17="","",IF(F17<BJ$2,REF!$B$18,"")) | BN17: =IF((BJ17>=REF!$B$6),(IF(BJ17="","",IF(OR(BF17="ASS",$D17="CIR",$D17=""),"",IF(OR($D17="CC",$D17="CD",$D17="DIV"),BJ17-(3/24),"")))),"") | BQ17: =(HOUR(BP17)*60)+MINUTE(BP17) -> 0 | BR17: =IF(BP$2>E17,G17,0) -> 7 | BS17: =IF(F17="","",IF(F17<BP$2,REF!$B$18,"")) | BT17: =IF((BP17>=REF!$B$6),(IF(BP17="","",IF(OR(BL17="ASS",$D17="CIR",$D17=""),"",IF(OR($D17="CC",$D17="CD",$D17="DIV"),BP17-(3/24),"")))),"") | BW17: =(HOUR(BV17)*60)+MINUTE(BV17) -> 0 | BX17: =IF(BV$2>E17,G17,0) -> 7 | BY17: =IF(F17="","",IF(F17<BV$2,REF!$B$18,"")) | BZ17: =IF((BV17>=REF!$B$6),(IF(BV17="","",IF(OR(BR17="ASS",$D17="CIR",$D17=""),"",IF(OR($D17="CC",$D17="CD",$D17="DIV"),BV17-(3/24),"")))),"") | CB17: =SUM(H17,N17,T17,Z17,AF17,AL17,AR17,AX17,BD17,BJ17,BP17,BV17) -> 0 | CC17: =SUM(M17,S17,Y17,AE17,AK17,AQ17,AW17,BC17,BI17,BO17,BU17,CA17) -> 0
A18: d | D18: CD | E18: 40949 | G18: =IF(A18="","",IF(D18="ASS",REF!B$11+REF!B$9,IF(D18="CC",REF!B$10+REF!B$9,IF(D18="CIR",REF!B$12+REF!B$9,IF(D18="CD",REF!B$10+REF!B$9,IF(D18="DIV",REF!B$13+REF!B$9,"erreur")))))) -> 7 | I18: =(HOUR(H18)*60)+MINUTE(H18) -> 0 | J18: =IF(H$2>E18,G18,0) -> 7 | K18: =IF(F18="","",IF(F18<H$2,REF!$B$18,"")) | L18: =IF((H18>=REF!$B$6),(IF(H18="","",IF(OR(D18="ASS",$D18="CIR",$D18=""),"",IF(OR($D18="CC",$D18="CD",$D18="DIV"),H18-(3/24),"")))),"") | O18: =(HOUR(N18)*60)+MINUTE(N18) -> 0 | P18: =IF(N$2>E18,G18,0) -> 7 | Q18: =IF(F18="","",IF(F18<N$2,REF!$B$18,"")) | R18: =IF((N18>=REF!$B$6),(IF(N18="","",IF(OR(J18="ASS",$D18="CIR",$D18=""),"",IF(OR($D18="CC",$D18="CD",$D18="DIV"),N18-(3/24),"")))),"") | U18: =(HOUR(T18)*60)+MINUTE(T18) -> 0 | V18: =IF(T$2>E18,G18,0) -> 7 | W18: =IF(F18="","",IF(F18<T$2,REF!$B$18,"")) | X18: =IF((T18>=REF!$B$6),(IF(T18="","",IF(OR(P18="ASS",$D18="CIR",$D18=""),"",IF(OR($D18="CC",$D18="CD",$D18="DIV"),T18-(3/24),"")))),"") | AA18: =(HOUR(Z18)*60)+MINUTE(Z18) -> 0 | AB18: =IF(Z$2>E18,G18,0) -> 7 | AC18: =IF(F18="","",IF(F18<Z$2,REF!$B$18,"")) | AD18: =IF((Z18>=REF!$B$6),(IF(Z18="","",IF(OR(V18="ASS",$D18="CIR",$D18=""),"",IF(OR($D18="CC",$D18="CD",$D18="DIV"),Z18-(3/24),"")))),"") | AG18: =(HOUR(AF18)*60)+MINUTE(AF18) -> 0 | AH18: =IF(AF$2>E18,G18,0) -> 7 | AI18: =IF(F18="","",IF(F18<AF$2,REF!$B$18,"")) | AJ18: =IF((AF18>=REF!$B$6),(IF(AF18="","",IF(OR(AB18="ASS",$D18="CIR",$D18=""),"",IF(OR($D18="CC",$D18="CD",$D18="DIV"),AF18-(3/24),"")))),"") | AM18: =(HOUR(AL18)*60)+MINUTE(AL18) -> 0 | AN18: =IF(AL$2>E18,G18,0) -> 7 | AO18: =IF(F18="","",IF(F18<AL$2,REF!$B$18,"")) | AP18: =IF((AL18>=REF!$B$6),(IF(AL18="","",IF(OR(AH18="ASS",$D18="CIR",$D18=""),"",IF(OR($D18="CC",$D18="CD",$D18="DIV"),AL18-(3/24),"")))),"") | AS18: =(HOUR(AR18)*60)+MINUTE(AR18) -> 0 | AT18: =IF(AR$2>E18,G18,0) -> 7 | AU18: =IF(F18="","",IF(F18<AR$2,REF!$B$18,"")) | AV18: =IF((AR18>=REF!$B$6),(IF(AR18="","",IF(OR(AN18="ASS",$D18="CIR",$D18=""),"",IF(OR($D18="CC",$D18="CD",$D18="DIV"),AR18-(3/24),"")))),"") | AY18: =(HOUR(AX18)*60)+MINUTE(AX18) -> 0 | AZ18: =IF(AX$2>E18,G18,0) -> 7 | BA18: =IF(F18="","",IF(F18<AX$2,REF!$B$18,"")) | BB18: =IF((AX18>=REF!$B$6),(IF(AX18="","",IF(OR(AT18="ASS",$D18="CIR",$D18=""),"",IF(OR($D18="CC",$D18="CD",$D18="DIV"),AX18-(3/24),"")))),"") | BE18: =(HOUR(BD18)*60)+MINUTE(BD18) -> 0 | BF18: =IF(BD$2>E18,G18,0) -> 7 | BG18: =IF(F18="","",IF(F18<BD$2,REF!$B$18,"")) | BH18: =IF((BD18>=REF!$B$6),(IF(BD18="","",IF(OR(AZ18="ASS",$D18="CIR",$D18=""),"",IF(OR($D18="CC",$D18="CD",$D18="DIV"),BD18-(3/24),"")))),"") | BK18: =(HOUR(BJ18)*60)+MINUTE(BJ18) -> 0 | BL18: =IF(BJ$2>E18,G18,0) -> 7 | BM18: =IF(F18="","",IF(F18<BJ$2,REF!$B$18,"")) | BN18: =IF((BJ18>=REF!$B$6),(IF(BJ18="","",IF(OR(BF18="ASS",$D18="CIR",$D18=""),"",IF(OR($D18="CC",$D18="CD",$D18="DIV"),BJ18-(3/24),"")))),"") | BQ18: =(HOUR(BP18)*60)+MINUTE(BP18) -> 0 | BR18: =IF(BP$2>E18,G18,0) -> 7 | BS18: =IF(F18="","",IF(F18<BP$2,REF!$B$18,"")) | BT18: =IF((BP18>=REF!$B$6),(IF(BP18="","",IF(OR(BL18="ASS",$D18="CIR",$D18=""),"",IF(OR($D18="CC",$D18="CD",$D18="DIV"),BP18-(3/24),"")))),"") | BW18: =(HOUR(BV18)*60)+MINUTE(BV18) -> 0 | BX18: =IF(BV$2>E18,G18,0) -> 7 | BY18: =IF(F18="","",IF(F18<BV$2,REF!$B$18,"")) | BZ18: =IF((BV18>=REF!$B$6),(IF(BV18="","",IF(OR(BR18="ASS",$D18="CIR",$D18=""),"",IF(OR($D18="CC",$D18="CD",$D18="DIV"),BV18-(3/24),"")))),"") | CB18: =SUM(H18,N18,T18,Z18,AF18,AL18,AR18,AX18,BD18,BJ18,BP18,BV18) -> 0 | CC18: =SUM(M18,S18,Y18,AE18,AK18,AQ18,AW18,BC18,BI18,BO18,BU18,CA18) -> 0
G19: =IF(A19="","",IF(D19="ASS",REF!B$11+REF!B$9,IF(D19="CC",REF!B$10+REF!B$9,IF(D19="CIR",REF!B$12+REF!B$9,IF(D19="CD",REF!B$10+REF!B$9,IF(D19="DIV",REF!B$13+REF!B$9,"erreur")))))) | I19: =(HOUR(H19)*60)+MINUTE(H19) -> 0 | J19: =IF(H$2>E19,G19,0) | K19: =IF(F19="","",IF(F19<H$2,REF!$B$18,"")) | L19: =IF((H19>=REF!$B$6),(IF(H19="","",IF(OR(D19="ASS",$D19="CIR",$D19=""),"",IF(OR($D19="CC",$D19="CD",$D19="DIV"),H19-(3/24),"")))),"") | O19: =(HOUR(N19)*60)+MINUTE(N19) -> 0 | P19: =IF(N$2>E19,G19,0) | Q19: =IF(F19="","",IF(F19<N$2,REF!$B$18,"")) | R19: =IF((N19>=REF!$B$6),(IF(N19="","",IF(OR(J19="ASS",$D19="CIR",$D19=""),"",IF(OR($D19="CC",$D19="CD",$D19="DIV"),N19-(3/24),"")))),"") | U19: =(HOUR(T19)*60)+MINUTE(T19) -> 0 | V19: =IF(T$2>E19,G19,0) | W19: =IF(F19="","",IF(F19<T$2,REF!$B$18,"")) | X19: =IF((T19>=REF!$B$6),(IF(T19="","",IF(OR(P19="ASS",$D19="CIR",$D19=""),"",IF(OR($D19="CC",$D19="CD",$D19="DIV"),T19-(3/24),"")))),"") | AA19: =(HOUR(Z19)*60)+MINUTE(Z19) -> 0 | AB19: =IF(Z$2>E19,G19,0) | AC19: =IF(F19="","",IF(F19<Z$2,REF!$B$18,"")) | AD19: =IF((Z19>=REF!$B$6),(IF(Z19="","",IF(OR(V19="ASS",$D19="CIR",$D19=""),"",IF(OR($D19="CC",$D19="CD",$D19="DIV"),Z19-(3/24),"")))),"") | AG19: =(HOUR(AF19)*60)+MINUTE(AF19) -> 0 | AH19: =IF(AF$2>E19,G19,0) | AI19: =IF(F19="","",IF(F19<AF$2,REF!$B$18,"")) | AJ19: =IF((AF19>=REF!$B$6),(IF(AF19="","",IF(OR(AB19="ASS",$D19="CIR",$D19=""),"",IF(OR($D19="CC",$D19="CD",$D19="DIV"),AF19-(3/24),"")))),"") | AM19: =(HOUR(AL19)*60)+MINUTE(AL19) -> 0 | AN19: =IF(AL$2>E19,G19,0) | AO19: =IF(F19="","",IF(F19<AL$2,REF!$B$18,"")) | AP19: =IF((AL19>=REF!$B$6),(IF(AL19="","",IF(OR(AH19="ASS",$D19="CIR",$D19=""),"",IF(OR($D19="CC",$D19="CD",$D19="DIV"),AL19-(3/24),"")))),"") | AS19: =(HOUR(AR19)*60)+MINUTE(AR19) -> 0 | AT19: =IF(AR$2>E19,G19,0) | AU19: =IF(F19="","",IF(F19<AR$2,REF!$B$18,"")) | AV19: =IF((AR19>=REF!$B$6),(IF(AR19="","",IF(OR(AN19="ASS",$D19="CIR",$D19=""),"",IF(OR($D19="CC",$D19="CD",$D19="DIV"),AR19-(3/24),"")))),"") | AY19: =(HOUR(AX19)*60)+MINUTE(AX19) -> 0 | AZ19: =IF(AX$2>E19,G19,0) | BA19: =IF(F19="","",IF(F19<AX$2,REF!$B$18,"")) | BB19: =IF((AX19>=REF!$B$6),(IF(AX19="","",IF(OR(AT19="ASS",$D19="CIR",$D19=""),"",IF(OR($D19="CC",$D19="CD",$D19="DIV"),AX19-(3/24),"")))),"") | BE19: =(HOUR(BD19)*60)+MINUTE(BD19) -> 0 | BF19: =IF(BD$2>E19,G19,0) | BG19: =IF(F19="","",IF(F19<BD$2,REF!$B$18,"")) | BH19: =IF((BD19>=REF!$B$6),(IF(BD19="","",IF(OR(AZ19="ASS",$D19="CIR",$D19=""),"",IF(OR($D19="CC",$D19="CD",$D19="DIV"),BD19-(3/24),"")))),"") | BK19: =(HOUR(BJ19)*60)+MINUTE(BJ19) -> 0 | BL19: =IF(BJ$2>E19,G19,0) | BM19: =IF(F19="","",IF(F19<BJ$2,REF!$B$18,"")) | BN19: =IF((BJ19>=REF!$B$6),(IF(BJ19="","",IF(OR(BF19="ASS",$D19="CIR",$D19=""),"",IF(OR($D19="CC",$D19="CD",$D19="DIV"),BJ19-(3/24),"")))),"") | BQ19: =(HOUR(BP19)*60)+MINUTE(BP19) -> 0 | BR19: =IF(BP$2>E19,G19,0) | BS19: =IF(F19="","",IF(F19<BP$2,REF!$B$18,"")) | BT19: =IF((BP19>=REF!$B$6),(IF(BP19="","",IF(OR(BL19="ASS",$D19="CIR",$D19=""),"",IF(OR($D19="CC",$D19="CD",$D19="DIV"),BP19-(3/24),"")))),"") | BW19: =(HOUR(BV19)*60)+MINUTE(BV19) -> 0 | BX19: =IF(BV$2>E19,G19,0) | BY19: =IF(F19="","",IF(F19<BV$2,REF!$B$18,"")) | BZ19: =IF((BV19>=REF!$B$6),(IF(BV19="","",IF(OR(BR19="ASS",$D19="CIR",$D19=""),"",IF(OR($D19="CC",$D19="CD",$D19="DIV"),BV19-(3/24),"")))),"") | CB19: =SUM(H19,N19,T19,Z19,AF19,AL19,AR19,AX19,BD19,BJ19,BP19,BV19) -> 0 | CC19: =SUM(M19,S19,Y19,AE19,AK19,AQ19,AW19,BC19,BI19,BO19,BU19,CA19) -> 0
G20: =IF(A20="","",IF(D20="ASS",REF!B$11+REF!B$9,IF(D20="CC",REF!B$10+REF!B$9,IF(D20="CIR",REF!B$12+REF!B$9,IF(D20="CD",REF!B$10+REF!B$9,IF(D20="DIV",REF!B$13+REF!B$9,"erreur")))))) | I20: =(HOUR(H20)*60)+MINUTE(H20) -> 0 | J20: =IF(H$2>E20,G20,0) | K20: =IF(F20="","",IF(F20<H$2,REF!$B$18,"")) | L20: =IF((H20>=REF!$B$6),(IF(H20="","",IF(OR(D20="ASS",$D20="CIR",$D20=""),"",IF(OR($D20="CC",$D20="CD",$D20="DIV"),H20-(3/24),"")))),"") | O20: =(HOUR(N20)*60)+MINUTE(N20) -> 0 | P20: =IF(N$2>E20,G20,0) | Q20: =IF(F20="","",IF(F20<N$2,REF!$B$18,"")) | R20: =IF((N20>=REF!$B$6),(IF(N20="","",IF(OR(J20="ASS",$D20="CIR",$D20=""),"",IF(OR($D20="CC",$D20="CD",$D20="DIV"),N20-(3/24),"")))),"") | U20: =(HOUR(T20)*60)+MINUTE(T20) -> 0 | V20: =IF(T$2>E20,G20,0) | W20: =IF(F20="","",IF(F20<T$2,REF!$B$18,"")) | X20: =IF((T20>=REF!$B$6),(IF(T20="","",IF(OR(P20="ASS",$D20="CIR",$D20=""),"",IF(OR($D20="CC",$D20="CD",$D20="DIV"),T20-(3/24),"")))),"") | AA20: =(HOUR(Z20)*60)+MINUTE(Z20) -> 0 | AB20: =IF(Z$2>E20,G20,0) | AC20: =IF(F20="","",IF(F20<Z$2,REF!$B$18,"")) | AD20: =IF((Z20>=REF!$B$6),(IF(Z20="","",IF(OR(V20="ASS",$D20="CIR",$D20=""),"",IF(OR($D20="CC",$D20="CD",$D20="DIV"),Z20-(3/24),"")))),"") | AG20: =(HOUR(AF20)*60)+MINUTE(AF20) -> 0 | AH20: =IF(AF$2>E20,G20,0) | AI20: =IF(F20="","",IF(F20<AF$2,REF!$B$18,"")) | AJ20: =IF((AF20>=REF!$B$6),(IF(AF20="","",IF(OR(AB20="ASS",$D20="CIR",$D20=""),"",IF(OR($D20="CC",$D20="CD",$D20="DIV"),AF20-(3/24),"")))),"") | AM20: =(HOUR(AL20)*60)+MINUTE(AL20) -> 0 | AN20: =IF(AL$2>E20,G20,0) | AO20: =IF(F20="","",IF(F20<AL$2,REF!$B$18,"")) | AP20: =IF((AL20>=REF!$B$6),(IF(AL20="","",IF(OR(AH20="ASS",$D20="CIR",$D20=""),"",IF(OR($D20="CC",$D20="CD",$D20="DIV"),AL20-(3/24),"")))),"") | AS20: =(HOUR(AR20)*60)+MINUTE(AR20) -> 0 | AT20: =IF(AR$2>E20,G20,0) | AU20: =IF(F20="","",IF(F20<AR$2,REF!$B$18,"")) | AV20: =IF((AR20>=REF!$B$6),(IF(AR20="","",IF(OR(AN20="ASS",$D20="CIR",$D20=""),"",IF(OR($D20="CC",$D20="CD",$D20="DIV"),AR20-(3/24),"")))),"") | AY20: =(HOUR(AX20)*60)+MINUTE(AX20) -> 0 | AZ20: =IF(AX$2>E20,G20,0) | BA20: =IF(F20="","",IF(F20<AX$2,REF!$B$18,"")) | BB20: =IF((AX20>=REF!$B$6),(IF(AX20="","",IF(OR(AT20="ASS",$D20="CIR",$D20=""),"",IF(OR($D20="CC",$D20="CD",$D20="DIV"),AX20-(3/24),"")))),"") | BE20: =(HOUR(BD20)*60)+MINUTE(BD20) -> 0 | BF20: =IF(BD$2>E20,G20,0) | BG20: =IF(F20="","",IF(F20<BD$2,REF!$B$18,"")) | BH20: =IF((BD20>=REF!$B$6),(IF(BD20="","",IF(OR(AZ20="ASS",$D20="CIR",$D20=""),"",IF(OR($D20="CC",$D20="CD",$D20="DIV"),BD20-(3/24),"")))),"") | BK20: =(HOUR(BJ20)*60)+MINUTE(BJ20) -> 0 | BL20: =IF(BJ$2>E20,G20,0) | BM20: =IF(F20="","",IF(F20<BJ$2,REF!$B$18,"")) | BN20: =IF((BJ20>=REF!$B$6),(IF(BJ20="","",IF(OR(BF20="ASS",$D20="CIR",$D20=""),"",IF(OR($D20="CC",$D20="CD",$D20="DIV"),BJ20-(3/24),"")))),"") | BQ20: =(HOUR(BP20)*60)+MINUTE(BP20) -> 0 | BR20: =IF(BP$2>E20,G20,0) | BS20: =IF(F20="","",IF(F20<BP$2,REF!$B$18,"")) | BT20: =IF((BP20>=REF!$B$6),(IF(BP20="","",IF(OR(BL20="ASS",$D20="CIR",$D20=""),"",IF(OR($D20="CC",$D20="CD",$D20="DIV"),BP20-(3/24),"")))),"") | BW20: =(HOUR(BV20)*60)+MINUTE(BV20) -> 0 | BX20: =IF(BV$2>E20,G20,0) | BY20: =IF(F20="","",IF(F20<BV$2,REF!$B$18,"")) | BZ20: =IF((BV20>=REF!$B$6),(IF(BV20="","",IF(OR(BR20="ASS",$D20="CIR",$D20=""),"",IF(OR($D20="CC",$D20="CD",$D20="DIV"),BV20-(3/24),"")))),"") | CB20: =SUM(H20,N20,T20,Z20,AF20,AL20,AR20,AX20,BD20,BJ20,BP20,BV20) -> 0 | CC20: =SUM(M20,S20,Y20,AE20,AK20,AQ20,AW20,BC20,BI20,BO20,BU20,CA20) -> 0
G21: =IF(A21="","",IF(D21="ASS",REF!B$11+REF!B$9,IF(D21="CC",REF!B$10+REF!B$9,IF(D21="CIR",REF!B$12+REF!B$9,IF(D21="CD",REF!B$10+REF!B$9,IF(D21="DIV",REF!B$13+REF!B$9,"erreur")))))) | I21: =(HOUR(H21)*60)+MINUTE(H21) -> 0 | J21: =IF(H$2>E21,G21,0) | K21: =IF(F21="","",IF(F21<H$2,REF!$B$18,"")) | L21: =IF((H21>=REF!$B$6),(IF(H21="","",IF(OR(D21="ASS",$D21="CIR",$D21=""),"",IF(OR($D21="CC",$D21="CD",$D21="DIV"),H21-(3/24),"")))),"") | O21: =(HOUR(N21)*60)+MINUTE(N21) -> 0 | P21: =IF(N$2>E21,G21,0) | Q21: =IF(F21="","",IF(F21<N$2,REF!$B$18,"")) | R21: =IF((N21>=REF!$B$6),(IF(N21="","",IF(OR(J21="ASS",$D21="CIR",$D21=""),"",IF(OR($D21="CC",$D21="CD",$D21="DIV"),N21-(3/24),"")))),"") | U21: =(HOUR(T21)*60)+MINUTE(T21) -> 0 | V21: =IF(T$2>E21,G21,0) | W21: =IF(F21="","",IF(F21<T$2,REF!$B$18,"")) | X21: =IF((T21>=REF!$B$6),(IF(T21="","",IF(OR(P21="ASS",$D21="CIR",$D21=""),"",IF(OR($D21="CC",$D21="CD",$D21="DIV"),T21-(3/24),"")))),"") | AA21: =(HOUR(Z21)*60)+MINUTE(Z21) -> 0 | AB21: =IF(Z$2>E21,G21,0) | AC21: =IF(F21="","",IF(F21<Z$2,REF!$B$18,"")) | AD21: =IF((Z21>=REF!$B$6),(IF(Z21="","",IF(OR(V21="ASS",$D21="CIR",$D21=""),"",IF(OR($D21="CC",$D21="CD",$D21="DIV"),Z21-(3/24),"")))),"") | AG21: =(HOUR(AF21)*60)+MINUTE(AF21) -> 0 | AH21: =IF(AF$2>E21,G21,0) | AI21: =IF(F21="","",IF(F21<AF$2,REF!$B$18,"")) | AJ21: =IF((AF21>=REF!$B$6),(IF(AF21="","",IF(OR(AB21="ASS",$D21="CIR",$D21=""),"",IF(OR($D21="CC",$D21="CD",$D21="DIV"),AF21-(3/24),"")))),"") | AM21: =(HOUR(AL21)*60)+MINUTE(AL21) -> 0 | AN21: =IF(AL$2>E21,G21,0) | AO21: =IF(F21="","",IF(F21<AL$2,REF!$B$18,"")) | AP21: =IF((AL21>=REF!$B$6),(IF(AL21="","",IF(OR(AH21="ASS",$D21="CIR",$D21=""),"",IF(OR($D21="CC",$D21="CD",$D21="DIV"),AL21-(3/24),"")))),"") | AS21: =(HOUR(AR21)*60)+MINUTE(AR21) -> 0 | AT21: =IF(AR$2>E21,G21,0) | AU21: =IF(F21="","",IF(F21<AR$2,REF!$B$18,"")) | AV21: =IF((AR21>=REF!$B$6),(IF(AR21="","",IF(OR(AN21="ASS",$D21="CIR",$D21=""),"",IF(OR($D21="CC",$D21="CD",$D21="DIV"),AR21-(3/24),"")))),"") | AY21: =(HOUR(AX21)*60)+MINUTE(AX21) -> 0 | AZ21: =IF(AX$2>E21,G21,0) | BA21: =IF(F21="","",IF(F21<AX$2,REF!$B$18,"")) | BB21: =IF((AX21>=REF!$B$6),(IF(AX21="","",IF(OR(AT21="ASS",$D21="CIR",$D21=""),"",IF(OR($D21="CC",$D21="CD",$D21="DIV"),AX21-(3/24),"")))),"") | BE21: =(HOUR(BD21)*60)+MINUTE(BD21) -> 0 | BF21: =IF(BD$2>E21,G21,0) | BG21: =IF(F21="","",IF(F21<BD$2,REF!$B$18,"")) | BH21: =IF((BD21>=REF!$B$6),(IF(BD21="","",IF(OR(AZ21="ASS",$D21="CIR",$D21=""),"",IF(OR($D21="CC",$D21="CD",$D21="DIV"),BD21-(3/24),"")))),"") | BK21: =(HOUR(BJ21)*60)+MINUTE(BJ21) -> 0 | BL21: =IF(BJ$2>E21,G21,0) | BM21: =IF(F21="","",IF(F21<BJ$2,REF!$B$18,"")) | BN21: =IF((BJ21>=REF!$B$6),(IF(BJ21="","",IF(OR(BF21="ASS",$D21="CIR",$D21=""),"",IF(OR($D21="CC",$D21="CD",$D21="DIV"),BJ21-(3/24),"")))),"") | BQ21: =(HOUR(BP21)*60)+MINUTE(BP21) -> 0 | BR21: =IF(BP$2>E21,G21,0) | BS21: =IF(F21="","",IF(F21<BP$2,REF!$B$18,"")) | BT21: =IF((BP21>=REF!$B$6),(IF(BP21="","",IF(OR(BL21="ASS",$D21="CIR",$D21=""),"",IF(OR($D21="CC",$D21="CD",$D21="DIV"),BP21-(3/24),"")))),"") | BW21: =(HOUR(BV21)*60)+MINUTE(BV21) -> 0 | BX21: =IF(BV$2>E21,G21,0) | BY21: =IF(F21="","",IF(F21<BV$2,REF!$B$18,"")) | BZ21: =IF((BV21>=REF!$B$6),(IF(BV21="","",IF(OR(BR21="ASS",$D21="CIR",$D21=""),"",IF(OR($D21="CC",$D21="CD",$D21="DIV"),BV21-(3/24),"")))),"") | CB21: =SUM(H21,N21,T21,Z21,AF21,AL21,AR21,AX21,BD21,BJ21,BP21,BV21) -> 0 | CC21: =SUM(M21,S21,Y21,AE21,AK21,AQ21,AW21,BC21,BI21,BO21,BU21,CA21) -> 0
G22: =IF(A22="","",IF(D22="ASS",REF!B$11+REF!B$9,IF(D22="CC",REF!B$10+REF!B$9,IF(D22="CIR",REF!B$12+REF!B$9,IF(D22="CD",REF!B$10+REF!B$9,IF(D22="DIV",REF!B$13+REF!B$9,"erreur")))))) | I22: =(HOUR(H22)*60)+MINUTE(H22) -> 0 | J22: =IF(H$2>E22,G22,0) | K22: =IF(F22="","",IF(F22<H$2,REF!$B$18,"")) | L22: =IF((H22>=REF!$B$6),(IF(H22="","",IF(OR(D22="ASS",$D22="CIR",$D22=""),"",IF(OR($D22="CC",$D22="CD",$D22="DIV"),H22-(3/24),"")))),"") | O22: =(HOUR(N22)*60)+MINUTE(N22) -> 0 | P22: =IF(N$2>E22,G22,0) | Q22: =IF(F22="","",IF(F22<N$2,REF!$B$18,"")) | R22: =IF((N22>=REF!$B$6),(IF(N22="","",IF(OR(J22="ASS",$D22="CIR",$D22=""),"",IF(OR($D22="CC",$D22="CD",$D22="DIV"),N22-(3/24),"")))),"") | U22: =(HOUR(T22)*60)+MINUTE(T22) -> 0 | V22: =IF(T$2>E22,G22,0) | W22: =IF(F22="","",IF(F22<T$2,REF!$B$18,"")) | X22: =IF((T22>=REF!$B$6),(IF(T22="","",IF(OR(P22="ASS",$D22="CIR",$D22=""),"",IF(OR($D22="CC",$D22="CD",$D22="DIV"),T22-(3/24),"")))),"") | AA22: =(HOUR(Z22)*60)+MINUTE(Z22) -> 0 | AB22: =IF(Z$2>E22,G22,0) | AC22: =IF(F22="","",IF(F22<Z$2,REF!$B$18,"")) | AD22: =IF((Z22>=REF!$B$6),(IF(Z22="","",IF(OR(V22="ASS",$D22="CIR",$D22=""),"",IF(OR($D22="CC",$D22="CD",$D22="DIV"),Z22-(3/24),"")))),"") | AG22: =(HOUR(AF22)*60)+MINUTE(AF22) -> 0 | AH22: =IF(AF$2>E22,G22,0) | AI22: =IF(F22="","",IF(F22<AF$2,REF!$B$18,"")) | AJ22: =IF((AF22>=REF!$B$6),(IF(AF22="","",IF(OR(AB22="ASS",$D22="CIR",$D22=""),"",IF(OR($D22="CC",$D22="CD",$D22="DIV"),AF22-(3/24),"")))),"") | AM22: =(HOUR(AL22)*60)+MINUTE(AL22) -> 0 | AN22: =IF(AL$2>E22,G22,0) | AO22: =IF(F22="","",IF(F22<AL$2,REF!$B$18,"")) | AP22: =IF((AL22>=REF!$B$6),(IF(AL22="","",IF(OR(AH22="ASS",$D22="CIR",$D22=""),"",IF(OR($D22="CC",$D22="CD",$D22="DIV"),AL22-(3/24),"")))),"") | AS22: =(HOUR(AR22)*60)+MINUTE(AR22) -> 0 | AT22: =IF(AR$2>E22,G22,0) | AU22: =IF(F22="","",IF(F22<AR$2,REF!$B$18,"")) | AV22: =IF((AR22>=REF!$B$6),(IF(AR22="","",IF(OR(AN22="ASS",$D22="CIR",$D22=""),"",IF(OR($D22="CC",$D22="CD",$D22="DIV"),AR22-(3/24),"")))),"") | AY22: =(HOUR(AX22)*60)+MINUTE(AX22) -> 0 | AZ22: =IF(AX$2>E22,G22,0) | BA22: =IF(F22="","",IF(F22<AX$2,REF!$B$18,"")) | BB22: =IF((AX22>=REF!$B$6),(IF(AX22="","",IF(OR(AT22="ASS",$D22="CIR",$D22=""),"",IF(OR($D22="CC",$D22="CD",$D22="DIV"),AX22-(3/24),"")))),"") | BE22: =(HOUR(BD22)*60)+MINUTE(BD22) -> 0 | BF22: =IF(BD$2>E22,G22,0) | BG22: =IF(F22="","",IF(F22<BD$2,REF!$B$18,"")) | BH22: =IF((BD22>=REF!$B$6),(IF(BD22="","",IF(OR(AZ22="ASS",$D22="CIR",$D22=""),"",IF(OR($D22="CC",$D22="CD",$D22="DIV"),BD22-(3/24),"")))),"") | BK22: =(HOUR(BJ22)*60)+MINUTE(BJ22) -> 0 | BL22: =IF(BJ$2>E22,G22,0) | BM22: =IF(F22="","",IF(F22<BJ$2,REF!$B$18,"")) | BN22: =IF((BJ22>=REF!$B$6),(IF(BJ22="","",IF(OR(BF22="ASS",$D22="CIR",$D22=""),"",IF(OR($D22="CC",$D22="CD",$D22="DIV"),BJ22-(3/24),"")))),"") | BQ22: =(HOUR(BP22)*60)+MINUTE(BP22) -> 0 | BR22: =IF(BP$2>E22,G22,0) | BS22: =IF(F22="","",IF(F22<BP$2,REF!$B$18,"")) | BT22: =IF((BP22>=REF!$B$6),(IF(BP22="","",IF(OR(BL22="ASS",$D22="CIR",$D22=""),"",IF(OR($D22="CC",$D22="CD",$D22="DIV"),BP22-(3/24),"")))),"") | BW22: =(HOUR(BV22)*60)+MINUTE(BV22) -> 0 | BX22: =IF(BV$2>E22,G22,0) | BY22: =IF(F22="","",IF(F22<BV$2,REF!$B$18,"")) | BZ22: =IF((BV22>=REF!$B$6),(IF(BV22="","",IF(OR(BR22="ASS",$D22="CIR",$D22=""),"",IF(OR($D22="CC",$D22="CD",$D22="DIV"),BV22-(3/24),"")))),"") | CB22: =SUM(H22,N22,T22,Z22,AF22,AL22,AR22,AX22,BD22,BJ22,BP22,BV22) -> 0 | CC22: =SUM(M22,S22,Y22,AE22,AK22,AQ22,AW22,BC22,BI22,BO22,BU22,CA22) -> 0
G23: =IF(A23="","",IF(D23="ASS",REF!B$11+REF!B$9,IF(D23="CC",REF!B$10+REF!B$9,IF(D23="CIR",REF!B$12+REF!B$9,IF(D23="CD",REF!B$10+REF!B$9,IF(D23="DIV",REF!B$13+REF!B$9,"erreur")))))) | I23: =(HOUR(H23)*60)+MINUTE(H23) -> 0 | J23: =IF(H$2>E23,G23,0) | K23: =IF(F23="","",IF(F23<H$2,REF!$B$18,"")) | L23: =IF((H23>=REF!$B$6),(IF(H23="","",IF(OR(D23="ASS",$D23="CIR",$D23=""),"",IF(OR($D23="CC",$D23="CD",$D23="DIV"),H23-(3/24),"")))),"") | O23: =(HOUR(N23)*60)+MINUTE(N23) -> 0 | P23: =IF(N$2>E23,G23,0) | Q23: =IF(F23="","",IF(F23<N$2,REF!$B$18,"")) | R23: =IF((N23>=REF!$B$6),(IF(N23="","",IF(OR(J23="ASS",$D23="CIR",$D23=""),"",IF(OR($D23="CC",$D23="CD",$D23="DIV"),N23-(3/24),"")))),"") | U23: =(HOUR(T23)*60)+MINUTE(T23) -> 0 | V23: =IF(T$2>E23,G23,0) | W23: =IF(F23="","",IF(F23<T$2,REF!$B$18,"")) | X23: =IF((T23>=REF!$B$6),(IF(T23="","",IF(OR(P23="ASS",$D23="CIR",$D23=""),"",IF(OR($D23="CC",$D23="CD",$D23="DIV"),T23-(3/24),"")))),"") | AA23: =(HOUR(Z23)*60)+MINUTE(Z23) -> 0 | AB23: =IF(Z$2>E23,G23,0) | AC23: =IF(F23="","",IF(F23<Z$2,REF!$B$18,"")) | AD23: =IF((Z23>=REF!$B$6),(IF(Z23="","",IF(OR(V23="ASS",$D23="CIR",$D23=""),"",IF(OR($D23="CC",$D23="CD",$D23="DIV"),Z23-(3/24),"")))),"") | AG23: =(HOUR(AF23)*60)+MINUTE(AF23) -> 0 | AH23: =IF(AF$2>E23,G23,0) | AI23: =IF(F23="","",IF(F23<AF$2,REF!$B$18,"")) | AJ23: =IF((AF23>=REF!$B$6),(IF(AF23="","",IF(OR(AB23="ASS",$D23="CIR",$D23=""),"",IF(OR($D23="CC",$D23="CD",$D23="DIV"),AF23-(3/24),"")))),"") | AM23: =(HOUR(AL23)*60)+MINUTE(AL23) -> 0 | AN23: =IF(AL$2>E23,G23,0) | AO23: =IF(F23="","",IF(F23<AL$2,REF!$B$18,"")) | AP23: =IF((AL23>=REF!$B$6),(IF(AL23="","",IF(OR(AH23="ASS",$D23="CIR",$D23=""),"",IF(OR($D23="CC",$D23="CD",$D23="DIV"),AL23-(3/24),"")))),"") | AS23: =(HOUR(AR23)*60)+MINUTE(AR23) -> 0 | AT23: =IF(AR$2>E23,G23,0) | AU23: =IF(F23="","",IF(F23<AR$2,REF!$B$18,"")) | AV23: =IF((AR23>=REF!$B$6),(IF(AR23="","",IF(OR(AN23="ASS",$D23="CIR",$D23=""),"",IF(OR($D23="CC",$D23="CD",$D23="DIV"),AR23-(3/24),"")))),"") | AY23: =(HOUR(AX23)*60)+MINUTE(AX23) -> 0 | AZ23: =IF(AX$2>E23,G23,0) | BA23: =IF(F23="","",IF(F23<AX$2,REF!$B$18,"")) | BB23: =IF((AX23>=REF!$B$6),(IF(AX23="","",IF(OR(AT23="ASS",$D23="CIR",$D23=""),"",IF(OR($D23="CC",$D23="CD",$D23="DIV"),AX23-(3/24),"")))),"") | BE23: =(HOUR(BD23)*60)+MINUTE(BD23) -> 0 | BF23: =IF(BD$2>E23,G23,0) | BG23: =IF(F23="","",IF(F23<BD$2,REF!$B$18,"")) | BH23: =IF((BD23>=REF!$B$6),(IF(BD23="","",IF(OR(AZ23="ASS",$D23="CIR",$D23=""),"",IF(OR($D23="CC",$D23="CD",$D23="DIV"),BD23-(3/24),"")))),"") | BK23: =(HOUR(BJ23)*60)+MINUTE(BJ23) -> 0 | BL23: =IF(BJ$2>E23,G23,0) | BM23: =IF(F23="","",IF(F23<BJ$2,REF!$B$18,"")) | BN23: =IF((BJ23>=REF!$B$6),(IF(BJ23="","",IF(OR(BF23="ASS",$D23="CIR",$D23=""),"",IF(OR($D23="CC",$D23="CD",$D23="DIV"),BJ23-(3/24),"")))),"") | BQ23: =(HOUR(BP23)*60)+MINUTE(BP23) -> 0 | BR23: =IF(BP$2>E23,G23,0) | BS23: =IF(F23="","",IF(F23<BP$2,REF!$B$18,"")) | BT23: =IF((BP23>=REF!$B$6),(IF(BP23="","",IF(OR(BL23="ASS",$D23="CIR",$D23=""),"",IF(OR($D23="CC",$D23="CD",$D23="DIV"),BP23-(3/24),"")))),"") | BW23: =(HOUR(BV23)*60)+MINUTE(BV23) -> 0 | BX23: =IF(BV$2>E23,G23,0) | BY23: =IF(F23="","",IF(F23<BV$2,REF!$B$18,"")) | BZ23: =IF((BV23>=REF!$B$6),(IF(BV23="","",IF(OR(BR23="ASS",$D23="CIR",$D23=""),"",IF(OR($D23="CC",$D23="CD",$D23="DIV"),BV23-(3/24),"")))),"") | CB23: =SUM(H23,N23,T23,Z23,AF23,AL23,AR23,AX23,BD23,BJ23,BP23,BV23) -> 0 | CC23: =SUM(M23,S23,Y23,AE23,AK23,AQ23,AW23,BC23,BI23,BO23,BU23,CA23) -> 0
G24: =IF(A24="","",IF(D24="ASS",REF!B$11+REF!B$9,IF(D24="CC",REF!B$10+REF!B$9,IF(D24="CIR",REF!B$12+REF!B$9,IF(D24="CD",REF!B$10+REF!B$9,IF(D24="DIV",REF!B$13+REF!B$9,"erreur")))))) | I24: =(HOUR(H24)*60)+MINUTE(H24) -> 0 | J24: =IF(H$2>E24,G24,0) | K24: =IF(F24="","",IF(F24<H$2,REF!$B$18,"")) | L24: =IF((H24>=REF!$B$6),(IF(H24="","",IF(OR(D24="ASS",$D24="CIR",$D24=""),"",IF(OR($D24="CC",$D24="CD",$D24="DIV"),H24-(3/24),"")))),"") | O24: =(HOUR(N24)*60)+MINUTE(N24) -> 0 | P24: =IF(N$2>E24,G24,0) | Q24: =IF(F24="","",IF(F24<N$2,REF!$B$18,"")) | R24: =IF((N24>=REF!$B$6),(IF(N24="","",IF(OR(J24="ASS",$D24="CIR",$D24=""),"",IF(OR($D24="CC",$D24="CD",$D24="DIV"),N24-(3/24),"")))),"") | U24: =(HOUR(T24)*60)+MINUTE(T24) -> 0 | V24: =IF(T$2>E24,G24,0) | W24: =IF(F24="","",IF(F24<T$2,REF!$B$18,"")) | X24: =IF((T24>=REF!$B$6),(IF(T24="","",IF(OR(P24="ASS",$D24="CIR",$D24=""),"",IF(OR($D24="CC",$D24="CD",$D24="DIV"),T24-(3/24),"")))),"") | AA24: =(HOUR(Z24)*60)+MINUTE(Z24) -> 0 | AB24: =IF(Z$2>E24,G24,0) | AC24: =IF(F24="","",IF(F24<Z$2,REF!$B$18,"")) | AD24: =IF((Z24>=REF!$B$6),(IF(Z24="","",IF(OR(V24="ASS",$D24="CIR",$D24=""),"",IF(OR($D24="CC",$D24="CD",$D24="DIV"),Z24-(3/24),"")))),"") | AG24: =(HOUR(AF24)*60)+MINUTE(AF24) -> 0 | AH24: =IF(AF$2>E24,G24,0) | AI24: =IF(F24="","",IF(F24<AF$2,REF!$B$18,"")) | AJ24: =IF((AF24>=REF!$B$6),(IF(AF24="","",IF(OR(AB24="ASS",$D24="CIR",$D24=""),"",IF(OR($D24="CC",$D24="CD",$D24="DIV"),AF24-(3/24),"")))),"") | AM24: =(HOUR(AL24)*60)+MINUTE(AL24) -> 0 | AN24: =IF(AL$2>E24,G24,0) | AO24: =IF(F24="","",IF(F24<AL$2,REF!$B$18,"")) | AP24: =IF((AL24>=REF!$B$6),(IF(AL24="","",IF(OR(AH24="ASS",$D24="CIR",$D24=""),"",IF(OR($D24="CC",$D24="CD",$D24="DIV"),AL24-(3/24),"")))),"") | AS24: =(HOUR(AR24)*60)+MINUTE(AR24) -> 0 | AT24: =IF(AR$2>E24,G24,0) | AU24: =IF(F24="","",IF(F24<AR$2,REF!$B$18,"")) | AV24: =IF((AR24>=REF!$B$6),(IF(AR24="","",IF(OR(AN24="ASS",$D24="CIR",$D24=""),"",IF(OR($D24="CC",$D24="CD",$D24="DIV"),AR24-(3/24),"")))),"") | AY24: =(HOUR(AX24)*60)+MINUTE(AX24) -> 0 | AZ24: =IF(AX$2>E24,G24,0) | BA24: =IF(F24="","",IF(F24<AX$2,REF!$B$18,"")) | BB24: =IF((AX24>=REF!$B$6),(IF(AX24="","",IF(OR(AT24="ASS",$D24="CIR",$D24=""),"",IF(OR($D24="CC",$D24="CD",$D24="DIV"),AX24-(3/24),"")))),"") | BE24: =(HOUR(BD24)*60)+MINUTE(BD24) -> 0 | BF24: =IF(BD$2>E24,G24,0) | BG24: =IF(F24="","",IF(F24<BD$2,REF!$B$18,"")) | BH24: =IF((BD24>=REF!$B$6),(IF(BD24="","",IF(OR(AZ24="ASS",$D24="CIR",$D24=""),"",IF(OR($D24="CC",$D24="CD",$D24="DIV"),BD24-(3/24),"")))),"") | BK24: =(HOUR(BJ24)*60)+MINUTE(BJ24) -> 0 | BL24: =IF(BJ$2>E24,G24,0) | BM24: =IF(F24="","",IF(F24<BJ$2,REF!$B$18,"")) | BN24: =IF((BJ24>=REF!$B$6),(IF(BJ24="","",IF(OR(BF24="ASS",$D24="CIR",$D24=""),"",IF(OR($D24="CC",$D24="CD",$D24="DIV"),BJ24-(3/24),"")))),"") | BQ24: =(HOUR(BP24)*60)+MINUTE(BP24) -> 0 | BR24: =IF(BP$2>E24,G24,0) | BS24: =IF(F24="","",IF(F24<BP$2,REF!$B$18,"")) | BT24: =IF((BP24>=REF!$B$6),(IF(BP24="","",IF(OR(BL24="ASS",$D24="CIR",$D24=""),"",IF(OR($D24="CC",$D24="CD",$D24="DIV"),BP24-(3/24),"")))),"") | BW24: =(HOUR(BV24)*60)+MINUTE(BV24) -> 0 | BX24: =IF(BV$2>E24,G24,0) | BY24: =IF(F24="","",IF(F24<BV$2,REF!$B$18,"")) | BZ24: =IF((BV24>=REF!$B$6),(IF(BV24="","",IF(OR(BR24="ASS",$D24="CIR",$D24=""),"",IF(OR($D24="CC",$D24="CD",$D24="DIV"),BV24-(3/24),"")))),"") | CB24: =SUM(H24,N24,T24,Z24,AF24,AL24,AR24,AX24,BD24,BJ24,BP24,BV24) -> 0 | CC24: =SUM(M24,S24,Y24,AE24,AK24,AQ24,AW24,BC24,BI24,BO24,BU24,CA24) -> 0
G25: =IF(A25="","",IF(D25="ASS",REF!B$11+REF!B$9,IF(D25="CC",REF!B$10+REF!B$9,IF(D25="CIR",REF!B$12+REF!B$9,IF(D25="CD",REF!B$10+REF!B$9,IF(D25="DIV",REF!B$13+REF!B$9,"erreur")))))) | I25: =(HOUR(H25)*60)+MINUTE(H25) -> 0 | J25: =IF(H$2>E25,G25,0) | K25: =IF(F25="","",IF(F25<H$2,REF!$B$18,"")) | L25: =IF((H25>=REF!$B$6),(IF(H25="","",IF(OR(D25="ASS",$D25="CIR",$D25=""),"",IF(OR($D25="CC",$D25="CD",$D25="DIV"),H25-(3/24),"")))),"") | O25: =(HOUR(N25)*60)+MINUTE(N25) -> 0 | P25: =IF(N$2>E25,G25,0) | Q25: =IF(F25="","",IF(F25<N$2,REF!$B$18,"")) | R25: =IF((N25>=REF!$B$6),(IF(N25="","",IF(OR(J25="ASS",$D25="CIR",$D25=""),"",IF(OR($D25="CC",$D25="CD",$D25="DIV"),N25-(3/24),"")))),"") | U25: =(HOUR(T25)*60)+MINUTE(T25) -> 0 | V25: =IF(T$2>E25,G25,0) | W25: =IF(F25="","",IF(F25<T$2,REF!$B$18,"")) | X25: =IF((T25>=REF!$B$6),(IF(T25="","",IF(OR(P25="ASS",$D25="CIR",$D25=""),"",IF(OR($D25="CC",$D25="CD",$D25="DIV"),T25-(3/24),"")))),"") | AA25: =(HOUR(Z25)*60)+MINUTE(Z25) -> 0 | AB25: =IF(Z$2>E25,G25,0) | AC25: =IF(F25="","",IF(F25<Z$2,REF!$B$18,"")) | AD25: =IF((Z25>=REF!$B$6),(IF(Z25="","",IF(OR(V25="ASS",$D25="CIR",$D25=""),"",IF(OR($D25="CC",$D25="CD",$D25="DIV"),Z25-(3/24),"")))),"") | AG25: =(HOUR(AF25)*60)+MINUTE(AF25) -> 0 | AH25: =IF(AF$2>E25,G25,0) | AI25: =IF(F25="","",IF(F25<AF$2,REF!$B$18,"")) | AJ25: =IF((AF25>=REF!$B$6),(IF(AF25="","",IF(OR(AB25="ASS",$D25="CIR",$D25=""),"",IF(OR($D25="CC",$D25="CD",$D25="DIV"),AF25-(3/24),"")))),"") | AM25: =(HOUR(AL25)*60)+MINUTE(AL25) -> 0 | AN25: =IF(AL$2>E25,G25,0) | AO25: =IF(F25="","",IF(F25<AL$2,REF!$B$18,"")) | AP25: =IF((AL25>=REF!$B$6),(IF(AL25="","",IF(OR(AH25="ASS",$D25="CIR",$D25=""),"",IF(OR($D25="CC",$D25="CD",$D25="DIV"),AL25-(3/24),"")))),"") | AS25: =(HOUR(AR25)*60)+MINUTE(AR25) -> 0 | AT25: =IF(AR$2>E25,G25,0) | AU25: =IF(F25="","",IF(F25<AR$2,REF!$B$18,"")) | AV25: =IF((AR25>=REF!$B$6),(IF(AR25="","",IF(OR(AN25="ASS",$D25="CIR",$D25=""),"",IF(OR($D25="CC",$D25="CD",$D25="DIV"),AR25-(3/24),"")))),"") | AY25: =(HOUR(AX25)*60)+MINUTE(AX25) -> 0 | AZ25: =IF(AX$2>E25,G25,0) | BA25: =IF(F25="","",IF(F25<AX$2,REF!$B$18,"")) | BB25: =IF((AX25>=REF!$B$6),(IF(AX25="","",IF(OR(AT25="ASS",$D25="CIR",$D25=""),"",IF(OR($D25="CC",$D25="CD",$D25="DIV"),AX25-(3/24),"")))),"") | BE25: =(HOUR(BD25)*60)+MINUTE(BD25) -> 0 | BF25: =IF(BD$2>E25,G25,0) | BG25: =IF(F25="","",IF(F25<BD$2,REF!$B$18,"")) | BH25: =IF((BD25>=REF!$B$6),(IF(BD25="","",IF(OR(AZ25="ASS",$D25="CIR",$D25=""),"",IF(OR($D25="CC",$D25="CD",$D25="DIV"),BD25-(3/24),"")))),"") | BK25: =(HOUR(BJ25)*60)+MINUTE(BJ25) -> 0 | BL25: =IF(BJ$2>E25,G25,0) | BM25: =IF(F25="","",IF(F25<BJ$2,REF!$B$18,"")) | BN25: =IF((BJ25>=REF!$B$6),(IF(BJ25="","",IF(OR(BF25="ASS",$D25="CIR",$D25=""),"",IF(OR($D25="CC",$D25="CD",$D25="DIV"),BJ25-(3/24),"")))),"") | BQ25: =(HOUR(BP25)*60)+MINUTE(BP25) -> 0 | BR25: =IF(BP$2>E25,G25,0) | BS25: =IF(F25="","",IF(F25<BP$2,REF!$B$18,"")) | BT25: =IF((BP25>=REF!$B$6),(IF(BP25="","",IF(OR(BL25="ASS",$D25="CIR",$D25=""),"",IF(OR($D25="CC",$D25="CD",$D25="DIV"),BP25-(3/24),"")))),"") | BW25: =(HOUR(BV25)*60)+MINUTE(BV25) -> 0 | BX25: =IF(BV$2>E25,G25,0) | BY25: =IF(F25="","",IF(F25<BV$2,REF!$B$18,"")) | BZ25: =IF((BV25>=REF!$B$6),(IF(BV25="","",IF(OR(BR25="ASS",$D25="CIR",$D25=""),"",IF(OR($D25="CC",$D25="CD",$D25="DIV"),BV25-(3/24),"")))),"") | CB25: =SUM(H25,N25,T25,Z25,AF25,AL25,AR25,AX25,BD25,BJ25,BP25,BV25) -> 0 | CC25: =SUM(M25,S25,Y25,AE25,AK25,AQ25,AW25,BC25,BI25,BO25,BU25,CA25) -> 0
G26: =IF(A26="","",IF(D26="ASS",REF!B$11+REF!B$9,IF(D26="CC",REF!B$10+REF!B$9,IF(D26="CIR",REF!B$12+REF!B$9,IF(D26="CD",REF!B$10+REF!B$9,IF(D26="DIV",REF!B$13+REF!B$9,"erreur")))))) | I26: =(HOUR(H26)*60)+MINUTE(H26) -> 0 | J26: =IF(H$2>E26,G26,0) | K26: =IF(F26="","",IF(F26<H$2,REF!$B$18,"")) | L26: =IF((H26>=REF!$B$6),(IF(H26="","",IF(OR(D26="ASS",$D26="CIR",$D26=""),"",IF(OR($D26="CC",$D26="CD",$D26="DIV"),H26-(3/24),"")))),"") | O26: =(HOUR(N26)*60)+MINUTE(N26) -> 0 | P26: =IF(N$2>E26,G26,0) | Q26: =IF(F26="","",IF(F26<N$2,REF!$B$18,"")) | R26: =IF((N26>=REF!$B$6),(IF(N26="","",IF(OR(J26="ASS",$D26="CIR",$D26=""),"",IF(OR($D26="CC",$D26="CD",$D26="DIV"),N26-(3/24),"")))),"") | U26: =(HOUR(T26)*60)+MINUTE(T26) -> 0 | V26: =IF(T$2>E26,G26,0) | W26: =IF(F26="","",IF(F26<T$2,REF!$B$18,"")) | X26: =IF((T26>=REF!$B$6),(IF(T26="","",IF(OR(P26="ASS",$D26="CIR",$D26=""),"",IF(OR($D26="CC",$D26="CD",$D26="DIV"),T26-(3/24),"")))),"") | AA26: =(HOUR(Z26)*60)+MINUTE(Z26) -> 0 | AB26: =IF(Z$2>E26,G26,0) | AC26: =IF(F26="","",IF(F26<Z$2,REF!$B$18,"")) | AD26: =IF((Z26>=REF!$B$6),(IF(Z26="","",IF(OR(V26="ASS",$D26="CIR",$D26=""),"",IF(OR($D26="CC",$D26="CD",$D26="DIV"),Z26-(3/24),"")))),"") | AG26: =(HOUR(AF26)*60)+MINUTE(AF26) -> 0 | AH26: =IF(AF$2>E26,G26,0) | AI26: =IF(F26="","",IF(F26<AF$2,REF!$B$18,"")) | AJ26: =IF((AF26>=REF!$B$6),(IF(AF26="","",IF(OR(AB26="ASS",$D26="CIR",$D26=""),"",IF(OR($D26="CC",$D26="CD",$D26="DIV"),AF26-(3/24),"")))),"") | AM26: =(HOUR(AL26)*60)+MINUTE(AL26) -> 0 | AN26: =IF(AL$2>E26,G26,0) | AO26: =IF(F26="","",IF(F26<AL$2,REF!$B$18,"")) | AP26: =IF((AL26>=REF!$B$6),(IF(AL26="","",IF(OR(AH26="ASS",$D26="CIR",$D26=""),"",IF(OR($D26="CC",$D26="CD",$D26="DIV"),AL26-(3/24),"")))),"") | AS26: =(HOUR(AR26)*60)+MINUTE(AR26) -> 0 | AT26: =IF(AR$2>E26,G26,0) | AU26: =IF(F26="","",IF(F26<AR$2,REF!$B$18,"")) | AV26: =IF((AR26>=REF!$B$6),(IF(AR26="","",IF(OR(AN26="ASS",$D26="CIR",$D26=""),"",IF(OR($D26="CC",$D26="CD",$D26="DIV"),AR26-(3/24),"")))),"") | AY26: =(HOUR(AX26)*60)+MINUTE(AX26) -> 0 | AZ26: =IF(AX$2>E26,G26,0) | BA26: =IF(F26="","",IF(F26<AX$2,REF!$B$18,"")) | BB26: =IF((AX26>=REF!$B$6),(IF(AX26="","",IF(OR(AT26="ASS",$D26="CIR",$D26=""),"",IF(OR($D26="CC",$D26="CD",$D26="DIV"),AX26-(3/24),"")))),"") | BE26: =(HOUR(BD26)*60)+MINUTE(BD26) -> 0 | BF26: =IF(BD$2>E26,G26,0) | BG26: =IF(F26="","",IF(F26<BD$2,REF!$B$18,"")) | BH26: =IF((BD26>=REF!$B$6),(IF(BD26="","",IF(OR(AZ26="ASS",$D26="CIR",$D26=""),"",IF(OR($D26="CC",$D26="CD",$D26="DIV"),BD26-(3/24),"")))),"") | BK26: =(HOUR(BJ26)*60)+MINUTE(BJ26) -> 0 | BL26: =IF(BJ$2>E26,G26,0) | BM26: =IF(F26="","",IF(F26<BJ$2,REF!$B$18,"")) | BN26: =IF((BJ26>=REF!$B$6),(IF(BJ26="","",IF(OR(BF26="ASS",$D26="CIR",$D26=""),"",IF(OR($D26="CC",$D26="CD",$D26="DIV"),BJ26-(3/24),"")))),"") | BQ26: =(HOUR(BP26)*60)+MINUTE(BP26) -> 0 | BR26: =IF(BP$2>E26,G26,0) | BS26: =IF(F26="","",IF(F26<BP$2,REF!$B$18,"")) | BT26: =IF((BP26>=REF!$B$6),(IF(BP26="","",IF(OR(BL26="ASS",$D26="CIR",$D26=""),"",IF(OR($D26="CC",$D26="CD",$D26="DIV"),BP26-(3/24),"")))),"") | BW26: =(HOUR(BV26)*60)+MINUTE(BV26) -> 0 | BX26: =IF(BV$2>E26,G26,0) | BY26: =IF(F26="","",IF(F26<BV$2,REF!$B$18,"")) | BZ26: =IF((BV26>=REF!$B$6),(IF(BV26="","",IF(OR(BR26="ASS",$D26="CIR",$D26=""),"",IF(OR($D26="CC",$D26="CD",$D26="DIV"),BV26-(3/24),"")))),"") | CB26: =SUM(H26,N26,T26,Z26,AF26,AL26,AR26,AX26,BD26,BJ26,BP26,BV26) -> 0 | CC26: =SUM(M26,S26,Y26,AE26,AK26,AQ26,AW26,BC26,BI26,BO26,BU26,CA26) -> 0
G27: =IF(A27="","",IF(D27="ASS",REF!B$11+REF!B$9,IF(D27="CC",REF!B$10+REF!B$9,IF(D27="CIR",REF!B$12+REF!B$9,IF(D27="CD",REF!B$10+REF!B$9,IF(D27="DIV",REF!B$13+REF!B$9,"erreur")))))) | I27: =(HOUR(H27)*60)+MINUTE(H27) -> 0 | J27: =IF(H$2>E27,G27,0) | K27: =IF(F27="","",IF(F27<H$2,REF!$B$18,"")) | L27: =IF((H27>=REF!$B$6),(IF(H27="","",IF(OR(D27="ASS",$D27="CIR",$D27=""),"",IF(OR($D27="CC",$D27="CD",$D27="DIV"),H27-(3/24),"")))),"") | O27: =(HOUR(N27)*60)+MINUTE(N27) -> 0 | P27: =IF(N$2>E27,G27,0) | Q27: =IF(F27="","",IF(F27<N$2,REF!$B$18,"")) | R27: =IF((N27>=REF!$B$6),(IF(N27="","",IF(OR(J27="ASS",$D27="CIR",$D27=""),"",IF(OR($D27="CC",$D27="CD",$D27="DIV"),N27-(3/24),"")))),"") | U27: =(HOUR(T27)*60)+MINUTE(T27) -> 0 | V27: =IF(T$2>E27,G27,0) | W27: =IF(F27="","",IF(F27<T$2,REF!$B$18,"")) | X27: =IF((T27>=REF!$B$6),(IF(T27="","",IF(OR(P27="ASS",$D27="CIR",$D27=""),"",IF(OR($D27="CC",$D27="CD",$D27="DIV"),T27-(3/24),"")))),"") | AA27: =(HOUR(Z27)*60)+MINUTE(Z27) -> 0 | AB27: =IF(Z$2>E27,G27,0) | AC27: =IF(F27="","",IF(F27<Z$2,REF!$B$18,"")) | AD27: =IF((Z27>=REF!$B$6),(IF(Z27="","",IF(OR(V27="ASS",$D27="CIR",$D27=""),"",IF(OR($D27="CC",$D27="CD",$D27="DIV"),Z27-(3/24),"")))),"") | AG27: =(HOUR(AF27)*60)+MINUTE(AF27) -> 0 | AH27: =IF(AF$2>E27,G27,0) | AI27: =IF(F27="","",IF(F27<AF$2,REF!$B$18,"")) | AJ27: =IF((AF27>=REF!$B$6),(IF(AF27="","",IF(OR(AB27="ASS",$D27="CIR",$D27=""),"",IF(OR($D27="CC",$D27="CD",$D27="DIV"),AF27-(3/24),"")))),"") | AM27: =(HOUR(AL27)*60)+MINUTE(AL27) -> 0 | AN27: =IF(AL$2>E27,G27,0) | AO27: =IF(F27="","",IF(F27<AL$2,REF!$B$18,"")) | AP27: =IF((AL27>=REF!$B$6),(IF(AL27="","",IF(OR(AH27="ASS",$D27="CIR",$D27=""),"",IF(OR($D27="CC",$D27="CD",$D27="DIV"),AL27-(3/24),"")))),"") | AS27: =(HOUR(AR27)*60)+MINUTE(AR27) -> 0 | AT27: =IF(AR$2>E27,G27,0) | AU27: =IF(F27="","",IF(F27<AR$2,REF!$B$18,"")) | AV27: =IF((AR27>=REF!$B$6),(IF(AR27="","",IF(OR(AN27="ASS",$D27="CIR",$D27=""),"",IF(OR($D27="CC",$D27="CD",$D27="DIV"),AR27-(3/24),"")))),"") | AY27: =(HOUR(AX27)*60)+MINUTE(AX27) -> 0 | AZ27: =IF(AX$2>E27,G27,0) | BA27: =IF(F27="","",IF(F27<AX$2,REF!$B$18,"")) | BB27: =IF((AX27>=REF!$B$6),(IF(AX27="","",IF(OR(AT27="ASS",$D27="CIR",$D27=""),"",IF(OR($D27="CC",$D27="CD",$D27="DIV"),AX27-(3/24),"")))),"") | BE27: =(HOUR(BD27)*60)+MINUTE(BD27) -> 0 | BF27: =IF(BD$2>E27,G27,0) | BG27: =IF(F27="","",IF(F27<BD$2,REF!$B$18,"")) | BH27: =IF((BD27>=REF!$B$6),(IF(BD27="","",IF(OR(AZ27="ASS",$D27="CIR",$D27=""),"",IF(OR($D27="CC",$D27="CD",$D27="DIV"),BD27-(3/24),"")))),"") | BK27: =(HOUR(BJ27)*60)+MINUTE(BJ27) -> 0 | BL27: =IF(BJ$2>E27,G27,0) | BM27: =IF(F27="","",IF(F27<BJ$2,REF!$B$18,"")) | BN27: =IF((BJ27>=REF!$B$6),(IF(BJ27="","",IF(OR(BF27="ASS",$D27="CIR",$D27=""),"",IF(OR($D27="CC",$D27="CD",$D27="DIV"),BJ27-(3/24),"")))),"") | BQ27: =(HOUR(BP27)*60)+MINUTE(BP27) -> 0 | BR27: =IF(BP$2>E27,G27,0) | BS27: =IF(F27="","",IF(F27<BP$2,REF!$B$18,"")) | BT27: =IF((BP27>=REF!$B$6),(IF(BP27="","",IF(OR(BL27="ASS",$D27="CIR",$D27=""),"",IF(OR($D27="CC",$D27="CD",$D27="DIV"),BP27-(3/24),"")))),"") | BW27: =(HOUR(BV27)*60)+MINUTE(BV27) -> 0 | BX27: =IF(BV$2>E27,G27,0) | BY27: =IF(F27="","",IF(F27<BV$2,REF!$B$18,"")) | BZ27: =IF((BV27>=REF!$B$6),(IF(BV27="","",IF(OR(BR27="ASS",$D27="CIR",$D27=""),"",IF(OR($D27="CC",$D27="CD",$D27="DIV"),BV27-(3/24),"")))),"") | CB27: =SUM(H27,N27,T27,Z27,AF27,AL27,AR27,AX27,BD27,BJ27,BP27,BV27) -> 0 | CC27: =SUM(M27,S27,Y27,AE27,AK27,AQ27,AW27,BC27,BI27,BO27,BU27,CA27) -> 0
G28: =IF(A28="","",IF(D28="ASS",REF!B$11+REF!B$9,IF(D28="CC",REF!B$10+REF!B$9,IF(D28="CIR",REF!B$12+REF!B$9,IF(D28="CD",REF!B$10+REF!B$9,IF(D28="DIV",REF!B$13+REF!B$9,"erreur")))))) | I28: =(HOUR(H28)*60)+MINUTE(H28) -> 0 | J28: =IF(H$2>E28,G28,0) | K28: =IF(F28="","",IF(F28<H$2,REF!$B$18,"")) | L28: =IF((H28>=REF!$B$6),(IF(H28="","",IF(OR(D28="ASS",$D28="CIR",$D28=""),"",IF(OR($D28="CC",$D28="CD",$D28="DIV"),H28-(3/24),"")))),"") | O28: =(HOUR(N28)*60)+MINUTE(N28) -> 0 | P28: =IF(N$2>E28,G28,0) | Q28: =IF(F28="","",IF(F28<N$2,REF!$B$18,"")) | R28: =IF((N28>=REF!$B$6),(IF(N28="","",IF(OR(J28="ASS",$D28="CIR",$D28=""),"",IF(OR($D28="CC",$D28="CD",$D28="DIV"),N28-(3/24),"")))),"") | U28: =(HOUR(T28)*60)+MINUTE(T28) -> 0 | V28: =IF(T$2>E28,G28,0) | W28: =IF(F28="","",IF(F28<T$2,REF!$B$18,"")) | X28: =IF((T28>=REF!$B$6),(IF(T28="","",IF(OR(P28="ASS",$D28="CIR",$D28=""),"",IF(OR($D28="CC",$D28="CD",$D28="DIV"),T28-(3/24),"")))),"") | AA28: =(HOUR(Z28)*60)+MINUTE(Z28) -> 0 | AB28: =IF(Z$2>E28,G28,0) | AC28: =IF(F28="","",IF(F28<Z$2,REF!$B$18,"")) | AD28: =IF((Z28>=REF!$B$6),(IF(Z28="","",IF(OR(V28="ASS",$D28="CIR",$D28=""),"",IF(OR($D28="CC",$D28="CD",$D28="DIV"),Z28-(3/24),"")))),"") | AG28: =(HOUR(AF28)*60)+MINUTE(AF28) -> 0 | AH28: =IF(AF$2>E28,G28,0) | AI28: =IF(F28="","",IF(F28<AF$2,REF!$B$18,"")) | AJ28: =IF((AF28>=REF!$B$6),(IF(AF28="","",IF(OR(AB28="ASS",$D28="CIR",$D28=""),"",IF(OR($D28="CC",$D28="CD",$D28="DIV"),AF28-(3/24),"")))),"") | AM28: =(HOUR(AL28)*60)+MINUTE(AL28) -> 0 | AN28: =IF(AL$2>E28,G28,0) | AO28: =IF(F28="","",IF(F28<AL$2,REF!$B$18,"")) | AP28: =IF((AL28>=REF!$B$6),(IF(AL28="","",IF(OR(AH28="ASS",$D28="CIR",$D28=""),"",IF(OR($D28="CC",$D28="CD",$D28="DIV"),AL28-(3/24),"")))),"") | AS28: =(HOUR(AR28)*60)+MINUTE(AR28) -> 0 | AT28: =IF(AR$2>E28,G28,0) | AU28: =IF(F28="","",IF(F28<AR$2,REF!$B$18,"")) | AV28: =IF((AR28>=REF!$B$6),(IF(AR28="","",IF(OR(AN28="ASS",$D28="CIR",$D28=""),"",IF(OR($D28="CC",$D28="CD",$D28="DIV"),AR28-(3/24),"")))),"") | AY28: =(HOUR(AX28)*60)+MINUTE(AX28) -> 0 | AZ28: =IF(AX$2>E28,G28,0) | BA28: =IF(F28="","",IF(F28<AX$2,REF!$B$18,"")) | BB28: =IF((AX28>=REF!$B$6),(IF(AX28="","",IF(OR(AT28="ASS",$D28="CIR",$D28=""),"",IF(OR($D28="CC",$D28="CD",$D28="DIV"),AX28-(3/24),"")))),"") | BE28: =(HOUR(BD28)*60)+MINUTE(BD28) -> 0 | BF28: =IF(BD$2>E28,G28,0) | BG28: =IF(F28="","",IF(F28<BD$2,REF!$B$18,"")) | BH28: =IF((BD28>=REF!$B$6),(IF(BD28="","",IF(OR(AZ28="ASS",$D28="CIR",$D28=""),"",IF(OR($D28="CC",$D28="CD",$D28="DIV"),BD28-(3/24),"")))),"") | BK28: =(HOUR(BJ28)*60)+MINUTE(BJ28) -> 0 | BL28: =IF(BJ$2>E28,G28,0) | BM28: =IF(F28="","",IF(F28<BJ$2,REF!$B$18,"")) | BN28: =IF((BJ28>=REF!$B$6),(IF(BJ28="","",IF(OR(BF28="ASS",$D28="CIR",$D28=""),"",IF(OR($D28="CC",$D28="CD",$D28="DIV"),BJ28-(3/24),"")))),"") | BQ28: =(HOUR(BP28)*60)+MINUTE(BP28) -> 0 | BR28: =IF(BP$2>E28,G28,0) | BS28: =IF(F28="","",IF(F28<BP$2,REF!$B$18,"")) | BT28: =IF((BP28>=REF!$B$6),(IF(BP28="","",IF(OR(BL28="ASS",$D28="CIR",$D28=""),"",IF(OR($D28="CC",$D28="CD",$D28="DIV"),BP28-(3/24),"")))),"") | BW28: =(HOUR(BV28)*60)+MINUTE(BV28) -> 0 | BX28: =IF(BV$2>E28,G28,0) | BY28: =IF(F28="","",IF(F28<BV$2,REF!$B$18,"")) | BZ28: =IF((BV28>=REF!$B$6),(IF(BV28="","",IF(OR(BR28="ASS",$D28="CIR",$D28=""),"",IF(OR($D28="CC",$D28="CD",$D28="DIV"),BV28-(3/24),"")))),"") | CB28: =SUM(H28,N28,T28,Z28,AF28,AL28,AR28,AX28,BD28,BJ28,BP28,BV28) -> 0 | CC28: =SUM(M28,S28,Y28,AE28,AK28,AQ28,AW28,BC28,BI28,BO28,BU28,CA28) -> 0
G29: =IF(A29="","",IF(D29="ASS",REF!B$11+REF!B$9,IF(D29="CC",REF!B$10+REF!B$9,IF(D29="CIR",REF!B$12+REF!B$9,IF(D29="CD",REF!B$10+REF!B$9,IF(D29="DIV",REF!B$13+REF!B$9,"erreur")))))) | I29: =(HOUR(H29)*60)+MINUTE(H29) -> 0 | J29: =IF(H$2>E29,G29,0) | K29: =IF(F29="","",IF(F29<H$2,REF!$B$18,"")) | L29: =IF((H29>=REF!$B$6),(IF(H29="","",IF(OR(D29="ASS",$D29="CIR",$D29=""),"",IF(OR($D29="CC",$D29="CD",$D29="DIV"),H29-(3/24),"")))),"") | O29: =(HOUR(N29)*60)+MINUTE(N29) -> 0 | P29: =IF(N$2>E29,G29,0) | Q29: =IF(F29="","",IF(F29<N$2,REF!$B$18,"")) | R29: =IF((N29>=REF!$B$6),(IF(N29="","",IF(OR(J29="ASS",$D29="CIR",$D29=""),"",IF(OR($D29="CC",$D29="CD",$D29="DIV"),N29-(3/24),"")))),"") | U29: =(HOUR(T29)*60)+MINUTE(T29) -> 0 | V29: =IF(T$2>E29,G29,0) | W29: =IF(F29="","",IF(F29<T$2,REF!$B$18,"")) | X29: =IF((T29>=REF!$B$6),(IF(T29="","",IF(OR(P29="ASS",$D29="CIR",$D29=""),"",IF(OR($D29="CC",$D29="CD",$D29="DIV"),T29-(3/24),"")))),"") | AA29: =(HOUR(Z29)*60)+MINUTE(Z29) -> 0 | AB29: =IF(Z$2>E29,G29,0) | AC29: =IF(F29="","",IF(F29<Z$2,REF!$B$18,"")) | AD29: =IF((Z29>=REF!$B$6),(IF(Z29="","",IF(OR(V29="ASS",$D29="CIR",$D29=""),"",IF(OR($D29="CC",$D29="CD",$D29="DIV"),Z29-(3/24),"")))),"") | AG29: =(HOUR(AF29)*60)+MINUTE(AF29) -> 0 | AH29: =IF(AF$2>E29,G29,0) | AI29: =IF(F29="","",IF(F29<AF$2,REF!$B$18,"")) | AJ29: =IF((AF29>=REF!$B$6),(IF(AF29="","",IF(OR(AB29="ASS",$D29="CIR",$D29=""),"",IF(OR($D29="CC",$D29="CD",$D29="DIV"),AF29-(3/24),"")))),"") | AM29: =(HOUR(AL29)*60)+MINUTE(AL29) -> 0 | AN29: =IF(AL$2>E29,G29,0) | AO29: =IF(F29="","",IF(F29<AL$2,REF!$B$18,"")) | AP29: =IF((AL29>=REF!$B$6),(IF(AL29="","",IF(OR(AH29="ASS",$D29="CIR",$D29=""),"",IF(OR($D29="CC",$D29="CD",$D29="DIV"),AL29-(3/24),"")))),"") | AS29: =(HOUR(AR29)*60)+MINUTE(AR29) -> 0 | AT29: =IF(AR$2>E29,G29,0) | AU29: =IF(F29="","",IF(F29<AR$2,REF!$B$18,"")) | AV29: =IF((AR29>=REF!$B$6),(IF(AR29="","",IF(OR(AN29="ASS",$D29="CIR",$D29=""),"",IF(OR($D29="CC",$D29="CD",$D29="DIV"),AR29-(3/24),"")))),"") | AY29: =(HOUR(AX29)*60)+MINUTE(AX29) -> 0 | AZ29: =IF(AX$2>E29,G29,0) | BA29: =IF(F29="","",IF(F29<AX$2,REF!$B$18,"")) | BB29: =IF((AX29>=REF!$B$6),(IF(AX29="","",IF(OR(AT29="ASS",$D29="CIR",$D29=""),"",IF(OR($D29="CC",$D29="CD",$D29="DIV"),AX29-(3/24),"")))),"") | BE29: =(HOUR(BD29)*60)+MINUTE(BD29) -> 0 | BF29: =IF(BD$2>E29,G29,0) | BG29: =IF(F29="","",IF(F29<BD$2,REF!$B$18,"")) | BH29: =IF((BD29>=REF!$B$6),(IF(BD29="","",IF(OR(AZ29="ASS",$D29="CIR",$D29=""),"",IF(OR($D29="CC",$D29="CD",$D29="DIV"),BD29-(3/24),"")))),"") | BK29: =(HOUR(BJ29)*60)+MINUTE(BJ29) -> 0 | BL29: =IF(BJ$2>E29,G29,0) | BM29: =IF(F29="","",IF(F29<BJ$2,REF!$B$18,"")) | BN29: =IF((BJ29>=REF!$B$6),(IF(BJ29="","",IF(OR(BF29="ASS",$D29="CIR",$D29=""),"",IF(OR($D29="CC",$D29="CD",$D29="DIV"),BJ29-(3/24),"")))),"") | BQ29: =(HOUR(BP29)*60)+MINUTE(BP29) -> 0 | BR29: =IF(BP$2>E29,G29,0) | BS29: =IF(F29="","",IF(F29<BP$2,REF!$B$18,"")) | BT29: =IF((BP29>=REF!$B$6),(IF(BP29="","",IF(OR(BL29="ASS",$D29="CIR",$D29=""),"",IF(OR($D29="CC",$D29="CD",$D29="DIV"),BP29-(3/24),"")))),"") | BW29: =(HOUR(BV29)*60)+MINUTE(BV29) -> 0 | BX29: =IF(BV$2>E29,G29,0) | BY29: =IF(F29="","",IF(F29<BV$2,REF!$B$18,"")) | BZ29: =IF((BV29>=REF!$B$6),(IF(BV29="","",IF(OR(BR29="ASS",$D29="CIR",$D29=""),"",IF(OR($D29="CC",$D29="CD",$D29="DIV"),BV29-(3/24),"")))),"") | CB29: =SUM(H29,N29,T29,Z29,AF29,AL29,AR29,AX29,BD29,BJ29,BP29,BV29) -> 0 | CC29: =SUM(M29,S29,Y29,AE29,AK29,AQ29,AW29,BC29,BI29,BO29,BU29,CA29) -> 0
G30: =IF(A30="","",IF(D30="ASS",REF!B$11+REF!B$9,IF(D30="CC",REF!B$10+REF!B$9,IF(D30="CIR",REF!B$12+REF!B$9,IF(D30="CD",REF!B$10+REF!B$9,IF(D30="DIV",REF!B$13+REF!B$9,"erreur")))))) | I30: =(HOUR(H30)*60)+MINUTE(H30) -> 0 | J30: =IF(H$2>E30,G30,0) | K30: =IF(F30="","",IF(F30<H$2,REF!$B$18,"")) | L30: =IF((H30>=REF!$B$6),(IF(H30="","",IF(OR(D30="ASS",$D30="CIR",$D30=""),"",IF(OR($D30="CC",$D30="CD",$D30="DIV"),H30-(3/24),"")))),"") | O30: =(HOUR(N30)*60)+MINUTE(N30) -> 0 | P30: =IF(N$2>E30,G30,0) | Q30: =IF(F30="","",IF(F30<N$2,REF!$B$18,"")) | R30: =IF((N30>=REF!$B$6),(IF(N30="","",IF(OR(J30="ASS",$D30="CIR",$D30=""),"",IF(OR($D30="CC",$D30="CD",$D30="DIV"),N30-(3/24),"")))),"") | U30: =(HOUR(T30)*60)+MINUTE(T30) -> 0 | V30: =IF(T$2>E30,G30,0) | W30: =IF(F30="","",IF(F30<T$2,REF!$B$18,"")) | X30: =IF((T30>=REF!$B$6),(IF(T30="","",IF(OR(P30="ASS",$D30="CIR",$D30=""),"",IF(OR($D30="CC",$D30="CD",$D30="DIV"),T30-(3/24),"")))),"") | AA30: =(HOUR(Z30)*60)+MINUTE(Z30) -> 0 | AB30: =IF(Z$2>E30,G30,0) | AC30: =IF(F30="","",IF(F30<Z$2,REF!$B$18,"")) | AD30: =IF((Z30>=REF!$B$6),(IF(Z30="","",IF(OR(V30="ASS",$D30="CIR",$D30=""),"",IF(OR($D30="CC",$D30="CD",$D30="DIV"),Z30-(3/24),"")))),"") | AG30: =(HOUR(AF30)*60)+MINUTE(AF30) -> 0 | AH30: =IF(AF$2>E30,G30,0) | AI30: =IF(F30="","",IF(F30<AF$2,REF!$B$18,"")) | AJ30: =IF((AF30>=REF!$B$6),(IF(AF30="","",IF(OR(AB30="ASS",$D30="CIR",$D30=""),"",IF(OR($D30="CC",$D30="CD",$D30="DIV"),AF30-(3/24),"")))),"") | AM30: =(HOUR(AL30)*60)+MINUTE(AL30) -> 0 | AN30: =IF(AL$2>E30,G30,0) | AO30: =IF(F30="","",IF(F30<AL$2,REF!$B$18,"")) | AP30: =IF((AL30>=REF!$B$6),(IF(AL30="","",IF(OR(AH30="ASS",$D30="CIR",$D30=""),"",IF(OR($D30="CC",$D30="CD",$D30="DIV"),AL30-(3/24),"")))),"") | AS30: =(HOUR(AR30)*60)+MINUTE(AR30) -> 0 | AT30: =IF(AR$2>E30,G30,0) | AU30: =IF(F30="","",IF(F30<AR$2,REF!$B$18,"")) | AV30: =IF((AR30>=REF!$B$6),(IF(AR30="","",IF(OR(AN30="ASS",$D30="CIR",$D30=""),"",IF(OR($D30="CC",$D30="CD",$D30="DIV"),AR30-(3/24),"")))),"") | AY30: =(HOUR(AX30)*60)+MINUTE(AX30) -> 0 | AZ30: =IF(AX$2>E30,G30,0) | BA30: =IF(F30="","",IF(F30<AX$2,REF!$B$18,"")) | BB30: =IF((AX30>=REF!$B$6),(IF(AX30="","",IF(OR(AT30="ASS",$D30="CIR",$D30=""),"",IF(OR($D30="CC",$D30="CD",$D30="DIV"),AX30-(3/24),"")))),"") | BE30: =(HOUR(BD30)*60)+MINUTE(BD30) -> 0 | BF30: =IF(BD$2>E30,G30,0) | BG30: =IF(F30="","",IF(F30<BD$2,REF!$B$18,"")) | BH30: =IF((BD30>=REF!$B$6),(IF(BD30="","",IF(OR(AZ30="ASS",$D30="CIR",$D30=""),"",IF(OR($D30="CC",$D30="CD",$D30="DIV"),BD30-(3/24),"")))),"") | BK30: =(HOUR(BJ30)*60)+MINUTE(BJ30) -> 0 | BL30: =IF(BJ$2>E30,G30,0) | BM30: =IF(F30="","",IF(F30<BJ$2,REF!$B$18,"")) | BN30: =IF((BJ30>=REF!$B$6),(IF(BJ30="","",IF(OR(BF30="ASS",$D30="CIR",$D30=""),"",IF(OR($D30="CC",$D30="CD",$D30="DIV"),BJ30-(3/24),"")))),"") | BQ30: =(HOUR(BP30)*60)+MINUTE(BP30) -> 0 | BR30: =IF(BP$2>E30,G30,0) | BS30: =IF(F30="","",IF(F30<BP$2,REF!$B$18,"")) | BT30: =IF((BP30>=REF!$B$6),(IF(BP30="","",IF(OR(BL30="ASS",$D30="CIR",$D30=""),"",IF(OR($D30="CC",$D30="CD",$D30="DIV"),BP30-(3/24),"")))),"") | BW30: =(HOUR(BV30)*60)+MINUTE(BV30) -> 0 | BX30: =IF(BV$2>E30,G30,0) | BY30: =IF(F30="","",IF(F30<BV$2,REF!$B$18,"")) | BZ30: =IF((BV30>=REF!$B$6),(IF(BV30="","",IF(OR(BR30="ASS",$D30="CIR",$D30=""),"",IF(OR($D30="CC",$D30="CD",$D30="DIV"),BV30-(3/24),"")))),"") | CB30: =SUM(H30,N30,T30,Z30,AF30,AL30,AR30,AX30,BD30,BJ30,BP30,BV30) -> 0 | CC30: =SUM(M30,S30,Y30,AE30,AK30,AQ30,AW30,BC30,BI30,BO30,BU30,CA30) -> 0
... G43: =IF(A43="","",IF(D43="ASS",REF!B$11+REF!B$9,IF(D43="CC",REF!B$10+REF!B$9,IF(D43="CIR",REF!B$12+REF!B$9,IF(D43="CD",REF!B$10+REF!B$9,IF(D43="DIV",REF!B$13+REF!B$9,"erreur")))))) | I43: =(HOUR(H43)*60)+MINUTE(H43) -> 0 | J43: =IF(H$2>E43,G43,0) | K43: =IF(F43="","",IF(F43<H$2,REF!$B$18,"")) | L43: =IF((H43>=REF!$B$6),(IF(H43="","",IF(OR(D43="ASS",$D43="CIR",$D43=""),"",IF(OR($D43="CC",$D43="CD",$D43="DIV"),H43-(3/24),"")))),"") | O43: =(HOUR(N43)*60)+MINUTE(N43) -> 0 | P43: =IF(N$2>E43,G43,0) | Q43: =IF(F43="","",IF(F43<N$2,REF!$B$18,"")) | R43: =IF((N43>=REF!$B$6),(IF(N43="","",IF(OR(J43="ASS",$D43="CIR",$D43=""),"",IF(OR($D43="CC",$D43="CD",$D43="DIV"),N43-(3/24),"")))),"") | U43: =(HOUR(T43)*60)+MINUTE(T43) -> 0 | V43: =IF(T$2>E43,G43,0) | W43: =IF(F43="","",IF(F43<T$2,REF!$B$18,"")) | X43: =IF((T43>=REF!$B$6),(IF(T43="","",IF(OR(P43="ASS",$D43="CIR",$D43=""),"",IF(OR($D43="CC",$D43="CD",$D43="DIV"),T43-(3/24),"")))),"") | AA43: =(HOUR(Z43)*60)+MINUTE(Z43) -> 0 | AB43: =IF(Z$2>E43,G43,0) | AC43: =IF(F43="","",IF(F43<Z$2,REF!$B$18,"")) | AD43: =IF((Z43>=REF!$B$6),(IF(Z43="","",IF(OR(V43="ASS",$D43="CIR",$D43=""),"",IF(OR($D43="CC",$D43="CD",$D43="DIV"),Z43-(3/24),"")))),"") | AG43: =(HOUR(AF43)*60)+MINUTE(AF43) -> 0 | AH43: =IF(AF$2>E43,G43,0) | AI43: =IF(F43="","",IF(F43<AF$2,REF!$B$18,"")) | AJ43: =IF((AF43>=REF!$B$6),(IF(AF43="","",IF(OR(AB43="ASS",$D43="CIR",$D43=""),"",IF(OR($D43="CC",$D43="CD",$D43="DIV"),AF43-(3/24),"")))),"") | AM43: =(HOUR(AL43)*60)+MINUTE(AL43) -> 0 | AN43: =IF(AL$2>E43,G43,0) | AO43: =IF(F43="","",IF(F43<AL$2,REF!$B$18,"")) | AP43: =IF((AL43>=REF!$B$6),(IF(AL43="","",IF(OR(AH43="ASS",$D43="CIR",$D43=""),"",IF(OR($D43="CC",$D43="CD",$D43="DIV"),AL43-(3/24),"")))),"") | AS43: =(HOUR(AR43)*60)+MINUTE(AR43) -> 0 | AT43: =IF(AR$2>E43,G43,0) | AU43: =IF(F43="","",IF(F43<AR$2,REF!$B$18,"")) | AV43: =IF((AR43>=REF!$B$6),(IF(AR43="","",IF(OR(AN43="ASS",$D43="CIR",$D43=""),"",IF(OR($D43="CC",$D43="CD",$D43="DIV"),AR43-(3/24),"")))),"") | AY43: =(HOUR(AX43)*60)+MINUTE(AX43) -> 0 | AZ43: =IF(AX$2>E43,G43,0) | BA43: =IF(F43="","",IF(F43<AX$2,REF!$B$18,"")) | BB43: =IF((AX43>=REF!$B$6),(IF(AX43="","",IF(OR(AT43="ASS",$D43="CIR",$D43=""),"",IF(OR($D43="CC",$D43="CD",$D43="DIV"),AX43-(3/24),"")))),"") | BE43: =(HOUR(BD43)*60)+MINUTE(BD43) -> 0 | BF43: =IF(BD$2>E43,G43,0) | BG43: =IF(F43="","",IF(F43<BD$2,REF!$B$18,"")) | BH43: =IF((BD43>=REF!$B$6),(IF(BD43="","",IF(OR(AZ43="ASS",$D43="CIR",$D43=""),"",IF(OR($D43="CC",$D43="CD",$D43="DIV"),BD43-(3/24),"")))),"") | BK43: =(HOUR(BJ43)*60)+MINUTE(BJ43) -> 0 | BL43: =IF(BJ$2>E43,G43,0) | BM43: =IF(F43="","",IF(F43<BJ$2,REF!$B$18,"")) | BN43: =IF((BJ43>=REF!$B$6),(IF(BJ43="","",IF(OR(BF43="ASS",$D43="CIR",$D43=""),"",IF(OR($D43="CC",$D43="CD",$D43="DIV"),BJ43-(3/24),"")))),"") | BQ43: =(HOUR(BP43)*60)+MINUTE(BP43) -> 0 | BR43: =IF(BP$2>E43,G43,0) | BS43: =IF(F43="","",IF(F43<BP$2,REF!$B$18,"")) | BT43: =IF((BP43>=REF!$B$6),(IF(BP43="","",IF(OR(BL43="ASS",$D43="CIR",$D43=""),"",IF(OR($D43="CC",$D43="CD",$D43="DIV"),BP43-(3/24),"")))),"") | BW43: =(HOUR(BV43)*60)+MINUTE(BV43) -> 0 | BX43: =IF(BV$2>E43,G43,0) | BY43: =IF(F43="","",IF(F43<BV$2,REF!$B$18,"")) | BZ43: =IF((BV43>=REF!$B$6),(IF(BV43="","",IF(OR(BR43="ASS",$D43="CIR",$D43=""),"",IF(OR($D43="CC",$D43="CD",$D43="DIV"),BV43-(3/24),"")))),"") | CB43: =SUM(H43,N43,T43,Z43,AF43,AL43,AR43,AX43,BD43,BJ43,BP43,BV43) -> 0 | CC43: =SUM(M43,S43,Y43,AE43,AK43,AQ43,AW43,BC43,BI43,BO43,BU43,CA43) -> 0
A44: Temps de communication Global du mois (Min) | H44: =SUM(I3:I43) -> 0 | N44: =SUM(O3:O43) -> 0 | T44: =SUM(U3:U43) -> 0 | Z44: =SUM(AA3:AA43) -> 0 | AF44: =SUM(AG3:AG43) -> 0 | AL44: =SUM(AM3:AM43) -> 0 | AR44: =SUM(AS3:AS43) -> 0 | AX44: =SUM(AY3:AY43) -> 0 | BD44: =SUM(BE3:BE43) -> 0 | BJ44: =SUM(BK3:BK43) -> 0 | BP44: =SUM(BQ3:BQ43) -> 0 | BV44: =SUM(BW3:BW43) -> 0
A46: Temps de communication dépassé (Min) | H46: =SUM(L3:L43) -> 0 | N46: =SUM(R3:R43) -> 0 | T46: =SUM(X3:X43) -> 0 | Z46: =SUM(AD3:AD43) -> 0 | AF46: =SUM(AJ3:AJ43) -> 0 | AL46: =SUM(AP3:AP43) -> 0 | AR46: =SUM(AV3:AV43) -> 0 | AX46: =SUM(BB3:BB43) -> 0 | BD46: =SUM(BH3:BH43) -> 0 | BJ46: =SUM(BN3:BN43) -> 0 | BP46: =SUM(BT3:BT43) -> 0 | BV46: =SUM(BZ3:BZ43) -> 0
A48: Coût total des communications téléphoniques (€) | H48: =H44*REF!$B$5 -> 0 | N48: =N44*REF!$B$5 -> 0 | T48: =T44*REF!$B$5 -> 0 | Z48: =Z44*REF!$B$5 -> 0 | AF48: =AF44*REF!$B$5 -> 0 | AL48: =AL44*REF!$B$5 -> 0 | AR48: =AR44*REF!$B$5 -> 0 | AX48: =AX44*REF!$B$5 -> 0 | BD48: =BD44*REF!$B$5 -> 0 | BJ48: =BJ44*REF!$B$5 -> 0 | BP48: =BP44*REF!$B$5 -> 0 | BV48: =BV44*REF!$B$5 -> 0 | CB48: =SUM(H48:CA48) -> 0
A50: Coût des opérations diverses du mois (€) | H50: =SUM(M3:M43) -> 0 | N50: =SUM(S3:S43) -> 0 | T50: =SUM(Y3:Y43) -> 0 | Z50: =SUM(AE3:AE43) -> 0 | AF50: =SUM(AK3:AK43) -> 0 | AL50: =SUM(AQ3:AQ43) -> 0 | AR50: =SUM(AW3:AW43) -> 0 | AX50: =SUM(BC3:BC43) -> 0 | BD50: =SUM(BI3:BI43) -> 0 | BJ50: =SUM(BO3:BO43) -> 0 | BP50: =SUM(BU3:BU43) -> 0 | BV50: =SUM(CA3:CA43) -> 0 | CB50: =SUM(H50:CA50) -> 0
A52: Coût des cartes jumelles (€) | H52: =SUM(K3:K43) -> 6 | N52: =SUM(Q3:Q43) -> 6 | T52: =SUM(W3:W43) -> 6 | Z52: =SUM(AC3:AC43) -> 12 | AF52: =SUM(AI3:AI43) -> 12 | AL52: =SUM(AO3:AO43) -> 12 | AR52: =SUM(AU3:AU43) -> 12 | AX52: =SUM(BA3:BA43) -> 12 | BD52: =SUM(BG3:BG43) -> 12 | BJ52: =SUM(BM3:BM43) -> 12 | BP52: =SUM(BS3:BS43) -> 12 | BV52: =SUM(BY3:BY43) -> 12 | CB52: =SUM(H52:CA52) -> 126
A54: Coût total des abonnements (€) | H54: =SUM(J6:J43) -> 127 | N54: =SUM(P6:P43) -> 127 | T54: =SUM(V6:V43) -> 127 | Z54: =SUM(AB6:AB43) -> 127 | AF54: =SUM(AH6:AH43) -> 127 | AL54: =SUM(AN6:AN43) -> 127 | AR54: =SUM(AT6:AT43) -> 127 | AX54: =SUM(AZ6:AZ43) -> 127 | BD54: =SUM(BF6:BF43) -> 127 | BJ54: =SUM(BL6:BL43) -> 127 | BP54: =SUM(BR6:BR43) -> 127 | BV54: =SUM(BX6:BX43) -> 127 | CB54: =SUM(H54:CA54) -> 1524
A56: Consomations totales du mois (€) | H56: =H48+H50+H52+H54 -> 133 | N56: =N48+N50+N52+N54 -> 133 | T56: =T48+T50+T52+T54 -> 133 | Z56: =Z48+Z50+Z52+Z54 -> 139 | AF56: =AF48+AF50+AF52+AF54 -> 139 | AL56: =AL48+AL50+AL52+AL54 -> 139 | AR56: =AR48+AR50+AR52+AR54 -> 139 | AX56: =AX48+AX50+AX52+AX54 -> 139 | BD56: =BD48+BD50+BD52+BD54 -> 139 | BJ56: =BJ48+BJ50+BJ52+BJ54 -> 139 | BP56: =BP48+BP50+BP52+BP54 -> 139 | BV56: =BV48+BV50+BV52+BV54 -> 139 | CB56: =SUM(H56:CA56) -> 1650
A58: Comparatif Comptabilité ( à saisir ) | CB58: =SUM(H58:CA58) -> 0
A60: DIFFERENCE Facture/Calcul | H60: =IF(H58="","",H56-H58) | N60: =IF(N58="","",N56-N58) | T60: =IF(T58="","",T56-T58) | Z60: =IF(Z58="","",Z56-Z58) | AF60: =IF(AF58="","",AF56-AF58) | AL60: =IF(AL58="","",AL56-AL58) | AR60: =IF(AR58="","",AR56-AR58) | AX60: =IF(AX58="","",AX56-AX58) | BD60: =IF(BD58="","",BD56-BD58) | BJ60: =IF(BJ58="","",BJ56-BJ58) | BP60: =IF(BP58="","",BP56-BP58) | BV60: =IF(BV58="","",BV56-BV58)

Sheet Angers

Sheet Chartres

Sheet Angers-Ouest

Sheet Angers-Est

Sheet Beaupreau

Sheet Segré

Sheet Chemillé

Sheet Aytré

Sheet Niort

Sheet Nogent Le Rotrou

Sheet Nogent Le Roi

Sheet Baugé

Sheet Saumur

Sheet Chateaudun
