Workbook
Name RAuditor: 'RAW data'!$F:$F
Name RCompleteDate: 'RAW data'!$AX:$AX
Name RDeadline: 'RAW data'!$AE:$AE
Name RDepartement: 'RAW data'!$AJ:$AJ
Name ROverdue: 'RAW data'!$AU:$AU
Name RPublicationDate: 'RAW data'!$BB:$BB
Name RRate: 'RAW data'!$AA:$AA
Name RReopenDate: 'RAW data'!$BA:$BA
Name RStatus: 'RAW data'!$AV:$AV
Name RSubBL: 'RAW data'!$AM:$AM

Sheet RAW data
B1: Report title | C1: Mission reference | D1: Report date | E1: Report rating | F1: Report initiator | G1: Head of mission | H1: Report Branch | I1: Report Business line | J1: Supervisor(s) | K1: Region | L1: Country | M1: Legal entity | N1: Recommendation reference | O1: Risk Category | P1: Theme | Q1: Sub Theme | R1: Recommendation typology | S1: Typology theme | T1: Typology sub-theme | U1: Other responsible(s) | V1: Local Reader(s) | W1: Audit correspondent(s) | X1: Recommendation title | Y1: Paragraph title | Z1: Recommendation number | AA1: Classification | AB1: Due date for action plan | AC1: Initial deadline | AD1: Revised deadline | AE1: Effective deadline | AF1: Estimated completion date | AG1: Overdue explanation | AH1: Primary Accountable Party | AI1: Primary Delegated Party | AJ1: Primary Accountable Department | AK1: Recommendation Branch | AL1: Recommendation BL | AM1: Recommendation Sub BL | AN1: Other contributor(s) | AO1: Contributor Party/Department | AP1: Reader(s) | AQ1: Audit team | AR1: Validating supervisor | AS1: Auditor in charge | AT1: Related project | AU1: Recommendation type | AV1: Status | AW1: Open status | AX1: Status change date | AY1: Status modifier | AZ1: Reopener | BA1: Reopen date | BB1: Publication date | BC1: Signed date | BD1: Background / Context | BE1: Finding | BF1: Finding summary | BG1: Recommendation | BH1: Recommendation Summary | BI1: Deliverable(s) | BJ1: Auditee's comment / Action plan | BK1: DCPE Commentary | BL1: Attached documents from report | BM1: Implementation step Title | BN1: Implementation step Description | BO1: Implementation step Last commentary | BP1: Implementation step Last commentary author | BQ1: Implementation step Last commentary date | BR1: Implementation step Attachments | BS1: Implementation step Comments
A2: =AU2 -> Completed | B2: Interim 2009 | C2: I2009 | D2: 40423 | E2: Not rated | F2: External Audit | K2: Europe | L2: France | X2: Exploitation : contrôle d'intégrité des fichiers | Z2: RDM 4 | AA2: Not Rated | AC2: 40481 | AE2: 40481 | AJ2: RES | AU2: Completed | AV2: Completed | BG2: Recommendation 1 | BO2: Implementation step Last commentary 1
A3: =AU3 -> Overdue | B3: 2011 Audit | C3: I2011 | D3: 40941 | E3: Not rated | F3: External Audit | K3: Europe | L3: France | X3: Include application into the standards procedures | Z3: 5 | AA3: Standard | AC3: 41455 | AE3: 41455 | AJ3: RES | AU3: Overdue | AV3: Open | BG3: Recommendation 2 | BO3: Implementation step Last commentary 2
A4: =AU4 -> Outstanding | B4: Interim 2009 | C4: I2009 | D4: 40210 | E4: Not rated | F4: External Audit | K4: Europe | L4: France | X4: Exploitabilité des données restaurées | Z4: 9 | AA4: Observation | AC4: 41638 | AE4: 41638 | AJ4: RES | AU4: Outstanding | AV4: Open | BG4: Recommendation 3 | BO4: Implementation step Last commentary 3
A5: =AU5 -> Overdue | B5: Interim 2009 | C5: I2009 | D5: 40224 | E5: Not rated | F5: External Audit | K5: Europe | L5: France | X5: Outil RD | Z5: 2010/8 | AA5: Observation | AC5: 40968 | AE5: 40968 | AJ5: RES | AU5: Overdue | AV5: Open | BG5: Recommendation 4 | BO5: Implementation step Last commentary 4
A6: =AU6 -> Outstanding | B6: Interim 2009 | C6: I2009 | D6: 40210 | E6: Not rated | F6: External Audit | K6: Europe | L6: France | X6: Accès en écriture des équipes en charge du support applicatif | Z6: 2010/11 | AA6: Observation | AC6: 41638 | AE6: 41638 | AJ6: RES | AU6: Outstanding | AV6: Open | BG6: Recommendation 5 | BO6: Implementation step Last commentary 5
A7: =AU7 -> Signed | B7: Interim 2010 | C7: I2010 | D7: 40224 | E7: Not rated | F7: External Audit | K7: Europe | L7: France | X7: Outil RD | Z7: 2010/10 | AA7: High priority | AC7: 40968 | AE7: 40968 | AJ7: RES | AU7: Signed | AV7: Signed | BG7: Recommendation 6 | BO7: Implementation step Last commentary 6
A9: J'ai rajouté cette colonne car mon résultat (onglet "OVERDUE") est basé sur le VLOOKUP, mais ce n'est pas satisfaisant. Par contre, je n'arrive pas à reconstituer la macro que tu m'as proposé…

Sheet OVERDUE
A1: Cette ligne est "pour information" pour la construction de la macro | B1: C'est la colonne 36 (AJ) de l'onglet "import KART" | C1: C'est la colonne 3 (C) de l'onglet "import KART" | D1: C'est la colonne 26 (Z) de l'onglet "import KART" | E1: C'est la colonne 47 (AU) de l'onglet "import KART" | F1: C'est la colonne 27 (AA) de l'onglet "import KART" | G1: C'est la colonne 24 (X) de l'onglet "import KART" | H1: C'est la colonne 29 (AC) de l'onglet "import KART" | I1: C'est la colonne 67 (BO) de l'onglet "import KART"
A2: Résultat attendu dans ce tableau, sans les lignes #N/A, grace à la macro et sachant que le fichier original contient près de 1000 lignes La recherche est basée sur la donnée "overdue" (qui se trouve en colonne "AU" de l'onglet "RAW data", mais que j'ai du recopier en première colonne pour faire fonctionner le VLOOKUP de ce tableau) | B2: PAD | C2: Mission | D2: Reco Nr. | E2: Status | F2: Classification | G2: Reco Title | H2: Deadline | I2: Comment
B3: =VLOOKUP("overdue",'RAW data'!2:2,36,FALSE) -> #N/A | C3: =VLOOKUP("overdue",'RAW data'!2:2,3,FALSE) -> #N/A | D3: =VLOOKUP("overdue",'RAW data'!2:2,26,FALSE) -> #N/A | E3: =VLOOKUP("overdue",'RAW data'!2:2,47,FALSE) -> #N/A | F3: =VLOOKUP("overdue",'RAW data'!2:2,27,FALSE) -> #N/A | G3: =VLOOKUP("overdue",'RAW data'!2:2,24,FALSE) -> #N/A | H3: =VLOOKUP("overdue",'RAW data'!2:2,29,FALSE) -> #N/A | I3: =VLOOKUP("overdue",'RAW data'!2:2,67,FALSE) -> #N/A
B4: =VLOOKUP("overdue",'RAW data'!3:3,36,FALSE) -> RES | C4: =VLOOKUP("overdue",'RAW data'!3:3,3,FALSE) -> I2011 | D4: =VLOOKUP("overdue",'RAW data'!3:3,26,FALSE) -> 5 | E4: =VLOOKUP("overdue",'RAW data'!3:3,47,FALSE) -> Overdue | F4: =VLOOKUP("overdue",'RAW data'!3:3,27,FALSE) -> Standard | G4: =VLOOKUP("overdue",'RAW data'!3:3,24,FALSE) -> Include application into the standards procedures | H4: =VLOOKUP("overdue",'RAW data'!3:3,29,FALSE) -> 41455 | I4: =VLOOKUP("overdue",'RAW data'!3:3,67,FALSE) -> Implementation step Last commentary 2
B5: =VLOOKUP("overdue",'RAW data'!4:4,36,FALSE) -> #N/A | C5: =VLOOKUP("overdue",'RAW data'!4:4,3,FALSE) -> #N/A | D5: =VLOOKUP("overdue",'RAW data'!4:4,26,FALSE) -> #N/A | E5: =VLOOKUP("overdue",'RAW data'!4:4,47,FALSE) -> #N/A | F5: =VLOOKUP("overdue",'RAW data'!4:4,27,FALSE) -> #N/A | G5: =VLOOKUP("overdue",'RAW data'!4:4,24,FALSE) -> #N/A | H5: =VLOOKUP("overdue",'RAW data'!4:4,29,FALSE) -> #N/A | I5: =VLOOKUP("overdue",'RAW data'!4:4,67,FALSE) -> #N/A
B6: =VLOOKUP("overdue",'RAW data'!5:5,36,FALSE) -> RES | C6: =VLOOKUP("overdue",'RAW data'!5:5,3,FALSE) -> I2009 | D6: =VLOOKUP("overdue",'RAW data'!5:5,26,FALSE) -> 2010/8 | E6: =VLOOKUP("overdue",'RAW data'!5:5,47,FALSE) -> Overdue | F6: =VLOOKUP("overdue",'RAW data'!5:5,27,FALSE) -> Observation | G6: =VLOOKUP("overdue",'RAW data'!5:5,24,FALSE) -> Outil RD | H6: =VLOOKUP("overdue",'RAW data'!5:5,29,FALSE) -> 40968 | I6: =VLOOKUP("overdue",'RAW data'!5:5,67,FALSE) -> Implementation step Last commentary 4
B7: =VLOOKUP("overdue",'RAW data'!6:6,36,FALSE) -> #N/A | C7: =VLOOKUP("overdue",'RAW data'!6:6,3,FALSE) -> #N/A | D7: =VLOOKUP("overdue",'RAW data'!6:6,26,FALSE) -> #N/A | E7: =VLOOKUP("overdue",'RAW data'!6:6,47,FALSE) -> #N/A | F7: =VLOOKUP("overdue",'RAW data'!6:6,27,FALSE) -> #N/A | G7: =VLOOKUP("overdue",'RAW data'!6:6,24,FALSE) -> #N/A | H7: =VLOOKUP("overdue",'RAW data'!6:6,29,FALSE) -> #N/A | I7: =VLOOKUP("overdue",'RAW data'!6:6,67,FALSE) -> #N/A
B8: =VLOOKUP("overdue",'RAW data'!7:7,36,FALSE) -> #N/A | C8: =VLOOKUP("overdue",'RAW data'!7:7,3,FALSE) -> #N/A | D8: =VLOOKUP("overdue",'RAW data'!7:7,26,FALSE) -> #N/A | E8: =VLOOKUP("overdue",'RAW data'!7:7,47,FALSE) -> #N/A | F8: =VLOOKUP("overdue",'RAW data'!7:7,27,FALSE) -> #N/A | G8: =VLOOKUP("overdue",'RAW data'!7:7,24,FALSE) -> #N/A | H8: =VLOOKUP("overdue",'RAW data'!7:7,29,FALSE) -> #N/A | I8: =VLOOKUP("overdue",'RAW data'!7:7,67,FALSE) -> #N/A
