Workbook

Sheet Feuil1
K4: Débit EF | L4: Débit corrigé
J5: AB | K5: 2.46 | L5: =K5*0.32 -> 0.7872
J6: BC | K6: 1.23 | L6: =K6*0.5 -> 0.615
J7: CD | K7: 0.5
J8: DE | K8: 0.3
J9: EF | K9: 0.2
J10: EG | K10: 0.1
J11: DH | K11: 0.2
J12: CI | K12: 0.73
J13: IM | K13: 0.2
J14: IJ | K14: 0.53
J15: JL | K15: 0.2
E16: E | F16: D | G16: C | J16: JK | K16: 0.33
G17: B | J17: BN | K17: 1.23 | L17: =K17*0.5 -> 0.615
I18: N
G21: A
A25: A | B25: B | C25: =VLOOKUP(A25,Feuil2!$A$1:$B$16,2,FALSE) -> 1 | D25: =VLOOKUP(B25,Feuil2!$A$1:$B$16,2,FALSE) -> 2 | E25: =IFERROR(IF(INDEX($A:$B,MATCH(B25,$A:$A,0),1)<>0,1,0),"point d'eau") -> 1 | F25: 2.46 | G25: =INDEX($A:$B,MATCH(B25,$A:$A,0),1) -> B | H25: B | I25: A | J25: =VLOOKUP(H25,$I:$I,1,FALSE) -> B | K25: =COUNTIF($A:$A,INDEX($A:$B,MATCH(B25,$A:$A,0),1)) -> 2 | L25: =IFERROR(ADDRESS(MATCH(INDEX($A:$B,MATCH(B25,$A:$A,0),1),$A:$A,0),1,1),"point d'eau") -> $A$26 | M25: =CELL("contenu",L25) -> $A$26
A26: B | B26: C | C26: =VLOOKUP(A26,Feuil2!$A$1:$B$16,2,FALSE) -> 2 | D26: =VLOOKUP(B26,Feuil2!$A$1:$B$16,2,FALSE) -> 3 | E26: =IFERROR(IF(INDEX($A:$B,MATCH(B26,$A:$A,0),1)<>0,1,0),"point d'eau") -> 1 | F26: 1.23 | G26: =INDEX($A:$B,MATCH(B26,B:B,0),1) -> B | H26: C | I26: B | J26: =VLOOKUP(H26,$I:$I,1,FALSE) -> C | K26: =COUNTIF($A:$A,INDEX($A:$B,MATCH(B26,$A:$A,0),1)) -> 2 | L26: =IFERROR(ADDRESS(MATCH(INDEX($A:$B,MATCH(B26,$A:$A,0),1),$A:$A,0),1,1),"point d'eau") -> $A$27
A27: C | B27: D | C27: =VLOOKUP(A27,Feuil2!$A$1:$B$16,2,FALSE) -> 3 | D27: =VLOOKUP(B27,Feuil2!$A$1:$B$16,2,FALSE) -> 4 | E27: =IFERROR(IF(INDEX($A:$B,MATCH(B27,$A:$A,0),1)<>0,1,0),"point d'eau") -> 1 | F27: 0.5 | H27: D | I27: C | J27: =VLOOKUP(H27,$I:$I,1,FALSE) -> D | K27: =COUNTIF($A:$A,INDEX($A:$B,MATCH(B27,$A:$A,0),1)) -> 2 | L27: =IFERROR(ADDRESS(MATCH(INDEX($A:$B,MATCH(B27,$A:$A,0),1),$A:$A,0),1,1),"point d'eau") -> $A$28
A28: D | B28: E | C28: =VLOOKUP(A28,Feuil2!$A$1:$B$16,2,FALSE) -> 4 | D28: =VLOOKUP(B28,Feuil2!$A$1:$B$16,2,FALSE) -> 5 | E28: =IFERROR(IF(INDEX($A:$B,MATCH(B28,$A:$A,0),1)<>0,1,0),"point d'eau") -> 1 | F28: 0.3 | H28: E | I28: D | J28: =VLOOKUP(H28,$I:$I,1,FALSE) -> E | K28: =COUNTIF($A:$A,INDEX($A:$B,MATCH(B28,$A:$A,0),1)) -> 2 | L28: =IFERROR(ADDRESS(MATCH(INDEX($A:$B,MATCH(B28,$A:$A,0),1),$A:$A,0),1,1),"point d'eau") -> $A$29
A29: E | B29: F | C29: =VLOOKUP(A29,Feuil2!$A$1:$B$16,2,FALSE) -> 5 | D29: =VLOOKUP(B29,Feuil2!$A$1:$B$16,2,FALSE) -> 6 | E29: =IFERROR(IF(INDEX($A:$B,MATCH(B29,$A:$A,0),1)<>0,1,0),"point d'eau") -> point d'eau | F29: 0.2 | H29: F | I29: E | J29: =VLOOKUP(H29,$I:$I,1,FALSE) -> #N/A | K29: =COUNTIF($A:$A,INDEX($A:$B,MATCH(B29,$A:$A,0),1)) -> 0 | L29: =IFERROR(ADDRESS(MATCH(INDEX($A:$B,MATCH(B29,$A:$A,0),1),$A:$A,0),1,1),"point d'eau") -> point d'eau
A30: E | B30: G | C30: =VLOOKUP(A30,Feuil2!$A$1:$B$16,2,FALSE) -> 5 | D30: =VLOOKUP(B30,Feuil2!$A$1:$B$16,2,FALSE) -> 7 | E30: =IFERROR(IF(INDEX($A:$B,MATCH(B30,$A:$A,0),1)<>0,1,0),"point d'eau") -> point d'eau | F30: 0.1 | H30: G | I30: E | J30: =VLOOKUP(H30,$I:$I,1,FALSE) -> #N/A | K30: =COUNTIF($A:$A,INDEX($A:$B,MATCH(B30,$A:$A,0),1)) -> 0 | L30: =IFERROR(ADDRESS(MATCH(INDEX($A:$B,MATCH(B30,$A:$A,0),1),$A:$A,0),1,1),"point d'eau") -> point d'eau
A31: D | B31: H | C31: =VLOOKUP(A31,Feuil2!$A$1:$B$16,2,FALSE) -> 4 | D31: =VLOOKUP(B31,Feuil2!$A$1:$B$16,2,FALSE) -> 8 | E31: =IFERROR(IF(INDEX($A:$B,MATCH(B31,$A:$A,0),1)<>0,1,0),"point d'eau") -> point d'eau | F31: 0.2 | H31: H | I31: D | J31: =VLOOKUP(H31,$I:$I,1,FALSE) -> #N/A | K31: =COUNTIF($A:$A,INDEX($A:$B,MATCH(B31,$A:$A,0),1)) -> 0 | L31: =IFERROR(ADDRESS(MATCH(INDEX($A:$B,MATCH(B31,$A:$A,0),1),$A:$A,0),1,1),"point d'eau") -> point d'eau
A32: C | B32: I | C32: =VLOOKUP(A32,Feuil2!$A$1:$B$16,2,FALSE) -> 3 | D32: =VLOOKUP(B32,Feuil2!$A$1:$B$16,2,FALSE) -> 9 | E32: =IFERROR(IF(INDEX($A:$B,MATCH(B32,$A:$A,0),1)<>0,1,0),"point d'eau") -> 1 | F32: 0.73 | H32: I | I32: C | J32: =VLOOKUP(H32,$I:$I,1,FALSE) -> I | K32: =COUNTIF($A:$A,INDEX($A:$B,MATCH(B32,$A:$A,0),1)) -> 2 | L32: =IFERROR(ADDRESS(MATCH(INDEX($A:$B,MATCH(B32,$A:$A,0),1),$A:$A,0),1,1),"point d'eau") -> $A$33
A33: I | B33: M | C33: =VLOOKUP(A33,Feuil2!$A$1:$B$16,2,FALSE) -> 9 | D33: =VLOOKUP(B33,Feuil2!$A$1:$B$16,2,FALSE) -> 13 | E33: =IFERROR(IF(INDEX($A:$B,MATCH(B33,$A:$A,0),1)<>0,1,0),"point d'eau") -> point d'eau | F33: 0.2 | H33: M | I33: I | J33: =VLOOKUP(H33,$I:$I,1,FALSE) -> #N/A | K33: =COUNTIF($A:$A,INDEX($A:$B,MATCH(B33,$A:$A,0),1)) -> 0 | L33: =IFERROR(ADDRESS(MATCH(INDEX($A:$B,MATCH(B33,$A:$A,0),1),$A:$A,0),1,1),"point d'eau") -> point d'eau
A34: I | B34: J | C34: =VLOOKUP(A34,Feuil2!$A$1:$B$16,2,FALSE) -> 9 | D34: =VLOOKUP(B34,Feuil2!$A$1:$B$16,2,FALSE) -> 10 | E34: =IFERROR(IF(INDEX($A:$B,MATCH(B34,$A:$A,0),1)<>0,1,0),"point d'eau") -> 1 | F34: 0.53 | H34: J | I34: I | J34: =VLOOKUP(H34,$I:$I,1,FALSE) -> J | K34: =COUNTIF($A:$A,INDEX($A:$B,MATCH(B34,$A:$A,0),1)) -> 2 | L34: =IFERROR(ADDRESS(MATCH(INDEX($A:$B,MATCH(B34,$A:$A,0),1),$A:$A,0),1,1),"point d'eau") -> $A$35
A35: J | B35: L | C35: =VLOOKUP(A35,Feuil2!$A$1:$B$16,2,FALSE) -> 10 | D35: =VLOOKUP(B35,Feuil2!$A$1:$B$16,2,FALSE) -> 12 | E35: =IFERROR(IF(INDEX($A:$B,MATCH(B35,$A:$A,0),1)<>0,1,0),"point d'eau") -> point d'eau | F35: 0.2 | H35: L | I35: J | J35: =VLOOKUP(H35,$I:$I,1,FALSE) -> #N/A | K35: =COUNTIF($A:$A,INDEX($A:$B,MATCH(B35,$A:$A,0),1)) -> 0 | L35: =IFERROR(ADDRESS(MATCH(INDEX($A:$B,MATCH(B35,$A:$A,0),1),$A:$A,0),1,1),"point d'eau") -> point d'eau
A36: J | B36: K | C36: =VLOOKUP(A36,Feuil2!$A$1:$B$16,2,FALSE) -> 10 | D36: =VLOOKUP(B36,Feuil2!$A$1:$B$16,2,FALSE) -> 11 | E36: =IFERROR(IF(INDEX($A:$B,MATCH(B36,$A:$A,0),1)<>0,1,0),"point d'eau") -> point d'eau | F36: 0.33 | H36: K | I36: J | J36: =VLOOKUP(H36,$I:$I,1,FALSE) -> #N/A | K36: =COUNTIF($A:$A,INDEX($A:$B,MATCH(B36,$A:$A,0),1)) -> 0 | L36: =IFERROR(ADDRESS(MATCH(INDEX($A:$B,MATCH(B36,$A:$A,0),1),$A:$A,0),1,1),"point d'eau") -> point d'eau
A37: B | B37: N | C37: =VLOOKUP(A37,Feuil2!$A$1:$B$16,2,FALSE) -> 2 | D37: =VLOOKUP(B37,Feuil2!$A$1:$B$16,2,FALSE) -> 14 | E37: =IFERROR(IF(INDEX($A:$B,MATCH(B37,$A:$A,0),1)<>0,1,0),"point d'eau") -> point d'eau | F37: 1.23 | H37: N | I37: B | J37: =VLOOKUP(H37,$I:$I,1,FALSE) -> N | K37: =COUNTIF($A:$A,INDEX($A:$B,MATCH(B37,$A:$A,0),1)) -> 0 | L37: =IFERROR(ADDRESS(MATCH(INDEX($A:$B,MATCH(B37,$A:$A,0),1),$A:$A,0),1,1),"point d'eau") -> point d'eau

Sheet Feuil2
A1: A | B1: 1
A2: B | B2: 2
A3: C | B3: 3
A4: D | B4: 4
A5: E | B5: 5
A6: F | B6: 6
A7: G | B7: 7
A8: H | B8: 8
A9: I | B9: 9
A10: J | B10: 10
A11: K | B11: 11
A12: L | B12: 12
... A16: P | B16: 16

Sheet Feuil3
