Workbook
Name _.: NORD!$E$1
Name arrivéesdemain: Arr!$B$1:$D$16
Name BLOP: [1]NORD!$E$1
Name couvertures: Occ!$A$1:$E$54
Name DEPART_VOL: Dep!$B$2:$C$11
Name VA: NORD!#REF!

Sheet Dep
D1: Liberation | J1: liberation
A2: 203 | B2: VT439 | C2: 0.66319444 | D2: =IF(B2>"",VLOOKUP(B2,$I$2:$J$30,2,0),"") -> Lib 13:00 | I2: Hilton | J2: Lib 11:00
A3: 206 | B3: VT411 | C3: 0.73611111 | D3: =IF(B3>"",VLOOKUP(B3,$I$2:$J$30,2,0),"") -> Lib 13:00 | I3: VT305 | J3: Lib 13:00
A4: 223 | B4: VT411 | C4: 0.73611111 | D4: =IF(B4>"",VLOOKUP(B4,$I$2:$J$30,2,0),"") -> Lib 13:00 | I4: VT543 | J4: Lib 10:00
A5: 233 | B5: VT411 | C5: 0.73611111 | D5: =IF(B5>"",VLOOKUP(B5,$I$2:$J$30,2,0),"") -> Lib 13:00 | I5: VT439 | J5: Lib 13:00
A6: 238 | B6: VT305 | C6: 0.77083333 | D6: =IF(B6>"",VLOOKUP(B6,$I$2:$J$30,2,0),"") -> Lib 13:00 | I6: VT411 | J6: Lib 13:00
A7: 241 | B7: VT543 | C7: 0.47569444 | D7: =IF(B7>"",VLOOKUP(B7,$I$2:$J$30,2,0),"") -> Lib 10:00
A8: 321 | B8: Hilton | C8: 0 | D8: =IF(B8>"",VLOOKUP(B8,$I$2:$J$30,2,0),"") -> Lib 11:00
A9: 330 | B9: VT305 | C9: 0 | D9: =IF(B9>"",VLOOKUP(B9,$I$2:$J$30,2,0),"") -> Lib 13:00
A10: 336 | B10: VT411 | C10: 0.73611111 | D10: =IF(B10>"",VLOOKUP(B10,$I$2:$J$30,2,0),"") -> Lib 13:00
A11: 401 | B11: VT411 | C11: 0.73611111 | D11: =IF(B11>"",VLOOKUP(B11,$I$2:$J$30,2,0),"") -> Lib 13:00
D12: =IF(B12>"",VLOOKUP(B12,$I$2:$J$30,2,0),"")
D13: =IF(B13>"",VLOOKUP(B13,$I$2:$J$30,2,0),"")
D14: =IF(B14>"",VLOOKUP(B14,$I$2:$J$30,2,0),"")
D15: =IF(B15>"",VLOOKUP(B15,$I$2:$J$30,2,0),"")
D16: =IF(B16>"",VLOOKUP(B16,$I$2:$J$30,2,0),"")
D17: =IF(B17>"",VLOOKUP(B17,$I$2:$J$30,2,0),"")
D18: =IF(B18>"",VLOOKUP(B18,$I$2:$J$30,2,0),"")
D19: =IF(B19>"",VLOOKUP(B19,$I$2:$J$30,2,0),"")
D20: =IF(B20>"",VLOOKUP(B20,$I$2:$J$30,2,0),"")
D21: =IF(B21>"",VLOOKUP(B21,$I$2:$J$30,2,0),"")
D22: =IF(B22>"",VLOOKUP(B22,$I$2:$J$30,2,0),"")
D23: =IF(B23>"",VLOOKUP(B23,$I$2:$J$30,2,0),"")
... D62: =IF(B62>"",VLOOKUP(B62,$I$2:$J$30,2,0),"")

Sheet Occ
A1: 202 | B1: Olivier | C1: 41734
A2: 204 | B2: Kelly | C2: 41732 | D2: _HON
A3: 207 | B3: Maurice | C3: 41740 | D3: _LGS,_RTN,_VI2
A4: 208 | B4: , Devina | C4: 41732 | D4: _GIFTS
A5: 210 | B5: Anne | C5: 41732 | D5: _GIFTS
A6: 212 | B6: Laurent & Angéliq | C6: 41734 | D6: _EXB,_NSM
A7: 213 | B7: John | C7: 41735 | D7: _EXB,_LGS,_SPG,_VI1,_NSM
A8: 215 | B8: Emilie | C8: 41732 | D8: _GIFTS
A9: 217 | B9: Cecile | C9: 41732 | D9: _GIFTS
A10: 219 | B10: Jennifer | C10: 41732 | D10: _GIFTS

Sheet Arr
A1: 224 | B1: 0.33680556 | C1: Pierre
A2: 206 | B2: 0.48263889 | C2: Paul | D2: _HON,_OTE,_SPG
A3: 318 | B3: 0.48263889 | C3: Robinson | D3: _HON
A4: 316 | B4: 0.48263889 | C4: Thomas
A5: 415 | B5: 0.33680556 | C5: Martin | D5: _ADJ
A6: 413 | B6: 0.33680556 | C6: Virginie | D6: _CRIB,_EXB
A7: 414 | B7: 0.33680556 | C7: Martine | D7: _CRIB
A8: 406 | B8: 0.48263889 | C8: Walter
A9: 226 | B9: 0.33680556 | C9: Dale | D9: _VI1
A10: 230 | B10: 0 | C10: Ho
A11: 403 | B11: 0.48263889 | C11: Gabrielle | D11: _HON
A12: 322 | B12: 0.35763889 | C12: Ryana | D12: _HON,_SPG,_EAR

Sheet NORD
A1: SECTEURS | B1: N° | C1: LITS | E1: STATUS DE LA CHAMBRE | H1: STATUS DU CLIENT | I1: OBSERVATIONS | K1: DEPART + 6 NUITS | L1: Nb DE LITS | M1: CADEAUX | N1: GOUVERNANTES (Stabiloter en bleu les chambres à vérifier)
E2: Dép | F2: Occ | G2: Arr
A3: 1 | B3: 201 | C3: KS | E3: =VLOOKUP(B3,Dep!$A$2:$D$11,4,0) -> #N/A | F3: =VLOOKUP(B3,Occ!$A$1:$B$10,2,0) -> #N/A | G3: =VLOOKUP(B3,Arr!$A$1:$D$14,2,0) -> #N/A | N3: =IF(M3=$Q$3,$R$3,IF(M3=$Q$4,$R$3,IF(M3=$Q$5,$R$3,IF(M3=$Q$6,$R$6,IF(M3=$Q$7,$R$7,IF(M3=$Q$8,$R$8,IF(M3=$Q$9,$R$9,IF(M3=$Q$10,$R$10,"")))))))) | Q3: HON | R3: Pareo +T.SH Blanc
A4: 1 | B4: 202 | C4: KS | E4: =VLOOKUP(B4,Dep!$A$2:$D$11,4,0) -> #N/A | F4: =VLOOKUP(B4,Occ!$A$1:$B$10,2,0) -> Olivier | G4: =VLOOKUP(B4,Arr!$A$1:$D$14,2,0) -> #N/A | N4: =IF(M4=$Q$3,$R$3,IF(M4=$Q$4,$R$3,IF(M4=$Q$5,$R$3,IF(M4=$Q$6,$R$6,IF(M4=$Q$7,$R$7,IF(M4=$Q$8,$R$8,IF(M4=$Q$9,$R$9,IF(M4=$Q$10,$R$10,"")))))))) | Q4: VIP1
A5: 1 | B5: 203 | C5: KS | E5: =VLOOKUP(B5,Dep!$A$2:$D$11,4,0) -> Lib 13:00 | F5: =VLOOKUP(B5,Occ!$A$1:$B$10,2,0) -> #N/A | G5: =VLOOKUP(B5,Arr!$A$1:$D$14,2,0) -> #N/A | N5: =IF(M5=$Q$3,$R$3,IF(M5=$Q$4,$R$3,IF(M5=$Q$5,$R$3,IF(M5=$Q$6,$R$6,IF(M5=$Q$7,$R$7,IF(M5=$Q$8,$R$8,IF(M5=$Q$9,$R$9,IF(M5=$Q$10,$R$10,"")))))))) | Q5: WED
A6: 1 | B6: 204 | C6: KS | E6: =VLOOKUP(B6,Dep!$A$2:$D$11,4,0) -> #N/A | F6: =VLOOKUP(B6,Occ!$A$1:$B$10,2,0) -> Kelly | G6: =VLOOKUP(B6,Arr!$A$1:$D$14,2,0) -> #N/A | N6: =IF(M6=$Q$3,$R$3,IF(M6=$Q$4,$R$3,IF(M6=$Q$5,$R$3,IF(M6=$Q$6,$R$6,IF(M6=$Q$7,$R$7,IF(M6=$Q$8,$R$8,IF(M6=$Q$9,$R$9,IF(M6=$Q$10,$R$10,"")))))))) | Q6: VIP2 | R6: Sac+Polo Noir
A7: 1 | B7: 205 | C7: KS | E7: =VLOOKUP(B7,Dep!$A$2:$D$11,4,0) -> #N/A | F7: =VLOOKUP(B7,Occ!$A$1:$B$10,2,0) -> #N/A | G7: =VLOOKUP(B7,Arr!$A$1:$D$14,2,0) -> #N/A | N7: =IF(M7=$Q$3,$R$3,IF(M7=$Q$4,$R$3,IF(M7=$Q$5,$R$3,IF(M7=$Q$6,$R$6,IF(M7=$Q$7,$R$7,IF(M7=$Q$8,$R$8,IF(M7=$Q$9,$R$9,IF(M7=$Q$10,$R$10,"")))))))) | Q7: MON | R7: 1 MONOI
A8: 1 | B8: 206 | C8: KS | E8: =VLOOKUP(B8,Dep!$A$2:$D$11,4,0) -> Lib 13:00 | F8: =VLOOKUP(B8,Occ!$A$1:$B$10,2,0) -> #N/A | G8: =VLOOKUP(B8,Arr!$A$1:$D$14,2,0) -> 0.48263889 | N8: =IF(M8=$Q$3,$R$3,IF(M8=$Q$4,$R$3,IF(M8=$Q$5,$R$3,IF(M8=$Q$6,$R$6,IF(M8=$Q$7,$R$7,IF(M8=$Q$8,$R$8,IF(M8=$Q$9,$R$9,IF(M8=$Q$10,$R$10,"")))))))) | Q8: HMON | R8: Pareo+T.SH +1MONOI
A9: 1 | B9: 207 | C9: KS | E9: =VLOOKUP(B9,Dep!$A$2:$D$11,4,0) -> #N/A | F9: =VLOOKUP(B9,Occ!$A$1:$B$10,2,0) -> Maurice | G9: =VLOOKUP(B9,Arr!$A$1:$D$14,2,0) -> #N/A | N9: =IF(M9=$Q$3,$R$3,IF(M9=$Q$4,$R$3,IF(M9=$Q$5,$R$3,IF(M9=$Q$6,$R$6,IF(M9=$Q$7,$R$7,IF(M9=$Q$8,$R$8,IF(M9=$Q$9,$R$9,IF(M9=$Q$10,$R$10,"")))))))) | Q9: SAC | R9: 1 Sac
A10: 1 | B10: 209 | C10: KS | E10: =VLOOKUP(B10,Dep!$A$2:$D$11,4,0) -> #N/A | F10: =VLOOKUP(B10,Occ!$A$1:$B$10,2,0) -> #N/A | G10: =VLOOKUP(B10,Arr!$A$1:$D$14,2,0) -> #N/A | N10: =IF(M10=$Q$3,$R$3,IF(M10=$Q$4,$R$3,IF(M10=$Q$5,$R$3,IF(M10=$Q$6,$R$6,IF(M10=$Q$7,$R$7,IF(M10=$Q$8,$R$8,IF(M10=$Q$9,$R$9,IF(M10=$Q$10,$R$10,"")))))))) | Q10: HSAC | R10: Pareo+T.SH +1sac
A11: 1 | B11: 211 | C11: KS | E11: =VLOOKUP(B11,Dep!$A$2:$D$11,4,0) -> #N/A | F11: =VLOOKUP(B11,Occ!$A$1:$B$10,2,0) -> #N/A | G11: =VLOOKUP(B11,Arr!$A$1:$D$14,2,0) -> #N/A | N11: =IF(M11=$Q$3,$R$3,IF(M11=$Q$4,$R$3,IF(M11=$Q$5,$R$3,IF(M11=$Q$6,$R$6,IF(M11=$Q$7,$R$7,IF(M11=$Q$8,$R$8,IF(M11=$Q$9,$R$9,IF(M11=$Q$10,$R$10,""))))))))
A12: 1 | B12: 213 | C12: KS | E12: =VLOOKUP(B12,Dep!$A$2:$D$11,4,0) -> #N/A | F12: =VLOOKUP(B12,Occ!$A$1:$B$10,2,0) -> John | G12: =VLOOKUP(B12,Arr!$A$1:$D$14,2,0) -> #N/A | N12: =IF(M12=$Q$3,$R$3,IF(M12=$Q$4,$R$3,IF(M12=$Q$5,$R$3,IF(M12=$Q$6,$R$6,IF(M12=$Q$7,$R$7,IF(M12=$Q$8,$R$8,IF(M12=$Q$9,$R$9,IF(M12=$Q$10,$R$10,""))))))))
A13: 1 | B13: 215 | C13: KS | E13: =VLOOKUP(B13,Dep!$A$2:$D$11,4,0) -> #N/A | F13: =VLOOKUP(B13,Occ!$A$1:$B$10,2,0) -> Emilie | G13: =VLOOKUP(B13,Arr!$A$1:$D$14,2,0) -> #N/A | N13: =IF(M13=$Q$3,$R$3,IF(M13=$Q$4,$R$3,IF(M13=$Q$5,$R$3,IF(M13=$Q$6,$R$6,IF(M13=$Q$7,$R$7,IF(M13=$Q$8,$R$8,IF(M13=$Q$9,$R$9,IF(M13=$Q$10,$R$10,""))))))))
A14: 1 | B14: 217 | C14: KS | E14: =VLOOKUP(B14,Dep!$A$2:$D$11,4,0) -> #N/A | F14: =VLOOKUP(B14,Occ!$A$1:$B$10,2,0) -> Cecile | G14: =VLOOKUP(B14,Arr!$A$1:$D$14,2,0) -> #N/A | N14: =IF(M14=$Q$3,$R$3,IF(M14=$Q$4,$R$3,IF(M14=$Q$5,$R$3,IF(M14=$Q$6,$R$6,IF(M14=$Q$7,$R$7,IF(M14=$Q$8,$R$8,IF(M14=$Q$9,$R$9,IF(M14=$Q$10,$R$10,""))))))))
A15: 2 | B15: 208 | C15: KS | E15: =VLOOKUP(B15,Dep!$A$2:$D$11,4,0) -> #N/A | F15: =VLOOKUP(B15,Occ!$A$1:$B$10,2,0) -> , Devina | G15: =VLOOKUP(B15,Arr!$A$1:$D$14,2,0) -> #N/A | N15: =IF(M15=$Q$3,$R$3,IF(M15=$Q$4,$R$3,IF(M15=$Q$5,$R$3,IF(M15=$Q$6,$R$6,IF(M15=$Q$7,$R$7,IF(M15=$Q$8,$R$8,IF(M15=$Q$9,$R$9,IF(M15=$Q$10,$R$10,""))))))))
A16: 2 | B16: 210 | C16: KS | E16: =VLOOKUP(B16,Dep!$A$2:$D$11,4,0) -> #N/A | F16: =VLOOKUP(B16,Occ!$A$1:$B$10,2,0) -> Anne | G16: =VLOOKUP(B16,Arr!$A$1:$D$14,2,0) -> #N/A | N16: =IF(M16=$Q$3,$R$3,IF(M16=$Q$4,$R$3,IF(M16=$Q$5,$R$3,IF(M16=$Q$6,$R$6,IF(M16=$Q$7,$R$7,IF(M16=$Q$8,$R$8,IF(M16=$Q$9,$R$9,IF(M16=$Q$10,$R$10,""))))))))
A17: 2 | B17: 212 | C17: KS | N17: =IF(M17=$Q$3,$R$3,IF(M17=$Q$4,$R$3,IF(M17=$Q$5,$R$3,IF(M17=$Q$6,$R$6,IF(M17=$Q$7,$R$7,IF(M17=$Q$8,$R$8,IF(M17=$Q$9,$R$9,IF(M17=$Q$10,$R$10,""))))))))
A18: 2 | B18: 219 | C18: KS | N18: =IF(M18=$Q$3,$R$3,IF(M18=$Q$4,$R$3,IF(M18=$Q$5,$R$3,IF(M18=$Q$6,$R$6,IF(M18=$Q$7,$R$7,IF(M18=$Q$8,$R$8,IF(M18=$Q$9,$R$9,IF(M18=$Q$10,$R$10,""))))))))
A19: 2 | B19: 221 | C19: KS | N19: =IF(M19=$Q$3,$R$3,IF(M19=$Q$4,$R$3,IF(M19=$Q$5,$R$3,IF(M19=$Q$6,$R$6,IF(M19=$Q$7,$R$7,IF(M19=$Q$8,$R$8,IF(M19=$Q$9,$R$9,IF(M19=$Q$10,$R$10,""))))))))
A20: 2 | B20: 223 | C20: KS | L20: 1 | N20: =IF(M20=$Q$3,$R$3,IF(M20=$Q$4,$R$3,IF(M20=$Q$5,$R$3,IF(M20=$Q$6,$R$6,IF(M20=$Q$7,$R$7,IF(M20=$Q$8,$R$8,IF(M20=$Q$9,$R$9,IF(M20=$Q$10,$R$10,""))))))))
W27: =+G27TT -> #NAME?
