Workbook
Name Agence: OFFSET([1]Saisie!$A$3,,,COUNTA([1]Saisie!$A$1:$A$65536)-1)
Name An: 'Fac 2'!$A$1
Name An: 'Fac 3'!$A$1
Name An: 'Fac 4'!$A$1
Name An: 'Fac 5'!$A$1
Name An: 'Fac 1 '!$A$1
Name ColonneAgence: [1]Saisie!$A$1:$A$65536
Name ColonneInterimaire: [1]Saisie!$B$1:$B$65536
Name ColonnePoste: [1]Saisie!$C$1:$C$65536
Name Date: OFFSET([1]Saisie!$E$3,,,COUNTA([1]Saisie!$A$1:$A$65536)-1)
Name Interimaire: OFFSET([1]Saisie!$B$3,,,COUNTA([1]Saisie!$A$1:$A$65536)-1)
Name ListePostes: [1]Donnees!$H$2:$H$5
Name Pause: OFFSET([1]Saisie!#REF!,,,COUNTA([1]Saisie!$A$1:$A$65536)-1)
Name Pause: OFFSET([1]Saisie!#REF!,,,COUNTA([1]Saisie!$A$1:$A$65536)-1)
Name Pause: OFFSET([1]Saisie!#REF!,,,COUNTA([1]Saisie!$A$1:$A$65536)-1)
Name Pause: OFFSET([1]Saisie!#REF!,,,COUNTA([1]Saisie!$A$1:$A$65536)-1)
Name Pause: OFFSET([1]Saisie!#REF!,,,COUNTA([1]Saisie!$A$1:$A$65536)-1)
Name Pause: OFFSET([1]Saisie!#REF!,,,COUNTA([1]Saisie!$A$1:$A$65536)-1)
Name Pause: OFFSET([1]Saisie!#REF!,,,COUNTA([1]Saisie!$A$1:$A$65536)-1)
Name Pause: OFFSET([1]Saisie!#REF!,,,COUNTA([1]Saisie!$A$1:$A$65536)-1)
Name Pause: OFFSET([1]Saisie!#REF!,,,COUNTA([1]Saisie!$A$1:$A$65536)-1)
Name Poste: OFFSET([1]Saisie!$C$3,,,COUNTA([1]Saisie!$A$1:$A$65536)-1)
Name Semaine: OFFSET([1]Saisie!$G$3,,,COUNTA([1]Saisie!$A$1:$A$65536)-1)
Name TempsEffectif: OFFSET([1]Saisie!$M$3,,,COUNTA([1]Saisie!$A$1:$A$65536)-1)
Name Tps: OFFSET([2]Saisie!$K$3,,,COUNTA([2]Saisie!$A$1:$A$65536)-1)

Sheet Semaine 1
A1: Du 02 au 08/01
A3: Nom | B3: Agence Intérim | C3: Section analytique | D3: Intitulé du poste | E3: Début du contrat | F3: Fin du contrat | G3: Nb jours | H3: Taux horaire facturé | I3: Qtté HN | J3: Qtté H supp | K3: Qtté H travaillées | L3: Prime assiduité | M3: Prime 13 è mois | N3: TR
B4: ADECCO | C4: 11 | D4: Electricien | E4: 42737 | F4: 42741 | G4: =NETWORKDAYS.INTL(Tableau2[[#This Row],[Début du contrat]],Tableau2[[#This Row],[Fin du contrat]],1) -> #NAME? | H4: 18.87 | L4: =9.25*Tableau2[[#This Row],[Nb jours]] -> #NAME? | N4: =5.355*Tableau2[[#This Row],[Nb jours]] -> #NAME?
B5: ADECCO | C5: 11 | D5: Magasinier-Cariste | E5: 42737 | F5: 42741 | G5: =NETWORKDAYS.INTL(Tableau2[[#This Row],[Début du contrat]],Tableau2[[#This Row],[Fin du contrat]],1) -> #NAME? | H5: 18.5 | L5: =9.25*Tableau2[[#This Row],[Nb jours]] -> #NAME? | N5: =5.355*Tableau2[[#This Row],[Nb jours]] -> #NAME?
B6: ADECCO | C6: 11 | D6: Electricien | E6: 42737 | F6: 42741 | G6: =NETWORKDAYS.INTL(Tableau2[[#This Row],[Début du contrat]],Tableau2[[#This Row],[Fin du contrat]],1) -> #NAME? | H6: 18.5 | L6: =9.25*Tableau2[[#This Row],[Nb jours]] -> #NAME? | N6: =5.355*Tableau2[[#This Row],[Nb jours]] -> #NAME?
B7: ADECCO | C7: 11 | D7: Magasinier-Cariste | E7: 42737 | F7: 42741 | G7: =NETWORKDAYS.INTL(Tableau2[[#This Row],[Début du contrat]],Tableau2[[#This Row],[Fin du contrat]],1) -> #NAME? | H7: 18.5 | L7: =9.25*Tableau2[[#This Row],[Nb jours]] -> #NAME? | N7: =5.355*Tableau2[[#This Row],[Nb jours]] -> #NAME?
B8: ADECCO | C8: 11 | D8: Electricien | E8: 42737 | F8: 42741 | G8: =NETWORKDAYS.INTL(Tableau2[[#This Row],[Début du contrat]],Tableau2[[#This Row],[Fin du contrat]],1) -> #NAME? | H8: 18.056 | L8: =9.25*Tableau2[[#This Row],[Nb jours]] -> #NAME? | N8: =5.355*Tableau2[[#This Row],[Nb jours]] -> #NAME?
B9: ADECCO | C9: 11 | D9: Electricien | E9: 42737 | F9: 42741 | G9: =NETWORKDAYS.INTL(Tableau2[[#This Row],[Début du contrat]],Tableau2[[#This Row],[Fin du contrat]],1) -> #NAME? | H9: 18.056 | L9: =9.25*Tableau2[[#This Row],[Nb jours]] -> #NAME? | N9: =5.355*Tableau2[[#This Row],[Nb jours]] -> #NAME?
G10: =NETWORKDAYS.INTL(Tableau2[[#This Row],[Début du contrat]],Tableau2[[#This Row],[Fin du contrat]],1) -> #NAME? | N10: =5.355*Tableau2[[#This Row],[Nb jours]] -> #NAME?
G11: =NETWORKDAYS.INTL(Tableau2[[#This Row],[Début du contrat]],Tableau2[[#This Row],[Fin du contrat]],1) -> #NAME? | N11: =5.355*Tableau2[[#This Row],[Nb jours]] -> #NAME?
G12: =NETWORKDAYS.INTL(Tableau2[[#This Row],[Début du contrat]],Tableau2[[#This Row],[Fin du contrat]],1) -> #NAME? | N12: =5.355*Tableau2[[#This Row],[Nb jours]] -> #NAME?
G13: =NETWORKDAYS.INTL(Tableau2[[#This Row],[Début du contrat]],Tableau2[[#This Row],[Fin du contrat]],1) -> #NAME? | N13: =5.355*Tableau2[[#This Row],[Nb jours]] -> #NAME?
G14: =NETWORKDAYS.INTL(Tableau2[[#This Row],[Début du contrat]],Tableau2[[#This Row],[Fin du contrat]],1) -> #NAME? | N14: =5.355*Tableau2[[#This Row],[Nb jours]] -> #NAME?
G15: =NETWORKDAYS.INTL(Tableau2[[#This Row],[Début du contrat]],Tableau2[[#This Row],[Fin du contrat]],1) -> #NAME? | N15: =5.355*Tableau2[[#This Row],[Nb jours]] -> #NAME?

Sheet Semaine 2
A1: Du 09 au 15/01
A3: Nom | B3: Agence Intérim | C3: Section analytique | D3: Intitulé du poste | E3: Début du contrat | F3: Fin du contrat | G3: Nb jours | H3: Taux horaire facturé | I3: Qtté HN | J3: Qtté H supp | K3: Qtté H travaillées | L3: Prime assiduité | M3: Prime 13 è mois | N3: TR
B4: ADECCO | C4: 11 | D4: Electricien | E4: 42744 | F4: 42748 | G4: =NETWORKDAYS.INTL(Tableau22[[#This Row],[Début du contrat]],Tableau22[[#This Row],[Fin du contrat]],1) -> #NAME? | H4: 18.87 | L4: =9.25*Tableau22[[#This Row],[Nb jours]] -> #NAME? | N4: =5.355*Tableau22[[#This Row],[Nb jours]] -> #NAME?
B5: ADECCO | C5: 11 | D5: Magasinier-Cariste | E5: 42744 | F5: 42748 | G5: =NETWORKDAYS.INTL(Tableau22[[#This Row],[Début du contrat]],Tableau22[[#This Row],[Fin du contrat]],1) -> #NAME? | H5: 18.5 | L5: =9.25*Tableau22[[#This Row],[Nb jours]] -> #NAME? | N5: =5.355*Tableau22[[#This Row],[Nb jours]] -> #NAME?
B6: ADECCO | C6: 11 | D6: Electricien | E6: 42744 | F6: 42748 | G6: =NETWORKDAYS.INTL(Tableau22[[#This Row],[Début du contrat]],Tableau22[[#This Row],[Fin du contrat]],1) -> #NAME? | H6: 18.5 | L6: =9.25*Tableau22[[#This Row],[Nb jours]] -> #NAME? | N6: =5.355*Tableau22[[#This Row],[Nb jours]] -> #NAME?
B7: ADECCO | C7: 11 | D7: Magasinier-Cariste | E7: 42744 | F7: 42748 | G7: =NETWORKDAYS.INTL(Tableau22[[#This Row],[Début du contrat]],Tableau22[[#This Row],[Fin du contrat]],1) -> #NAME? | H7: 18.5 | L7: =9.25*Tableau22[[#This Row],[Nb jours]] -> #NAME? | N7: =5.355*Tableau22[[#This Row],[Nb jours]] -> #NAME?
B8: ADECCO | C8: 11 | D8: Electricien | E8: 42744 | F8: 42748 | G8: =NETWORKDAYS.INTL(Tableau22[[#This Row],[Début du contrat]],Tableau22[[#This Row],[Fin du contrat]],1) -> #NAME? | H8: 18.056 | L8: =9.25*Tableau22[[#This Row],[Nb jours]] -> #NAME? | N8: =5.355*Tableau22[[#This Row],[Nb jours]] -> #NAME?
B9: ADECCO | C9: 11 | D9: Electricien | E9: 42744 | F9: 42748 | G9: =NETWORKDAYS.INTL(Tableau22[[#This Row],[Début du contrat]],Tableau22[[#This Row],[Fin du contrat]],1) -> #NAME? | H9: 18.056 | L9: =9.25*Tableau22[[#This Row],[Nb jours]] -> #NAME? | N9: =5.355*Tableau22[[#This Row],[Nb jours]] -> #NAME?
B10: ADECCO | C10: 11 | D10: Electricien | E10: 42749 | F10: 42749 | G10: 1 | H10: 18.87 | L10: =9.25*Tableau22[[#This Row],[Nb jours]] -> 9.25 | N10: =5.355*Tableau22[[#This Row],[Nb jours]] -> 5.355
B11: ADECCO | C11: 11 | D11: Agent de nett. | E11: 42749 | F11: 42749 | G11: 1 | H11: 18.837 | L11: =9.65*Tableau22[[#This Row],[Nb jours]] -> 9.65 | N11: =5.355*Tableau22[[#This Row],[Nb jours]] -> 5.355
B12: ADECCO | C12: 52 | D12: Assistante admin | E12: 42747 | F12: 42748 | G12: =NETWORKDAYS.INTL(Tableau22[[#This Row],[Début du contrat]],Tableau22[[#This Row],[Fin du contrat]],1) -> #NAME? | H12: 19.8 | L12: =9.9*Tableau22[[#This Row],[Nb jours]] -> #NAME? | N12: =5.355*Tableau22[[#This Row],[Nb jours]] -> #NAME?
G13: =NETWORKDAYS.INTL(Tableau22[[#This Row],[Début du contrat]],Tableau22[[#This Row],[Fin du contrat]],1) -> #NAME? | N13: =5.355*Tableau22[[#This Row],[Nb jours]] -> #NAME?
G14: =NETWORKDAYS.INTL(Tableau22[[#This Row],[Début du contrat]],Tableau22[[#This Row],[Fin du contrat]],1) -> #NAME? | N14: =5.355*Tableau22[[#This Row],[Nb jours]] -> #NAME?
G15: =NETWORKDAYS.INTL(Tableau22[[#This Row],[Début du contrat]],Tableau22[[#This Row],[Fin du contrat]],1) -> #NAME? | N15: =5.355*Tableau22[[#This Row],[Nb jours]] -> #NAME?
G16: =NETWORKDAYS.INTL(Tableau22[[#This Row],[Début du contrat]],Tableau22[[#This Row],[Fin du contrat]],1) -> #NAME? | N16: =5.355*Tableau22[[#This Row],[Nb jours]] -> #NAME?
G17: =NETWORKDAYS.INTL(Tableau22[[#This Row],[Début du contrat]],Tableau22[[#This Row],[Fin du contrat]],1) -> #NAME? | N17: =5.355*Tableau22[[#This Row],[Nb jours]] -> #NAME?
G18: =NETWORKDAYS.INTL(Tableau22[[#This Row],[Début du contrat]],Tableau22[[#This Row],[Fin du contrat]],1) -> #NAME? | N18: =5.355*Tableau22[[#This Row],[Nb jours]] -> #NAME?

Sheet Semaine 3
A1: Du 16 au 22/01
A3: Nom | B3: Agence Intérim | C3: Section analytique | D3: Intitulé du poste | E3: Début du contrat | F3: Fin du contrat | G3: Nb jours | H3: Taux horaire facturé | I3: Qtté HN | J3: Qtté H supp | K3: Qtté H travaillées | L3: Prime assiduité | M3: Prime 13 è mois | N3: TR
B4: ADECCO | C4: 11 | D4: Magasinier-Cariste | E4: 42751 | F4: 42755 | G4: =NETWORKDAYS.INTL(Tableau224[[#This Row],[Début du contrat]],Tableau224[[#This Row],[Fin du contrat]],1) -> #NAME? | H4: 18.5 | L4: =9.25*Tableau224[[#This Row],[Nb jours]] -> #NAME? | N4: =5.355*Tableau224[[#This Row],[Nb jours]] -> #NAME?
B5: ADECCO | C5: 11 | D5: Electricien | E5: 42751 | F5: 42755 | G5: =NETWORKDAYS.INTL(Tableau224[[#This Row],[Début du contrat]],Tableau224[[#This Row],[Fin du contrat]],1) -> #NAME? | H5: 18.5 | L5: =9.25*Tableau224[[#This Row],[Nb jours]] -> #NAME? | N5: =5.355*Tableau224[[#This Row],[Nb jours]] -> #NAME?
B6: ADECCO | C6: 11 | D6: Magasinier-Cariste | E6: 42751 | F6: 42755 | G6: =NETWORKDAYS.INTL(Tableau224[[#This Row],[Début du contrat]],Tableau224[[#This Row],[Fin du contrat]],1) -> #NAME? | H6: 18.5 | L6: =9.25*Tableau224[[#This Row],[Nb jours]] -> #NAME? | N6: =5.355*Tableau224[[#This Row],[Nb jours]] -> #NAME?
B7: ADECCO | C7: 11 | D7: Electricien | E7: 42751 | F7: 42755 | G7: =NETWORKDAYS.INTL(Tableau224[[#This Row],[Début du contrat]],Tableau224[[#This Row],[Fin du contrat]],1) -> #NAME? | H7: 18.87 | L7: =9.25*Tableau224[[#This Row],[Nb jours]] -> #NAME? | N7: =5.355*Tableau224[[#This Row],[Nb jours]] -> #NAME?
B8: ADECCO | C8: 52 | D8: Assistante admin | E8: 42751 | F8: 42755 | G8: =NETWORKDAYS.INTL(Tableau224[[#This Row],[Début du contrat]],Tableau224[[#This Row],[Fin du contrat]],1) -> #NAME? | H8: 19.8 | L8: =9.9*Tableau224[[#This Row],[Nb jours]] -> #NAME? | N8: =5.355*Tableau224[[#This Row],[Nb jours]] -> #NAME?
B9: ADECCO | C9: 11 | D9: Agent de nett. | E9: 42756 | F9: 42756 | G9: 1 | H9: 18.837 | L9: =9.65*Tableau224[[#This Row],[Nb jours]] -> 9.65 | N9: =5.355*Tableau224[[#This Row],[Nb jours]] -> 5.355
G10: =NETWORKDAYS.INTL(Tableau224[[#This Row],[Début du contrat]],Tableau224[[#This Row],[Fin du contrat]],1) -> #NAME? | N10: =5.355*Tableau224[[#This Row],[Nb jours]] -> #NAME?
G11: =NETWORKDAYS.INTL(Tableau224[[#This Row],[Début du contrat]],Tableau224[[#This Row],[Fin du contrat]],1) -> #NAME? | N11: =5.355*Tableau224[[#This Row],[Nb jours]] -> #NAME?
G12: =NETWORKDAYS.INTL(Tableau224[[#This Row],[Début du contrat]],Tableau224[[#This Row],[Fin du contrat]],1) -> #NAME? | N12: =5.355*Tableau224[[#This Row],[Nb jours]] -> #NAME?
G13: =NETWORKDAYS.INTL(Tableau224[[#This Row],[Début du contrat]],Tableau224[[#This Row],[Fin du contrat]],1) -> #NAME? | N13: =5.355*Tableau224[[#This Row],[Nb jours]] -> #NAME?
G14: =NETWORKDAYS.INTL(Tableau224[[#This Row],[Début du contrat]],Tableau224[[#This Row],[Fin du contrat]],1) -> #NAME? | N14: =5.355*Tableau224[[#This Row],[Nb jours]] -> #NAME?
G15: =NETWORKDAYS.INTL(Tableau224[[#This Row],[Début du contrat]],Tableau224[[#This Row],[Fin du contrat]],1) -> #NAME? | N15: =5.355*Tableau224[[#This Row],[Nb jours]] -> #NAME?

Sheet Semaine 4
A1: Du 30 au 31/01
A3: Nom | B3: Agence Intérim | C3: Section analytique | D3: Intitulé du poste | E3: Début du contrat | F3: Fin du contrat | G3: Nb jours | H3: Taux horaire facturé | I3: Qtté HN | J3: Qtté H supp | K3: Qtté H travaillées | L3: Prime assiduité | M3: Prime 13 è mois | N3: TR
B4: ADECCO | C4: 11 | D4: Magasinier-Cariste | E4: 42758 | F4: 42762 | G4: 5 | H4: 18.5 | L4: 46.25 | N4: 26.775
B5: ADECCO | C5: 11 | D5: Electricien | E5: 42758 | F5: 42762 | G5: 5 | H5: 18.5 | L5: 46.25 | N5: 26.775
B6: ADECCO | C6: 11 | D6: Magasinier-Cariste | E6: 42758 | F6: 42762 | G6: 5 | H6: 18.5 | L6: 46.25 | N6: 26.775
B7: ADECCO | C7: 11 | D7: Electricien | E7: 42758 | F7: 42762 | G7: 5 | H7: 18.87 | L7: 46.25 | N7: 26.775
B8: ADECCO | C8: 52 | D8: Assistante admin | E8: 42758 | F8: 42762 | G8: 5 | H8: 19.8 | L8: 49.5 | N8: 26.775
B9: ADECCO | C9: 11 | D9: Agent de nett. | E9: 42763 | F9: 42763 | G9: 1 | H9: 18.837 | L9: 9.65 | N9: 5.355
B10: ADECCO | C10: 11 | D10: Magasinier-Cariste | E10: 42763 | F10: 42763 | G10: 1 | H10: 18.5 | L10: 9.25 | N10: 5.355
G11: 0 | N11: 0
G12: =NETWORKDAYS.INTL(Tableau224567[[#This Row],[Début du contrat]],Tableau224567[[#This Row],[Fin du contrat]],1) -> #NAME? | N12: =5.355*Tableau224567[[#This Row],[Nb jours]] -> #NAME?
G13: =NETWORKDAYS.INTL(Tableau224567[[#This Row],[Début du contrat]],Tableau224567[[#This Row],[Fin du contrat]],1) -> #NAME? | N13: =5.355*Tableau224567[[#This Row],[Nb jours]] -> #NAME?
G14: =NETWORKDAYS.INTL(Tableau224567[[#This Row],[Début du contrat]],Tableau224567[[#This Row],[Fin du contrat]],1) -> #NAME? | N14: =5.355*Tableau224567[[#This Row],[Nb jours]] -> #NAME?

Sheet Semaine 5
A1: Du 30 au 31/01
A3: Nom | B3: Agence Intérim | C3: Section analytique | D3: Intitulé du poste | E3: Début du contrat | F3: Fin du contrat | G3: Nb jours | H3: Taux horaire facturé | I3: Qtté HN | J3: Qtté H supp | K3: Qtté H travaillées | L3: Prime assiduité | M3: Prime 13 è mois | N3: TR
B4: ADECCO | C4: 52 | D4: Assistante admin | E4: 42765 | F4: 42766 | G4: =NETWORKDAYS.INTL(Tableau22456[[#This Row],[Début du contrat]],Tableau22456[[#This Row],[Fin du contrat]],1) -> #NAME? | H4: 19.8 | L4: =9.9*Tableau22456[[#This Row],[Nb jours]] -> #NAME? | N4: =5.355*Tableau22456[[#This Row],[Nb jours]] -> #NAME?
B5: ADECCO | C5: 11 | D5: Magasinier-Cariste | E5: 42765 | F5: 42766 | G5: =NETWORKDAYS.INTL(Tableau22456[[#This Row],[Début du contrat]],Tableau22456[[#This Row],[Fin du contrat]],1) -> #NAME? | H5: 18.5 | L5: =9.25*Tableau22456[[#This Row],[Nb jours]] -> #NAME? | N5: =5.355*Tableau22456[[#This Row],[Nb jours]] -> #NAME?
B6: ADECCO | C6: 11 | D6: Magasinier-Cariste | E6: 42765 | F6: 42766 | G6: =NETWORKDAYS.INTL(Tableau22456[[#This Row],[Début du contrat]],Tableau22456[[#This Row],[Fin du contrat]],1) -> #NAME? | H6: 18.5 | L6: =9.25*Tableau22456[[#This Row],[Nb jours]] -> #NAME? | N6: =5.355*Tableau22456[[#This Row],[Nb jours]] -> #NAME?
B7: ADECCO | C7: 11 | D7: Electricien | E7: 42765 | F7: 42766 | G7: =NETWORKDAYS.INTL(Tableau22456[[#This Row],[Début du contrat]],Tableau22456[[#This Row],[Fin du contrat]],1) -> #NAME? | H7: 18.5 | L7: =9.25*Tableau22456[[#This Row],[Nb jours]] -> #NAME? | N7: =5.355*Tableau22456[[#This Row],[Nb jours]] -> #NAME?
B8: ADECCO | C8: 11 | D8: Electricien | E8: 42765 | F8: 42766 | G8: =NETWORKDAYS.INTL(Tableau22456[[#This Row],[Début du contrat]],Tableau22456[[#This Row],[Fin du contrat]],1) -> #NAME? | H8: 18.87 | L8: =9.25*Tableau22456[[#This Row],[Nb jours]] -> #NAME? | N8: =5.355*Tableau22456[[#This Row],[Nb jours]] -> #NAME?
G9: =NETWORKDAYS.INTL(Tableau22456[[#This Row],[Début du contrat]],Tableau22456[[#This Row],[Fin du contrat]],1) -> #NAME? | N9: =5.355*Tableau22456[[#This Row],[Nb jours]] -> #NAME?
G10: =NETWORKDAYS.INTL(Tableau22456[[#This Row],[Début du contrat]],Tableau22456[[#This Row],[Fin du contrat]],1) -> #NAME? | N10: =5.355*Tableau22456[[#This Row],[Nb jours]] -> #NAME?
G11: =NETWORKDAYS.INTL(Tableau22456[[#This Row],[Début du contrat]],Tableau22456[[#This Row],[Fin du contrat]],1) -> #NAME? | N11: =5.355*Tableau22456[[#This Row],[Nb jours]] -> #NAME?
G12: =NETWORKDAYS.INTL(Tableau22456[[#This Row],[Début du contrat]],Tableau22456[[#This Row],[Fin du contrat]],1) -> #NAME? | N12: =5.355*Tableau22456[[#This Row],[Nb jours]] -> #NAME?
G13: =NETWORKDAYS.INTL(Tableau22456[[#This Row],[Début du contrat]],Tableau22456[[#This Row],[Fin du contrat]],1) -> #NAME? | N13: =5.355*Tableau22456[[#This Row],[Nb jours]] -> #NAME?
G14: =NETWORKDAYS.INTL(Tableau22456[[#This Row],[Début du contrat]],Tableau22456[[#This Row],[Fin du contrat]],1) -> #NAME? | N14: =5.355*Tableau22456[[#This Row],[Nb jours]] -> #NAME?

Sheet Fac 1 
B1: Semaine N° : | C1: 1 | D1: du | E1: =7*C1+DATE(An,1,3)-WEEKDAY(DATE(An,1,3))-5 -> 2 | F1: au | G1: =E1+6 -> 8
N3: =SUM(L6:L20) -> 0 | O3: =SUM(N6:N37) -> 0 | P3: =SUM(O6:O37) -> #NAME? | Q3: TOTAL= | R3: =SUM(N3:P3) -> #NAME?
E4: Lundi | F4: Mardi | G4: Mercredi | H4: Jeudi | I4: Vendredi | J4: Samedi | K4: Heures mens | L4: =SUM(K6:K11) -> 8.7083333
A5: NOM | B5: Agence | C5: Poste | D5: Section | E5: =E1 -> 2 | F5: =E5+1 -> 3 | G5: =F5+1 -> 4 | H5: =G5+1 -> 5 | I5: =H5+1 -> 6 | J5: =I5+1 -> 7 | K5: TOTAL | M5: Coût Heures HN | N5: Coût Heures HS | O5: Cout TR | P5: Prime assiduité
A6: ='Semaine 1'!A4 -> 0 | B6: ='Semaine 1'!B4 -> ADECCO | C6: ='Semaine 1'!D4 -> Electricien | D6: ='Semaine 1'!C4 -> 11 | E6: 0.32291667 | F6: 0.32291667 | G6: 0.32291667 | H6: 0.32291667 | I6: 0.125 | K6: =SUM(E6:J6) -> 1.4166667 | O6: ='Semaine 1'!N4 -> #NAME? | P6: ='Semaine 1'!L4 -> #NAME?
A7: ='Semaine 1'!A5 -> 0 | B7: ='Semaine 1'!B5 -> ADECCO | C7: ='Semaine 1'!D5 -> Magasinier-Cariste | D7: ='Semaine 1'!C5 -> 11 | E7: 0.32291667 | F7: 0.32291667 | G7: 0.32291667 | H7: 0.32291667 | I7: 0.16666667 | J7: 0 | K7: =SUBTOTAL(9,E7:J7) -> 1.4583333 | O7: ='Semaine 1'!N5 -> #NAME? | P7: ='Semaine 1'!L5 -> #NAME?
A8: ='Semaine 1'!A6 -> 0 | B8: ='Semaine 1'!B6 -> ADECCO | C8: ='Semaine 1'!D6 -> Electricien | D8: ='Semaine 1'!C6 -> 11 | E8: 0.32291667 | F8: 0.32291667 | G8: 0.32291667 | H8: 0.32291667 | I8: 0.16666667 | J8: 0 | K8: =SUBTOTAL(9,E8:J8) -> 1.4583333 | O8: ='Semaine 1'!N6 -> #NAME? | P8: ='Semaine 1'!L6 -> #NAME?
A9: ='Semaine 1'!A7 -> 0 | B9: ='Semaine 1'!B7 -> ADECCO | C9: ='Semaine 1'!D7 -> Magasinier-Cariste | D9: ='Semaine 1'!C7 -> 11 | E9: 0.32291667 | F9: 0.32291667 | G9: 0.32291667 | H9: 0.32291667 | I9: 0.16666667 | J9: 0 | K9: =SUBTOTAL(9,E9:J9) -> 1.4583333 | O9: ='Semaine 1'!N7 -> #NAME? | P9: ='Semaine 1'!L7 -> #NAME?
A10: ='Semaine 1'!A8 -> 0 | B10: ='Semaine 1'!B8 -> ADECCO | C10: ='Semaine 1'!D8 -> Electricien | D10: ='Semaine 1'!C8 -> 11 | E10: 0.32291667 | F10: 0.32291667 | G10: 0.32291667 | H10: 0.32291667 | I10: 0.16666667 | J10: 0 | K10: =SUBTOTAL(9,E10:J10) -> 1.4583333 | O10: ='Semaine 1'!N8 -> #NAME? | P10: ='Semaine 1'!L8 -> #NAME?
A11: ='Semaine 1'!A9 -> 0 | B11: ='Semaine 1'!B9 -> ADECCO | C11: ='Semaine 1'!D9 -> Electricien | D11: ='Semaine 1'!C9 -> 11 | E11: 0.32291667 | F11: 0.32291667 | G11: 0.32291667 | H11: 0.32291667 | I11: 0.16666667 | J11: 0 | K11: =SUBTOTAL(9,E11:J11) -> 1.4583333 | O11: ='Semaine 1'!N9 -> #NAME? | P11: ='Semaine 1'!L9 -> #NAME?
A12: ='Semaine 1'!#REF! -> #REF! | B12: ='Semaine 1'!B10 -> 0 | C12: ='Semaine 1'!D10 -> 0
A13: ='Semaine 1'!#REF! -> #REF! | B13: ='Semaine 1'!B11 -> 0
A14: ='Semaine 1'!#REF! -> #REF! | B14: ='Semaine 1'!B12 -> 0
A15: ='Semaine 1'!#REF! -> #REF! | B15: ='Semaine 1'!B13 -> 0
A16: ='Semaine 1'!#REF! -> #REF!
A17: ='Semaine 1'!#REF! -> #REF!
A18: ='Semaine 1'!#REF! -> #REF!
A19: ='Semaine 1'!#REF! -> #REF!
A20: ='Semaine 1'!#REF! -> #REF!
A21: ='Semaine 1'!A10 -> 0
A22: ='Semaine 1'!A11 -> 0
A23: ='Semaine 1'!A12 -> 0
A24: ='Semaine 1'!A13 -> 0
A25: ='Semaine 1'!A14 -> 0
A26: ='Semaine 1'!A15 -> 0
A27: ='Semaine 1'!A16 -> 0
A28: ='Semaine 1'!A17 -> 0
A29: ='Semaine 1'!A18 -> 0
A30: ='Semaine 1'!A19 -> 0
A31: ='Semaine 1'!#REF! -> #REF!
A32: ='Semaine 1'!#REF! -> #REF!
A33: ='Semaine 1'!#REF! -> #REF!
A34: ='Semaine 1'!#REF! -> #REF!
A35: ='Semaine 1'!#REF! -> #REF!
A36: ='Semaine 1'!#REF! -> #REF!

Sheet Fac 2
B1: Semaine N° : | C1: 2 | D1: du | E1: =7*C1+DATE(An,1,3)-WEEKDAY(DATE(An,1,3))-5 -> 9 | F1: au | G1: =E1+6 -> 15
N3: =SUM(L6:L20) -> 0 | O3: =SUM(N6:N37) -> 0 | P3: =SUM(O6:O37) -> #NAME? | Q3: TOTAL= | R3: =SUM(N3:P3) -> #NAME?
E4: Lundi | F4: Mardi | G4: Mercredi | H4: Jeudi | I4: Vendredi | J4: Samedi | K4: Heures mens | L4: =SUM(K6:K11) -> 8.7083333
A5: NOM | B5: Agence | C5: Poste | D5: Section | E5: =E1 -> 9 | F5: =E5+1 -> 10 | G5: =F5+1 -> 11 | H5: =G5+1 -> 12 | I5: =H5+1 -> 13 | J5: =I5+1 -> 14 | K5: TOTAL | M5: Coût Heures HN | N5: Coût Heures HS | O5: Cout TR | P5: Prime assiduité
A6: ='Semaine 1'!A4 -> 0 | B6: ='Semaine 2'!B4 -> ADECCO | C6: ='Semaine 2'!D4 -> Electricien | D6: ='Semaine 2'!C4 -> 11 | E6: 0.32291667 | F6: 0.32291667 | G6: 0.32291667 | H6: 0.32291667 | I6: 0.125 | J6: 0 | K6: =SUBTOTAL(9,E6:J6) -> 1.4166667 | O6: ='Semaine 2'!N4 -> #NAME? | P6: ='Semaine 2'!L4 -> #NAME?
A7: ='Semaine 1'!A5 -> 0 | B7: ='Semaine 2'!B5 -> ADECCO | C7: ='Semaine 2'!D5 -> Magasinier-Cariste | D7: ='Semaine 2'!C5 -> 11 | E7: 0.32291667 | F7: 0.32291667 | G7: 0.32291667 | H7: 0.32291667 | I7: 0.16666667 | J7: 0 | K7: =SUBTOTAL(9,E7:J7) -> 1.4583333 | O7: ='Semaine 2'!N5 -> #NAME? | P7: ='Semaine 2'!L5 -> #NAME?
A8: ='Semaine 1'!A6 -> 0 | B8: ='Semaine 2'!B6 -> ADECCO | C8: ='Semaine 2'!D6 -> Electricien | D8: ='Semaine 2'!C6 -> 11 | E8: 0.32291667 | F8: 0.32291667 | G8: 0.32291667 | H8: 0.32291667 | I8: 0.16666667 | J8: 0 | K8: =SUBTOTAL(9,E8:J8) -> 1.4583333 | O8: ='Semaine 2'!N6 -> #NAME? | P8: ='Semaine 2'!L6 -> #NAME?
A9: ='Semaine 1'!A7 -> 0 | B9: ='Semaine 2'!B7 -> ADECCO | C9: ='Semaine 2'!D7 -> Magasinier-Cariste | D9: ='Semaine 2'!C7 -> 11 | E9: 0.32291667 | F9: 0.32291667 | G9: 0.32291667 | H9: 0.32291667 | I9: 0.16666667 | J9: 0 | K9: =SUBTOTAL(9,E9:J9) -> 1.4583333 | O9: ='Semaine 2'!N7 -> #NAME? | P9: ='Semaine 2'!L7 -> #NAME?
A10: ='Semaine 1'!A8 -> 0 | B10: ='Semaine 2'!B8 -> ADECCO | C10: ='Semaine 2'!D8 -> Electricien | D10: ='Semaine 2'!C8 -> 11 | E10: 0.32291667 | F10: 0.32291667 | G10: 0.32291667 | H10: 0.32291667 | I10: 0.16666667 | J10: 0 | K10: =SUBTOTAL(9,E10:J10) -> 1.4583333 | O10: ='Semaine 2'!N8 -> #NAME? | P10: ='Semaine 2'!L8 -> #NAME?
A11: ='Semaine 1'!A9 -> 0 | B11: ='Semaine 2'!B9 -> ADECCO | C11: ='Semaine 2'!D9 -> Electricien | D11: ='Semaine 2'!C9 -> 11 | E11: 0.32291667 | F11: 0.32291667 | G11: 0.32291667 | H11: 0.32291667 | I11: 0.16666667 | J11: 0 | K11: =SUBTOTAL(9,E11:J11) -> 1.4583333 | O11: ='Semaine 2'!N9 -> #NAME? | P11: ='Semaine 2'!L9 -> #NAME?
A12: ='Semaine 1'!#REF! -> #REF! | B12: ='Semaine 2'!B10 -> ADECCO | C12: ='Semaine 2'!D10 -> Electricien | D12: ='Semaine 2'!C10 -> 11 | E12: 0.32291667 | F12: 0.32291667 | G12: 0.32291667 | H12: 0.32291667 | I12: 0.16666667 | J12: 0 | K12: =SUBTOTAL(9,E12:J12) -> 1.4583333 | O12: ='Semaine 2'!N10 -> 5.355 | P12: ='Semaine 2'!L10 -> 9.25
A13: ='Semaine 1'!#REF! -> #REF! | B13: ='Semaine 2'!B11 -> ADECCO | C13: ='Semaine 2'!D11 -> Agent de nett. | D13: ='Semaine 2'!C11 -> 11 | E13: 0.32291667 | F13: 0.32291667 | G13: 0.32291667 | H13: 0.32291667 | I13: 0.16666667 | J13: 0 | K13: =SUBTOTAL(9,E13:J13) -> 1.4583333 | O13: ='Semaine 2'!N11 -> 5.355 | P13: ='Semaine 2'!L11 -> 9.65
A14: ='Semaine 1'!#REF! -> #REF! | B14: ='Semaine 2'!B12 -> ADECCO | C14: ='Semaine 2'!D12 -> Assistante admin | D14: ='Semaine 2'!C12 -> 52 | E14: 0.32291667 | F14: 0.32291667 | G14: 0.32291667 | H14: 0.32291667 | I14: 0.16666667 | J14: 0 | K14: =SUBTOTAL(9,E14:J14) -> 1.4583333 | O14: ='Semaine 2'!N12 -> #NAME? | P14: ='Semaine 2'!L12 -> #NAME?
A15: ='Semaine 1'!#REF! -> #REF! | B15: ='Semaine 2'!B13 -> 0
A16: ='Semaine 1'!#REF! -> #REF! | B16: ='Semaine 1'!B14 -> 0
A17: ='Semaine 1'!#REF! -> #REF!
A18: ='Semaine 1'!#REF! -> #REF!
A19: ='Semaine 1'!#REF! -> #REF!
A20: ='Semaine 1'!#REF! -> #REF!
A21: ='Semaine 1'!A10 -> 0
A22: ='Semaine 1'!A11 -> 0
A23: ='Semaine 1'!A12 -> 0
A24: ='Semaine 1'!A13 -> 0
A25: ='Semaine 1'!A14 -> 0
A26: ='Semaine 1'!A15 -> 0
A27: ='Semaine 1'!A16 -> 0
A28: ='Semaine 1'!A17 -> 0
A29: ='Semaine 1'!A18 -> 0
A30: ='Semaine 1'!A19 -> 0
A31: ='Semaine 1'!#REF! -> #REF!
A32: ='Semaine 1'!#REF! -> #REF!
A33: ='Semaine 1'!#REF! -> #REF!
A34: ='Semaine 1'!#REF! -> #REF!
A35: ='Semaine 1'!#REF! -> #REF!
A36: ='Semaine 1'!#REF! -> #REF!

Sheet Fac 3
B1: Semaine N° : | C1: 3 | D1: du | E1: =7*C1+DATE(An,1,3)-WEEKDAY(DATE(An,1,3))-5 -> 16 | F1: au | G1: =E1+6 -> 22
N3: =SUM(L6:L20) -> 0 | O3: =SUM(N6:N37) -> 0 | P3: =SUM(O6:O37) -> #NAME? | Q3: TOTAL= | R3: =SUM(N3:P3) -> #NAME?
E4: Lundi | F4: Mardi | G4: Mercredi | H4: Jeudi | I4: Vendredi | J4: Samedi | K4: Heures mens | L4: =SUM(K6:K11) -> 7.4583333
A5: NOM | B5: Agence | C5: Poste | D5: Section | E5: =E1 -> 16 | F5: =E5+1 -> 17 | G5: =F5+1 -> 18 | H5: =G5+1 -> 19 | I5: =H5+1 -> 20 | J5: =I5+1 -> 21 | K5: TOTAL | M5: Coût Heures HN | N5: Coût Heures HS | O5: Cout TR | P5: Prime assiduité
A6: ='Semaine 1'!A4 -> 0 | B6: ='Semaine 3'!B4 -> ADECCO | C6: ='Semaine 3'!D4 -> Magasinier-Cariste | D6: ='Semaine 3'!C4 -> 11 | E6: 0.32291667 | F6: 0.32291667 | G6: 0.32291667 | H6: 0.32291667 | I6: 0.125 | J6: 0 | K6: =SUBTOTAL(9,E6:J6) -> 1.4166667 | O6: ='Semaine 3'!N4 -> #NAME? | P6: ='Semaine 3'!L4 -> #NAME?
A7: ='Semaine 1'!A5 -> 0 | B7: ='Semaine 3'!B5 -> ADECCO | C7: ='Semaine 3'!D5 -> Electricien | D7: ='Semaine 3'!C5 -> 11 | E7: 0.32291667 | F7: 0.32291667 | G7: 0.32291667 | H7: 0.32291667 | I7: 0.16666667 | J7: 0 | K7: =SUBTOTAL(9,E7:J7) -> 1.4583333 | O7: ='Semaine 3'!N5 -> #NAME? | P7: ='Semaine 3'!L5 -> #NAME?
A8: ='Semaine 1'!A6 -> 0 | B8: ='Semaine 3'!B6 -> ADECCO | C8: ='Semaine 3'!D6 -> Magasinier-Cariste | D8: ='Semaine 3'!C6 -> 11 | E8: 0.32291667 | F8: 0.32291667 | G8: 0.32291667 | H8: 0.32291667 | I8: 0.16666667 | J8: 0 | K8: =SUBTOTAL(9,E8:J8) -> 1.4583333 | O8: ='Semaine 3'!N6 -> #NAME? | P8: ='Semaine 3'!L6 -> #NAME?
A9: ='Semaine 1'!A7 -> 0 | B9: ='Semaine 3'!B7 -> ADECCO | C9: ='Semaine 3'!D7 -> Electricien | D9: ='Semaine 3'!C7 -> 11 | E9: 0.32291667 | F9: 0.32291667 | G9: 0.32291667 | H9: 0.32291667 | I9: 0.16666667 | J9: 0 | K9: =SUBTOTAL(9,E9:J9) -> 1.4583333 | O9: ='Semaine 3'!N7 -> #NAME? | P9: ='Semaine 3'!L7 -> #NAME?
A10: ='Semaine 1'!A8 -> 0 | B10: ='Semaine 3'!B8 -> ADECCO | C10: ='Semaine 3'!D8 -> Assistante admin | D10: ='Semaine 3'!C8 -> 52 | E10: 0.32291667 | F10: 0.32291667 | G10: 0.32291667 | H10: 0.32291667 | I10: 0.16666667 | J10: 0 | K10: =SUBTOTAL(9,E10:J10) -> 1.4583333 | O10: ='Semaine 3'!N8 -> #NAME? | P10: ='Semaine 3'!L8 -> #NAME?
A11: ='Semaine 1'!A9 -> 0 | B11: ='Semaine 3'!B9 -> ADECCO | C11: ='Semaine 3'!D9 -> Agent de nett. | D11: ='Semaine 3'!C9 -> 11 | J11: 0.20833333 | K11: =SUBTOTAL(9,E11:J11) -> 0.20833333 | O11: ='Semaine 3'!N9 -> 5.355 | P11: ='Semaine 3'!L9 -> 9.65
A12: ='Semaine 1'!#REF! -> #REF! | B12: ='Semaine 1'!B10 -> 0 | C12: ='Semaine 1'!D10 -> 0 | D12: ='Semaine 3'!C10 -> 0
A13: ='Semaine 1'!#REF! -> #REF! | B13: ='Semaine 1'!B11 -> 0 | D13: ='Semaine 3'!C11 -> 0
A14: ='Semaine 1'!#REF! -> #REF! | B14: ='Semaine 1'!B12 -> 0
A15: ='Semaine 1'!#REF! -> #REF! | B15: ='Semaine 1'!B13 -> 0
A16: ='Semaine 1'!#REF! -> #REF!
A17: ='Semaine 1'!#REF! -> #REF!
A18: ='Semaine 1'!#REF! -> #REF!
A19: ='Semaine 1'!#REF! -> #REF!
A20: ='Semaine 1'!#REF! -> #REF!
A21: ='Semaine 1'!A10 -> 0
A22: ='Semaine 1'!A11 -> 0
A23: ='Semaine 1'!A12 -> 0
A24: ='Semaine 1'!A13 -> 0
A25: ='Semaine 1'!A14 -> 0
A26: ='Semaine 1'!A15 -> 0
A27: ='Semaine 1'!A16 -> 0
A28: ='Semaine 1'!A17 -> 0
A29: ='Semaine 1'!A18 -> 0
A30: ='Semaine 1'!A19 -> 0
A31: ='Semaine 1'!#REF! -> #REF!
A32: ='Semaine 1'!#REF! -> #REF!
A33: ='Semaine 1'!#REF! -> #REF!
A34: ='Semaine 1'!#REF! -> #REF!
A35: ='Semaine 1'!#REF! -> #REF!
A36: ='Semaine 1'!#REF! -> #REF!

Sheet Fac 4
B1: Semaine N° : | C1: 4 | D1: du | E1: =7*C1+DATE(An,1,3)-WEEKDAY(DATE(An,1,3))-5 -> 23 | F1: au | G1: =E1+6 -> 29
N3: =SUM(L6:L20) -> 0 | O3: =SUM(N6:N37) -> 0 | P3: =SUM(O6:O37) -> 144.585 | Q3: TOTAL= | R3: =SUM(N3:P3) -> 144.585
E4: Lundi | F4: Mardi | G4: Mercredi | H4: Jeudi | I4: Vendredi | J4: Samedi | K4: Heures mens | L4: =SUM(K6:K11) -> 7.4583333
A5: NOM | B5: Agence | C5: Poste | D5: Section | E5: =E1 -> 23 | F5: =E5+1 -> 24 | G5: =F5+1 -> 25 | H5: =G5+1 -> 26 | I5: =H5+1 -> 27 | J5: =I5+1 -> 28 | K5: TOTAL | M5: Coût Heures HN | N5: Coût Heures HS | O5: Cout TR | P5: Prime assiduité
A6: ='Semaine 1'!A4 -> 0 | B6: ='Semaine 4'!B4 -> ADECCO | C6: ='Semaine 4'!D4 -> Magasinier-Cariste | D6: ='Semaine 4'!C4 -> 11 | E6: 0.32291667 | F6: 0.32291667 | G6: 0.32291667 | H6: 0.32291667 | I6: 0.125 | J6: 0 | K6: =SUBTOTAL(9,E6:J6) -> 1.4166667 | O6: ='Semaine 4'!N4 -> 26.775 | P6: ='Semaine 4'!L4 -> 46.25
A7: ='Semaine 1'!A5 -> 0 | B7: ='Semaine 4'!B5 -> ADECCO | C7: ='Semaine 4'!D5 -> Electricien | D7: ='Semaine 4'!C5 -> 11 | E7: 0.32291667 | F7: 0.32291667 | G7: 0.32291667 | H7: 0.32291667 | I7: 0.16666667 | J7: 0 | K7: =SUBTOTAL(9,E7:J7) -> 1.4583333 | O7: ='Semaine 4'!N5 -> 26.775 | P7: ='Semaine 4'!L5 -> 46.25
A8: ='Semaine 1'!A6 -> 0 | B8: ='Semaine 4'!B6 -> ADECCO | C8: ='Semaine 4'!D6 -> Magasinier-Cariste | D8: ='Semaine 4'!C6 -> 11 | E8: 0.32291667 | F8: 0.32291667 | G8: 0.32291667 | H8: 0.32291667 | I8: 0.16666667 | J8: 0 | K8: =SUBTOTAL(9,E8:J8) -> 1.4583333 | O8: ='Semaine 4'!N6 -> 26.775 | P8: ='Semaine 4'!L6 -> 46.25
A9: ='Semaine 1'!A7 -> 0 | B9: ='Semaine 4'!B7 -> ADECCO | C9: ='Semaine 4'!D7 -> Electricien | D9: ='Semaine 4'!C7 -> 11 | E9: 0.32291667 | F9: 0.32291667 | G9: 0.32291667 | H9: 0.32291667 | I9: 0.16666667 | J9: 0 | K9: =SUBTOTAL(9,E9:J9) -> 1.4583333 | O9: ='Semaine 4'!N7 -> 26.775 | P9: ='Semaine 4'!L7 -> 46.25
A10: ='Semaine 1'!A8 -> 0 | B10: ='Semaine 4'!B8 -> ADECCO | C10: ='Semaine 4'!D8 -> Assistante admin | D10: ='Semaine 4'!C8 -> 52 | E10: 0.32291667 | F10: 0.32291667 | G10: 0.32291667 | H10: 0.32291667 | I10: 0.16666667 | J10: 0 | K10: =SUBTOTAL(9,E10:J10) -> 1.4583333 | O10: ='Semaine 4'!N8 -> 26.775 | P10: ='Semaine 4'!L8 -> 49.5
A11: ='Semaine 1'!A9 -> 0 | B11: ='Semaine 4'!B9 -> ADECCO | C11: ='Semaine 4'!D9 -> Agent de nett. | D11: ='Semaine 4'!C9 -> 11 | J11: 0.20833333 | K11: =SUBTOTAL(9,E11:J11) -> 0.20833333 | O11: ='Semaine 4'!N9 -> 5.355 | P11: ='Semaine 4'!L9 -> 9.65
A12: ='Semaine 1'!#REF! -> #REF! | B12: ='Semaine 4'!B10 -> ADECCO | C12: ='Semaine 4'!D10 -> Magasinier-Cariste | D12: ='Semaine 4'!C10 -> 11 | E12: 0.32291667 | F12: 0.32291667 | G12: 0.32291667 | H12: 0.32291667 | I12: 0.16666667 | J12: 0 | K12: =SUBTOTAL(9,E12:J12) -> 1.4583333 | O12: ='Semaine 4'!N10 -> 5.355 | P12: ='Semaine 4'!L10 -> 9.25
A13: ='Semaine 1'!#REF! -> #REF! | B13: ='Semaine 1'!B11 -> 0
A14: ='Semaine 1'!#REF! -> #REF! | B14: ='Semaine 1'!B12 -> 0
A15: ='Semaine 1'!#REF! -> #REF! | B15: ='Semaine 1'!B13 -> 0
A16: ='Semaine 1'!#REF! -> #REF!
A17: ='Semaine 1'!#REF! -> #REF!
A18: ='Semaine 1'!#REF! -> #REF!
A19: ='Semaine 1'!#REF! -> #REF!
A20: ='Semaine 1'!#REF! -> #REF!
A21: ='Semaine 1'!A10 -> 0
A22: ='Semaine 1'!A11 -> 0
A23: ='Semaine 1'!A12 -> 0
A24: ='Semaine 1'!A13 -> 0
A25: ='Semaine 1'!A14 -> 0
A26: ='Semaine 1'!A15 -> 0
A27: ='Semaine 1'!A16 -> 0
A28: ='Semaine 1'!A17 -> 0
A29: ='Semaine 1'!A18 -> 0
A30: ='Semaine 1'!A19 -> 0
A31: ='Semaine 1'!#REF! -> #REF!
A32: ='Semaine 1'!#REF! -> #REF!
A33: ='Semaine 1'!#REF! -> #REF!
A34: ='Semaine 1'!#REF! -> #REF!
A35: ='Semaine 1'!#REF! -> #REF!
A36: ='Semaine 1'!#REF! -> #REF!

Sheet Fac 5
B1: Semaine N° : | C1: 5 | D1: du | E1: =7*C1+DATE(An,1,3)-WEEKDAY(DATE(An,1,3))-5 -> 30 | F1: au | G1: =E1+6 -> 36
N3: =SUM(L6:L20) -> 0 | O3: =SUM(N6:N37) -> 0 | P3: =SUM(O6:O37) -> #NAME? | Q3: TOTAL= | R3: =SUM(N3:P3) -> #NAME?
E4: Lundi | F4: Mardi | G4: Mercredi | H4: Jeudi | I4: Vendredi | J4: Samedi | K4: Heures mens | L4: =SUM(K6:K10) -> 7.25
A5: NOM | B5: Agence | C5: Poste | D5: Section | E5: =E1 -> 30 | F5: =E5+1 -> 31 | G5: =F5+1 -> 32 | H5: =G5+1 -> 33 | I5: =H5+1 -> 34 | J5: =I5+1 -> 35 | K5: TOTAL | M5: Coût Heures HN | N5: Coût Heures HS | O5: Cout TR | P5: Prime assiduité
A6: ='Semaine 1'!A4 -> 0 | B6: ='Semaine 5'!B4 -> ADECCO | C6: ='Semaine 5'!D4 -> Assistante admin | D6: ='Semaine 5'!C4 -> 52 | E6: 0.32291667 | F6: 0.32291667 | G6: 0.32291667 | H6: 0.32291667 | I6: 0.125 | J6: 0 | K6: =SUBTOTAL(9,E6:J6) -> 1.4166667 | O6: ='Semaine 5'!N4 -> #NAME? | P6: ='Semaine 5'!L4 -> #NAME?
A7: ='Semaine 1'!A5 -> 0 | B7: ='Semaine 5'!B5 -> ADECCO | C7: ='Semaine 5'!D5 -> Magasinier-Cariste | D7: ='Semaine 5'!C5 -> 11 | E7: 0.32291667 | F7: 0.32291667 | G7: 0.32291667 | H7: 0.32291667 | I7: 0.16666667 | J7: 0 | K7: =SUBTOTAL(9,E7:J7) -> 1.4583333 | O7: ='Semaine 5'!N5 -> #NAME? | P7: ='Semaine 5'!L5 -> #NAME?
A8: ='Semaine 1'!A6 -> 0 | B8: ='Semaine 5'!B6 -> ADECCO | C8: ='Semaine 5'!D6 -> Magasinier-Cariste | D8: ='Semaine 5'!C6 -> 11 | E8: 0.32291667 | F8: 0.32291667 | G8: 0.32291667 | H8: 0.32291667 | I8: 0.16666667 | J8: 0 | K8: =SUBTOTAL(9,E8:J8) -> 1.4583333 | O8: ='Semaine 5'!N6 -> #NAME? | P8: ='Semaine 5'!L6 -> #NAME?
A9: ='Semaine 1'!A7 -> 0 | B9: ='Semaine 5'!B7 -> ADECCO | C9: ='Semaine 5'!D7 -> Electricien | D9: ='Semaine 5'!C7 -> 11 | E9: 0.32291667 | F9: 0.32291667 | G9: 0.32291667 | H9: 0.32291667 | I9: 0.16666667 | J9: 0 | K9: =SUBTOTAL(9,E9:J9) -> 1.4583333 | O9: ='Semaine 5'!N7 -> #NAME? | P9: ='Semaine 5'!L7 -> #NAME?
A10: ='Semaine 1'!A8 -> 0 | B10: ='Semaine 5'!B8 -> ADECCO | C10: ='Semaine 5'!D8 -> Electricien | D10: ='Semaine 5'!C8 -> 11 | E10: 0.32291667 | F10: 0.32291667 | G10: 0.32291667 | H10: 0.32291667 | I10: 0.16666667 | J10: 0 | K10: =SUBTOTAL(9,E10:J10) -> 1.4583333 | O10: ='Semaine 5'!N8 -> #NAME? | P10: ='Semaine 5'!L8 -> #NAME?
A11: ='Semaine 1'!A9 -> 0 | B11: ='Semaine 5'!B9 -> 0 | C11: ='Semaine 5'!D9 -> 0 | D11: ='Semaine 5'!C9 -> 0
A12: ='Semaine 1'!#REF! -> #REF! | B12: ='Semaine 1'!B10 -> 0 | C12: ='Semaine 1'!D10 -> 0
A13: ='Semaine 1'!#REF! -> #REF! | B13: ='Semaine 1'!B11 -> 0
A14: ='Semaine 1'!#REF! -> #REF! | B14: ='Semaine 1'!B12 -> 0
A15: ='Semaine 1'!#REF! -> #REF! | B15: ='Semaine 1'!B13 -> 0
A16: ='Semaine 1'!#REF! -> #REF!
A17: ='Semaine 1'!#REF! -> #REF!
A18: ='Semaine 1'!#REF! -> #REF!
A19: ='Semaine 1'!#REF! -> #REF!
A20: ='Semaine 1'!#REF! -> #REF!
A21: ='Semaine 1'!A10 -> 0
A22: ='Semaine 1'!A11 -> 0
A23: ='Semaine 1'!A12 -> 0
A24: ='Semaine 1'!A13 -> 0
A25: ='Semaine 1'!A14 -> 0
A26: ='Semaine 1'!A15 -> 0
A27: ='Semaine 1'!A16 -> 0
A28: ='Semaine 1'!A17 -> 0
A29: ='Semaine 1'!A18 -> 0
A30: ='Semaine 1'!A19 -> 0
A31: ='Semaine 1'!#REF! -> #REF!
A32: ='Semaine 1'!#REF! -> #REF!
A33: ='Semaine 1'!#REF! -> #REF!
A34: ='Semaine 1'!#REF! -> #REF!
A35: ='Semaine 1'!#REF! -> #REF!
A36: ='Semaine 1'!#REF! -> #REF!
