Workbook
Name ANCOURS: Tables!$F$12:$F$25
Name jours: Tables!$F$1:$F$7

Sheet Feuil1

Sheet Janvier
J3: Mois de : | L3: 42005
A4: Employeur Salarié
A7: Jours | B7: =+L3 -> 42005 | C7: =+B7+1 -> 42006 | D7: =+C7+1 -> 42007 | E7: =+D7+1 -> 42008 | F7: =+E7+1 -> 42009 | G7: =+F7+1 -> 42010 | H7: =+G7+1 -> 42011 | I7: =+H7+1 -> 42012 | J7: =+I7+1 -> 42013 | ... Q7: =+P7+1 -> 42020
A8: Sem | B8: =WEEKNUM(B7) -> 1 | C8: =IF(WEEKDAY(C7,2)=1,WEEKNUM(C7),B8) -> 1 | F8: =IF(WEEKDAY(F7,2)=1,WEEKNUM(F7),E8) -> 2 | G8: =IF(WEEKDAY(G7,2)=1,WEEKNUM(G7),F8) -> 2 | H8: =IF(WEEKDAY(H7,2)=1,WEEKNUM(H7),G8) -> 2 | I8: =IF(WEEKDAY(I7,2)=1,WEEKNUM(I7),H8) -> 2 | J8: =IF(WEEKDAY(J7,2)=1,WEEKNUM(J7),I8) -> 2 | M8: =IF(WEEKDAY(M7,2)=1,WEEKNUM(M7),L8) -> 3 | N8: =IF(WEEKDAY(N7,2)=1,WEEKNUM(N7),M8) -> 3 | O8: =IF(WEEKDAY(O7,2)=1,WEEKNUM(O7),N8) -> 3 | P8: =IF(WEEKDAY(P7,2)=1,WEEKNUM(P7),O8) -> 3 | Q8: =IF(WEEKDAY(Q7,2)=1,WEEKNUM(Q7),P8) -> 3
A9: Heures
A10: Jours | B10: =Q7+1 -> 42021 | C10: =B10+1 -> 42022 | D10: =C10+1 -> 42023 | E10: =D10+1 -> 42024 | F10: =E10+1 -> 42025 | G10: =F10+1 -> 42026 | H10: =G10+1 -> 42027 | I10: =H10+1 -> 42028 | J10: =I10+1 -> 42029 | ... P10: =O10+1 -> 42035
A11: Sem | B11: =IF(WEEKDAY(B10,2)=1,WEEKNUM(B10),Q8) -> 3 | D11: 4 | E11: =IF(WEEKDAY(E10,2)=1,WEEKNUM(E10),D11) -> 4 | F11: =IF(WEEKDAY(F10,2)=1,WEEKNUM(F10),E11) -> 4 | G11: =IF(WEEKDAY(G10,2)=1,WEEKNUM(G10),F11) -> 4 | H11: =IF(WEEKDAY(H10,2)=1,WEEKNUM(H10),G11) -> 4 | I11: =IF(WEEKDAY(I10,2)=1,WEEKNUM(I10),H11) -> 4 | K11: 5 | L11: =IF(WEEKDAY(L10,2)=1,WEEKNUM(L10),K11) -> 5 | M11: =IF(WEEKDAY(M10,2)=1,WEEKNUM(M10),L11) -> 5 | N11: =IF(WEEKDAY(N10,2)=1,WEEKNUM(N10),M11) -> 5 | O11: =IF(WEEKDAY(O10,2)=1,WEEKNUM(O10),N11) -> 5 | P11: =IF(WEEKDAY(P10,2)=1,WEEKNUM(P10),O11) -> 5
A12: Heures | T12: =SUMPRODUCT(COUNTIF(INDIRECT(TEXT(DATE(1,{1;2;3;4;5;6;7;8;9;10;11;12},1),"mmmm")&"!B16:Q19"),"cp")) -> 0
A14: H/Sup sem | C14: =IF(WEEKDAY(B7,2)>5,"Sem "&B8+1,"Sem "&B8) -> Sem 1 | E14: =IF((SUMIF($B$8:$Q$8,VALUE(RIGHT(C14,2)),$B$9:$Q$9)+SUMIF(Mars!$B$18:$Q$18,VALUE(RIGHT(C14,2)),Mars!$B$19:$Q$19)-0)<=0,0,SUMIF($B$8:$Q$8,VALUE(RIGHT(C14,2)),$B$9:$Q$9)+SUMIF(Mars!$B$18:$Q$18,VALUE(RIGHT($C14,2)),Mars!$B$19:$Q$19)-0) -> 0 | F14: ="Sem "&VALUE(RIGHT(C14,2))+1 -> Sem 2 | H14: =IF((SUMIF($B$8:$Q$8,VALUE(RIGHT(F14,2)),$B$9:$Q$9)+SUMIF($B$11:$Q$11,VALUE(RIGHT(F14,2)),$B$12:$Q$12)-0)<=0,0,SUMIF($B$8:$Q$8,VALUE(RIGHT(F14,2)),$B$9:$Q$9)+SUMIF($B$11:$Q$11,VALUE(RIGHT($F14,2)),$B$12:$Q$12)-0) -> 0 | I14: ="Sem "&VALUE(RIGHT(F14,2))+1 -> Sem 3 | K14: =IF((SUMIF($B$8:$Q$8,VALUE(RIGHT(I14,2)),$B$9:$Q$9)+SUMIF($B$11:$Q$11,VALUE(RIGHT(I14,2)),$B$12:$Q$12)-0)<=0,0,SUMIF($B$8:$Q$8,VALUE(RIGHT(I14,2)),$B$9:$Q$9)+SUMIF($B$11:$Q$11,VALUE(RIGHT($I14,2)),$B$12:$Q$12)-0) -> 0 | L14: ="Sem "&VALUE(RIGHT(I14,2))+1 -> Sem 4 | N14: =IF(OR(ISERROR(VALUE(RIGHT(L14,2))),SUMIF($B$8:$Q$8,VALUE(RIGHT(L14,2)),$B$9:$Q$9)+SUMIF($B$11:$Q$11,VALUE(RIGHT(L14,2)),$B$12:$Q$12)-0<=0),0,SUMIF($B$8:$Q$8,VALUE(RIGHT(L14,2)),$B$9:$Q$9)+SUMIF($B$11:$Q$11,VALUE(RIGHT($L14,2)),$B$12:$Q$12)-0) -> 0 | O14: =IF(WEEKDAY(Q10,2)>=5,"Sem "&VALUE(RIGHT(L14,2))+1,"") -> Sem 5 | Q14: =IF(OR(ISERROR(VALUE(RIGHT(O14,2))),SUMIF($B$8:$Q$8,VALUE(RIGHT(O14,2)),$B$9:$Q$9)+SUMIF($B$11:$Q$11,VALUE(RIGHT(O14,2)),$B$12:$Q$12)-0<=0),0,SUMIF($B$8:$Q$8,VALUE(RIGHT(O14,2)),$B$9:$Q$9)+SUMIF($B$11:$Q$11,VALUE(RIGHT($O14,2)),$B$12:$Q$12)-0) -> 0
A18: reste congés payés | C18: 32 | F18: =C14 -> Sem 1 | H18: =MIN(SUM(E14),4)*125% -> 0 | K18: Reste RTT | M18: =SUMPRODUCT(SUMIF(INDIRECT(TEXT(DATE(1,{1;2;3;4;5;6;7;8;9;10;11;12},1),"mmmm")&"!H25:H38"),"<>"&"",INDIRECT(TEXT(DATE(1,{1;2;3;4;5;6;7;8;9;10;11;12},1),"mmmm")&"!H25:H38"))) -> 0
H19: =MAX(SUM(E14)-4,0)*150% -> 0
A20: congés pris | C20: =COUNTIF(B$9:Q$12,"cp") -> 0
F21: =F14 -> Sem 2 | H21: =MIN(SUM(H14),4)*125% -> 0 | K21: Rtt posés | M21: =((SUMPRODUCT((WEEKDAY(B7:Q7,2)<5)*(B9:Q9="rtt"))+SUMPRODUCT((WEEKDAY(B10:Q10,2)<5)*(B12:Q12="rtt")))*8)+((SUMPRODUCT((WEEKDAY(B7:Q7,2)=5)*(B9:Q9="rtt"))+SUMPRODUCT((WEEKDAY(B10:Q10,2)=5)*(B12:Q12="rtt")))*7) -> 0
A22: Soldes congés | C22: =SUM(C18-C25) -> 32 | H22: =MAX(SUM(H14)-4,0)*150% -> 0
F24: =I14 -> Sem 3 | H24: =MIN(SUM(K14),4)*125% -> 0 | K24: Soldes RTT | M24: =SUM(M18-M29) -> 0
A25: Total Congés posés | C25: =SUMPRODUCT(COUNTIF(INDIRECT(TEXT(DATE(1,{1;2;3;4;5;6;7;8;9;10;11;12},1),"mmmm")&"!B16:Q19"),"cp")) -> 0 | H25: =MAX(SUM(K14)-4,0)*150% -> 0
F27: =L14 -> Sem 4 | H27: =MIN(SUM(N14),4)*125% -> 0
H28: =MAX(SUM(N14)-4,0)*150% -> 0
K29: Rtt posés (Année) | M29: =SUMPRODUCT(SUMIF(INDIRECT(TEXT(DATE(1,{1;2;3;4;5;6;7;8;9;10;11;12},1),"mmmm")&"!M28"),"<>"&"",INDIRECT(TEXT(DATE(1,{1;2;3;4;5;6;7;8;9;10;11;12},1),"mmmm")&"!M28"))) -> 0
F30: =O14 -> Sem 5 | H30: =MIN(SUM(Q14),4)*125% -> 0
H31: =MAX(SUM(Q14)-4,0)*150% -> 0

Sheet Février
J3: Mois de : | L3: 42036
A4: Employeur Salarié
A5: Nom, prénom : | C5: FRONTEAU Romane | I5: Nom, prénom :
A6: Adresse : | I6: Adresse :
I10: Emploi occupé :
A14: Jours | B14: =+L3 -> 42036 | C14: =+B14+1 -> 42037 | D14: =+C14+1 -> 42038 | E14: =+D14+1 -> 42039 | F14: =+E14+1 -> 42040 | G14: =+F14+1 -> 42041 | H14: =+G14+1 -> 42042 | I14: =+H14+1 -> 42043 | J14: =+I14+1 -> 42044 | ... Q14: =+P14+1 -> 42051
A15: Sem | B15: =WEEKNUM(B14,2) -> 5 | C15: =WEEKNUM(C14,2) -> 6 | D15: =WEEKNUM(D14,2) -> 6 | E15: =WEEKNUM(E14,2) -> 6 | F15: =WEEKNUM(F14,2) -> 6 | G15: =WEEKNUM(G14,2) -> 6 | H15: =WEEKNUM(H14,2) -> 6 | I15: =WEEKNUM(I14,2) -> 6 | ... Q15: =WEEKNUM(Q14,2) -> 8
A16: Heures
A17: Jours | B17: =Q14+1 -> 42052 | C17: =B17+1 -> 42053 | D17: =C17+1 -> 42054 | E17: =D17+1 -> 42055 | F17: =E17+1 -> 42056 | G17: =F17+1 -> 42057 | H17: =G17+1 -> 42058 | I17: =H17+1 -> 42059 | J17: =I17+1 -> 42060 | ... M17: =L17+1 -> 42063 | N17: =IF(MOD(YEAR(L3),4)=0,M17+1,0) -> 0
A18: Sem | B18: =WEEKNUM(B17,2) -> 8 | C18: =WEEKNUM(C17,2) -> 8 | D18: =WEEKNUM(D17,2) -> 8 | E18: =WEEKNUM(E17,2) -> 8 | F18: =WEEKNUM(F17,2) -> 8 | G18: =WEEKNUM(G17,2) -> 8 | H18: =WEEKNUM(H17,2) -> 9 | I18: =WEEKNUM(I17,2) -> 9 | ... M18: =WEEKNUM(M17,2) -> 9 | N18: =IFERROR(WEEKNUM(N17,2),"") -> 1
A19: Heures
A21: H/Sup sem | C21: =IF(WEEKDAY(B14,2)>5,"Sem "&B15+1,"Sem "&B15) -> Sem 6 | E21: =IF((SUMIF($B$15:$Q$15,VALUE(RIGHT(C21,2)),$B$16:$Q$16)+SUMIF(Mars!$B$18:$Q$18,VALUE(RIGHT(C21,2)),Mars!$B$19:$Q$19)-0)<=0,0,SUMIF($B$15:$Q$15,VALUE(RIGHT(C21,2)),$B$16:$Q$16)+SUMIF(Mars!$B$18:$Q$18,VALUE(RIGHT($C21,2)),Mars!$B$19:$Q$19)-0) -> 0 | F21: ="Sem "&VALUE(RIGHT(C21,2))+1 -> Sem 7 | H21: =IF((SUMIF($B$15:$Q$15,VALUE(RIGHT(F21,2)),$B$16:$Q$16)+SUMIF($B$18:$Q$18,VALUE(RIGHT(F21,2)),$B$19:$Q$19)-0)<=0,0,SUMIF($B$15:$Q$15,VALUE(RIGHT(F21,2)),$B$16:$Q$16)+SUMIF($B$18:$Q$18,VALUE(RIGHT($F21,2)),$B$19:$Q$19)-0) -> 0 | I21: ="Sem "&VALUE(RIGHT(F21,2))+1 -> Sem 8 | K21: =IF((SUMIF($B$15:$Q$15,VALUE(RIGHT(I21,2)),$B$16:$Q$16)+SUMIF($B$18:$Q$18,VALUE(RIGHT(I21,2)),$B$19:$Q$19)-0)<=0,0,SUMIF($B$15:$Q$15,VALUE(RIGHT(I21,2)),$B$16:$Q$16)+SUMIF($B$18:$Q$18,VALUE(RIGHT($I21,2)),$B$19:$Q$19)-0) -> 0 | L21: ="Sem "&VALUE(RIGHT(I21,2))+1 -> Sem 9 | N21: =IF(OR(ISERROR(VALUE(RIGHT(L21,2))),SUMIF($B$15:$Q$15,VALUE(RIGHT(L21,2)),$B$16:$Q$16)+SUMIF($B$18:$Q$18,VALUE(RIGHT(L21,2)),$B$19:$Q$19)-0<=0),0,SUMIF($B$15:$Q$15,VALUE(RIGHT(L21,2)),$B$16:$Q$16)+SUMIF($B$18:$Q$18,VALUE(RIGHT($L21,2)),$B$19:$Q$19)-0) -> 0 | O21: =IF(MOD(YEAR($L$3),4)=0,IF(WEEKDAY(N17,2)<5,"Sem "&VALUE(RIGHT(L21,2))+1,""),IF(WEEKDAY(M17,2)>=5,"Sem "&VALUE(RIGHT(L21,2))+1,"")) -> Sem 10 | Q21: =IF(OR(ISERROR(VALUE(RIGHT(O21,2))),SUMIF($B$15:$Q$15,VALUE(RIGHT(O21,2)),$B$16:$Q$16)+SUMIF($B$18:$Q$18,VALUE(RIGHT(O21,2)),$B$19:$Q$19)-0<=0),0,SUMIF($B$15:$Q$15,VALUE(RIGHT(O21,2)),$B$16:$Q$16)+SUMIF($B$18:$Q$18,VALUE(RIGHT($O21,2)),$B$19:$Q$19)-0) -> 0
A25: reste congés payés | C25: =INDIRECT(TEXT(MONTH(L3)-1,"mmmm")&"!C29") -> 0 | F25: =C21 -> Sem 6 | H25: =MIN(SUM(E21),4)*125% -> 0 | K25: Reste RTT | M25: =SUMPRODUCT(SUMIF(INDIRECT(TEXT(DATE(1,{1;2;3;4;5;6;7;8;9;10;11;12},1),"mmmm")&"!H25:H38"),"<>"&"",INDIRECT(TEXT(DATE(1,{1;2;3;4;5;6;7;8;9;10;11;12},1),"mmmm")&"!H25:H38"))) -> 0 | R25: =INDIRECT(TEXT(MONTH(L3)-1,"mmmm")&"!M31") -> 0
H26: =MAX(SUM(E21)-4,0)*150% -> 0
A27: congés pris | C27: =COUNTIF(B$16:Q$19,"cp") -> 0
F28: =F21 -> Sem 7 | H28: =MIN(SUM(H21),4)*125% -> 0 | K28: Rtt posés | M28: =((SUMPRODUCT((WEEKDAY(B14:Q14,2)<5)*(B16:Q16="rtt"))+SUMPRODUCT((WEEKDAY(B17:Q17,2)<5)*(B19:Q19="rtt")))*8)+((SUMPRODUCT((WEEKDAY(B14:Q14,2)=5)*(B16:Q16="rtt"))+SUMPRODUCT((WEEKDAY(B17:Q17,2)=5)*(B19:Q19="rtt")))*7) -> 0
A29: Soldes congés | C29: =SUM(C25-C27) -> 0 | H29: =MAX(SUM(H21)-4,0)*150% -> 0
F31: =I21 -> Sem 8 | H31: =MIN(SUM(K21),4)*125% -> 0 | K31: Soldes RTT | M31: =SUM(M25-M28) -> 0
H32: =MAX(SUM(K21)-4,0)*150% -> 0
F34: =L21 -> Sem 9 | H34: =MIN(SUM(N21),4)*125% -> 0
H35: =MAX(SUM(N21)-4,0)*150% -> 0
F37: =O21 -> Sem 10 | H37: =MIN(SUM(Q21),4)*125% -> 0
H38: =MAX(SUM(Q21)-4,0)*150% -> 0

Sheet Mars
J3: Mois de : | L3: 42064
A4: Employeur Salarié | T4: =WEEKNUM(L3,2) -> 9
A5: Nom, prénom : | I5: Nom, prénom :
A6: Adresse : | I6: Adresse :
I10: Emploi occupé :
A14: Jours | B14: =+L3 -> 42064 | C14: =+B14+1 -> 42065 | D14: =+C14+1 -> 42066 | E14: =+D14+1 -> 42067 | F14: =+E14+1 -> 42068 | G14: =+F14+1 -> 42069 | H14: =+G14+1 -> 42070 | I14: =+H14+1 -> 42071 | J14: =+I14+1 -> 42072 | ... Q14: =+P14+1 -> 42079
A15: Sem | B15: =WEEKNUM(B14,2) -> 9 | C15: =WEEKNUM(C14,2) -> 10 | D15: =WEEKNUM(D14,2) -> 10 | E15: =WEEKNUM(E14,2) -> 10 | F15: =WEEKNUM(F14,2) -> 10 | G15: =WEEKNUM(G14,2) -> 10 | H15: =WEEKNUM(H14,2) -> 10 | I15: =WEEKNUM(I14,2) -> 10 | ... Q15: =WEEKNUM(Q14,2) -> 12
A16: Heures
A17: Jours | B17: =Q14+1 -> 42080 | C17: =B17+1 -> 42081 | D17: =C17+1 -> 42082 | E17: =D17+1 -> 42083 | F17: =E17+1 -> 42084 | G17: =F17+1 -> 42085 | H17: =G17+1 -> 42086 | I17: =H17+1 -> 42087 | J17: =I17+1 -> 42088 | ... P17: =O17+1 -> 42094
A18: Sem | B18: =WEEKNUM(B17,2) -> 12 | C18: =WEEKNUM(C17,2) -> 12 | D18: =WEEKNUM(D17,2) -> 12 | E18: =WEEKNUM(E17,2) -> 12 | F18: =WEEKNUM(F17,2) -> 12 | G18: =WEEKNUM(G17,2) -> 12 | H18: =WEEKNUM(H17,2) -> 13 | I18: =WEEKNUM(I17,2) -> 13 | ... P18: =WEEKNUM(P17,2) -> 14
A19: Heures
A21: H/Sup sem | C21: =IF(WEEKDAY(B14,2)>5,"Sem "&B15+1,"Sem "&B15) -> Sem 10 | E21: =IF((SUMIF($B$15:$Q$15,VALUE(RIGHT(C21,2)),$B$16:$Q$16)+SUMIF(Mars!$B$18:$Q$18,VALUE(RIGHT(C21,2)),Mars!$B$19:$Q$19)-0)<=0,0,SUMIF($B$15:$Q$15,VALUE(RIGHT(C21,2)),$B$16:$Q$16)+SUMIF(Mars!$B$18:$Q$18,VALUE(RIGHT($C21,2)),Mars!$B$19:$Q$19)-0) -> 0 | F21: ="Sem "&VALUE(RIGHT(C21,2))+1 -> Sem 11 | H21: =IF((SUMIF($B$15:$Q$15,VALUE(RIGHT(F21,2)),$B$16:$Q$16)+SUMIF($B$18:$Q$18,VALUE(RIGHT(F21,2)),$B$19:$Q$19)-0)<=0,0,SUMIF($B$15:$Q$15,VALUE(RIGHT(F21,2)),$B$16:$Q$16)+SUMIF($B$18:$Q$18,VALUE(RIGHT($F21,2)),$B$19:$Q$19)-0) -> 0 | I21: ="Sem "&VALUE(RIGHT(F21,2))+1 -> Sem 12 | K21: =IF((SUMIF($B$15:$Q$15,VALUE(RIGHT(I21,2)),$B$16:$Q$16)+SUMIF($B$18:$Q$18,VALUE(RIGHT(I21,2)),$B$19:$Q$19)-0)<=0,0,SUMIF($B$15:$Q$15,VALUE(RIGHT(I21,2)),$B$16:$Q$16)+SUMIF($B$18:$Q$18,VALUE(RIGHT($I21,2)),$B$19:$Q$19)-0) -> 0 | L21: ="Sem "&VALUE(RIGHT(I21,2))+1 -> Sem 13 | N21: =IF(OR(ISERROR(VALUE(RIGHT(L21,2))),SUMIF($B$15:$Q$15,VALUE(RIGHT(L21,2)),$B$16:$Q$16)+SUMIF($B$18:$Q$18,VALUE(RIGHT(L21,2)),$B$19:$Q$19)-0<=0),0,SUMIF($B$15:$Q$15,VALUE(RIGHT(L21,2)),$B$16:$Q$16)+SUMIF($B$18:$Q$18,VALUE(RIGHT($L21,2)),$B$19:$Q$19)-0) -> 0 | O21: =IF(WEEKDAY(P17,2)>=5,"Sem "&VALUE(RIGHT(L21,2))+1,"") | Q21: =IF(OR(ISERROR(VALUE(RIGHT(O21,2))),SUMIF($B$15:$Q$15,VALUE(RIGHT(O21,2)),$B$16:$Q$16)+SUMIF($B$18:$Q$18,VALUE(RIGHT(O21,2)),$B$19:$Q$19)-0<=0),0,SUMIF($B$15:$Q$15,VALUE(RIGHT(O21,2)),$B$16:$Q$16)+SUMIF($B$18:$Q$18,VALUE(RIGHT($O21,2)),$B$19:$Q$19)-0) -> 0
A25: reste congés payés | C25: =INDIRECT(TEXT(MONTH(L3)-1,"mmmm")&"!C29") -> 0 | F25: =C21 -> Sem 10 | H25: =MIN(SUM(E21),4)*125% -> 0 | K25: Reste RTT | M25: =SUMPRODUCT(SUMIF(INDIRECT(TEXT(DATE(1,{1;2;3;4;5;6;7;8;9;10;11;12},1),"mmmm")&"!H25:H38"),"<>"&"",INDIRECT(TEXT(DATE(1,{1;2;3;4;5;6;7;8;9;10;11;12},1),"mmmm")&"!H25:H38"))) -> 0
H26: =MAX(SUM(E21)-4,0)*150% -> 0
A27: congés pris | C27: =COUNTIF(B$16:Q$19,"cp") -> 0
F28: =F21 -> Sem 11 | H28: =MIN(SUM(H21),4)*125% -> 0 | K28: Rtt posés | M28: =((SUMPRODUCT((WEEKDAY(B14:Q14,2)<5)*(B16:Q16="rtt"))+SUMPRODUCT((WEEKDAY(B17:Q17,2)<5)*(B19:Q19="rtt")))*8)+((SUMPRODUCT((WEEKDAY(B14:Q14,2)=5)*(B16:Q16="rtt"))+SUMPRODUCT((WEEKDAY(B17:Q17,2)=5)*(B19:Q19="rtt")))*7) -> 0
A29: Soldes congés | C29: =SUM(C25-C27) -> 0 | H29: =MAX(SUM(H21)-4,0)*150% -> 0
F31: =I21 -> Sem 12 | H31: =MIN(SUM(K21),4)*125% -> 0 | K31: Soldes RTT | M31: =SUM(M25-M28) -> 0
H32: =MAX(SUM(K21)-4,0)*150% -> 0
F34: =L21 -> Sem 13 | H34: =MIN(SUM(N21),4)*125% -> 0
H35: =MAX(SUM(N21)-4,0)*150% -> 0
F37: =O21 | H37: =MIN(SUM(Q21),4)*125% -> 0
H38: =MAX(SUM(Q21)-4,0)*150% -> 0

Sheet Avril
J3: Mois de : | L3: 42095
A4: Employeur Salarié
A5: Nom, prénom : | I5: Nom, prénom :
A6: Adresse : | I6: Adresse :
I10: Emploi occupé :
A14: Jours | B14: =+L3 -> 42095 | C14: =+B14+1 -> 42096 | D14: =+C14+1 -> 42097 | E14: =+D14+1 -> 42098 | F14: =+E14+1 -> 42099 | G14: =+F14+1 -> 42100 | H14: =+G14+1 -> 42101 | I14: =+H14+1 -> 42102 | J14: =+I14+1 -> 42103 | ... Q14: =+P14+1 -> 42110
A15: Sem | B15: =WEEKNUM(B14,2) -> 14 | C15: =WEEKNUM(C14,2) -> 14 | D15: =WEEKNUM(D14,2) -> 14 | E15: =WEEKNUM(E14,2) -> 14 | F15: =WEEKNUM(F14,2) -> 14 | G15: =WEEKNUM(G14,2) -> 15 | H15: =WEEKNUM(H14,2) -> 15 | I15: =WEEKNUM(I14,2) -> 15 | ... Q15: =WEEKNUM(Q14,2) -> 16
A16: Heures
A17: Jours | B17: =Q14+1 -> 42111 | C17: =B17+1 -> 42112 | D17: =C17+1 -> 42113 | E17: =D17+1 -> 42114 | F17: =E17+1 -> 42115 | G17: =F17+1 -> 42116 | H17: =G17+1 -> 42117 | I17: =H17+1 -> 42118 | J17: =I17+1 -> 42119 | ... O17: =N17+1 -> 42124
A18: Sem | B18: =WEEKNUM(B17,2) -> 16 | C18: =WEEKNUM(C17,2) -> 16 | D18: =WEEKNUM(D17,2) -> 16 | E18: =WEEKNUM(E17,2) -> 17 | F18: =WEEKNUM(F17,2) -> 17 | G18: =WEEKNUM(G17,2) -> 17 | H18: =WEEKNUM(H17,2) -> 17 | I18: =WEEKNUM(I17,2) -> 17 | ... O18: =WEEKNUM(O17,2) -> 18
A19: Heures
A21: H/Sup sem | C21: =IF(WEEKDAY(B14,2)>5,"Sem "&B15+1,"Sem "&B15) -> Sem 14 | E21: =IF((SUMIF($B$15:$Q$15,VALUE(RIGHT(C21,2)),$B$16:$Q$16)+SUMIF(Mars!$B$18:$Q$18,VALUE(RIGHT(C21,2)),Mars!$B$19:$Q$19)-0)<=0,0,SUMIF($B$15:$Q$15,VALUE(RIGHT(C21,2)),$B$16:$Q$16)+SUMIF(Mars!$B$18:$Q$18,VALUE(RIGHT($C21,2)),Mars!$B$19:$Q$19)-0) -> 0 | F21: ="Sem "&VALUE(RIGHT(C21,2))+1 -> Sem 15 | H21: =IF((SUMIF($B$15:$Q$15,VALUE(RIGHT(F21,2)),$B$16:$Q$16)+SUMIF($B$18:$Q$18,VALUE(RIGHT(F21,2)),$B$19:$Q$19)-0)<=0,0,SUMIF($B$15:$Q$15,VALUE(RIGHT(F21,2)),$B$16:$Q$16)+SUMIF($B$18:$Q$18,VALUE(RIGHT($F21,2)),$B$19:$Q$19)-0) -> 0 | I21: ="Sem "&VALUE(RIGHT(F21,2))+1 -> Sem 16 | K21: =IF((SUMIF($B$15:$Q$15,VALUE(RIGHT(I21,2)),$B$16:$Q$16)+SUMIF($B$18:$Q$18,VALUE(RIGHT(I21,2)),$B$19:$Q$19)-0)<=0,0,SUMIF($B$15:$Q$15,VALUE(RIGHT(I21,2)),$B$16:$Q$16)+SUMIF($B$18:$Q$18,VALUE(RIGHT($I21,2)),$B$19:$Q$19)-0) -> 0 | L21: ="Sem "&VALUE(RIGHT(I21,2))+1 -> Sem 17 | N21: =IF(OR(ISERROR(VALUE(RIGHT(L21,2))),SUMIF($B$15:$Q$15,VALUE(RIGHT(L21,2)),$B$16:$Q$16)+SUMIF($B$18:$Q$18,VALUE(RIGHT(L21,2)),$B$19:$Q$19)-0<=0),0,SUMIF($B$15:$Q$15,VALUE(RIGHT(L21,2)),$B$16:$Q$16)+SUMIF($B$18:$Q$18,VALUE(RIGHT($L21,2)),$B$19:$Q$19)-0) -> 0 | O21: =IF(WEEKDAY(O17,2)>=5,"Sem "&VALUE(RIGHT(L21,2))+1,"") | Q21: =IF(OR(ISERROR(VALUE(RIGHT(O21,2))),SUMIF($B$15:$Q$15,VALUE(RIGHT(O21,2)),$B$16:$Q$16)+SUMIF($B$18:$Q$18,VALUE(RIGHT(O21,2)),$B$19:$Q$19)-0<=0),0,SUMIF($B$15:$Q$15,VALUE(RIGHT(O21,2)),$B$16:$Q$16)+SUMIF($B$18:$Q$18,VALUE(RIGHT($O21,2)),$B$19:$Q$19)-0) -> 0
A25: reste congés payés | C25: =INDIRECT(TEXT(MONTH(L3)-1,"mmmm")&"!C29") -> 0 | F25: =C21 -> Sem 14 | H25: =MIN(SUM(E21),4)*125% -> 0 | K25: Reste RTT | M25: =SUMPRODUCT(SUMIF(INDIRECT(TEXT(DATE(1,{1;2;3;4;5;6;7;8;9;10;11;12},1),"mmmm")&"!H25:H38"),"<>"&"",INDIRECT(TEXT(DATE(1,{1;2;3;4;5;6;7;8;9;10;11;12},1),"mmmm")&"!H25:H38"))) -> 0
H26: =MAX(SUM(E21)-4,0)*150% -> 0
A27: congés pris | C27: =COUNTIF(B$16:Q$19,"cp") -> 0
F28: =F21 -> Sem 15 | H28: =MIN(SUM(H21),4)*125% -> 0 | K28: Rtt posés | M28: =((SUMPRODUCT((WEEKDAY(B14:Q14,2)<5)*(B16:Q16="rtt"))+SUMPRODUCT((WEEKDAY(B17:Q17,2)<5)*(B19:Q19="rtt")))*8)+((SUMPRODUCT((WEEKDAY(B14:Q14,2)=5)*(B16:Q16="rtt"))+SUMPRODUCT((WEEKDAY(B17:Q17,2)=5)*(B19:Q19="rtt")))*7) -> 0
A29: Soldes congés | C29: =SUM(C25-C27) -> 0 | H29: =MAX(SUM(H21)-4,0)*150% -> 0
F31: =I21 -> Sem 16 | H31: =MIN(SUM(K21),4)*125% -> 0 | K31: Soldes RTT | M31: =SUM(M25-M28) -> 0
H32: =MAX(SUM(K21)-4,0)*150% -> 0
F34: =L21 -> Sem 17 | H34: =MIN(SUM(N21),4)*125% -> 0
H35: =MAX(SUM(N21)-4,0)*150% -> 0
F37: =O21 | H37: =MIN(SUM(Q21),4)*125% -> 0
H38: =MAX(SUM(Q21)-4,0)*150% -> 0

Sheet Mai
J3: Mois de : | L3: 42125
A4: Employeur Salarié | T4: =WEEKNUM(L3,2) -> 18
A5: Nom, prénom : | I5: Nom, prénom :
A6: Adresse : | I6: Adresse :
I10: Emploi occupé :
A14: Jours | B14: =+L3 -> 42125 | C14: =+B14+1 -> 42126 | D14: =+C14+1 -> 42127 | E14: =+D14+1 -> 42128 | F14: =+E14+1 -> 42129 | G14: =+F14+1 -> 42130 | H14: =+G14+1 -> 42131 | I14: =+H14+1 -> 42132 | J14: =+I14+1 -> 42133 | ... Q14: =+P14+1 -> 42140
A15: Sem | B15: =WEEKNUM(B14,2) -> 18 | C15: =WEEKNUM(C14,2) -> 18 | D15: =WEEKNUM(D14,2) -> 18 | E15: =WEEKNUM(E14,2) -> 19 | F15: =WEEKNUM(F14,2) -> 19 | G15: =WEEKNUM(G14,2) -> 19 | H15: =WEEKNUM(H14,2) -> 19 | I15: =WEEKNUM(I14,2) -> 19 | ... Q15: =WEEKNUM(Q14,2) -> 20
A16: Heures
A17: Jours | B17: =Q14+1 -> 42141 | C17: =B17+1 -> 42142 | D17: =C17+1 -> 42143 | E17: =D17+1 -> 42144 | F17: =E17+1 -> 42145 | G17: =F17+1 -> 42146 | H17: =G17+1 -> 42147 | I17: =H17+1 -> 42148 | J17: =I17+1 -> 42149 | ... P17: =O17+1 -> 42155
A18: Sem | B18: =WEEKNUM(B17,2) -> 20 | C18: =WEEKNUM(C17,2) -> 21 | D18: =WEEKNUM(D17,2) -> 21 | E18: =WEEKNUM(E17,2) -> 21 | F18: =WEEKNUM(F17,2) -> 21 | G18: =WEEKNUM(G17,2) -> 21 | H18: =WEEKNUM(H17,2) -> 21 | I18: =WEEKNUM(I17,2) -> 21 | ... P18: =WEEKNUM(P17,2) -> 22
A19: Heures
A21: H/Sup sem | C21: =#REF! -> #REF! | E21: =IF((SUMIF($B$15:$Q$15,VALUE(RIGHT(C21,2)),$B$16:$Q$16)+SUMIF(Mars!$B$18:$Q$18,VALUE(RIGHT(C21,2)),Mars!$B$19:$Q$19)-0)<=0,0,SUMIF($B$15:$Q$15,VALUE(RIGHT(C21,2)),$B$16:$Q$16)+SUMIF(Mars!$B$18:$Q$18,VALUE(RIGHT($C21,2)),Mars!$B$19:$Q$19)-0) -> 0 | F21: ="Sem "&VALUE(RIGHT(C21,2))+1 -> #REF! | H21: =IF((SUMIF($B$15:$Q$15,VALUE(RIGHT(F21,2)),$B$16:$Q$16)+SUMIF($B$18:$Q$18,VALUE(RIGHT(F21,2)),$B$19:$Q$19)-0)<=0,0,SUMIF($B$15:$Q$15,VALUE(RIGHT(F21,2)),$B$16:$Q$16)+SUMIF($B$18:$Q$18,VALUE(RIGHT($F21,2)),$B$19:$Q$19)-0) -> 0 | I21: ="Sem "&VALUE(RIGHT(F21,2))+1 -> #REF! | K21: =IF((SUMIF($B$15:$Q$15,VALUE(RIGHT(I21,2)),$B$16:$Q$16)+SUMIF($B$18:$Q$18,VALUE(RIGHT(I21,2)),$B$19:$Q$19)-0)<=0,0,SUMIF($B$15:$Q$15,VALUE(RIGHT(I21,2)),$B$16:$Q$16)+SUMIF($B$18:$Q$18,VALUE(RIGHT($I21,2)),$B$19:$Q$19)-0) -> 0 | L21: ="Sem "&VALUE(RIGHT(I21,2))+1 -> #REF! | N21: =IF(OR(ISERROR(VALUE(RIGHT(L21,2))),SUMIF($B$15:$Q$15,VALUE(RIGHT(L21,2)),$B$16:$Q$16)+SUMIF($B$18:$Q$18,VALUE(RIGHT(L21,2)),$B$19:$Q$19)-0<=0),0,SUMIF($B$15:$Q$15,VALUE(RIGHT(L21,2)),$B$16:$Q$16)+SUMIF($B$18:$Q$18,VALUE(RIGHT($L21,2)),$B$19:$Q$19)-0) -> 0 | O21: =IF(WEEKDAY(P17,2)>=5,"Sem "&VALUE(RIGHT(L21,2))+1,"") -> #REF! | Q21: =IF(OR(ISERROR(VALUE(RIGHT(O21,2))),SUMIF($B$15:$Q$15,VALUE(RIGHT(O21,2)),$B$16:$Q$16)+SUMIF($B$18:$Q$18,VALUE(RIGHT(O21,2)),$B$19:$Q$19)-0<=0),0,SUMIF($B$15:$Q$15,VALUE(RIGHT(O21,2)),$B$16:$Q$16)+SUMIF($B$18:$Q$18,VALUE(RIGHT($O21,2)),$B$19:$Q$19)-0) -> 0
A25: reste congés payés | C25: =INDIRECT(TEXT(MONTH(L3)-1,"mmmm")&"!C29") -> 0 | F25: =C21 -> #REF! | H25: =MIN(SUM(E21),4)*125% -> 0 | K25: Reste RTT | M25: =SUMPRODUCT(SUMIF(INDIRECT(TEXT(DATE(1,{1;2;3;4;5;6;7;8;9;10;11;12},1),"mmmm")&"!H25:H38"),"<>"&"",INDIRECT(TEXT(DATE(1,{1;2;3;4;5;6;7;8;9;10;11;12},1),"mmmm")&"!H25:H38"))) -> 0
H26: =MAX(SUM(E21)-4,0)*150% -> 0
A27: congés pris | C27: =COUNTIF(B$16:Q$19,"cp") -> 0
F28: =F21 -> #REF! | H28: =MIN(SUM(H21),4)*125% -> 0 | K28: Rtt posés | M28: =((SUMPRODUCT((WEEKDAY(B14:Q14,2)<5)*(B16:Q16="rtt"))+SUMPRODUCT((WEEKDAY(B17:Q17,2)<5)*(B19:Q19="rtt")))*8)+((SUMPRODUCT((WEEKDAY(B14:Q14,2)=5)*(B16:Q16="rtt"))+SUMPRODUCT((WEEKDAY(B17:Q17,2)=5)*(B19:Q19="rtt")))*7) -> 0
A29: Soldes congés | C29: =SUM(C25-C27) -> 0 | H29: =MAX(SUM(H21)-4,0)*150% -> 0
F31: =I21 -> #REF! | H31: =MIN(SUM(K21),4)*125% -> 0 | K31: Soldes RTT | M31: =SUM(M25-M28) -> 0
H32: =MAX(SUM(K21)-4,0)*150% -> 0
F34: =L21 -> #REF! | H34: =MIN(SUM(N21),4)*125% -> 0
H35: =MAX(SUM(N21)-4,0)*150% -> 0
F37: =O21 -> #REF! | H37: =MIN(SUM(Q21),4)*125% -> 0
H38: =MAX(SUM(Q21)-4,0)*150% -> 0

Sheet Juin
J3: Mois de : | L3: 42156
A4: Employeur Salarié
A5: Nom, prénom : | I5: Nom, prénom :
A6: Adresse : | I6: Adresse :
I10: Emploi occupé :
A14: Jours | B14: =+L3 -> 42156 | C14: =+B14+1 -> 42157 | D14: =+C14+1 -> 42158 | E14: =+D14+1 -> 42159 | F14: =+E14+1 -> 42160 | G14: =+F14+1 -> 42161 | H14: =+G14+1 -> 42162 | I14: =+H14+1 -> 42163 | J14: =+I14+1 -> 42164 | ... Q14: =+P14+1 -> 42171
A15: Sem | B15: =WEEKNUM(B14,2) -> 23 | C15: =WEEKNUM(C14,2) -> 23 | D15: =WEEKNUM(D14,2) -> 23 | E15: =WEEKNUM(E14,2) -> 23 | F15: =WEEKNUM(F14,2) -> 23 | G15: =WEEKNUM(G14,2) -> 23 | H15: =WEEKNUM(H14,2) -> 23 | I15: =WEEKNUM(I14,2) -> 24 | ... Q15: =WEEKNUM(Q14,2) -> 25
A16: Heures
A17: Jours | B17: =Q14+1 -> 42172 | C17: =B17+1 -> 42173 | D17: =C17+1 -> 42174 | E17: =D17+1 -> 42175 | F17: =E17+1 -> 42176 | G17: =F17+1 -> 42177 | H17: =G17+1 -> 42178 | I17: =H17+1 -> 42179 | J17: =I17+1 -> 42180 | ... O17: =N17+1 -> 42185
A18: Sem | B18: =WEEKNUM(B17,2) -> 25 | C18: =WEEKNUM(C17,2) -> 25 | D18: =WEEKNUM(D17,2) -> 25 | E18: =WEEKNUM(E17,2) -> 25 | F18: =WEEKNUM(F17,2) -> 25 | G18: =WEEKNUM(G17,2) -> 26 | H18: =WEEKNUM(H17,2) -> 26 | I18: =WEEKNUM(I17,2) -> 26 | ... O18: =WEEKNUM(O17,2) -> 27
A19: Heures
A21: H/Sup sem | C21: =IF(WEEKDAY(B14,2)>5,"Sem "&B15+1,"Sem "&B15) -> Sem 23 | E21: =IF((SUMIF($B$15:$Q$15,VALUE(RIGHT(C21,2)),$B$16:$Q$16)+SUMIF(Mars!$B$18:$Q$18,VALUE(RIGHT(C21,2)),Mars!$B$19:$Q$19)-0)<=0,0,SUMIF($B$15:$Q$15,VALUE(RIGHT(C21,2)),$B$16:$Q$16)+SUMIF(Mars!$B$18:$Q$18,VALUE(RIGHT($C21,2)),Mars!$B$19:$Q$19)-0) -> 0 | F21: ="Sem "&VALUE(RIGHT(C21,2))+1 -> Sem 24 | H21: =IF((SUMIF($B$15:$Q$15,VALUE(RIGHT(F21,2)),$B$16:$Q$16)+SUMIF($B$18:$Q$18,VALUE(RIGHT(F21,2)),$B$19:$Q$19)-0)<=0,0,SUMIF($B$15:$Q$15,VALUE(RIGHT(F21,2)),$B$16:$Q$16)+SUMIF($B$18:$Q$18,VALUE(RIGHT($F21,2)),$B$19:$Q$19)-0) -> 0 | I21: ="Sem "&VALUE(RIGHT(F21,2))+1 -> Sem 25 | K21: =IF((SUMIF($B$15:$Q$15,VALUE(RIGHT(I21,2)),$B$16:$Q$16)+SUMIF($B$18:$Q$18,VALUE(RIGHT(I21,2)),$B$19:$Q$19)-0)<=0,0,SUMIF($B$15:$Q$15,VALUE(RIGHT(I21,2)),$B$16:$Q$16)+SUMIF($B$18:$Q$18,VALUE(RIGHT($I21,2)),$B$19:$Q$19)-0) -> 0 | L21: ="Sem "&VALUE(RIGHT(I21,2))+1 -> Sem 26 | N21: =IF(OR(ISERROR(VALUE(RIGHT(L21,2))),SUMIF($B$15:$Q$15,VALUE(RIGHT(L21,2)),$B$16:$Q$16)+SUMIF($B$18:$Q$18,VALUE(RIGHT(L21,2)),$B$19:$Q$19)-0<=0),0,SUMIF($B$15:$Q$15,VALUE(RIGHT(L21,2)),$B$16:$Q$16)+SUMIF($B$18:$Q$18,VALUE(RIGHT($L21,2)),$B$19:$Q$19)-0) -> 0 | O21: =IF(WEEKDAY(17,2)>=5,"Sem "&VALUE(RIGHT(L21,2))+1,"") | Q21: =IF(OR(ISERROR(VALUE(RIGHT(O21,2))),SUMIF($B$15:$Q$15,VALUE(RIGHT(O21,2)),$B$16:$Q$16)+SUMIF($B$18:$Q$18,VALUE(RIGHT(O21,2)),$B$19:$Q$19)-0<=0),0,SUMIF($B$15:$Q$15,VALUE(RIGHT(O21,2)),$B$16:$Q$16)+SUMIF($B$18:$Q$18,VALUE(RIGHT($O21,2)),$B$19:$Q$19)-0) -> 0
A25: reste congés payés | C25: =INDIRECT(TEXT(MONTH(L3)-1,"mmmm")&"!C29") -> 0 | F25: =C21 -> Sem 23 | H25: =MIN(SUM(E21),4)*125% -> 0 | K25: Reste RTT | M25: =SUMPRODUCT(SUMIF(INDIRECT(TEXT(DATE(1,{1;2;3;4;5;6;7;8;9;10;11;12},1),"mmmm")&"!H25:H38"),"<>"&"",INDIRECT(TEXT(DATE(1,{1;2;3;4;5;6;7;8;9;10;11;12},1),"mmmm")&"!H25:H38"))) -> 0
H26: =MAX(SUM(E21)-4,0)*150% -> 0
A27: congés pris | C27: =COUNTIF(B$16:Q$19,"cp") -> 0
F28: =F21 -> Sem 24 | H28: =MIN(SUM(H21),4)*125% -> 0 | K28: Rtt posés | M28: =((SUMPRODUCT((WEEKDAY(B14:Q14,2)<5)*(B16:Q16="rtt"))+SUMPRODUCT((WEEKDAY(B17:Q17,2)<5)*(B19:Q19="rtt")))*8)+((SUMPRODUCT((WEEKDAY(B14:Q14,2)=5)*(B16:Q16="rtt"))+SUMPRODUCT((WEEKDAY(B17:Q17,2)=5)*(B19:Q19="rtt")))*7) -> 0
A29: Soldes congés | C29: =SUM(C25-C27) -> 0 | H29: =MAX(SUM(H21)-4,0)*150% -> 0
F31: =I21 -> Sem 25 | H31: =MIN(SUM(K21),4)*125% -> 0 | K31: Soldes RTT | M31: =SUM(M25-M28) -> 0
H32: =MAX(SUM(K21)-4,0)*150% -> 0
F34: =L21 -> Sem 26 | H34: =MIN(SUM(N21),4)*125% -> 0
H35: =MAX(SUM(N21)-4,0)*150% -> 0
F37: =O21 | H37: =MIN(SUM(Q21),4)*125% -> 0
H38: =MAX(SUM(Q21)-4,0)*150% -> 0

Sheet Juillet
J3: Mois de : | L3: 42186
A4: Employeur Salarié
A5: Nom, prénom : | I5: Nom, prénom :
A6: Adresse : | I6: Adresse :
I10: Emploi occupé :
A14: Jours | B14: =+L3 -> 42186 | C14: =+B14+1 -> 42187 | D14: =+C14+1 -> 42188 | E14: =+D14+1 -> 42189 | F14: =+E14+1 -> 42190 | G14: =+F14+1 -> 42191 | H14: =+G14+1 -> 42192 | I14: =+H14+1 -> 42193 | J14: =+I14+1 -> 42194 | ... Q14: =+P14+1 -> 42201
A15: Sem | B15: =WEEKNUM(B14,2) -> 27 | C15: =WEEKNUM(C14,2) -> 27 | D15: =WEEKNUM(D14,2) -> 27 | E15: =WEEKNUM(E14,2) -> 27 | F15: =WEEKNUM(F14,2) -> 27 | G15: =WEEKNUM(G14,2) -> 28 | H15: =WEEKNUM(H14,2) -> 28 | I15: =WEEKNUM(I14,2) -> 28 | ... Q15: =WEEKNUM(Q14,2) -> 29
A16: Heures
A17: Jours | B17: =Q14+1 -> 42202 | C17: =B17+1 -> 42203 | D17: =C17+1 -> 42204 | E17: =D17+1 -> 42205 | F17: =E17+1 -> 42206 | G17: =F17+1 -> 42207 | H17: =G17+1 -> 42208 | I17: =H17+1 -> 42209 | J17: =I17+1 -> 42210 | ... P17: =O17+1 -> 42216
A18: Sem | B18: =WEEKNUM(B17,2) -> 29 | C18: =WEEKNUM(C17,2) -> 29 | D18: =WEEKNUM(D17,2) -> 29 | E18: =WEEKNUM(E17,2) -> 30 | F18: =WEEKNUM(F17,2) -> 30 | G18: =WEEKNUM(G17,2) -> 30 | H18: =WEEKNUM(H17,2) -> 30 | I18: =WEEKNUM(I17,2) -> 30 | ... P18: =WEEKNUM(P17,2) -> 31
A19: Heures
A21: H/Sup sem | C21: =IF(WEEKDAY(B14,2)>5,"Sem "&B15+1,"Sem "&B15) -> Sem 27 | E21: =IF((SUMIF($B$15:$Q$15,VALUE(RIGHT(C21,2)),$B$16:$Q$16)+SUMIF(Mars!$B$18:$Q$18,VALUE(RIGHT(C21,2)),Mars!$B$19:$Q$19)-0)<=0,0,SUMIF($B$15:$Q$15,VALUE(RIGHT(C21,2)),$B$16:$Q$16)+SUMIF(Mars!$B$18:$Q$18,VALUE(RIGHT($C21,2)),Mars!$B$19:$Q$19)-0) -> 0 | F21: ="Sem "&VALUE(RIGHT(C21,2))+1 -> Sem 28 | H21: =IF((SUMIF($B$15:$Q$15,VALUE(RIGHT(F21,2)),$B$16:$Q$16)+SUMIF($B$18:$Q$18,VALUE(RIGHT(F21,2)),$B$19:$Q$19)-0)<=0,0,SUMIF($B$15:$Q$15,VALUE(RIGHT(F21,2)),$B$16:$Q$16)+SUMIF($B$18:$Q$18,VALUE(RIGHT($F21,2)),$B$19:$Q$19)-0) -> 0 | I21: ="Sem "&VALUE(RIGHT(F21,2))+1 -> Sem 29 | K21: =IF((SUMIF($B$15:$Q$15,VALUE(RIGHT(I21,2)),$B$16:$Q$16)+SUMIF($B$18:$Q$18,VALUE(RIGHT(I21,2)),$B$19:$Q$19)-0)<=0,0,SUMIF($B$15:$Q$15,VALUE(RIGHT(I21,2)),$B$16:$Q$16)+SUMIF($B$18:$Q$18,VALUE(RIGHT($I21,2)),$B$19:$Q$19)-0) -> 0 | L21: ="Sem "&VALUE(RIGHT(I21,2))+1 -> Sem 30 | N21: =IF(OR(ISERROR(VALUE(RIGHT(L21,2))),SUMIF($B$15:$Q$15,VALUE(RIGHT(L21,2)),$B$16:$Q$16)+SUMIF($B$18:$Q$18,VALUE(RIGHT(L21,2)),$B$19:$Q$19)-0<=0),0,SUMIF($B$15:$Q$15,VALUE(RIGHT(L21,2)),$B$16:$Q$16)+SUMIF($B$18:$Q$18,VALUE(RIGHT($L21,2)),$B$19:$Q$19)-0) -> 0 | O21: =IF(WEEKDAY(P17,2)>=5,"Sem "&VALUE(RIGHT(L21,2))+1,"") -> Sem 31 | Q21: =IF(OR(ISERROR(VALUE(RIGHT(O21,2))),SUMIF($B$15:$Q$15,VALUE(RIGHT(O21,2)),$B$16:$Q$16)+SUMIF($B$18:$Q$18,VALUE(RIGHT(O21,2)),$B$19:$Q$19)-0<=0),0,SUMIF($B$15:$Q$15,VALUE(RIGHT(O21,2)),$B$16:$Q$16)+SUMIF($B$18:$Q$18,VALUE(RIGHT($O21,2)),$B$19:$Q$19)-0) -> 0
A25: reste congés payés | C25: =INDIRECT(TEXT(MONTH(L3)-1,"mmmm")&"!C29") -> 0 | F25: =C21 -> Sem 27 | H25: =MIN(SUM(E21),4)*125% -> 0 | K25: Reste RTT | M25: =SUMPRODUCT(SUMIF(INDIRECT(TEXT(DATE(1,{1;2;3;4;5;6;7;8;9;10;11;12},1),"mmmm")&"!H25:H38"),"<>"&"",INDIRECT(TEXT(DATE(1,{1;2;3;4;5;6;7;8;9;10;11;12},1),"mmmm")&"!H25:H38"))) -> 0
H26: =MAX(SUM(E21)-4,0)*150% -> 0
A27: congés pris | C27: =COUNTIF(B$16:Q$19,"cp") -> 0
F28: =F21 -> Sem 28 | H28: =MIN(SUM(H21),4)*125% -> 0 | K28: Rtt posés | M28: =((SUMPRODUCT((WEEKDAY(B14:Q14,2)<5)*(B16:Q16="rtt"))+SUMPRODUCT((WEEKDAY(B17:Q17,2)<5)*(B19:Q19="rtt")))*8)+((SUMPRODUCT((WEEKDAY(B14:Q14,2)=5)*(B16:Q16="rtt"))+SUMPRODUCT((WEEKDAY(B17:Q17,2)=5)*(B19:Q19="rtt")))*7) -> 0
A29: Soldes congés | C29: =SUM(C25-C27) -> 0 | H29: =MAX(SUM(H21)-4,0)*150% -> 0
F31: =I21 -> Sem 29 | H31: =MIN(SUM(K21),4)*125% -> 0 | K31: Soldes RTT | M31: =SUM(M25-M28) -> 0
H32: =MAX(SUM(K21)-4,0)*150% -> 0
F34: =L21 -> Sem 30 | H34: =MIN(SUM(N21),4)*125% -> 0
H35: =MAX(SUM(N21)-4,0)*150% -> 0
F37: =O21 -> Sem 31 | H37: =MIN(SUM(Q21),4)*125% -> 0
H38: =MAX(SUM(Q21)-4,0)*150% -> 0

Sheet Août
J3: Mois de : | L3: 42217
A4: Employeur Salarié
A5: Nom, prénom : | I5: Nom, prénom :
A6: Adresse : | I6: Adresse :
I10: Emploi occupé :
A14: Jours | B14: =+L3 -> 42217 | C14: =+B14+1 -> 42218 | D14: =+C14+1 -> 42219 | E14: =+D14+1 -> 42220 | F14: =+E14+1 -> 42221 | G14: =+F14+1 -> 42222 | H14: =+G14+1 -> 42223 | I14: =+H14+1 -> 42224 | J14: =+I14+1 -> 42225 | ... Q14: =+P14+1 -> 42232
A15: Sem | B15: =WEEKNUM(B14,2) -> 31 | C15: =WEEKNUM(C14,2) -> 31 | D15: =WEEKNUM(D14,2) -> 32 | E15: =WEEKNUM(E14,2) -> 32 | F15: =WEEKNUM(F14,2) -> 32 | G15: =WEEKNUM(G14,2) -> 32 | H15: =WEEKNUM(H14,2) -> 32 | I15: =WEEKNUM(I14,2) -> 32 | ... Q15: =WEEKNUM(Q14,2) -> 33
A16: Heures
A17: Jours | B17: =Q14+1 -> 42233 | C17: =B17+1 -> 42234 | D17: =C17+1 -> 42235 | E17: =D17+1 -> 42236 | F17: =E17+1 -> 42237 | G17: =F17+1 -> 42238 | H17: =G17+1 -> 42239 | I17: =H17+1 -> 42240 | J17: =I17+1 -> 42241 | ... P17: =O17+1 -> 42247
A18: Sem | B18: =WEEKNUM(B17,2) -> 34 | C18: =WEEKNUM(C17,2) -> 34 | D18: =WEEKNUM(D17,2) -> 34 | E18: =WEEKNUM(E17,2) -> 34 | F18: =WEEKNUM(F17,2) -> 34 | G18: =WEEKNUM(G17,2) -> 34 | H18: =WEEKNUM(H17,2) -> 34 | I18: =WEEKNUM(I17,2) -> 35 | ... P18: =WEEKNUM(P17,2) -> 36
A19: Heures
A21: H/Sup sem | C21: =IF(WEEKDAY(B14,2)>5,"Sem "&B15+1,"Sem "&B15) -> Sem 32 | E21: =IF((SUMIF($B$15:$Q$15,VALUE(RIGHT(C21,2)),$B$16:$Q$16)+SUMIF(Mars!$B$18:$Q$18,VALUE(RIGHT(C21,2)),Mars!$B$19:$Q$19)-0)<=0,0,SUMIF($B$15:$Q$15,VALUE(RIGHT(C21,2)),$B$16:$Q$16)+SUMIF(Mars!$B$18:$Q$18,VALUE(RIGHT($C21,2)),Mars!$B$19:$Q$19)-0) -> 0 | F21: ="Sem "&VALUE(RIGHT(C21,2))+1 -> Sem 33 | H21: =IF((SUMIF($B$15:$Q$15,VALUE(RIGHT(F21,2)),$B$16:$Q$16)+SUMIF($B$18:$Q$18,VALUE(RIGHT(F21,2)),$B$19:$Q$19)-0)<=0,0,SUMIF($B$15:$Q$15,VALUE(RIGHT(F21,2)),$B$16:$Q$16)+SUMIF($B$18:$Q$18,VALUE(RIGHT($F21,2)),$B$19:$Q$19)-0) -> 0 | I21: ="Sem "&VALUE(RIGHT(F21,2))+1 -> Sem 34 | K21: =IF((SUMIF($B$15:$Q$15,VALUE(RIGHT(I21,2)),$B$16:$Q$16)+SUMIF($B$18:$Q$18,VALUE(RIGHT(I21,2)),$B$19:$Q$19)-0)<=0,0,SUMIF($B$15:$Q$15,VALUE(RIGHT(I21,2)),$B$16:$Q$16)+SUMIF($B$18:$Q$18,VALUE(RIGHT($I21,2)),$B$19:$Q$19)-0) -> 0 | L21: ="Sem "&VALUE(RIGHT(I21,2))+1 -> Sem 35 | N21: =IF(OR(ISERROR(VALUE(RIGHT(L21,2))),SUMIF($B$15:$Q$15,VALUE(RIGHT(L21,2)),$B$16:$Q$16)+SUMIF($B$18:$Q$18,VALUE(RIGHT(L21,2)),$B$19:$Q$19)-0<=0),0,SUMIF($B$15:$Q$15,VALUE(RIGHT(L21,2)),$B$16:$Q$16)+SUMIF($B$18:$Q$18,VALUE(RIGHT($L21,2)),$B$19:$Q$19)-0) -> 0 | O21: =IF(WEEKDAY(P17,2)>=5,"Sem "&VALUE(RIGHT(L21,2))+1,"") | Q21: =IF(OR(ISERROR(VALUE(RIGHT(O21,2))),SUMIF($B$15:$Q$15,VALUE(RIGHT(O21,2)),$B$16:$Q$16)+SUMIF($B$18:$Q$18,VALUE(RIGHT(O21,2)),$B$19:$Q$19)-0<=0),0,SUMIF($B$15:$Q$15,VALUE(RIGHT(O21,2)),$B$16:$Q$16)+SUMIF($B$18:$Q$18,VALUE(RIGHT($O21,2)),$B$19:$Q$19)-0) -> 0
A25: reste congés payés | C25: =INDIRECT(TEXT(MONTH(L3)-1,"mmmm")&"!C29") -> 0 | F25: =C21 -> Sem 32 | H25: =MIN(SUM(E21),4)*125% -> 0 | K25: Reste RTT | M25: =SUMPRODUCT(SUMIF(INDIRECT(TEXT(DATE(1,{1;2;3;4;5;6;7;8;9;10;11;12},1),"mmmm")&"!H25:H38"),"<>"&"",INDIRECT(TEXT(DATE(1,{1;2;3;4;5;6;7;8;9;10;11;12},1),"mmmm")&"!H25:H38"))) -> 0
H26: =MAX(SUM(E21)-4,0)*150% -> 0
A27: congés pris | C27: =COUNTIF(B$16:Q$19,"cp") -> 0
F28: =F21 -> Sem 33 | H28: =MIN(SUM(H21),4)*125% -> 0 | K28: Rtt posés | M28: =((SUMPRODUCT((WEEKDAY(B14:Q14,2)<5)*(B16:Q16="rtt"))+SUMPRODUCT((WEEKDAY(B17:Q17,2)<5)*(B19:Q19="rtt")))*8)+((SUMPRODUCT((WEEKDAY(B14:Q14,2)=5)*(B16:Q16="rtt"))+SUMPRODUCT((WEEKDAY(B17:Q17,2)=5)*(B19:Q19="rtt")))*7) -> 0
A29: Soldes congés | C29: =SUM(C25-C27) -> 0 | H29: =MAX(SUM(H21)-4,0)*150% -> 0
F31: =I21 -> Sem 34 | H31: =MIN(SUM(K21),4)*125% -> 0 | K31: Soldes RTT | M31: =SUM(M25-M28) -> 0
H32: =MAX(SUM(K21)-4,0)*150% -> 0
F34: =L21 -> Sem 35 | H34: =MIN(SUM(N21),4)*125% -> 0
H35: =MAX(SUM(N21)-4,0)*150% -> 0
F37: =O21 | H37: =MIN(SUM(Q21),4)*125% -> 0
H38: =MAX(SUM(Q21)-4,0)*150% -> 0

Sheet Septembre
J3: Mois de : | L3: 42248
A4: Employeur Salarié
A5: Nom, prénom : | I5: Nom, prénom :
A6: Adresse : | I6: Adresse :
I10: Emploi occupé :
A14: Jours | B14: =+L3 -> 42248 | C14: =+B14+1 -> 42249 | D14: =+C14+1 -> 42250 | E14: =+D14+1 -> 42251 | F14: =+E14+1 -> 42252 | G14: =+F14+1 -> 42253 | H14: =+G14+1 -> 42254 | I14: =+H14+1 -> 42255 | J14: =+I14+1 -> 42256 | ... Q14: =+P14+1 -> 42263
A15: Sem | B15: =WEEKNUM(B14,2) -> 36 | C15: =WEEKNUM(C14,2) -> 36 | D15: =WEEKNUM(D14,2) -> 36 | E15: =WEEKNUM(E14,2) -> 36 | F15: =WEEKNUM(F14,2) -> 36 | G15: =WEEKNUM(G14,2) -> 36 | H15: =WEEKNUM(H14,2) -> 37 | I15: =WEEKNUM(I14,2) -> 37 | ... Q15: =WEEKNUM(Q14,2) -> 38
A16: Heures
A17: Jours | B17: =Q14+1 -> 42264 | C17: =B17+1 -> 42265 | D17: =C17+1 -> 42266 | E17: =D17+1 -> 42267 | F17: =E17+1 -> 42268 | G17: =F17+1 -> 42269 | H17: =G17+1 -> 42270 | I17: =H17+1 -> 42271 | J17: =I17+1 -> 42272 | ... O17: =N17+1 -> 42277
A18: Sem | B18: =WEEKNUM(B17,2) -> 38 | C18: =WEEKNUM(C17,2) -> 38 | D18: =WEEKNUM(D17,2) -> 38 | E18: =WEEKNUM(E17,2) -> 38 | F18: =WEEKNUM(F17,2) -> 39 | G18: =WEEKNUM(G17,2) -> 39 | H18: =WEEKNUM(H17,2) -> 39 | I18: =WEEKNUM(I17,2) -> 39 | ... O18: =WEEKNUM(O17,2) -> 40
A19: Heures
A21: H/Sup sem | C21: =IF(WEEKDAY(B14,2)>5,"Sem "&B15+1,"Sem "&B15) -> Sem 36 | E21: =IF((SUMIF($B$15:$Q$15,VALUE(RIGHT(C21,2)),$B$16:$Q$16)+SUMIF(Mars!$B$18:$Q$18,VALUE(RIGHT(C21,2)),Mars!$B$19:$Q$19)-0)<=0,0,SUMIF($B$15:$Q$15,VALUE(RIGHT(C21,2)),$B$16:$Q$16)+SUMIF(Mars!$B$18:$Q$18,VALUE(RIGHT($C21,2)),Mars!$B$19:$Q$19)-0) -> 0 | F21: ="Sem "&VALUE(RIGHT(C21,2))+1 -> Sem 37 | H21: =IF((SUMIF($B$15:$Q$15,VALUE(RIGHT(F21,2)),$B$16:$Q$16)+SUMIF($B$18:$Q$18,VALUE(RIGHT(F21,2)),$B$19:$Q$19)-0)<=0,0,SUMIF($B$15:$Q$15,VALUE(RIGHT(F21,2)),$B$16:$Q$16)+SUMIF($B$18:$Q$18,VALUE(RIGHT($F21,2)),$B$19:$Q$19)-0) -> 0 | I21: ="Sem "&VALUE(RIGHT(F21,2))+1 -> Sem 38 | K21: =IF((SUMIF($B$15:$Q$15,VALUE(RIGHT(I21,2)),$B$16:$Q$16)+SUMIF($B$18:$Q$18,VALUE(RIGHT(I21,2)),$B$19:$Q$19)-0)<=0,0,SUMIF($B$15:$Q$15,VALUE(RIGHT(I21,2)),$B$16:$Q$16)+SUMIF($B$18:$Q$18,VALUE(RIGHT($I21,2)),$B$19:$Q$19)-0) -> 0 | L21: ="Sem "&VALUE(RIGHT(I21,2))+1 -> Sem 39 | N21: =IF(OR(ISERROR(VALUE(RIGHT(L21,2))),SUMIF($B$15:$Q$15,VALUE(RIGHT(L21,2)),$B$16:$Q$16)+SUMIF($B$18:$Q$18,VALUE(RIGHT(L21,2)),$B$19:$Q$19)-0<=0),0,SUMIF($B$15:$Q$15,VALUE(RIGHT(L21,2)),$B$16:$Q$16)+SUMIF($B$18:$Q$18,VALUE(RIGHT($L21,2)),$B$19:$Q$19)-0) -> 0 | O21: =IF(WEEKDAY(17,2)>=5,"Sem "&VALUE(RIGHT(L21,2))+1,"") | Q21: =IF(OR(ISERROR(VALUE(RIGHT(O21,2))),SUMIF($B$15:$Q$15,VALUE(RIGHT(O21,2)),$B$16:$Q$16)+SUMIF($B$18:$Q$18,VALUE(RIGHT(O21,2)),$B$19:$Q$19)-0<=0),0,SUMIF($B$15:$Q$15,VALUE(RIGHT(O21,2)),$B$16:$Q$16)+SUMIF($B$18:$Q$18,VALUE(RIGHT($O21,2)),$B$19:$Q$19)-0) -> 0
A25: reste congés payés | C25: =INDIRECT(TEXT(MONTH(L3)-1,"mmmm")&"!C29") -> 0 | F25: =C21 -> Sem 36 | H25: =MIN(SUM(E21),4)*125% -> 0 | K25: Reste RTT | M25: =SUMPRODUCT(SUMIF(INDIRECT(TEXT(DATE(1,{1;2;3;4;5;6;7;8;9;10;11;12},1),"mmmm")&"!H25:H38"),"<>"&"",INDIRECT(TEXT(DATE(1,{1;2;3;4;5;6;7;8;9;10;11;12},1),"mmmm")&"!H25:H38"))) -> 0
H26: =MAX(SUM(E21)-4,0)*150% -> 0
A27: congés pris | C27: =COUNTIF(B$16:Q$19,"cp") -> 0
F28: =F21 -> Sem 37 | H28: =MIN(SUM(H21),4)*125% -> 0 | K28: Rtt posés | M28: =((SUMPRODUCT((WEEKDAY(B14:Q14,2)<5)*(B16:Q16="rtt"))+SUMPRODUCT((WEEKDAY(B17:Q17,2)<5)*(B19:Q19="rtt")))*8)+((SUMPRODUCT((WEEKDAY(B14:Q14,2)=5)*(B16:Q16="rtt"))+SUMPRODUCT((WEEKDAY(B17:Q17,2)=5)*(B19:Q19="rtt")))*7) -> 0
A29: Soldes congés | C29: =SUM(C25-C27) -> 0 | H29: =MAX(SUM(H21)-4,0)*150% -> 0
F31: =I21 -> Sem 38 | H31: =MIN(SUM(K21),4)*125% -> 0 | K31: Soldes RTT | M31: =SUM(M25-M28) -> 0
H32: =MAX(SUM(K21)-4,0)*150% -> 0
F34: =L21 -> Sem 39 | H34: =MIN(SUM(N21),4)*125% -> 0
H35: =MAX(SUM(N21)-4,0)*150% -> 0
F37: =O21 | H37: =MIN(SUM(Q21),4)*125% -> 0
H38: =MAX(SUM(Q21)-4,0)*150% -> 0

Sheet Octobre
J3: Mois de : | L3: 42278
A4: Employeur Salarié
A5: Nom, prénom : | I5: Nom, prénom :
A6: Adresse : | I6: Adresse :
I10: Emploi occupé :
A14: Jours | B14: =+L3 -> 42278 | C14: =+B14+1 -> 42279 | D14: =+C14+1 -> 42280 | E14: =+D14+1 -> 42281 | F14: =+E14+1 -> 42282 | G14: =+F14+1 -> 42283 | H14: =+G14+1 -> 42284 | I14: =+H14+1 -> 42285 | J14: =+I14+1 -> 42286 | ... Q14: =+P14+1 -> 42293
A15: Sem | B15: =WEEKNUM(B14,2) -> 40 | C15: =WEEKNUM(C14,2) -> 40 | D15: =WEEKNUM(D14,2) -> 40 | E15: =WEEKNUM(E14,2) -> 40 | F15: =WEEKNUM(F14,2) -> 41 | G15: =WEEKNUM(G14,2) -> 41 | H15: =WEEKNUM(H14,2) -> 41 | I15: =WEEKNUM(I14,2) -> 41 | ... Q15: =WEEKNUM(Q14,2) -> 42
A16: Heures
A17: Jours | B17: =Q14+1 -> 42294 | C17: =B17+1 -> 42295 | D17: =C17+1 -> 42296 | E17: =D17+1 -> 42297 | F17: =E17+1 -> 42298 | G17: =F17+1 -> 42299 | H17: =G17+1 -> 42300 | I17: =H17+1 -> 42301 | J17: =I17+1 -> 42302 | ... P17: =O17+1 -> 42308
A18: Sem | B18: =WEEKNUM(B17,2) -> 42 | C18: =WEEKNUM(C17,2) -> 42 | D18: =WEEKNUM(D17,2) -> 43 | E18: =WEEKNUM(E17,2) -> 43 | F18: =WEEKNUM(F17,2) -> 43 | G18: =WEEKNUM(G17,2) -> 43 | H18: =WEEKNUM(H17,2) -> 43 | I18: =WEEKNUM(I17,2) -> 43 | ... P18: =WEEKNUM(P17,2) -> 44
A19: Heures
A21: H/Sup sem | C21: =IF(WEEKDAY(B14,2)>5,"Sem "&B15+1,"Sem "&B15) -> Sem 40 | E21: =IF((SUMIF($B$15:$Q$15,VALUE(RIGHT(C21,2)),$B$16:$Q$16)+SUMIF(Mars!$B$18:$Q$18,VALUE(RIGHT(C21,2)),Mars!$B$19:$Q$19)-0)<=0,0,SUMIF($B$15:$Q$15,VALUE(RIGHT(C21,2)),$B$16:$Q$16)+SUMIF(Mars!$B$18:$Q$18,VALUE(RIGHT($C21,2)),Mars!$B$19:$Q$19)-0) -> 0 | F21: ="Sem "&VALUE(RIGHT(C21,2))+1 -> Sem 41 | H21: =IF((SUMIF($B$15:$Q$15,VALUE(RIGHT(F21,2)),$B$16:$Q$16)+SUMIF($B$18:$Q$18,VALUE(RIGHT(F21,2)),$B$19:$Q$19)-0)<=0,0,SUMIF($B$15:$Q$15,VALUE(RIGHT(F21,2)),$B$16:$Q$16)+SUMIF($B$18:$Q$18,VALUE(RIGHT($F21,2)),$B$19:$Q$19)-0) -> 0 | I21: ="Sem "&VALUE(RIGHT(F21,2))+1 -> Sem 42 | K21: =IF((SUMIF($B$15:$Q$15,VALUE(RIGHT(I21,2)),$B$16:$Q$16)+SUMIF($B$18:$Q$18,VALUE(RIGHT(I21,2)),$B$19:$Q$19)-0)<=0,0,SUMIF($B$15:$Q$15,VALUE(RIGHT(I21,2)),$B$16:$Q$16)+SUMIF($B$18:$Q$18,VALUE(RIGHT($I21,2)),$B$19:$Q$19)-0) -> 0 | L21: ="Sem "&VALUE(RIGHT(I21,2))+1 -> Sem 43 | N21: =IF(OR(ISERROR(VALUE(RIGHT(L21,2))),SUMIF($B$15:$Q$15,VALUE(RIGHT(L21,2)),$B$16:$Q$16)+SUMIF($B$18:$Q$18,VALUE(RIGHT(L21,2)),$B$19:$Q$19)-0<=0),0,SUMIF($B$15:$Q$15,VALUE(RIGHT(L21,2)),$B$16:$Q$16)+SUMIF($B$18:$Q$18,VALUE(RIGHT($L21,2)),$B$19:$Q$19)-0) -> 0 | O21: =IF(WEEKDAY(P17,2)>=5,"Sem "&VALUE(RIGHT(L21,2))+1,"") -> Sem 44 | Q21: =IF(OR(ISERROR(VALUE(RIGHT(O21,2))),SUMIF($B$15:$Q$15,VALUE(RIGHT(O21,2)),$B$16:$Q$16)+SUMIF($B$18:$Q$18,VALUE(RIGHT(O21,2)),$B$19:$Q$19)-0<=0),0,SUMIF($B$15:$Q$15,VALUE(RIGHT(O21,2)),$B$16:$Q$16)+SUMIF($B$18:$Q$18,VALUE(RIGHT($O21,2)),$B$19:$Q$19)-0) -> 0
A25: reste congés payés | C25: =INDIRECT(TEXT(MONTH(L3)-1,"mmmm")&"!C29") -> 0 | F25: =C21 -> Sem 40 | H25: =MIN(SUM(E21),4)*125% -> 0 | K25: Reste RTT | M25: =SUMPRODUCT(SUMIF(INDIRECT(TEXT(DATE(1,{1;2;3;4;5;6;7;8;9;10;11;12},1),"mmmm")&"!H25:H38"),"<>"&"",INDIRECT(TEXT(DATE(1,{1;2;3;4;5;6;7;8;9;10;11;12},1),"mmmm")&"!H25:H38"))) -> 0
H26: =MAX(SUM(E21)-4,0)*150% -> 0
A27: congés pris | C27: =COUNTIF(B$16:Q$19,"cp") -> 0
F28: =F21 -> Sem 41 | H28: =MIN(SUM(H21),4)*125% -> 0 | K28: Rtt posés | M28: =((SUMPRODUCT((WEEKDAY(B14:Q14,2)<5)*(B16:Q16="rtt"))+SUMPRODUCT((WEEKDAY(B17:Q17,2)<5)*(B19:Q19="rtt")))*8)+((SUMPRODUCT((WEEKDAY(B14:Q14,2)=5)*(B16:Q16="rtt"))+SUMPRODUCT((WEEKDAY(B17:Q17,2)=5)*(B19:Q19="rtt")))*7) -> 0
A29: Soldes congés | C29: =SUM(C25-C27) -> 0 | H29: =MAX(SUM(H21)-4,0)*150% -> 0
F31: =I21 -> Sem 42 | H31: =MIN(SUM(K21),4)*125% -> 0 | K31: Soldes RTT | M31: =SUM(M25-M28) -> 0
H32: =MAX(SUM(K21)-4,0)*150% -> 0
F34: =L21 -> Sem 43 | H34: =MIN(SUM(N21),4)*125% -> 0
H35: =MAX(SUM(N21)-4,0)*150% -> 0
F37: =O21 -> Sem 44 | H37: =MIN(SUM(Q21),4)*125% -> 0
H38: =MAX(SUM(Q21)-4,0)*150% -> 0

Sheet Novembre
J3: Mois de : | L3: 42309
A4: Employeur Salarié
A5: Nom, prénom : | I5: Nom, prénom :
A6: Adresse : | I6: Adresse :
I10: Emploi occupé :
A14: Jours | B14: =+L3 -> 42309 | C14: =+B14+1 -> 42310 | D14: =+C14+1 -> 42311 | E14: =+D14+1 -> 42312 | F14: =+E14+1 -> 42313 | G14: =+F14+1 -> 42314 | H14: =+G14+1 -> 42315 | I14: =+H14+1 -> 42316 | J14: =+I14+1 -> 42317 | ... Q14: =+P14+1 -> 42324
A15: Sem | B15: =WEEKNUM(B14,2) -> 44 | C15: =WEEKNUM(C14,2) -> 45 | D15: =WEEKNUM(D14,2) -> 45 | E15: =WEEKNUM(E14,2) -> 45 | F15: =WEEKNUM(F14,2) -> 45 | G15: =WEEKNUM(G14,2) -> 45 | H15: =WEEKNUM(H14,2) -> 45 | I15: =WEEKNUM(I14,2) -> 45 | ... Q15: =WEEKNUM(Q14,2) -> 47
A16: Heures
A17: Jours | B17: =Q14+1 -> 42325 | C17: =B17+1 -> 42326 | D17: =C17+1 -> 42327 | E17: =D17+1 -> 42328 | F17: =E17+1 -> 42329 | G17: =F17+1 -> 42330 | H17: =G17+1 -> 42331 | I17: =H17+1 -> 42332 | J17: =I17+1 -> 42333 | ... O17: =N17+1 -> 42338
A18: Sem | B18: =WEEKNUM(B17,2) -> 47 | C18: =WEEKNUM(C17,2) -> 47 | D18: =WEEKNUM(D17,2) -> 47 | E18: =WEEKNUM(E17,2) -> 47 | F18: =WEEKNUM(F17,2) -> 47 | G18: =WEEKNUM(G17,2) -> 47 | H18: =WEEKNUM(H17,2) -> 48 | I18: =WEEKNUM(I17,2) -> 48 | ... O18: =WEEKNUM(O17,2) -> 49
A19: Heures
A21: H/Sup sem | C21: =IF(WEEKDAY(B14,2)>5,"Sem "&B15+1,"Sem "&B15) -> Sem 45 | E21: =IF((SUMIF($B$15:$Q$15,VALUE(RIGHT(C21,2)),$B$16:$Q$16)+SUMIF(Mars!$B$18:$Q$18,VALUE(RIGHT(C21,2)),Mars!$B$19:$Q$19)-0)<=0,0,SUMIF($B$15:$Q$15,VALUE(RIGHT(C21,2)),$B$16:$Q$16)+SUMIF(Mars!$B$18:$Q$18,VALUE(RIGHT($C21,2)),Mars!$B$19:$Q$19)-0) -> 0 | F21: ="Sem "&VALUE(RIGHT(C21,2))+1 -> Sem 46 | H21: =IF((SUMIF($B$15:$Q$15,VALUE(RIGHT(F21,2)),$B$16:$Q$16)+SUMIF($B$18:$Q$18,VALUE(RIGHT(F21,2)),$B$19:$Q$19)-0)<=0,0,SUMIF($B$15:$Q$15,VALUE(RIGHT(F21,2)),$B$16:$Q$16)+SUMIF($B$18:$Q$18,VALUE(RIGHT($F21,2)),$B$19:$Q$19)-0) -> 0 | I21: ="Sem "&VALUE(RIGHT(F21,2))+1 -> Sem 47 | K21: =IF((SUMIF($B$15:$Q$15,VALUE(RIGHT(I21,2)),$B$16:$Q$16)+SUMIF($B$18:$Q$18,VALUE(RIGHT(I21,2)),$B$19:$Q$19)-0)<=0,0,SUMIF($B$15:$Q$15,VALUE(RIGHT(I21,2)),$B$16:$Q$16)+SUMIF($B$18:$Q$18,VALUE(RIGHT($I21,2)),$B$19:$Q$19)-0) -> 0 | L21: ="Sem "&VALUE(RIGHT(I21,2))+1 -> Sem 48 | N21: =IF(OR(ISERROR(VALUE(RIGHT(L21,2))),SUMIF($B$15:$Q$15,VALUE(RIGHT(L21,2)),$B$16:$Q$16)+SUMIF($B$18:$Q$18,VALUE(RIGHT(L21,2)),$B$19:$Q$19)-0<=0),0,SUMIF($B$15:$Q$15,VALUE(RIGHT(L21,2)),$B$16:$Q$16)+SUMIF($B$18:$Q$18,VALUE(RIGHT($L21,2)),$B$19:$Q$19)-0) -> 0 | Q21: =IF(OR(ISERROR(VALUE(RIGHT(P21,2))),SUMIF($B$15:$Q$15,VALUE(RIGHT(P21,2)),$B$16:$Q$16)+SUMIF($B$18:$Q$18,VALUE(RIGHT(P21,2)),$B$19:$Q$19)-0<=0),0,SUMIF($B$15:$Q$15,VALUE(RIGHT(P21,2)),$B$16:$Q$16)+SUMIF($B$18:$Q$18,VALUE(RIGHT($P21,2)),$B$19:$Q$19)-0) -> 0
A25: reste congés payés | C25: =INDIRECT(TEXT(MONTH(L3)-1,"mmmm")&"!C29") -> 0 | F25: =C21 -> Sem 45 | H25: =MIN(SUM(E21),4)*125% -> 0 | K25: Reste RTT | M25: =SUMPRODUCT(SUMIF(INDIRECT(TEXT(DATE(1,{1;2;3;4;5;6;7;8;9;10;11;12},1),"mmmm")&"!H25:H38"),"<>"&"",INDIRECT(TEXT(DATE(1,{1;2;3;4;5;6;7;8;9;10;11;12},1),"mmmm")&"!H25:H38"))) -> 0
H26: =MAX(SUM(E21)-4,0)*150% -> 0
A27: congés pris | C27: =COUNTIF(B$16:Q$19,"cp") -> 0
F28: =F21 -> Sem 46 | H28: =MIN(SUM(H21),4)*125% -> 0 | K28: Rtt posés | M28: =((SUMPRODUCT((WEEKDAY(B14:Q14,2)<5)*(B16:Q16="rtt"))+SUMPRODUCT((WEEKDAY(B17:Q17,2)<5)*(B19:Q19="rtt")))*8)+((SUMPRODUCT((WEEKDAY(B14:Q14,2)=5)*(B16:Q16="rtt"))+SUMPRODUCT((WEEKDAY(B17:Q17,2)=5)*(B19:Q19="rtt")))*7) -> 0
A29: Soldes congés | C29: =SUM(C25-C27) -> 0 | H29: =MAX(SUM(H21)-4,0)*150% -> 0
F31: =I21 -> Sem 47 | H31: =MIN(SUM(K21),4)*125% -> 0 | K31: Soldes RTT | M31: =SUM(M25-M28) -> 0
H32: =MAX(SUM(K21)-4,0)*150% -> 0
F34: =L21 -> Sem 48 | H34: =MIN(SUM(N21),4)*125% -> 0
H35: =MAX(SUM(N21)-4,0)*150% -> 0
F37: =O21 -> 0 | H37: =MIN(SUM(Q21),4)*125% -> 0
H38: =MAX(SUM(Q21)-4,0)*150% -> 0

Sheet Décembre
J3: Mois de : | L3: 42339
A4: Employeur Salarié
A5: Nom, prénom : | I5: Nom, prénom :
A6: Adresse : | I6: Adresse :
I10: Emploi occupé :
A14: Jours | B14: =+L3 -> 42339 | C14: =+B14+1 -> 42340 | D14: =+C14+1 -> 42341 | E14: =+D14+1 -> 42342 | F14: =+E14+1 -> 42343 | G14: =+F14+1 -> 42344 | H14: =+G14+1 -> 42345 | I14: =+H14+1 -> 42346 | J14: =+I14+1 -> 42347 | ... Q14: =+P14+1 -> 42354
A15: Sem | B15: =WEEKNUM(B14,2) -> 49 | C15: =WEEKNUM(C14,2) -> 49 | D15: =WEEKNUM(D14,2) -> 49 | E15: =WEEKNUM(E14,2) -> 49 | F15: =WEEKNUM(F14,2) -> 49 | G15: =WEEKNUM(G14,2) -> 49 | H15: =WEEKNUM(H14,2) -> 50 | I15: =WEEKNUM(I14,2) -> 50 | ... Q15: =WEEKNUM(Q14,2) -> 51
A16: Heures
A17: Jours | B17: =Q14+1 -> 42355 | C17: =B17+1 -> 42356 | D17: =C17+1 -> 42357 | E17: =D17+1 -> 42358 | F17: =E17+1 -> 42359 | G17: =F17+1 -> 42360 | H17: =G17+1 -> 42361 | I17: =H17+1 -> 42362 | J17: =I17+1 -> 42363 | ... P17: =O17+1 -> 42369
A18: Sem | B18: =WEEKNUM(B17,2) -> 51 | C18: =WEEKNUM(C17,2) -> 51 | D18: =WEEKNUM(D17,2) -> 51 | E18: =WEEKNUM(E17,2) -> 51 | F18: =WEEKNUM(F17,2) -> 52 | G18: =WEEKNUM(G17,2) -> 52 | H18: =WEEKNUM(H17,2) -> 52 | I18: =WEEKNUM(I17,2) -> 52 | ... P18: =WEEKNUM(P17,2) -> 53
A19: Heures
A21: H/Sup sem | C21: =IF(WEEKDAY(B14,2)>5,"Sem "&B15+1,"Sem "&B15) -> Sem 49 | E21: =IF((SUMIF($B$15:$Q$15,VALUE(RIGHT(C21,2)),$B$16:$Q$16)+SUMIF(Mars!$B$18:$Q$18,VALUE(RIGHT(C21,2)),Mars!$B$19:$Q$19)-0)<=0,0,SUMIF($B$15:$Q$15,VALUE(RIGHT(C21,2)),$B$16:$Q$16)+SUMIF(Mars!$B$18:$Q$18,VALUE(RIGHT($C21,2)),Mars!$B$19:$Q$19)-0) -> 0 | F21: ="Sem "&VALUE(RIGHT(C21,2))+1 -> Sem 50 | H21: =IF((SUMIF($B$15:$Q$15,VALUE(RIGHT(F21,2)),$B$16:$Q$16)+SUMIF($B$18:$Q$18,VALUE(RIGHT(F21,2)),$B$19:$Q$19)-0)<=0,0,SUMIF($B$15:$Q$15,VALUE(RIGHT(F21,2)),$B$16:$Q$16)+SUMIF($B$18:$Q$18,VALUE(RIGHT($F21,2)),$B$19:$Q$19)-0) -> 0 | I21: ="Sem "&VALUE(RIGHT(F21,2))+1 -> Sem 51 | K21: =IF((SUMIF($B$15:$Q$15,VALUE(RIGHT(I21,2)),$B$16:$Q$16)+SUMIF($B$18:$Q$18,VALUE(RIGHT(I21,2)),$B$19:$Q$19)-0)<=0,0,SUMIF($B$15:$Q$15,VALUE(RIGHT(I21,2)),$B$16:$Q$16)+SUMIF($B$18:$Q$18,VALUE(RIGHT($I21,2)),$B$19:$Q$19)-0) -> 0 | L21: ="Sem "&VALUE(RIGHT(I21,2))+1 -> Sem 52 | N21: =IF(OR(ISERROR(VALUE(RIGHT(L21,2))),SUMIF($B$15:$Q$15,VALUE(RIGHT(L21,2)),$B$16:$Q$16)+SUMIF($B$18:$Q$18,VALUE(RIGHT(L21,2)),$B$19:$Q$19)-0<=0),0,SUMIF($B$15:$Q$15,VALUE(RIGHT(L21,2)),$B$16:$Q$16)+SUMIF($B$18:$Q$18,VALUE(RIGHT($L21,2)),$B$19:$Q$19)-0) -> 0 | O21: =IF(WEEKDAY(P17,2)>=5,"Sem "&VALUE(RIGHT(L21,2))+1,"") | Q21: =IF(OR(ISERROR(VALUE(RIGHT(O21,2))),SUMIF($B$15:$Q$15,VALUE(RIGHT(O21,2)),$B$16:$Q$16)+SUMIF($B$18:$Q$18,VALUE(RIGHT(O21,2)),$B$19:$Q$19)-0<=0),0,SUMIF($B$15:$Q$15,VALUE(RIGHT(O21,2)),$B$16:$Q$16)+SUMIF($B$18:$Q$18,VALUE(RIGHT($O21,2)),$B$19:$Q$19)-0) -> 0
A25: reste congés payés | C25: =INDIRECT(TEXT(MONTH(L3)-1,"mmmm")&"!C29") -> 0 | F25: =C21 -> Sem 49 | H25: =MIN(SUM(E21),4)*125% -> 0 | K25: Reste RTT | M25: =SUMPRODUCT(SUMIF(INDIRECT(TEXT(DATE(1,{1;2;3;4;5;6;7;8;9;10;11;12},1),"mmmm")&"!H25:H38"),"<>"&"",INDIRECT(TEXT(DATE(1,{1;2;3;4;5;6;7;8;9;10;11;12},1),"mmmm")&"!H25:H38"))) -> 0
H26: =MAX(SUM(E21)-4,0)*150% -> 0
A27: congés pris | C27: =COUNTIF(B$16:Q$19,"cp") -> 0
F28: =F21 -> Sem 50 | H28: =MIN(SUM(H21),4)*125% -> 0 | K28: Rtt posés | M28: =((SUMPRODUCT((WEEKDAY(B14:Q14,2)<5)*(B16:Q16="rtt"))+SUMPRODUCT((WEEKDAY(B17:Q17,2)<5)*(B19:Q19="rtt")))*8)+((SUMPRODUCT((WEEKDAY(B14:Q14,2)=5)*(B16:Q16="rtt"))+SUMPRODUCT((WEEKDAY(B17:Q17,2)=5)*(B19:Q19="rtt")))*7) -> 0
A29: Soldes congés | C29: =SUM(C25-C27) -> 0 | H29: =MAX(SUM(H21)-4,0)*150% -> 0
F31: =I21 -> Sem 51 | H31: =MIN(SUM(K21),4)*125% -> 0 | K31: Soldes RTT | M31: =SUM(M25-M28) -> 0
H32: =MAX(SUM(K21)-4,0)*150% -> 0
F34: =L21 -> Sem 52 | H34: =MIN(SUM(N21),4)*125% -> 0
H35: =MAX(SUM(N21)-4,0)*150% -> 0
F37: =O21 | H37: =MIN(SUM(Q21),4)*125% -> 0
H38: =MAX(SUM(Q21)-4,0)*150% -> 0

Sheet Tables
A1: mois | B1: année | C1: 1 | D1: 0 | F1: J | G1: V | H1: S | I1: D | J1: L | K1: M | L1: M
A2: janvier | B2: 2013 | C2: 2 | D2: 1 | F2: V
A3: février | B3: 2014 | C3: 3 | D3: 2 | F3: S
A4: mars | B4: 2015 | C4: 4 | D4: 3 | F4: D
A5: avril | B5: 2016 | C5: 5 | D5: 4 | F5: L
A6: mai | B6: 2017 | C6: 6 | D6: 5 | F6: M
A7: juin | B7: 2018 | C7: 7 | D7: 6 | F7: M
A8: juillet | B8: 2019 | C8: 8 | D8: 7
A9: aout | B9: 2020 | C9: 9 | D9: 8
A10: septembre | C10: 10 | D10: 9
A11: octobre | C11: 11 | D11: 10 | F11: ANCOURS
A12: novembre | C12: 12 | D12: 11 | F12: 42005
A13: décembre | C13: 13 | D13: 12 | F13: 42036
C14: 14 | D14: 13 | F14: 42064
C15: 15 | D15: 14 | F15: 42095
C16: 16 | D16: 15 | F16: 42125
C17: 17 | D17: 16 | F17: 42156
C18: 18 | D18: 17 | F18: 42186
C19: 19 | D19: 18 | F19: 42217
C20: 20 | D20: 19 | F20: 42248
C21: 21 | D21: 20 | F21: 42278
C22: 22 | D22: 21 | F22: 42309
C23: 23 | D23: 22 | F23: 42339
C24: 24 | D24: 23 | F24: 42370
C25: 25 | D25: 24 | F25: 42401
C26: 26 | D26: 25
C27: 27 | D27: 26
C28: 28 | D28: 27
C29: 29 | D29: 28
C30: 30 | D30: 29
C31: 31 | D31: 30
D32: 31
