Workbook
Name ALESIA: #REF!
Name LECOURBE: #REF!
Name MERCURE: #REF!
Name ORNANO: #REF!

Sheet JANVIER
A1: 41275 | C1: RECAP MENSUEL | D1: TEL | E1: Nb total # | F1: TO
A2: =COUNT(B14:B292) -> 31 | C2: =VLOOKUP($A$5,data!$B$3:$F$39,3,FALSE) -> M P P MI | D2: =VLOOKUP($A$5,data!$B$3:$F$39,4,FALSE) -> 19 | E2: =SUMIF(C$14:F$292,#REF!,F$14:F$292) -> 0
A3: =TODAY() -> 41303 | C3: =VLOOKUP($A$5,data!$B$3:$F$39,3,FALSE) -> M P P MI | E3: =SUMIF(C$14:C$292,#REF!,F$14:F$292) -> 0
E4: =SUMIF(C$14:C$292,#REF!,F$14:F$292) -> 0
A5: MP | E5: =SUMIF(C$14:C$292,#REF!,F$14:F$292) -> 0
E6: =SUMIF(C$14:C$292,#REF!,F$14:F$292) -> 0
E7: =SUMIF(C$14:C$292,#REF!,F$14:F$292) -> 0
E8: =SUMIF(C$14:C$292,#REF!,F$14:F$292) -> 0
E9: =SUMIF(C$14:C$292,#REF!,F$14:F$292) -> 0
E10: =SUMIF(C$14:C$292,#REF!,F$14:F$292) -> 0
A13: DATE | C13: HOTEL | D13: DISPONIBILITES | E13: TARIF | F13: NB # LOUEES | G13: TO ESTIME | H13: COMMENTAIRES
A14: =TEXT(B14,"jjj") -> mar | B14: =+A1 -> 41275 | C14: =C2 -> M P P MI | F14: =IF(D14=0,0,#REF!-JANVIER!D14) -> 0
C15: =C3 -> M P P MI | F15: =IF(D15=0,0,#REF!-JANVIER!D15) -> 0
C16: =C4 -> 0 | F16: =IF(D16=0,0,#REF!-JANVIER!D16) -> 0
C17: =C5 -> 0 | F17: =IF(D17=0,0,#REF!-JANVIER!D17) -> 0
C18: =C6 -> 0 | F18: =IF(D18=0,0,#REF!-JANVIER!D18) -> 0
C19: =C7 -> 0 | F19: =IF(D19=0,0,#REF!-JANVIER!D19) -> 0
C20: =C8 -> 0 | F20: =IF(D20=0,0,#REF!-JANVIER!D20) -> 0
C21: =C9 -> 0 | F21: =IF(D21=0,0,#REF!-JANVIER!D21) -> 0
C22: =C10 -> 0 | F22: =IF(D22=0,0,#REF!-JANVIER!D22) -> 0
A23: =TEXT(B23,"jjj") -> mer | B23: =B14+1 -> 41276 | F23: =IF(D23=0,0,#REF!-JANVIER!D23) -> 0
F24: =IF(D24=0,0,#REF!-JANVIER!D24) -> 0
F25: =IF(D25=0,0,#REF!-JANVIER!D25) -> 0
F26: =IF(D26=0,0,#REF!-JANVIER!D26) -> 0
F27: =IF(D27=0,0,#REF!-JANVIER!D27) -> 0
F28: =IF(D28=0,0,#REF!-JANVIER!D28) -> 0
F29: =IF(D29=0,0,#REF!-JANVIER!D29) -> 0
F30: =IF(D30=0,0,#REF!-JANVIER!D30) -> 0
F31: =IF(D31=0,0,#REF!-JANVIER!D31) -> 0
A32: =TEXT(B32,"jjj") -> jeu | B32: =B23+1 -> 41277 | F32: =IF(D32=0,0,#REF!-JANVIER!D32) -> 0
F33: =IF(D33=0,0,#REF!-JANVIER!D33) -> 0
F34: =IF(D34=0,0,#REF!-JANVIER!D34) -> 0
F35: =IF(D35=0,0,#REF!-JANVIER!D35) -> 0
F36: =IF(D36=0,0,#REF!-JANVIER!D36) -> 0
F37: =IF(D37=0,0,#REF!-JANVIER!D37) -> 0
F38: =IF(D38=0,0,#REF!-JANVIER!D38) -> 0
F39: =IF(D39=0,0,#REF!-JANVIER!D39) -> 0
F40: =IF(D40=0,0,#REF!-JANVIER!D40) -> 0
A41: =TEXT(B41,"jjj") -> ven | B41: =B32+1 -> 41278 | F41: =IF(D41=0,0,#REF!-JANVIER!D41) -> 0
F42: =IF(D42=0,0,#REF!-JANVIER!D42) -> 0
...

Sheet data
B3: HOTEL | C3: RANCK | D3: NOM CONCURRENTS | E3: TELEPHONE | F3: CAPACITE | J3: HOTELS
B4: IO | C4: C0 | D4: IB O | E4: 1 | F4: 86 | J4: IO
B5: IO | C5: C1 | D5: IB M | E5: 2 | F5: 326 | J5: ISA
B6: IO | C6: C2 | D6: IS M NORD | E6: 3 | F6: 46 | J6: ISL
B7: IO | C7: C3 | D7: IB S C | E7: 4 | F7: 68 | J7: MP
B8: IO | C8: C4 | D8: IB C C | E8: 5 | F8: 124
B9: IO | C9: C5 | D9: IB B | E9: 6 | F9: 688
B10: IO | C10: C6
B11: IO | C11: C7
B12: IO | C12: C8
B13: ISA | C13: C0 | D13: IS A | E13: 7 | F13: 47
B14: ISA | C14: C1 | D14: IB A | E14: 8 | F14: 264
B15: ISA | C15: C2 | D15: IS L | E15: 9 | F15: 49
B16: ISA | C16: C3 | D16: IB M M | E16: 10 | F16: 102
B17: ISA | C17: C4 | D17: IS M | E17: 11 | F17: 52
B18: ISA | C18: C5
B19: ISA | C19: C6
B20: ISA | C20: C7
B21: ISA | C21: C8
B22: ISL | C22: C0 | D22: IS L | E22: 12 | F22: 49
B23: ISL | C23: C1 | D23: IS AL | E23: 13 | F23: 47
B24: ISL | C24: C2 | D24: IS MM | E24: 14 | F24: 68
B25: ISL | C25: C3 | D25: ME V | E25: 15 | F25: 91
B26: ISL | C26: C4 | D26: M P XV | E26: 16 | F26: 54
B27: ISL | C27: C5 | D27: I C | E27: 17 | F27: 48
B28: ISL | C28: C6 | D28: M P M | E28: 18 | F28: 49
B29: ISL | C29: C7
B30: ISL | C30: C8
B31: MP | C31: C0 | D31: M P P MI | E31: 19 | F31: 49
B32: MP | C32: C1 | D32: M G | E32: 20 | F32: 77
B33: MP | C33: C2 | D33: NL TE | E33: 21 | F33: 764
B34: MP | C34: C3 | D34: M S | E34: 22 | F34: 405
B35: MP | C35: C4 | D35: M PXV | E35: 23 | F35: 23
B36: MP | C36: C5
B37: MP | C37: C6
B38: MP | C38: C7
B39: MP | C39: C8
