Workbook
Name ALESIA: #REF!
Name LECOURBE: #REF!
Name MERCURE: #REF!
Name ORNANO: #REF!

Sheet JANVIER
A1: 41275 | C1: RECAP MENSUEL | D1: TEL | E1: Nb total # | F1: TO
A2: =COUNT(B14:B292) -> 31 | C2: =VLOOKUP($A$5,data!$B$3:$F$39,3,FALSE) -> M P P MI | D2: =VLOOKUP($A$5,data!$B$3:$F$39,4,FALSE) -> 19 | E2: =SUMIF(C$14:F$292,#REF!,F$14:F$292) -> 0
A3: =TODAY() -> 41303 | C3: =VLOOKUP($A$5,data!$B$3:$F$39,3,FALSE) -> M P P MI | E3: =SUMIF(C$14:C$292,#REF!,F$14:F$292) -> 0
E4: =SUMIF(C$14:C$292,#REF!,F$14:F$292) -> 0
A5: MP | E5: =SUMIF(C$14:C$292,#REF!,F$14:F$292) -> 0
E6: =SUMIF(C$14:C$292,#REF!,F$14:F$292) -> 0
E7: =SUMIF(C$14:C$292,#REF!,F$14:F$292) -> 0
E8: =SUMIF(C$14:C$292,#REF!,F$14:F$292) -> 0
E9: =SUMIF(C$14:C$292,#REF!,F$14:F$292) -> 0
E10: =SUMIF(C$14:C$292,#REF!,F$14:F$292) -> 0
A13: DATE | C13: HOTEL | D13: DISPONIBILITES | E13: TARIF | F13: NB # LOUEES | G13: TO ESTIME | H13: COMMENTAIRES
A14: =TEXT(B14,"jjj") -> mar | B14: =+A1 -> 41275 | C14: =C2 -> M P P MI | F14: =IF(D14=0,0,#REF!-JANVIER!D14) -> 0
C15: =C3 -> M P P MI | F15: =IF(D15=0,0,#REF!-JANVIER!D15) -> 0
C16: =C4 -> 0 | F16: =IF(D16=0,0,#REF!-JANVIER!D16) -> 0
C17: =C5 -> 0 | F17: =IF(D17=0,0,#REF!-JANVIER!D17) -> 0
C18: =C6 -> 0 | F18: =IF(D18=0,0,#REF!-JANVIER!D18) -> 0
C19: =C7 -> 0 | F19: =IF(D19=0,0,#REF!-JANVIER!D19) -> 0
C20: =C8 -> 0 | F20: =IF(D20=0,0,#REF!-JANVIER!D20) -> 0
C21: =C9 -> 0 | F21: =IF(D21=0,0,#REF!-JANVIER!D21) -> 0
C22: =C10 -> 0 | F22: =IF(D22=0,0,#REF!-JANVIER!D22) -> 0
A23: =TEXT(B23,"jjj") -> mer | B23: =B14+1 -> 41276 | F23: =IF(D23=0,0,#REF!-JANVIER!D23) -> 0
F24: =IF(D24=0,0,#REF!-JANVIER!D24) -> 0
F25: =IF(D25=0,0,#REF!-JANVIER!D25) -> 0
F26: =IF(D26=0,0,#REF!-JANVIER!D26) -> 0
F27: =IF(D27=0,0,#REF!-JANVIER!D27) -> 0
F28: =IF(D28=0,0,#REF!-JANVIER!D28) -> 0
F29: =IF(D29=0,0,#REF!-JANVIER!D29) -> 0
F30: =IF(D30=0,0,#REF!-JANVIER!D30) -> 0
F31: =IF(D31=0,0,#REF!-JANVIER!D31) -> 0
A32: =TEXT(B32,"jjj") -> jeu | B32: =B23+1 -> 41277 | F32: =IF(D32=0,0,#REF!-JANVIER!D32) -> 0
F33: =IF(D33=0,0,#REF!-JANVIER!D33) -> 0
F34: =IF(D34=0,0,#REF!-JANVIER!D34) -> 0
F35: =IF(D35=0,0,#REF!-JANVIER!D35) -> 0
F36: =IF(D36=0,0,#REF!-JANVIER!D36) -> 0
F37: =IF(D37=0,0,#REF!-JANVIER!D37) -> 0
F38: =IF(D38=0,0,#REF!-JANVIER!D38) -> 0
F39: =IF(D39=0,0,#REF!-JANVIER!D39) -> 0
F40: =IF(D40=0,0,#REF!-JANVIER!D40) -> 0
A41: =TEXT(B41,"jjj") -> ven | B41: =B32+1 -> 41278 | F41: =IF(D41=0,0,#REF!-JANVIER!D41) -> 0
F42: =IF(D42=0,0,#REF!-JANVIER!D42) -> 0
F43: =IF(D43=0,0,#REF!-JANVIER!D43) -> 0
F44: =IF(D44=0,0,#REF!-JANVIER!D44) -> 0
F45: =IF(D45=0,0,#REF!-JANVIER!D45) -> 0
F46: =IF(D46=0,0,#REF!-JANVIER!D46) -> 0
F47: =IF(D47=0,0,#REF!-JANVIER!D47) -> 0
F48: =IF(D48=0,0,#REF!-JANVIER!D48) -> 0
F49: =IF(D49=0,0,#REF!-JANVIER!D49) -> 0
A50: =TEXT(B50,"jjj") -> sam | B50: =B41+1 -> 41279 | F50: =IF(D50=0,0,#REF!-JANVIER!D50) -> 0
F51: =IF(D51=0,0,#REF!-JANVIER!D51) -> 0
F52: =IF(D52=0,0,#REF!-JANVIER!D52) -> 0
F53: =IF(D53=0,0,#REF!-JANVIER!D53) -> 0
F54: =IF(D54=0,0,#REF!-JANVIER!D54) -> 0
F55: =IF(D55=0,0,#REF!-JANVIER!D55) -> 0
F56: =IF(D56=0,0,#REF!-JANVIER!D56) -> 0
F57: =IF(D57=0,0,#REF!-JANVIER!D57) -> 0
F58: =IF(D58=0,0,#REF!-JANVIER!D58) -> 0
A59: =TEXT(B59,"jjj") -> dim | B59: =B50+1 -> 41280 | F59: =IF(D59=0,0,#REF!-JANVIER!D59) -> 0
F60: =IF(D60=0,0,#REF!-JANVIER!D60) -> 0
F61: =IF(D61=0,0,#REF!-JANVIER!D61) -> 0
F62: =IF(D62=0,0,#REF!-JANVIER!D62) -> 0
F63: =IF(D63=0,0,#REF!-JANVIER!D63) -> 0
F64: =IF(D64=0,0,#REF!-JANVIER!D64) -> 0
F65: =IF(D65=0,0,#REF!-JANVIER!D65) -> 0
F66: =IF(D66=0,0,#REF!-JANVIER!D66) -> 0
F67: =IF(D67=0,0,#REF!-JANVIER!D67) -> 0
A68: =TEXT(B68,"jjj") -> lun | B68: =B59+1 -> 41281 | F68: =IF(D68=0,0,#REF!-JANVIER!D68) -> 0
F69: =IF(D69=0,0,#REF!-JANVIER!D69) -> 0
F70: =IF(D70=0,0,#REF!-JANVIER!D70) -> 0
F71: =IF(D71=0,0,#REF!-JANVIER!D71) -> 0
F72: =IF(D72=0,0,#REF!-JANVIER!D72) -> 0
F73: =IF(D73=0,0,#REF!-JANVIER!D73) -> 0
F74: =IF(D74=0,0,#REF!-JANVIER!D74) -> 0
F75: =IF(D75=0,0,#REF!-JANVIER!D75) -> 0
F76: =IF(D76=0,0,#REF!-JANVIER!D76) -> 0
A77: =TEXT(B77,"jjj") -> mar | B77: =B68+1 -> 41282 | F77: =IF(D77=0,0,#REF!-JANVIER!D77) -> 0
F78: =IF(D78=0,0,#REF!-JANVIER!D78) -> 0
F79: =IF(D79=0,0,#REF!-JANVIER!D79) -> 0
F80: =IF(D80=0,0,#REF!-JANVIER!D80) -> 0
F81: =IF(D81=0,0,#REF!-JANVIER!D81) -> 0
F82: =IF(D82=0,0,#REF!-JANVIER!D82) -> 0
F83: =IF(D83=0,0,#REF!-JANVIER!D83) -> 0
F84: =IF(D84=0,0,#REF!-JANVIER!D84) -> 0
F85: =IF(D85=0,0,#REF!-JANVIER!D85) -> 0
A86: =TEXT(B86,"jjj") -> mer | B86: =B77+1 -> 41283 | F86: =IF(D86=0,0,#REF!-JANVIER!D86) -> 0
F87: =IF(D87=0,0,#REF!-JANVIER!D87) -> 0
F88: =IF(D88=0,0,#REF!-JANVIER!D88) -> 0
F89: =IF(D89=0,0,#REF!-JANVIER!D89) -> 0
F90: =IF(D90=0,0,#REF!-JANVIER!D90) -> 0
F91: =IF(D91=0,0,#REF!-JANVIER!D91) -> 0
F92: =IF(D92=0,0,#REF!-JANVIER!D92) -> 0
F93: =IF(D93=0,0,#REF!-JANVIER!D93) -> 0
F94: =IF(D94=0,0,#REF!-JANVIER!D94) -> 0
A95: =TEXT(B95,"jjj") -> jeu | B95: =B86+1 -> 41284 | F95: =IF(D95=0,0,#REF!-JANVIER!D95) -> 0
F96: =IF(D96=0,0,#REF!-JANVIER!D96) -> 0
F97: =IF(D97=0,0,#REF!-JANVIER!D97) -> 0
F98: =IF(D98=0,0,#REF!-JANVIER!D98) -> 0
F99: =IF(D99=0,0,#REF!-JANVIER!D99) -> 0
F100: =IF(D100=0,0,#REF!-JANVIER!D100) -> 0
F101: =IF(D101=0,0,#REF!-JANVIER!D101) -> 0
F102: =IF(D102=0,0,#REF!-JANVIER!D102) -> 0
...

Sheet data
B3: HOTEL | C3: RANCK | D3: NOM CONCURRENTS | E3: TELEPHONE | F3: CAPACITE | J3: HOTELS
B4: IO | C4: C0 | D4: IB O | E4: 1 | F4: 86 | J4: IO
B5: IO | C5: C1 | D5: IB M | E5: 2 | F5: 326 | J5: ISA
B6: IO | C6: C2 | D6: IS M NORD | E6: 3 | F6: 46 | J6: ISL
B7: IO | C7: C3 | D7: IB S C | E7: 4 | F7: 68 | J7: MP
B8: IO | C8: C4 | D8: IB C C | E8: 5 | F8: 124
B9: IO | C9: C5 | D9: IB B | E9: 6 | F9: 688
B10: IO | C10: C6
B11: IO | C11: C7
B12: IO | C12: C8
B13: ISA | C13: C0 | D13: IS A | E13: 7 | F13: 47
B14: ISA | C14: C1 | D14: IB A | E14: 8 | F14: 264
B15: ISA | C15: C2 | D15: IS L | E15: 9 | F15: 49
B16: ISA | C16: C3 | D16: IB M M | E16: 10 | F16: 102
B17: ISA | C17: C4 | D17: IS M | E17: 11 | F17: 52
B18: ISA | C18: C5
B19: ISA | C19: C6
B20: ISA | C20: C7
B21: ISA | C21: C8
B22: ISL | C22: C0 | D22: IS L | E22: 12 | F22: 49
B23: ISL | C23: C1 | D23: IS AL | E23: 13 | F23: 47
B24: ISL | C24: C2 | D24: IS MM | E24: 14 | F24: 68
B25: ISL | C25: C3 | D25: ME V | E25: 15 | F25: 91
B26: ISL | C26: C4 | D26: M P XV | E26: 16 | F26: 54
B27: ISL | C27: C5 | D27: I C | E27: 17 | F27: 48
B28: ISL | C28: C6 | D28: M P M | E28: 18 | F28: 49
B29: ISL | C29: C7
B30: ISL | C30: C8
B31: MP | C31: C0 | D31: M P P MI | E31: 19 | F31: 49
B32: MP | C32: C1 | D32: M G | E32: 20 | F32: 77
B33: MP | C33: C2 | D33: NL TE | E33: 21 | F33: 764
B34: MP | C34: C3 | D34: M S | E34: 22 | F34: 405
B35: MP | C35: C4 | D35: M PXV | E35: 23 | F35: 23
B36: MP | C36: C5
B37: MP | C37: C6
B38: MP | C38: C7
B39: MP | C39: C8
