Workbook
Name CLIENT: 'Liste des clients'!$A$2:$A$16
Name CLIENTS: '[1]Liste des Clients'!$A$2:$A$17
Name DIMENSION: '[1]Liste des Clients'!$E$2:$E$15
Name DIMENSIONS: 'Liste des clients'!$E$2:$E$15
Name DOMICILE: 'Liste des clients'!$B$2:$B$16
Name NATUREPRESTATION: '[1]Liste des Clients'!$C$2:$C$8
Name NATUREPRESTATIONS: 'Liste des clients'!$C$2:$C$16
Name NATUREPRODUIT: 'Liste des clients'!$D$2:$D$6
Name NATUREPRODUITS: '[1]Liste des Clients'!$D$2:$D$7
Name PRIX: 'Liste des clients'!$G$2:$G$19
Name TARIF: '[1]Liste des Clients'!$G$2:$G$22

Sheet Liste des clients
A1: NOM | B1: ADRESSE | C1: NATURE PRESTATION | D1: NATURE PRODUITS | E1: DIMENSION | G1: TARIF
A2: AAA | B2: rue A | C2: Vente | D2: Le | E2: 800*1200 | F2: vente | G2: 0.35
A3: BBB | B3: rue B | C3: Prestation de service | D3: Lo | E3: 800*120 | F3: vente | G3: 1
A4: CCC | B4: rue C | C4: Retour | D4: DL | E4: 800*1000 | F4: vente | G4: 1.5
A5: DDD | B5: rue D | C5: Prestation de Tri | D5: EU | E5: 80*120 | F5: vente | G5: 1.8
A6: EEE | B6: rue E | C6: Prestation de Réparation | E6: 600*800 | F6: vente | G6: 2
A7: FFF | B7: rue F | E7: 1200*1200 | F7: P de service | G7: 2.2
A8: GGG | B8: rue G | E8: 1000*1200 | F8: Retour | G8: 2.25
A9: HHH | B9: rue H | E9: 1000*1200 | F9: vente | G9: 2.5
A10: IIII | B10: rue I | E10: 1000*1000 | F10: vente | G10: 2.7
A11: JJJJ | B11: rue J | E11: EU | G11: 3
A12: KKKK | B12: rue K | E12: EU2 | G12: 3.2
A13: LLLL | B13: rue L | E13: EU1 | G13: 3.5
A14: MMM | B14: rue M | E14: CP1 | G14: 3.51
A15: NNN | B15: rue N | G15: 3.6
G16: 4
G17: 4.8
G18: 5

Sheet Suivi
B1: DATE | C1: BL | D1: CLIENTS | E1: ADRESSE | F1: NATURE PRESTATION | G1: QUANTITE | H1: NATURE PRODUITS | I1: DIMENSION | J1: TARIF | K1: Total commande
B2: 41282 | C2: bl9 | D2: AAA | E2: =IF(ISNA(VLOOKUP(D2,'Liste des clients'!A:G,2,FALSE))," ",VLOOKUP(D2,'Liste des clients'!A:G,2,FALSE)) -> rue A | F2: Vente | H2: Le | I2: 800*1200 | J2: 2.5 | K2: =G2*J2 -> 0 | O2: =INDEX(Suivi!A2:E29,MATCH(Suivi!D2,CODE,0),1) -> #NAME? | P2: =IF(D2='Tarif suivant critères'!A:A ET H2='Tarif suivant critères'!B:B ET J2='Tarif suivant critères'!C:C,'Tarif suivant critères'!E:E,"") -> #NAME? | Q2: SI(ET(RECHERCHEV(ET((D2; F2; H2; I2);'Tarif suivant critères'!E:E3;5;""))) | R2: =IF(ISNA(VLOOKUP(D2,'Tarif suivant critères'!A:E,5,FALSE)),IF(ISNA(VLOOKUP(F2,'Tarif suivant critères'!A:E,5,FALSE)),IF(ISNA(VLOOKUP(G2,'Tarif suivant critères'!A:E,5,FALSE)),IF(ISNA(VLOOKUP(H2,'Tarif suivant critères'!A:E,5,FALSE))," ",VLOOKUP(I2,'Tarif suivant critères'!A:E,5,FALSE))))) -> FALSE | S2: =IF(D2='Tarif suivant critères'!A:A ET F2='Tarif suivant critères'!B:B,'Tarif suivant critères'!E:E,"") -> #NAME? | T2: =IF(D2=CLIENT ETF2=NATUREPRESTATIONS ET H2=NATUREPRODUIT ET I2=DIMENSIONS,PRIX,"") -> #VALUE! | V2: =IF(ISNA(VLOOKUP(F2 ET H2 ET J2 ET K2,'Tarif suivant critères'!A:E,5,FALSE))," ",VLOOKUP(F2 ET H2 ET J2 ET K2,'Tarif suivant critères'!A:E,5,FALSE)) -> #NAME?
B3: 41283 | C3: bl10 | D3: BBB | E3: =IF(ISNA(VLOOKUP(D3,'Liste des clients'!A:G,2,FALSE))," ",VLOOKUP(D3,'Liste des clients'!A:G,2,FALSE)) -> rue B | F3: Vente | H3: Lo | I3: 1000*1200 | J3: 2.7 | K3: =G3*J3 -> 0
B4: 41284 | C4: bl11 | D4: CCC | E4: =IF(ISNA(VLOOKUP(D4,'Liste des clients'!A:G,2,FALSE))," ",VLOOKUP(D4,'Liste des clients'!A:G,2,FALSE)) -> rue C | F4: Vente | I4: 600*800 | J4: 1.5 | K4: =G4*J4 -> 0
B5: 41289 | C5: bl12 | D5: DDD | E5: =IF(ISNA(VLOOKUP(D5,'Liste des clients'!A:G,2,FALSE))," ",VLOOKUP(D5,'Liste des clients'!A:G,2,FALSE)) -> rue D | F5: Vente | H5: Le | I5: 800*1200 | J5: 2.5 | K5: =G5*J5 -> 0
B6: 41296 | C6: bl13 | D6: EEE | E6: =IF(ISNA(VLOOKUP(D6,'Liste des clients'!A:G,2,FALSE))," ",VLOOKUP(D6,'Liste des clients'!A:G,2,FALSE)) -> rue E | F6: Vente | I6: 600*800 | J6: 2 | K6: =G6*J6 -> 0
B7: 41299 | C7: bl21 | D7: FFF | E7: =IF(ISNA(VLOOKUP(D7,'Liste des clients'!A:G,2,FALSE))," ",VLOOKUP(D7,'Liste des clients'!A:G,2,FALSE)) -> rue F | F7: Prestation de service | H7: Lo | I7: EU | J7: 3.51 | K7: =G7*J7 -> 0
B8: 41304 | C8: bl14 | D8: CCC | E8: =IF(ISNA(VLOOKUP(D8,'Liste des clients'!A:G,2,FALSE))," ",VLOOKUP(D8,'Liste des clients'!A:G,2,FALSE)) -> rue C | F8: Vente | I8: 600*800 | J8: 1.5 | K8: =G8*J8 -> 0
B9: 41305 | C9: bl15 | D9: CCC | E9: =IF(ISNA(VLOOKUP(D9,'Liste des clients'!A:G,2,FALSE))," ",VLOOKUP(D9,'Liste des clients'!A:G,2,FALSE)) -> rue C | F9: Vente | I9: 600*800 | J9: 1.5 | K9: =G9*J9 -> 0
B10: 41305 | D10: GGG | E10: =IF(ISNA(VLOOKUP(D10,'Liste des clients'!A:G,2,FALSE))," ",VLOOKUP(D10,'Liste des clients'!A:G,2,FALSE)) -> rue G | F10: Retour | J10: 1 | K10: =G10*J10 -> 0
E11: =IF(ISNA(VLOOKUP(D11,'Liste des clients'!A:G,2,FALSE))," ",VLOOKUP(D11,'Liste des clients'!A:G,2,FALSE)) | L11: =SUM(K2:K10) -> 0
E12: =IF(ISNA(VLOOKUP(D12,'Liste des clients'!A:G,2,FALSE))," ",VLOOKUP(D12,'Liste des clients'!A:G,2,FALSE))
E13: =IF(ISNA(VLOOKUP(D13,'Liste des clients'!A:G,2,FALSE))," ",VLOOKUP(D13,'Liste des clients'!A:G,2,FALSE))
E14: =IF(ISNA(VLOOKUP(D14,'Liste des clients'!A:G,2,FALSE))," ",VLOOKUP(D14,'Liste des clients'!A:G,2,FALSE))
E15: =IF(ISNA(VLOOKUP(D15,'Liste des clients'!A:G,2,FALSE))," ",VLOOKUP(D15,'Liste des clients'!A:G,2,FALSE))
E16: =IF(ISNA(VLOOKUP(D16,'Liste des clients'!A:G,2,FALSE))," ",VLOOKUP(D16,'Liste des clients'!A:G,2,FALSE))
E17: =IF(ISNA(VLOOKUP(D17,'Liste des clients'!A:G,2,FALSE))," ",VLOOKUP(D17,'Liste des clients'!A:G,2,FALSE))
E18: =IF(ISNA(VLOOKUP(D18,'Liste des clients'!A:G,2,FALSE))," ",VLOOKUP(D18,'Liste des clients'!A:G,2,FALSE))
E19: =IF(ISNA(VLOOKUP(D19,'Liste des clients'!A:G,2,FALSE))," ",VLOOKUP(D19,'Liste des clients'!A:G,2,FALSE))
E20: =IF(ISNA(VLOOKUP(D20,'Liste des clients'!A:G,2,FALSE))," ",VLOOKUP(D20,'Liste des clients'!A:G,2,FALSE))
E21: =IF(ISNA(VLOOKUP(D21,'Liste des clients'!A:G,2,FALSE))," ",VLOOKUP(D21,'Liste des clients'!A:G,2,FALSE))
E22: =IF(ISNA(VLOOKUP(D22,'Liste des clients'!A:G,2,FALSE))," ",VLOOKUP(D22,'Liste des clients'!A:G,2,FALSE))

Sheet Tarif suivant critères
A1: CLIENTS | B1: NATURE PRESTATION | C1: NATURE PRODUITS | D1: DIMENSION | E1: TARIF
A2: GGG | B2: Retour | E2: 1
A3: EEE | B3: Vente | D3: 600*800 | E3: 2
A4: HHH | B4: Vente | C4: DL | D4: 800*1200 | E4: 3.5
A5: HHH | B5: Vente | C5: DL | D5: 800*1200 | E5: 3.5
A6: FFF | B6: Prestation de service | C6: Lo | D6: EU | E6: 3.51
A7: FFF | B7: Prestation de service | C7: EU | E7: 3.51
A8: FFF | B8: Prestation de service | E8: 3.51
A9: MMM | B9: Vente | D9: 600*800 | E9: 1.5
A10: MMM | B10: Vente | C10: Le | D10: 1000*1200 | E10: 1.5
A11: DDD | B11: Vente | C11: Le | D11: 800*1200 | E11: 2.5
A12: KKKK | B12: Vente | C12: DL | D12: 1000*1000 | E12: 3
A13: IIII | B13: Vente | C13: Le | D13: 800*1200 | E13: 1.8
A14: IIII | B14: Vente | C14: Le | D14: 800*1000 | E14: 2.2
A15: IIII | B15: Vente | C15: Lo | D15: CP1 | E15: 3.6
A16: IIII | B16: Vente | C16: Le | E16: 1.8
A17: IIII | B17: Vente | C17: EU | D17: 80*120 | E17: 4.8
A18: JJJJ | B18: Vente | C18: DL | D18: 800*1200 | E18: 4
A19: JJJJ | B19: Vente | C19: DL | D19: 1000*1000 | E19: 3.2
A20: LLLL | B20: Vente | C20: Lo | D20: EU2 | E20: 5
A21: LLLL | B21: Vente | C21: DL | D21: 1000*1200 | E21: 3
A22: LLLL | B22: Vente | C22: EU | D22: 800*1200 | E22: 5
A23: BBB | B23: Vente | C23: Lo | D23: 1000*1200 | E23: 2.7
A24: BBB | B24: Vente | C24: DL | D24: 1000*1200 | E24: 2.7
A25: NNN | B25: Prestation de Tri | C25: EU | E25: 0.35
A26: NNN | B26: Prestation de Réparation | E26: 2.25
A27: CCC | B27: Vente | D27: 600*800 | E27: 1.5
A28: AAA | B28: Vente | C28: Le | D28: 800*1200 | E28: 2.5
A29: AAA | B29: Vente | C29: Le | D29: 800*120 | E29: 2.5
