Workbook
Name Benzo__a__Anthracène: #REF!
Name Date: OFFSET(#REF!,,,COUNTA(#REF!)-1)
Name Nom_Param: OFFSET(#REF!,,,COUNTA(Date))
Name Result: OFFSET(#REF!,,,COUNTA(Date))

Sheet Fiche Principale
E1: Bilan Qualité Rhône
B5: Stations
B7: Station 1 -Pougny
B8: Station 2 - Ruffieux
B9: Station 3 - Culoz
B10: Station 4 - Massignieu de Rives
B21: Paramètre
B22: Turbidité
B23: Température
B24: pH
B25: Conductivité à 25°C
B26: MeS
B27: Carbone organique
... B71: AMPA

Sheet Tableau Comparatif
C4: Paramètre Considéré
B6: Date
A7: 2010 | B7: 40179 | D7: ='Station 2'!$B$59 -> 0.9
B8: 40210 | C8: ='Station 1'!B59 -> 1.1
B9: 40238 | D9: ='Station 2'!$C$59 -> #N/A
B10: 40269 | C10: ='Station 1'!C59 -> 1.3
B11: 40299 | D11: ='Station 2'!$D$59 -> 1
B12: 40330 | C12: ='Station 1'!$D$59 -> #N/A
B13: 40360 | D13: ='Station 2'!$E$59 -> 1.7
B14: 40391 | C14: ='Station 1'!$E$59 -> 1.4
B15: 40422 | D15: ='Station 2'!F59 -> #N/A
B16: 40452 | C16: ='Station 1'!$F$59 -> #N/A
B17: 40483 | D17: ='Station 2'!G59 -> 0.8
B18: 40513 | C18: ='Station 1'!$G$59 -> 1.3
A19: 2011 | B19: 40544 | D19: ='Station 2'!H59 -> 0.6
B20: 40575 | C20: ='Station 1'!$H$59 -> 1.2 | D20: ='Station 2'!I59 -> #N/A
B21: 40603 | D21: ='Station 2'!J59 -> #N/A
B22: 40634 | C22: ='Station 1'!$I$59 -> 1.1 | D22: ='Station 2'!K59 -> 1.1
B23: 40664 | D23: ='Station 2'!L59 -> #N/A
B24: 40695 | C24: ='Station 1'!$J$59 -> #N/A | D24: ='Station 2'!M59 -> #N/A
B25: 40725 | D25: ='Station 2'!N59 -> 1.2
B26: 40756 | C26: ='Station 1'!$K$59 -> 1.5 | D26: ='Station 2'!O59 -> #N/A
B27: 40787 | D27: ='Station 2'!P59 -> #N/A
B28: 40817 | C28: ='Station 1'!$L$59 -> #N/A | D28: ='Station 2'!Q59 -> 1.1
B29: 40848 | D29: ='Station 2'!R59 -> #N/A
B30: 40878 | C30: ='Station 1'!$M$59 -> 1 | D30: ='Station 2'!S59 -> #N/A
C31: Station 1 | D31: Station 2 | E31: Station 3 | F31: Station 4 | G31: Station 5 | H31: Station 6 | I31: Station 7 | J31: Station 8 | K31: Station 9 | L31: Station 10 | M31: Station 11 | N31: Station 12 | O31: Station 13 | P31: Station 14 | Q31: Station 15 | R31: Station 16 | S31: Station 17 | T31: Station 18 | U31: Station 19 | V31: Station 20 | W31: Station 21 | X31: Station 22 | Y31: Station 23 | Z31: Station 24 | AA31: Station 25 | AB31: Station 26 | AC31: Station 27
A59: {=INDEX(A$7:A$58,SMALL(IF(SUBTOTAL(3,INDIRECT("B"&ROW(A$7:A$58)))=1,ROW(INDIRECT("1:"&ROWS(A$7:A$58)))),ROWS($1:1)))} -> 2010 | B59: {=INDEX(B$7:B$58,SMALL(IF(SUBTOTAL(3,INDIRECT("B"&ROW(B$7:B$58)))=1,ROW(INDIRECT("1:"&ROWS(B$7:B$58)))),ROWS($1:1)))} -> 40179 | C59: {=INDEX(C$7:C$58,SMALL(IF(SUBTOTAL(3,INDIRECT("B"&ROW(C$7:C$58)))=1,ROW(INDIRECT("1:"&ROWS(C$7:C$58)))),ROWS($1:1)))} -> 0 | D59: {=INDEX(D$6:D$58,SMALL(IF(SUBTOTAL(3,INDIRECT("B"&ROW(D$6:D$58)))=1,ROW(INDIRECT("1:"&ROWS(D$6:D$58)))),ROWS($1:1)))} -> 0 | E59: {=INDEX(E$7:E$58,SMALL(IF(SUBTOTAL(3,INDIRECT("B"&ROW(E$7:E$58)))=1,ROW(INDIRECT("1:"&ROWS(E$7:E$58)))),ROWS($1:1)))} -> 0 | F59: {=INDEX(F$7:F$58,SMALL(IF(SUBTOTAL(3,INDIRECT("B"&ROW(F$7:F$58)))=1,ROW(INDIRECT("1:"&ROWS(F$7:F$58)))),ROWS($1:1)))} -> 0 | G59: {=INDEX(G$7:G$58,SMALL(IF(SUBTOTAL(3,INDIRECT("B"&ROW(G$7:G$58)))=1,ROW(INDIRECT("1:"&ROWS(G$7:G$58)))),ROWS($1:1)))} -> 0 | H59: {=INDEX(H$7:H$58,SMALL(IF(SUBTOTAL(3,INDIRECT("B"&ROW(H$7:H$58)))=1,ROW(INDIRECT("1:"&ROWS(H$7:H$58)))),ROWS($1:1)))} -> 0 | I59: {=INDEX(I$7:I$58,SMALL(IF(SUBTOTAL(3,INDIRECT("B"&ROW(I$7:I$58)))=1,ROW(INDIRECT("1:"&ROWS(I$7:I$58)))),ROWS($1:1)))} -> 0 | J59: {=INDEX(J$7:J$58,SMALL(IF(SUBTOTAL(3,INDIRECT("B"&ROW(J$7:J$58)))=1,ROW(INDIRECT("1:"&ROWS(J$7:J$58)))),ROWS($1:1)))} -> 0 | K59: {=INDEX(K$7:K$58,SMALL(IF(SUBTOTAL(3,INDIRECT("B"&ROW(K$7:K$58)))=1,ROW(INDIRECT("1:"&ROWS(K$7:K$58)))),ROWS($1:1)))} -> 0 | L59: {=INDEX(L$7:L$58,SMALL(IF(SUBTOTAL(3,INDIRECT("B"&ROW(L$7:L$58)))=1,ROW(INDIRECT("1:"&ROWS(L$7:L$58)))),ROWS($1:1)))} -> 0 | ... AC59: {=INDEX(AC$7:AC$58,SMALL(IF(SUBTOTAL(3,INDIRECT("B"&ROW(AC$7:AC$58)))=1,ROW(INDIRECT("1:"&ROWS(AC$7:AC$58)))),ROWS($1:1)))} -> 0

Sheet Station 1
A1: Année | B1: 2010 | H1: 2011
A3: Mois | B3: Février | C3: Avril | D3: Juin | G3: Décembre | H3: Février | I3: Avril | J3: Juin | L3: Octobre | M3: Décembre
A5: Date | B5: 40220 | C5: 40284 | D5: 40337 | E5: 40410 | F5: 40473 | G5: 40525 | H5: 40588 | I5: 40644 | J5: 40709 | K5: 40772 | L5: 40833 | M5: 40896
A6: Paramètre | N6: Limite de Quantification | O6: Unité de mesure
A7: Turbidité | B7: 1.7 | C7: 1.7 | D7: 63 | E7: 7.8 | F7: 1.6 | G7: 13 | H7: 1.5 | I7: 5.6 | J7: 3.6 | K7: 5 | L7: 34 | M7: 4 | O7: NTU
A8: Température | B8: 3.4 | C8: 8.9 | D8: 13.8 | E8: 18 | F8: 11.3 | G8: 5.7 | H8: 7.2 | I8: 13.6 | J8: 18.3 | K8: 20.1 | L8: 13.5 | M8: 5.3 | O8: °C
A9: pH | B9: 7.25 | C9: 8.35 | D9: 8.2 | E9: 8.4 | F9: 8 | G9: 7.5 | H9: 7.4 | I9: 8 | J9: 8.1 | K9: 7.1 | L9: 8.1 | M9: 8 | O9: unité pH
A10: Conductivité à 25°C | B10: 343 | C10: 327 | D10: 269 | E10: 295 | F10: 347 | G10: 327 | H10: 357 | I10: 316 | J10: 308 | K10: 296 | L10: 320 | M10: 341 | O10: µS/cm
A11: MeS | B11: 3.6 | C11: 3.4 | D11: 122 | E11: 8 | F11: 2 | G11: 13 | H11: 2 | I11: 2.4 | J11: 5.2 | K11: 2 | L11: 34 | M11: 2.8 | O11: mg/L
A12: Carbone organique | B12: 1.1 | C12: 1.2 | D12: 0.9 | E12: 1 | F12: 1.2 | G12: 1.1 | H12: 1.1 | I12: 1.3 | J12: 1.5 | K12: 1.2 | L12: 1.1 | M12: 1 | O12: mg(C)/L
A13: Oxygène dissous | B13: 11.68 | C13: 11.58 | D13: 9.72 | E13: 9.33 | F13: 9.68 | G13: 11.28 | H13: 11.74 | I13: 10.54 | J13: 9.36 | K13: 8.92 | L13: 9.56 | M13: 10.97 | O13: mg(O2)/L
A14: Oxygène dissous (saturation) | B14: 94.9 | C14: 104.6 | D14: 99.4 | E14: 103.3 | F14: 91.3 | G14: 93.8 | H14: 98.5 | I14: 105.6 | J14: 103.8 | K14: 102.8 | L14: 95 | M14: 89.3 | O14: %
A15: DBO | B15: 0.7 | C15: 0.6 | D15: 0.9 | E15: 0.5 | F15: 0.5 | G15: 0.7 | H15: 0.5 | I15: 0.5 | J15: 0.8 | K15: 0.7 | L15: 1.1 | M15: 0.9 | O15: mg(O2)/L
A16: DCO | B16: 5 | C16: 7.1 | D16: 5 | E16: 5 | F16: 5 | G16: 5 | H16: 5 | I16: 5.2 | J16: 6.1 | K16: 5 | L16: 5 | M16: 5 | O16: mg(O2)/L
A17: Azote Kjeldahl | B17: 1 | C17: 1 | D17: 1 | E17: 1 | F17: 1 | G17: 1 | H17: 1 | I17: 1 | J17: 1 | K17: 1 | L17: 1 | M17: 1 | O17: mg(N)/L
A18: Bendiocarbe | B18: 0.05 | C18: 0.05 | D18: #N/A | E18: 0.05 | F18: #N/A | G18: 0.05 | H18: 0.05 | I18: 0.05 | J18: #N/A | K18: 0.05 | L18: #N/A | M18: 0.05 | O18: µg/L
A19: Ammonium | B19: 0.09 | C19: 0.1 | D19: 0.3 | E19: 0.05 | F19: 0.15 | G19: 0.09 | H19: 0.22 | I19: 0.05 | J19: 0.07 | K19: 0.05 | L19: 0.11 | M19: 0.07 | O19: mg(NH4)/L
A20: Nitrites | B20: 0.03 | C20: 0.03 | D20: 0.05 | E20: 0.03 | F20: 0.08 | G20: 0.02 | H20: 0.06 | I20: 0.06 | J20: 0.04 | K20: 0.03 | L20: 0.05 | M20: 0.02 | O20: mg(NO2)/L
A21: Nitrates | B21: 3.7 | C21: 2.9 | D21: 2.5 | E21: 1.6 | F21: 3.8 | G21: 3.2 | H21: 4.5 | I21: 3.7 | J21: 2.2 | K21: 1.7 | L21: 3.9 | M21: 4.2 | O21: mg(NO3)/L
A22: Silice | B22: 2.413 | C22: 2.413 | D22: 2.032 | E22: 1.27 | F22: 1.524 | G22: 2.159 | H22: 1.778 | I22: 2.286 | J22: 1.27 | K22: 1 | L22: 2.667 | M22: 2.8 | O22: mg(SiO2)/L
A23: Phosphore total | B23: 0.02 | C23: 0.02 | D23: 0.05 | E23: 0.02 | F23: 0.03 | G23: 0.02 | H23: 0.04 | I23: 0.04 | J23: 0.04 | K23: 0.02 | L23: 0.07 | M23: 0.03 | O23: mg(P)/L
A24: Phosphates | B24: 0.052 | C24: 0.01 | D24: 0.03 | E24: 0.01 | F24: 0.09 | G24: 0.04 | H24: 0.09 | I24: 0.08 | J24: 0.06 | K24: 0.01 | L24: 0.1 | M24: 0.07 | O24: mg(PO4)/L
A25: Uranium | B25: 1.7 | C25: 1.6 | D25: #N/A | E25: 1.6 | F25: #N/A | G25: 1.45 | H25: 1.63 | I25: 1.23 | J25: #N/A | K25: 1.72 | L25: #N/A | M25: 1.81 | O25: µg(U)/L
A26: Bore | B26: 16 | C26: 15 | D26: #N/A | E26: 13 | F26: #N/A | G26: 13 | H26: 17 | I26: 13 | J26: #N/A | K26: 14 | L26: #N/A | M26: 14 | O26: µg(B)/L
A27: Argent | B27: 0.02 | C27: 0.02 | D27: #N/A | E27: 0.02 | F27: #N/A | G27: 0.02 | H27: 0.02 | I27: 0.02 | J27: #N/A | K27: 0.02 | L27: #N/A | M27: 0.02 | O27: µg(Ag)/L
A28: Arsenic | B28: 1.1 | C28: 1.3 | D28: #N/A | E28: 1.4 | F28: #N/A | G28: 1.3 | H28: 1.2 | I28: 1.1 | J28: #N/A | K28: 1.5 | L28: #N/A | M28: 1 | O28: µg(As)/L
A29: Aluminium | B29: #N/A | C29: #N/A | D29: #N/A | E29: #N/A | F29: #N/A | G29: #N/A | H29: #N/A | I29: #N/A | J29: #N/A | K29: #N/A | L29: #N/A | M29: #N/A | O29: µg(Al)/L
A30: Titane | B30: 0.5 | C30: 0.5 | D30: #N/A | E30: 0.5 | F30: #N/A | G30: 0.5 | H30: 0.5 | I30: 0.5 | J30: #N/A | K30: 0.5 | L30: #N/A | M30: 0.5 | O30: µg(Ti)/L
A31: Antimoine | B31: 0.5 | C31: 0.5 | D31: #N/A | E31: 0.5 | F31: #N/A | G31: 0.5 | H31: 0.5 | I31: 0.5 | J31: #N/A | K31: 0.5 | L31: #N/A | M31: 0.5 | O31: µg(Sb)/L
A32: Beryllium | B32: 0.01 | C32: 0.01 | D32: #N/A | E32: 0.01 | F32: #N/A | G32: 0.01 | H32: 0.01 | I32: 0.01 | J32: #N/A | K32: 0.01 | L32: #N/A | M32: 0.01 | O32: µg(Be)/L
A33: Cobalt | B33: 0.05 | C33: 0.1 | D33: #N/A | E33: 0.05 | F33: #N/A | G33: 0.05 | H33: 0.05 | I33: 0.05 | J33: #N/A | K33: 0.05 | L33: #N/A | M33: 0.05 | O33: µg(Co)/L
A34: Etain | B34: 0.5 | C34: 0.5 | D34: #N/A | E34: 0.5 | F34: #N/A | G34: 0.5 | H34: 0.5 | I34: 0.5 | J34: #N/A | K34: 0.5 | L34: #N/A | M34: 0.5 | O34: µg(Sn)/L
A35: Plomb | B35: 0.05 | C35: 0.05 | D35: #N/A | E35: 0.05 | F35: #N/A | G35: 0.05 | H35: 0.05 | I35: 0.05 | J35: #N/A | K35: 0.05 | L35: #N/A | M35: 0.05 | O35: µg(Pb)/L
A36: Zinc | B36: 18 | C36: 2 | D36: #N/A | E36: 1 | F36: #N/A | G36: 3 | H36: 3 | I36: 1 | J36: #N/A | K36: 3 | L36: #N/A | M36: 1 | O36: µg(Zn)/L
A37: Vanadium | B37: 0.3 | C37: 0.3 | D37: #N/A | E37: 0.3 | F37: #N/A | G37: 0.3 | H37: 0.3 | I37: 0.3 | J37: #N/A | K37: 0.3 | L37: #N/A | M37: 0.3 | O37: µg(V)/L
A38: Sélénium | B38: 0.3 | C38: 0.3 | D38: #N/A | E38: 0.3 | F38: #N/A | G38: 0.3 | H38: 0.3 | I38: 0.3 | J38: #N/A | K38: 0.3 | L38: #N/A | M38: 0.3 | O38: µg(Se)/L
A39: Nickel | B39: 1 | C39: 1 | D39: #N/A | E39: 1 | F39: #N/A | G39: 0.87 | H39: 0.77 | I39: 0.56 | J39: #N/A | K39: 0.66 | L39: #N/A | M39: 0.79 | O39: µg(Ni)/L
A40: Mercure | B40: 0.02 | C40: 0.02 | D40: #N/A | E40: 0.02 | F40: #N/A | G40: 0.02 | H40: 0.02 | I40: 0.02 | J40: #N/A | K40: 0.02 | L40: #N/A | M40: 0.02 | O40: µg(Hg)/L
A41: Cadmium | B41: 0.03 | C41: 0.03 | D41: #N/A | E41: 0.03 | F41: #N/A | G41: 0.03 | H41: 0.03 | I41: 0.03 | J41: #N/A | K41: 0.03 | L41: #N/A | M41: 0.03 | O41: µg(Cd)/L
... A43: Cuivre | B43: 1 | C43: 0.57 | D43: #N/A | E43: 0.68 | F43: #N/A | G43: 0.87 | H43: 0.76 | I43: 0.64 | J43: #N/A | K43: 0.51 | L43: #N/A | M43: 0.52 | O43: µg(Cu)/L
...

Sheet Station 2
A1: Année | B1: 2010 | H1: 2011
A3: Mois | B3: Janvier | C3: Mars | D3: Mai | E3: Juillet | F3: Septembre | G3: Novembre | H3: Janvier | I3: Février | J3: Mars | K3: Avril | L3: Mai | M3: Juin | N3: Juillet | P3: Septembre | R3: Novembre | S3: Décembre
A5: Date | B5: 40196 | C5: 40253 | D5: 40315 | E5: 40378 | F5: 40441 | G5: 40497 | H5: 40560 | I5: 40588 | J5: 40623 | K5: 40286 | L5: 40679 | M5: 40714 | N5: 40742 | O5: 40762 | P5: 40805 | Q5: 40833 | R5: 40861 | S5: 40882
A6: Paramètre | U6: Unité de mesure
A7: Turbidité | B7: 19 | C7: 3.6 | D7: 8.1 | E7: 13 | F7: 5.3 | G7: 96 | H7: 3.2 | I7: #N/A | J7: 2.6 | K7: #N/A | L7: 5.9 | M7: #N/A | N7: 100 | O7: #N/A | P7: 12 | Q7: #N/A | R7: 1.9 | S7: #N/A | U7: NTU
A8: Température | B8: 4.95 | C8: 6.86 | D8: 13.97 | E8: 21.69 | F8: 16.12 | G8: 8.8 | H8: 5.77 | I8: 5.63 | J8: 9.32 | K8: 14.3 | L8: 16.47 | M8: 14.81 | N8: 15.63 | O8: 20.6 | P8: 17.86 | Q8: 14.96 | R8: 11.74 | S8: 9.66 | U8: °C
A9: pH | B9: 8.19 | C9: 8.33 | D9: 8.12 | E9: 7.98 | F9: 7.91 | G9: 8.2 | H9: 8.28 | I9: 8.46 | J9: 8.67 | K9: 8.63 | L9: 8.32 | M9: 8.28 | N9: 8.26 | O9: 8.35 | P9: 8.56 | Q9: 8.16 | R9: 8.17 | S9: 8.24 | U9: unité pH
A10: Conductivité à 25°C | B10: 503 | C10: 424 | D10: 387 | E10: 276 | F10: 312 | G10: 291 | H10: 321 | I10: 306 | J10: 320 | K10: 311 | L10: 287 | M10: 302 | N10: 305 | O10: 285 | P10: 396 | Q10: 301 | R10: 329 | S10: 235 | U10: µS/cm
A11: MeS | B11: 21 | C11: 2 | D11: 9.4 | E11: 12 | F11: 2.2 | G11: 60 | H11: 2 | I11: #N/A | J11: 2 | K11: #N/A | L11: 3.4 | M11: #N/A | N11: 97 | O11: #N/A | P11: 11 | Q11: #N/A | R11: 2 | S11: #N/A | U11: mg/L
A12: Carbone organique | B12: 1.3 | C12: 1.4 | D12: 1.3 | E12: 1.1 | F12: 1.3 | G12: 2.2 | H12: 1.6 | I12: #N/A | J12: 1.7 | K12: #N/A | L12: 1.3 | M12: #N/A | N12: 2.8 | O12: #N/A | P12: 2.2 | Q12: #N/A | R12: 1.2 | S12: #N/A | U12: mg(C)/L
A13: Oxygène dissous | B13: 12.83 | C13: 13.66 | D13: 11.65 | E13: 9.82 | F13: 7.7 | G13: 11.47 | H13: 12.89 | I13: 14.88 | J13: 13.58 | K13: 11.26 | L13: 9.69 | M13: 9.23 | N13: 8.99 | O13: 9.7 | P13: 9.33 | Q13: 10.55 | R13: 9.22 | S13: 11.63 | U13: mg(O2)/L
A14: Oxygène dissous (saturation) | B14: 99.4 | C14: 111.9 | D14: 116.6 | E14: 96.3 | F14: 78 | G14: 101.8 | H14: 102.4 | I14: 117.8 | J14: 117.2 | K14: 108.7 | L14: 100.1 | M14: 93.6 | N14: 90.8 | O14: 108.8 | P14: 101.5 | Q14: 103.4 | R14: 87.6 | S14: 106.4 | U14: %
A15: DBO | B15: 1.1 | C15: 0.7 | D15: 0.8 | E15: 0.6 | F15: 0.7 | G15: 0.5 | H15: 0.5 | I15: #N/A | J15: 2.5 | K15: #N/A | L15: 0.5 | M15: #N/A | N15: 0.8 | O15: #N/A | P15: 1.3 | Q15: #N/A | R15: 0.7 | S15: #N/A | U15: mg(O2)/L
A16: DCO | B16: 5 | C16: 5 | D16: 7.6 | E16: 5.9 | F16: 5 | G16: 11 | H16: 5 | I16: #N/A | J16: 6.6 | K16: #N/A | L16: 5 | M16: #N/A | N16: 8.5 | O16: #N/A | P16: 8 | Q16: #N/A | R16: 5 | S16: #N/A | U16: mg(O2)/L
A17: Azote Kjeldahl | B17: 1 | C17: 1 | D17: 1 | E17: 1 | F17: 1 | G17: 1 | H17: 1 | I17: #N/A | J17: 1 | K17: #N/A | L17: 1 | M17: #N/A | N17: 1 | O17: #N/A | P17: 1 | Q17: #N/A | R17: 1 | S17: #N/A | U17: mg(N)/L
A18: Bendiocarbe | B18: 0.05 | C18: #N/A | D18: 0.05 | E18: 0.05 | F18: #N/A | G18: 0.05 | H18: 0.05 | I18: #N/A | J18: #N/A | K18: 0.05 | L18: #N/A | M18: #N/A | N18: 0.05 | O18: #N/A | P18: #N/A | Q18: 0.05 | R18: #N/A | S18: #N/A | U18: µg/L
A19: Ammonium | B19: 0.13 | C19: 0.23 | D19: 0.06 | E19: 0.75 | F19: 0.05 | G19: 0.05 | H19: 0.07 | I19: #N/A | J19: 0.05 | K19: #N/A | L19: 0.14 | M19: #N/A | N19: 0.13 | O19: #N/A | P19: 0.05 | Q19: #N/A | R19: 0.05 | S19: #N/A | U19: mg(NH4)/L
A20: Nitrites | B20: 0.04 | C20: 0.07 | D20: 0.04 | E20: 0.06 | F20: 0.05 | G20: 0.03 | H20: 0.03 | I20: #N/A | J20: 0.03 | K20: #N/A | L20: 0.1 | M20: #N/A | N20: 0.04 | O20: #N/A | P20: 0.04 | Q20: #N/A | R20: 0.07 | S20: #N/A | U20: mg(NO2)/L
A21: Nitrates | B21: 4.6 | C21: 7.4 | D21: 2.8 | E21: 2.4 | F21: 3.4 | G21: 3.4 | H21: 4.9 | I21: #N/A | J21: 5.1 | K21: #N/A | L21: 3.3 | M21: #N/A | N21: 2.3 | O21: #N/A | P21: 2.3 | Q21: #N/A | R21: 3.5 | S21: #N/A | U21: mg(NO3)/L
A22: Silice | B22: 3.556 | C22: 3.048 | D22: 2.159 | E22: 1.27 | F22: 1.27 | G22: 3.429 | H22: 4.445 | I22: #N/A | J22: 1.651 | K22: #N/A | L22: 2.286 | M22: #N/A | N22: 2.921 | O22: #N/A | P22: 1.651 | Q22: #N/A | R22: 1.3 | S22: #N/A | U22: mg(SiO2)/L
A23: Phosphore total | B23: 0.05 | C23: 0.04 | D23: 0.03 | E23: 0.03 | F23: 0.02 | G23: 0.05 | H23: 0.02 | I23: #N/A | J23: 0.02 | K23: #N/A | L23: 0.04 | M23: #N/A | N23: 0.08 | O23: #N/A | P23: 0.03 | Q23: #N/A | R23: 0.03 | S23: #N/A | U23: mg(P)/L
A24: Phosphates | B24: 0.082 | C24: 0.1 | D24: 0.04 | E24: 0.02 | F24: 0.05 | G24: 0.07 | H24: 0.07 | I24: #N/A | J24: 0.03 | K24: #N/A | L24: 0.1 | M24: #N/A | N24: 0.05 | O24: #N/A | P24: 0.03 | Q24: #N/A | R24: 0.07 | S24: #N/A | U24: mg(PO4)/L
A25: Uranium | B25: 1.3 | C25: #N/A | D25: 1.2 | E25: 1.8 | F25: #N/A | G25: 0.57 | H25: 0.75 | I25: #N/A | J25: #N/A | K25: 1.48 | L25: #N/A | M25: #N/A | N25: 1.2 | O25: #N/A | P25: #N/A | Q25: 1.65 | R25: #N/A | S25: #N/A | U25: µg(U)/L
A26: Bore | B26: 14 | C26: #N/A | D26: 12 | E26: 15 | F26: #N/A | G26: 10 | H26: 11 | I26: #N/A | J26: #N/A | K26: 14 | L26: #N/A | M26: #N/A | N26: 13 | O26: #N/A | P26: #N/A | Q26: 15 | R26: #N/A | S26: #N/A | U26: µg(B)/L
A27: Argent | B27: 0.02 | C27: #N/A | D27: 0.2 | E27: 0.02 | F27: #N/A | G27: 0.02 | H27: 0.02 | I27: #N/A | J27: #N/A | K27: 0.02 | L27: #N/A | M27: #N/A | N27: 0.02 | O27: #N/A | P27: #N/A | Q27: 0.02 | R27: #N/A | S27: #N/A | U27: µg(Ag)/L
A28: Arsenic | B28: 0.9 | C28: #N/A | D28: 1 | E28: 1.7 | F28: #N/A | G28: 0.8 | H28: 0.6 | I28: #N/A | J28: #N/A | K28: 1.1 | L28: #N/A | M28: #N/A | N28: 1.2 | O28: #N/A | P28: #N/A | Q28: 1.1 | R28: #N/A | S28: #N/A | U28: µg(As)/L
A29: Aluminium | B29: #N/A | C29: #N/A | D29: #N/A | E29: #N/A | F29: #N/A | G29: #N/A | H29: #N/A | I29: #N/A | J29: #N/A | K29: #N/A | L29: #N/A | M29: #N/A | N29: #N/A | O29: #N/A | P29: #N/A | Q29: #N/A | R29: #N/A | S29: #N/A | U29: µg(Al)/L
A30: Titane | B30: 0.5 | C30: #N/A | D30: 0.5 | E30: 0.5 | F30: #N/A | G30: 0.8 | H30: 0.5 | I30: #N/A | J30: #N/A | K30: 0.5 | L30: #N/A | M30: #N/A | N30: 0.9 | O30: #N/A | P30: #N/A | Q30: 0.5 | R30: #N/A | S30: #N/A | U30: µg(Ti)/L
A31: Antimoine | B31: 0.5 | C31: #N/A | D31: 0.5 | E31: 0.5 | F31: #N/A | G31: 0.5 | H31: 0.5 | I31: #N/A | J31: #N/A | K31: 0.5 | L31: #N/A | M31: #N/A | N31: 0.5 | O31: #N/A | P31: #N/A | Q31: 0.5 | R31: #N/A | S31: #N/A | U31: µg(Sb)/L
A32: Beryllium | B32: 0.01 | C32: #N/A | D32: 0.01 | E32: 0.01 | F32: #N/A | G32: 0.01 | H32: 0.01 | I32: #N/A | J32: #N/A | K32: 0.01 | L32: #N/A | M32: #N/A | N32: 0.01 | O32: #N/A | P32: #N/A | Q32: 0.01 | R32: #N/A | S32: #N/A | U32: µg(Be)/L
A33: Cobalt | B33: 0.05 | C33: #N/A | D33: 0.05 | E33: 0.05 | F33: #N/A | G33: 0.05 | H33: 0.05 | I33: #N/A | J33: #N/A | K33: 0.05 | L33: #N/A | M33: #N/A | N33: 0.05 | O33: #N/A | P33: #N/A | Q33: 0.05 | R33: #N/A | S33: #N/A | U33: µg(Co)/L
A34: Etain | B34: 0.5 | C34: #N/A | D34: 0.5 | E34: 0.5 | F34: #N/A | G34: 0.5 | H34: 0.5 | I34: #N/A | J34: #N/A | K34: 0.5 | L34: #N/A | M34: #N/A | N34: 0.5 | O34: #N/A | P34: #N/A | Q34: 0.5 | R34: #N/A | S34: #N/A | U34: µg(Sn)/L
A35: Plomb | B35: 0.05 | C35: #N/A | D35: 0.05 | E35: 0.05 | F35: #N/A | G35: 0.06 | H35: 0.05 | I35: 0.05 | J35: 0.05 | K35: 0.09 | L35: 1.49 | M35: 0.06 | N35: 0.05 | O35: 0.06 | P35: 0.05 | Q35: 0.05 | R35: 0.05 | S35: 0.05 | U35: µg(Pb)/L
A36: Zinc | B36: 4 | C36: #N/A | D36: 3 | E36: 2 | F36: #N/A | G36: 1 | H36: 1 | I36: #N/A | J36: #N/A | K36: 10 | L36: #N/A | M36: #N/A | N36: 1 | O36: #N/A | P36: #N/A | Q36: 2 | R36: #N/A | S36: #N/A | U36: µg(Zn)/L
A37: Vanadium | B37: 0.3 | C37: #N/A | D37: 0.3 | E37: 0.3 | F37: #N/A | G37: 0.3 | H37: 0.3 | I37: #N/A | J37: #N/A | K37: 0.3 | L37: #N/A | M37: #N/A | N37: 0.4 | O37: #N/A | P37: #N/A | Q37: 0.3 | R37: #N/A | S37: #N/A | U37: µg(V)/L
A38: Sélénium | B38: 0.3 | C38: #N/A | D38: 0.3 | E38: 0.3 | F38: #N/A | G38: 0.3 | H38: 0.3 | I38: #N/A | J38: #N/A | K38: 0.3 | L38: #N/A | M38: #N/A | N38: 0.3 | O38: #N/A | P38: #N/A | Q38: 0.3 | R38: #N/A | S38: #N/A | U38: µg(Se)/L
A39: Nickel | B39: 0.67 | C39: #N/A | D39: 0.5 | E39: 0.58 | F39: #N/A | G39: 0.53 | H39: 0.5 | I39: 0.55 | J39: 0.52 | K39: 0.68 | L39: 5.8 | M39: 0.66 | N39: 0.89 | O39: 0.6 | P39: 0.54 | Q39: 0.59 | R39: 0.69 | S39: 0.93 | U39: µg(Ni)/L
A40: Mercure | B40: 0.02 | C40: #N/A | D40: 0.02 | E40: 0.02 | F40: #N/A | G40: 0.02 | H40: 0.02 | I40: 0.02 | J40: 0.02 | K40: 0.02 | L40: 0.02 | M40: 0.02 | N40: 0.02 | O40: 0.02 | P40: 0.02 | Q40: 0.02 | R40: 0.02 | S40: 0.02 | U40: µg(Hg)/L
A41: Cadmium | B41: 0.03 | C41: #N/A | D41: 0.03 | E41: 0.03 | F41: #N/A | G41: 0.03 | H41: 0.03 | I41: 0.03 | J41: 0.03 | K41: 0.03 | L41: 0.03 | M41: 0.03 | N41: 0.03 | O41: 0.03 | P41: 0.03 | Q41: 0.03 | R41: 0.03 | S41: 0.03 | U41: µg(Cd)/L
A42: Chrome | B42: 0.5 | C42: #N/A | D42: 0.5 | E42: 0.5 | F42: #N/A | G42: 0.5 | H42: 0.5 | I42: #N/A | J42: #N/A | K42: 0.5 | L42: #N/A | M42: #N/A | N42: 0.5 | O42: #N/A | P42: #N/A | Q42: 0.5 | R42: #N/A | S42: #N/A | U42: µg(Cr)/L
...

Sheet Station 3
A1: Année | B1: 2010 | H1: 2011
A3: Mois | B3: Janvier | C3: Mars | D3: Mai | E3: Juillet | F3: Septembre | G3: Novembre | H3: Janvier | I3: Mars | J3: Mai | K3: Juillet | L3: Septembre | M3: Novembre
A5: Date | B5: 40196 | C5: 40254 | D5: 40315 | E5: 40378 | F5: 40441 | G5: 40497 | H5: 40560 | I5: 40623 | J5: 40679 | K5: 40742 | L5: 40805 | M5: 40861
A6: Paramètre | O6: Unité de mesure | U6: Unité de mesure
A7: Turbidité | B7: 15 | C7: 2.7 | D7: 5.1 | E7: 19 | F7: 2.6 | G7: 110 | H7: 4.5 | I7: 3.8 | J7: 4.9 | K7: 70 | L7: 18 | M7: 1 | O7: NTU
A8: Température | B8: 5.07 | C8: 8.2 | D8: 12.55 | E8: 21.6 | F8: 16.05 | G8: 8.7 | H8: 6.86 | I8: 9.51 | J8: 16.14 | K8: 15.67 | L8: 17.94 | M8: 10.87 | O8: °C
A9: pH | B9: 8.17 | C9: 8.26 | D9: 8.08 | E9: 8.03 | F9: 8 | G9: 8.2 | H9: 8.07 | I9: 8.59 | J9: 8.38 | K9: 8.28 | L9: 8.56 | M9: 8.27 | O9: unité pH
A10: Conductivité à 25°C | B10: 505 | C10: 362 | D10: 384 | E10: 281 | F10: 312 | G10: 297 | H10: 303 | I10: 322 | J10: 279 | K10: 307 | L10: 394 | M10: 199 | O10: µS/cm
A11: MeS | B11: 12 | C11: 2.6 | D11: 9.4 | E11: 20 | F11: 3.4 | G11: 70 | H11: 5.6 | I11: 2 | J11: 3.2 | K11: 61 | L11: 13 | M11: 2 | O11: mg/L
A12: Carbone organique | B12: 1.4 | C12: 1.2 | D12: 1.2 | E12: 1.2 | F12: 1.2 | G12: 2.4 | H12: 1.4 | I12: 1.5 | J12: 1.3 | K12: 1.9 | L12: 1.5 | M12: 4.6 | O12: mg(C)/L
A13: Oxygène dissous | B13: 12.56 | C13: 13.06 | D13: 11 | E13: 10.01 | F13: 8.37 | G13: 12.26 | H13: 12 | I13: 12.61 | J13: 8.18 | K13: 8.92 | L13: 9.45 | M13: 8.89 | O13: mg(O2)/L
A14: Oxygène dissous (saturation) | B14: 97.8 | C14: 112.1 | D14: 106.6 | E14: 102.3 | F14: 84.8 | G14: 108.8 | H14: 97.9 | I14: 109.3 | J14: 87.5 | K14: 90.5 | L14: 102.9 | M14: 84.2 | O14: %
A15: DBO | B15: 0.9 | C15: 1.4 | D15: 1.4 | E15: 0.5 | F15: 0.7 | G15: 0.5 | H15: 0.7 | I15: 2.1 | J15: 0.8 | K15: 0.6 | L15: 0.5 | M15: 0.8 | O15: mg(O2)/L
A16: DCO | B16: 5 | C16: 5 | D16: 6.6 | E16: 5 | F16: 5 | G16: 7.4 | H16: 5 | I16: 5.5 | J16: 5 | K16: 8.3 | L16: 5 | M16: 5 | O16: mg(O2)/L
A17: Azote Kjeldahl | B17: 1 | C17: 1 | D17: 1 | E17: 1 | F17: 1 | G17: 1 | H17: 1 | I17: 1 | J17: 1 | K17: 1 | L17: 1 | M17: 1 | O17: mg(N)/L
A18: Bendiocarbe | B18: 0.05 | C18: #N/A | D18: 0.05 | E18: 0.05 | F18: #N/A | G18: 0.05 | H18: 0.05 | I18: #N/A | J18: 0.05 | K18: 0.05 | L18: #N/A | M18: 0.05 | O18: µg/L
A19: Ammonium | B19: 0.14 | C19: 0.08 | D19: 0.09 | E19: 0.05 | F19: 0.05 | G19: 0.05 | H19: 0.06 | I19: 0.05 | J19: 0.15 | K19: 0.06 | L19: 0.06 | M19: 0.07 | O19: mg(NH4)/L
A20: Nitrites | B20: 0.04 | C20: 0.03 | D20: 0.04 | E20: 0.04 | F20: 0.05 | G20: 0.03 | H20: 0.03 | I20: 0.03 | J20: 0.1 | K20: 0.04 | L20: 0.03 | M20: 0.07 | O20: mg(NO2)/L
A21: Nitrates | B21: 4.9 | C21: 4.6 | D21: 2.9 | E21: 2 | F21: 2.9 | G21: 3.4 | H21: 4.1 | I21: 3.8 | J21: 3.2 | K21: 2.5 | L21: 2.1 | M21: 3.2 | O21: mg(NO3)/L
A22: Silice | B22: 3.556 | C22: 3.048 | D22: 2.413 | E22: 1.27 | F22: 1.27 | G22: 3.429 | H22: 3.048 | I22: 1.397 | J22: 2.286 | K22: 2.286 | L22: 1.524 | M22: 1.1 | O22: mg(SiO2)/L
A23: Phosphore total | B23: 0.04 | C23: 0.02 | D23: 0.03 | E23: 0.02 | F23: 0.02 | G23: 0.04 | H23: 0.02 | I23: 0.02 | J23: 0.04 | K23: 0.08 | L23: 0.03 | M23: 0.03 | O23: mg(P)/L
A24: Phosphates | B24: 0.084 | C24: 0.06 | D24: 0.04 | E24: 0.03 | F24: 0.05 | G24: 0.07 | H24: 0.06 | I24: 0.02 | J24: 0.1 | K24: 0.05 | L24: 0.07 | M24: 0.07 | O24: mg(PO4)/L
A25: Uranium | B25: 1.2 | C25: #N/A | D25: 1.3 | E25: 2 | F25: #N/A | G25: 0.62 | H25: 1.13 | I25: #N/A | J25: 1.33 | K25: 1.6 | L25: #N/A | M25: 1.89 | O25: µg(U)/L
A26: Bore | B26: 14 | C26: #N/A | D26: 13 | E26: 15 | F26: #N/A | G26: 10 | H26: 12 | I26: #N/A | J26: 13 | K26: 14 | L26: #N/A | M26: 14 | O26: µg(B)/L
A27: Argent | B27: 0.02 | C27: #N/A | D27: 0.2 | E27: 0.02 | F27: #N/A | G27: 0.02 | H27: 0.02 | I27: #N/A | J27: 0.02 | K27: 0.02 | L27: #N/A | M27: 0.02 | O27: µg(Ag)/L
A28: Arsenic | B28: 0.9 | C28: #N/A | D28: 1.1 | E28: 1.5 | F28: #N/A | G28: 0.9 | H28: 0.8 | I28: #N/A | J28: 1.4 | K28: 1.5 | L28: #N/A | M28: 1.2 | O28: µg(As)/L
A29: Aluminium | B29: #N/A | C29: #N/A | D29: #N/A | E29: #N/A | F29: #N/A | G29: #N/A | H29: #N/A | I29: #N/A | J29: #N/A | K29: #N/A | L29: #N/A | M29: #N/A | O29: µg(Al)/L
A30: Titane | B30: 0.6 | C30: #N/A | D30: 0.5 | E30: 0.5 | F30: #N/A | G30: 0.7 | H30: 0.5 | I30: #N/A | J30: 0.6 | K30: 1 | L30: #N/A | M30: 0.5 | O30: µg(Ti)/L
A31: Antimoine | B31: 0.5 | C31: #N/A | D31: 0.5 | E31: 0.5 | F31: #N/A | G31: 0.5 | H31: 0.5 | I31: #N/A | J31: 0.5 | K31: 0.5 | L31: #N/A | M31: 0.5 | O31: µg(Sb)/L
A32: Beryllium | B32: 0.01 | C32: #N/A | D32: 0.01 | E32: 0.01 | F32: #N/A | G32: 0.01 | H32: 0.01 | I32: #N/A | J32: 0.01 | K32: 0.01 | L32: #N/A | M32: 0.01 | O32: µg(Be)/L
A33: Cobalt | B33: 0.05 | C33: #N/A | D33: 0.05 | E33: 0.05 | F33: #N/A | G33: 0.06 | H33: 0.05 | I33: #N/A | J33: 0.05 | K33: 0.05 | L33: #N/A | M33: 0.05 | O33: µg(Co)/L
A34: Etain | B34: 0.5 | C34: #N/A | D34: 0.5 | E34: 0.5 | F34: #N/A | G34: 0.5 | H34: 0.5 | I34: #N/A | J34: 0.6 | K34: 0.5 | L34: #N/A | M34: 0.5 | O34: µg(Sn)/L
A35: Plomb | B35: 0.05 | C35: #N/A | D35: 0.05 | E35: 0.05 | F35: #N/A | G35: 0.05 | H35: 0.05 | I35: #N/A | J35: 0.05 | K35: 0.05 | L35: #N/A | M35: 0.05 | O35: µg(Pb)/L
A36: Zinc | B36: 4 | C36: #N/A | D36: 4 | E36: 3 | F36: #N/A | G36: 2 | H36: 3 | I36: #N/A | J36: 2 | K36: 1 | L36: #N/A | M36: 1 | O36: µg(Zn)/L
A37: Vanadium | B37: 0.3 | C37: #N/A | D37: 0.3 | E37: 0.3 | F37: #N/A | G37: 0.3 | H37: 0.3 | I37: #N/A | J37: 0.3 | K37: 0.4 | L37: #N/A | M37: 0.3 | O37: µg(V)/L
A38: Sélénium | B38: 0.3 | C38: #N/A | D38: 0.3 | E38: 0.3 | F38: #N/A | G38: 0.3 | H38: 0.3 | I38: #N/A | J38: 0.3 | K38: 0.3 | L38: #N/A | M38: 0.3 | O38: µg(Se)/L
A39: Nickel | B39: 0.6 | C39: #N/A | D39: 1.1 | E39: 1 | F39: #N/A | G39: 0.66 | H39: 0.55 | I39: #N/A | J39: 0.59 | K39: 0.78 | L39: #N/A | M39: 0.66 | O39: µg(Ni)/L
A40: Mercure | B40: 0.02 | C40: #N/A | D40: 0.02 | E40: 0.02 | F40: #N/A | G40: 0.02 | H40: 0.02 | I40: #N/A | J40: 0.02 | K40: 0.02 | L40: #N/A | M40: 0.02 | O40: µg(Hg)/L
A41: Cadmium | B41: 0.03 | C41: #N/A | D41: 0.03 | E41: 0.03 | F41: #N/A | G41: 0.03 | H41: 0.03 | I41: #N/A | J41: 0.03 | K41: 0.03 | L41: #N/A | M41: 0.03 | O41: µg(Cd)/L
... A43: Cuivre | B43: 0.93 | C43: #N/A | D43: 1 | E43: 0.71 | F43: #N/A | G43: 0.92 | H43: 0.77 | I43: #N/A | J43: 0.59 | K43: 1.1 | L43: #N/A | M43: 0.54 | O43: µg(Cu)/L
...

Sheet Station 4
A1: Année | B1: 2010 | N1: 2011
A3: Mois | B3: Janvier | C3: Février | D3: Mars | E3: Avril | F3: Mai | G3: Juin | H3: Juillet | J3: Septembre | K3: Octobre | L3: Novembre | M3: Décembre | N3: Février | O3: Avril | P3: Juin | S3: Décembre
A5: Date | B5: 40196 | C5: 40213 | D5: 40261 | E5: 40290 | F5: 40310 | G5: 40350 | H5: 40378 | I5: 40406 | J5: 40449 | K5: 40472 | L5: 40492 | M5: 40528 | N5: 40590 | O5: 40651 | P5: 40715 | Q5: 40774 | R5: 40840 | S5: 40891
A6: Paramètre | U6: Unité de mesure
A7: Turbidité | B7: #N/A | C7: 1.8 | D7: #N/A | E7: 4.3 | F7: #N/A | G7: 17 | H7: #N/A | I7: 7.2 | J7: #N/A | K7: 1.6 | L7: #N/A | M7: 4.9 | N7: 2.3 | O7: 3 | P7: 50 | Q7: 8.8 | R7: 5.5 | S7: 6.6 | U7: NTU
A8: Température | B8: 4.9 | C8: 5.2 | D8: 7.8 | E8: 11.7 | F8: 12 | G8: 14.2 | H8: 22.4 | I8: 17.8 | J8: 13.7 | K8: 11.4 | L8: 10.1 | M8: 3.8 | N8: 7.1 | O8: 13.6 | P8: 16.4 | Q8: 22.3 | R8: 12.2 | S8: 7.7 | U8: °C
A9: pH | B9: 8.05 | C9: 8.25 | D9: 7.7 | E9: 8.05 | F9: 8.3 | G9: 8.25 | H9: 8.3 | I9: 8.15 | J9: 8.1 | K9: 8.1 | L9: 7.6 | M9: 7.7 | N9: 8.2 | O9: 8.1 | P9: 8.1 | Q9: 8.1 | R9: 8.1 | S9: 8 | U9: unité pH
A10: Conductivité à 25°C | B10: 408 | C10: 340 | D10: 307 | E10: 357 | F10: 315 | G10: 332 | H10: 298 | I10: 296 | J10: 332 | K10: 338 | L10: 352 | M10: 354 | N10: 368 | O10: 327 | P10: 294 | Q10: 297 | R10: 331 | S10: 342 | U10: µS/cm
A11: MeS | B11: #N/A | C11: 2 | D11: #N/A | E11: 3.2 | F11: #N/A | G11: 18 | H11: #N/A | I11: 6.6 | J11: #N/A | K11: 2 | L11: #N/A | M11: 2.6 | N11: 2 | O11: 2 | P11: 38 | Q11: 4.6 | R11: 7.4 | S11: 10 | U11: mg/L
A12: Carbone organique | B12: #N/A | C12: 1.4 | D12: #N/A | E12: 1.5 | F12: #N/A | G12: 1.6 | H12: #N/A | I12: 1.4 | J12: #N/A | K12: 1.2 | L12: #N/A | M12: 1.6 | N12: 1.2 | O12: 1.4 | P12: 1.6 | Q12: 1.2 | R12: 1.3 | S12: 1.4 | U12: mg(C)/L
A13: Oxygène dissous | B13: 12.28 | C13: 13.54 | D13: 11.71 | E13: 10.82 | F13: 10.84 | G13: 10.57 | H13: 9.16 | I13: 9.34 | J13: 9.65 | K13: 11.11 | L13: 10.68 | M13: 12.13 | N13: 13.52 | O13: 11.2 | P13: 9.78 | Q13: 9.21 | R13: 10.17 | S13: 11.2 | U13: mg(O2)/L
A14: Oxygène dissous (saturation) | B14: 99.8 | C14: 108.5 | D14: 103.2 | E14: 103.2 | F14: 103.6 | G14: 106.8 | H14: 111.8 | I14: 99.9 | J14: 96.1 | K14: 102.1 | L14: 101.2 | M14: 94.9 | N14: 115.9 | O14: 110.7 | P14: 104.8 | Q14: 108.8 | R14: 99.2 | S14: 97.1 | U14: %
A15: DBO | B15: #N/A | C15: 0.5 | D15: #N/A | E15: 0.9 | F15: #N/A | G15: 1.4 | H15: #N/A | I15: 0.5 | J15: #N/A | K15: 1.2 | L15: #N/A | M15: 0.5 | N15: 0.9 | O15: 0.7 | P15: 1 | Q15: 0.5 | R15: 0.7 | S15: 1 | U15: mg(O2)/L
A16: DCO | B16: #N/A | C16: 5 | D16: #N/A | E16: 5 | F16: #N/A | G16: 5 | H16: #N/A | I16: 5 | J16: #N/A | K16: 5 | L16: #N/A | M16: 11 | N16: 5 | O16: 5.2 | P16: 6.5 | Q16: 5 | R16: 6 | S16: 5 | U16: mg(O2)/L
A17: Azote Kjeldahl | B17: #N/A | C17: 1 | D17: #N/A | E17: 1 | F17: #N/A | G17: 3.5 | H17: #N/A | I17: 1 | J17: #N/A | K17: 1 | L17: #N/A | M17: 1 | N17: 1 | O17: 1 | P17: 1.6 | Q17: 1 | R17: 1 | S17: 1 | U17: mg(N)/L
A18: Bendiocarbe | B18: 0.05 | C18: #N/A | D18: #N/A | E18: 0.05 | F18: #N/A | G18: #N/A | H18: 0.05 | I18: #N/A | J18: #N/A | K18: 0.05 | L18: #N/A | M18: #N/A | N18: 0.05 | O18: 0.05 | P18: #N/A | Q18: 0.05 | R18: #N/A | S18: 0.05 | U18: µg/L
A19: Ammonium | B19: #N/A | C19: 0.07 | D19: #N/A | E19: 0.21 | F19: #N/A | G19: 0.15 | H19: #N/A | I19: 0.05 | J19: #N/A | K19: 0.05 | L19: #N/A | M19: 0.06 | N19: 0.27 | O19: 0.08 | P19: 0.05 | Q19: 0.05 | R19: 0.07 | S19: 0.1 | U19: mg(NH4)/L
A20: Nitrites | B20: #N/A | C20: 0.03 | D20: #N/A | E20: 0.06 | F20: #N/A | G20: 0.05 | H20: #N/A | I20: 0.05 | J20: #N/A | K20: 0.1 | L20: #N/A | M20: 0.02 | N20: 0.05 | O20: 0.06 | P20: 0.04 | Q20: 0.04 | R20: 0.05 | S20: 0.06 | U20: mg(NO2)/L
A21: Nitrates | B21: #N/A | C21: 4 | D21: #N/A | E21: 4 | F21: #N/A | G21: 2.3 | H21: #N/A | I21: 2.9 | J21: #N/A | K21: 4.3 | L21: #N/A | M21: 3.2 | N21: 4.8 | O21: 3.4 | P21: 1.9 | Q21: 2 | R21: 3.2 | S21: 3.5 | U21: mg(NO3)/L
A22: Silice | B22: #N/A | C22: 2.667 | D22: #N/A | E22: 1.905 | F22: #N/A | G22: 2.54 | H22: #N/A | I22: 1.778 | J22: #N/A | K22: 1.905 | L22: #N/A | M22: 2.921 | N22: 2.032 | O22: 1.27 | P22: 2.667 | Q22: 1 | R22: 2.413 | S22: 2.4 | U22: mg(SiO2)/L
A23: Phosphore total | B23: #N/A | C23: 0.02 | D23: #N/A | E23: 0.02 | F23: #N/A | G23: 0.03 | H23: #N/A | I23: 0.03 | J23: #N/A | K23: 0.02 | L23: #N/A | M23: 0.02 | N23: 0.03 | O23: 0.03 | P23: 0.02 | Q23: 0.02 | R23: 0.038 | S23: 0.03 | U23: mg(P)/L
A24: Phosphates | B24: #N/A | C24: 0.05 | D24: #N/A | E24: 0.02 | F24: #N/A | G24: 0.04 | H24: #N/A | I24: 0.06 | J24: #N/A | K24: 0.06 | L24: #N/A | M24: 0.03 | N24: 0.06 | O24: 0.05 | P24: 0.03 | Q24: 0.04 | R24: 0.09 | S24: 0.08 | U24: mg(PO4)/L
A25: Uranium | B25: 0.82 | C25: #N/A | D25: #N/A | E25: 0.95 | F25: #N/A | G25: #N/A | H25: 1.6 | I25: #N/A | J25: #N/A | K25: 1.6 | L25: #N/A | M25: #N/A | N25: 1.5 | O25: 1.43 | P25: #N/A | Q25: 1.93 | R25: #N/A | S25: 1.33 | U25: µg(U)/L
A26: Bore | B26: 17 | C26: #N/A | D26: #N/A | E26: 13 | F26: #N/A | G26: #N/A | H26: 16 | I26: #N/A | J26: #N/A | K26: 15 | L26: #N/A | M26: #N/A | N26: 15 | O26: 14 | P26: #N/A | Q26: 14 | R26: #N/A | S26: 13 | U26: µg(B)/L
A27: Argent | B27: 0.02 | C27: #N/A | D27: #N/A | E27: 0.02 | F27: #N/A | G27: #N/A | H27: 0.02 | I27: #N/A | J27: #N/A | K27: 0.02 | L27: #N/A | M27: #N/A | N27: 0.02 | O27: 0.02 | P27: #N/A | Q27: 0.02 | R27: #N/A | S27: 0.02 | U27: µg(Ag)/L
A28: Arsenic | B28: 0.6 | C28: #N/A | D28: #N/A | E28: 0.9 | F28: #N/A | G28: #N/A | H28: 2.2 | I28: #N/A | J28: #N/A | K28: 1.4 | L28: #N/A | M28: #N/A | N28: 1 | O28: 1 | P28: #N/A | Q28: 1.7 | R28: #N/A | S28: 0.9 | U28: µg(As)/L
A29: Aluminium | B29: #N/A | C29: #N/A | D29: #N/A | E29: #N/A | F29: #N/A | G29: #N/A | H29: #N/A | I29: #N/A | J29: #N/A | K29: #N/A | L29: #N/A | M29: #N/A | N29: #N/A | O29: #N/A | P29: #N/A | Q29: #N/A | R29: #N/A | S29: #N/A | U29: µg(Al)/L
A30: Titane | B30: 0.7 | C30: #N/A | D30: #N/A | E30: 0.5 | F30: #N/A | G30: #N/A | H30: 0.5 | I30: #N/A | J30: #N/A | K30: 0.5 | L30: #N/A | M30: #N/A | N30: 0.5 | O30: 0.5 | P30: #N/A | Q30: 0.5 | R30: #N/A | S30: 0.6 | U30: µg(Ti)/L
A31: Antimoine | B31: 0.5 | C31: #N/A | D31: #N/A | E31: 0.5 | F31: #N/A | G31: #N/A | H31: 0.5 | I31: #N/A | J31: #N/A | K31: 0.5 | L31: #N/A | M31: #N/A | N31: 0.5 | O31: 0.5 | P31: #N/A | Q31: 0.5 | R31: #N/A | S31: 0.5 | U31: µg(Sb)/L
A32: Beryllium | B32: 0.01 | C32: #N/A | D32: #N/A | E32: 0.01 | F32: #N/A | G32: #N/A | H32: 0.01 | I32: #N/A | J32: #N/A | K32: 0.01 | L32: #N/A | M32: #N/A | N32: 0.01 | O32: 0.01 | P32: #N/A | Q32: 0.01 | R32: #N/A | S32: 0.01 | U32: µg(Be)/L
A33: Cobalt | B33: 0.05 | C33: #N/A | D33: #N/A | E33: 0.05 | F33: #N/A | G33: #N/A | H33: 0.05 | I33: #N/A | J33: #N/A | K33: 0.05 | L33: #N/A | M33: #N/A | N33: 0.05 | O33: 0.05 | P33: #N/A | Q33: 0.05 | R33: #N/A | S33: 0.05 | U33: µg(Co)/L
A34: Etain | B34: 0.5 | C34: #N/A | D34: #N/A | E34: 0.5 | F34: #N/A | G34: #N/A | H34: 0.5 | I34: #N/A | J34: #N/A | K34: 0.5 | L34: #N/A | M34: #N/A | N34: 0.5 | O34: 0.5 | P34: #N/A | Q34: 0.5 | R34: #N/A | S34: 0.5 | U34: µg(Sn)/L
A35: Plomb | B35: 0.05 | C35: 0.05 | D35: 0.05 | E35: 0.05 | F35: 0.05 | G35: 0.05 | H35: 0.05 | I35: 0.05 | J35: 0.05 | K35: 0.05 | L35: 0.05 | M35: 0.05 | N35: 0.05 | O35: 0.05 | P35: #N/A | Q35: 0.05 | R35: #N/A | S35: 0.05 | U35: µg(Pb)/L
A36: Zinc | B36: 2 | C36: #N/A | D36: #N/A | E36: 2 | F36: #N/A | G36: #N/A | H36: 1 | I36: #N/A | J36: #N/A | K36: 2 | L36: #N/A | M36: #N/A | N36: 1 | O36: 2 | P36: #N/A | Q36: 2 | R36: #N/A | S36: 1 | U36: µg(Zn)/L
A37: Vanadium | B37: 0.3 | C37: #N/A | D37: #N/A | E37: 0.3 | F37: #N/A | G37: #N/A | H37: 0.3 | I37: #N/A | J37: #N/A | K37: 0.3 | L37: #N/A | M37: #N/A | N37: 0.3 | O37: 0.3 | P37: #N/A | Q37: 0.3 | R37: #N/A | S37: 0.3 | U37: µg(V)/L
A38: Sélénium | B38: 0.3 | C38: #N/A | D38: #N/A | E38: 0.3 | F38: #N/A | G38: #N/A | H38: 0.3 | I38: #N/A | J38: #N/A | K38: 0.3 | L38: #N/A | M38: #N/A | N38: 0.3 | O38: 0.3 | P38: #N/A | Q38: 0.3 | R38: #N/A | S38: 0.3 | U38: µg(Se)/L
A39: Nickel | B39: 1 | C39: 0.68 | D39: 0.5 | E39: 0.5 | F39: 0.99 | G39: 0.7 | H39: 1 | I39: 0.87 | J39: 0.73 | K39: 0.85 | L39: 1 | M39: 0.64 | N39: 0.78 | O39: 0.73 | P39: #N/A | Q39: 0.6 | R39: #N/A | S39: 0.68 | U39: µg(Ni)/L
A40: Mercure | B40: 0.02 | C40: 0.02 | D40: 0.02 | E40: 0.02 | F40: 0.14 | G40: 0.02 | H40: 0.02 | I40: 0.02 | J40: 0.02 | K40: 0.02 | L40: 0.02 | M40: 0.02 | N40: 0.02 | O40: 0.02 | P40: #N/A | Q40: 0.02 | R40: #N/A | S40: 0.02 | U40: µg(Hg)/L
A41: Cadmium | B41: 0.03 | C41: 0.03 | D41: 0.03 | E41: 0.03 | F41: 0.03 | G41: 0.03 | H41: 0.03 | I41: 0.03 | J41: 0.03 | K41: 0.03 | L41: 0.03 | M41: 0.03 | N41: 0.03 | O41: 0.03 | P41: #N/A | Q41: 0.03 | R41: #N/A | S41: 0.03 | U41: µg(Cd)/L
A42: Chrome | B42: 1 | C42: #N/A | D42: #N/A | E42: 0.5 | F42: #N/A | G42: #N/A | H42: 0.5 | I42: #N/A | J42: #N/A | K42: 0.5 | L42: #N/A | M42: #N/A | N42: 0.5 | O42: 0.5 | P42: #N/A | Q42: 0.5 | R42: #N/A | S42: 0.5 | U42: µg(Cr)/L
...
