Workbook
Name budget: #REF!
Name compte: #REF!
Name HYPA: #REF!
Name HypBatt: #REF!
Name HYPT: #REF!
Name HYPT1: #REF!
Name HYPT2: #REF!
Name HYPT3: #REF!
Name HYPT4: #REF!
Name SalairesINTERIM: #REF!
Name SalairesPRESTA: #REF!
Name SalairesPVI: #REF!
Name salairesTOT: #REF!
Name section: #REF!
Name service: #REF!
Name SERVICES: '[1]détail listes déroulantes'!$A$28:$C$44
Name statuts: DIVERS!$E$2:$E$6
Name Tableau_TxHRS: DIVERS!$A$2:$C$11
Name TxBE: DIVERS!$C$3
Name TxESCAL: DIVERS!$C$2
Name TxGTIE: DIVERS!$C$5
Name txHRS: DIVERS!$A$1:$C$11
Name TxMNT: DIVERS!$C$6
Name TxPROD: DIVERS!$C$8
Name TxSRS: DIVERS!$C$9

Sheet DIVERS
A1: Moypro | B1: ProjHRS | C1: txHRS | E1: statuts | G1: Type projet | I1: PRODUITS détail | K1: Client | M1: Type ligne
A2: Qté MO ESC | B2: SHRSSRSCEC | C2: -47.150192 | E2: Prév | G2: VDP | M2: Acompte | N2: Tot VTE
A3: Qté MO BE | B3: SHRSSIPBEX | C3: -60.808225 | E3: Acompte | M3: CA | N3: Tot VTE
A4: FG | E4: Facturé | M4: Subventions | N4: Tot VTE
A5: Qté MO GTIE | B5: SHRSSRSGTI | C5: -74.831458 | E5: Cdec | I5: GTIES | M5: TEC | N5: €TEC FERRRO-R&D
A6: Qté MO MNT | B6: SHRSSIPMNT | C6: -27.658063 | E6: Négo | M6: Achats pièces | N6: €ACH ProdPVI
A7: Qté MO PR | B7: SSCEPR | C7: -80 | M7: Achats prestations | N7: €ACH Sces+div
A8: Qté MO PROD | B8: SHRSPRO | C8: -43.110546 | M8: Qté MO ESC | N8: Qté MO ESC
A9: Qté MO SRS | B9: SHRSSRSARZ | C9: -39.608468 | M9: Qté MO BE | N9: Qté MO BE
M10: Qté MO GTIE | N10: Qté MO GTIE
M11: Qté MO MNT | N11: Qté MO MNT
M12: Qté MO PR | N12: Qté MO PR
A13: TAUX FG | B13: -0.36140262 | M13: Qté MO PROD | N13: Qté MO PROD
M14: Qté MO SRS | N14: Qté MO SRS
M15: MO
M16: FG
M17: TOTAL
K24: NA

Sheet LIBELLE
A1: projet | B1: Libellé | C1: PRODUIT | D1: Type projet | E1: STATUT PROJET | F1: CLIENT
A2: SRS global | B2: Global SRS | C2: GTIES | D2: VDP | E2: Prév | F2: NA
A3: VI gaz | B3: MIDLUM_PREMIUM | C3: GTIES | D3: VDP | E3: Prév | F3: NA
A4: O2X/APT | B4: OREOS 2X_APTINEO | C4: GTIES | D4: VDP | E4: Prév | F4: NA
A5: O4X | B5: OREOS 4X | C5: GTIES | D5: VDP | E5: Prév | F5: NA
A6: MAX | B6: MAXITY | C6: GTIES | D6: VDP | E6: Prév | F6: NA
A7: C-LESS | B7: C-LESS 26T | C7: GTIES | D7: VDP | E7: Prév | F7: NA
A8: RNT (X002109) | B8: Remise à Niveau Technique | C8: GTIES | D8: VDP | E8: Prév | F8: NA
A9: G000000 | B9: Recette FG | C9: GTIES | D9: VDP | E9: Prév | F9: NA
A10: CKD | B10: Kits CKD (Haide,…) | C10: GTIES | D10: VDP | E10: Prév | F10: NA
A11: GTIES - A RENSEIGNER | B11: GTIES - A RENSEIGNER | C11: GTIES | D11: VDP | E11: Prév | F11: NA

Sheet BASE BUDGETS
A1: Projet | B1: Libellé | C1: Type projet | D1: Client | E1: PRODUIT | F1: STATUT PROJET | G1: Type ligne | H1: TYPE Autre | I1: Cumulé à fin 2014 | J1: 31/01/2015 | K1: 28/02/2015 | L1: 31/03/2015 | M1: 30/04/2015 | N1: 31/05/2015 | O1: 30/06/2015 | P1: 31/07/2015 | Q1: 31/08/2015 | R1: 30/09/2015 | S1: 31/10/2015 | T1: 30/11/2015 | U1: 31/12/2015 | V1: TOTAL 2015
A2: SRS global | B2: =VLOOKUP($A2,LIBELLE!$A:$B,2,FALSE) -> Global SRS | C2: =VLOOKUP($A2,LIBELLE!A:D,4,FALSE) -> VDP | D2: =VLOOKUP($A2,LIBELLE!A:F,6,FALSE) -> NA | E2: =VLOOKUP($A2,LIBELLE!$A:$C,3,FALSE) -> GTIES | F2: =IF($G2="Acompte","Acompte",VLOOKUP($A2,LIBELLE!A:E,5,FALSE)) -> Prév | G2: CA | H2: =IF(ISNA(VLOOKUP($G2,DIVERS!$M$1:$N$15,2,FALSE)),"",VLOOKUP($G2,DIVERS!$M$1:$N$15,2,FALSE)) -> Tot VTE | J2: 0 | V2: =SUM(Tableau3[[#This Row],[31/01/2015]:[31/12/2015]]) -> 0
A3: SRS global | B3: =VLOOKUP($A3,LIBELLE!$A:$B,2,FALSE) -> Global SRS | C3: =VLOOKUP($A3,LIBELLE!A:D,4,FALSE) -> VDP | D3: =VLOOKUP($A3,LIBELLE!A:F,6,FALSE) -> NA | E3: =VLOOKUP($A3,LIBELLE!$A:$C,3,FALSE) -> GTIES | F3: =IF($G3="Acompte","Acompte",VLOOKUP($A3,LIBELLE!A:E,5,FALSE)) -> Prév | G3: TEC | H3: =IF(ISNA(VLOOKUP($G3,DIVERS!$M$1:$N$15,2,FALSE)),"",VLOOKUP($G3,DIVERS!$M$1:$N$15,2,FALSE)) -> €TEC FERRRO-R&D | V3: =SUM(Tableau3[[#This Row],[31/01/2015]:[31/12/2015]]) -> 0
A4: SRS global | B4: =VLOOKUP($A4,LIBELLE!$A:$B,2,FALSE) -> Global SRS | C4: =VLOOKUP($A4,LIBELLE!A:D,4,FALSE) -> VDP | D4: =VLOOKUP($A4,LIBELLE!A:F,6,FALSE) -> NA | E4: =VLOOKUP($A4,LIBELLE!$A:$C,3,FALSE) -> GTIES | F4: =IF($G4="Acompte","Acompte",VLOOKUP($A4,LIBELLE!A:E,5,FALSE)) -> Prév | G4: Achats pièces | H4: =IF(ISNA(VLOOKUP($G4,DIVERS!$M$1:$N$15,2,FALSE)),"",VLOOKUP($G4,DIVERS!$M$1:$N$15,2,FALSE)) -> €ACH ProdPVI | J4: -4103 | K4: -1000 | L4: -1000 | M4: -1000 | N4: -1000 | O4: -1000 | P4: -1000 | Q4: -1000 | R4: -1000 | S4: -1000 | T4: -1000 | U4: -1000 | V4: =SUM(Tableau3[[#This Row],[31/01/2015]:[31/12/2015]]) -> -15103
A5: SRS global | B5: =VLOOKUP($A5,LIBELLE!$A:$B,2,FALSE) -> Global SRS | C5: =VLOOKUP($A5,LIBELLE!A:D,4,FALSE) -> VDP | D5: =VLOOKUP($A5,LIBELLE!A:F,6,FALSE) -> NA | E5: =VLOOKUP($A5,LIBELLE!$A:$C,3,FALSE) -> GTIES | F5: =IF($G5="Acompte","Acompte",VLOOKUP($A5,LIBELLE!A:E,5,FALSE)) -> Prév | G5: Achats prestations | H5: =IF(ISNA(VLOOKUP($G5,DIVERS!$M$1:$N$15,2,FALSE)),"",VLOOKUP($G5,DIVERS!$M$1:$N$15,2,FALSE)) -> €ACH Sces+div | V5: =SUM(Tableau3[[#This Row],[31/01/2015]:[31/12/2015]]) -> 0
A6: SRS global | B6: =VLOOKUP($A6,LIBELLE!$A:$B,2,FALSE) -> Global SRS | C6: =VLOOKUP($A6,LIBELLE!A:D,4,FALSE) -> VDP | D6: =VLOOKUP($A6,LIBELLE!A:F,6,FALSE) -> NA | E6: =VLOOKUP($A6,LIBELLE!$A:$C,3,FALSE) -> GTIES | F6: =IF($G6="Acompte","Acompte",VLOOKUP($A6,LIBELLE!A:E,5,FALSE)) -> Prév | G6: Qté MO GTIE | H6: =IF(ISNA(VLOOKUP($G6,DIVERS!$M$1:$N$15,2,FALSE)),"",VLOOKUP($G6,DIVERS!$M$1:$N$15,2,FALSE)) -> Qté MO GTIE | J6: 21 | V6: =SUM(Tableau3[[#This Row],[31/01/2015]:[31/12/2015]]) -> 21
A7: SRS global | B7: =VLOOKUP($A7,LIBELLE!$A:$B,2,FALSE) -> Global SRS | C7: =VLOOKUP($A7,LIBELLE!A:D,4,FALSE) -> VDP | D7: =VLOOKUP($A7,LIBELLE!A:F,6,FALSE) -> NA | E7: =VLOOKUP($A7,LIBELLE!$A:$C,3,FALSE) -> GTIES | F7: =IF($G7="Acompte","Acompte",VLOOKUP($A7,LIBELLE!A:E,5,FALSE)) -> Prév | G7: Qté MO SRS | H7: =IF(ISNA(VLOOKUP($G7,DIVERS!$M$1:$N$15,2,FALSE)),"",VLOOKUP($G7,DIVERS!$M$1:$N$15,2,FALSE)) -> Qté MO SRS | J7: 27 | K7: 30 | L7: 30 | M7: 30 | N7: 30 | O7: 30 | P7: 30 | Q7: =30-18 -> 12 | R7: 30 | S7: 30 | T7: 30 | U7: 30 | V7: =SUM(Tableau3[[#This Row],[31/01/2015]:[31/12/2015]]) -> 339
A8: SRS global | B8: =VLOOKUP($A8,LIBELLE!$A:$B,2,FALSE) -> Global SRS | C8: =VLOOKUP($A8,LIBELLE!A:D,4,FALSE) -> VDP | D8: =VLOOKUP($A8,LIBELLE!A:F,6,FALSE) -> NA | E8: =VLOOKUP($A8,LIBELLE!$A:$C,3,FALSE) -> GTIES | F8: =IF($G8="Acompte","Acompte",VLOOKUP($A8,LIBELLE!A:E,5,FALSE)) -> Prév | G8: MO | H8: =IF(ISNA(VLOOKUP($G8,DIVERS!$M$1:$N$15,2,FALSE)),"",VLOOKUP($G8,DIVERS!$M$1:$N$15,2,FALSE)) -> 0 | J8: =J6*TxGTIE+J7*TxSRS -> -2640.8893 | K8: =K6*TxGTIE+K7*TxSRS -> -1188.254 | L8: =L6*TxGTIE+L7*TxSRS -> -1188.254 | M8: =M6*TxGTIE+M7*TxSRS -> -1188.254 | N8: =N6*TxGTIE+N7*TxSRS -> -1188.254 | O8: =O6*TxGTIE+O7*TxSRS -> -1188.254 | P8: =P6*TxGTIE+P7*TxSRS -> -1188.254 | Q8: =Q6*TxGTIE+Q7*TxSRS -> -475.30161 | ... U8: =U6*TxGTIE+U7*TxSRS -> -1188.254 | V8: =SUM(Tableau3[[#This Row],[31/01/2015]:[31/12/2015]]) -> -14998.731
A9: SRS global | B9: =VLOOKUP($A9,LIBELLE!$A:$B,2,FALSE) -> Global SRS | C9: =VLOOKUP($A9,LIBELLE!A:D,4,FALSE) -> VDP | D9: =VLOOKUP($A9,LIBELLE!A:F,6,FALSE) -> NA | E9: =VLOOKUP($A9,LIBELLE!$A:$C,3,FALSE) -> GTIES | F9: =IF($G9="Acompte","Acompte",VLOOKUP($A9,LIBELLE!A:E,5,FALSE)) -> Prév | G9: FG | H9: =IF(ISNA(VLOOKUP($G9,DIVERS!$M$1:$N$15,2,FALSE)),"",VLOOKUP($G9,DIVERS!$M$1:$N$15,2,FALSE)) | J9: =SUMIF($G2:$G8,"=CA",J2:J8)*DIVERS!$B$13 -> 0 | K9: =SUMIF($G2:$G8,"=CA",K2:K8)*DIVERS!$B$13 -> 0 | L9: =SUMIF($G2:$G8,"=CA",L2:L8)*DIVERS!$B$13 -> 0 | M9: =SUMIF($G2:$G8,"=CA",M2:M8)*DIVERS!$B$13 -> 0 | N9: =SUMIF($G2:$G8,"=CA",N2:N8)*DIVERS!$B$13 -> 0 | O9: =SUMIF($G2:$G8,"=CA",O2:O8)*DIVERS!$B$13 -> 0 | P9: =SUMIF($G2:$G8,"=CA",P2:P8)*DIVERS!$B$13 -> 0 | Q9: =SUMIF($G2:$G8,"=CA",Q2:Q8)*DIVERS!$B$13 -> 0 | ... U9: =SUMIF($G2:$G8,"=CA",U2:U8)*DIVERS!$B$13 -> 0 | V9: =SUM(Tableau3[[#This Row],[31/01/2015]:[31/12/2015]]) -> 0
A10: SRS global | B10: =VLOOKUP($A10,LIBELLE!$A:$B,2,FALSE) -> Global SRS | C10: =VLOOKUP($A10,LIBELLE!A:D,4,FALSE) -> VDP | D10: =VLOOKUP($A10,LIBELLE!A:F,6,FALSE) -> NA | E10: =VLOOKUP($A10,LIBELLE!$A:$C,3,FALSE) -> GTIES | F10: =IF($G10="Acompte","Acompte",VLOOKUP($A10,LIBELLE!A:E,5,FALSE)) -> Prév | G10: TOTAL | H10: =IF(ISNA(VLOOKUP($G10,DIVERS!$M$1:$N$15,2,FALSE)),"",VLOOKUP($G10,DIVERS!$M$1:$N$15,2,FALSE)) | J10: =SUM(J2:J5,J8:J9) -> -6743.8893 | K10: =SUM(K2:K5,K8:K9) -> -2188.254 | L10: =SUM(L2:L5,L8:L9) -> -2188.254 | M10: =SUM(M2:M5,M8:M9) -> -2188.254 | N10: =SUM(N2:N5,N8:N9) -> -2188.254 | O10: =SUM(O2:O5,O8:O9) -> -2188.254 | P10: =SUM(P2:P5,P8:P9) -> -2188.254 | Q10: =SUM(Q2:Q5,Q8:Q9) -> -1475.3016 | ... U10: =SUM(U2:U5,U8:U9) -> -2188.254 | V10: =SUM(Tableau3[[#This Row],[31/01/2015]:[31/12/2015]]) -> -30101.731
A11: VI gaz | B11: =VLOOKUP($A11,LIBELLE!$A:$B,2,FALSE) -> MIDLUM_PREMIUM | C11: =VLOOKUP($A11,LIBELLE!A:D,4,FALSE) -> VDP | D11: =VLOOKUP($A11,LIBELLE!A:F,6,FALSE) -> NA | E11: =VLOOKUP($A11,LIBELLE!$A:$C,3,FALSE) -> GTIES | F11: =IF($G11="Acompte","Acompte",VLOOKUP($A11,LIBELLE!A:E,5,FALSE)) -> Prév | G11: CA | H11: =IF(ISNA(VLOOKUP($G11,DIVERS!$M$1:$N$15,2,FALSE)),"",VLOOKUP($G11,DIVERS!$M$1:$N$15,2,FALSE)) -> Tot VTE | J11: 0 | V11: =SUM(Tableau3[[#This Row],[31/01/2015]:[31/12/2015]]) -> 0
A12: VI gaz | B12: =VLOOKUP($A12,LIBELLE!$A:$B,2,FALSE) -> MIDLUM_PREMIUM | C12: =VLOOKUP($A12,LIBELLE!A:D,4,FALSE) -> VDP | D12: =VLOOKUP($A12,LIBELLE!A:F,6,FALSE) -> NA | E12: =VLOOKUP($A12,LIBELLE!$A:$C,3,FALSE) -> GTIES | F12: =IF($G12="Acompte","Acompte",VLOOKUP($A12,LIBELLE!A:E,5,FALSE)) -> Prév | G12: TEC | H12: =IF(ISNA(VLOOKUP($G12,DIVERS!$M$1:$N$15,2,FALSE)),"",VLOOKUP($G12,DIVERS!$M$1:$N$15,2,FALSE)) -> €TEC FERRRO-R&D | V12: =SUM(Tableau3[[#This Row],[31/01/2015]:[31/12/2015]]) -> 0
A13: VI gaz | B13: =VLOOKUP($A13,LIBELLE!$A:$B,2,FALSE) -> MIDLUM_PREMIUM | C13: =VLOOKUP($A13,LIBELLE!A:D,4,FALSE) -> VDP | D13: =VLOOKUP($A13,LIBELLE!A:F,6,FALSE) -> NA | E13: =VLOOKUP($A13,LIBELLE!$A:$C,3,FALSE) -> GTIES | F13: =IF($G13="Acompte","Acompte",VLOOKUP($A13,LIBELLE!A:E,5,FALSE)) -> Prév | G13: Achats pièces | H13: =IF(ISNA(VLOOKUP($G13,DIVERS!$M$1:$N$15,2,FALSE)),"",VLOOKUP($G13,DIVERS!$M$1:$N$15,2,FALSE)) -> €ACH ProdPVI | J13: -169.76 | K13: -2200 | L13: -2200 | M13: -2200 | N13: -2200 | O13: -2200 | P13: -2200 | Q13: -2200 | R13: -2200 | S13: -2200 | T13: -2200 | U13: -2200 | V13: =SUM(Tableau3[[#This Row],[31/01/2015]:[31/12/2015]]) -> -24369.76
A14: VI gaz | B14: =VLOOKUP($A14,LIBELLE!$A:$B,2,FALSE) -> MIDLUM_PREMIUM | C14: =VLOOKUP($A14,LIBELLE!A:D,4,FALSE) -> VDP | D14: =VLOOKUP($A14,LIBELLE!A:F,6,FALSE) -> NA | E14: =VLOOKUP($A14,LIBELLE!$A:$C,3,FALSE) -> GTIES | F14: =IF($G14="Acompte","Acompte",VLOOKUP($A14,LIBELLE!A:E,5,FALSE)) -> Prév | G14: Achats prestations | H14: =IF(ISNA(VLOOKUP($G14,DIVERS!$M$1:$N$15,2,FALSE)),"",VLOOKUP($G14,DIVERS!$M$1:$N$15,2,FALSE)) -> €ACH Sces+div | J14: 3708 | K14: -15691 | V14: =SUM(Tableau3[[#This Row],[31/01/2015]:[31/12/2015]]) -> -11983
A15: VI gaz | B15: =VLOOKUP($A15,LIBELLE!$A:$B,2,FALSE) -> MIDLUM_PREMIUM | C15: =VLOOKUP($A15,LIBELLE!A:D,4,FALSE) -> VDP | D15: =VLOOKUP($A15,LIBELLE!A:F,6,FALSE) -> NA | E15: =VLOOKUP($A15,LIBELLE!$A:$C,3,FALSE) -> GTIES | F15: =IF($G15="Acompte","Acompte",VLOOKUP($A15,LIBELLE!A:E,5,FALSE)) -> Prév | G15: Qté MO GTIE | H15: =IF(ISNA(VLOOKUP($G15,DIVERS!$M$1:$N$15,2,FALSE)),"",VLOOKUP($G15,DIVERS!$M$1:$N$15,2,FALSE)) -> Qté MO GTIE | J15: 27 | K15: 5 | L15: 5 | M15: 5 | N15: 5 | O15: 5 | P15: 5 | Q15: 5 | R15: 5 | S15: 5 | T15: 5 | U15: 5 | V15: =SUM(Tableau3[[#This Row],[31/01/2015]:[31/12/2015]]) -> 82
A16: VI gaz | B16: =VLOOKUP($A16,LIBELLE!$A:$B,2,FALSE) -> MIDLUM_PREMIUM | C16: =VLOOKUP($A16,LIBELLE!A:D,4,FALSE) -> VDP | D16: =VLOOKUP($A16,LIBELLE!A:F,6,FALSE) -> NA | E16: =VLOOKUP($A16,LIBELLE!$A:$C,3,FALSE) -> GTIES | F16: =IF($G16="Acompte","Acompte",VLOOKUP($A16,LIBELLE!A:E,5,FALSE)) -> Prév | G16: Qté MO SRS | H16: =IF(ISNA(VLOOKUP($G16,DIVERS!$M$1:$N$15,2,FALSE)),"",VLOOKUP($G16,DIVERS!$M$1:$N$15,2,FALSE)) -> Qté MO SRS | J16: 20.85 | V16: =SUM(Tableau3[[#This Row],[31/01/2015]:[31/12/2015]]) -> 20.85
A17: VI gaz | B17: =VLOOKUP($A17,LIBELLE!$A:$B,2,FALSE) -> MIDLUM_PREMIUM | C17: =VLOOKUP($A17,LIBELLE!A:D,4,FALSE) -> VDP | D17: =VLOOKUP($A17,LIBELLE!A:F,6,FALSE) -> NA | E17: =VLOOKUP($A17,LIBELLE!$A:$C,3,FALSE) -> GTIES | F17: =IF($G17="Acompte","Acompte",VLOOKUP($A17,LIBELLE!A:E,5,FALSE)) -> Prév | G17: MO | H17: =IF(ISNA(VLOOKUP($G17,DIVERS!$M$1:$N$15,2,FALSE)),"",VLOOKUP($G17,DIVERS!$M$1:$N$15,2,FALSE)) -> 0 | J17: =J15*TxGTIE+J16*TxSRS -> -2846.2859 | K17: =K15*TxGTIE+K16*TxSRS -> -374.15729 | L17: =L15*TxGTIE+L16*TxSRS -> -374.15729 | M17: =M15*TxGTIE+M16*TxSRS -> -374.15729 | N17: =N15*TxGTIE+N16*TxSRS -> -374.15729 | O17: =O15*TxGTIE+O16*TxSRS -> -374.15729 | P17: =P15*TxGTIE+P16*TxSRS -> -374.15729 | Q17: =Q15*TxGTIE+Q16*TxSRS -> -374.15729 | ... U17: =U15*TxGTIE+U16*TxSRS -> -374.15729 | V17: =SUM(Tableau3[[#This Row],[31/01/2015]:[31/12/2015]]) -> -6962.0161
A18: VI gaz | B18: =VLOOKUP($A18,LIBELLE!$A:$B,2,FALSE) -> MIDLUM_PREMIUM | C18: =VLOOKUP($A18,LIBELLE!A:D,4,FALSE) -> VDP | D18: =VLOOKUP($A18,LIBELLE!A:F,6,FALSE) -> NA | E18: =VLOOKUP($A18,LIBELLE!$A:$C,3,FALSE) -> GTIES | F18: =IF($G18="Acompte","Acompte",VLOOKUP($A18,LIBELLE!A:E,5,FALSE)) -> Prév | G18: FG | H18: =IF(ISNA(VLOOKUP($G18,DIVERS!$M$1:$N$15,2,FALSE)),"",VLOOKUP($G18,DIVERS!$M$1:$N$15,2,FALSE)) | J18: =SUMIF($G11:$G17,"=CA",J11:J17)*DIVERS!$B$13 -> 0 | K18: =SUMIF($G11:$G17,"=CA",K11:K17)*DIVERS!$B$13 -> 0 | L18: =SUMIF($G11:$G17,"=CA",L11:L17)*DIVERS!$B$13 -> 0 | M18: =SUMIF($G11:$G17,"=CA",M11:M17)*DIVERS!$B$13 -> 0 | N18: =SUMIF($G11:$G17,"=CA",N11:N17)*DIVERS!$B$13 -> 0 | O18: =SUMIF($G11:$G17,"=CA",O11:O17)*DIVERS!$B$13 -> 0 | P18: =SUMIF($G11:$G17,"=CA",P11:P17)*DIVERS!$B$13 -> 0 | Q18: =SUMIF($G11:$G17,"=CA",Q11:Q17)*DIVERS!$B$13 -> 0 | ... U18: =SUMIF($G11:$G17,"=CA",U11:U17)*DIVERS!$B$13 -> 0 | V18: =SUM(Tableau3[[#This Row],[31/01/2015]:[31/12/2015]]) -> 0
A19: VI gaz | B19: =VLOOKUP($A19,LIBELLE!$A:$B,2,FALSE) -> MIDLUM_PREMIUM | C19: =VLOOKUP($A19,LIBELLE!A:D,4,FALSE) -> VDP | D19: =VLOOKUP($A19,LIBELLE!A:F,6,FALSE) -> NA | E19: =VLOOKUP($A19,LIBELLE!$A:$C,3,FALSE) -> GTIES | F19: =IF($G19="Acompte","Acompte",VLOOKUP($A19,LIBELLE!A:E,5,FALSE)) -> Prév | G19: TOTAL | H19: =IF(ISNA(VLOOKUP($G19,DIVERS!$M$1:$N$15,2,FALSE)),"",VLOOKUP($G19,DIVERS!$M$1:$N$15,2,FALSE)) | J19: =SUM(J11:J14,J17:J18) -> 691.95407 | K19: =SUM(K11:K14,K17:K18) -> -18265.157 | L19: =SUM(L11:L14,L17:L18) -> -2574.1573 | M19: =SUM(M11:M14,M17:M18) -> -2574.1573 | N19: =SUM(N11:N14,N17:N18) -> -2574.1573 | O19: =SUM(O11:O14,O17:O18) -> -2574.1573 | P19: =SUM(P11:P14,P17:P18) -> -2574.1573 | Q19: =SUM(Q11:Q14,Q17:Q18) -> -2574.1573 | ... U19: =SUM(U11:U14,U17:U18) -> -2574.1573 | V19: =SUM(Tableau3[[#This Row],[31/01/2015]:[31/12/2015]]) -> -43314.776
A20: O2X/APT | B20: =VLOOKUP($A20,LIBELLE!$A:$B,2,FALSE) -> OREOS 2X_APTINEO | C20: =VLOOKUP($A20,LIBELLE!A:D,4,FALSE) -> VDP | D20: =VLOOKUP($A20,LIBELLE!A:F,6,FALSE) -> NA | E20: =VLOOKUP($A20,LIBELLE!$A:$C,3,FALSE) -> GTIES | F20: =IF($G20="Acompte","Acompte",VLOOKUP($A20,LIBELLE!A:E,5,FALSE)) -> Prév | G20: CA | H20: =IF(ISNA(VLOOKUP($G20,DIVERS!$M$1:$N$15,2,FALSE)),"",VLOOKUP($G20,DIVERS!$M$1:$N$15,2,FALSE)) -> Tot VTE | V20: =SUM(Tableau3[[#This Row],[31/01/2015]:[31/12/2015]]) -> 0
A21: O2X/APT | B21: =VLOOKUP($A21,LIBELLE!$A:$B,2,FALSE) -> OREOS 2X_APTINEO | C21: =VLOOKUP($A21,LIBELLE!A:D,4,FALSE) -> VDP | D21: =VLOOKUP($A21,LIBELLE!A:F,6,FALSE) -> NA | E21: =VLOOKUP($A21,LIBELLE!$A:$C,3,FALSE) -> GTIES | F21: =IF($G21="Acompte","Acompte",VLOOKUP($A21,LIBELLE!A:E,5,FALSE)) -> Prév | G21: TEC | H21: =IF(ISNA(VLOOKUP($G21,DIVERS!$M$1:$N$15,2,FALSE)),"",VLOOKUP($G21,DIVERS!$M$1:$N$15,2,FALSE)) -> €TEC FERRRO-R&D | V21: =SUM(Tableau3[[#This Row],[31/01/2015]:[31/12/2015]]) -> 0
A22: O2X/APT | B22: =VLOOKUP($A22,LIBELLE!$A:$B,2,FALSE) -> OREOS 2X_APTINEO | C22: =VLOOKUP($A22,LIBELLE!A:D,4,FALSE) -> VDP | D22: =VLOOKUP($A22,LIBELLE!A:F,6,FALSE) -> NA | E22: =VLOOKUP($A22,LIBELLE!$A:$C,3,FALSE) -> GTIES | F22: =IF($G22="Acompte","Acompte",VLOOKUP($A22,LIBELLE!A:E,5,FALSE)) -> Prév | G22: Achats pièces | H22: =IF(ISNA(VLOOKUP($G22,DIVERS!$M$1:$N$15,2,FALSE)),"",VLOOKUP($G22,DIVERS!$M$1:$N$15,2,FALSE)) -> €ACH ProdPVI | J22: -1701.4 | K22: -3503.1 | L22: -12602.25 | M22: -2602.25 | N22: -2407 | O22: -2407 | P22: -2407 | Q22: -2407 | R22: -2146.75 | S22: -2146.75 | T22: -2146.75 | U22: -2146.75 | V22: =SUM(Tableau3[[#This Row],[31/01/2015]:[31/12/2015]]) -> -38624
A23: O2X/APT | B23: =VLOOKUP($A23,LIBELLE!$A:$B,2,FALSE) -> OREOS 2X_APTINEO | C23: =VLOOKUP($A23,LIBELLE!A:D,4,FALSE) -> VDP | D23: =VLOOKUP($A23,LIBELLE!A:F,6,FALSE) -> NA | E23: =VLOOKUP($A23,LIBELLE!$A:$C,3,FALSE) -> GTIES | F23: =IF($G23="Acompte","Acompte",VLOOKUP($A23,LIBELLE!A:E,5,FALSE)) -> Prév | G23: Achats prestations | H23: =IF(ISNA(VLOOKUP($G23,DIVERS!$M$1:$N$15,2,FALSE)),"",VLOOKUP($G23,DIVERS!$M$1:$N$15,2,FALSE)) -> €ACH Sces+div | J23: -1337.5 | K23: -1501 | L23: -1419.25 | M23: -1419.25 | N23: -1313 | O23: -1313 | P23: -1313 | Q23: -1313 | R23: -1171 | S23: -1171 | T23: -1171 | U23: -1171 | V23: =SUM(Tableau3[[#This Row],[31/01/2015]:[31/12/2015]]) -> -15613
A24: O2X/APT | B24: =VLOOKUP($A24,LIBELLE!$A:$B,2,FALSE) -> OREOS 2X_APTINEO | C24: =VLOOKUP($A24,LIBELLE!A:D,4,FALSE) -> VDP | D24: =VLOOKUP($A24,LIBELLE!A:F,6,FALSE) -> NA | E24: =VLOOKUP($A24,LIBELLE!$A:$C,3,FALSE) -> GTIES | F24: =IF($G24="Acompte","Acompte",VLOOKUP($A24,LIBELLE!A:E,5,FALSE)) -> Prév | G24: Qté MO GTIE | H24: =IF(ISNA(VLOOKUP($G24,DIVERS!$M$1:$N$15,2,FALSE)),"",VLOOKUP($G24,DIVERS!$M$1:$N$15,2,FALSE)) -> Qté MO GTIE | J24: 48 | K24: 128.25 | L24: 128.25 | M24: 128.25 | N24: 118.5 | O24: 118.5 | P24: 118.5 | Q24: 118.5 | R24: 150.75 | S24: 105.75 | T24: 105.75 | U24: 105.75 | V24: =SUM(Tableau3[[#This Row],[31/01/2015]:[31/12/2015]]) -> 1374.75
A25: O2X/APT | B25: =VLOOKUP($A25,LIBELLE!$A:$B,2,FALSE) -> OREOS 2X_APTINEO | C25: =VLOOKUP($A25,LIBELLE!A:D,4,FALSE) -> VDP | D25: =VLOOKUP($A25,LIBELLE!A:F,6,FALSE) -> NA | E25: =VLOOKUP($A25,LIBELLE!$A:$C,3,FALSE) -> GTIES | F25: =IF($G25="Acompte","Acompte",VLOOKUP($A25,LIBELLE!A:E,5,FALSE)) -> Prév | G25: Qté MO SRS | H25: =IF(ISNA(VLOOKUP($G25,DIVERS!$M$1:$N$15,2,FALSE)),"",VLOOKUP($G25,DIVERS!$M$1:$N$15,2,FALSE)) -> Qté MO SRS | J25: 16.7 | V25: =SUM(Tableau3[[#This Row],[31/01/2015]:[31/12/2015]]) -> 16.7
A26: O2X/APT | B26: =VLOOKUP($A26,LIBELLE!$A:$B,2,FALSE) -> OREOS 2X_APTINEO | C26: =VLOOKUP($A26,LIBELLE!A:D,4,FALSE) -> VDP | D26: =VLOOKUP($A26,LIBELLE!A:F,6,FALSE) -> NA | E26: =VLOOKUP($A26,LIBELLE!$A:$C,3,FALSE) -> GTIES | F26: =IF($G26="Acompte","Acompte",VLOOKUP($A26,LIBELLE!A:E,5,FALSE)) -> Prév | G26: MO | H26: =IF(ISNA(VLOOKUP($G26,DIVERS!$M$1:$N$15,2,FALSE)),"",VLOOKUP($G26,DIVERS!$M$1:$N$15,2,FALSE)) -> 0 | J26: =J24*TxGTIE+J25*TxSRS -> -4253.3714 | K26: =K24*TxGTIE+K25*TxSRS -> -9597.1345 | L26: =L24*TxGTIE+L25*TxSRS -> -9597.1345 | M26: =M24*TxGTIE+M25*TxSRS -> -9597.1345 | N26: =N24*TxGTIE+N25*TxSRS -> -8867.5278 | O26: =O24*TxGTIE+O25*TxSRS -> -8867.5278 | P26: =P24*TxGTIE+P25*TxSRS -> -8867.5278 | Q26: =Q24*TxGTIE+Q25*TxSRS -> -8867.5278 | ... U26: =U24*TxGTIE+U25*TxSRS -> -7913.4267 | V26: =SUM(Tableau3[[#This Row],[31/01/2015]:[31/12/2015]]) -> -103536.01
A27: O2X/APT | B27: =VLOOKUP($A27,LIBELLE!$A:$B,2,FALSE) -> OREOS 2X_APTINEO | C27: =VLOOKUP($A27,LIBELLE!A:D,4,FALSE) -> VDP | D27: =VLOOKUP($A27,LIBELLE!A:F,6,FALSE) -> NA | E27: =VLOOKUP($A27,LIBELLE!$A:$C,3,FALSE) -> GTIES | F27: =IF($G27="Acompte","Acompte",VLOOKUP($A27,LIBELLE!A:E,5,FALSE)) -> Prév | G27: FG | H27: =IF(ISNA(VLOOKUP($G27,DIVERS!$M$1:$N$15,2,FALSE)),"",VLOOKUP($G27,DIVERS!$M$1:$N$15,2,FALSE)) | J27: =SUMIF($G20:$G26,"=CA",J20:J26)*DIVERS!$B$13 -> 0 | K27: =SUMIF($G20:$G26,"=CA",K20:K26)*DIVERS!$B$13 -> 0 | L27: =SUMIF($G20:$G26,"=CA",L20:L26)*DIVERS!$B$13 -> 0 | M27: =SUMIF($G20:$G26,"=CA",M20:M26)*DIVERS!$B$13 -> 0 | N27: =SUMIF($G20:$G26,"=CA",N20:N26)*DIVERS!$B$13 -> 0 | O27: =SUMIF($G20:$G26,"=CA",O20:O26)*DIVERS!$B$13 -> 0 | P27: =SUMIF($G20:$G26,"=CA",P20:P26)*DIVERS!$B$13 -> 0 | Q27: =SUMIF($G20:$G26,"=CA",Q20:Q26)*DIVERS!$B$13 -> 0 | ... U27: =SUMIF($G20:$G26,"=CA",U20:U26)*DIVERS!$B$13 -> 0 | V27: =SUM(Tableau3[[#This Row],[31/01/2015]:[31/12/2015]]) -> 0
A28: O2X/APT | B28: =VLOOKUP($A28,LIBELLE!$A:$B,2,FALSE) -> OREOS 2X_APTINEO | C28: =VLOOKUP($A28,LIBELLE!A:D,4,FALSE) -> VDP | D28: =VLOOKUP($A28,LIBELLE!A:F,6,FALSE) -> NA | E28: =VLOOKUP($A28,LIBELLE!$A:$C,3,FALSE) -> GTIES | F28: =IF($G28="Acompte","Acompte",VLOOKUP($A28,LIBELLE!A:E,5,FALSE)) -> Prév | G28: TOTAL | H28: =IF(ISNA(VLOOKUP($G28,DIVERS!$M$1:$N$15,2,FALSE)),"",VLOOKUP($G28,DIVERS!$M$1:$N$15,2,FALSE)) | J28: =SUM(J20:J23,J26:J27) -> -7292.2714 | K28: =SUM(K20:K23,K26:K27) -> -14601.235 | L28: =SUM(L20:L23,L26:L27) -> -23618.635 | M28: =SUM(M20:M23,M26:M27) -> -13618.635 | N28: =SUM(N20:N23,N26:N27) -> -12587.528 | O28: =SUM(O20:O23,O26:O27) -> -12587.528 | P28: =SUM(P20:P23,P26:P27) -> -12587.528 | Q28: =SUM(Q20:Q23,Q26:Q27) -> -12587.528 | ... U28: =SUM(U20:U23,U26:U27) -> -11231.177 | V28: =SUM(Tableau3[[#This Row],[31/01/2015]:[31/12/2015]]) -> -157773.01
A29: O4X | B29: =VLOOKUP($A29,LIBELLE!$A:$B,2,FALSE) -> OREOS 4X | C29: =VLOOKUP($A29,LIBELLE!A:D,4,FALSE) -> VDP | D29: =VLOOKUP($A29,LIBELLE!A:F,6,FALSE) -> NA | E29: =VLOOKUP($A29,LIBELLE!$A:$C,3,FALSE) -> GTIES | F29: =IF($G29="Acompte","Acompte",VLOOKUP($A29,LIBELLE!A:E,5,FALSE)) -> Prév | G29: CA | H29: =IF(ISNA(VLOOKUP($G29,DIVERS!$M$1:$N$15,2,FALSE)),"",VLOOKUP($G29,DIVERS!$M$1:$N$15,2,FALSE)) -> Tot VTE | J29: 0 | V29: =SUM(Tableau3[[#This Row],[31/01/2015]:[31/12/2015]]) -> 0
A30: O4X | B30: =VLOOKUP($A30,LIBELLE!$A:$B,2,FALSE) -> OREOS 4X | C30: =VLOOKUP($A30,LIBELLE!A:D,4,FALSE) -> VDP | D30: =VLOOKUP($A30,LIBELLE!A:F,6,FALSE) -> NA | E30: =VLOOKUP($A30,LIBELLE!$A:$C,3,FALSE) -> GTIES | F30: =IF($G30="Acompte","Acompte",VLOOKUP($A30,LIBELLE!A:E,5,FALSE)) -> Prév | G30: TEC | H30: =IF(ISNA(VLOOKUP($G30,DIVERS!$M$1:$N$15,2,FALSE)),"",VLOOKUP($G30,DIVERS!$M$1:$N$15,2,FALSE)) -> €TEC FERRRO-R&D | V30: =SUM(Tableau3[[#This Row],[31/01/2015]:[31/12/2015]]) -> 0
A31: O4X | B31: =VLOOKUP($A31,LIBELLE!$A:$B,2,FALSE) -> OREOS 4X | C31: =VLOOKUP($A31,LIBELLE!A:D,4,FALSE) -> VDP | D31: =VLOOKUP($A31,LIBELLE!A:F,6,FALSE) -> NA | E31: =VLOOKUP($A31,LIBELLE!$A:$C,3,FALSE) -> GTIES | F31: =IF($G31="Acompte","Acompte",VLOOKUP($A31,LIBELLE!A:E,5,FALSE)) -> Prév | G31: Achats pièces | H31: =IF(ISNA(VLOOKUP($G31,DIVERS!$M$1:$N$15,2,FALSE)),"",VLOOKUP($G31,DIVERS!$M$1:$N$15,2,FALSE)) -> €ACH ProdPVI | J31: -158 | K31: -3122.7 | L31: -3122.7 | M31: -3122.7 | N31: -2888.4 | O31: -2888.4 | P31: -2888.4 | Q31: -2888.4 | R31: -2576.1 | S31: -2576.1 | T31: -2576.1 | U31: -2576.1 | V31: =SUM(Tableau3[[#This Row],[31/01/2015]:[31/12/2015]]) -> -31384.1
A32: O4X | B32: =VLOOKUP($A32,LIBELLE!$A:$B,2,FALSE) -> OREOS 4X | C32: =VLOOKUP($A32,LIBELLE!A:D,4,FALSE) -> VDP | D32: =VLOOKUP($A32,LIBELLE!A:F,6,FALSE) -> NA | E32: =VLOOKUP($A32,LIBELLE!$A:$C,3,FALSE) -> GTIES | F32: =IF($G32="Acompte","Acompte",VLOOKUP($A32,LIBELLE!A:E,5,FALSE)) -> Prév | G32: Achats prestations | H32: =IF(ISNA(VLOOKUP($G32,DIVERS!$M$1:$N$15,2,FALSE)),"",VLOOKUP($G32,DIVERS!$M$1:$N$15,2,FALSE)) -> €ACH Sces+div | K32: -1703.1 | L32: -1703.1 | M32: -1703.1 | N32: -1575.6 | O32: -1575.6 | P32: -1575.6 | Q32: -1575.6 | R32: -1405.2 | S32: -1405.2 | T32: -1405.2 | U32: -1405.2 | V32: =SUM(Tableau3[[#This Row],[31/01/2015]:[31/12/2015]]) -> -17032.5
A33: O4X | B33: =VLOOKUP($A33,LIBELLE!$A:$B,2,FALSE) -> OREOS 4X | C33: =VLOOKUP($A33,LIBELLE!A:D,4,FALSE) -> VDP | D33: =VLOOKUP($A33,LIBELLE!A:F,6,FALSE) -> NA | E33: =VLOOKUP($A33,LIBELLE!$A:$C,3,FALSE) -> GTIES | F33: =IF($G33="Acompte","Acompte",VLOOKUP($A33,LIBELLE!A:E,5,FALSE)) -> Prév | G33: Qté MO GTIE | H33: =IF(ISNA(VLOOKUP($G33,DIVERS!$M$1:$N$15,2,FALSE)),"",VLOOKUP($G33,DIVERS!$M$1:$N$15,2,FALSE)) -> Qté MO GTIE | K33: 153.9 | L33: 153.9 | M33: 153.9 | N33: 142.2 | O33: 142.2 | P33: 142.2 | Q33: 142.2 | R33: 126.9 | S33: 126.9 | T33: 126.9 | U33: 126.9 | V33: =SUM(Tableau3[[#This Row],[31/01/2015]:[31/12/2015]]) -> 1538.1
A34: O4X | B34: =VLOOKUP($A34,LIBELLE!$A:$B,2,FALSE) -> OREOS 4X | C34: =VLOOKUP($A34,LIBELLE!A:D,4,FALSE) -> VDP | D34: =VLOOKUP($A34,LIBELLE!A:F,6,FALSE) -> NA | E34: =VLOOKUP($A34,LIBELLE!$A:$C,3,FALSE) -> GTIES | F34: =IF($G34="Acompte","Acompte",VLOOKUP($A34,LIBELLE!A:E,5,FALSE)) -> Prév | G34: Qté MO SRS | H34: =IF(ISNA(VLOOKUP($G34,DIVERS!$M$1:$N$15,2,FALSE)),"",VLOOKUP($G34,DIVERS!$M$1:$N$15,2,FALSE)) -> Qté MO SRS | J34: 6 | V34: =SUM(Tableau3[[#This Row],[31/01/2015]:[31/12/2015]]) -> 6
A35: O4X | B35: =VLOOKUP($A35,LIBELLE!$A:$B,2,FALSE) -> OREOS 4X | C35: =VLOOKUP($A35,LIBELLE!A:D,4,FALSE) -> VDP | D35: =VLOOKUP($A35,LIBELLE!A:F,6,FALSE) -> NA | E35: =VLOOKUP($A35,LIBELLE!$A:$C,3,FALSE) -> GTIES | F35: =IF($G35="Acompte","Acompte",VLOOKUP($A35,LIBELLE!A:E,5,FALSE)) -> Prév | G35: MO | H35: =IF(ISNA(VLOOKUP($G35,DIVERS!$M$1:$N$15,2,FALSE)),"",VLOOKUP($G35,DIVERS!$M$1:$N$15,2,FALSE)) -> 0 | J35: =J33*TxGTIE+J34*TxSRS -> -237.65081 | K35: =K33*TxGTIE+K34*TxSRS -> -11516.561 | L35: =L33*TxGTIE+L34*TxSRS -> -11516.561 | M35: =M33*TxGTIE+M34*TxSRS -> -11516.561 | N35: =N33*TxGTIE+N34*TxSRS -> -10641.033 | O35: =O33*TxGTIE+O34*TxSRS -> -10641.033 | P35: =P33*TxGTIE+P34*TxSRS -> -10641.033 | Q35: =Q33*TxGTIE+Q34*TxSRS -> -10641.033 | ... U35: =U33*TxGTIE+U34*TxSRS -> -9496.1121 | V35: =SUM(Tableau3[[#This Row],[31/01/2015]:[31/12/2015]]) -> -115335.92
A36: O4X | B36: =VLOOKUP($A36,LIBELLE!$A:$B,2,FALSE) -> OREOS 4X | C36: =VLOOKUP($A36,LIBELLE!A:D,4,FALSE) -> VDP | D36: =VLOOKUP($A36,LIBELLE!A:F,6,FALSE) -> NA | E36: =VLOOKUP($A36,LIBELLE!$A:$C,3,FALSE) -> GTIES | F36: =IF($G36="Acompte","Acompte",VLOOKUP($A36,LIBELLE!A:E,5,FALSE)) -> Prév | G36: FG | H36: =IF(ISNA(VLOOKUP($G36,DIVERS!$M$1:$N$15,2,FALSE)),"",VLOOKUP($G36,DIVERS!$M$1:$N$15,2,FALSE)) | J36: =SUMIF($G29:$G35,"=CA",J29:J35)*DIVERS!$B$13 -> 0 | K36: =SUMIF($G29:$G35,"=CA",K29:K35)*DIVERS!$B$13 -> 0 | L36: =SUMIF($G29:$G35,"=CA",L29:L35)*DIVERS!$B$13 -> 0 | M36: =SUMIF($G29:$G35,"=CA",M29:M35)*DIVERS!$B$13 -> 0 | N36: =SUMIF($G29:$G35,"=CA",N29:N35)*DIVERS!$B$13 -> 0 | O36: =SUMIF($G29:$G35,"=CA",O29:O35)*DIVERS!$B$13 -> 0 | P36: =SUMIF($G29:$G35,"=CA",P29:P35)*DIVERS!$B$13 -> 0 | Q36: =SUMIF($G29:$G35,"=CA",Q29:Q35)*DIVERS!$B$13 -> 0 | ... U36: =SUMIF($G29:$G35,"=CA",U29:U35)*DIVERS!$B$13 -> 0 | V36: =SUM(Tableau3[[#This Row],[31/01/2015]:[31/12/2015]]) -> 0
A37: O4X | B37: =VLOOKUP($A37,LIBELLE!$A:$B,2,FALSE) -> OREOS 4X | C37: =VLOOKUP($A37,LIBELLE!A:D,4,FALSE) -> VDP | D37: =VLOOKUP($A37,LIBELLE!A:F,6,FALSE) -> NA | E37: =VLOOKUP($A37,LIBELLE!$A:$C,3,FALSE) -> GTIES | F37: =IF($G37="Acompte","Acompte",VLOOKUP($A37,LIBELLE!A:E,5,FALSE)) -> Prév | G37: TOTAL | H37: =IF(ISNA(VLOOKUP($G37,DIVERS!$M$1:$N$15,2,FALSE)),"",VLOOKUP($G37,DIVERS!$M$1:$N$15,2,FALSE)) | J37: =SUM(J29:J32,J35:J36) -> -395.65081 | K37: =SUM(K29:K32,K35:K36) -> -16342.361 | L37: =SUM(L29:L32,L35:L36) -> -16342.361 | M37: =SUM(M29:M32,M35:M36) -> -16342.361 | N37: =SUM(N29:N32,N35:N36) -> -15105.033 | O37: =SUM(O29:O32,O35:O36) -> -15105.033 | P37: =SUM(P29:P32,P35:P36) -> -15105.033 | Q37: =SUM(Q29:Q32,Q35:Q36) -> -15105.033 | ... U37: =SUM(U29:U32,U35:U36) -> -13477.412 | V37: =SUM(Tableau3[[#This Row],[31/01/2015]:[31/12/2015]]) -> -163752.52
A38: MAX | B38: =VLOOKUP($A38,LIBELLE!$A:$B,2,FALSE) -> MAXITY | C38: =VLOOKUP($A38,LIBELLE!A:D,4,FALSE) -> VDP | D38: =VLOOKUP($A38,LIBELLE!A:F,6,FALSE) -> NA | E38: =VLOOKUP($A38,LIBELLE!$A:$C,3,FALSE) -> GTIES | F38: =IF($G38="Acompte","Acompte",VLOOKUP($A38,LIBELLE!A:E,5,FALSE)) -> Prév | G38: CA | H38: =IF(ISNA(VLOOKUP($G38,DIVERS!$M$1:$N$15,2,FALSE)),"",VLOOKUP($G38,DIVERS!$M$1:$N$15,2,FALSE)) -> Tot VTE | J38: 0 | V38: =SUM(Tableau3[[#This Row],[31/01/2015]:[31/12/2015]]) -> 0
A39: MAX | B39: =VLOOKUP($A39,LIBELLE!$A:$B,2,FALSE) -> MAXITY | C39: =VLOOKUP($A39,LIBELLE!A:D,4,FALSE) -> VDP | D39: =VLOOKUP($A39,LIBELLE!A:F,6,FALSE) -> NA | E39: =VLOOKUP($A39,LIBELLE!$A:$C,3,FALSE) -> GTIES | F39: =IF($G39="Acompte","Acompte",VLOOKUP($A39,LIBELLE!A:E,5,FALSE)) -> Prév | G39: TEC | H39: =IF(ISNA(VLOOKUP($G39,DIVERS!$M$1:$N$15,2,FALSE)),"",VLOOKUP($G39,DIVERS!$M$1:$N$15,2,FALSE)) -> €TEC FERRRO-R&D | V39: =SUM(Tableau3[[#This Row],[31/01/2015]:[31/12/2015]]) -> 0
A40: MAX | B40: =VLOOKUP($A40,LIBELLE!$A:$B,2,FALSE) -> MAXITY | C40: =VLOOKUP($A40,LIBELLE!A:D,4,FALSE) -> VDP | D40: =VLOOKUP($A40,LIBELLE!A:F,6,FALSE) -> NA | E40: =VLOOKUP($A40,LIBELLE!$A:$C,3,FALSE) -> GTIES | F40: =IF($G40="Acompte","Acompte",VLOOKUP($A40,LIBELLE!A:E,5,FALSE)) -> Prév | G40: Achats pièces | H40: =IF(ISNA(VLOOKUP($G40,DIVERS!$M$1:$N$15,2,FALSE)),"",VLOOKUP($G40,DIVERS!$M$1:$N$15,2,FALSE)) -> €ACH ProdPVI | J40: -3536 | K40: -1103.24 | L40: -1103.24 | M40: -1103.24 | N40: -1009.52 | O40: -1009.52 | P40: -1009.52 | Q40: -1009.52 | R40: -884.6 | S40: -884.6 | T40: -884.6 | U40: -884.6 | V40: =SUM(Tableau3[[#This Row],[31/01/2015]:[31/12/2015]]) -> -14422.2
...

Sheet BaseActivité
K3: HYPT | M3: HYPT | N3: HYPT | O3: HYPT | P3: HYPT | Q3: HYPT | R3: HYPT | S3: HYPT | T3: HYPT | U3: HYPT | V3: HYPT | W3: HYPT | X3: HYPT | Z3: Calcul
M4: €ACH | N4: €ACH | O4: €ACH | P4: €ACH | Q4: €ACH | R4: QMO | S4: QMO | T4: QMO | U4: QMO | V4: QMO | W4: QMO | X4: QMO
K5: 2 | M5: 4 | N5: 5 | O5: 6 | P5: 7 | Q5: 8 | R5: 13 | S5: 15 | T5: 10 | U5: 12 | V5: 14 | W5: 16 | X5: 11
A6: Produit | B6: Statut | C6: Projet | D6: Client | E6: Contremarque | F6: VIN | G6: Date | H6: Quantité | I6: Quantité Budget | J6: Trimestre | K6: Tot VTE | L6: €TEC FERRRO-R&D | M6: €ACH ProdPVI | N6: €ACH BBX | O6: €ACH Chassis | P6: €ACH Carross | Q6: €ACH Sces+div | R6: Qté MO ESC | S6: Qté MO BE | T6: Qté MO GTIE | U6: Qté MO MNT | V6: Qté MO PR | W6: Qté MO PROD | X6: Qté MO SRS | Y6: Total Qté MO | Z6: Mois VTE
A7: GTIES | B7: Prév | G7: 42035 | J7: =IF(YEAR(Base[[#This Row],[Date]])=2015,ROUNDDOWN((MONTH(Base[[#This Row],[Date]])-1)/3,0)+1,"") -> 1 | K7: =SUMPRODUCT((Base[[#This Row],[Produit]]=Tableau3[PRODUIT])*(Base[[#This Row],[Date]]=Tableau3[[#Headers],[31/01/2015]:[31/12/2015]])*(Base[[#This Row],[Statut]]=Tableau3[STATUT PROJET])*(Base[[#Headers],[Tot VTE]]=Tableau3[TYPE Autre])*(Tableau3[[31/01/2015]:[31/12/2015]]/1000)) -> 0 | L7: =SUMPRODUCT((Base[[#This Row],[Produit]]=Tableau3[PRODUIT])*(Base[[#This Row],[Date]]=Tableau3[[#Headers],[31/01/2015]:[31/12/2015]])*(Base[[#This Row],[Statut]]=Tableau3[STATUT PROJET])*(Base[[#Headers],[€TEC FERRRO-R&D]]=Tableau3[TYPE Autre])*(Tableau3[[31/01/2015]:[31/12/2015]]/1000)) -> 0 | M7: =SUMPRODUCT((Base[[#This Row],[Produit]]=Tableau3[PRODUIT])*(Base[[#This Row],[Date]]=Tableau3[[#Headers],[31/01/2015]:[31/12/2015]])*(Base[[#This Row],[Statut]]=Tableau3[STATUT PROJET])*(Base[[#Headers],[€ACH ProdPVI]]=Tableau3[TYPE Autre])*(Tableau3[[31/01/2015]:[31/12/2015]]/1000)) -> 0 | N7: =SUMPRODUCT((Base[[#This Row],[Produit]]=Tableau3[PRODUIT])*(Base[[#This Row],[Date]]=Tableau3[[#Headers],[31/01/2015]:[31/12/2015]])*(Base[[#This Row],[Statut]]=Tableau3[STATUT PROJET])*(Base[[#Headers],[€ACH BBX]]=Tableau3[TYPE Autre])*(Tableau3[[31/01/2015]:[31/12/2015]]/1000)) -> 0 | O7: =SUMPRODUCT((Base[[#This Row],[Produit]]=Tableau3[PRODUIT])*(Base[[#This Row],[Date]]=Tableau3[[#Headers],[31/01/2015]:[31/12/2015]])*(Base[[#This Row],[Statut]]=Tableau3[STATUT PROJET])*(Base[[#Headers],[€ACH Chassis]]=Tableau3[TYPE Autre])*(Tableau3[[31/01/2015]:[31/12/2015]]/1000)) -> 0 | P7: =SUMPRODUCT((Base[[#This Row],[Produit]]=Tableau3[PRODUIT])*(Base[[#This Row],[Date]]=Tableau3[[#Headers],[31/01/2015]:[31/12/2015]])*(Base[[#This Row],[Statut]]=Tableau3[STATUT PROJET])*(Base[[#Headers],[€ACH Carross]]=Tableau3[TYPE Autre])*(Tableau3[[31/01/2015]:[31/12/2015]]/1000)) -> 0 | Q7: =SUMPRODUCT((Base[[#This Row],[Produit]]=Tableau3[PRODUIT])*(Base[[#This Row],[Date]]=Tableau3[[#Headers],[31/01/2015]:[31/12/2015]])*(Base[[#This Row],[Statut]]=Tableau3[STATUT PROJET])*(Base[[#Headers],[€ACH Sces+div]]=Tableau3[TYPE Autre])*(Tableau3[[31/01/2015]:[31/12/2015]]/1000)) -> 0 | R7: =SUMPRODUCT((Base[[#This Row],[Produit]]=Tableau3[PRODUIT])*(Base[[#This Row],[Date]]=Tableau3[[#Headers],[31/01/2015]:[31/12/2015]])*(Base[[#This Row],[Statut]]=Tableau3[STATUT PROJET])*(Base[[#Headers],[Qté MO ESC]]=Tableau3[TYPE Autre])*(Tableau3[[31/01/2015]:[31/12/2015]]/1000)) -> 0 | S7: =SUMPRODUCT((Base[[#This Row],[Produit]]=Tableau3[PRODUIT])*(Base[[#This Row],[Date]]=Tableau3[[#Headers],[31/01/2015]:[31/12/2015]])*(Base[[#This Row],[Statut]]=Tableau3[STATUT PROJET])*(Base[[#Headers],[Qté MO BE]]=Tableau3[TYPE Autre])*(Tableau3[[31/01/2015]:[31/12/2015]]/1000)) -> 0 | T7: =SUMPRODUCT((Base[[#This Row],[Produit]]=Tableau3[PRODUIT])*(Base[[#This Row],[Date]]=Tableau3[[#Headers],[31/01/2015]:[31/12/2015]])*(Base[[#This Row],[Statut]]=Tableau3[STATUT PROJET])*(Base[[#Headers],[Qté MO GTIE]]=Tableau3[TYPE Autre])*(Tableau3[[31/01/2015]:[31/12/2015]]/1000)) -> 0 | U7: =SUMPRODUCT((Base[[#This Row],[Produit]]=Tableau3[PRODUIT])*(Base[[#This Row],[Date]]=Tableau3[[#Headers],[31/01/2015]:[31/12/2015]])*(Base[[#This Row],[Statut]]=Tableau3[STATUT PROJET])*(Base[[#Headers],[Qté MO MNT]]=Tableau3[TYPE Autre])*(Tableau3[[31/01/2015]:[31/12/2015]]/1000)) -> 0 | V7: =SUMPRODUCT((Base[[#This Row],[Produit]]=Tableau3[PRODUIT])*(Base[[#This Row],[Date]]=Tableau3[[#Headers],[31/01/2015]:[31/12/2015]])*(Base[[#This Row],[Statut]]=Tableau3[STATUT PROJET])*(Base[[#Headers],[Qté MO PR]]=Tableau3[TYPE Autre])*(Tableau3[[31/01/2015]:[31/12/2015]]/1000)) -> 0 | W7: =SUMPRODUCT((Base[[#This Row],[Produit]]=Tableau3[PRODUIT])*(Base[[#This Row],[Date]]=Tableau3[[#Headers],[31/01/2015]:[31/12/2015]])*(Base[[#This Row],[Statut]]=Tableau3[STATUT PROJET])*(Base[[#Headers],[Qté MO PROD]]=Tableau3[TYPE Autre])*(Tableau3[[31/01/2015]:[31/12/2015]]/1000)) -> 0 | X7: =SUMPRODUCT((Base[[#This Row],[Produit]]=Tableau3[PRODUIT])*(Base[[#This Row],[Date]]=Tableau3[[#Headers],[31/01/2015]:[31/12/2015]])*(Base[[#This Row],[Statut]]=Tableau3[STATUT PROJET])*(Base[[#Headers],[Qté MO SRS]]=Tableau3[TYPE Autre])*(Tableau3[[31/01/2015]:[31/12/2015]]/1000)) -> 0 | Y7: =SUM(Base[[#This Row],[Qté MO ESC]:[Qté MO SRS]]) -> 0 | Z7: =EOMONTH(BaseActivité!$G7,0) -> 42035
A8: GTIES | B8: Prév | G8: 42063 | J8: =IF(YEAR(Base[[#This Row],[Date]])=2015,ROUNDDOWN((MONTH(Base[[#This Row],[Date]])-1)/3,0)+1,"") -> 1 | K8: =SUMPRODUCT((Base[[#This Row],[Produit]]=Tableau3[PRODUIT])*(Base[[#This Row],[Date]]=Tableau3[[#Headers],[31/01/2015]:[31/12/2015]])*(Base[[#This Row],[Statut]]=Tableau3[STATUT PROJET])*(Base[[#Headers],[Tot VTE]]=Tableau3[TYPE Autre])*(Tableau3[[31/01/2015]:[31/12/2015]]/1000)) -> 0 | L8: =SUMPRODUCT((Base[[#This Row],[Produit]]=Tableau3[PRODUIT])*(Base[[#This Row],[Date]]=Tableau3[[#Headers],[31/01/2015]:[31/12/2015]])*(Base[[#This Row],[Statut]]=Tableau3[STATUT PROJET])*(Base[[#Headers],[€TEC FERRRO-R&D]]=Tableau3[TYPE Autre])*(Tableau3[[31/01/2015]:[31/12/2015]]/1000)) -> 0 | M8: =SUMPRODUCT((Base[[#This Row],[Produit]]=Tableau3[PRODUIT])*(Base[[#This Row],[Date]]=Tableau3[[#Headers],[31/01/2015]:[31/12/2015]])*(Base[[#This Row],[Statut]]=Tableau3[STATUT PROJET])*(Base[[#Headers],[€ACH ProdPVI]]=Tableau3[TYPE Autre])*(Tableau3[[31/01/2015]:[31/12/2015]]/1000)) -> 0 | N8: =SUMPRODUCT((Base[[#This Row],[Produit]]=Tableau3[PRODUIT])*(Base[[#This Row],[Date]]=Tableau3[[#Headers],[31/01/2015]:[31/12/2015]])*(Base[[#This Row],[Statut]]=Tableau3[STATUT PROJET])*(Base[[#Headers],[€ACH BBX]]=Tableau3[TYPE Autre])*(Tableau3[[31/01/2015]:[31/12/2015]]/1000)) -> 0 | O8: =SUMPRODUCT((Base[[#This Row],[Produit]]=Tableau3[PRODUIT])*(Base[[#This Row],[Date]]=Tableau3[[#Headers],[31/01/2015]:[31/12/2015]])*(Base[[#This Row],[Statut]]=Tableau3[STATUT PROJET])*(Base[[#Headers],[€ACH Chassis]]=Tableau3[TYPE Autre])*(Tableau3[[31/01/2015]:[31/12/2015]]/1000)) -> 0 | P8: =SUMPRODUCT((Base[[#This Row],[Produit]]=Tableau3[PRODUIT])*(Base[[#This Row],[Date]]=Tableau3[[#Headers],[31/01/2015]:[31/12/2015]])*(Base[[#This Row],[Statut]]=Tableau3[STATUT PROJET])*(Base[[#Headers],[€ACH Carross]]=Tableau3[TYPE Autre])*(Tableau3[[31/01/2015]:[31/12/2015]]/1000)) -> 0 | Q8: =SUMPRODUCT((Base[[#This Row],[Produit]]=Tableau3[PRODUIT])*(Base[[#This Row],[Date]]=Tableau3[[#Headers],[31/01/2015]:[31/12/2015]])*(Base[[#This Row],[Statut]]=Tableau3[STATUT PROJET])*(Base[[#Headers],[€ACH Sces+div]]=Tableau3[TYPE Autre])*(Tableau3[[31/01/2015]:[31/12/2015]]/1000)) -> 0 | R8: =SUMPRODUCT((Base[[#This Row],[Produit]]=Tableau3[PRODUIT])*(Base[[#This Row],[Date]]=Tableau3[[#Headers],[31/01/2015]:[31/12/2015]])*(Base[[#This Row],[Statut]]=Tableau3[STATUT PROJET])*(Base[[#Headers],[Qté MO ESC]]=Tableau3[TYPE Autre])*(Tableau3[[31/01/2015]:[31/12/2015]]/1000)) -> 0 | S8: =SUMPRODUCT((Base[[#This Row],[Produit]]=Tableau3[PRODUIT])*(Base[[#This Row],[Date]]=Tableau3[[#Headers],[31/01/2015]:[31/12/2015]])*(Base[[#This Row],[Statut]]=Tableau3[STATUT PROJET])*(Base[[#Headers],[Qté MO BE]]=Tableau3[TYPE Autre])*(Tableau3[[31/01/2015]:[31/12/2015]]/1000)) -> 0 | T8: =SUMPRODUCT((Base[[#This Row],[Produit]]=Tableau3[PRODUIT])*(Base[[#This Row],[Date]]=Tableau3[[#Headers],[31/01/2015]:[31/12/2015]])*(Base[[#This Row],[Statut]]=Tableau3[STATUT PROJET])*(Base[[#Headers],[Qté MO GTIE]]=Tableau3[TYPE Autre])*(Tableau3[[31/01/2015]:[31/12/2015]]/1000)) -> 0 | U8: =SUMPRODUCT((Base[[#This Row],[Produit]]=Tableau3[PRODUIT])*(Base[[#This Row],[Date]]=Tableau3[[#Headers],[31/01/2015]:[31/12/2015]])*(Base[[#This Row],[Statut]]=Tableau3[STATUT PROJET])*(Base[[#Headers],[Qté MO MNT]]=Tableau3[TYPE Autre])*(Tableau3[[31/01/2015]:[31/12/2015]]/1000)) -> 0 | V8: =SUMPRODUCT((Base[[#This Row],[Produit]]=Tableau3[PRODUIT])*(Base[[#This Row],[Date]]=Tableau3[[#Headers],[31/01/2015]:[31/12/2015]])*(Base[[#This Row],[Statut]]=Tableau3[STATUT PROJET])*(Base[[#Headers],[Qté MO PR]]=Tableau3[TYPE Autre])*(Tableau3[[31/01/2015]:[31/12/2015]]/1000)) -> 0 | W8: =SUMPRODUCT((Base[[#This Row],[Produit]]=Tableau3[PRODUIT])*(Base[[#This Row],[Date]]=Tableau3[[#Headers],[31/01/2015]:[31/12/2015]])*(Base[[#This Row],[Statut]]=Tableau3[STATUT PROJET])*(Base[[#Headers],[Qté MO PROD]]=Tableau3[TYPE Autre])*(Tableau3[[31/01/2015]:[31/12/2015]]/1000)) -> 0 | X8: =SUMPRODUCT((Base[[#This Row],[Produit]]=Tableau3[PRODUIT])*(Base[[#This Row],[Date]]=Tableau3[[#Headers],[31/01/2015]:[31/12/2015]])*(Base[[#This Row],[Statut]]=Tableau3[STATUT PROJET])*(Base[[#Headers],[Qté MO SRS]]=Tableau3[TYPE Autre])*(Tableau3[[31/01/2015]:[31/12/2015]]/1000)) -> 0 | Y8: =SUM(Base[[#This Row],[Qté MO ESC]:[Qté MO SRS]]) -> 0 | Z8: =EOMONTH(BaseActivité!$G8,0) -> 42063
A9: GTIES | B9: Prév | G9: 42094 | J9: =IF(YEAR(Base[[#This Row],[Date]])=2015,ROUNDDOWN((MONTH(Base[[#This Row],[Date]])-1)/3,0)+1,"") -> 1 | K9: =SUMPRODUCT((Base[[#This Row],[Produit]]=Tableau3[PRODUIT])*(Base[[#This Row],[Date]]=Tableau3[[#Headers],[31/01/2015]:[31/12/2015]])*(Base[[#This Row],[Statut]]=Tableau3[STATUT PROJET])*(Base[[#Headers],[Tot VTE]]=Tableau3[TYPE Autre])*(Tableau3[[31/01/2015]:[31/12/2015]]/1000)) -> 0 | L9: =SUMPRODUCT((Base[[#This Row],[Produit]]=Tableau3[PRODUIT])*(Base[[#This Row],[Date]]=Tableau3[[#Headers],[31/01/2015]:[31/12/2015]])*(Base[[#This Row],[Statut]]=Tableau3[STATUT PROJET])*(Base[[#Headers],[€TEC FERRRO-R&D]]=Tableau3[TYPE Autre])*(Tableau3[[31/01/2015]:[31/12/2015]]/1000)) -> 0 | M9: =SUMPRODUCT((Base[[#This Row],[Produit]]=Tableau3[PRODUIT])*(Base[[#This Row],[Date]]=Tableau3[[#Headers],[31/01/2015]:[31/12/2015]])*(Base[[#This Row],[Statut]]=Tableau3[STATUT PROJET])*(Base[[#Headers],[€ACH ProdPVI]]=Tableau3[TYPE Autre])*(Tableau3[[31/01/2015]:[31/12/2015]]/1000)) -> 0 | N9: =SUMPRODUCT((Base[[#This Row],[Produit]]=Tableau3[PRODUIT])*(Base[[#This Row],[Date]]=Tableau3[[#Headers],[31/01/2015]:[31/12/2015]])*(Base[[#This Row],[Statut]]=Tableau3[STATUT PROJET])*(Base[[#Headers],[€ACH BBX]]=Tableau3[TYPE Autre])*(Tableau3[[31/01/2015]:[31/12/2015]]/1000)) -> 0 | O9: =SUMPRODUCT((Base[[#This Row],[Produit]]=Tableau3[PRODUIT])*(Base[[#This Row],[Date]]=Tableau3[[#Headers],[31/01/2015]:[31/12/2015]])*(Base[[#This Row],[Statut]]=Tableau3[STATUT PROJET])*(Base[[#Headers],[€ACH Chassis]]=Tableau3[TYPE Autre])*(Tableau3[[31/01/2015]:[31/12/2015]]/1000)) -> 0 | P9: =SUMPRODUCT((Base[[#This Row],[Produit]]=Tableau3[PRODUIT])*(Base[[#This Row],[Date]]=Tableau3[[#Headers],[31/01/2015]:[31/12/2015]])*(Base[[#This Row],[Statut]]=Tableau3[STATUT PROJET])*(Base[[#Headers],[€ACH Carross]]=Tableau3[TYPE Autre])*(Tableau3[[31/01/2015]:[31/12/2015]]/1000)) -> 0 | Q9: =SUMPRODUCT((Base[[#This Row],[Produit]]=Tableau3[PRODUIT])*(Base[[#This Row],[Date]]=Tableau3[[#Headers],[31/01/2015]:[31/12/2015]])*(Base[[#This Row],[Statut]]=Tableau3[STATUT PROJET])*(Base[[#Headers],[€ACH Sces+div]]=Tableau3[TYPE Autre])*(Tableau3[[31/01/2015]:[31/12/2015]]/1000)) -> 0 | R9: =SUMPRODUCT((Base[[#This Row],[Produit]]=Tableau3[PRODUIT])*(Base[[#This Row],[Date]]=Tableau3[[#Headers],[31/01/2015]:[31/12/2015]])*(Base[[#This Row],[Statut]]=Tableau3[STATUT PROJET])*(Base[[#Headers],[Qté MO ESC]]=Tableau3[TYPE Autre])*(Tableau3[[31/01/2015]:[31/12/2015]]/1000)) -> 0 | S9: =SUMPRODUCT((Base[[#This Row],[Produit]]=Tableau3[PRODUIT])*(Base[[#This Row],[Date]]=Tableau3[[#Headers],[31/01/2015]:[31/12/2015]])*(Base[[#This Row],[Statut]]=Tableau3[STATUT PROJET])*(Base[[#Headers],[Qté MO BE]]=Tableau3[TYPE Autre])*(Tableau3[[31/01/2015]:[31/12/2015]]/1000)) -> 0 | T9: =SUMPRODUCT((Base[[#This Row],[Produit]]=Tableau3[PRODUIT])*(Base[[#This Row],[Date]]=Tableau3[[#Headers],[31/01/2015]:[31/12/2015]])*(Base[[#This Row],[Statut]]=Tableau3[STATUT PROJET])*(Base[[#Headers],[Qté MO GTIE]]=Tableau3[TYPE Autre])*(Tableau3[[31/01/2015]:[31/12/2015]]/1000)) -> 0 | U9: =SUMPRODUCT((Base[[#This Row],[Produit]]=Tableau3[PRODUIT])*(Base[[#This Row],[Date]]=Tableau3[[#Headers],[31/01/2015]:[31/12/2015]])*(Base[[#This Row],[Statut]]=Tableau3[STATUT PROJET])*(Base[[#Headers],[Qté MO MNT]]=Tableau3[TYPE Autre])*(Tableau3[[31/01/2015]:[31/12/2015]]/1000)) -> 0 | V9: =SUMPRODUCT((Base[[#This Row],[Produit]]=Tableau3[PRODUIT])*(Base[[#This Row],[Date]]=Tableau3[[#Headers],[31/01/2015]:[31/12/2015]])*(Base[[#This Row],[Statut]]=Tableau3[STATUT PROJET])*(Base[[#Headers],[Qté MO PR]]=Tableau3[TYPE Autre])*(Tableau3[[31/01/2015]:[31/12/2015]]/1000)) -> 0 | W9: =SUMPRODUCT((Base[[#This Row],[Produit]]=Tableau3[PRODUIT])*(Base[[#This Row],[Date]]=Tableau3[[#Headers],[31/01/2015]:[31/12/2015]])*(Base[[#This Row],[Statut]]=Tableau3[STATUT PROJET])*(Base[[#Headers],[Qté MO PROD]]=Tableau3[TYPE Autre])*(Tableau3[[31/01/2015]:[31/12/2015]]/1000)) -> 0 | X9: =SUMPRODUCT((Base[[#This Row],[Produit]]=Tableau3[PRODUIT])*(Base[[#This Row],[Date]]=Tableau3[[#Headers],[31/01/2015]:[31/12/2015]])*(Base[[#This Row],[Statut]]=Tableau3[STATUT PROJET])*(Base[[#Headers],[Qté MO SRS]]=Tableau3[TYPE Autre])*(Tableau3[[31/01/2015]:[31/12/2015]]/1000)) -> 0 | Y9: =SUM(Base[[#This Row],[Qté MO ESC]:[Qté MO SRS]]) -> 0 | Z9: =EOMONTH(BaseActivité!$G9,0) -> 42094
A10: GTIES | B10: Prév | G10: 42124 | J10: =IF(YEAR(Base[[#This Row],[Date]])=2015,ROUNDDOWN((MONTH(Base[[#This Row],[Date]])-1)/3,0)+1,"") -> 2 | K10: =SUMPRODUCT((Base[[#This Row],[Produit]]=Tableau3[PRODUIT])*(Base[[#This Row],[Date]]=Tableau3[[#Headers],[31/01/2015]:[31/12/2015]])*(Base[[#This Row],[Statut]]=Tableau3[STATUT PROJET])*(Base[[#Headers],[Tot VTE]]=Tableau3[TYPE Autre])*(Tableau3[[31/01/2015]:[31/12/2015]]/1000)) -> 0 | L10: =SUMPRODUCT((Base[[#This Row],[Produit]]=Tableau3[PRODUIT])*(Base[[#This Row],[Date]]=Tableau3[[#Headers],[31/01/2015]:[31/12/2015]])*(Base[[#This Row],[Statut]]=Tableau3[STATUT PROJET])*(Base[[#Headers],[€TEC FERRRO-R&D]]=Tableau3[TYPE Autre])*(Tableau3[[31/01/2015]:[31/12/2015]]/1000)) -> 0 | M10: =SUMPRODUCT((Base[[#This Row],[Produit]]=Tableau3[PRODUIT])*(Base[[#This Row],[Date]]=Tableau3[[#Headers],[31/01/2015]:[31/12/2015]])*(Base[[#This Row],[Statut]]=Tableau3[STATUT PROJET])*(Base[[#Headers],[€ACH ProdPVI]]=Tableau3[TYPE Autre])*(Tableau3[[31/01/2015]:[31/12/2015]]/1000)) -> 0 | N10: =SUMPRODUCT((Base[[#This Row],[Produit]]=Tableau3[PRODUIT])*(Base[[#This Row],[Date]]=Tableau3[[#Headers],[31/01/2015]:[31/12/2015]])*(Base[[#This Row],[Statut]]=Tableau3[STATUT PROJET])*(Base[[#Headers],[€ACH BBX]]=Tableau3[TYPE Autre])*(Tableau3[[31/01/2015]:[31/12/2015]]/1000)) -> 0 | O10: =SUMPRODUCT((Base[[#This Row],[Produit]]=Tableau3[PRODUIT])*(Base[[#This Row],[Date]]=Tableau3[[#Headers],[31/01/2015]:[31/12/2015]])*(Base[[#This Row],[Statut]]=Tableau3[STATUT PROJET])*(Base[[#Headers],[€ACH Chassis]]=Tableau3[TYPE Autre])*(Tableau3[[31/01/2015]:[31/12/2015]]/1000)) -> 0 | P10: =SUMPRODUCT((Base[[#This Row],[Produit]]=Tableau3[PRODUIT])*(Base[[#This Row],[Date]]=Tableau3[[#Headers],[31/01/2015]:[31/12/2015]])*(Base[[#This Row],[Statut]]=Tableau3[STATUT PROJET])*(Base[[#Headers],[€ACH Carross]]=Tableau3[TYPE Autre])*(Tableau3[[31/01/2015]:[31/12/2015]]/1000)) -> 0 | Q10: =SUMPRODUCT((Base[[#This Row],[Produit]]=Tableau3[PRODUIT])*(Base[[#This Row],[Date]]=Tableau3[[#Headers],[31/01/2015]:[31/12/2015]])*(Base[[#This Row],[Statut]]=Tableau3[STATUT PROJET])*(Base[[#Headers],[€ACH Sces+div]]=Tableau3[TYPE Autre])*(Tableau3[[31/01/2015]:[31/12/2015]]/1000)) -> 0 | R10: =SUMPRODUCT((Base[[#This Row],[Produit]]=Tableau3[PRODUIT])*(Base[[#This Row],[Date]]=Tableau3[[#Headers],[31/01/2015]:[31/12/2015]])*(Base[[#This Row],[Statut]]=Tableau3[STATUT PROJET])*(Base[[#Headers],[Qté MO ESC]]=Tableau3[TYPE Autre])*(Tableau3[[31/01/2015]:[31/12/2015]]/1000)) -> 0 | S10: =SUMPRODUCT((Base[[#This Row],[Produit]]=Tableau3[PRODUIT])*(Base[[#This Row],[Date]]=Tableau3[[#Headers],[31/01/2015]:[31/12/2015]])*(Base[[#This Row],[Statut]]=Tableau3[STATUT PROJET])*(Base[[#Headers],[Qté MO BE]]=Tableau3[TYPE Autre])*(Tableau3[[31/01/2015]:[31/12/2015]]/1000)) -> 0 | T10: =SUMPRODUCT((Base[[#This Row],[Produit]]=Tableau3[PRODUIT])*(Base[[#This Row],[Date]]=Tableau3[[#Headers],[31/01/2015]:[31/12/2015]])*(Base[[#This Row],[Statut]]=Tableau3[STATUT PROJET])*(Base[[#Headers],[Qté MO GTIE]]=Tableau3[TYPE Autre])*(Tableau3[[31/01/2015]:[31/12/2015]]/1000)) -> 0 | U10: =SUMPRODUCT((Base[[#This Row],[Produit]]=Tableau3[PRODUIT])*(Base[[#This Row],[Date]]=Tableau3[[#Headers],[31/01/2015]:[31/12/2015]])*(Base[[#This Row],[Statut]]=Tableau3[STATUT PROJET])*(Base[[#Headers],[Qté MO MNT]]=Tableau3[TYPE Autre])*(Tableau3[[31/01/2015]:[31/12/2015]]/1000)) -> 0 | V10: =SUMPRODUCT((Base[[#This Row],[Produit]]=Tableau3[PRODUIT])*(Base[[#This Row],[Date]]=Tableau3[[#Headers],[31/01/2015]:[31/12/2015]])*(Base[[#This Row],[Statut]]=Tableau3[STATUT PROJET])*(Base[[#Headers],[Qté MO PR]]=Tableau3[TYPE Autre])*(Tableau3[[31/01/2015]:[31/12/2015]]/1000)) -> 0 | W10: =SUMPRODUCT((Base[[#This Row],[Produit]]=Tableau3[PRODUIT])*(Base[[#This Row],[Date]]=Tableau3[[#Headers],[31/01/2015]:[31/12/2015]])*(Base[[#This Row],[Statut]]=Tableau3[STATUT PROJET])*(Base[[#Headers],[Qté MO PROD]]=Tableau3[TYPE Autre])*(Tableau3[[31/01/2015]:[31/12/2015]]/1000)) -> 0 | X10: =SUMPRODUCT((Base[[#This Row],[Produit]]=Tableau3[PRODUIT])*(Base[[#This Row],[Date]]=Tableau3[[#Headers],[31/01/2015]:[31/12/2015]])*(Base[[#This Row],[Statut]]=Tableau3[STATUT PROJET])*(Base[[#Headers],[Qté MO SRS]]=Tableau3[TYPE Autre])*(Tableau3[[31/01/2015]:[31/12/2015]]/1000)) -> 0 | Y10: =SUM(Base[[#This Row],[Qté MO ESC]:[Qté MO SRS]]) -> 0 | Z10: =EOMONTH(BaseActivité!$G10,0) -> 42124
A11: GTIES | B11: Prév | G11: 42155 | J11: =IF(YEAR(Base[[#This Row],[Date]])=2015,ROUNDDOWN((MONTH(Base[[#This Row],[Date]])-1)/3,0)+1,"") -> 2 | K11: =SUMPRODUCT((Base[[#This Row],[Produit]]=Tableau3[PRODUIT])*(Base[[#This Row],[Date]]=Tableau3[[#Headers],[31/01/2015]:[31/12/2015]])*(Base[[#This Row],[Statut]]=Tableau3[STATUT PROJET])*(Base[[#Headers],[Tot VTE]]=Tableau3[TYPE Autre])*(Tableau3[[31/01/2015]:[31/12/2015]]/1000)) -> 0 | L11: =SUMPRODUCT((Base[[#This Row],[Produit]]=Tableau3[PRODUIT])*(Base[[#This Row],[Date]]=Tableau3[[#Headers],[31/01/2015]:[31/12/2015]])*(Base[[#This Row],[Statut]]=Tableau3[STATUT PROJET])*(Base[[#Headers],[€TEC FERRRO-R&D]]=Tableau3[TYPE Autre])*(Tableau3[[31/01/2015]:[31/12/2015]]/1000)) -> 0 | M11: =SUMPRODUCT((Base[[#This Row],[Produit]]=Tableau3[PRODUIT])*(Base[[#This Row],[Date]]=Tableau3[[#Headers],[31/01/2015]:[31/12/2015]])*(Base[[#This Row],[Statut]]=Tableau3[STATUT PROJET])*(Base[[#Headers],[€ACH ProdPVI]]=Tableau3[TYPE Autre])*(Tableau3[[31/01/2015]:[31/12/2015]]/1000)) -> 0 | N11: =SUMPRODUCT((Base[[#This Row],[Produit]]=Tableau3[PRODUIT])*(Base[[#This Row],[Date]]=Tableau3[[#Headers],[31/01/2015]:[31/12/2015]])*(Base[[#This Row],[Statut]]=Tableau3[STATUT PROJET])*(Base[[#Headers],[€ACH BBX]]=Tableau3[TYPE Autre])*(Tableau3[[31/01/2015]:[31/12/2015]]/1000)) -> 0 | O11: =SUMPRODUCT((Base[[#This Row],[Produit]]=Tableau3[PRODUIT])*(Base[[#This Row],[Date]]=Tableau3[[#Headers],[31/01/2015]:[31/12/2015]])*(Base[[#This Row],[Statut]]=Tableau3[STATUT PROJET])*(Base[[#Headers],[€ACH Chassis]]=Tableau3[TYPE Autre])*(Tableau3[[31/01/2015]:[31/12/2015]]/1000)) -> 0 | P11: =SUMPRODUCT((Base[[#This Row],[Produit]]=Tableau3[PRODUIT])*(Base[[#This Row],[Date]]=Tableau3[[#Headers],[31/01/2015]:[31/12/2015]])*(Base[[#This Row],[Statut]]=Tableau3[STATUT PROJET])*(Base[[#Headers],[€ACH Carross]]=Tableau3[TYPE Autre])*(Tableau3[[31/01/2015]:[31/12/2015]]/1000)) -> 0 | Q11: =SUMPRODUCT((Base[[#This Row],[Produit]]=Tableau3[PRODUIT])*(Base[[#This Row],[Date]]=Tableau3[[#Headers],[31/01/2015]:[31/12/2015]])*(Base[[#This Row],[Statut]]=Tableau3[STATUT PROJET])*(Base[[#Headers],[€ACH Sces+div]]=Tableau3[TYPE Autre])*(Tableau3[[31/01/2015]:[31/12/2015]]/1000)) -> 0 | R11: =SUMPRODUCT((Base[[#This Row],[Produit]]=Tableau3[PRODUIT])*(Base[[#This Row],[Date]]=Tableau3[[#Headers],[31/01/2015]:[31/12/2015]])*(Base[[#This Row],[Statut]]=Tableau3[STATUT PROJET])*(Base[[#Headers],[Qté MO ESC]]=Tableau3[TYPE Autre])*(Tableau3[[31/01/2015]:[31/12/2015]]/1000)) -> 0 | S11: =SUMPRODUCT((Base[[#This Row],[Produit]]=Tableau3[PRODUIT])*(Base[[#This Row],[Date]]=Tableau3[[#Headers],[31/01/2015]:[31/12/2015]])*(Base[[#This Row],[Statut]]=Tableau3[STATUT PROJET])*(Base[[#Headers],[Qté MO BE]]=Tableau3[TYPE Autre])*(Tableau3[[31/01/2015]:[31/12/2015]]/1000)) -> 0 | T11: =SUMPRODUCT((Base[[#This Row],[Produit]]=Tableau3[PRODUIT])*(Base[[#This Row],[Date]]=Tableau3[[#Headers],[31/01/2015]:[31/12/2015]])*(Base[[#This Row],[Statut]]=Tableau3[STATUT PROJET])*(Base[[#Headers],[Qté MO GTIE]]=Tableau3[TYPE Autre])*(Tableau3[[31/01/2015]:[31/12/2015]]/1000)) -> 0 | U11: =SUMPRODUCT((Base[[#This Row],[Produit]]=Tableau3[PRODUIT])*(Base[[#This Row],[Date]]=Tableau3[[#Headers],[31/01/2015]:[31/12/2015]])*(Base[[#This Row],[Statut]]=Tableau3[STATUT PROJET])*(Base[[#Headers],[Qté MO MNT]]=Tableau3[TYPE Autre])*(Tableau3[[31/01/2015]:[31/12/2015]]/1000)) -> 0 | V11: =SUMPRODUCT((Base[[#This Row],[Produit]]=Tableau3[PRODUIT])*(Base[[#This Row],[Date]]=Tableau3[[#Headers],[31/01/2015]:[31/12/2015]])*(Base[[#This Row],[Statut]]=Tableau3[STATUT PROJET])*(Base[[#Headers],[Qté MO PR]]=Tableau3[TYPE Autre])*(Tableau3[[31/01/2015]:[31/12/2015]]/1000)) -> 0 | W11: =SUMPRODUCT((Base[[#This Row],[Produit]]=Tableau3[PRODUIT])*(Base[[#This Row],[Date]]=Tableau3[[#Headers],[31/01/2015]:[31/12/2015]])*(Base[[#This Row],[Statut]]=Tableau3[STATUT PROJET])*(Base[[#Headers],[Qté MO PROD]]=Tableau3[TYPE Autre])*(Tableau3[[31/01/2015]:[31/12/2015]]/1000)) -> 0 | X11: =SUMPRODUCT((Base[[#This Row],[Produit]]=Tableau3[PRODUIT])*(Base[[#This Row],[Date]]=Tableau3[[#Headers],[31/01/2015]:[31/12/2015]])*(Base[[#This Row],[Statut]]=Tableau3[STATUT PROJET])*(Base[[#Headers],[Qté MO SRS]]=Tableau3[TYPE Autre])*(Tableau3[[31/01/2015]:[31/12/2015]]/1000)) -> 0 | Y11: =SUM(Base[[#This Row],[Qté MO ESC]:[Qté MO SRS]]) -> 0 | Z11: =EOMONTH(BaseActivité!$G11,0) -> 42155
A12: GTIES | B12: Prév | G12: 42185 | J12: =IF(YEAR(Base[[#This Row],[Date]])=2015,ROUNDDOWN((MONTH(Base[[#This Row],[Date]])-1)/3,0)+1,"") -> 2 | K12: =SUMPRODUCT((Base[[#This Row],[Produit]]=Tableau3[PRODUIT])*(Base[[#This Row],[Date]]=Tableau3[[#Headers],[31/01/2015]:[31/12/2015]])*(Base[[#This Row],[Statut]]=Tableau3[STATUT PROJET])*(Base[[#Headers],[Tot VTE]]=Tableau3[TYPE Autre])*(Tableau3[[31/01/2015]:[31/12/2015]]/1000)) -> 0 | L12: =SUMPRODUCT((Base[[#This Row],[Produit]]=Tableau3[PRODUIT])*(Base[[#This Row],[Date]]=Tableau3[[#Headers],[31/01/2015]:[31/12/2015]])*(Base[[#This Row],[Statut]]=Tableau3[STATUT PROJET])*(Base[[#Headers],[€TEC FERRRO-R&D]]=Tableau3[TYPE Autre])*(Tableau3[[31/01/2015]:[31/12/2015]]/1000)) -> 0 | M12: =SUMPRODUCT((Base[[#This Row],[Produit]]=Tableau3[PRODUIT])*(Base[[#This Row],[Date]]=Tableau3[[#Headers],[31/01/2015]:[31/12/2015]])*(Base[[#This Row],[Statut]]=Tableau3[STATUT PROJET])*(Base[[#Headers],[€ACH ProdPVI]]=Tableau3[TYPE Autre])*(Tableau3[[31/01/2015]:[31/12/2015]]/1000)) -> 0 | N12: =SUMPRODUCT((Base[[#This Row],[Produit]]=Tableau3[PRODUIT])*(Base[[#This Row],[Date]]=Tableau3[[#Headers],[31/01/2015]:[31/12/2015]])*(Base[[#This Row],[Statut]]=Tableau3[STATUT PROJET])*(Base[[#Headers],[€ACH BBX]]=Tableau3[TYPE Autre])*(Tableau3[[31/01/2015]:[31/12/2015]]/1000)) -> 0 | O12: =SUMPRODUCT((Base[[#This Row],[Produit]]=Tableau3[PRODUIT])*(Base[[#This Row],[Date]]=Tableau3[[#Headers],[31/01/2015]:[31/12/2015]])*(Base[[#This Row],[Statut]]=Tableau3[STATUT PROJET])*(Base[[#Headers],[€ACH Chassis]]=Tableau3[TYPE Autre])*(Tableau3[[31/01/2015]:[31/12/2015]]/1000)) -> 0 | P12: =SUMPRODUCT((Base[[#This Row],[Produit]]=Tableau3[PRODUIT])*(Base[[#This Row],[Date]]=Tableau3[[#Headers],[31/01/2015]:[31/12/2015]])*(Base[[#This Row],[Statut]]=Tableau3[STATUT PROJET])*(Base[[#Headers],[€ACH Carross]]=Tableau3[TYPE Autre])*(Tableau3[[31/01/2015]:[31/12/2015]]/1000)) -> 0 | Q12: =SUMPRODUCT((Base[[#This Row],[Produit]]=Tableau3[PRODUIT])*(Base[[#This Row],[Date]]=Tableau3[[#Headers],[31/01/2015]:[31/12/2015]])*(Base[[#This Row],[Statut]]=Tableau3[STATUT PROJET])*(Base[[#Headers],[€ACH Sces+div]]=Tableau3[TYPE Autre])*(Tableau3[[31/01/2015]:[31/12/2015]]/1000)) -> 0 | R12: =SUMPRODUCT((Base[[#This Row],[Produit]]=Tableau3[PRODUIT])*(Base[[#This Row],[Date]]=Tableau3[[#Headers],[31/01/2015]:[31/12/2015]])*(Base[[#This Row],[Statut]]=Tableau3[STATUT PROJET])*(Base[[#Headers],[Qté MO ESC]]=Tableau3[TYPE Autre])*(Tableau3[[31/01/2015]:[31/12/2015]]/1000)) -> 0 | S12: =SUMPRODUCT((Base[[#This Row],[Produit]]=Tableau3[PRODUIT])*(Base[[#This Row],[Date]]=Tableau3[[#Headers],[31/01/2015]:[31/12/2015]])*(Base[[#This Row],[Statut]]=Tableau3[STATUT PROJET])*(Base[[#Headers],[Qté MO BE]]=Tableau3[TYPE Autre])*(Tableau3[[31/01/2015]:[31/12/2015]]/1000)) -> 0 | T12: =SUMPRODUCT((Base[[#This Row],[Produit]]=Tableau3[PRODUIT])*(Base[[#This Row],[Date]]=Tableau3[[#Headers],[31/01/2015]:[31/12/2015]])*(Base[[#This Row],[Statut]]=Tableau3[STATUT PROJET])*(Base[[#Headers],[Qté MO GTIE]]=Tableau3[TYPE Autre])*(Tableau3[[31/01/2015]:[31/12/2015]]/1000)) -> 0 | U12: =SUMPRODUCT((Base[[#This Row],[Produit]]=Tableau3[PRODUIT])*(Base[[#This Row],[Date]]=Tableau3[[#Headers],[31/01/2015]:[31/12/2015]])*(Base[[#This Row],[Statut]]=Tableau3[STATUT PROJET])*(Base[[#Headers],[Qté MO MNT]]=Tableau3[TYPE Autre])*(Tableau3[[31/01/2015]:[31/12/2015]]/1000)) -> 0 | V12: =SUMPRODUCT((Base[[#This Row],[Produit]]=Tableau3[PRODUIT])*(Base[[#This Row],[Date]]=Tableau3[[#Headers],[31/01/2015]:[31/12/2015]])*(Base[[#This Row],[Statut]]=Tableau3[STATUT PROJET])*(Base[[#Headers],[Qté MO PR]]=Tableau3[TYPE Autre])*(Tableau3[[31/01/2015]:[31/12/2015]]/1000)) -> 0 | W12: =SUMPRODUCT((Base[[#This Row],[Produit]]=Tableau3[PRODUIT])*(Base[[#This Row],[Date]]=Tableau3[[#Headers],[31/01/2015]:[31/12/2015]])*(Base[[#This Row],[Statut]]=Tableau3[STATUT PROJET])*(Base[[#Headers],[Qté MO PROD]]=Tableau3[TYPE Autre])*(Tableau3[[31/01/2015]:[31/12/2015]]/1000)) -> 0 | X12: =SUMPRODUCT((Base[[#This Row],[Produit]]=Tableau3[PRODUIT])*(Base[[#This Row],[Date]]=Tableau3[[#Headers],[31/01/2015]:[31/12/2015]])*(Base[[#This Row],[Statut]]=Tableau3[STATUT PROJET])*(Base[[#Headers],[Qté MO SRS]]=Tableau3[TYPE Autre])*(Tableau3[[31/01/2015]:[31/12/2015]]/1000)) -> 0 | Y12: =SUM(Base[[#This Row],[Qté MO ESC]:[Qté MO SRS]]) -> 0 | Z12: =EOMONTH(BaseActivité!$G12,0) -> 42185
