Workbook
Name bdd: OFFSET(Datas!$C$3,,,ROWS(pays),COLUMNS(coul))
Name cola: OFFSET(Datas!$A$3,,,COUNTA(Datas!$B:$B))
Name coul: OFFSET(Datas!$C$2,,,,COUNTIF(Datas!$2:$2,">A<"))
Name dept: données!$B$2
Name liste: OFFSET(données!$B$2,,,COUNTIF(données!$B:$B,"><"))
Name pays: OFFSET(Datas!$B$3,,,ROWS(cola))
Name plage: OFFSET(Datas!$B$3,,,COUNTA(Datas!$B:$B))

Sheet Datas
C2: rouge | D2: noir | E2: vert | F2: bleue | G2: cyan | H2: Marine | I2: transparent
A3: =IF(B3="","",TRIM(LEFT(B3,SEARCH(" ",B3)))) -> telephone | B3: telephone 1 | C3: 3 | D3: 4 | F3: 5 | H3: 6 | I3: 7
A4: =IF(B4="","",TRIM(LEFT(B4,SEARCH(" ",B4)))) -> telephone | B4: telephone 2 | C4: 1 | D4: 2 | E4: 3 | H4: 4 | I4: 5
A5: =IF(B5="","",TRIM(LEFT(B5,SEARCH(" ",B5)))) -> telephone | B5: telephone 6 | C5: 3 | D5: 4 | E5: 5 | H5: 6 | I5: 7
A6: =IF(B6="","",TRIM(LEFT(B6,SEARCH(" ",B6)))) -> ordinateur | B6: ordinateur portable model 1 | C6: 1 | D6: 2 | E6: 3 | H6: 4
A7: =IF(B7="","",TRIM(LEFT(B7,SEARCH(" ",B7)))) -> ordinateur | B7: ordinateur portable model 15 | C7: 2
A8: =IF(B8="","",TRIM(LEFT(B8,SEARCH(" ",B8)))) -> Téléviseur | B8: Téléviseur 42 | E8: 2 | I8: 1
A9: =IF(B9="","",TRIM(LEFT(B9,SEARCH(" ",B9)))) -> Téléviseur | B9: Téléviseur 43 | C9: 9 | D9: 0 | G9: 1
A10: =IF(B10="","",TRIM(LEFT(B10,SEARCH(" ",B10)))) -> Téléviseur | B10: Téléviseur 52 | C10: 1
A11: =IF(B11="","",TRIM(LEFT(B11,SEARCH(" ",B11)))) -> Téléviseur | B11: Téléviseur 53 | C11: 1
A12: =IF(B12="","",TRIM(LEFT(B12,SEARCH(" ",B12)))) -> Telephone | B12: Telephone portable 3 | C12: 4 | D12: 5 | H12: 6
A13: =IF(B13="","",TRIM(LEFT(B13,SEARCH(" ",B13)))) -> telephone | B13: telephone 9 | C13: 4 | D13: 5 | E13: 6 | G13: 7 | H13: 8 | I13: 9
A14: =IF(B14="","",TRIM(LEFT(B14,SEARCH(" ",B14)))) -> ordinateur | B14: ordinateur bureau | C14: 4 | D14: 5 | E14: 6 | G14: 7 | H14: 9 | I14: 10
A15: =IF(B15="","",TRIM(LEFT(B15,SEARCH(" ",B15)))) -> ordinateur | B15: ordinateur bureau 07 | C15: 4 | D15: 5 | E15: 6 | H15: 7 | I15: 8
A16: =IF(B16="","",TRIM(LEFT(B16,SEARCH(" ",B16)))) -> ordinateur | B16: ordinateur bureau 08 | C16: 4 | D16: 5 | E16: 6 | H16: 7 | I16: 8
A17: =IF(B17="","",TRIM(LEFT(B17,SEARCH(" ",B17)))) -> ordinateur | B17: ordinateur bureau 10 | C17: 4 | D17: 5 | E17: 6 | H17: 7 | I17: 8
A18: =IF(B18="","",TRIM(LEFT(B18,SEARCH(" ",B18)))) -> ordinateur | B18: ordinateur bureau 11 | C18: 2 | D18: 3 | E18: 4 | G18: 5 | H18: 6 | I18: 7
A19: =IF(B19="","",TRIM(LEFT(B19,SEARCH(" ",B19)))) -> ordinateur | B19: ordinateur bureau 12 | H19: 2
A20: =IF(B20="","",TRIM(LEFT(B20,SEARCH(" ",B20)))) -> ordinateur | B20: ordinateur bureau 13 | H20: 2
A21: =IF(B21="","",TRIM(LEFT(B21,SEARCH(" ",B21)))) -> ordinateur | B21: ordinateur bureau 14 | H21: 2
A22: =IF(B22="","",TRIM(LEFT(B22,SEARCH(" ",B22)))) -> ordinateur | B22: ordinateur bureau 15 | H22: 4
A23: =IF(B23="","",TRIM(LEFT(B23,SEARCH(" ",B23)))) -> ordinateur | B23: ordinateur bureau 16 | C23: 4 | D23: 5 | H23: 7
A24: =IF(B24="","",TRIM(LEFT(B24,SEARCH(" ",B24)))) -> Chapeau | B24: Chapeau Melon 6 | C24: 2 | D24: 3 | E24: 4 | H24: 5 | I24: 6
A25: =IF(B25="","",TRIM(LEFT(B25,SEARCH(" ",B25)))) -> Téléviseur | B25: Téléviseur 17 | G25: 4 | H25: 6
A26: =IF(B26="","",TRIM(LEFT(B26,SEARCH(" ",B26))))
A27: =IF(B27="","",TRIM(LEFT(B27,SEARCH(" ",B27))))
A28: =IF(B28="","",TRIM(LEFT(B28,SEARCH(" ",B28))))
A29: =IF(B29="","",TRIM(LEFT(B29,SEARCH(" ",B29))))
A30: =IF(B30="","",TRIM(LEFT(B30,SEARCH(" ",B30))))
A31: =IF(B31="","",TRIM(LEFT(B31,SEARCH(" ",B31))))
A32: =IF(B32="","",TRIM(LEFT(B32,SEARCH(" ",B32))))
A33: =IF(B33="","",TRIM(LEFT(B33,SEARCH(" ",B33))))
A34: =IF(B34="","",TRIM(LEFT(B34,SEARCH(" ",B34))))
A35: =IF(B35="","",TRIM(LEFT(B35,SEARCH(" ",B35))))

Sheet box
F1: =IF(LEFT(D3)<>LEFT(D4),"modifier votre choix", "ok") -> ok
D3: telephone | F3: choix1
D4: Telephone portable 3 | F4: choix2
D6: =IF(ROW(A1)>COUNT(OFFSET(Datas!$C$3,MATCH($D$4,plage,0)-1,,,COLUMNS(coul))),"",INDEX(coul,,MATCH(LARGE(OFFSET(Datas!$C$3,MATCH($D$4,plage,0)-1,,,COLUMNS(coul)),ROW(A1)),OFFSET(Datas!$C$3,MATCH($D$4,plage,0)-1,,,COLUMNS(coul)),0))) -> Marine
D7: =IF(ROW(A2)>COUNT(OFFSET(Datas!$C$3,MATCH($D$4,plage,0)-1,,,COLUMNS(coul))),"",INDEX(coul,,MATCH(LARGE(OFFSET(Datas!$C$3,MATCH($D$4,plage,0)-1,,,COLUMNS(coul)),ROW(A2)),OFFSET(Datas!$C$3,MATCH($D$4,plage,0)-1,,,COLUMNS(coul)),0))) -> noir
D8: =IF(ROW(A3)>COUNT(OFFSET(Datas!$C$3,MATCH($D$4,plage,0)-1,,,COLUMNS(coul))),"",INDEX(coul,,MATCH(LARGE(OFFSET(Datas!$C$3,MATCH($D$4,plage,0)-1,,,COLUMNS(coul)),ROW(A3)),OFFSET(Datas!$C$3,MATCH($D$4,plage,0)-1,,,COLUMNS(coul)),0))) -> rouge
D9: =IF(ROW(A4)>COUNT(OFFSET(Datas!$C$3,MATCH($D$4,plage,0)-1,,,COLUMNS(coul))),"",INDEX(coul,,MATCH(LARGE(OFFSET(Datas!$C$3,MATCH($D$4,plage,0)-1,,,COLUMNS(coul)),ROW(A4)),OFFSET(Datas!$C$3,MATCH($D$4,plage,0)-1,,,COLUMNS(coul)),0)))
D10: =IF(ROW(A5)>COUNT(OFFSET(Datas!$C$3,MATCH($D$4,plage,0)-1,,,COLUMNS(coul))),"",INDEX(coul,,MATCH(LARGE(OFFSET(Datas!$C$3,MATCH($D$4,plage,0)-1,,,COLUMNS(coul)),ROW(A5)),OFFSET(Datas!$C$3,MATCH($D$4,plage,0)-1,,,COLUMNS(coul)),0)))
D11: =IF(ROW(A6)>COUNT(OFFSET(Datas!$C$3,MATCH($D$4,plage,0)-1,,,COLUMNS(coul))),"",INDEX(coul,,MATCH(LARGE(OFFSET(Datas!$C$3,MATCH($D$4,plage,0)-1,,,COLUMNS(coul)),ROW(A6)),OFFSET(Datas!$C$3,MATCH($D$4,plage,0)-1,,,COLUMNS(coul)),0)))
D12: =IF(ROW(A7)>COUNT(OFFSET(Datas!$C$3,MATCH($D$4,plage,0)-1,,,COLUMNS(coul))),"",INDEX(coul,,MATCH(LARGE(OFFSET(Datas!$C$3,MATCH($D$4,plage,0)-1,,,COLUMNS(coul)),ROW(A7)),OFFSET(Datas!$C$3,MATCH($D$4,plage,0)-1,,,COLUMNS(coul)),0)))
D13: =IF(ROW(A8)>COUNT(OFFSET(Datas!$C$3,MATCH($D$4,plage,0)-1,,,COLUMNS(coul))),"",INDEX(coul,,MATCH(LARGE(OFFSET(Datas!$C$3,MATCH($D$4,plage,0)-1,,,COLUMNS(coul)),ROW(A8)),OFFSET(Datas!$C$3,MATCH($D$4,plage,0)-1,,,COLUMNS(coul)),0)))
D14: =IF(ROW(A9)>COUNT(OFFSET(Datas!$C$3,MATCH($D$4,plage,0)-1,,,COLUMNS(coul))),"",INDEX(coul,,MATCH(LARGE(OFFSET(Datas!$C$3,MATCH($D$4,plage,0)-1,,,COLUMNS(coul)),ROW(A9)),OFFSET(Datas!$C$3,MATCH($D$4,plage,0)-1,,,COLUMNS(coul)),0)))
D15: =IF(ROW(A10)>COUNT(OFFSET(Datas!$C$3,MATCH($D$4,plage,0)-1,,,COLUMNS(coul))),"",INDEX(coul,,MATCH(LARGE(OFFSET(Datas!$C$3,MATCH($D$4,plage,0)-1,,,COLUMNS(coul)),ROW(A10)),OFFSET(Datas!$C$3,MATCH($D$4,plage,0)-1,,,COLUMNS(coul)),0)))
D16: =IF(ROW(A11)>COUNT(OFFSET(Datas!$C$3,MATCH($D$4,plage,0)-1,,,COLUMNS(coul))),"",INDEX(coul,,MATCH(LARGE(OFFSET(Datas!$C$3,MATCH($D$4,plage,0)-1,,,COLUMNS(coul)),ROW(A11)),OFFSET(Datas!$C$3,MATCH($D$4,plage,0)-1,,,COLUMNS(coul)),0)))
D17: =IF(ROW(A12)>COUNT(OFFSET(Datas!$C$3,MATCH($D$4,plage,0)-1,,,COLUMNS(coul))),"",INDEX(coul,,MATCH(LARGE(OFFSET(Datas!$C$3,MATCH($D$4,plage,0)-1,,,COLUMNS(coul)),ROW(A12)),OFFSET(Datas!$C$3,MATCH($D$4,plage,0)-1,,,COLUMNS(coul)),0)))
... D23: =IF(ROW(A18)>COUNT(OFFSET(Datas!$C$3,MATCH($D$4,plage,0)-1,,,COLUMNS(coul))),"",INDEX(coul,,MATCH(LARGE(OFFSET(Datas!$C$3,MATCH($D$4,plage,0)-1,,,COLUMNS(coul)),ROW(A18)),OFFSET(Datas!$C$3,MATCH($D$4,plage,0)-1,,,COLUMNS(coul)),0)))

Sheet données
B2: {=IF(ROW(A1)>SUMPRODUCT(1/COUNTIF(cola,cola)),"",INDEX(cola,MIN(IF(COUNTIF(B$1:B1,cola)=0,ROW(cola)-2))))} -> telephone | C2: {=IF(COLUMN(A:A)>COUNTIF(cola,$B2),"",INDEX(plage,SMALL(IF(cola=$B2,ROW(cola)-2,""),COLUMN(A:A))))} -> telephone 1 | D2: {=IF(COLUMN(B:B)>COUNTIF(cola,$B2),"",INDEX(plage,SMALL(IF(cola=$B2,ROW(cola)-2,""),COLUMN(B:B))))} -> telephone 2 | E2: {=IF(COLUMN(C:C)>COUNTIF(cola,$B2),"",INDEX(plage,SMALL(IF(cola=$B2,ROW(cola)-2,""),COLUMN(C:C))))} -> telephone 6 | F2: {=IF(COLUMN(D:D)>COUNTIF(cola,$B2),"",INDEX(plage,SMALL(IF(cola=$B2,ROW(cola)-2,""),COLUMN(D:D))))} -> Telephone portable 3 | G2: {=IF(COLUMN(E:E)>COUNTIF(cola,$B2),"",INDEX(plage,SMALL(IF(cola=$B2,ROW(cola)-2,""),COLUMN(E:E))))} -> telephone 9 | H2: {=IF(COLUMN(F:F)>COUNTIF(cola,$B2),"",INDEX(plage,SMALL(IF(cola=$B2,ROW(cola)-2,""),COLUMN(F:F))))} | I2: {=IF(COLUMN(G:G)>COUNTIF(cola,$B2),"",INDEX(plage,SMALL(IF(cola=$B2,ROW(cola)-2,""),COLUMN(G:G))))} | J2: {=IF(COLUMN(H:H)>COUNTIF(cola,$B2),"",INDEX(plage,SMALL(IF(cola=$B2,ROW(cola)-2,""),COLUMN(H:H))))} | K2: {=IF(COLUMN(I:I)>COUNTIF(cola,$B2),"",INDEX(plage,SMALL(IF(cola=$B2,ROW(cola)-2,""),COLUMN(I:I))))} | L2: {=IF(COLUMN(J:J)>COUNTIF(cola,$B2),"",INDEX(plage,SMALL(IF(cola=$B2,ROW(cola)-2,""),COLUMN(J:J))))}
B3: {=IF(ROW(A2)>SUMPRODUCT(1/COUNTIF(cola,cola)),"",INDEX(cola,MIN(IF(COUNTIF(B$1:B2,cola)=0,ROW(cola)-2))))} -> ordinateur | C3: {=IF(COLUMN(A:A)>COUNTIF(cola,$B3),"",INDEX(plage,SMALL(IF(cola=$B3,ROW(cola)-2,""),COLUMN(A:A))))} -> ordinateur portable model 1 | D3: {=IF(COLUMN(B:B)>COUNTIF(cola,$B3),"",INDEX(plage,SMALL(IF(cola=$B3,ROW(cola)-2,""),COLUMN(B:B))))} -> ordinateur portable model 15 | E3: {=IF(COLUMN(C:C)>COUNTIF(cola,$B3),"",INDEX(plage,SMALL(IF(cola=$B3,ROW(cola)-2,""),COLUMN(C:C))))} -> ordinateur bureau | F3: {=IF(COLUMN(D:D)>COUNTIF(cola,$B3),"",INDEX(plage,SMALL(IF(cola=$B3,ROW(cola)-2,""),COLUMN(D:D))))} -> ordinateur bureau 07 | G3: {=IF(COLUMN(E:E)>COUNTIF(cola,$B3),"",INDEX(plage,SMALL(IF(cola=$B3,ROW(cola)-2,""),COLUMN(E:E))))} -> ordinateur bureau 08 | H3: {=IF(COLUMN(F:F)>COUNTIF(cola,$B3),"",INDEX(plage,SMALL(IF(cola=$B3,ROW(cola)-2,""),COLUMN(F:F))))} -> ordinateur bureau 10 | I3: {=IF(COLUMN(G:G)>COUNTIF(cola,$B3),"",INDEX(plage,SMALL(IF(cola=$B3,ROW(cola)-2,""),COLUMN(G:G))))} -> ordinateur bureau 11 | J3: {=IF(COLUMN(H:H)>COUNTIF(cola,$B3),"",INDEX(plage,SMALL(IF(cola=$B3,ROW(cola)-2,""),COLUMN(H:H))))} -> ordinateur bureau 12 | K3: {=IF(COLUMN(I:I)>COUNTIF(cola,$B3),"",INDEX(plage,SMALL(IF(cola=$B3,ROW(cola)-2,""),COLUMN(I:I))))} -> ordinateur bureau 13 | L3: {=IF(COLUMN(J:J)>COUNTIF(cola,$B3),"",INDEX(plage,SMALL(IF(cola=$B3,ROW(cola)-2,""),COLUMN(J:J))))} -> ordinateur bureau 14
B4: {=IF(ROW(A3)>SUMPRODUCT(1/COUNTIF(cola,cola)),"",INDEX(cola,MIN(IF(COUNTIF(B$1:B3,cola)=0,ROW(cola)-2))))} -> Téléviseur | C4: {=IF(COLUMN(A:A)>COUNTIF(cola,$B4),"",INDEX(plage,SMALL(IF(cola=$B4,ROW(cola)-2,""),COLUMN(A:A))))} -> Téléviseur 42 | D4: {=IF(COLUMN(B:B)>COUNTIF(cola,$B4),"",INDEX(plage,SMALL(IF(cola=$B4,ROW(cola)-2,""),COLUMN(B:B))))} -> Téléviseur 43 | E4: {=IF(COLUMN(C:C)>COUNTIF(cola,$B4),"",INDEX(plage,SMALL(IF(cola=$B4,ROW(cola)-2,""),COLUMN(C:C))))} -> Téléviseur 52 | F4: {=IF(COLUMN(D:D)>COUNTIF(cola,$B4),"",INDEX(plage,SMALL(IF(cola=$B4,ROW(cola)-2,""),COLUMN(D:D))))} -> Téléviseur 53 | G4: {=IF(COLUMN(E:E)>COUNTIF(cola,$B4),"",INDEX(plage,SMALL(IF(cola=$B4,ROW(cola)-2,""),COLUMN(E:E))))} -> Téléviseur 17 | H4: {=IF(COLUMN(F:F)>COUNTIF(cola,$B4),"",INDEX(plage,SMALL(IF(cola=$B4,ROW(cola)-2,""),COLUMN(F:F))))} | I4: {=IF(COLUMN(G:G)>COUNTIF(cola,$B4),"",INDEX(plage,SMALL(IF(cola=$B4,ROW(cola)-2,""),COLUMN(G:G))))} | J4: {=IF(COLUMN(H:H)>COUNTIF(cola,$B4),"",INDEX(plage,SMALL(IF(cola=$B4,ROW(cola)-2,""),COLUMN(H:H))))} | K4: {=IF(COLUMN(I:I)>COUNTIF(cola,$B4),"",INDEX(plage,SMALL(IF(cola=$B4,ROW(cola)-2,""),COLUMN(I:I))))} | L4: {=IF(COLUMN(J:J)>COUNTIF(cola,$B4),"",INDEX(plage,SMALL(IF(cola=$B4,ROW(cola)-2,""),COLUMN(J:J))))}
B5: {=IF(ROW(A4)>SUMPRODUCT(1/COUNTIF(cola,cola)),"",INDEX(cola,MIN(IF(COUNTIF(B$1:B4,cola)=0,ROW(cola)-2))))} -> Chapeau | C5: {=IF(COLUMN(A:A)>COUNTIF(cola,$B5),"",INDEX(plage,SMALL(IF(cola=$B5,ROW(cola)-2,""),COLUMN(A:A))))} -> Chapeau Melon 6 | D5: {=IF(COLUMN(B:B)>COUNTIF(cola,$B5),"",INDEX(plage,SMALL(IF(cola=$B5,ROW(cola)-2,""),COLUMN(B:B))))} | E5: {=IF(COLUMN(C:C)>COUNTIF(cola,$B5),"",INDEX(plage,SMALL(IF(cola=$B5,ROW(cola)-2,""),COLUMN(C:C))))} | F5: {=IF(COLUMN(D:D)>COUNTIF(cola,$B5),"",INDEX(plage,SMALL(IF(cola=$B5,ROW(cola)-2,""),COLUMN(D:D))))} | G5: {=IF(COLUMN(E:E)>COUNTIF(cola,$B5),"",INDEX(plage,SMALL(IF(cola=$B5,ROW(cola)-2,""),COLUMN(E:E))))} | H5: {=IF(COLUMN(F:F)>COUNTIF(cola,$B5),"",INDEX(plage,SMALL(IF(cola=$B5,ROW(cola)-2,""),COLUMN(F:F))))} | I5: {=IF(COLUMN(G:G)>COUNTIF(cola,$B5),"",INDEX(plage,SMALL(IF(cola=$B5,ROW(cola)-2,""),COLUMN(G:G))))} | J5: {=IF(COLUMN(H:H)>COUNTIF(cola,$B5),"",INDEX(plage,SMALL(IF(cola=$B5,ROW(cola)-2,""),COLUMN(H:H))))} | K5: {=IF(COLUMN(I:I)>COUNTIF(cola,$B5),"",INDEX(plage,SMALL(IF(cola=$B5,ROW(cola)-2,""),COLUMN(I:I))))} | L5: {=IF(COLUMN(J:J)>COUNTIF(cola,$B5),"",INDEX(plage,SMALL(IF(cola=$B5,ROW(cola)-2,""),COLUMN(J:J))))}
B6: TEST | C6: {=IF(COLUMN(A:A)>COUNTIF(cola,$B6),"",INDEX(plage,SMALL(IF(cola=$B6,ROW(cola)-2,""),COLUMN(A:A))))} | D6: {=IF(COLUMN(B:B)>COUNTIF(cola,$B6),"",INDEX(plage,SMALL(IF(cola=$B6,ROW(cola)-2,""),COLUMN(B:B))))} | E6: {=IF(COLUMN(C:C)>COUNTIF(cola,$B6),"",INDEX(plage,SMALL(IF(cola=$B6,ROW(cola)-2,""),COLUMN(C:C))))} | F6: {=IF(COLUMN(D:D)>COUNTIF(cola,$B6),"",INDEX(plage,SMALL(IF(cola=$B6,ROW(cola)-2,""),COLUMN(D:D))))} | G6: {=IF(COLUMN(E:E)>COUNTIF(cola,$B6),"",INDEX(plage,SMALL(IF(cola=$B6,ROW(cola)-2,""),COLUMN(E:E))))} | H6: {=IF(COLUMN(F:F)>COUNTIF(cola,$B6),"",INDEX(plage,SMALL(IF(cola=$B6,ROW(cola)-2,""),COLUMN(F:F))))} | I6: {=IF(COLUMN(G:G)>COUNTIF(cola,$B6),"",INDEX(plage,SMALL(IF(cola=$B6,ROW(cola)-2,""),COLUMN(G:G))))} | J6: {=IF(COLUMN(H:H)>COUNTIF(cola,$B6),"",INDEX(plage,SMALL(IF(cola=$B6,ROW(cola)-2,""),COLUMN(H:H))))} | K6: {=IF(COLUMN(I:I)>COUNTIF(cola,$B6),"",INDEX(plage,SMALL(IF(cola=$B6,ROW(cola)-2,""),COLUMN(I:I))))} | L6: {=IF(COLUMN(J:J)>COUNTIF(cola,$B6),"",INDEX(plage,SMALL(IF(cola=$B6,ROW(cola)-2,""),COLUMN(J:J))))}
B7: {=IF(ROW(A6)>SUMPRODUCT(1/COUNTIF(cola,cola)),"",INDEX(cola,MIN(IF(COUNTIF(B$1:B6,cola)=0,ROW(cola)-2))))} | C7: {=IF(COLUMN(A:A)>COUNTIF(cola,$B7),"",INDEX(plage,SMALL(IF(cola=$B7,ROW(cola)-2,""),COLUMN(A:A))))} | D7: {=IF(COLUMN(B:B)>COUNTIF(cola,$B7),"",INDEX(plage,SMALL(IF(cola=$B7,ROW(cola)-2,""),COLUMN(B:B))))} | E7: {=IF(COLUMN(C:C)>COUNTIF(cola,$B7),"",INDEX(plage,SMALL(IF(cola=$B7,ROW(cola)-2,""),COLUMN(C:C))))} | F7: {=IF(COLUMN(D:D)>COUNTIF(cola,$B7),"",INDEX(plage,SMALL(IF(cola=$B7,ROW(cola)-2,""),COLUMN(D:D))))} | G7: {=IF(COLUMN(E:E)>COUNTIF(cola,$B7),"",INDEX(plage,SMALL(IF(cola=$B7,ROW(cola)-2,""),COLUMN(E:E))))} | H7: {=IF(COLUMN(F:F)>COUNTIF(cola,$B7),"",INDEX(plage,SMALL(IF(cola=$B7,ROW(cola)-2,""),COLUMN(F:F))))} | I7: {=IF(COLUMN(G:G)>COUNTIF(cola,$B7),"",INDEX(plage,SMALL(IF(cola=$B7,ROW(cola)-2,""),COLUMN(G:G))))} | J7: {=IF(COLUMN(H:H)>COUNTIF(cola,$B7),"",INDEX(plage,SMALL(IF(cola=$B7,ROW(cola)-2,""),COLUMN(H:H))))} | K7: {=IF(COLUMN(I:I)>COUNTIF(cola,$B7),"",INDEX(plage,SMALL(IF(cola=$B7,ROW(cola)-2,""),COLUMN(I:I))))} | L7: {=IF(COLUMN(J:J)>COUNTIF(cola,$B7),"",INDEX(plage,SMALL(IF(cola=$B7,ROW(cola)-2,""),COLUMN(J:J))))}
B8: {=IF(ROW(A7)>SUMPRODUCT(1/COUNTIF(cola,cola)),"",INDEX(cola,MIN(IF(COUNTIF(B$1:B7,cola)=0,ROW(cola)-2))))} | C8: {=IF(COLUMN(A:A)>COUNTIF(cola,$B8),"",INDEX(plage,SMALL(IF(cola=$B8,ROW(cola)-2,""),COLUMN(A:A))))} | D8: {=IF(COLUMN(B:B)>COUNTIF(cola,$B8),"",INDEX(plage,SMALL(IF(cola=$B8,ROW(cola)-2,""),COLUMN(B:B))))} | E8: {=IF(COLUMN(C:C)>COUNTIF(cola,$B8),"",INDEX(plage,SMALL(IF(cola=$B8,ROW(cola)-2,""),COLUMN(C:C))))} | F8: {=IF(COLUMN(D:D)>COUNTIF(cola,$B8),"",INDEX(plage,SMALL(IF(cola=$B8,ROW(cola)-2,""),COLUMN(D:D))))} | G8: {=IF(COLUMN(E:E)>COUNTIF(cola,$B8),"",INDEX(plage,SMALL(IF(cola=$B8,ROW(cola)-2,""),COLUMN(E:E))))} | H8: {=IF(COLUMN(F:F)>COUNTIF(cola,$B8),"",INDEX(plage,SMALL(IF(cola=$B8,ROW(cola)-2,""),COLUMN(F:F))))} | I8: {=IF(COLUMN(G:G)>COUNTIF(cola,$B8),"",INDEX(plage,SMALL(IF(cola=$B8,ROW(cola)-2,""),COLUMN(G:G))))} | J8: {=IF(COLUMN(H:H)>COUNTIF(cola,$B8),"",INDEX(plage,SMALL(IF(cola=$B8,ROW(cola)-2,""),COLUMN(H:H))))} | K8: {=IF(COLUMN(I:I)>COUNTIF(cola,$B8),"",INDEX(plage,SMALL(IF(cola=$B8,ROW(cola)-2,""),COLUMN(I:I))))} | L8: {=IF(COLUMN(J:J)>COUNTIF(cola,$B8),"",INDEX(plage,SMALL(IF(cola=$B8,ROW(cola)-2,""),COLUMN(J:J))))}
B9: {=IF(ROW(A8)>SUMPRODUCT(1/COUNTIF(cola,cola)),"",INDEX(cola,MIN(IF(COUNTIF(B$1:B8,cola)=0,ROW(cola)-2))))} | C9: {=IF(COLUMN(A:A)>COUNTIF(cola,$B9),"",INDEX(plage,SMALL(IF(cola=$B9,ROW(cola)-2,""),COLUMN(A:A))))} | D9: {=IF(COLUMN(B:B)>COUNTIF(cola,$B9),"",INDEX(plage,SMALL(IF(cola=$B9,ROW(cola)-2,""),COLUMN(B:B))))} | E9: {=IF(COLUMN(C:C)>COUNTIF(cola,$B9),"",INDEX(plage,SMALL(IF(cola=$B9,ROW(cola)-2,""),COLUMN(C:C))))} | F9: {=IF(COLUMN(D:D)>COUNTIF(cola,$B9),"",INDEX(plage,SMALL(IF(cola=$B9,ROW(cola)-2,""),COLUMN(D:D))))} | G9: {=IF(COLUMN(E:E)>COUNTIF(cola,$B9),"",INDEX(plage,SMALL(IF(cola=$B9,ROW(cola)-2,""),COLUMN(E:E))))} | H9: {=IF(COLUMN(F:F)>COUNTIF(cola,$B9),"",INDEX(plage,SMALL(IF(cola=$B9,ROW(cola)-2,""),COLUMN(F:F))))} | I9: {=IF(COLUMN(G:G)>COUNTIF(cola,$B9),"",INDEX(plage,SMALL(IF(cola=$B9,ROW(cola)-2,""),COLUMN(G:G))))} | J9: {=IF(COLUMN(H:H)>COUNTIF(cola,$B9),"",INDEX(plage,SMALL(IF(cola=$B9,ROW(cola)-2,""),COLUMN(H:H))))} | K9: {=IF(COLUMN(I:I)>COUNTIF(cola,$B9),"",INDEX(plage,SMALL(IF(cola=$B9,ROW(cola)-2,""),COLUMN(I:I))))} | L9: {=IF(COLUMN(J:J)>COUNTIF(cola,$B9),"",INDEX(plage,SMALL(IF(cola=$B9,ROW(cola)-2,""),COLUMN(J:J))))}
B10: {=IF(ROW(A9)>SUMPRODUCT(1/COUNTIF(cola,cola)),"",INDEX(cola,MIN(IF(COUNTIF(B$1:B9,cola)=0,ROW(cola)-2))))} | C10: {=IF(COLUMN(A:A)>COUNTIF(cola,$B10),"",INDEX(plage,SMALL(IF(cola=$B10,ROW(cola)-2,""),COLUMN(A:A))))} | D10: {=IF(COLUMN(B:B)>COUNTIF(cola,$B10),"",INDEX(plage,SMALL(IF(cola=$B10,ROW(cola)-2,""),COLUMN(B:B))))} | E10: {=IF(COLUMN(C:C)>COUNTIF(cola,$B10),"",INDEX(plage,SMALL(IF(cola=$B10,ROW(cola)-2,""),COLUMN(C:C))))} | F10: {=IF(COLUMN(D:D)>COUNTIF(cola,$B10),"",INDEX(plage,SMALL(IF(cola=$B10,ROW(cola)-2,""),COLUMN(D:D))))} | G10: {=IF(COLUMN(E:E)>COUNTIF(cola,$B10),"",INDEX(plage,SMALL(IF(cola=$B10,ROW(cola)-2,""),COLUMN(E:E))))} | H10: {=IF(COLUMN(F:F)>COUNTIF(cola,$B10),"",INDEX(plage,SMALL(IF(cola=$B10,ROW(cola)-2,""),COLUMN(F:F))))} | I10: {=IF(COLUMN(G:G)>COUNTIF(cola,$B10),"",INDEX(plage,SMALL(IF(cola=$B10,ROW(cola)-2,""),COLUMN(G:G))))} | J10: {=IF(COLUMN(H:H)>COUNTIF(cola,$B10),"",INDEX(plage,SMALL(IF(cola=$B10,ROW(cola)-2,""),COLUMN(H:H))))} | K10: {=IF(COLUMN(I:I)>COUNTIF(cola,$B10),"",INDEX(plage,SMALL(IF(cola=$B10,ROW(cola)-2,""),COLUMN(I:I))))} | L10: {=IF(COLUMN(J:J)>COUNTIF(cola,$B10),"",INDEX(plage,SMALL(IF(cola=$B10,ROW(cola)-2,""),COLUMN(J:J))))}
B11: {=IF(ROW(A10)>SUMPRODUCT(1/COUNTIF(cola,cola)),"",INDEX(cola,MIN(IF(COUNTIF(B$1:B10,cola)=0,ROW(cola)-2))))} | C11: {=IF(COLUMN(A:A)>COUNTIF(cola,$B11),"",INDEX(plage,SMALL(IF(cola=$B11,ROW(cola)-2,""),COLUMN(A:A))))} | D11: {=IF(COLUMN(B:B)>COUNTIF(cola,$B11),"",INDEX(plage,SMALL(IF(cola=$B11,ROW(cola)-2,""),COLUMN(B:B))))} | E11: {=IF(COLUMN(C:C)>COUNTIF(cola,$B11),"",INDEX(plage,SMALL(IF(cola=$B11,ROW(cola)-2,""),COLUMN(C:C))))} | F11: {=IF(COLUMN(D:D)>COUNTIF(cola,$B11),"",INDEX(plage,SMALL(IF(cola=$B11,ROW(cola)-2,""),COLUMN(D:D))))} | G11: {=IF(COLUMN(E:E)>COUNTIF(cola,$B11),"",INDEX(plage,SMALL(IF(cola=$B11,ROW(cola)-2,""),COLUMN(E:E))))} | H11: {=IF(COLUMN(F:F)>COUNTIF(cola,$B11),"",INDEX(plage,SMALL(IF(cola=$B11,ROW(cola)-2,""),COLUMN(F:F))))} | I11: {=IF(COLUMN(G:G)>COUNTIF(cola,$B11),"",INDEX(plage,SMALL(IF(cola=$B11,ROW(cola)-2,""),COLUMN(G:G))))} | J11: {=IF(COLUMN(H:H)>COUNTIF(cola,$B11),"",INDEX(plage,SMALL(IF(cola=$B11,ROW(cola)-2,""),COLUMN(H:H))))} | K11: {=IF(COLUMN(I:I)>COUNTIF(cola,$B11),"",INDEX(plage,SMALL(IF(cola=$B11,ROW(cola)-2,""),COLUMN(I:I))))} | L11: {=IF(COLUMN(J:J)>COUNTIF(cola,$B11),"",INDEX(plage,SMALL(IF(cola=$B11,ROW(cola)-2,""),COLUMN(J:J))))}
B12: {=IF(ROW(A11)>SUMPRODUCT(1/COUNTIF(cola,cola)),"",INDEX(cola,MIN(IF(COUNTIF(B$1:B11,cola)=0,ROW(cola)-2))))} | C12: {=IF(COLUMN(A:A)>COUNTIF(cola,$B12),"",INDEX(plage,SMALL(IF(cola=$B12,ROW(cola)-2,""),COLUMN(A:A))))} | D12: {=IF(COLUMN(B:B)>COUNTIF(cola,$B12),"",INDEX(plage,SMALL(IF(cola=$B12,ROW(cola)-2,""),COLUMN(B:B))))} | E12: {=IF(COLUMN(C:C)>COUNTIF(cola,$B12),"",INDEX(plage,SMALL(IF(cola=$B12,ROW(cola)-2,""),COLUMN(C:C))))} | F12: {=IF(COLUMN(D:D)>COUNTIF(cola,$B12),"",INDEX(plage,SMALL(IF(cola=$B12,ROW(cola)-2,""),COLUMN(D:D))))} | G12: {=IF(COLUMN(E:E)>COUNTIF(cola,$B12),"",INDEX(plage,SMALL(IF(cola=$B12,ROW(cola)-2,""),COLUMN(E:E))))} | H12: {=IF(COLUMN(F:F)>COUNTIF(cola,$B12),"",INDEX(plage,SMALL(IF(cola=$B12,ROW(cola)-2,""),COLUMN(F:F))))} | I12: {=IF(COLUMN(G:G)>COUNTIF(cola,$B12),"",INDEX(plage,SMALL(IF(cola=$B12,ROW(cola)-2,""),COLUMN(G:G))))} | J12: {=IF(COLUMN(H:H)>COUNTIF(cola,$B12),"",INDEX(plage,SMALL(IF(cola=$B12,ROW(cola)-2,""),COLUMN(H:H))))} | K12: {=IF(COLUMN(I:I)>COUNTIF(cola,$B12),"",INDEX(plage,SMALL(IF(cola=$B12,ROW(cola)-2,""),COLUMN(I:I))))} | L12: {=IF(COLUMN(J:J)>COUNTIF(cola,$B12),"",INDEX(plage,SMALL(IF(cola=$B12,ROW(cola)-2,""),COLUMN(J:J))))}
B13: {=IF(ROW(A12)>SUMPRODUCT(1/COUNTIF(cola,cola)),"",INDEX(cola,MIN(IF(COUNTIF(B$1:B12,cola)=0,ROW(cola)-2))))} | C13: {=IF(COLUMN(A:A)>COUNTIF(cola,$B13),"",INDEX(plage,SMALL(IF(cola=$B13,ROW(cola)-2,""),COLUMN(A:A))))} | D13: {=IF(COLUMN(B:B)>COUNTIF(cola,$B13),"",INDEX(plage,SMALL(IF(cola=$B13,ROW(cola)-2,""),COLUMN(B:B))))} | E13: {=IF(COLUMN(C:C)>COUNTIF(cola,$B13),"",INDEX(plage,SMALL(IF(cola=$B13,ROW(cola)-2,""),COLUMN(C:C))))} | F13: {=IF(COLUMN(D:D)>COUNTIF(cola,$B13),"",INDEX(plage,SMALL(IF(cola=$B13,ROW(cola)-2,""),COLUMN(D:D))))} | G13: {=IF(COLUMN(E:E)>COUNTIF(cola,$B13),"",INDEX(plage,SMALL(IF(cola=$B13,ROW(cola)-2,""),COLUMN(E:E))))} | H13: {=IF(COLUMN(F:F)>COUNTIF(cola,$B13),"",INDEX(plage,SMALL(IF(cola=$B13,ROW(cola)-2,""),COLUMN(F:F))))} | I13: {=IF(COLUMN(G:G)>COUNTIF(cola,$B13),"",INDEX(plage,SMALL(IF(cola=$B13,ROW(cola)-2,""),COLUMN(G:G))))} | J13: {=IF(COLUMN(H:H)>COUNTIF(cola,$B13),"",INDEX(plage,SMALL(IF(cola=$B13,ROW(cola)-2,""),COLUMN(H:H))))} | K13: {=IF(COLUMN(I:I)>COUNTIF(cola,$B13),"",INDEX(plage,SMALL(IF(cola=$B13,ROW(cola)-2,""),COLUMN(I:I))))} | L13: {=IF(COLUMN(J:J)>COUNTIF(cola,$B13),"",INDEX(plage,SMALL(IF(cola=$B13,ROW(cola)-2,""),COLUMN(J:J))))}
B14: {=IF(ROW(A13)>SUMPRODUCT(1/COUNTIF(cola,cola)),"",INDEX(cola,MIN(IF(COUNTIF(B$1:B13,cola)=0,ROW(cola)-2))))} | C14: {=IF(COLUMN(A:A)>COUNTIF(cola,$B14),"",INDEX(plage,SMALL(IF(cola=$B14,ROW(cola)-2,""),COLUMN(A:A))))} | D14: {=IF(COLUMN(B:B)>COUNTIF(cola,$B14),"",INDEX(plage,SMALL(IF(cola=$B14,ROW(cola)-2,""),COLUMN(B:B))))} | E14: {=IF(COLUMN(C:C)>COUNTIF(cola,$B14),"",INDEX(plage,SMALL(IF(cola=$B14,ROW(cola)-2,""),COLUMN(C:C))))} | F14: {=IF(COLUMN(D:D)>COUNTIF(cola,$B14),"",INDEX(plage,SMALL(IF(cola=$B14,ROW(cola)-2,""),COLUMN(D:D))))} | G14: {=IF(COLUMN(E:E)>COUNTIF(cola,$B14),"",INDEX(plage,SMALL(IF(cola=$B14,ROW(cola)-2,""),COLUMN(E:E))))} | H14: {=IF(COLUMN(F:F)>COUNTIF(cola,$B14),"",INDEX(plage,SMALL(IF(cola=$B14,ROW(cola)-2,""),COLUMN(F:F))))} | I14: {=IF(COLUMN(G:G)>COUNTIF(cola,$B14),"",INDEX(plage,SMALL(IF(cola=$B14,ROW(cola)-2,""),COLUMN(G:G))))} | J14: {=IF(COLUMN(H:H)>COUNTIF(cola,$B14),"",INDEX(plage,SMALL(IF(cola=$B14,ROW(cola)-2,""),COLUMN(H:H))))} | K14: {=IF(COLUMN(I:I)>COUNTIF(cola,$B14),"",INDEX(plage,SMALL(IF(cola=$B14,ROW(cola)-2,""),COLUMN(I:I))))} | L14: {=IF(COLUMN(J:J)>COUNTIF(cola,$B14),"",INDEX(plage,SMALL(IF(cola=$B14,ROW(cola)-2,""),COLUMN(J:J))))}
B15: {=IF(ROW(A14)>SUMPRODUCT(1/COUNTIF(cola,cola)),"",INDEX(cola,MIN(IF(COUNTIF(B$1:B14,cola)=0,ROW(cola)-2))))} | C15: {=IF(COLUMN(A:A)>COUNTIF(cola,$B15),"",INDEX(plage,SMALL(IF(cola=$B15,ROW(cola)-2,""),COLUMN(A:A))))} | D15: {=IF(COLUMN(B:B)>COUNTIF(cola,$B15),"",INDEX(plage,SMALL(IF(cola=$B15,ROW(cola)-2,""),COLUMN(B:B))))} | E15: {=IF(COLUMN(C:C)>COUNTIF(cola,$B15),"",INDEX(plage,SMALL(IF(cola=$B15,ROW(cola)-2,""),COLUMN(C:C))))} | F15: {=IF(COLUMN(D:D)>COUNTIF(cola,$B15),"",INDEX(plage,SMALL(IF(cola=$B15,ROW(cola)-2,""),COLUMN(D:D))))} | G15: {=IF(COLUMN(E:E)>COUNTIF(cola,$B15),"",INDEX(plage,SMALL(IF(cola=$B15,ROW(cola)-2,""),COLUMN(E:E))))} | H15: {=IF(COLUMN(F:F)>COUNTIF(cola,$B15),"",INDEX(plage,SMALL(IF(cola=$B15,ROW(cola)-2,""),COLUMN(F:F))))} | I15: {=IF(COLUMN(G:G)>COUNTIF(cola,$B15),"",INDEX(plage,SMALL(IF(cola=$B15,ROW(cola)-2,""),COLUMN(G:G))))} | J15: {=IF(COLUMN(H:H)>COUNTIF(cola,$B15),"",INDEX(plage,SMALL(IF(cola=$B15,ROW(cola)-2,""),COLUMN(H:H))))} | K15: {=IF(COLUMN(I:I)>COUNTIF(cola,$B15),"",INDEX(plage,SMALL(IF(cola=$B15,ROW(cola)-2,""),COLUMN(I:I))))} | L15: {=IF(COLUMN(J:J)>COUNTIF(cola,$B15),"",INDEX(plage,SMALL(IF(cola=$B15,ROW(cola)-2,""),COLUMN(J:J))))}
B16: {=IF(ROW(A15)>SUMPRODUCT(1/COUNTIF(cola,cola)),"",INDEX(cola,MIN(IF(COUNTIF(B$1:B15,cola)=0,ROW(cola)-2))))} | C16: {=IF(COLUMN(A:A)>COUNTIF(cola,$B16),"",INDEX(plage,SMALL(IF(cola=$B16,ROW(cola)-2,""),COLUMN(A:A))))} | D16: {=IF(COLUMN(B:B)>COUNTIF(cola,$B16),"",INDEX(plage,SMALL(IF(cola=$B16,ROW(cola)-2,""),COLUMN(B:B))))} | E16: {=IF(COLUMN(C:C)>COUNTIF(cola,$B16),"",INDEX(plage,SMALL(IF(cola=$B16,ROW(cola)-2,""),COLUMN(C:C))))} | F16: {=IF(COLUMN(D:D)>COUNTIF(cola,$B16),"",INDEX(plage,SMALL(IF(cola=$B16,ROW(cola)-2,""),COLUMN(D:D))))} | G16: {=IF(COLUMN(E:E)>COUNTIF(cola,$B16),"",INDEX(plage,SMALL(IF(cola=$B16,ROW(cola)-2,""),COLUMN(E:E))))} | H16: {=IF(COLUMN(F:F)>COUNTIF(cola,$B16),"",INDEX(plage,SMALL(IF(cola=$B16,ROW(cola)-2,""),COLUMN(F:F))))} | I16: {=IF(COLUMN(G:G)>COUNTIF(cola,$B16),"",INDEX(plage,SMALL(IF(cola=$B16,ROW(cola)-2,""),COLUMN(G:G))))} | J16: {=IF(COLUMN(H:H)>COUNTIF(cola,$B16),"",INDEX(plage,SMALL(IF(cola=$B16,ROW(cola)-2,""),COLUMN(H:H))))} | K16: {=IF(COLUMN(I:I)>COUNTIF(cola,$B16),"",INDEX(plage,SMALL(IF(cola=$B16,ROW(cola)-2,""),COLUMN(I:I))))} | L16: {=IF(COLUMN(J:J)>COUNTIF(cola,$B16),"",INDEX(plage,SMALL(IF(cola=$B16,ROW(cola)-2,""),COLUMN(J:J))))}
B17: {=IF(ROW(A16)>SUMPRODUCT(1/COUNTIF(cola,cola)),"",INDEX(cola,MIN(IF(COUNTIF(B$1:B16,cola)=0,ROW(cola)-2))))} | C17: {=IF(COLUMN(A:A)>COUNTIF(cola,$B17),"",INDEX(plage,SMALL(IF(cola=$B17,ROW(cola)-2,""),COLUMN(A:A))))} | D17: {=IF(COLUMN(B:B)>COUNTIF(cola,$B17),"",INDEX(plage,SMALL(IF(cola=$B17,ROW(cola)-2,""),COLUMN(B:B))))} | E17: {=IF(COLUMN(C:C)>COUNTIF(cola,$B17),"",INDEX(plage,SMALL(IF(cola=$B17,ROW(cola)-2,""),COLUMN(C:C))))} | F17: {=IF(COLUMN(D:D)>COUNTIF(cola,$B17),"",INDEX(plage,SMALL(IF(cola=$B17,ROW(cola)-2,""),COLUMN(D:D))))} | G17: {=IF(COLUMN(E:E)>COUNTIF(cola,$B17),"",INDEX(plage,SMALL(IF(cola=$B17,ROW(cola)-2,""),COLUMN(E:E))))} | H17: {=IF(COLUMN(F:F)>COUNTIF(cola,$B17),"",INDEX(plage,SMALL(IF(cola=$B17,ROW(cola)-2,""),COLUMN(F:F))))} | I17: {=IF(COLUMN(G:G)>COUNTIF(cola,$B17),"",INDEX(plage,SMALL(IF(cola=$B17,ROW(cola)-2,""),COLUMN(G:G))))} | J17: {=IF(COLUMN(H:H)>COUNTIF(cola,$B17),"",INDEX(plage,SMALL(IF(cola=$B17,ROW(cola)-2,""),COLUMN(H:H))))} | K17: {=IF(COLUMN(I:I)>COUNTIF(cola,$B17),"",INDEX(plage,SMALL(IF(cola=$B17,ROW(cola)-2,""),COLUMN(I:I))))} | L17: {=IF(COLUMN(J:J)>COUNTIF(cola,$B17),"",INDEX(plage,SMALL(IF(cola=$B17,ROW(cola)-2,""),COLUMN(J:J))))}
B18: {=IF(ROW(A17)>SUMPRODUCT(1/COUNTIF(cola,cola)),"",INDEX(cola,MIN(IF(COUNTIF(B$1:B17,cola)=0,ROW(cola)-2))))} | C18: {=IF(COLUMN(A:A)>COUNTIF(cola,$B18),"",INDEX(plage,SMALL(IF(cola=$B18,ROW(cola)-2,""),COLUMN(A:A))))} | D18: {=IF(COLUMN(B:B)>COUNTIF(cola,$B18),"",INDEX(plage,SMALL(IF(cola=$B18,ROW(cola)-2,""),COLUMN(B:B))))} | E18: {=IF(COLUMN(C:C)>COUNTIF(cola,$B18),"",INDEX(plage,SMALL(IF(cola=$B18,ROW(cola)-2,""),COLUMN(C:C))))} | F18: {=IF(COLUMN(D:D)>COUNTIF(cola,$B18),"",INDEX(plage,SMALL(IF(cola=$B18,ROW(cola)-2,""),COLUMN(D:D))))} | G18: {=IF(COLUMN(E:E)>COUNTIF(cola,$B18),"",INDEX(plage,SMALL(IF(cola=$B18,ROW(cola)-2,""),COLUMN(E:E))))} | H18: {=IF(COLUMN(F:F)>COUNTIF(cola,$B18),"",INDEX(plage,SMALL(IF(cola=$B18,ROW(cola)-2,""),COLUMN(F:F))))} | I18: {=IF(COLUMN(G:G)>COUNTIF(cola,$B18),"",INDEX(plage,SMALL(IF(cola=$B18,ROW(cola)-2,""),COLUMN(G:G))))} | J18: {=IF(COLUMN(H:H)>COUNTIF(cola,$B18),"",INDEX(plage,SMALL(IF(cola=$B18,ROW(cola)-2,""),COLUMN(H:H))))} | K18: {=IF(COLUMN(I:I)>COUNTIF(cola,$B18),"",INDEX(plage,SMALL(IF(cola=$B18,ROW(cola)-2,""),COLUMN(I:I))))} | L18: {=IF(COLUMN(J:J)>COUNTIF(cola,$B18),"",INDEX(plage,SMALL(IF(cola=$B18,ROW(cola)-2,""),COLUMN(J:J))))}
... B25: {=IF(ROW(A24)>SUMPRODUCT(1/COUNTIF(cola,cola)),"",INDEX(cola,MIN(IF(COUNTIF(B$1:B24,cola)=0,ROW(cola)-2))))} | C25: {=IF(COLUMN(A:A)>COUNTIF(cola,$B25),"",INDEX(plage,SMALL(IF(cola=$B25,ROW(cola)-2,""),COLUMN(A:A))))} | D25: {=IF(COLUMN(B:B)>COUNTIF(cola,$B25),"",INDEX(plage,SMALL(IF(cola=$B25,ROW(cola)-2,""),COLUMN(B:B))))} | E25: {=IF(COLUMN(C:C)>COUNTIF(cola,$B25),"",INDEX(plage,SMALL(IF(cola=$B25,ROW(cola)-2,""),COLUMN(C:C))))} | F25: {=IF(COLUMN(D:D)>COUNTIF(cola,$B25),"",INDEX(plage,SMALL(IF(cola=$B25,ROW(cola)-2,""),COLUMN(D:D))))} | G25: {=IF(COLUMN(E:E)>COUNTIF(cola,$B25),"",INDEX(plage,SMALL(IF(cola=$B25,ROW(cola)-2,""),COLUMN(E:E))))} | H25: {=IF(COLUMN(F:F)>COUNTIF(cola,$B25),"",INDEX(plage,SMALL(IF(cola=$B25,ROW(cola)-2,""),COLUMN(F:F))))} | I25: {=IF(COLUMN(G:G)>COUNTIF(cola,$B25),"",INDEX(plage,SMALL(IF(cola=$B25,ROW(cola)-2,""),COLUMN(G:G))))} | J25: {=IF(COLUMN(H:H)>COUNTIF(cola,$B25),"",INDEX(plage,SMALL(IF(cola=$B25,ROW(cola)-2,""),COLUMN(H:H))))} | K25: {=IF(COLUMN(I:I)>COUNTIF(cola,$B25),"",INDEX(plage,SMALL(IF(cola=$B25,ROW(cola)-2,""),COLUMN(I:I))))} | L25: {=IF(COLUMN(J:J)>COUNTIF(cola,$B25),"",INDEX(plage,SMALL(IF(cola=$B25,ROW(cola)-2,""),COLUMN(J:J))))}
B26: {=IF(ROW(A25)>SUMPRODUCT(1/COUNTIF(cola,cola)),"",INDEX(cola,MIN(IF(COUNTIF(B$1:B25,cola)=0,ROW(cola)-2))))}

Sheet xl_DCF_History
A1: CLINAME | B1: DATETIME | C1: DONEBY | D1: IPADDRESS | E1: APPVER | F1: RANDOM | G1: CHECKSUM
A2: ፥፾ፓ፼፱ᎃᎃ፹፶፹፵፴ | B2: ፁጿፁፈጿፂፀፁፃጰጰፁፅፊፀፀ፠፝ጰጸፗ፝፤ጻፁፊፀጹ | C2: ፣፤፬ፔ፱፾፹፵፼ጰ፷ᎂ፹፽፱ᎅ፴ | D2: ።፟፥ፀፃፅፃፂ | E2: ፄጾፀጾፀጾፀ | F2: 16 | G2: ፄፈፀፀ
